{"text_format":"1","workbook":"xlsx","n_sheets":47,"sheets":["Form","MenuAVS","HF","HS","HL","HK","HKS","HKXS","HKi","HFw","HFwa","HFw_wa","HFwa_w","HFna","HFw_na","HFna_w","HSw","HSwa","HSna","HSt","HLw","HLwa","HLna","HLt","HKw","HKwa","HKna","HKt","HKSw","HKSwa","HKSna","HKSt","HKXSw","HKXSwa","HKXSna","HKXSt","HKiw","HKiwa","HKina","AcsAVS","SumAVS","OrdAVS","ListAVS","Zones","CenAVS","Param","Price"],"not_rendered":{"charts":0,"images":71,"macros":1,"external_links":0,"defined_names":71,"comments":0,"pivot_tables":0},"unopened":[],"bounds":{"document_bytes":16777216,"sheet_cells":100000,"rows_first":2000,"rows_last":500,"rows_between":2000,"halvings":0,"cell_chars":16384,"cell_head_chars":4096},"cells_cut":0,"cells_raw":0,"read":"whole","date_system":"1900"}

{"sheet":"Form","index":0,"n_rows":301,"n_cols":17,"rows_kept":301,"cut":false,"hidden":false,"merged":[[88,2,88,3],[49,0,83,0],[67,2,67,4],[66,2,66,3],[84,0,105,0],[54,2,54,4],[55,2,55,4],[56,2,56,4],[58,2,58,4],[59,2,59,4],[60,2,60,4],[62,2,62,3],[63,2,63,3],[76,2,76,3],[65,2,65,3],[106,0,151,0],[138,7,138,8],[294,0,305,0],[296,1,296,2],[296,4,296,5],[297,4,297,5],[298,4,298,5],[299,4,299,5],[299,1,299,2],[300,1,301,2],[296,7,296,8],[18,11,20,11],[9,11,11,11],[22,1,22,3],[26,1,27,9],[52,2,52,4],[23,3,23,6]]}
[]
[]
[]
[]
[]
[]
[null,null,null,null,null,null,null,null,null,null,null,{"$f":"ListAVS!$B$222&\": \"&$Q$7","v":"Verze: 4.0.1"},null,null,null,null,"4.0.1"]
[]
[null,null,null,null,null,null,null,null,null,null,null,{"$f":"\" \"&ListAVS!$B$163","v":" Základní údaje"}]
[null,null,null,null,null,null,null,null,null,null,null,{"$f":"ListAVS!$B$397","v":"Údaje pro objednávku, zadání slevy od prodejce"}]
[]
[]
[]
[]
[null,null,null,null,null,null,null,null,null,null,null,{"$f":"\" \"&ListAVS!$B$154","v":" Nápověda"}]
[null,null,null,null,null,null,null,null,null,null,null,null,null,null,null,null,1]
[]
[null,null,null,null,null,null,null,null,null,null,null,null,null,null,null,null,"ceny"]
[null,null,null,null,null,null,null,null,null,null,null,{"$f":"ListAVS!$B$409","v":"Přejít k plánování výklopů"},null,null,null,null,{"$f":"ListAVS!$B$43","v":"Základní ceny"}]
[null,null,null,null,null,null,null,null,null,null,null,null,null,null,null,null,{"$f":"ListAVS!$B$44","v":"Nákupní ceny"}]
[null,null,null,null,null,null,null,null,null,null,null,null,null,null,null,null,{"$f":"ListAVS!$B$45","v":"Se slevou"}]
[]
[null,{"$f":"ListAVS!$B$42&\" \"","v":"Cenová hladina "},null,null,null,null,{"$f":"IF($Q$16=1,0,IF($Q$16=2,Form!$E$70,IF($Q$16=3,$E$86,0)))","v":0}]
[null,null,null,{"$f":"IF(Q16=2,ListAVS!$B$48&\" [\"&ListAVS!$B$163&\"]  \",IF(Q16=3,IF(G23=0,ListAVS!$B$46&\"  \",ListAVS!$B$47&\"  \"),\" \"))","v":" "}]
[null,null,null,null,null,null,{"$f":"IF($Q$16=3,ListAVS!$B$49&\"      \",\" \")","v":" "}]
[]
[null,{"$f":"\"       \"&ListAVS!$B$396","v":"       Před prvním použitím doporučujeme zadat identifikační údaje pro objednávky a poté sešit uložit"}]
[]
[]
[null,{"$f":"ListAVS!$B$225&\":\"","v":"Prodejce:"}]
[null,{"$f":"IF(Price!$A$3<>0,\" \"&Price!$A$3,\" \")","v":" "}]
[null,{"$f":"IF(Price!$A$4<>0,\" \"&Price!$A$4,\" \")","v":" "}]
[null,{"$f":"IF(Price!$A$5<>0,\" \"&Price!$A$5,\" \")","v":" "}]
[null,{"$f":"IF(Price!$A$6<>0,\" \"&Price!$A$6,\" \")","v":" "}]
[null,{"$f":"IF(Price!$A$7<>0,\" \"&Price!$A$7,\" \")","v":" "}]
[null,{"$f":"IF(Price!$A$8<>0,\" \"&Price!$A$8,\" \")","v":" "}]
[]
[]
[]
[]
[]
[]
[]
[]
[]
[]
[]
[]
[]
[]
[null,null,{"$f":"ListAVS!$B$254","v":"Formulář pro identifikační údaje"}]
[null,null,{"$f":"ListAVS!$B$255","v":"Odběratel"}]
[]
[null,null,{"$f":"ListAVS!$B$256","v":"Adresa"}]
[]
[]
[]
[null,null,{"$f":"ListAVS!$B$257","v":"Dodací adresa"}]
[]
[]
[]
[null,null,{"$f":"ListAVS!$B$258","v":"IČO, DIČ"}]
[]
[]
[null,null,{"$f":"ListAVS!$B$259","v":"Telefon, fax, e-mail"}]
[]
[]
[]
[]
[null,null,null,{"$f":"ListAVS!$B$226&\" [%]: \"","v":"Sleva od prodejce [%]: "}]
[]
[]
[null,null,{"$f":"ListAVS!$B$277","v":"Vyplňte identifikační údaje a výši slevy od prodejce."}]
[null,null,{"$f":"ListAVS!$B$279","v":"Identifikační údaje se budou zobrazovat v objednávkách"}]
[null,null,{"$f":"ListAVS!$B$278","v":"Po vyplnění se vraťte na úvod a subor uložte nebo zavřete s potvrzením změn."}]
[]
[null,null,{"$f":"ListAVS!$B$168","v":"Zpět na úvod"}]
[]
[]
[]
[]
[]
[]
[]
[]
[null,null,null,{"$f":"ListAVS!$B$46&\" [%] \"","v":"Zadejte výši slevy [%] "}]
[]
[]
[null,null,{"$f":"ListAVS!$B$168","v":"Zpět na úvod"}]
[]
[]
[]
[]
[]
[]
[]
[]
[]
[]
[]
[]
[]
[]
[]
[]
[]
[]
[]
[null,null,{"$f":"\"      \"&ListAVS!B153","v":"      Úvod plánování"}]
[]
[null,null,{"$f":"ListAVS!$B$396&\":\"","v":"Před prvním použitím doporučujeme zadat identifikační údaje pro objednávky a poté sešit uložit:"}]
[null,null,{"$f":"\"1. \"&ListAVS!$B$276&\" ' \"&ListAVS!$B$163&\" ' \"","v":"1. Přejděte na  ' Základní údaje ' "}]
[null,null,{"$f":"\"2. \"&ListAVS!$B$277","v":"2. Vyplňte identifikační údaje a výši slevy od prodejce."}]
[null,null,{"$f":"\"3. \"&ListAVS!$B$278","v":"3. Po vyplnění se vraťte na úvod a subor uložte nebo zavřete s potvrzením změn."}]
[null,null,{"$f":"\"     \"&ListAVS!$B$279","v":"     Identifikační údaje se budou zobrazovat v objednávkách"}]
[]
[]
[]
[]
[]
[]
[]
[null,null,{"$f":"ListAVS!$B$290&\":\"","v":"Legenda:"}]
[]
[null,null,{"$f":"\"         \"&ListAVS!B291","v":"         Změna zobrazovaných hodnot"}]
[null,null,{"$f":"\"         \"&ListAVS!B292","v":"         Výpočet hmotnosti"}]
[]
[null,null,{"$f":"\"         \"&ListAVS!B294","v":"         Upozornění"}]
[null,null,{"$f":"\"         \"&ListAVS!B295","v":"         Informace a vysvětlivky"}]
[null,null,{"$f":"\"         \"&ListAVS!B296","v":"         Tip"}]
[null,null,{"$f":"\"         \"&ListAVS!B297","v":"         Nápověda"}]
[]
[]
[]
[]
[]
[]
[]
[null,null,null,null,null,null,null,{"$f":"ListAVS!$B$167","v":"Zpět"}]
[]
[]
[]
[]
[]
[]
[]
[]
[]
[]
[]
[]
[]
[]
[]
[]
[]
[]
[]
[]
[]
[]
[]
[]
[]
[]
[]
[]
[]
[]
[]
[]
[]
[]
[]
[]
[]
[]
[]
[]
[]
[]
[]
[]
[]
[]
[]
[]
[]
[]
[]
[]
[]
[]
[]
[]
[]
[]
[]
[]
[]
[]
[]
[]
[]
[]
[]
[]
[]
[]
[]
[]
[]
[]
[]
[]
[]
[]
[]
[]
[]
[]
[]
[]
[]
[]
[]
[]
[]
[]
[]
[]
[]
[]
[]
[]
[]
[]
[]
[]
[]
[]
[]
[]
[]
[]
[]
[]
[]
[]
[]
[]
[]
[]
[]
[]
[]
[]
[]
[]
[]
[]
[]
[]
[]
[]
[]
[]
[]
[]
[]
[]
[]
[]
[]
[]
[]
[]
[]
[]
[]
[]
[]
[]
[]
[]
[]
[]
[]
[]
[]
[]
[]
[]
[]
[]
[null,null,null,null,"Pro překlady/Translating:"]
[null,{"$f":"ListAVS!B227","v":"Ceník"},null,null,"List AVENTPLAN",null,null,{"$f":"ListAVS!$B$168","v":"Zpět na úvod"}]
[]
[]
[null,{"$f":"ListAVS!B101","v":"Hmotnosti materiálů"}]
[null,{"$f":"ListAVS!B398","v":"Hmotnosti materiálů, skla a alurámečků"}]

{"sheet":"MenuAVS","index":1,"n_rows":330,"n_cols":23,"rows_kept":330,"cut":false,"hidden":false,"merged":[[5,10,5,11],[15,10,15,11],[16,10,18,11],[8,10,8,11],[9,10,9,11],[10,10,10,11],[303,0,314,0],[329,1,329,2],[14,1,14,2],[174,1,174,2],[27,1,27,2],[38,2,40,8],[14,3,14,4],[68,0,102,0],[116,0,159,0],[25,1,25,2],[25,3,25,4],[25,5,25,6],[94,4,94,10],[14,5,14,6],[81,4,81,10],[25,7,25,8]]}
[]
[]
[null,"AVENTPLAN – přehled výklopů"]
[]
[]
[null,null,null,null,null,null,null,null,null,null,{"$f":"\" \"&ListAVS!$B$168","v":" Zpět na úvod"}]
[]
[null,null,null,null,null,null,null,null,null,null,{"$f":"ListAVS!$B$152&\":\"","v":"Jdi na:"}]
[null,null,null,null,null,null,null,null,null,null,{"$f":"\" \"&ListAVS!$B$159","v":" Doplňky"}]
[null,null,null,null,null,null,null,null,null,null,{"$f":"\" \"&ListAVS!$B$156","v":" Přehled korpusů"}]
[null,null,null,null,null,null,null,null,null,null,{"$f":"\" \"&ListAVS!$B$157","v":" Objednávka"}]
[]
[]
[]
[null,"AVENTOS HF top",null,"AVENTOS HS top",null,"AVENTOS HL top"]
[null,null,null,null,null,null,null,null,null,null,{"$f":"\" \"&ListAVS!$B$402","v":" Tabulka hmotností"}]
[null,null,null,null,null,null,null,null,null,null,{"$f":"ListAVS!$B$398","v":"Hmotnosti materiálů, skla a alurámečků"}]
[]
[]
[]
[]
[]
[null,null,null,null,null,null,null,null,null,null,{"$f":"\" \"&ListAVS!$B$154","v":" Nápověda"}]
[]
[]
[null,"AVENTOS HK top",null,"AVENTOS HK-S",null,"AVENTOS HK-XS",null,"AVENTOS HKi"]
[]
[null,{"$f":"ListAVS!$B$144&\" * \"","v":"Barva krytek * "},null,null,null,null,null,null,null,null,null,null,null,null,null,{"$f":"U28","v":1},null,1,null,null,1,null,3]
[]
[null,{"$f":"ListAVS!$B$241&\" [kg/m3]\"","v":"Objemová hmotnost materiálu čel [kg/m3]"},null,null,null,null,null,null,{"$f":"ListAVS!$B$198&\"      \"","v":"Změnit      "},null,null,null,null,null,null,"kryt.",null,"ceny",null,null,"kryt.",null,"ceny"]
[null,{"$f":"MenuAVS!H74","v":"MDF  "},{"$f":"Q74","v":760},null,{"$f":"MenuAVS!H76","v":"Kompakt  "},{"$f":"Q76","v":1350},null,{"$f":"MenuAVS!H79","v":"Keramika  "},{"$f":"Q79","v":2400},null,null,null,null,null,null,{"$f":"ListAVS!$B$145","v":"Světle šedá (HGR)"},null,{"$f":"ListAVS!$B$43","v":"Základní ceny"},null,null,{"$f":"ListAVS!$B$145","v":"Světle šedá (HGR)"},null,{"$f":"ListAVS!$B$43","v":"Základní ceny"}]
[null,{"$f":"MenuAVS!H75","v":"Dřevotříska  "},{"$f":"Q75","v":680},null,{"$f":"MenuAVS!H77","v":"Kompozit  "},{"$f":"Q77","v":1700},null,{"$f":"MenuAVS!H80","v":"Beton  "},{"$f":"Q80","v":2300},null,null,null,null,null,null,{"$f":"ListAVS!$B$146","v":"Tmavě šedá (TGR)"},null,{"$f":"ListAVS!$B$44","v":"Nákupní ceny"},null,null,{"$f":"ListAVS!$B$146","v":"Tmavě šedá (TGR)"},null,{"$f":"ListAVS!$B$44","v":"Nákupní ceny"}]
[null,{"$f":"MenuAVS!H81","v":"Sklo  "},{"$f":"Q81","v":2500},null,{"$f":"MenuAVS!H78","v":"Kámen  "},{"$f":"Q78","v":2600},null,null,null,null,null,null,null,null,null,{"$f":"ListAVS!$B$147","v":"Hedvábně bílá (SW)"},null,{"$f":"ListAVS!$B$45","v":"Se slevou"},null,null,{"$f":"ListAVS!$B$147","v":"Hedvábně bílá (SW)"},null,{"$f":"ListAVS!$B$45","v":"Se slevou"}]
[]
[null,null,null,null,null,null,null,{"$f":"ListAVS!$B$19&\" / \"&ListAVS!$B$21","v":"Široké alurámečky / Úzké alurámečky"},{"$f":"ListAVS!$B$49&\"      \"","v":"Nastavit      "}]
[]
[]
[]
[null,null,{"$f":"ListAVS!$B$12&\" \"&ListAVS!$B$13&\" \"&ListAVS!$B$237","v":"Tato aplikace slouží k snadnějšímu objednávání kování AVENTOS. Výsledky nemusí být přesné, zvláště při použití výpočtu hmotnosti. Firma Blum ani prodejci neručí za jejich správnost."}]
[]
[]
[null,null,{"$f":"\"* \"&ListAVS!B416","v":"* Výběr barvy ovlivní i barvu pístů, popř. adaptérů TIP-ON"}]
[]
[]
[]
[]
[]
[]
[]
[]
[]
[]
[]
[]
[]
[]
[]
[]
[]
[]
[]
[]
[]
[]
[]
[]
[]
[]
[]
[null,null,null,null,null,null,null,null,null,null,{"$f":"ListAVS!$B$402","v":"Tabulka hmotností"}]
[null,null,null,null,null,null,null,null,null,null,{"$f":"ListAVS!$B$407&\"        \"","v":"Můžete nastavit hodnoty pro všechny výklopy nebo můžete měnit nastavení až při plánování jednotlivých výklopů.        "}]
[null,null,null,null,null,null,null,null,null,null,{"$f":"ListAVS!$B$241&\" [kg/m3]\"","v":"Objemová hmotnost materiálu čel [kg/m3]"}]
[null,null,null,null,null,null,null,null,{"$f":"ListAVS!$B$399","v":"Přednastavená"},null,{"$f":"ListAVS!$B$401","v":"Vlastní"}]
[null,null,null,null,null,null,null,{"$f":"Param!G11&\" \"","v":"MDF  "},{"$f":"Param!H11","v":760},null,null,null,null,{"$f":"IF(K74>0, 1, 0)","v":0},null,null,{"$f":"IF($K74>0, $K74, I74)","v":760}]
[null,null,null,null,null,null,null,{"$f":"Param!G12&\" \"","v":"Dřevotříska  "},{"$f":"Param!H12","v":680},null,null,null,null,{"$f":"IF(K75>0, 1, 0)","v":0},null,null,{"$f":"IF($K75>0, $K75, I75)","v":680}]
[null,null,null,null,null,null,null,{"$f":"Param!G13&\" \"","v":"Kompakt  "},{"$f":"Param!H13","v":1350},null,null,null,null,0,null,null,1350]
[null,null,null,null,null,null,null,{"$f":"Param!G14&\" \"","v":"Kompozit  "},{"$f":"Param!H14","v":1700},null,null,null,null,0,null,null,1700]
[null,null,null,null,null,null,null,{"$f":"Param!G15&\" \"","v":"Kámen  "},{"$f":"Param!H15","v":2600},null,null,null,null,0,null,null,2600]
[null,null,null,null,null,null,null,{"$f":"Param!G16&\" \"","v":"Keramika  "},{"$f":"Param!H16","v":2400},null,null,null,null,0,null,null,2400]
[null,null,null,null,null,null,null,{"$f":"Param!G17&\" \"","v":"Beton  "},{"$f":"Param!H17","v":2300},null,null,null,null,0,null,null,2300]
[null,null,null,null,null,null,null,{"$f":"Param!G18&\" \"","v":"Sklo  "},{"$f":"Param!H18","v":2500},null,null,null,null,0,null,null,2500]
[null,null,null,null,{"$f":"ListAVS!$B$105","v":"Pro přesné hodnoty se obraťte na dodavatele materiálu"},null,null,null,null,null,null,null,null,0]
[]
[null,null,null,null,null,null,null,null,null,null,{"$f":"ListAVS!$D$246&\" [kg/bm]\"","v":" [kg/bm]"}]
[null,null,null,null,null,null,null,null,{"$f":"ListAVS!$B$399","v":"Přednastavená"},null,{"$f":"ListAVS!$B$401","v":"Vlastní"}]
[null,null,null,null,null,null,{"$f":"ListAVS!$D$19&\" \"&ListAVS!$D$422&\"  \"","v":"   "},null,{"$f":"Param!H24","v":0.62},null,null,null,null,0,null,null,{"$f":"IF($K86>0, $K86, I86)","v":0.62}]
[null,null,null,null,null,null,{"$f":"ListAVS!$D$19&\" \"&ListAVS!$D$423&\"  \"","v":"   "},null,{"$f":"Param!H25","v":0.63},null,null,null,null,0,null,null,{"$f":"IF($K87>0, $K87, I87)","v":0.63}]
[null,null,null,null,null,null,null,{"$f":"ListAVS!$B$405&\" [kg/set] *  \"","v":"Hmotnost spojovacího materiálu [kg/set] *  "},{"$f":"Param!H26","v":0.61},null,null,null,null,0,null,null,{"$f":"IF($K88>0, $K88, I88)","v":0.61}]
[]
[]
[null,null,null,null,null,null,{"$f":"ListAVS!$D$21&\" \"&ListAVS!$D$422&\"  \"","v":"   "},null,{"$f":"Param!H29","v":0.31},null,null,null,null,0,null,null,{"$f":"IF($K91>0, $K91, I91)","v":0.31}]
[null,null,null,null,null,null,{"$f":"ListAVS!$D$21&\" \"&ListAVS!$D$423&\"  \"","v":"   "},null,{"$f":"Param!H30","v":0.32},null,null,null,null,0,null,null,{"$f":"IF($K92>0, $K92, I92)","v":0.32}]
[null,null,null,null,null,null,null,{"$f":"ListAVS!$B$405&\" [kg/set] *  \"","v":"Hmotnost spojovacího materiálu [kg/set] *  "},{"$f":"Param!H31","v":0.46},null,null,null,null,0,null,null,{"$f":"IF($K93>0, $K93, I93)","v":0.46}]
[]
[null,null,null,null,{"$f":"ListAVS!$B$105","v":"Pro přesné hodnoty se obraťte na dodavatele materiálu"},null,null,null,null,null,null,null,null,{"$f":"SUM(N74:N94)","v":0}]
[]
[]
[null,null,null,null,null,null,null,null,null,null,{"$f":"ListAVS!$B$408&\"        \"","v":"Chcete-li změny zachovat i pro příští použití, vraťte se na úvod a soubor uložte.        "}]
[]
[null,null,null,null,null,null,null,null,null,null,null,{"$f":"ListAVS!$B$167","v":"Zpět"}]
[]
[]
[]
[]
[]
[]
[]
[]
[]
[]
[]
[]
[]
[]
[]
[]
[]
[]
[]
[null,null,{"$f":"\"      \"&ListAVS!$B$153","v":"      Úvod plánování"}]
[]
[null,null,{"$f":"ListAVS!$B$281","v":"Na úvodní obrazovce vyberte, jaké ceny se budou zobrazovat:"}]
[null,null,{"$f":"\" - \"&ListAVS!$B$282","v":" - Základní (ceníkové) ceny bez slevy"}]
[null,null,{"$f":"\" - \"&ListAVS!$B$44&\" (\"&ListAVS!$B$48&\")\"","v":" - Nákupní ceny (Ceny se slevou od prodejce)"}]
[null,null,{"$f":"\" - \"&ListAVS!$B$47","v":" - Ceny s volitelnou slevou"}]
[null,null,{"$f":"\"       \"&ListAVS!$B$283","v":"       Zadáte-li slevu s mínusovým znamínkem, zobrazí se ceny o tuto hodnotu vyšší. "}]
[]
[null,null,{"$f":"ListAVS!$B$285","v":"Proveďte volbu barvy krytek"}]
[null,null,{"$f":"ListAVS!$B$286","v":"Volba ovlivní barvu krytek u všech vybraných zdvihačů."}]
[]
[null,null,{"$f":"ListAVS!$B$288","v":"Kliknutím na obrázek nebo popis přejděte na požadovaný typ zdvihače."}]
[]
[]
[null,null,{"$f":"ListAVS!$B$290&\":\"","v":"Legenda:"}]
[]
[null,null,{"$f":"\"         \"&ListAVS!B291","v":"         Změna zobrazovaných hodnot"}]
[null,null,{"$f":"\"         \"&ListAVS!B292","v":"         Výpočet hmotnosti"}]
[]
[null,null,{"$f":"\"         \"&ListAVS!B294","v":"         Upozornění"}]
[null,null,{"$f":"\"         \"&ListAVS!B295","v":"         Informace a vysvětlivky"}]
[null,null,{"$f":"\"         \"&ListAVS!B296","v":"         Tip"}]
[null,null,{"$f":"\"         \"&ListAVS!B297","v":"         Nápověda"}]
[]
[]
[]
[]
[]
[]
[]
[null,null,null,null,null,null,{"$f":"ListAVS!$B$167","v":"Zpět"}]
[]
[]
[]
[]
[]
[]
[]
[]
[]
[]
[]
[]
[]
[]
[]
[]
[]
[]
[]
[]
[]
[]
[]
[]
[]
[]
[]
[]
[]
[]
[]
[]
[]
[]
[]
[]
[]
[]
[]
[]
[]
[]
[]
[]
[]
[]
[]
[]
[]
[]
[]
[]
[]
[]
[]
[]
[]
[]
[]
[]
[]
[]
[]
[]
[]
[]
[]
[]
[]
[]
[]
[]
[]
[]
[]
[]
[]
[]
[]
[]
[]
[]
[]
[]
[]
[]
[]
[]
[]
[]
[]
[]
[]
[]
[]
[]
[]
[]
[]
[]
[]
[]
[]
[]
[]
[]
[]
[]
[]
[]
[]
[]
[]
[]
[]
[]
[]
[]
[]
[]
[]
[]
[]
[]
[]
[]
[]
[]
[]
[]
[]
[]
[]
[]
[]
[]
[]
[]
[]
[]
[]
[]
[]
[]
[]
[]
[]
[]
[]
[]
[]
[]
[]
[]
[]
[]
[]
[]
[]
[]
[]
[]
[]
[]
[]
[]
[]
[]
[]
[]
[]
[]
[]
[]
[]
[]
[]
[]
[]
[null,{"$f":"ListAVS!$D$152& \" List\"","v":" List"},null,null,{"$f":"ListAVS!$D$168","v":0}]

{"sheet":"HF","index":2,"n_rows":85,"n_cols":21,"rows_kept":85,"cut":false,"hidden":false,"merged":[[6,4,6,5],[11,1,11,2],[20,1,20,2],[20,4,20,5],[29,1,29,2],[29,4,29,5],[34,1,34,3],[35,1,35,3],[68,0,109,0],[84,9,84,10],[20,7,20,8],[21,4,21,5],[21,7,21,8],[33,1,33,3],[29,7,29,8],[30,4,30,5],[30,7,30,8],[84,7,84,8],[36,1,36,3]]}
[]
[]
[null,"   AVENTOS HF top",null,null,null,null,null,null,null,null,null,null,null,null,null,null,null,null,null,null,{"$f":"ListAVS!$B$152","v":"Jdi na"}]
[]
[null,null,null,null,null,null,null,null,null,null,null,null,null,null,null,null,null,null,null,null,{"$f":"\" \"&ListAVS!$B$153","v":" Úvod plánování"}]
[null,null,null,null,{"$f":"\" \"&ListAVS!$B$74&\" (KB)\"","v":" Šířka korpusu (KB)"},null,null,null,null,null,null,null,null,null,null,null,null,null,null,null,{"$f":"\" \"&ListAVS!$B$154","v":" Nápověda"}]
[null,null,null,null,{"$f":"\" \"&ListAVS!$B$170&\" 1800 mm\"","v":" do 1800 mm"}]
[null,null,null,null,{"$f":"\" \"&ListAVS!$B$75&\" (KH)\"","v":" Výška korpusu (KH)"},null,null,null,null,null,null,null,null,null,null,null,null,null,null,null,{"$f":"\" \"&ListAVS!$B$159","v":" Doplňky"}]
[null,null,null,null," 480 - 1200 mm"]
[null,null,null,null,null,null,null,null,null,null,null,null,null,null,null,null,null,null,null,null,{"$f":"\" \"&ListAVS!$B$156","v":" Přehled korpusů"}]
[null,null,null,null,null,null,null,null,null,null,null,null,null,null,null,null,null,null,null,null,{"$f":"\" \"&ListAVS!$B$157","v":" Objednávka"}]
[null,{"$f":"ListAVS!$B$16","v":"Dřevěná čela"}]
[]
[]
[]
[]
[]
[]
[]
[]
[null,{"$f":"ListAVS!$B$19","v":"Široké alurámečky"},null,null,{"$f":"ListAVS!$B$17","v":"Dřevěné čelo"},null,null,{"$f":"ListAVS!$B$20","v":"Široký alurámeček"}]
[null,null,null,null,{"$f":"ListAVS!$B$20","v":"Široký alurámeček"},null,null,{"$f":"ListAVS!$B$17","v":"Dřevěné čelo"}]
[]
[]
[]
[]
[]
[]
[]
[null,{"$f":"ListAVS!$B$21","v":"Úzké alurámečky"},null,null,{"$f":"ListAVS!$B$17","v":"Dřevěné čelo"},null,null,{"$f":"ListAVS!$B$22","v":"Úzký alurámeček"}]
[null,null,null,null,{"$f":"ListAVS!$B$22","v":"Úzký alurámeček"},null,null,{"$f":"ListAVS!$B$17","v":"Dřevěné čelo"}]
[]
[null,null,null,null,null,null,null,null,null,null,null,1,null,1,null,1,null,1]
[null,{"$f":"ListAVS!$B$132&\" \"","v":"Horní závěsy "},null,null,null,null,null,null,null,null,null,"záv.",null,"střed.",null,"podl.",null,"mont."]
[null,{"$f":"ListAVS!$B$135&\" \"","v":"Středové závěsy "},null,null,null,null,null,null,null,null,null,"EXPANDO",null,"EXPANDO",null,"EXPANDO",null,{"$f":"ListAVS!$B$349","v":"vruty"}]
[null,{"$f":"ListAVS!$B$138&\" \"","v":"Montážní podložky "},null,null,null,null,null,null,null,null,null,{"$f":"ListAVS!$B$134","v":"na vruty"},null,{"$f":"ListAVS!$B$137","v":"na vruty"},null,{"$f":"ListAVS!$B$140","v":"na vruty"},null,{"$f":"ListAVS!$B$350","v":"předmont. eurošrouby"}]
[null,{"$f":"ListAVS!$B$346&\"** \"","v":"Provedení zdvihače** "}]
[]
[null,{"$f":"\" ** \"&ListAVS!$B$348&\":\"","v":" ** Zvolte, jaký způsob montáže chcete:"}]
[null,{"$f":"\"    \"&ListAVS!$B$349&\" = \"&ListAVS!$B$351","v":"    vruty = zdvihače s integrovanou šablonou (bez nutnosti rozměřování)"}]
[null,{"$f":"\"    \"&ListAVS!$B$350&\" = \"&ListAVS!$B$352","v":"    předmont. eurošrouby = zdvihače s předmotovanými šrouby (nutné předvrtání)"}]
[]
[]
[]
[]
[]
[]
[]
[]
[]
[]
[]
[]
[]
[]
[]
[]
[]
[]
[]
[]
[]
[]
[]
[]
[]
[]
[]
[]
[null,null,"      AVENTOS HF"]
[]
[]
[null,null,{"$f":"ListAVS!$B$301","v":"Vyberte požadovanou montážní techniku pro závěsy a podložky"}]
[]
[null,null,{"$f":"ListAVS!$B$288","v":"Kliknutím na obrázek nebo popis přejděte na požadovaný typ zdvihače."}]
[]
[]
[]
[]
[]
[]
[]
[]
[]
[null,null,null,null,null,null,null,{"$f":"ListAVS!$B$167","v":"Zpět"},null,{"$f":"ListAVS!$B$167","v":"Zpět"}]

{"sheet":"HS","index":3,"n_rows":85,"n_cols":21,"rows_kept":85,"cut":false,"hidden":false,"merged":[[6,1,6,2],[6,3,6,4],[7,1,7,2],[22,1,22,2],[22,4,22,5],[25,1,25,3],[68,0,109,0],[84,7,84,8],[84,12,84,13],[22,10,22,11],[22,7,22,8],[26,1,26,3]]}
[]
[]
[null,"   AVENTOS HS top",null,null,null,null,null,null,null,null,null,null,null,null,null,null,null,null,null,null,{"$f":"ListAVS!$B$152","v":"Jdi na"}]
[]
[null,null,null,null,null,null,null,null,null,null,null,null,null,null,null,null,null,null,null,null,{"$f":"\" \"&ListAVS!$B$153","v":" Úvod plánování"}]
[null,null,null,null,null,null,null,null,null,null,null,null,null,null,null,null,null,null,null,null,{"$f":"\" \"&ListAVS!$B$154","v":" Nápověda"}]
[null,{"$f":"ListAVS!$B$74&\" (KB) \"","v":"Šířka korpusu (KB) "},null,{"$f":"\" \"&ListAVS!$B$170&\" 1800 mm\"","v":" do 1800 mm"}]
[null,{"$f":"ListAVS!$B$75&\" (KH) \"","v":"Výška korpusu (KH) "},null," 350 - 800 mm",null,null,null,null,null,null,null,null,null,null,null,null,null,null,null,null,{"$f":"\" \"&ListAVS!$B$159","v":" Doplňky"}]
[]
[null,null,null,null,null,null,null,null,null,null,null,null,null,null,null,null,null,null,null,null,{"$f":"\" \"&ListAVS!$B$156","v":" Přehled korpusů"}]
[null,null,null,null,null,null,null,null,null,null,null,null,null,null,null,null,null,null,null,null,{"$f":"\" \"&ListAVS!$B$157","v":" Objednávka"}]
[]
[]
[]
[]
[]
[]
[]
[]
[]
[]
[]
[null,{"$f":"ListAVS!$B$17","v":"Dřevěné čelo"},null,null,{"$f":"ListAVS!$B$20","v":"Široký alurámeček"},null,null,{"$f":"ListAVS!$B$22","v":"Úzký alurámeček"},null,null,{"$f":"ListAVS!$B$23","v":"Tenké materiály"}]
[]
[]
[null,{"$f":"ListAVS!$B$141&\" \"","v":"Čelní kování "},null,null,null,null,null,null,null,null,null,null,null,2,null,1]
[null,{"$f":"ListAVS!$B$346&\"** \"","v":"Provedení zdvihače** "},null,null,null,null,null,null,null,null,null,null,null,"čelní kování",null,"mont."]
[null,null,null,null,null,null,null,null,null,null,null,null,null,"EXPANDO",null,{"$f":"ListAVS!$B$349","v":"vruty"}]
[null,{"$f":"\" ** \"&ListAVS!$B$348&\":\"","v":" ** Zvolte, jaký způsob montáže chcete:"},null,null,null,null,null,null,null,null,null,null,null,{"$f":"ListAVS!$B$143","v":"na vruty"},null,{"$f":"ListAVS!$B$350","v":"předmont. eurošrouby"}]
[null,{"$f":"\"    \"&ListAVS!$B$349&\" = \"&ListAVS!$B$351","v":"    vruty = zdvihače s integrovanou šablonou (bez nutnosti rozměřování)"}]
[null,{"$f":"\"    \"&ListAVS!$B$350&\" = \"&ListAVS!$B$352","v":"    předmont. eurošrouby = zdvihače s předmotovanými šrouby (nutné předvrtání)"}]
[]
[]
[]
[]
[]
[]
[]
[]
[]
[]
[]
[]
[]
[]
[]
[]
[]
[]
[]
[]
[]
[]
[]
[]
[]
[]
[]
[]
[]
[]
[]
[]
[]
[]
[]
[]
[]
[]
[null,null,"      AVENTOS HS"]
[]
[]
[null,null,{"$f":"ListAVS!$B$331","v":"Vyberte požadovanou montážní techniku pro čelní kování"}]
[]
[null,null,{"$f":"ListAVS!$B$288","v":"Kliknutím na obrázek nebo popis přejděte na požadovaný typ zdvihače."}]
[]
[]
[]
[]
[]
[]
[]
[]
[]
[null,null,null,null,null,null,null,{"$f":"ListAVS!$B$167","v":"Zpět"}]

{"sheet":"HL","index":4,"n_rows":134,"n_cols":21,"rows_kept":134,"cut":false,"hidden":false,"merged":[[133,7,133,8],[99,0,152,0],[6,1,6,2],[6,3,6,4],[7,1,7,2],[22,1,22,2],[22,4,22,5],[56,0,97,0],[72,7,72,8],[72,12,72,13],[22,10,22,11],[25,1,25,3],[22,7,22,8],[26,1,26,3]]}
[]
[]
[null,"   AVENTOS HL top",null,null,null,null,null,null,null,null,null,null,null,null,null,null,null,null,null,null,{"$f":"ListAVS!$B$152","v":"Jdi na"}]
[]
[null,null,null,null,null,null,null,null,null,null,null,null,null,null,null,null,null,null,null,null,{"$f":"\" \"&ListAVS!$B$153","v":" Úvod plánování"}]
[null,null,null,null,null,null,null,null,null,null,null,null,null,null,null,null,null,null,null,null,{"$f":"\" \"&ListAVS!$B$154","v":" Nápověda"}]
[null,{"$f":"ListAVS!$B$74&\" (KB) \"","v":"Šířka korpusu (KB) "},null,{"$f":"\" \"&ListAVS!$B$170&\" 1800 mm\"","v":" do 1800 mm"}]
[null,{"$f":"ListAVS!$B$75&\" (KH) \"","v":"Výška korpusu (KH) "},null," 300 - 580 mm",null,null,null,null,null,null,null,null,null,null,null,null,null,null,null,null,{"$f":"\" \"&ListAVS!$B$159","v":" Doplňky"}]
[]
[null,null,null,null,null,null,null,null,null,null,null,null,null,null,null,null,null,null,null,null,{"$f":"\" \"&ListAVS!$B$156","v":" Přehled korpusů"}]
[null,null,null,null,null,null,null,null,null,null,null,null,null,null,null,null,null,null,null,null,{"$f":"\" \"&ListAVS!$B$157","v":" Objednávka"}]
[]
[null,null,null,null,null,null,null,null,null,null,null,null,null,null,null,null,null,null,null,null,{"$f":"\" \"&ListAVS!$B$388","v":" Odstup čela"}]
[]
[]
[]
[]
[]
[]
[]
[]
[]
[null,{"$f":"ListAVS!$B$17","v":"Dřevěné čelo"},null,null,{"$f":"ListAVS!$B$20","v":"Široký alurámeček"},null,null,{"$f":"ListAVS!$B$22","v":"Úzký alurámeček"},null,null,{"$f":"ListAVS!$B$23","v":"Tenké materiály"}]
[]
[]
[null,{"$f":"ListAVS!$B$141&\" \"","v":"Čelní kování "},null,null,null,null,null,null,null,null,null,null,null,2,null,1]
[null,{"$f":"ListAVS!$B$346&\"** \"","v":"Provedení zdvihače** "},null,null,null,null,null,null,null,null,null,null,null,"čelní kování",null,"mont."]
[null,null,null,null,null,null,null,null,null,null,null,null,null,"EXPANDO",null,{"$f":"ListAVS!$B$349","v":"vruty"}]
[null,{"$f":"\" ** \"&ListAVS!$B$348&\":\"","v":" ** Zvolte, jaký způsob montáže chcete:"},null,null,null,null,null,null,null,null,null,null,null,{"$f":"ListAVS!$B$143","v":"na vruty"},null,{"$f":"ListAVS!$B$350","v":"předmont. eurošrouby"}]
[null,{"$f":"\"    \"&ListAVS!$B$349&\" = \"&ListAVS!$B$351","v":"    vruty = zdvihače s integrovanou šablonou (bez nutnosti rozměřování)"}]
[null,{"$f":"\"    \"&ListAVS!$B$350&\" = \"&ListAVS!$B$352","v":"    předmont. eurošrouby = zdvihače s předmotovanými šrouby (nutné předvrtání)"}]
[]
[]
[]
[]
[]
[]
[]
[]
[]
[]
[]
[]
[]
[]
[]
[]
[]
[]
[]
[]
[]
[]
[]
[]
[]
[]
[null,null,"      AVENTOS HL"]
[]
[]
[null,null,{"$f":"ListAVS!$B$331","v":"Vyberte požadovanou montážní techniku pro čelní kování"}]
[]
[null,null,{"$f":"ListAVS!$B$288","v":"Kliknutím na obrázek nebo popis přejděte na požadovaný typ zdvihače."}]
[]
[]
[]
[]
[]
[]
[]
[]
[]
[null,null,null,null,null,null,null,{"$f":"ListAVS!$B$167","v":"Zpět"}]
[]
[]
[]
[]
[]
[]
[]
[]
[]
[]
[]
[]
[]
[]
[]
[]
[]
[]
[]
[]
[]
[]
[]
[]
[]
[]
[]
[]
[]
[]
[]
[]
[]
[]
[]
[]
[]
[]
[]
[]
[]
[]
[]
[]
[]
[]
[]
[]
[]
[]
[]
[]
[]
[]
[]
[]
[]
[]
[]
[]
[null,null,null,null,null,null,null,{"$f":"ListAVS!$B$167","v":"Zpět"}]

{"sheet":"HK","index":5,"n_rows":85,"n_cols":21,"rows_kept":85,"cut":false,"hidden":false,"merged":[[68,0,109,0],[84,7,84,8],[84,12,84,13],[22,10,22,11],[6,1,6,2],[6,3,6,4],[7,1,7,2],[7,3,7,4],[11,1,15,6],[22,1,22,2],[22,4,22,5],[22,7,22,8],[25,1,25,3],[26,1,26,3]]}
[]
[]
[null,"   AVENTOS HK top",null,null,null,null,null,null,null,null,null,null,null,null,null,null,null,null,null,null,{"$f":"ListAVS!$B$152","v":"Jdi na"}]
[]
[null,null,null,null,null,null,null,null,null,null,null,null,null,null,null,null,null,null,null,null,{"$f":"\" \"&ListAVS!$B$153","v":" Úvod plánování"}]
[null,null,null,null,null,null,null,null,null,null,null,null,null,null,null,null,null,null,null,null,{"$f":"\" \"&ListAVS!$B$154","v":" Nápověda"}]
[null,{"$f":"ListAVS!$B$74&\" (KB) \"","v":"Šířka korpusu (KB) "},null,{"$f":"\" \"&ListAVS!$B$170&\" 1800 mm\"","v":" do 1800 mm"}]
[null,{"$f":"ListAVS!$B$75&\" (KH) \"","v":"Výška korpusu (KH) "},null,{"$f":"\" \"&ListAVS!$B$170&\" 600 mm \"","v":" do 600 mm "},null,null,null,null,null,null,null,null,null,null,null,null,null,null,null,null,{"$f":"\" \"&ListAVS!$B$159","v":" Doplňky"}]
[]
[null,null,null,null,null,null,null,null,null,null,null,null,null,null,null,null,null,null,null,null,{"$f":"\" \"&ListAVS!$B$156","v":" Přehled korpusů"}]
[null,null,null,null,null,null,null,null,null,null,null,null,null,null,null,null,null,null,null,null,{"$f":"\" \"&ListAVS!$B$157","v":" Objednávka"}]
[]
[]
[]
[]
[]
[]
[]
[]
[]
[]
[]
[null,{"$f":"ListAVS!$B$17","v":"Dřevěné čelo"},null,null,{"$f":"ListAVS!$B$20","v":"Široký alurámeček"},null,null,{"$f":"ListAVS!$B$22","v":"Úzký alurámeček"},null,null,{"$f":"ListAVS!$B$23","v":"Tenké materiály"}]
[]
[]
[null,{"$f":"ListAVS!$B$141&\" \"","v":"Čelní kování "},null,null,null,null,null,null,null,null,null,null,null,2,null,1]
[null,{"$f":"ListAVS!B346&\"** \"","v":"Provedení zdvihače** "},null,null,null,null,null,null,null,null,null,null,null,"čelní kování",null,"provedení"]
[null,null,null,null,null,null,null,null,null,null,null,null,null,"EXPANDO",null,{"$f":"ListAVS!$B349","v":"vruty"}]
[null,{"$f":"\" ** \"&ListAVS!B348&\":\"","v":" ** Zvolte, jaký způsob montáže chcete:"},null,null,null,null,null,null,null,null,null,null,null,{"$f":"ListAVS!$B$143","v":"na vruty"},null,{"$f":"ListAVS!$B350","v":"předmont. eurošrouby"}]
[null,{"$f":"\"    \"&ListAVS!$B349&\" = \"&ListAVS!$B351","v":"    vruty = zdvihače s integrovanou šablonou (bez nutnosti rozměřování)"}]
[null,{"$f":"\"    \"&ListAVS!$B350&\" = \"&ListAVS!$B352","v":"    předmont. eurošrouby = zdvihače s předmotovanými šrouby (nutné předvrtání)"}]
[]
[]
[]
[]
[]
[]
[]
[]
[]
[]
[]
[]
[]
[]
[]
[]
[]
[]
[]
[]
[]
[]
[]
[]
[]
[]
[]
[]
[]
[]
[]
[]
[]
[]
[]
[]
[]
[]
[null,null,"      AVENTOS HK"]
[]
[]
[null,null,{"$f":"ListAVS!$B$331","v":"Vyberte požadovanou montážní techniku pro čelní kování"}]
[]
[null,null,{"$f":"ListAVS!$B$288","v":"Kliknutím na obrázek nebo popis přejděte na požadovaný typ zdvihače."}]
[]
[]
[]
[]
[]
[]
[]
[]
[]
[null,null,null,null,null,null,null,{"$f":"ListAVS!$B$167","v":"Zpět"}]

{"sheet":"HKS","index":6,"n_rows":85,"n_cols":21,"rows_kept":85,"cut":false,"hidden":false,"merged":[[6,1,6,2],[6,3,6,4],[7,1,7,2],[7,3,7,4],[9,1,11,5],[22,7,22,8],[25,1,25,3],[68,0,109,0],[84,12,84,13],[22,10,22,11],[22,1,22,2],[22,4,22,5]]}
[]
[]
[null,"   AVENTOS HK-S",null,null,null,null,null,null,null,null,null,null,null,null,null,null,null,null,null,null,{"$f":"ListAVS!$B$152","v":"Jdi na"}]
[]
[null,null,null,null,null,null,null,null,null,null,null,null,null,null,null,null,null,null,null,null,{"$f":"\" \"&ListAVS!$B$153","v":" Úvod plánování"}]
[null,null,null,null,null,null,null,null,null,null,null,null,null,null,null,null,null,null,null,null,{"$f":"\" \"&ListAVS!$B$154","v":" Nápověda"}]
[null,{"$f":"ListAVS!$B$74&\" (KB) \"","v":"Šířka korpusu (KB) "},null,{"$f":"\" \"&ListAVS!$B$170&\" 1800 mm *\"","v":" do 1800 mm *"}]
[null,{"$f":"ListAVS!$B$75&\" (KH) \"","v":"Výška korpusu (KH) "},null," 190 - 600 mm",null,null,null,null,null,null,null,null,null,null,null,null,null,null,null,null,{"$f":"\" \"&ListAVS!$B$159","v":" Doplňky"}]
[]
[null,{"$f":"\"* \"&ListAVS!$B$232","v":"* Vše záleží na hodnotě faktoru výkonnosti"},null,null,null,null,null,null,null,null,null,null,null,null,null,null,null,null,null,null,{"$f":"\" \"&ListAVS!$B$156","v":" Přehled korpusů"}]
[null,null,null,null,null,null,null,null,null,null,null,null,null,null,null,null,null,null,null,null,{"$f":"\" \"&ListAVS!$B$157","v":" Objednávka"}]
[]
[]
[]
[]
[]
[]
[]
[]
[]
[]
[]
[null,{"$f":"ListAVS!$B$17","v":"Dřevěné čelo"},null,null,{"$f":"ListAVS!$B$20","v":"Široký alurámeček"},null,null,{"$f":"ListAVS!$B$22","v":"Úzký alurámeček"},null,null,{"$f":"ListAVS!$B$23","v":"Tenké materiály"}]
[]
[]
[null,{"$f":"ListAVS!$B$141&\" \"","v":"Čelní kování "},null,null,null,null,null,null,null,null,null,null,null,1,null,null,2]
[null,null,null,null,null,null,null,null,null,null,null,null,null,"čelní kování",null,null,"kryt."]
[null,null,null,null,null,null,null,null,null,null,null,null,null,"EXPANDO",null,null,{"$f":"IF(MenuAVS!$P$28=3,ListAVS!$B145,\" \")","v":" "}]
[null,null,null,null,null,null,null,null,null,null,null,null,null,{"$f":"ListAVS!$B$143","v":"na vruty"},null,null,{"$f":"IF(MenuAVS!$P$28=3,ListAVS!$B147,\" \")","v":" "}]
[]
[]
[]
[]
[]
[]
[]
[]
[]
[]
[]
[]
[]
[]
[]
[]
[]
[]
[]
[]
[]
[]
[]
[]
[]
[]
[]
[]
[]
[]
[]
[]
[]
[]
[]
[]
[]
[]
[]
[]
[null,null,"      AVENTOS HK-S"]
[]
[]
[null,null,{"$f":"ListAVS!$B$331","v":"Vyberte požadovanou montážní techniku pro čelní kování"}]
[]
[null,null,{"$f":"ListAVS!$B$288","v":"Kliknutím na obrázek nebo popis přejděte na požadovaný typ zdvihače."}]
[]
[]
[]
[]
[]
[]
[]
[]
[]
[null,null,null,null,null,null,null,null,null,null,null,null,{"$f":"ListAVS!$B$167","v":"Zpět"}]

{"sheet":"HKXS","index":7,"n_rows":85,"n_cols":21,"rows_kept":85,"cut":false,"hidden":false,"merged":[[68,0,109,0],[6,1,6,2],[6,3,6,4],[7,1,7,2],[7,3,7,4],[9,1,11,5],[22,1,22,2],[22,4,22,5],[84,12,84,13],[22,10,22,11],[22,7,22,8],[25,1,25,3],[26,1,26,3],[27,1,27,3],[28,1,28,3]]}
[]
[]
[null,"   AVENTOS HK-XS",null,null,null,null,null,null,null,null,null,null,null,null,null,null,null,null,null,null,{"$f":"ListAVS!$B$152","v":"Jdi na"}]
[]
[null,null,null,null,null,null,null,null,null,null,null,null,null,null,null,null,null,null,null,null,{"$f":"\" \"&ListAVS!$B$153","v":" Úvod plánování"}]
[null,null,null,null,null,null,null,null,null,null,null,null,null,null,null,null,null,null,null,null,{"$f":"\" \"&ListAVS!$B$154","v":" Nápověda"}]
[null,{"$f":"ListAVS!$B$74&\" (KB) \"","v":"Šířka korpusu (KB) "},null,{"$f":"\" \"&ListAVS!$B$170&\" 1800 mm *\"","v":" do 1800 mm *"}]
[null,{"$f":"ListAVS!$B$75&\" (KH) \"","v":"Výška korpusu (KH) "},null," 240 - 600 mm",null,null,null,null,null,null,null,null,null,null,null,null,null,null,null,null,{"$f":"\" \"&ListAVS!$B$159","v":" Doplňky"}]
[]
[null,{"$f":"\"* \"&ListAVS!$B$232","v":"* Vše záleží na hodnotě faktoru výkonnosti"},null,null,null,null,null,null,null,null,null,null,null,null,null,null,null,null,null,null,{"$f":"\" \"&ListAVS!$B$156","v":" Přehled korpusů"}]
[null,null,null,null,null,null,null,null,null,null,null,null,null,null,null,null,null,null,null,null,{"$f":"\" \"&ListAVS!$B$157","v":" Objednávka"}]
[]
[]
[]
[]
[]
[]
[]
[]
[]
[]
[]
[null,{"$f":"ListAVS!$B$17","v":"Dřevěné čelo"},null,null,{"$f":"ListAVS!$B$20","v":"Široký alurámeček"},null,null,{"$f":"ListAVS!$B$22","v":"Úzký alurámeček"},null,null,{"$f":"ListAVS!$B$23","v":"Tenké materiály"}]
[]
[]
[null,{"$f":"ListAVS!$B$141&\" \"","v":"Čelní kování "},null,null,null,null,null,null,null,null,null,null,null,1,1,1,1]
[null,{"$f":"ListAVS!$B$150&\" \"","v":"Boční čep "},null,null,null,null,null,null,null,null,null,null,null,"čelní kování","boční čep","Závěsy","Podložky"]
[null,{"$f":"ListAVS!$B$132&\" \"","v":"Horní závěsy "},null,null,null,null,null,null,null,null,null,null,null,"EXPANDO","EXPANDO","EXPANDO","EXPANDO"]
[null,{"$f":"ListAVS!$B$138&\" \"","v":"Montážní podložky "},null,null,null,null,null,null,null,null,null,null,null,{"$f":"ListAVS!$B$143","v":"na vruty"},{"$f":"ListAVS!$B$143","v":"na vruty"},{"$f":"ListAVS!$B$143","v":"na vruty"},{"$f":"ListAVS!$B$143","v":"na vruty"}]
[]
[]
[]
[]
[]
[]
[]
[]
[]
[]
[]
[]
[]
[]
[]
[]
[]
[]
[]
[]
[]
[]
[]
[]
[]
[]
[]
[]
[]
[]
[]
[]
[]
[]
[]
[]
[]
[]
[]
[]
[null,null,"      AVENTOS HK-S"]
[]
[]
[null,null,{"$f":"ListAVS!$B$331","v":"Vyberte požadovanou montážní techniku pro čelní kování"}]
[]
[null,null,{"$f":"ListAVS!$B$288","v":"Kliknutím na obrázek nebo popis přejděte na požadovaný typ zdvihače."}]
[]
[]
[]
[]
[]
[]
[]
[]
[]
[null,null,null,null,null,null,null,null,null,null,null,null,{"$f":"ListAVS!$B$167","v":"Zpět"}]

{"sheet":"HKi","index":8,"n_rows":85,"n_cols":21,"rows_kept":85,"cut":false,"hidden":false,"merged":[[22,7,22,8],[68,0,109,0],[84,12,84,13],[6,1,6,2],[6,3,6,4],[7,1,7,2],[7,3,7,4],[9,1,11,5],[22,1,22,2],[22,4,22,5],[25,1,25,3]]}
[]
[]
[null,"   AVENTOS HKi",null,null,null,null,null,null,null,null,null,null,null,null,null,null,null,null,null,null,{"$f":"ListAVS!$B$152","v":"Jdi na"}]
[]
[null,null,null,null,null,null,null,null,null,null,null,null,null,null,null,null,null,null,null,null,{"$f":"\" \"&ListAVS!$B$153","v":" Úvod plánování"}]
[null,null,null,null,null,null,null,null,null,null,null,null,null,null,null,null,null,null,null,null,{"$f":"\" \"&ListAVS!$B$154","v":" Nápověda"}]
[null,{"$f":"ListAVS!$B$74&\" (KB) \"","v":"Šířka korpusu (KB) "},null,{"$f":"\" \"&ListAVS!$B$170&\" 1800 mm *\"","v":" do 1800 mm *"}]
[null,{"$f":"ListAVS!$B$75&\" (KH) \"","v":"Výška korpusu (KH) "},null," 170 - 600 mm",null,null,null,null,null,null,null,null,null,null,null,null,null,null,null,null," Doplňky"]
[]
[null,{"$f":"\"* \"&ListAVS!$B$232","v":"* Vše záleží na hodnotě faktoru výkonnosti"},null,null,null,null,null,null,null,null,null,null,null,null,null,null,null,null,null,null,{"$f":"\" \"&ListAVS!$B$156","v":" Přehled korpusů"}]
[null,null,null,null,null,null,null,null,null,null,null,null,null,null,null,null,null,null,null,null,{"$f":"\" \"&ListAVS!$B$157","v":" Objednávka"}]
[]
[]
[]
[]
[]
[]
[]
[]
[]
[]
[]
[null,{"$f":"ListAVS!$B$17","v":"Dřevěné čelo"},null,null,{"$f":"ListAVS!$B$20","v":"Široký alurámeček"},null,null,{"$f":"ListAVS!$B$22","v":"Úzký alurámeček"}]
[]
[]
[null,{"$f":"ListAVS!$B$428&\" \"","v":"provedení zdvihače "},null,null,null,null,null,null,null,null,null,null,null,1,null,null,2]
[null,null,null,null,null,null,null,null,null,null,null,null,null,{"$f":"ListAVS!B428","v":"provedení zdvihače"},null,null,"kryt."]
[null,null,null,null,null,null,null,null,null,null,null,null,null,{"$f":"ListAVS!B429","v":"plně integrovaný"},null,null,{"$f":"IF(MenuAVS!$P$28=3,ListAVS!$B145,\" \")","v":" "}]
[null,null,null,null,null,null,null,null,null,null,null,null,null,{"$f":"ListAVS!B430","v":"částečně integrovaný (s krytkou)"},null,null,{"$f":"IF(MenuAVS!$P$28=3,ListAVS!$B147,\" \")","v":" "}]
[]
[]
[]
[]
[]
[]
[]
[]
[]
[]
[]
[]
[]
[]
[]
[]
[]
[]
[]
[]
[]
[]
[]
[]
[]
[]
[]
[]
[]
[]
[]
[]
[]
[]
[]
[]
[]
[]
[]
[]
[null,null,"      AVENTOS HK-S"]
[]
[]
[null,null,{"$f":"ListAVS!$B$331","v":"Vyberte požadovanou montážní techniku pro čelní kování"}]
[]
[null,null,{"$f":"ListAVS!$B$288","v":"Kliknutím na obrázek nebo popis přejděte na požadovaný typ zdvihače."}]
[]
[]
[]
[]
[]
[]
[]
[]
[]
[null,null,null,null,null,null,null,null,null,null,null,null,{"$f":"ListAVS!$B$167","v":"Zpět"}]

{"sheet":"HFw","index":9,"n_rows":179,"n_cols":43,"rows_kept":179,"cut":false,"hidden":false,"merged":[[11,39,12,42],[13,39,14,42],[0,41,0,46],[10,1,10,3],[11,1,11,6],[7,39,7,40],[15,1,15,6],[4,4,4,9],[3,10,4,11],[1,1,1,2],[9,39,9,40],[8,1,8,2],[12,3,12,6],[13,3,13,6],[14,3,14,6],[12,1,14,2],[8,5,8,7],[6,1,6,2],[6,6,6,7],[8,19,8,20],[8,39,8,40],[9,1,9,6],[138,0,183,0],[148,4,148,11],[111,1,111,5],[113,1,113,7],[113,8,113,9],[114,1,114,7],[114,8,114,9],[115,1,115,7],[115,8,115,9],[98,0,137,0],[101,1,101,9],[102,1,102,7],[102,8,102,9],[103,1,103,7],[104,1,104,7],[105,1,105,7],[89,13,89,18],[84,17,84,19],[116,8,116,9],[103,8,103,9],[124,8,124,9],[88,13,88,18],[85,13,85,18],[86,13,86,18],[87,13,87,18],[104,8,104,9],[105,8,105,9],[94,18,94,19],[102,13,104,13],[102,14,104,14],[116,1,116,7],[117,1,117,7],[117,8,117,9],[106,1,106,7],[106,8,106,9],[108,1,108,9],[109,1,109,5],[109,6,109,9],[110,1,110,5],[78,13,78,18],[79,13,79,18],[80,13,80,18],[71,15,71,19],[75,13,75,16],[75,17,75,19],[76,13,76,18],[30,19,30,20],[16,1,16,6],[23,1,25,2],[23,3,23,6],[77,13,77,18],[24,3,24,6],[19,19,19,20],[20,1,20,6],[21,1,21,3],[25,3,25,6],[22,1,22,6],[19,1,19,2],[19,5,19,7],[26,1,26,6],[27,1,27,6],[30,1,32,10]]}
[]
[null," AVENTOS HF top",null,null,null,null,null,null,null,null,null,null,null,null,null,null,null,null,3,null,null,null,null,null,null,null,null,null,null,null,null,null,null,null,null,null,null,{"$f":"ListAVS!$B$152","v":"Jdi na"}]
[]
[null,{"$f":"ListAVS!$B$16","v":"Dřevěná čela"},null,null,null,{"$f":"ListAVS!$B$179&\"  \"","v":"Provedení čel  "},null,null,null,null,{"$f":"IF($Z$78=3,IF($T$71=0,$Y$74,\" \"),IF($T$71>0,$Y$75,\" \"))","v":" "},null,null,null,null,null,null,null,{"$f":"\" \"&ListAVS!$B$41&\" A \"","v":" Cena za korpus A "},null,null,null,null,"výpočet",null,null,null,null,null,null,null,null,null,null,null,null,null,{"$f":"\" \"&ListAVS!$B$153","v":" Úvod plánování"}]
[null,null,null,null,{"$f":"IF($Z$78<>3,$Y$73,\" \")&\"      \"","v":" Změnit hodnoty můžete v Úvodu plánování      "},null,null,null,null,null,null,null,null,null,null,null,null,null,{"$f":"\" \"&ListAVS!$B$41&\" B \"","v":" Cena za korpus B "},null,null,null,null,null,null,null,null,null,null,null,null,null,null,null,null,null,null,{"$f":"\" \"&ListAVS!$B$154","v":" Nápověda"}]
[null,null,null,null,null,null,null,null,null,null,null,null,null,null,null,null,null,null,{"$f":"\" \"&ListAVS!$B$61","v":" Cena celkem bez DPH"}]
[null,{"$f":"ListAVS!$B$51&\":   \"","v":"Cena kování:   "},null,null,null,null,{"$f":"IF(S2=1,$AF$47,IF($S$2=2,$AH$47,IF($S$2=3,$AD$47,0)))","v":0},null,null,null,null,null,null,null,null,null,null,null,null,null,null,null,null,null,{"$f":"$B$2","v":" AVENTOS HF top"},null,null,null,null,null,null,null,null,null,null,null,null,{"$f":"\" \"&ListAVS!$B$159","v":" Doplňky"}]
[null,null,null,null,null,null,null,{"$f":"IF(AND(OR($S$9=2, $S$20=2), $AD$47>0), $N$35, \" \")","v":" "},null,null,null,null,null,null,null,null,null,null,null,null,null,null,null,null,{"$f":"ListAVS!B52","v":"Název"},{"$f":"ListAVS!$B$53","v":"Číslo artiklu"},{"$f":"ListAVS!B54","v":"Barva"},{"$f":"ListAVS!B56","v":"Ks"},{"$f":"ListAVS!B58","v":"Jednotková cena"},{"$f":"ListAVS!B59","v":"Celkem"},"A","Cena","B","Cena",null,null,null,null,null,{"$f":"\"  \"&ListAVS!$B$86&\" LF \"","v":"  Ukazatel výkonnosti LF "},null,"Zdvihací mechanizmus vruty","Zdvihací mechanizmus šrouby"]
[null,{"$f":"\"▼ \"&ListAVS!$B$317","v":"▼ Způsob otvírání"},null,{"$f":"IF($M$17>0, ListAVS!$B$37&\": \", \" \")","v":" "},{"$f":"IF(SUM($AE$9:$AE$10)>0,25,IF(SUM($AE$11:$AE$12)>0,28,\" \"))","v":" "},{"$f":"ListAVS!$B$64&\" A\"","v":"Korpus A"},null,null,null,null,null,null,null,"zdvih A",null,"teleskop",null,null,1,false,null," - SRVDRV",null,null,{"$f":"CenAVS!A11","v":"Sada zdvihačů HF top, na vruty"},{"$f":"CenAVS!B11","v":"22F2500"},{"$f":"CenAVS!C11","v":"ZN"},{"$f":"SUM(AE9,AG9)","v":0},{"$f":"CenAVS!F11","v":1651.93},{"$f":"AB9*AC9","v":0},{"$f":"IF($Y$48=1,ROUNDUP($M$17*$O$11,0),0)","v":0},{"$f":"$AC9*AE9","v":0},{"$f":"IF($Y$48=1,ROUNDUP($M$28*$O$22,0),0)","v":0},{"$f":"$AC9*AG9","v":0},null,null,null,{"$f":"\" \"&ListAVS!$B$156","v":" Přehled korpusů"},null,"    2700 - 13500",null,"22F2500","22F2510"]
[null,{"$f":"ListAVS!$B$74&\" KB [mm] \"","v":"Šířka korpusu KB [mm] "},null,null,null,null,null,null,{"$f":"IF(H10=0,\" \",IF($H10<220,\" min. 220mm\",\" \"))&IF(H17>0,IF(H10=0,\"● \"&ListAVS!$B$128,\" \"),\" \")","v":"  "},null,null,null,null,null,null,"F32",{"$f":"IF(AND($P$16>$AB$56,$P$16<=$AC$56),SUM($O11:$O12),0)","v":0},null,null,"Závěs A →",null,{"$f":"IF(OR($H10>=1200,$T17>=12),3,2)+IF(OR($H10>=1800, $T17>=20),1,0)+IF(OR($H10>=2400, $T17>=26),1,0)+IF(OR($H10>=2800, $T17>=30),1,0)","v":2},null,null,{"$f":"CenAVS!A12","v":"Sada zdvihačů HF top, předmont. eurošrouby"},{"$f":"CenAVS!B12","v":"22F2510"},{"$f":"CenAVS!C12","v":"ZN"},0,{"$f":"CenAVS!F12","v":1651.93},{"$f":"AB10*AC10","v":0},{"$f":"IF($Y$48=2,ROUNDUP($M$17*$O$11,0),0)","v":0},0,{"$f":"IF($Y$48=2,ROUNDUP($M$28*$O$22,0),0)","v":0},0,null,null,null,{"$f":"\" \"&ListAVS!$B$157","v":" Objednávka"},null,"  10000 - 19300",null,"22F2800","22F2810"]
[null,{"$f":"ListAVS!$B$75&\" [mm]\"","v":"Výška korpusu [mm]"},null,null,"TKH * ",null,"KH ",null,{"$f":"IF(H11=0,\" \",IF($H11<480,\" min. 480mm\",IF($H11>1200,\" max. 1 200mm\",\" \")))&IF(H17>0,IF(H11=0,\"● \"&ListAVS!$B$128,\" \"),\" \")","v":"  "},null,null,null,null,"F25",{"$f":"IF($H16<$AB$50,0,IF($H16<=$AC$50,1,0))","v":0},"F35",{"$f":"IF(AND($P$16>$AB$57,$P$16<=$AC$57),SUM($O11:$O12),0)","v":0},null,null,null,null,null,null,null,{"$f":"CenAVS!A13","v":"Sada zdvihačů HF top, na vruty"},{"$f":"CenAVS!B13","v":"22F2800"},{"$f":"CenAVS!C13","v":"ZN"},0,{"$f":"CenAVS!F13","v":1805.55},0,{"$f":"IF($Y$48=1,ROUNDUP($M$17*$O$12,0),0)","v":0},0,{"$f":"IF($Y$48=1,ROUNDUP($M$28*$O$23,0),0)","v":0},0]
[null,{"$f":"ListAVS!$B$77&\" [kg] ** \"","v":"Hmotnost čela včetně úchytky [kg] ** "},null,null,null,null,null,null,{"$f":"IF($T14=\"ne\", \" \", IF(AND($H12=0,$H15=0, $H17>0),$N$37,\" \"))&IF(AND($H17>0, $H12>0, $M17>0),$N$41,\" \")","v":"  "},null,null,null,null,"F28",{"$f":"IF($H16<$AB$51,0,IF($H16<=$AC$51,1,IF(AND($H16>$AB$52, $H16<=$AC$52),1.5, IF($H16>$AC$52, 2, 0))))","v":0},"F39",{"$f":"IF(AND($P$16>$AB$58,$P$16<=$AC$58),SUM($O11:$O12),0)","v":0},null,null,null,null,null,null,null,{"$f":"CenAVS!A14","v":"Sada zdvihačů HF top, předmont. eurošrouby"},{"$f":"CenAVS!B14","v":"22F2810"},{"$f":"CenAVS!C14","v":"ZN"},0,{"$f":"CenAVS!F14","v":1805.55},{"$f":"AB12*AC12","v":0},{"$f":"IF($Y$48=2,ROUNDUP($M$17*$O$12,0),0)","v":0},{"$f":"$AC12*AE12","v":0},{"$f":"IF($Y$48=2,ROUNDUP($M$28*$O$23,0),0)","v":0},{"$f":"$AC12*AG12","v":0},null,null,null,null,null,{"$f":"ListAVS!$B$86&\" LF = \"&ListAVS!$B$319&\" [kg]\"","v":"Ukazatel výkonnosti LF = výška korpusu KH [mm] x hmotnost obou čel včetně úchytky [kg]"}]
[null,{"$f":"ListAVS!$B$292","v":"Výpočet hmotnosti"},null,{"$f":"ListAVS!$B$80&\" TS [mm] \"","v":"Síla čela TS [mm] "},null,null,null,null,{"$f":"IF(OR(H17=0, $T14=\"ne\"),\" \",IF(AND(H12=0, H13=0),\" ● \"&ListAVS!$B$128,\" \"))","v":" "},null,null,null,null,null,null,null,null,null,null,null,null,null,null,null,{"$f":"CenAVS!A15","v":"Sada teleskopů HF top (480–610 mm)"},{"$f":"CenAVS!B15","v":"22F3200"},{"$f":"CenAVS!C15","v":"NI"},0,{"$f":"CenAVS!F15","v":785.14},0,{"$f":"ROUNDUP($M$17*Q10,0)","v":0},0,{"$f":"ROUNDUP($M$28*Q21,0)","v":0},0]
[null,null,null,{"$f":"ListAVS!$B$83&\" [kg] \"","v":"Hmotnost úchytky [kg] "},null,null,null,null,{"$f":"IF(OR(H17=0, $T14=\"ne\"), \" \", IF(AND(H12=0, S9=1, H14=0), \" ● \"&ListAVS!$B$129,\" \"))","v":" "},null,null,null,null,null,null,null,null,null,"limit v/š",{"$f":"IF(AND(220<=H10, H10<=3000, 480<=P16, P16<=1200),\"ano\",\"ne\")","v":"ne"},null,null,null,null,{"$f":"CenAVS!A16","v":"Sada teleskopů HF top (600–910 mm)"},{"$f":"CenAVS!B16","v":"22F3500"},{"$f":"CenAVS!C16","v":"NI"},0,{"$f":"CenAVS!F16","v":964.4},0,{"$f":"ROUNDUP($M$17*Q11,0)","v":0},0,{"$f":"ROUNDUP($M$28*Q22,0)","v":0},0,null,null,null,null,null,"V případě využití třetího zdvihače můžete zvýšit ukazatel výkonnosti a tudíž hmotnost čílka o 50%."]
[null,null,null,{"$f":"ListAVS!$B$79&\" [kg] \"","v":"Vypočtená hmotnost čela [kg] "},null,null,null,{"$f":"$T$81","v":0},{"$f":"IF($M17>0,IF($H15>0,IF($H12=0,$N$41,\" \"),\" \"),\" \")&IF(AND(H17>0, H12=0, Z78=3, $J$4=0), $N$39, \" \")","v":"  "},null,null,null,null,null,null,null,null,null,"limit LF",{"$f":"IF(AND(H16>=$AB$50, H16<=$AC$53), \"ano\", \"ne\")","v":"ne"},null,null,null,null,{"$f":"CenAVS!A17","v":"Sada teleskopů HF top (840–1200 mm)"},{"$f":"CenAVS!B17","v":"22F3900"},{"$f":"CenAVS!C17","v":"NI"},0,{"$f":"CenAVS!F17","v":1143.6400000000001},0,{"$f":"ROUNDUP($M$17*Q12,0)","v":0},0,{"$f":"ROUNDUP($M$28*Q23,0)","v":0},0]
[null,{"$f":"ListAVS!$B$86&\" LF \"","v":"Ukazatel výkonnosti LF "},null,null,null,null,null,{"$f":"IF(H12>0, H11*H12, H11*H15)","v":0},{"$f":"IF(OR($T14=\"ne\", $H17=0), \" \", IF(AND(H16>0, H16<$AB$50), $T$44, IF($H16>$AC$53,$N$44,IF(AND($H16>$AC$51, $H$16<=$AC$52),$N$45, IF($H$16>$AC$52, $Q$45, \" \"))))&IF(OR(H16>$AC$53, $M17=0),\" \",IF(AND($S9=2,$H16>$AC$51),$U$45,\"  \")))","v":" "},null,null,null,null,null,"výška korpusu",{"$f":"IF(F11>0,IF(F11>=H11,F11,0),H11)","v":0},null,null,null,null,null,null,null,null,{"$f":"CenAVS!A47","v":"Sada krytek HF, HS, HL top, světle šedá"},{"$f":"CenAVS!B47","v":"22.8000"},{"$f":"CenAVS!C47","v":"HGR"},{"$f":"SUM(AE16,AG16)","v":0},{"$f":"CenAVS!F47","v":252.85},0,{"$f":"IF(AND($S$9=1, $T$48=1), SUM($AE$9:$AE$12), 0)","v":0},0,{"$f":"IF(AND($S$20=1, $T$48=1), SUM($AG$9:$AG$12), 0)","v":0},0]
[null,{"$f":"ListAVS!$B$71&\" \"","v":"Počet skříněk "},null,null,null,null,null,null,null,null,null,null,{"$f":"IF($H10*$P16=0,0,IF(SUM($H12,$H15)=0,0,IF($P16>$AC$59,0,IF(P16<$AB$56,0,IF(OR(T14=\"ne\", T15=\"ne\"),0,$H17)))))","v":0},"← Hlavní údaj",null,null,null,null,"hmot =",{"$f":"IF(H12>0,H12,H15)","v":0},{"$f":"IF(SUM(H12,H15)=0,0,IF(H12>0,1,2))","v":0},"zadaná / vypočtená",null,null,{"$f":"CenAVS!A48","v":"Sada krytek HF, HS, HL top, tmavě šedá"},{"$f":"CenAVS!B48","v":"22.8000"},{"$f":"CenAVS!C48","v":"TGR"},0,{"$f":"CenAVS!F48","v":275.94},0,{"$f":"IF(AND($S$9=1, $T$48=2), SUM($AE$9:$AE$12), 0)","v":0},0,{"$f":"IF(AND($S$20=1, $T$48=2), SUM($AG$9:$AG$12), 0)","v":0},0,null,null,null,null,null,"vruty = zdvihače s integrovanou šablonou (bez nutnosti rozměřování)"]
[null,{"$f":"IF(H17>0,IF(U17=0,\" \",IF(U17=1,$N$53,$N$54)),\" \")&IF(H17>0,IF(U17=0,\" \",IF(U17=1,$N$55,$N$56)),\" \")","v":"  "},null,null,null,null,null,null,null,null,null,null,null,null,null,null,null,null,null,null,null,null,null,null,{"$f":"CenAVS!A49","v":"Sada krytek HF, HS, HL top, hedvábně bílá"},{"$f":"CenAVS!B49","v":"22.8000"},{"$f":"CenAVS!C49","v":"SW"},0,{"$f":"CenAVS!F49","v":275.94},0,{"$f":"IF(AND($S$9=1, $T$48=3), SUM($AE$9:$AE$12), 0)","v":0},0,{"$f":"IF(AND($S$20=1, $T$48=3), SUM($AG$9:$AG$12), 0)","v":0},0,null,null,null,null,null,"šrouby = zdvihače s přednotovanými šrouby (nutné předvrtání)"]
[null,{"$f":"IF(F11=0,\" \",IF(F11>1200,\"TKH = max. 1200!\",IF(F11<480,\"TKH = min. 480!\",IF(F11<H11,$N$59,IF(H17>0,IF(F11=0,\" \",IF(AND(F11>0,M17=1), $N$58,\" \")),\" \")))))","v":" "},null,null,null,null,null,null,null,null,null,null,null,null,null,null,null,null,null,null,null,null,null,null,{"$f":"CenAVS!A50","v":"Sada krytek pro SERVO-DRIVE, světle šedá"},{"$f":"CenAVS!B50","v":"23.8000"},{"$f":"CenAVS!C50","v":"HGR"},0,{"$f":"CenAVS!F50","v":2606.7600000000002},0,{"$f":"IF(AND($S$9=2, $T$48=1), $AE$45, 0)","v":0},{"$f":"$AC19*AE19","v":0},{"$f":"IF(AND($S$20=2, $T$48=1), $AG$45, 0)","v":0},{"$f":"$AC19*AG19","v":0},null,null,null,{"$f":"\" \"&ListAVS!$B$194","v":" Výpočet asymetrických čel"}]
[null,{"$f":"\"▼ \"&ListAVS!$B$317","v":"▼ Způsob otvírání"},null,{"$f":"IF($M$28>0, ListAVS!$B$37&\": \", \" \")","v":" "},{"$f":"IF(SUM($AG$9:$AG$10)>0,25,IF(SUM($AG$11:$AG$12)>0,28,\" \"))","v":" "},{"$f":"ListAVS!$B$64&\" B\"","v":"Korpus B"},null,null,null,null,null,null,null,"zdvih B",null,"teleskop",null,null,1,false,null," - SRVDRV",null,null,{"$f":"CenAVS!A51","v":"Sada krytek pro SERVO-DRIVE, tmavě šedá"},{"$f":"CenAVS!B51","v":"23.8000"},{"$f":"CenAVS!C51","v":"TGR"},0,{"$f":"CenAVS!F51","v":2709.29},0,{"$f":"IF(AND($S$9=2, $T$48=2), $AE$45, 0)","v":0},0,{"$f":"IF(AND($S$20=2, $T$48=2), $AG$45, 0)","v":0},0]
[null,{"$f":"ListAVS!$B$74&\" KB [mm] \"","v":"Šířka korpusu KB [mm] "},null,null,null,null,null,null,{"$f":"IF(H21=0,\" \",IF($H21<220,\" min. 220mm\",\" \"))&IF(H28>0,IF(H21=0,\"● \"&ListAVS!$B$128,\" \"),\" \")","v":"  "},null,null,null,null,null,null,"F32",{"$f":"IF(AND($P$27>$AB$56,$P$27<=$AC$56),SUM($O22:$O23),0)","v":0},null,null,"Závěs A →",null,{"$f":"IF(OR($H21>=1200,$T28>=12),3,2)+IF(OR($H21>=1800, $T28>=20),1,0)+IF(OR($H21>=2400, $T28>=26),1,0)+IF(OR($H21>=2800, $T28>=30),1,0)","v":2},null,null,{"$f":"CenAVS!A52","v":"Sada krytek pro SERVO-DRIVE,hedvábně bílá"},{"$f":"CenAVS!B52","v":"23.8000"},{"$f":"CenAVS!C52","v":"SW"},0,{"$f":"CenAVS!F52","v":2709.29},0,{"$f":"IF(AND($S$9=2, $T$48=3), $AE$45, 0)","v":0},0,{"$f":"IF(AND($S$20=2, $T$48=3), $AG$45, 0)","v":0},0]
[null,{"$f":"ListAVS!$B$75&\" [mm]\"","v":"Výška korpusu [mm]"},null,null,"TKH * ",null,"KH ",null,{"$f":"IF(H22=0,\" \",IF($H22<480,\" min. 480mm\",IF($H22>1200,\" max. 1 200mm\",\" \")))&IF(H28>0,IF(H22=0,\"● \"&ListAVS!$B$128,\" \"),\" \")","v":"  "},null,null,null,null,"F25",{"$f":"IF($H27<$AB$50,0,IF($H27<=$AC$50,1,0))","v":0},"F35",{"$f":"IF(AND($P$27>$AB$57,$P$27<=$AC$57),SUM($O22:$O23),0)","v":0},null,null,null,null,null,null,null,{"$f":"CenAVS!A18","v":"Závěs CLIP top 120° "},{"$f":"CenAVS!B18","v":"70T5550.TL"},{"$f":"CenAVS!C18","v":"NI"},0,{"$f":"CenAVS!F18","v":56.56},0,{"$f":"IF($N$48=2, $V$10*$M$17, 0)","v":0},0,{"$f":"IF($N$48=2, $V$21*$M$28, 0)","v":0},0]
[null,{"$f":"ListAVS!$B$77&\" [kg] ** \"","v":"Hmotnost čela včetně úchytky [kg] ** "},null,null,null,null,null,null,{"$f":"IF($T25=\"ne\", \" \", IF(AND($H23=0,$H26=0, $H28>0),$N$37,\" \"))&IF(AND($H28>0, $H23>0, $M28>0),$N$41,\" \")","v":"  "},null,null,null,null,"F28",{"$f":"IF($H27<$AB$51,0,IF($H27<=$AC$51,1,IF(AND($H27>$AB$52, $H27<=$AC$52),1.5, IF($H27>$AC$52, 2, 0))))","v":0},"F39",{"$f":"IF(AND($P$27>$AB$58,$P$27<=$AC$58),SUM($O22:$O23),0)","v":0},null,null,null,null,null,null,null,{"$f":"CenAVS!A19","v":"Závěs CLIP top 120° EXPANDO"},{"$f":"CenAVS!B19","v":"70T558E"},{"$f":"CenAVS!C19","v":"NI"},0,{"$f":"CenAVS!F19","v":53.42},0,{"$f":"IF($N$48=1, $V$10*$M$17, 0)","v":0},0,{"$f":"IF($N$48=1, $V$21*$M$28, 0)","v":0},0]
[null,{"$f":"ListAVS!$B$292","v":"Výpočet hmotnosti"},null,{"$f":"ListAVS!$B$80&\" TS [mm] \"","v":"Síla čela TS [mm] "},null,null,null,null,{"$f":"IF(OR(H28=0, $T25=\"ne\"),\" \",IF(AND(H23=0, H24=0),\" ● \"&ListAVS!$B$128,\" \"))","v":" "},null,null,null,null,null,null,null,null,null,null,null,null,null,null,null,{"$f":"CenAVS!A20","v":"Středový závěs CLIP top "},{"$f":"CenAVS!B20","v":"78Z5500T"},{"$f":"CenAVS!C20","v":"NI"},0,{"$f":"CenAVS!F20","v":92.71},0,{"$f":"IF($P$48=2, $V$10*$M$17, 0)","v":0},0,{"$f":"IF($P$48=2, $V$21*$M$28, 0)","v":0},0]
[null,null,null,{"$f":"ListAVS!$B$83&\" [kg] \"","v":"Hmotnost úchytky [kg] "},null,null,null,null,{"$f":"IF(OR(H28=0, $T25=\"ne\"), \" \", IF(AND(H23=0, S20=1, H25=0), \" ● \"&ListAVS!$B$129,\" \"))","v":" "},null,null,null,null,null,null,null,null,null,"limit v/š",{"$f":"IF(AND(220<=H21, H21<=3000, 480<=P27, P27<=1200),\"ano\",\"ne\")","v":"ne"},null,null,null,null,{"$f":"CenAVS!A21","v":"Středový závěs CLIP top EXPANDO"},{"$f":"CenAVS!B21","v":"78Z553ET"},{"$f":"CenAVS!C21","v":"NI"},0,{"$f":"CenAVS!F21","v":95.69},0,{"$f":"IF($P$48=1, $V$10*$M$17, 0)","v":0},0,{"$f":"IF($P$48=1, $V$21*$M$28, 0)","v":0},0]
[null,null,null,{"$f":"ListAVS!$B$79&\" [kg] \"","v":"Vypočtená hmotnost čela [kg] "},null,null,null,{"$f":"$T$90","v":0},{"$f":"IF($M28>0,IF($H26>0,IF($H23=0,$N$41,\" \"),\" \"),\" \")&IF(AND(H28>0, H23=0, Z87=3, $J$4=0), $N$39, \" \")","v":"  "},null,null,null,null,null,null,null,null,null,"limit LF",{"$f":"IF(AND(H27>=$AB$50, H27<=$AC$53), \"ano\", \"ne\")","v":"ne"},null,null,null,null,{"$f":"CenAVS!A22","v":"Závěs CLIP top pro alurámečky"},{"$f":"CenAVS!B22","v":"72T550A.TL"},{"$f":"CenAVS!C22","v":"NI"},null,{"$f":"CenAVS!F22","v":77.180000000000007},0,null,0,null,0]
[null,{"$f":"ListAVS!$B$86&\" LF \"","v":"Ukazatel výkonnosti LF "},null,null,null,null,null,{"$f":"IF(H23>0, H22*H23, H22*H26)","v":0},{"$f":"IF(OR($T25=\"ne\", $H28=0), \" \", IF(AND(H27>0, H27<$AB$50), $T$44, IF($H27>$AC$53,$N$44,IF(AND($H27>$AC$51, $H$16<=$AC$52),$N$45, IF($H$16>$AC$52, $Q$45, \" \"))))&IF(OR(H27>$AC$53, $M28=0),\" \",IF(AND($S20=2,$H27>$AC$51),$U$45,\"  \")))","v":" "},null,null,null,null,null,"výška korpusu",{"$f":"IF(F22>0,IF(F22>=H22,F22,0),H22)","v":0},null,null,null,null,null,null,null,null,{"$f":"CenAVS!A23","v":"Střed. závěs CLIP top pro alurámečky"},{"$f":"CenAVS!B23","v":"78Z550AT"},{"$f":"CenAVS!C23","v":"NI"},null,{"$f":"CenAVS!F23","v":101.63},0,null,{"$f":"$AC27*AE27","v":0},null,0]
[null,{"$f":"ListAVS!$B$71&\" \"","v":"Počet skříněk "},null,null,null,null,null,null,null,null,null,null,{"$f":"IF($H21*$P27=0,0,IF(SUM($H23,$H26)=0,0,IF($P27>$AC$59,0,IF(P27<$AB$56,0,IF(OR(T25=\"ne\", T26=\"ne\"),0,$H28)))))","v":0},"← Hlavní údaj",null,null,null,null,"hmot =",{"$f":"IF(H23>0,H23,H26)","v":0},{"$f":"IF(SUM(H23,H26)=0,0,IF(H23>0,1,2))","v":0},"zadaná / vypočtená",null,null,{"$f":"CenAVS!A24","v":"Adaptér CLIP k teleskopům P"},{"$f":"CenAVS!B24","v":"175H5B00   R"},{"$f":"CenAVS!C24","v":"NI"},null,{"$f":"CenAVS!F24","v":90.34},0,null,0,null,{"$f":"$AC28*AG28","v":0}]
[null,{"$f":"IF(H28>0,IF(U28=0,\" \",IF(U28=1,$N$53,$N$54)),\" \")&IF(H28>0,IF(U28=0,\" \",IF(U28=1,$N$55,$N$56)),\" \")","v":"  "},null,null,null,null,null,null,null,null,null,null,null,null,null,null,null,null,null,null,null,null,null,null,{"$f":"CenAVS!A25","v":"Adaptér CLIP k teleskopům L"},{"$f":"CenAVS!B25","v":"175H5B00   L"},{"$f":"CenAVS!C25","v":"NI"},null,{"$f":"CenAVS!F25","v":90.34},0,null,0,null,0]
[null,{"$f":"IF(F22=0,\" \",IF(F22>1200,\"TKH = max. 1200!\",IF(F22<480,\"TKH = min. 480!\",IF(F22<H22,$N$59,IF(H28>0,IF(F22=0,\" \",IF(AND(F22>0,M28=1), $N$58,\" \")),\" \")))))","v":" "},null,null,null,null,null,null,null,null,null,null,null,null,null,null,null,null,null,null,null,null,null,null,{"$f":"CenAVS!A26","v":"Adaptér CLIP ke středovým závěsům"},{"$f":"CenAVS!B26","v":"175H5A00"},{"$f":"CenAVS!C26","v":"NI"},null,{"$f":"CenAVS!F26","v":90.34},0,null,0,null,0]
[null,{"$f":"IF(OR(AND($S$9=2, $M$17>0), AND($S$20=2, $M$28>0)), ListAVS!$B$175, \" \")","v":" "},null,null,null,null,null,null,null,null,null,null,null,null,null,null,null,null,{"$f":"IF($T$31=FALSE,2,1)","v":1},true,null," - Zdroj"]
[]
[null,null,null,null,null,null,null,null,null,null,null,null,null,null,null,null,null,null,null,null,null,null,null,null,{"$f":"CenAVS!A27","v":0},{"$f":"CenAVS!B27","v":0},{"$f":"CenAVS!C27","v":0},null,{"$f":"CenAVS!F27","v":0},0,null,0,null,0]
[null,null,null,null,null,null,null,null,null,null,null,null,null,null,null,null,null,null,null,null,null,null,null,null,null,null,null,null,null,0,null,0,null,0]
[null,null,{"$f":"IF(OR(AND($H16>$AB$52, $H$16<$AC$53, $M17=1), AND($H27>$AB$52, $H$27<$AC$53, $M$28=1)), $S$46,\" \")","v":" "},null,null,null,null,null,null,null,null,null,null,{"$f":"ListAVS!B176","v":"Cena bez napájecího zdroje!"},null,null,null,null,null,null,null,null,null,null,null,null,null,null,null,0,null,0,null,0]
[null,null,null,null,null,null,null,null,null,null,null,null,null,null,null,null,null,null,null,null,null,null,null,null,{"$f":"CenAVS!A162","v":"CLIP top montážní podložka, excentr, 0 mm"},{"$f":"CenAVS!B162","v":"173H7100 "},{"$f":"CenAVS!C162","v":"NI"},null,{"$f":"CenAVS!F162","v":17.84},0,null,0,null,0]
[null,null,{"$f":"\"*  \"&ListAVS!$B$183","v":"*  Pouze pro asymetrická čela: zadejte teoretickou výšku TKH."},null,null,null,null,null,null,null,null,null,null,{"$f":"\" \"&ListAVS!$B$115","v":" Zadejte hmotnost nebo vyplňte všechny buňky"},null,null,null,null,null,null,null,null,null,null,{"$f":"CenAVS!A163","v":"CLIP top mont. podložka, excentr, EXPANDO, 0 mm"},{"$f":"CenAVS!B163","v":"174H7100E "},{"$f":"CenAVS!C163","v":"NI"},null,{"$f":"CenAVS!F163","v":19.39},0,null,0,null,0]
[null,null,{"$f":"\" ( \"&ListAVS!$B$184&\")\"","v":" ( TKH = dvojnásobná výška horního čela včetně mezer)"},null,null,null,null,null,null,null,null,null,null,null,null,null,null,null,null,null,null,null,null,null,null,null,null,null,null,null,null,0,null,0]
[null,null,{"$f":"\" \"&ListAVS!$B$327&\" '\"&ListAVS!$B$194&\"' \"","v":" Pro výpočet TKH použijte 'Výpočet asymetrických čel' "},null,null,null,null,null,null,null,null,null,null,{"$f":"\" \"&ListAVS!$B$117","v":" Vyplňte nahoře objemovou hmotnost "}]
[]
[null,null,{"$f":"\"** \"&ListAVS!$B$186","v":"** Pokud znáte hmotnost a nechcete využít výpočtu hmotnosti"},null,null,null,null,null,null,null,null,null,null,{"$f":"\"◄ \"&ListAVS!$B$111","v":"◄ hodnota bude použita pro výpočet LF"}]
[null,null,null,null,null,null,null,null,null,null,null,null,null,{"$f":"\" * \"&ListAVS!$B$127","v":" * Doplňte hodnoty"},null,null,null,null,null,null,null,null,null,null,{"$f":"CenAVS!A166","v":"CLIP top přímá mont. podložka, ocel, 0 mm"},{"$f":"CenAVS!B166","v":"175H3100"},{"$f":"CenAVS!C166","v":"NI"},{"$f":"SUM(AE42,AG42)","v":0},{"$f":"CenAVS!F166","v":16.98},0,{"$f":"IF($R$48=2,SUM($V$10*2, $Q$10*2, $Q$11*2, $Q$12*2)*$M$17,0)","v":0},{"$f":"$AC42*AE42","v":0},{"$f":"IF($R$48=2,SUM($V$21*2, $Q$21*2, $Q$22*2, $Q$23*2)*$M$28,0)","v":0},{"$f":"$AC42*AG42","v":0}]
[null,null,null,null,null,null,null,null,null,null,null,null,null,null,null,null,null,null,null,null,null,null,null,null,{"$f":"CenAVS!A167","v":"CLIP top přímá mont. podložka, ocel, EXP, 0 mm"},{"$f":"CenAVS!B167","v":"177H3100E "},{"$f":"CenAVS!C167","v":"NI"},{"$f":"SUM(AE43,AG43)","v":0},{"$f":"CenAVS!F167","v":17.07},0,{"$f":"IF($R$48=1,SUM($V$10*2, $Q$10*2, $Q$11*2, $Q$12*2)*$M$17,0)","v":0},{"$f":"$AC43*AE45","v":0},{"$f":"IF($R$48=1,SUM($V$21*2, $Q$21*2, $Q$22*2, $Q$23*2)*$M$28,0)","v":0},{"$f":"$AC43*AG43","v":0}]
[null,null,null,null,null,null,null,null,null,null,null,null,null,{"$f":"\" max. \"&$AC$53&\"! \"&ListAVS!$B$121","v":" max. 38600! Upravte hmotnost nebo výšku"},null,null,null,null,null,{"$f":"\" min. \"&$AB$50&\"! \"&ListAVS!$B$121","v":" min. 2700! Upravte hmotnost nebo výšku"},null,null,null,null,{"$f":"CenAVS!A169","v":0},{"$f":"CenAVS!B169","v":0},{"$f":"CenAVS!C169","v":0},null,{"$f":"CenAVS!F169","v":0},0,null,{"$f":"$AC44*AE44","v":0},null,{"$f":"$AC44*AG44","v":0}]
[null,null,null,null,null,null,null,null,null,null,null,null,null,{"$f":"\" \"&ListAVS!$B$119&\"!\"","v":" Přídavný třetí zdvihač!"},null,null,{"$f":"\" \"&ListAVS!$B$120&\"!\"","v":" Dva páry zdvihačů!"},null,null,null,{"$f":"\" \"&ListAVS!$B$125&\"!\"","v":" Druhá pohonná jednotka!"},null,null,null,{"$f":"CenAVS!A171","v":"SERVO-DRIVE jednotka (sada)"},{"$f":"CenAVS!B171","v":"23.A000"},{"$f":"CenAVS!C171","v":"R7037"},{"$f":"SUM(AE45,AG45)","v":0},{"$f":"CenAVS!F171","v":8297.32},0,{"$f":"IF($S$9=1, 0, $M$17)+IF(AND($S$9=2, $H$16>$AB$52), $M$17, 0)","v":0},{"$f":"$AC45*AE45","v":0},{"$f":"IF($S$20=1, 0, $M$28)+IF(AND($S$20=2, $H$27>$AB$52), $M$28, 0)","v":0},{"$f":"$AC45*AG45","v":0}]
[null,null,null,null,null,null,null,null,null,null,null,null,null,{"$f":"\" \"&ListAVS!$B$234&\"!\"","v":" Nutná mezistěna!"},null,null,null,null,{"$f":"\" \"&ListAVS!$B$235&\"!\"","v":" Pro třetí přídavný zdvihač je nutná mezistěna, pro dva páry zdvihačů je nutná dvojitá mezistěna!"}]
[null,null,null,null,null,null,null,null,null,null,null,null,null,null,null,null,null,null,null,null,null,null,null,null,null,null,null,null,{"$f":"ListAVS!$B$61&\" \"","v":"Cena celkem bez DPH "},{"$f":"SUM(AD9:AD45)","v":0},null,{"$f":"SUM(AF9:AF46)","v":0},null,{"$f":"SUM(AH9:AH46)","v":0}]
[null,null,null,null,null,null,null,null,null,null,null,null,null,{"$f":"HF!$L$33","v":1},null,{"$f":"HF!$N$33","v":1},null,{"$f":"HF!$P$33","v":1},null,{"$f":"MenuAVS!$P$28","v":1},null,null,null,null,{"$f":"HF!$R$33","v":1},{"$f":"Param!M10","v":"Parametry HF"}]
[null,null,null,null,null,null,null,null,null,null,null,null,null,"záv.",null,"střed.",null,"podl.",null,"kryt.",null,null,"pohyb:",null,"montáž:",{"$f":"Param!M11","v":"Zdvihač"},{"$f":"Param!N11","v":"ks"},{"$f":"Param!O11","v":"min"},{"$f":"Param!P11","v":"max"},{"$f":"Param!Q11","v":"alu max."}]
[null,null,null,null,null,null,null,null,null,null,null,null,null,{"$f":"ListAVS!$B$133","v":"Expando"},null,{"$f":"ListAVS!$B$133","v":"Expando"},null,{"$f":"ListAVS!$B$133","v":"Expando"},null,{"$f":"ListAVS!$B$145","v":"Světle šedá (HGR)"},null,null,"Standard",null,"vruty",{"$f":"Param!M12","v":"22F2500"},{"$f":"Param!N12","v":1},{"$f":"Param!O12","v":2700},{"$f":"Param!P12","v":11500}]
[null,null,null,null,null,null,null,null,null,null,null,null,null,{"$f":"ListAVS!$B$134","v":"na vruty"},null,{"$f":"ListAVS!$B$134","v":"na vruty"},null,{"$f":"ListAVS!$B$134","v":"na vruty"},null,{"$f":"ListAVS!$B$146","v":"Tmavě šedá (TGR)"},null,null,"SERVO-DRIVE",null,"eurošrouby",{"$f":"Param!M13","v":"22F2800"},{"$f":"Param!N13","v":1},{"$f":"Param!O13","v":11500},{"$f":"Param!P13","v":19300},{"$f":"Param!Q13","v":19300}]
[null,null,null,null,null,null,null,null,null,null,null,null,null,null,null,null,null,null,null,{"$f":"ListAVS!$B$147","v":"Hedvábně bílá (SW)"},null,null,null,null,null,{"$f":"Param!M14","v":"22F2800"},{"$f":"Param!N14","v":1.5},{"$f":"Param!O14","v":19300},{"$f":"Param!P14","v":28950},{"$f":"Param!Q14","v":0}]
[null,null,null,null,null,null,null,null,null,null,null,null,null,{"$f":"ListAVS!B187&\". \"","v":"Pro určení typu zdvihače bude použita zadaná hmotnost. "},null,null,null,null,null,null,null,null,null,null,null,{"$f":"Param!M15","v":"22F2800"},{"$f":"Param!N15","v":2},{"$f":"Param!O15","v":23000},{"$f":"Param!P15","v":38600},{"$f":"Param!Q15","v":0}]
[null,null,null,null,null,null,null,null,null,null,null,null,null,{"$f":"ListAVS!B188&\". \"","v":"Pro určení typu zdvihače bude použita vypočtená hmotnost. "}]
[null,null,null,null,null,null,null,null,null,null,null,null,null,{"$f":"ListAVS!B189","v":"Chcete-li použít vypočtenou hmotnost, smažte zadanou hodnotu"},null,null,null,null,null,null,null,null,null,null,null,{"$f":"Param!M17","v":"Teleskop"},null,{"$f":"Param!O17","v":"min"},{"$f":"Param!P17","v":"max"},{"$f":"Param!Q17","v":0}]
[null,null,null,null,null,null,null,null,null,null,null,null,null,{"$f":"ListAVS!B190","v":"Chcete-li použít zadanou hmotnost, zadejte ji do políčka"},null,null,null,null,null,null,null,null,null,null,null,{"$f":"Param!M18","v":"20F3200"},{"$f":"Param!N18","v":0},{"$f":"Param!O18","v":480},{"$f":"Param!P18","v":605},{"$f":"Param!Q18","v":0}]
[null,null,null,null,null,null,null,null,null,null,null,null,null,{"$f":"ListAVS!B191","v":0},null,null,null,null,null,null,null,null,null,null,null,{"$f":"Param!M19","v":"20F3500"},{"$f":"Param!N19","v":0},{"$f":"Param!O19","v":605},{"$f":"Param!P19","v":890},{"$f":"Param!Q19","v":0}]
[null,null,null,null,null,null,null,null,null,null,null,null,null,{"$f":"ListAVS!B192","v":"Pro výběr teleskopů bude použita teoretická výška TKH"},null,null,null,null,null,null,null,null,null,null,null,{"$f":"Param!M20","v":"20F3900"},{"$f":"Param!N20","v":0},{"$f":"Param!O20","v":890},{"$f":"Param!P20","v":1200},{"$f":"Param!Q20","v":0}]
[null,null,null,null,null,null,null,null,null,null,null,null,null,{"$f":"ListAVS!B193","v":"Teoretická výška TKH nesmí být menší než KH"},null,null,null,null,null,null,null,null,null,null,null,null,null,{"$f":"Param!O21","v":"max."},{"$f":"Param!P21","v":1200},{"$f":"Param!Q21","v":0}]
[]
[]
[]
[]
[]
[]
[]
[]
[]
[]
[null,null,null,null,null,null,null,null,null,null,null,null,null,{"$f":"ListAVS!$B$73","v":"Výpočet hmotnosti čel"}]
[null,null,null,null,null,null,null,null,null,null,null,null,null,null,{"$f":"ListAVS!$B$179&\"  \"","v":"Provedení čel  "},null,null,null,null,{"$f":"J4","v":0},{"$f":"IF($Z$78=3,IF($T$71=0,$Y$74,\" \"),IF($T$71>0,$Y$75,\" \"))","v":" "},null,null,null,{"$f":"IF($Z$78=1,$Z$79,IF($Z$78=2,$Z$80,$Z$81&\" \"&$Y$81&\"kg/m3\"))&\" A~\"&$T$79&\"/ B~\"&$T$88&\"mm\"","v":"MDF (760 kg/m3) A~0/ B~0mm"}]
[null,null,null,null,null,null,null,null,null,null,null,null,null,null,null,{"$f":"IF($Z$78<>3,$Y$73,\" \")&\"      \"","v":" Změnit hodnoty můžete v Úvodu plánování      "}]
[null,null,null,null,null,null,null,null,null,null,null,null,null,null,null,null,null,null,null,null,null,null,null,null,{"$f":"\" \"&ListAVS!$B$410","v":" Změnit hodnoty můžete v Úvodu plánování"}]
[null,null,null,null,null,null,null,null,null,null,null,null,null,null,null,null,null,null,null,null,null,null,null,null,{"$f":"\" \"&ListAVS!$B$244&\" [kg/m3]\"","v":" Zadejte objemovou hmotnost  [kg/m3]"}]
[null,null,null,null,null,null,null,null,null,null,null,null,null,null,null,null,null,null,null,null,null,null,null,null,{"$f":"\" \"&ListAVS!$B$240&\" '\"&ListAVS!$B$92&\"'\"","v":" Hodnota platí jen pro volbu 'Jiné - volitelná hustota'"}]
[null,null,null,null,null,null,null,null,null,null,null,null,null,null,null,null,null,{"$f":"F9","v":"Korpus A"}]
[null,null,null,null,null,null,null,null,null,null,null,null,null,{"$f":"ListAVS!$B$74&\" KB [mm] \"","v":"Šířka korpusu KB [mm] "},null,null,null,null,null,{"$f":"H10","v":0},null,null,null,null,{"$f":"T77*T78*T79","v":0}]
[null,null,null,null,null,null,null,null,null,null,null,null,null,{"$f":"ListAVS!$B$75&\" KH [mm] \"","v":"Výška korpusu KH [mm] "},null,null,null,null,null,{"$f":"H11","v":0},null,null,null,null,{"$f":"Y77/1000000000","v":0},1]
[null,null,null,null,null,null,null,null,null,null,null,null,null,{"$f":"ListAVS!$B$80&\" TS [mm] \"","v":"Síla čela TS [mm] "},null,null,null,null,null,{"$f":"H13","v":0},{"$f":"IF(SUM(T77,T78)=0,\" \",IF(T79=0,\" ● \"&ListAVS!$B$128,\" \"))","v":" "},null,null,null,{"$f":"MenuAVS!$C$31","v":760},{"$f":"ListAVS!$B$90&\" (\"&Y79&\" kg/m3)\"","v":"MDF (760 kg/m3)"}]
[null,null,null,null,null,null,null,null,null,null,null,null,null,{"$f":"ListAVS!$B$83&\" [kg] \"","v":"Hmotnost úchytky [kg] "},null,null,null,null,null,{"$f":"H14","v":0},{"$f":"IF(SUM(T77,T78)=0,\" \",IF(T80=0,\" ● \"&ListAVS!$B$129,\" \"))","v":" "},null,null,null,{"$f":"MenuAVS!$C$32","v":680},{"$f":"ListAVS!$B$91&\" (\"&Y80&\" kg/m3)\"","v":"Dřevotříska (680 kg/m3)"}]
[null,null,null,null,null,null,null,null,null,null,null,null,null,{"$f":"ListAVS!$B$79&\" [kg] \"","v":"Vypočtená hmotnost čela [kg] "},null,null,null,null,null,{"$f":"IF(X81=0,0,X81+T80)","v":0},null,null,null,{"$f":"IF(T77*T78*T79=0,0,IF(Z78=1,Y78*Y79,IF(Z78=2,Y78*Y80,Y78*Y81)))","v":0},{"$f":"$T$71","v":0},{"$f":"ListAVS!$B$92","v":"Jiné - volitelná hustota"}]
[null,null,null,null,null,null,null,null,null,null,null,null,null,null,{"$f":"IF(T81>0,IF(T80=0,$Y$95,\" \"),\" \")","v":" "}]
[]
[]
[null,null,null,null,null,null,null,null,null,null,null,null,null,null,null,null,null,{"$f":"D20","v":" "}]
[null,null,null,null,null,null,null,null,null,null,null,null,null,{"$f":"ListAVS!$B$74&\" KB [mm] \"","v":"Šířka korpusu KB [mm] "},null,null,null,null,null,{"$f":"H21","v":0},null,null,null,null,{"$f":"T86*T87*T88","v":0}]
[null,null,null,null,null,null,null,null,null,null,null,null,null,{"$f":"ListAVS!$B$75&\" KH [mm] \"","v":"Výška korpusu KH [mm] "},null,null,null,null,null,{"$f":"H22","v":0},null,null,null,null,{"$f":"Y86/1000000000","v":0},{"$f":"Z78","v":1}]
[null,null,null,null,null,null,null,null,null,null,null,null,null,{"$f":"ListAVS!$B$80&\" TS [mm] \"","v":"Síla čela TS [mm] "},null,null,null,null,null,{"$f":"H24","v":0},{"$f":"IF(SUM(T86,T87)=0,\" \",IF(T88=0,\" ● \"&ListAVS!$B$128,\" \"))","v":" "},null,null,null,{"$f":"$Y$79","v":760},{"$f":"$Z$79","v":"MDF (760 kg/m3)"}]
[null,null,null,null,null,null,null,null,null,null,null,null,null,{"$f":"ListAVS!$B$83&\" [kg] \"","v":"Hmotnost úchytky [kg] "},null,null,null,null,null,{"$f":"H25","v":0},{"$f":"IF(SUM(T86,T87)=0,\" \",IF(T89=0,\" ● \"&ListAVS!$B$129,\" \"))","v":" "},null,null,null,{"$f":"$Y$80","v":680},{"$f":"$Z$80","v":"Dřevotříska (680 kg/m3)"}]
[null,null,null,null,null,null,null,null,null,null,null,null,null,{"$f":"ListAVS!$B$79&\" [kg] \"","v":"Vypočtená hmotnost čela [kg] "},null,null,null,null,null,{"$f":"IF(X90=0,0,X90+T89)","v":0},null,null,null,{"$f":"IF(T86*T87*T88=0,0,IF(Z87=1,Y87*Y88,IF(Z87=2,Y87*Y89,Y87*Y90)))","v":0},{"$f":"$Y$81","v":0},{"$f":"$Z$81","v":"Jiné - volitelná hustota"}]
[null,null,null,null,null,null,null,null,null,null,null,null,null,null,{"$f":"IF(T90>0,IF(T89=0,$Y$95,\" \"),\" \")","v":" "}]
[]
[]
[]
[null,null,null,null,null,null,null,null,null,null,null,null,null,null,null,null,null,null,null,null,null,null,null,null,{"$f":"ListAVS!$B$102&\"!\"","v":"Není započtena hmotnost úchytky!"}]
[]
[]
[]
[]
[null,{"$f":"ListAVS!$B$194","v":"Výpočet asymetrických čel"}]
[]
[null,{"$f":"\"   \"&ListAVS!$B$197","v":"   Parametry korpusu"}]
[null,{"$f":"ListAVS!$B$75&\" KH [mm] \"","v":"Výška korpusu KH [mm] "},null,null,null,null,null,null,null,null,{"$f":"IF(I103<480, \" min. 480\", IF(I103>1200, \" max. 1200\", \" \"))","v":" min. 480"},null,null," <=519"," >=520"]
[null,{"$f":"ListAVS!$B$200&\" F1 [mm] \"","v":"Mezera nahoře F1 [mm] "}]
[null,{"$f":"ListAVS!$B$201&\" F2 [mm] \"","v":"Mezera mezi čely F2 [mm] "},null,null,null,null,null,null,null,null,{"$f":"IF($I$103=0,\" \",IF($I$105<1.5,\" min. 1,5 mm!\",\" \"))","v":" "}]
[null,{"$f":"ListAVS!$B$202&\" F3 [mm] \"","v":"Mezera dole F3 [mm] "},null,null,null,null,null,null,null,null,null,null,"Z",170,189]
[null,{"$f":"ListAVS!$B$203&\" [mm] \"","v":"Síla dna korpusu [mm] "},null,null,null,null,null,null,null,null,null,null,"H",93,116]
[]
[null,{"$f":"\"   \"&ListAVS!$B$205","v":"   Výsledky plánování"},null,null,null,null,null,null,null,null,null,null,null,"FHo","FHo"]
[null,null,null,null,null,null,{"$f":"ListAVS!$B$206&\" [mm] \"","v":"Možné výšky čel [mm] "},null,null,null,null,null,null,"min ↓↓","min ↓↓"]
[null,{"$f":"ListAVS!$B$207","v":"Čelo nahoře (FHo) v rozmezí"},null,null,null,null,"min.",{"$f":"IF(AND($I$103>=480, $I$103<=519), $N$111, IF(AND($I$103>=520, $I$103<=1200), $O$111, $S$115))","v":"nelze"},"max.",{"$f":"IF(AND($I$103>=480, $I$103<=519), $N$115, IF(AND($I$103>=520, $I$103<=1200), $O$115, $S$115))","v":"nelze"},null,null,null,{"$f":"SUM(I103, -I104, -I105, -I106, -N120)","v":0},{"$f":"SUM(I103, -I104, -I105, -I106, -O120)","v":0}]
[null,{"$f":"ListAVS!$B$208","v":"Čelo dole (FHu) v rozmezí"},null,null,null,null,"min.",{"$f":"IF(AND($I$103>=480, $I$103<=519), $N$118, IF(AND($I$103>=520, $I$103<=1200), $O$118, $S$115))","v":"nelze"},"max.",{"$f":"IF(AND($I$103>=480, $I$103<=519), $N$120, IF(AND($I$103>=520, $I$103<=1200), $O$120, $S$115))","v":"nelze"},null,null,null,"max ↓↓","max ↓↓"]
[null,null,null,null,null,null,null,null,null,null,null,null,null,{"$f":"ROUNDUP(SUM(519, -$I$104, -$I$105, -$I$106)/2, 0)","v":260},{"$f":"ROUNDUP(SUM(1200, -$I$104, -$I$105, -$I$106)/2, 0)","v":600},"absolutně"]
[null,{"$f":"ListAVS!$B$214&\" FHo [mm] \"","v":"Výška čela nahoře FHo [mm] "},null,null,null,null,null,null,null,null,{"$f":"IF($I$103=0,\" \",IF($I$114>$J$111,V114,IF($I$114<$H$111,$S$114,\" \")))","v":" "},null,null,{"$f":"SUM(I103, -I104, -I105, -I106, -N118)","v":-219},{"$f":"SUM(I103, -I104, -I105, -I106, -O118)","v":-238},"vypočtená",null,null,{"$f":"\" min. \"&TEXT($H$111,\"#\")&\" mm!\"","v":" min. nelze mm!"},null,null,{"$f":"\" max. \"&TEXT($J$111,\"#\")&\" mm!\"","v":" max. nelze mm!"}]
[null,{"$f":"ListAVS!$B$215&\" FHu [mm] \"","v":"Výška čela dole FHu [mm] "},null,null,null,null,null,null,{"$f":"IF($I$114<$H$111,$S$115,IF($I$114>$J$111,$S$115,+$I$103-$I$104-$I$105-$I$106-$I$114))","v":"nelze"},null,null,null,null,{"$f":"IF($N$114>$N$113, $N$113, $N$114)","v":-219},{"$f":"IF($O$114>$O$113, $O$113, $O$114)","v":-238},"výsledná",null,null,{"$f":"ListAVS!B211","v":"nelze"}]
[null,{"$f":"ListAVS!$B$216&\" H [mm] \"","v":"Pozice zdvihače H [mm] "},null,null,null,null,null,null,{"$f":"IF(AND($I$103>=480, $I$103<520), $N$107, IF(AND($I$103>=520, $I$103<=1200), $O$107, $S$115))","v":"nelze"},null,null,null,null,"FHu","FHu"]
[null,{"$f":"ListAVS!$B$217&\" Z [mm] \"","v":"Pozice mont. podložky pro teleskopy Z [mm] "},null,null,null,null,null,null,{"$f":"IF(AND($I$103>=480, $I$103<520), $N$106, IF(AND($I$103>=520, $I$103<=1200), $O$106, $S$115))","v":"nelze"},null,null,null,null,"min ↓↓","min ↓↓"]
[null,{"$f":"ListAVS!$B$218&\" TKH [mm] * \"","v":"Teoretická výška korpusu TKH [mm] * "},null,null,null,null,null,null,{"$f":"IF($I$115=$S$115, $S$115, IF($Q$118>=480, IF($Q$118<=1202, $Q$118, $S$115),\" \"))","v":"nelze"},null,null,null,null,{"$f":"SUM(N106, 32, 17, $I$107, -$I$106)","v":219},{"$f":"SUM(O106, 32, 17, $I$107, -$I$106)","v":238},"TKH",{"$f":"ROUND(SUM($I$114*2+$I$104+$I$105+$I$106), -1)","v":0}]
[null,null,null,null,null,null,null,null,null,null,null,null,null,"max ↓↓","max ↓↓"]
[null," *",{"$f":"ListAVS!$B$220","v":"Tuto výšku zadejte do tabulky pro plánování výklopů"},null,null,null,null,null,null,null,null,null,null,{"$f":"ROUNDDOWN(SUM(I103, -I104, -I105, -I106)/2, 0)","v":0},{"$f":"ROUNDDOWN(SUM(I103, -I104, -I105, -I106)/2, 0)","v":0}]
[]
[]
[]
[]
[null,null,null,null,null,null,null,null,{"$f":"ListAVS!$B$167","v":"Zpět"}]
[]
[]
[]
[]
[]
[]
[]
[]
[]
[]
[]
[]
[]
[]
[null,"      AVENTOS HF"]
[]
[null,"V případě dřevěných čel můžete naplánovat korpusy širší než 1800 mm. Pokud je kvůli nosnosti nutný třetí zdvihač, musí se přidat mezistěna. "]
[null,"V případě dvou párů zdvihačů jsou nutné dvě mezistěny nebo jedna zdvojená mezistěna. "]
[]
[null,{"$f":"ListAVS!$B$302","v":"Potřebný zdvihač se určí pomocí ukazatele výkonnosti."}]
[null,{"$f":"ListAVS!$B$303","v":"Ukazatel výkonnosti závisí na hmotnosti dolního i horního čílka, a rovněž na výšce korpusu."}]
[]
[]
[null,null,null,{"$f":"ListAVS!$B$86&\" = \"","v":"Ukazatel výkonnosti = "},{"$f":"ListAVS!$B$319&\" [kg]\"","v":"výška korpusu KH [mm] x hmotnost obou čel včetně úchytky [kg]"}]
[]
[null,{"$f":"ListAVS!$B$307","v":"Je-li ukazatel výkonnosti větší než 19300, přidá se třetí zdvihač."}]
[null,{"$f":"ListAVS!$B$308","v":"Je-li ukazatel výkonnosti větší než 28950, přidá se druhý pár zdvihačů."}]
[null,{"$f":"ListAVS!$B$309","v":"Pokud je zvolen SERVO-DRIVE, přidá se rovněž druhá pohonná jednotka."}]
[null,{"$f":"ListAVS!$B$181","v":"Přídavný třetí zdvihač může být použit pouze s plným spodním čelem!"}]
[]
[null,{"$f":"ListAVS!$B$311","v":"Pokud znáte hmotnost čela, můžete ji zadat, jinak použijte \"Výpočet hmotnosti\"."}]
[null,{"$f":"ListAVS!$B$312","v":"V tabulce má přednost zadaná hodnota. Chcete-li použít vypočtenou hmotnost, smažte zadanou hodnotu."}]
[]
[null,{"$f":"ListAVS!$B$322&\". \"&ListAVS!$B$323&\".\"","v":"Délka teleskopů závisí na výšce korpusu KH. U asymetrických čel se použije teoretická výška TKH."}]
[]
[null,{"$f":"\" \"&ListAVS!$B$162&\":\"","v":" Asymetrická čela:"}]
[null,{"$f":"\" \"&ListAVS!$B$320","v":" Teoretická výška korpusu (TKH) = výška horního čela (FHo) x 2 (včetně mezer)"}]
[]
[null,{"$f":"ListAVS!$B$315","v":"U asymetrických čel musí být větší čelo nahoře!"}]
[]
[null,{"$f":"ListAVS!$B$325","v":"Pokud zadáte hodnotu TKH, použije se pro určení délky teleskopů"}]
[null,{"$f":"ListAVS!$B$326","v":"Nemáte-li asymetrická čela, nechte políčko prázdné."}]
[null,{"$f":"ListAVS!$B$327&\" ' \"&ListAVS!$B$194&\"' \"","v":"Pro výpočet TKH použijte ' Výpočet asymetrických čel' "}]
[]
[]
[null,{"$f":"ListAVS!$B$305","v":"Chcete-li změnit barvu krytek, přejděte na \"Úvod plánování\""}]
[]
[]
[]
[]
[]
[]
[]
[null,null,null,null,null,null,null,null,null,null,null,{"$f":"ListAVS!$B$167","v":"Zpět"}]

{"sheet":"HFwa","index":10,"n_rows":177,"n_cols":43,"rows_kept":177,"cut":false,"hidden":false,"merged":[[7,39,7,40],[6,1,6,2],[6,6,6,7],[0,55,0,63],[1,1,1,2],[4,4,4,9],[8,39,8,40],[15,1,15,6],[16,1,16,6],[19,1,19,2],[19,5,19,7],[19,19,19,20],[9,39,9,40],[8,19,8,20],[9,1,9,6],[8,1,8,2],[8,5,8,7],[11,39,12,42],[13,39,14,42],[30,19,30,20],[10,1,10,3],[11,1,11,6],[20,1,20,6],[21,1,21,3],[22,1,22,6],[12,1,14,2],[12,3,12,6],[13,3,13,6],[14,3,14,6],[23,1,25,2],[23,3,23,6],[24,3,24,6],[25,3,25,6],[27,1,27,6],[30,1,32,9],[77,13,77,18],[86,13,86,18],[75,13,75,16],[75,17,75,19],[76,13,76,18],[104,8,104,9],[87,13,87,18],[78,13,78,18],[79,13,79,18],[80,13,80,18],[84,17,84,19],[88,13,88,18],[89,13,89,18],[85,13,85,18],[102,13,104,13],[102,14,104,14],[105,1,105,7],[105,8,105,9],[106,1,106,7],[106,8,106,9],[109,1,109,5],[109,6,109,9],[108,1,108,9],[110,1,110,5],[111,1,111,5],[113,1,113,7],[113,8,113,9],[114,1,114,7],[114,8,114,9],[124,8,124,9],[138,0,178,0],[145,4,145,11],[115,1,115,7],[115,8,115,9],[116,1,116,7],[116,8,116,9],[117,1,117,7],[117,8,117,9],[99,0,137,0],[101,1,101,9],[102,1,102,7],[102,8,102,9],[103,1,103,7],[103,8,103,9],[104,1,104,7]]}
[]
[null," AVENTOS HF top",null,null,null,null,null,null,null,null,null,null,null,null,"rámeček",null,null,null,3,null,null,null,null,null,null,null,null,null,null,null,null,null,null,null,null,null,null,{"$f":"ListAVS!$B$152","v":"Jdi na"}]
[]
[null,{"$f":"ListAVS!$B$19&\" ***\"","v":"Široké alurámečky ***"},null,null,null,{"$f":"ListAVS!$B$179&\"  \"","v":"Provedení čel  "},null,null,null,null,{"$f":"U71","v":" "},null,null,null,1,null,null,null,{"$f":"\" \"&ListAVS!$B$41&\" A \"","v":" Cena za korpus A "},null,null,null,null,"výpočet",null,null,null,null,null,null,null,null,null,null,null,null,null,{"$f":"\" \"&ListAVS!$B$153","v":" Úvod plánování"}]
[null,null,null,null,{"$f":"IF($AF$77<>3,$Y$76,\" \")&\"      \"","v":" Změnit hodnoty můžete v Úvodu plánování      "},null,null,null,null,null,null,null,null,null,"A = 1",null,null,null,{"$f":"\" \"&ListAVS!$B$41&\" B \"","v":" Cena za korpus B "},null,null,null,null,null,null,null,null,null,null,null,null,null,null,null,null,null,null,{"$f":"\" \"&ListAVS!$B$154","v":" Nápověda"}]
[null,null,null,null,null,null,null,null,null,null,null,null,null,null,"B = 2",null,null,null,{"$f":"\" \"&ListAVS!$B$61","v":" Cena celkem bez DPH"}]
[null,{"$f":"ListAVS!$B$51&\":   \"","v":"Cena kování:   "},null,null,null,null,{"$f":"IF(S2=1,$AF$47,IF($S$2=2,$AH$47,IF($S$2=3,$AD$47,0)))","v":0},null,null,null,null,null,null,null,null,null,null,null,null,null,null,null,null,null,{"$f":"$B$2","v":" AVENTOS HF top"},null,null,null,null,null,null,null,null,null,null,null,null,{"$f":"\" \"&ListAVS!$B$159","v":" Doplňky"}]
[null,null,null,null,null,null,null,{"$f":"IF(AND(OR($S$9=2, $S$20=2), $AD$47>0), $N$35, \" \")","v":" "},null,null,null,null,null,null,null,null,null,null,null,null,null,null,null,null,{"$f":"ListAVS!B52","v":"Název"},{"$f":"ListAVS!$B$53","v":"Číslo artiklu"},{"$f":"ListAVS!B54","v":"Barva"},{"$f":"ListAVS!B56","v":"Ks"},{"$f":"ListAVS!B58","v":"Jednotková cena"},{"$f":"ListAVS!B59","v":"Celkem"},"A","Cena","B","Cena",null,null,null,null,null,{"$f":"\"  \"&ListAVS!$B$86&\" LF \"","v":"  Ukazatel výkonnosti LF "},null,"Zdvihací mechanizmus vruty","Zdvihací mechanizmus šrouby"]
[null,{"$f":"\"▼ \"&ListAVS!$B$317","v":"▼ Způsob otvírání"},null,{"$f":"IF($M$17>0, ListAVS!$B$37&\": \", \" \")","v":" "},{"$f":"IF(SUM($AE$9:$AE$10)>0,25,IF(SUM($AE$11:$AE$12)>0,28,\" \"))","v":" "},{"$f":"ListAVS!$B$64&\" A\"","v":"Korpus A"},null,null,null,null,null,null,null,"zdvih A",null,"teleskop",null,null,1,false,null," - SRVDRV",null,null,{"$f":"CenAVS!A11","v":"Sada zdvihačů HF top, na vruty"},{"$f":"CenAVS!B11","v":"22F2500"},{"$f":"CenAVS!C11","v":"ZN"},{"$f":"SUM(AE9,AG9)","v":0},{"$f":"CenAVS!F11","v":1651.93},{"$f":"AB9*AC9","v":0},{"$f":"IF($Y$48=1,ROUNDUP($M$17*$O$11,0),0)","v":0},{"$f":"$AC9*AE9","v":0},{"$f":"IF($Y$48=1,ROUNDUP($M$28*$O$22,0),0)","v":0},{"$f":"$AC9*AG9","v":0},null,null,null,{"$f":"\" \"&ListAVS!$B$156","v":" Přehled korpusů"},null,"    2700 - 13500",null,"22F2500","22F2510"]
[null,{"$f":"ListAVS!$B$74&\" KB [mm] \"","v":"Šířka korpusu KB [mm] "},null,null,null,null,null,null,{"$f":"IF(H10=0,\" \",IF($H10<220,\" min. 220mm\", IF($H10>1800, \" max. 1800mm\", \" \")))&IF(H17>0,IF(H10=0,\"● \"&ListAVS!$B$128,\" \"),\" \")","v":"  "},null,null,null,null,null,null,"F32",{"$f":"IF(AND($P$16>=$AB$54,$P$16<=$AC$54),SUM($O$11:$O$12),0)","v":0},null,null,"Závěs A",null,"Závěs As",null,null,{"$f":"CenAVS!A12","v":"Sada zdvihačů HF top, předmont. eurošrouby"},{"$f":"CenAVS!B12","v":"22F2510"},{"$f":"CenAVS!C12","v":"ZN"},0,{"$f":"CenAVS!F12","v":1651.93},{"$f":"AB10*AC10","v":0},{"$f":"IF($Y$48=2,ROUNDUP($M$17*$O$11,0),0)","v":0},0,{"$f":"IF($Y$48=2,ROUNDUP($M$28*$O$22,0),0)","v":0},0,null,null,null,{"$f":"\" \"&ListAVS!$B$157","v":" Objednávka"},null,"  10000 - 19300",null,"22F2800","22F2810"]
[null,{"$f":"ListAVS!$B$75&\" [mm]\"","v":"Výška korpusu [mm]"},null,null,"TKH * ",null,"KH ",null,{"$f":"IF(H11=0,\" \",IF($H11<480,\" min. 480mm\",IF($H11>1200,\" max. 1 200mm\",\" \")))&IF(H17>0,IF(H11=0,\"● \"&ListAVS!$B$128,\" \"),\" \")","v":"  "},null,null,null,null,"F25",{"$f":"IF($H16<$AB$50,0,IF($H16<=$AC$50,1,0))","v":0},"F35",{"$f":"IF(AND($P$16>=$AB$55,$P$16<=$AC$55),SUM($O$11:$O$12),0)","v":0},null,null,"T558E",{"$f":"IF($N$48=1, IF(OR($H$10>=1200, $T$17>=12), 3, 2))+IF($N$48=1,IF(OR($H$10=1800, $T$17>=20), 1, 0))","v":0},"Z553E",{"$f":"IF($P$48=1, IF(OR($H$10>=1200, $T$17>=12), 3, 2))+IF($P$48=1,IF(OR($H$10=1800, $T$17>=20), 1, 0))","v":0},null,{"$f":"CenAVS!A13","v":"Sada zdvihačů HF top, na vruty"},{"$f":"CenAVS!B13","v":"22F2800"},{"$f":"CenAVS!C13","v":"ZN"},0,{"$f":"CenAVS!F13","v":1805.55},0,{"$f":"IF($Y$48=1,ROUNDUP($M$17*$O$12,0),0)","v":0},0,{"$f":"IF($Y$48=1,ROUNDUP($M$28*$O$23,0),0)","v":0},0]
[null,{"$f":"ListAVS!$B$77&\" [kg] ** \"","v":"Hmotnost čela včetně úchytky [kg] ** "},null,null,null,null,null,null,{"$f":"IF($T14=\"ne\", \" \", IF(AND($H12=0,$H15=0, $H17>0),$N$38,\" \"))&IF(AND($H17>0, $H12>0, $M17>0),$N$41,\" \")","v":"  "},null,null,null,null,"F28",{"$f":"IF($H16<$AB$51,0,IF($H16<=$AC$51,1,0))","v":0},"F39",{"$f":"IF(AND($P$16>=$AB$56,$P$16<=$AC$56),SUM($O$11:$O$12),0)","v":0},null,null,"T5550",{"$f":"IF($N$48=2, IF(OR($H$10>=1200, $T$17>=12), 3, 2))+IF($N$48=2,IF(OR($H$10=1800, $T$17>=20), 1, 0))","v":2},"Z5500",{"$f":"IF($P$48=2, IF(OR($H$10>=1200, $T$17>=12), 3, 2))+IF($P$48=2,IF(OR($H$10=1800, $T$17>=20), 1, 0))","v":2},null,{"$f":"CenAVS!A14","v":"Sada zdvihačů HF top, předmont. eurošrouby"},{"$f":"CenAVS!B14","v":"22F2810"},{"$f":"CenAVS!C14","v":"ZN"},0,{"$f":"CenAVS!F14","v":1805.55},0,{"$f":"IF($Y$48=2,ROUNDUP($M$17*$O$12,0),0)","v":0},0,{"$f":"IF($Y$48=2,ROUNDUP($M$28*$O$23,0),0)","v":0},0,null,null,null,null,null,{"$f":"ListAVS!$B$86&\" LF = \"&ListAVS!$B$319&\" [kg]\"","v":"Ukazatel výkonnosti LF = výška korpusu KH [mm] x hmotnost obou čel včetně úchytky [kg]"}]
[null,{"$f":"ListAVS!$B$292","v":"Výpočet hmotnosti"},null,{"$f":"ListAVS!$B$80&\" TS [mm] \"","v":"Síla čela TS [mm] "},null,null,null,null,null,null,null,null,null,null,null,null,null,null,null,null,null,null,null,null,{"$f":"CenAVS!A15","v":"Sada teleskopů HF top (480–610 mm)"},{"$f":"CenAVS!B15","v":"22F3200"},{"$f":"CenAVS!C15","v":"NI"},0,{"$f":"CenAVS!F15","v":785.14},0,{"$f":"ROUNDUP($M$17*Q10,0)","v":0},0,{"$f":"ROUNDUP($M$28*Q21,0)","v":0},0]
[null,null,null,{"$f":"ListAVS!$B$83&\" [kg] \"","v":"Hmotnost úchytky [kg] "},null,null,null,null,{"$f":"IF(M17=0, \" \", IF(AND(H12=0, S9=1, H14=0), \" ● \"&ListAVS!$B$129,\" \"))","v":" "},null,null,null,null,null,null,null,null,null,"limit v/š",{"$f":"IF(AND(220<=H10, H10<=1800, 480<=P16, P16<=1200),\"ano\",\"ne\")","v":"ne"},null,null,null,null,{"$f":"CenAVS!A16","v":"Sada teleskopů HF top (600–910 mm)"},{"$f":"CenAVS!B16","v":"22F3500"},{"$f":"CenAVS!C16","v":"NI"},0,{"$f":"CenAVS!F16","v":964.4},0,{"$f":"ROUNDUP($M$17*Q11,0)","v":0},0,{"$f":"ROUNDUP($M$28*Q22,0)","v":0},0]
[null,null,null,{"$f":"ListAVS!$B$79&\" [kg] \"","v":"Vypočtená hmotnost čela [kg] "},null,null,null,{"$f":"$T$81","v":0},{"$f":"IF($M17>0,IF($H15>0,IF($H12=0,$N$41,\" \"),\" \"),\" \")&IF(AND(H17>0, H12=0, Z78=3, $J$4=0), $N$39, \" \")","v":"  "},null,null,null,null,null,null,null,null,null,"limit LF",{"$f":"IF(AND(H16>=$AB$50, H16<=$AC$51), \"ano\", \"ne\")","v":"ne"},null,null,null,null,{"$f":"CenAVS!A17","v":"Sada teleskopů HF top (840–1200 mm)"},{"$f":"CenAVS!B17","v":"22F3900"},{"$f":"CenAVS!C17","v":"NI"},0,{"$f":"CenAVS!F17","v":1143.6400000000001},0,{"$f":"ROUNDUP($M$17*Q12,0)","v":0},0,{"$f":"ROUNDUP($M$28*Q23,0)","v":0},0]
[null,{"$f":"ListAVS!$B$86&\" LF \"","v":"Ukazatel výkonnosti LF "},null,null,null,null,null,{"$f":"IF(H12>0, H11*H12, H11*H15)","v":0},{"$f":"IF(OR($T14=\"ne\", $H17=0), \" \", IF(AND(H16>0, H16<$AB$50), $T$44, IF($H16>$AC$51, $N$44, \"  \")))","v":" "},null,null,null,null,null,"výška korpusu",{"$f":"IF(F11>0,IF(F11>=H11,F11,0),H11)","v":0},null,null,null,null,null,null,null,null,{"$f":"CenAVS!A47","v":"Sada krytek HF, HS, HL top, světle šedá"},{"$f":"CenAVS!B47","v":"22.8000"},{"$f":"CenAVS!C47","v":"HGR"},{"$f":"SUM(AE16,AG16)","v":0},{"$f":"CenAVS!F47","v":252.85},0,{"$f":"IF(AND($S$9=1, $T$48=1), SUM($AE$9:$AE$12), 0)","v":0},0,{"$f":"IF(AND($S$20=1, $T$48=1), SUM($AG$9:$AG$12), 0)","v":0},0]
[null,{"$f":"ListAVS!$B$71&\" \"","v":"Počet skříněk "},null,null,null,null,null,null,null,null,null,null,{"$f":"IF($H10*$P16=0,0,IF(SUM($H12,$H15)=0,0,IF($P16>$AC$57,0,IF(P16<$AB$54,0,IF(OR(T14=\"ne\", T15=\"ne\"),0,$H17)))))","v":0},"← Hlavní údaj",null,null,null,null,"hmot =",{"$f":"IF(H12>0,H12,H15)","v":0},{"$f":"IF(SUM(H12,H15)=0,0,IF(H12>0,1,2))","v":0},"zadaná / vypočtená",null,null,{"$f":"CenAVS!A48","v":"Sada krytek HF, HS, HL top, tmavě šedá"},{"$f":"CenAVS!B48","v":"22.8000"},{"$f":"CenAVS!C48","v":"TGR"},0,{"$f":"CenAVS!F48","v":275.94},0,{"$f":"IF(AND($S$9=1, $T$48=2), SUM($AE$9:$AE$12), 0)","v":0},0,{"$f":"IF(AND($S$20=1, $T$48=2), SUM($AG$9:$AG$12), 0)","v":0},0,null,null,null,null,null,"vruty = zdvihače s integrovanou šablonou (bez nutnosti rozměřování)"]
[null,{"$f":"IF(H17>0,IF(U17=0,\" \",IF(U17=1,$N$53,$N$54)),\" \")&IF(H17>0,IF(U17=0,\" \",IF(U17=1,$N$55,$N$56)),\" \")","v":"  "},null,null,null,null,null,null,null,null,null,null,null,null,null,null,null,null,null,null,null,null,null,null,{"$f":"CenAVS!A49","v":"Sada krytek HF, HS, HL top, hedvábně bílá"},{"$f":"CenAVS!B49","v":"22.8000"},{"$f":"CenAVS!C49","v":"SW"},0,{"$f":"CenAVS!F49","v":275.94},0,{"$f":"IF(AND($S$9=1, $T$48=3), SUM($AE$9:$AE$12), 0)","v":0},0,{"$f":"IF(AND($S$20=1, $T$48=3), SUM($AG$9:$AG$12), 0)","v":0},0,null,null,null,null,null,"šrouby = zdvihače s přednotovanými šrouby (nutné předvrtání)"]
[null,{"$f":"IF(F11=0,\" \",IF(F11>1200,\"TKH = max. 1200!\",IF(F11<480,\"TKH = min. 480!\",IF(F11<H11,$N$59,IF(H17>0,IF(F11=0,\" \",IF(AND(F11>0,M17=1), $N$58,\" \")),\" \")))))","v":" "},null,null,null,null,null,null,null,null,null,null,null,null,null,null,null,null,null,null,null,null,null,null,{"$f":"CenAVS!A50","v":"Sada krytek pro SERVO-DRIVE, světle šedá"},{"$f":"CenAVS!B50","v":"23.8000"},{"$f":"CenAVS!C50","v":"HGR"},0,{"$f":"CenAVS!F50","v":2606.7600000000002},0,{"$f":"IF(AND($S$9=2, $T$48=1), $AE$45, 0)","v":0},0,{"$f":"IF(AND($S$20=2, $T$48=1), $AG$45, 0)","v":0},0,null,null,null,{"$f":"\" \"&ListAVS!$B$194","v":" Výpočet asymetrických čel"}]
[null,{"$f":"\"▼ \"&ListAVS!$B$317","v":"▼ Způsob otvírání"},null,{"$f":"IF($M$28>0, ListAVS!$B$37&\": \", \" \")","v":" "},{"$f":"IF(SUM($AG$9:$AG$10)>0,25,IF(SUM($AG$11:$AG$12)>0,28,\" \"))","v":" "},{"$f":"ListAVS!$B$64&\" B\"","v":"Korpus B"},null,null,null,null,null,null,null,"zdvih B",null,"teleskop",null,null,1,false,null," - SRVDRV",null,null,{"$f":"CenAVS!A51","v":"Sada krytek pro SERVO-DRIVE, tmavě šedá"},{"$f":"CenAVS!B51","v":"23.8000"},{"$f":"CenAVS!C51","v":"TGR"},0,{"$f":"CenAVS!F51","v":2709.29},0,{"$f":"IF(AND($S$9=2, $T$48=2), $AE$45, 0)","v":0},0,{"$f":"IF(AND($S$20=2, $T$48=2), $AG$45, 0)","v":0},0]
[null,{"$f":"ListAVS!$B$74&\" KB [mm] \"","v":"Šířka korpusu KB [mm] "},null,null,null,null,null,null,{"$f":"IF(H21=0,\" \",IF($H21<220,\" min. 220mm\",IF($H21>1800,\" max. 1 800mm\",\" \")))&IF(H28>0,IF(H21=0,\"● \"&ListAVS!$B$128,\" \"),\" \")","v":"  "},null,null,null,null,null,null,"F32",{"$f":"IF(AND($P$27>=$AB$54,$P$27<=$AC$54),SUM($O$22:$O$23),0)","v":0},null,null,"Závěs B",null,"Závěs Bs",null,null,{"$f":"CenAVS!A52","v":"Sada krytek pro SERVO-DRIVE,hedvábně bílá"},{"$f":"CenAVS!B52","v":"23.8000"},{"$f":"CenAVS!C52","v":"SW"},0,{"$f":"CenAVS!F52","v":2709.29},0,{"$f":"IF(AND($S$9=2, $T$48=3), $AE$45, 0)","v":0},0,{"$f":"IF(AND($S$20=2, $T$48=3), $AG$45, 0)","v":0},0]
[null,{"$f":"ListAVS!$B$75&\" [mm]\"","v":"Výška korpusu [mm]"},null,null,"TKH * ",null,"KH ",null,{"$f":"IF(H22=0,\" \",IF($H22<480,\" min. 480mm\",IF($H22>1200,\" max. 1 200mm\",\" \")))&IF(H28>0,IF(H22=0,\"● \"&ListAVS!$B$128,\" \"),\" \")","v":"  "},null,null,null,null,"F25",{"$f":"IF($H27<$AB$50,0,IF($H27<=$AC$50,1,0))","v":0},"F35",{"$f":"IF(AND($P$27>=$AB$55,$P$27<=$AC$55),SUM($O$22:$O$23),0)","v":0},null,null,"T558E",{"$f":"IF($N$48=1, IF(OR($H$21>=1200, $T$28>=12), 3, 2))+IF($N$48=1,IF(OR($H$21=1800, $T$28>=20), 1, 0))","v":0},"Z553E",{"$f":"IF($P$48=1, IF(OR($H$21>=1200, $T$28>=12), 3, 2))+IF($P$48=1,IF(OR($H$21=1800, $T$28>=20), 1, 0))","v":0},null,{"$f":"CenAVS!A18","v":"Závěs CLIP top 120° "},{"$f":"CenAVS!B18","v":"70T5550.TL"},{"$f":"CenAVS!C18","v":"NI"},0,{"$f":"CenAVS!F18","v":56.56},0,{"$f":"$U$12*$M$17","v":0},0,{"$f":"$U$23*$M$28","v":0},0]
[null,{"$f":"ListAVS!$B$77&\" [kg] ** \"","v":"Hmotnost čela včetně úchytky [kg] ** "},null,null,null,null,null,null,{"$f":"IF($H28=0,\" \",IF(SUM($H23,$H26)=0,$N$38,\" \"))&IF($H28>0,IF($H23>0,$N$41,\" \"),\" \")","v":"  "},null,null,null,null,"F28",{"$f":"IF($H27<$AB$51,0,IF($H27<=$AC$51,1,IF($H27>$AB$52,1.5,0)))","v":0},"F39",{"$f":"IF(AND($P$27>=$AB$56,$P$27<=$AC$56),SUM($O$22:$O$23),0)","v":0},null,null,"T5550",{"$f":"IF($N$48=2, IF(OR($H$21>=1200, $T$28>=12), 3, 2))+IF($N$48=2,IF(OR($H$21=1800, $T$28>=20), 1, 0))","v":2},"Z5500",{"$f":"IF($P$48=2, IF(OR($H$21>=1200, $T$28>=12), 3, 2))+IF($P$48=2,IF(OR($H$21=1800, $T$28>=20), 1, 0))","v":2},null,{"$f":"CenAVS!A19","v":"Závěs CLIP top 120° EXPANDO"},{"$f":"CenAVS!B19","v":"70T558E"},{"$f":"CenAVS!C19","v":"NI"},0,{"$f":"CenAVS!F19","v":53.42},0,null,0,null,0]
[null,{"$f":"ListAVS!$B$292","v":"Výpočet hmotnosti"},null,{"$f":"ListAVS!$B$80&\" TS [mm] \"","v":"Síla čela TS [mm] "},null,null,null,null,null,null,null,null,null,null,null,null,null,null,null,null,null,null,null,null,{"$f":"CenAVS!A20","v":"Středový závěs CLIP top "},{"$f":"CenAVS!B20","v":"78Z5500T"},{"$f":"CenAVS!C20","v":"NI"},0,{"$f":"CenAVS!F20","v":92.71},0,{"$f":"$M$17*$W$12","v":0},0,{"$f":"$M$28*$W$23","v":0},0]
[null,null,null,{"$f":"ListAVS!$B$83&\" [kg] \"","v":"Hmotnost úchytky [kg] "},null,null,null,null,{"$f":"IF(M28=0, \" \", IF(AND(H23=0, S20=1, H25=0), \" ● \"&ListAVS!$B$129,\" \"))","v":" "},null,null,null,null,null,null,null,null,null,"limit v/š",{"$f":"IF(AND(220<=H21, H21<=1800, 480<=P27, P27<=1200),\"ano\",\"ne\")","v":"ne"},null,null,null,null,{"$f":"CenAVS!A21","v":"Středový závěs CLIP top EXPANDO"},{"$f":"CenAVS!B21","v":"78Z553ET"},{"$f":"CenAVS!C21","v":"NI"},0,{"$f":"CenAVS!F21","v":95.69},0,null,0,null,0]
[null,null,null,{"$f":"ListAVS!$B$79&\" [kg] \"","v":"Vypočtená hmotnost čela [kg] "},null,null,null,{"$f":"$T$90","v":0},{"$f":"IF($M28>0,IF($H26>0,IF($H23=0,$N$41,\" \"),\" \"),\" \")&IF(AND(H28>0, H23=0, Z87=3, $J$4=0), $N$39, \" \")","v":"  "},null,null,null,null,null,null,null,null,null,"limit LF",{"$f":"IF(AND(H27>=$AB$50, H27<=$AC$51), \"ano\", \"ne\")","v":"ne"},null,null,null,null,{"$f":"CenAVS!A22","v":"Závěs CLIP top pro alurámečky"},{"$f":"CenAVS!B22","v":"72T550A.TL"},{"$f":"CenAVS!C22","v":"NI"},null,{"$f":"CenAVS!F22","v":77.180000000000007},0,null,0,null,0]
[null,null,null,null,null,null,null,{"$f":"IF(H23>0, H22*H23, H22*H26)","v":0},{"$f":"IF(OR($T25=\"ne\", $H28=0), \" \", IF(AND(H27>0, H27<$AB$50), $T$44, IF($H27>$AC$51, $N$44, \"  \")))","v":" "},null,null,null,null,null,"výška korpusu",{"$f":"IF(F22>0,IF(F22>=H22,F22,0),H22)","v":0},null,null,null,null,null,null,null,null,{"$f":"CenAVS!A23","v":"Střed. závěs CLIP top pro alurámečky"},{"$f":"CenAVS!B23","v":"78Z550AT"},{"$f":"CenAVS!C23","v":"NI"},null,{"$f":"CenAVS!F23","v":101.63},0,null,0,null,0]
[null,{"$f":"ListAVS!$B$71&\" \"","v":"Počet skříněk "},null,null,null,null,null,null,null,null,null,null,{"$f":"IF($H21*$P27=0,0,IF(SUM($H23,$H26)=0,0,IF($P27>$AC$57,0,IF(P27<$AB$54,0,IF(OR(T25=\"ne\", T26=\"ne\"),0,$H28)))))","v":0},"← Hlavní údaj",null,null,null,null,"hmot =",{"$f":"IF(H23>0,H23,H26)","v":0},{"$f":"IF(SUM(H23,H26)=0,0,IF(H23>0,1,2))","v":0},"zadaná / vypočtená",null,null,{"$f":"CenAVS!A24","v":"Adaptér CLIP k teleskopům P"},{"$f":"CenAVS!B24","v":"175H5B00   R"},{"$f":"CenAVS!C24","v":"NI"},null,{"$f":"CenAVS!F24","v":90.34},0,null,0,null,0]
[null,{"$f":"IF(H28>0,IF(U28=0,\" \",IF(U28=1,$N$53,$N$54)),\" \")&IF(H28>0,IF(U28=0,\" \",IF(U28=1,$N$55,$N$56)),\" \")","v":"  "},null,null,null,null,null,null,null,null,null,null,null,null,null,null,null,null,null,null,null,null,null,null,{"$f":"CenAVS!A25","v":"Adaptér CLIP k teleskopům L"},{"$f":"CenAVS!B25","v":"175H5B00   L"},{"$f":"CenAVS!C25","v":"NI"},null,{"$f":"CenAVS!F25","v":90.34},0,null,0,null,0]
[null,{"$f":"IF(F22=0,\" \",IF(F22>1200,\"TKH = max. 1200!\",IF(F22<480,\"TKH = min. 480!\",IF(F22<H22,$N$59,IF(H28>0,IF(F22=0,\" \",IF(AND(F22>0,M28=1), $N$58,\" \")),\" \")))))","v":" "},null,null,null,null,null,null,null,null,null,null,null,null,null,null,null,null,null,null,null,null,null,null,{"$f":"CenAVS!A26","v":"Adaptér CLIP ke středovým závěsům"},{"$f":"CenAVS!B26","v":"175H5A00"},{"$f":"CenAVS!C26","v":"NI"},null,{"$f":"CenAVS!F26","v":90.34},0,null,0,null,0]
[null,{"$f":"IF(OR(AND($S$9=2, $M$17>0), AND($S$20=2, $M$28>0)), ListAVS!$B$175, \" \")","v":" "},null,null,null,null,null,null,null,null,null,null,null,null,null,null,null,null,{"$f":"IF($T$31=FALSE,2,1)","v":1},true,null," - Zdroj"]
[null,null,null,null,null,null,null,null,null,null,null,null,null,null,null,2]
[null,null,null,null,null,null,null,null,null,null,null,null,null,null,null,null,null,null,null,null,null,null,null,null,{"$f":"CenAVS!A27","v":0},{"$f":"CenAVS!B27","v":0},{"$f":"CenAVS!C27","v":0},null,{"$f":"CenAVS!F27","v":0},0,null,0,null,0]
[null,null,null,null,null,null,null,null,null,null,null,null,null,null,null,null,null,null,null,null,null,null,null,null,null,null,null,null,null,0,null,0,null,0]
[null,null,null,null,null,null,null,null,null,null,null,null,null,{"$f":"ListAVS!B176","v":"Cena bez napájecího zdroje!"},null,null,null,null,null,null,null,null,null,null,null,null,null,null,null,0,null,0,null,0]
[null,null,null,null,null,null,null,null,null,null,null,null,null,null,null,null,null,null,null,null,null,null,null,null,{"$f":"CenAVS!A162","v":"CLIP top montážní podložka, excentr, 0 mm"},{"$f":"CenAVS!B162","v":"173H7100 "},{"$f":"CenAVS!C162","v":"NI"},{"$f":"SUM(AE36,AG36)","v":0},{"$f":"CenAVS!F162","v":17.84},0,{"$f":"AE24","v":0},0,{"$f":"AG24","v":0},0]
[null,null,{"$f":"\"*  \"&ListAVS!$B$183","v":"*  Pouze pro asymetrická čela: zadejte teoretickou výšku TKH."},null,null,null,null,null,null,null,null,null,null,{"$f":"\" \"&ListAVS!$B$115","v":" Zadejte hmotnost nebo vyplňte všechny buňky"},null,null,null,null,null,null,null,null,null,null,{"$f":"CenAVS!A163","v":"CLIP top mont. podložka, excentr, EXPANDO, 0 mm"},{"$f":"CenAVS!B163","v":"174H7100E "},{"$f":"CenAVS!C163","v":"NI"},null,{"$f":"CenAVS!F163","v":19.39},0,null,0,null,0]
[null,null,{"$f":"\" ( \"&ListAVS!$B$184&\")\"","v":" ( TKH = dvojnásobná výška horního čela včetně mezer)"},null,null,null,null,null,null,null,null,null,null,{"$f":"\" \"&ListAVS!$B$116","v":" Zadejte hmotnost nebo vyplňte nahoře sílu skla"},null,null,null,null,null,null,null,null,null,null,null,null,null,null,null,null,null,0,null,0]
[null,null,{"$f":"\" \"&ListAVS!$B$327&\" '\"&ListAVS!$B$194&\"' \"","v":" Pro výpočet TKH použijte 'Výpočet asymetrických čel' "},null,null,null,null,null,null,null,null,null,null,{"$f":"\" \"&ListAVS!$B$117","v":" Vyplňte nahoře objemovou hmotnost "}]
[null,null,null,null,null,null,null,null,null,null,null,null,null,{"$f":"\" \"&ListAVS!$B$118","v":" Vyplňte nahoře sílu skla "}]
[null,null,{"$f":"\"** \"&ListAVS!$B$186","v":"** Pokud znáte hmotnost a nechcete využít výpočtu hmotnosti"},null,null,null,null,null,null,null,null,null,null,{"$f":"\"◄ \"&ListAVS!$B$111","v":"◄ hodnota bude použita pro výpočet LF"}]
[null,null,{"$f":"\"*** \"&ListAVS!$B$403","v":"*** Vyberte typ alurámečku!"},null,null,null,null,null,null,null,null,null,null,{"$f":"\" * \"&ListAVS!$B$127","v":" * Doplňte hodnoty"},null,null,null,null,null,null,null,null,null,null,{"$f":"CenAVS!A166","v":"CLIP top přímá mont. podložka, ocel, 0 mm"},{"$f":"CenAVS!B166","v":"175H3100"},{"$f":"CenAVS!C166","v":"NI"},{"$f":"SUM(AE42,AG42)","v":0},{"$f":"CenAVS!F166","v":16.98},0,{"$f":"IF($R$48=2, $U12*$M17, 0)+SUM($Q10*2, $Q11*2, $Q12*2)*$M$17","v":0},{"$f":"$AC42*AE42","v":0},{"$f":"IF($R$48=2, $U23*$M28, 0)+SUM($Q21*2, $Q22*2, $Q23*2)*$M$28","v":0},{"$f":"$AC42*AG42","v":0}]
[null,null,{"$f":"\"      \"&ListAVS!$B$404","v":"      Více informací k výběru alurámečků v Nápovědě"},null,null,null,null,null,null,null,null,null,null,null,null,null,null,null,null,null,null,null,null,null,{"$f":"CenAVS!A167","v":"CLIP top přímá mont. podložka, ocel, EXP, 0 mm"},{"$f":"CenAVS!B167","v":"177H3100E "},{"$f":"CenAVS!C167","v":"NI"},{"$f":"SUM(AE43,AG43)","v":0},{"$f":"CenAVS!F167","v":17.07},0,{"$f":"IF($R$48=1, $U12*$M17, 0)","v":0},{"$f":"$AC43*AE45","v":0},{"$f":"IF($R$48=1, $U23*$M28, 0)","v":0},{"$f":"$AC43*AG43","v":0}]
[null,null,null,null,null,null,null,null,null,null,null,null,null,{"$f":"\" max. 19.300! \"&ListAVS!$B$121","v":" max. 19.300! Upravte hmotnost nebo výšku"},null,null,null,null,null,{"$f":"\" min. \"&$AB$50&\"! \"&ListAVS!$B$121","v":" min. 2700! Upravte hmotnost nebo výšku"},null,null,null,null,{"$f":"CenAVS!A169","v":0},{"$f":"CenAVS!B169","v":0},{"$f":"CenAVS!C169","v":0},null,{"$f":"CenAVS!F169","v":0},0,null,{"$f":"$AC44*AE44","v":0},null,{"$f":"$AC44*AG44","v":0}]
[null,null,null,null,null,null,null,null,null,null,null,null,null,{"$f":"\" \"&ListAVS!$B$119","v":" Přídavný třetí zdvihač"},null,null,null,null,null,null,{"$f":"\" \"&ListAVS!B126","v":" Použijte pouze jeden zdvihač"},null,null,null,{"$f":"CenAVS!A171","v":"SERVO-DRIVE jednotka (sada)"},{"$f":"CenAVS!B171","v":"23.A000"},{"$f":"CenAVS!C171","v":"R7037"},{"$f":"SUM(AE45,AG45)","v":0},{"$f":"CenAVS!F171","v":8297.32},0,{"$f":"IF($S$9=1, 0, $M$17)+IF(AND($S$9=2, $H$16>$AB$52), $M$17, 0)","v":0},{"$f":"$AC45*AE45","v":0},{"$f":"IF($S$20=1, 0, $M$28)+IF(AND($S$20=2, $H$27>$AB$52), $M$28, 0)","v":0},{"$f":"$AC45*AG45","v":0}]
[null,null,null,null,null,null,null,null,null,null,null,null,null,{"$f":"ListAVS!$B$181","v":"Přídavný třetí zdvihač může být použit pouze s plným spodním čelem!"}]
[null,null,null,null,null,null,null,null,null,null,null,null,null,null,null,null,null,null,null,null,null,null,null,null,null,null,null,null,{"$f":"ListAVS!$B$61&\" \"","v":"Cena celkem bez DPH "},{"$f":"SUM(AD9:AD45)","v":0},null,{"$f":"SUM(AF9:AF46)","v":0},null,{"$f":"SUM(AH9:AH46)","v":0}]
[null,null,null,null,null,null,null,null,null,null,null,null,null,2,2,2,2,{"$f":"HF!$P$33","v":1},null,{"$f":"MenuAVS!$P$28","v":1},null,null,null,null,{"$f":"HF!$R$33","v":1},{"$f":"Param!M10","v":"Parametry HF"}]
[null,null,null,null,null,null,null,null,null,null,null,null,null,"záv.","alu","střed.","alu","podl.",null,"kryt.",null,null,"Provedení:",null,"montáž:",{"$f":"Param!M11","v":"Zdvihač"},{"$f":"Param!N11","v":"ks"},{"$f":"Param!O11","v":"min"},{"$f":"Param!P11","v":"max"},{"$f":"Param!Q11","v":"alu max."}]
[null,null,null,null,null,null,null,null,null,null,null,null,null,{"$f":"ListAVS!$B$133","v":"Expando"},null,{"$f":"ListAVS!$B$133","v":"Expando"},null,{"$f":"ListAVS!$B$133","v":"Expando"},null,{"$f":"ListAVS!$B$145","v":"Světle šedá (HGR)"},null,null,"Standard",null,"vruty",{"$f":"Param!M12","v":"22F2500"},{"$f":"Param!N12","v":1},{"$f":"Param!O12","v":2700},{"$f":"Param!P12","v":11500}]
[null,null,null,null,null,null,null,null,null,null,null,null,null,{"$f":"ListAVS!$B$134","v":"na vruty"},null,{"$f":"ListAVS!$B$134","v":"na vruty"},null,{"$f":"ListAVS!$B$134","v":"na vruty"},null,{"$f":"ListAVS!$B$146","v":"Tmavě šedá (TGR)"},null,null,"SERVO-DRIVE",null,"eurošrouby",{"$f":"Param!M13","v":"22F2800"},{"$f":"Param!N13","v":1},{"$f":"Param!O13","v":11500},{"$f":"Param!P13","v":19300},{"$f":"Param!Q13","v":19300}]
[null,null,null,null,null,null,null,null,null,null,null,null,null,null,null,null,null,null,null,{"$f":"ListAVS!$B$147","v":"Hedvábně bílá (SW)"},null,null,null,null,null,{"$f":"Param!M14","v":"22F2800"},{"$f":"Param!N14","v":1.5},{"$f":"Param!O14","v":19300},{"$f":"Param!P14","v":28950},{"$f":"Param!Q14","v":0}]
[null,null,null,null,null,null,null,null,null,null,null,null,null,{"$f":"ListAVS!B187","v":"Pro určení typu zdvihače bude použita zadaná hmotnost"},null,null,null,null,null,null,null,null,null,null,null,{"$f":"Param!M17","v":"Teleskop"},null,{"$f":"Param!O17","v":"min"},{"$f":"Param!P17","v":"max"},{"$f":"Param!Q17","v":0}]
[null,null,null,null,null,null,null,null,null,null,null,null,null,{"$f":"ListAVS!B188","v":"Pro určení typu zdvihače bude použita vypočtená hmotnost"},null,null,null,null,null,null,null,null,null,null,null,{"$f":"Param!M18","v":"20F3200"},{"$f":"Param!N18","v":0},{"$f":"Param!O18","v":480},{"$f":"Param!P18","v":605},{"$f":"Param!Q18","v":0}]
[null,null,null,null,null,null,null,null,null,null,null,null,null,{"$f":"\". \"&ListAVS!$B$189","v":". Chcete-li použít vypočtenou hmotnost, smažte zadanou hodnotu"},null,null,null,null,null,null,null,null,null,null,null,{"$f":"Param!M19","v":"20F3500"},{"$f":"Param!N19","v":0},{"$f":"Param!O19","v":605},{"$f":"Param!P19","v":890},{"$f":"Param!Q19","v":0}]
[null,null,null,null,null,null,null,null,null,null,null,null,null,{"$f":"\". \"&ListAVS!$B$190","v":". Chcete-li použít zadanou hmotnost, zadejte ji do políčka"},null,null,null,null,null,null,null,null,null,null,null,{"$f":"Param!M20","v":"20F3900"},{"$f":"Param!N20","v":0},{"$f":"Param!O20","v":890},{"$f":"Param!P20","v":1200},{"$f":"Param!Q20","v":0}]
[null,null,null,null,null,null,null,null,null,null,null,null,null,{"$f":"ListAVS!B191","v":0},null,null,null,null,null,null,null,null,null,null,null,null,null,{"$f":"Param!O21","v":"max."},{"$f":"Param!P21","v":1200},{"$f":"Param!Q21","v":0}]
[null,null,null,null,null,null,null,null,null,null,null,null,null,{"$f":"ListAVS!B192","v":"Pro výběr teleskopů bude použita teoretická výška TKH"}]
[null,null,null,null,null,null,null,null,null,null,null,null,null,{"$f":"ListAVS!B193","v":"Teoretická výška TKH nesmí být menší než KH"}]
[]
[]
[]
[]
[]
[]
[]
[]
[]
[]
[null,null,null,null,null,null,null,null,null,null,null,null,null,{"$f":"ListAVS!$B$73","v":"Výpočet hmotnosti čel"}]
[null,null,null,null,null,null,null,null,null,null,null,null,null,null,{"$f":"ListAVS!$B$179&\"  \"","v":"Provedení čel  "},null,null,null,null,{"$f":"J4","v":0},{"$f":"IF($AF$77=3,IF($T$71=0,$Y$74,\" \"),IF($T$71>0,$Y$75,\" \"))","v":" "},null,null,null,{"$f":"IF($AF$77=1,$AF$94,IF($AF$77=2,$AF$95,$AF$96&\" - \"&$Y$81&\"mm\"))","v":"Alurámečky s 4mm sklem"},null,null,null,null,{"$f":"MenuAVS!$Q$81","v":2500}]
[null,null,null,null,null,null,null,null,null,null,null,null,null,null,null,null,null,null,null,null,null,null,null,null,{"$f":"\" \"&ListAVS!$B$243","v":" Změnit objemovou hmotnost "}]
[null,null,null,null,null,null,null,null,null,null,null,null,null,null,null,null,null,null,null,null,null,null,null,null,{"$f":"\" \"&ListAVS!$B$244&\" [kg/m3]\"","v":" Zadejte objemovou hmotnost  [kg/m3]"}]
[null,null,null,null,null,null,null,null,null,null,null,null,null,null,null,null,null,null,null,null,null,null,null,null,{"$f":"\" \"&ListAVS!$B$245&\" [mm]\"","v":" Zadejte sílu skla [mm]"}]
[null,null,null,null,null,null,null,null,null,null,null,null,null,null,null,null,null,null,null,null,null,null,null,null,{"$f":"\" \"&ListAVS!$B$240&\" '\"&ListAVS!$B$95&\"'\"","v":" Hodnota platí jen pro volbu 'Alurámečky s jiným sklem'"}]
[null,null,null,null,null,null,null,null,null,null,null,null,null,null,null,null,null,{"$f":"D9","v":" "},null,null,null,null,null,null,{"$f":"\" \"&ListAVS!$B$410","v":" Změnit hodnoty můžete v Úvodu plánování"},null,null,null,null,null,"váha spoj.","tl. skla","typ alu"]
[null,null,null,null,null,null,null,null,null,null,null,null,null,{"$f":"ListAVS!$B$74&\" KB [mm]       \"","v":"Šířka korpusu KB [mm]       "},null,null,null,null,null,{"$f":"H10","v":0},null,null,null,null,{"$f":"T77*T78*T79","v":0},null,null,null,null,{"$f":"IF($AG$77=1,$X$94,$X$95)","v":0.62},{"$f":"$X$96*2","v":1.22},1,{"$f":"$O$4","v":1}]
[null,null,null,null,null,null,null,null,null,null,null,null,null,{"$f":"ListAVS!$B$75&\" KH [mm]       \"","v":"Výška korpusu KH [mm]       "},null,null,null,null,null,{"$f":"H11","v":0},null,null,null,null,{"$f":"Y77/1000000000","v":0},{"$f":"AF77","v":1},null,null,null,"váha alu",{"$f":"SUM(T77*4,(T78-180)*2)*AD77/1000","v":-0.22319999999999998},"A plocha B"]
[null,null,null,null,null,null,null,null,null,null,null,null,null,{"$f":"ListAVS!$B$80&\" TS [mm] \"","v":"Síla čela TS [mm] "},null,null,null,null,null,null,null,null,null,null,{"$f":"MenuAVS!$C$31","v":760},{"$f":"ListAVS!$B$90&\" (\"&Y79&\" kg/m3)\"","v":"MDF (760 kg/m3)"},null,null,null,{"$f":"$AD$71*4/1000","v":10},{"$f":"IF($AG$77=1,AF79*AD79,AG79*AD79)","v":0.128},{"$f":"SUM(($T$77-80)*($T$78-160)/1000000)","v":1.2800000000000001E-2},{"$f":"SUM(($T$77-6)*($T$78-15)/1000000)","v":9.0000000000000006E-5},"4mm"]
[null,null,null,null,null,null,null,null,null,null,null,null,null,{"$f":"ListAVS!$B$83&\" [kg] \"","v":"Hmotnost úchytky [kg] "},null,null,null,null,null,{"$f":"H14","v":0},{"$f":"IF(SUM(T77,T78)=0,\" \",IF(T80=0,\" ● \"&ListAVS!$B$129,\" \"))","v":" "},null,null,null,{"$f":"MenuAVS!$C$32","v":680},{"$f":"ListAVS!$B$91&\" (\"&Y80&\" kg/m3)\"","v":"Dřevotříska (680 kg/m3)"},null,null,null,{"$f":"$AD$71*5/1000","v":12.5},{"$f":"IF($AG$77=1,AF80*AD80,AG80*AD80)","v":0.16},{"$f":"SUM(($T$77-80)*($T$78-160)/1000000)","v":1.2800000000000001E-2},{"$f":"SUM(($T$77-6)*($T$78-15)/1000000)","v":9.0000000000000006E-5},"5mm"]
[null,null,null,null,null,null,null,null,null,null,null,null,null,{"$f":"ListAVS!$B$79&\" [kg] \"","v":"Vypočtená hmotnost čela [kg] "},null,null,null,null,null,{"$f":"IF(AD82=0,0,AD82+T80)","v":0},null,null,null,{"$f":"IF(T77*T78*T79=0,0,IF(Z78=1,Y78*Y79+T80,IF(Z78=2,Y78*Y80+T80,Y78*Y81+T80)))","v":0},{"$f":"$T$71","v":0},{"$f":"ListAVS!$B$92","v":"Jiné - volitelná hustota"},null,null,null,{"$f":"$AD$71*$T$71/1000","v":0},{"$f":"IF($AG$77=1,AF81*AD81,AG81*AD81)","v":0},{"$f":"SUM(($T$77-80)*($T$78-160)/1000000)","v":1.2800000000000001E-2},{"$f":"SUM(($T$77-6)*($T$78-15)/1000000)","v":9.0000000000000006E-5},"jiné"]
[null,null,null,null,null,null,null,null,null,null,null,null,null,null,{"$f":"IF(T81>0,IF(T80=0,$Z$94,\" \"),\" \")","v":" "},null,null,null,null,null,null,null,null,null,null,null,null,null,null,{"$f":"IF(OR(AND(AF77=3, $T$71=0), T77*T78=0), 0, SUM(IF(AF77=1,AE79,IF(AF77=2,AE80,AE81)),AE78,AE77))","v":0}]
[]
[]
[null,null,null,null,null,null,null,null,null,null,null,null,null,null,null,null,null,{"$f":"D20","v":" "},null,null,null,null,null,null,null,null,null,null,null,null,"váha spoj.","tl. skla","typ alu"]
[null,null,null,null,null,null,null,null,null,null,null,null,null,{"$f":"ListAVS!$B$74&\" KB [mm]       \"","v":"Šířka korpusu KB [mm]       "},null,null,null,null,null,{"$f":"H21","v":0},null,null,null,null,{"$f":"T86*T87*T88","v":0},null,null,null,null,{"$f":"IF($AG$77=1,$X$94,$X$95)","v":0.62},{"$f":"$X$96*2","v":1.22},{"$f":"$AF$77","v":1},{"$f":"$AG$77","v":1}]
[null,null,null,null,null,null,null,null,null,null,null,null,null,{"$f":"ListAVS!$B$75&\" KH [mm]       \"","v":"Výška korpusu KH [mm]       "},null,null,null,null,null,{"$f":"H22","v":0},null,null,null,null,{"$f":"Y86/1000000000","v":0},{"$f":"AF86","v":1},null,null,null,"váha alu",{"$f":"SUM(T86*4,(T87-180)*2)*AD86/1000","v":-0.22319999999999998},"A plocha B"]
[null,null,null,null,null,null,null,null,null,null,null,null,null,{"$f":"ListAVS!$B$80&\" TS [mm] \"","v":"Síla čela TS [mm] "},null,null,null,null,null,null,null,null,null,null,{"$f":"$Y$79","v":760},{"$f":"$Z$79","v":"MDF (760 kg/m3)"},null,null,null,{"$f":"AD79","v":10},{"$f":"IF($AG$77=1,AF88*AD88,AG88*AD88)","v":0.128},{"$f":"SUM(($T$86-80)*($T$87-160)/1000000)","v":1.2800000000000001E-2},{"$f":"SUM(($T$86-6)*($T$87-15)/1000000)","v":9.0000000000000006E-5},"4mm"]
[null,null,null,null,null,null,null,null,null,null,null,null,null,{"$f":"ListAVS!$B$83&\" [kg] \"","v":"Hmotnost úchytky [kg] "},null,null,null,null,null,{"$f":"H25","v":0},{"$f":"IF(SUM(T86,T87)=0,\" \",IF(T89=0,\" ● \"&ListAVS!$B$129,\" \"))","v":" "},null,null,null,{"$f":"$Y$80","v":680},{"$f":"$Z$80","v":"Dřevotříska (680 kg/m3)"},null,null,null,{"$f":"AD80","v":12.5},{"$f":"IF($AG$77=1,AF89*AD89,AG89*AD89)","v":0.16},{"$f":"SUM(($T$86-80)*($T$87-160)/1000000)","v":1.2800000000000001E-2},{"$f":"SUM(($T$86-6)*($T$87-15)/1000000)","v":9.0000000000000006E-5},"5mm"]
[null,null,null,null,null,null,null,null,null,null,null,null,null,{"$f":"ListAVS!$B$79&\" [kg] \"","v":"Vypočtená hmotnost čela [kg] "},null,null,null,null,null,{"$f":"IF(AD91=0,0,AD91+T89)","v":0},null,null,null,{"$f":"IF(T86*T87*T88=0,0,IF(Z87=1,Y87*Y88+T89,IF(Z87=2,Y87*Y89+T89,Y87*Y90+T89)))","v":0},{"$f":"$Y$81","v":0},{"$f":"$Z$81","v":"Jiné - volitelná hustota"},null,null,null,{"$f":"AD81","v":0},{"$f":"IF($AG$77=1,AF90*AD90,AG90*AD90)","v":0},{"$f":"SUM(($T$86-80)*($T$87-160)/1000000)","v":1.2800000000000001E-2},{"$f":"SUM(($T$86-6)*($T$87-15)/1000000)","v":9.0000000000000006E-5},"jiné"]
[null,null,null,null,null,null,null,null,null,null,null,null,null,null,{"$f":"IF(T90>0,IF(T89=0,$Z$94,\" \"),\" \")","v":" "},null,null,null,null,null,null,null,null,null,null,null,null,null,null,{"$f":"IF(OR(AND(AF86=3, $T$71=0), T86*T87=0), 0, SUM(IF(AF86=1,AE88,IF(AF86=2,AE89,AE90)),AE87,AE86))","v":0}]
[]
[]
[null,null,null,null,null,null,null,null,null,null,null,null,null,null,null,null,null,null,null,null,null,null,{"$f":"ListAVS!$B$422&\"  \"","v":"s vloženým sklem  "},{"$f":"MenuAVS!$I$86","v":0.62},null,{"$f":"ListAVS!$B$102&\"!\"","v":"Není započtena hmotnost úchytky!"},null,null,null,null,null,{"$f":"ListAVS!$B$93","v":"Alurámečky s 4mm sklem"}]
[null,null,null,null,null,null,null,null,null,null,null,null,null,null,null,null,null,null,null,null,null,null,{"$f":"ListAVS!$B$423&\"  \"","v":"s naloženým nebo nalepeným sklem  "},{"$f":"MenuAVS!$I$87","v":0.63},null,null,null,null,null,null,null,{"$f":"ListAVS!$B$94","v":"Alurámečky s 5mm sklem"}]
[null,null,null,null,null,null,null,null,null,null,null,null,null,null,null,null,null,null,null,null,null,null,{"$f":"ListAVS!$B$405&\" [kg/set] *  \"","v":"Hmotnost spojovacího materiálu [kg/set] *  "},{"$f":"MenuAVS!$I$88","v":0.61},null,null,null,null,null,null,null,{"$f":"ListAVS!$B$95","v":"Alurámečky s jiným sklem"}]
[]
[]
[]
[null,{"$f":"ListAVS!$B$194","v":"Výpočet asymetrických čel"}]
[]
[null,{"$f":"\"   \"&ListAVS!$B$197","v":"   Parametry korpusu"}]
[null,{"$f":"ListAVS!$B$75&\" KH [mm] \"","v":"Výška korpusu KH [mm] "},null,null,null,null,null,null,null,null,{"$f":"IF(I103<480, \" min. 480\", IF(I103>1200, \" max. 1200\", \" \"))","v":" min. 480"},null,null," <=519"," >=520"]
[null,{"$f":"ListAVS!$B$200&\" F1 [mm] \"","v":"Mezera nahoře F1 [mm] "}]
[null,{"$f":"ListAVS!$B$201&\" F2 [mm] \"","v":"Mezera mezi čely F2 [mm] "},null,null,null,null,null,null,null,null,{"$f":"IF($I$103=0,\" \",IF($I$105<1.5,\" min. 1,5 mm!\",\" \"))","v":" "}]
[null,{"$f":"ListAVS!$B$202&\" F3 [mm] \"","v":"Mezera dole F3 [mm] "},null,null,null,null,null,null,null,null,null,null,"Z",170,189]
[null,{"$f":"ListAVS!$B$203&\" [mm] \"","v":"Síla dna korpusu [mm] "},null,null,null,null,null,null,null,null,null,null,"H",93,116]
[]
[null,{"$f":"\"   \"&ListAVS!$B$205","v":"   Výsledky plánování"},null,null,null,null,null,null,null,null,null,null,null,"FHo","FHo"]
[null,null,null,null,null,null,{"$f":"ListAVS!$B$206&\" [mm] \"","v":"Možné výšky čel [mm] "},null,null,null,null,null,null,"min ↓↓","min ↓↓"]
[null,{"$f":"ListAVS!$B$207","v":"Čelo nahoře (FHo) v rozmezí"},null,null,null,null,"min.",{"$f":"IF(AND($I$103>=480, $I$103<=519), $N$111, IF(AND($I$103>=520, $I$103<=1200), $O$111, $S$115))","v":"nelze"},"max.",{"$f":"IF(AND($I$103>=480, $I$103<=519), $N$115, IF(AND($I$103>=520, $I$103<=1200), $O$115, $S$115))","v":"nelze"},null,null,null,{"$f":"SUM(I103, -I104, -I105, -I106, -N120)","v":0},{"$f":"SUM(I103, -I104, -I105, -I106, -O120)","v":0}]
[null,{"$f":"ListAVS!$B$208","v":"Čelo dole (FHu) v rozmezí"},null,null,null,null,"min.",{"$f":"IF(AND($I$103>=480, $I$103<=519), $N$118, IF(AND($I$103>=520, $I$103<=1200), $O$118, $S$115))","v":"nelze"},"max.",{"$f":"IF(AND($I$103>=480, $I$103<=519), $N$120, IF(AND($I$103>=520, $I$103<=1200), $O$120, $S$115))","v":"nelze"},null,null,null,"max ↓↓","max ↓↓"]
[null,null,null,null,null,null,null,null,null,null,null,null,null,{"$f":"ROUNDUP(SUM(519, -$I$104, -$I$105, -$I$106)/2, 0)","v":260},{"$f":"ROUNDUP(SUM(1200, -$I$104, -$I$105, -$I$106)/2, 0)","v":600},"absolutně"]
[null,{"$f":"ListAVS!$B$214&\" FHo [mm] \"","v":"Výška čela nahoře FHo [mm] "},null,null,null,null,null,null,null,null,{"$f":"IF($I$103=0,\" \",IF($I$114>$J$111,V114,IF($I$114<$H$111,$S$114,\" \")))","v":" "},null,null,{"$f":"SUM(I103, -I104, -I105, -I106, -N118)","v":-219},{"$f":"SUM(I103, -I104, -I105, -I106, -O118)","v":-238},"vypočtená",null,null,{"$f":"\" min. \"&TEXT($H$111,\"#\")&\" mm!\"","v":" min. nelze mm!"},null,null,{"$f":"\" max. \"&TEXT($J$111,\"#\")&\" mm!\"","v":" max. nelze mm!"}]
[null,{"$f":"ListAVS!$B$215&\" FHu [mm] \"","v":"Výška čela dole FHu [mm] "},null,null,null,null,null,null,{"$f":"IF($I$114<$H$111,$S$115,IF($I$114>$J$111,$S$115,+$I$103-$I$104-$I$105-$I$106-$I$114))","v":"nelze"},null,null,null,null,{"$f":"IF($N$114>$N$113, $N$113, $N$114)","v":-219},{"$f":"IF($O$114>$O$113, $O$113, $O$114)","v":-238},"výsledná",null,null,{"$f":"ListAVS!B211","v":"nelze"}]
[null,{"$f":"ListAVS!$B$216&\" H [mm] \"","v":"Pozice zdvihače H [mm] "},null,null,null,null,null,null,{"$f":"IF(AND($I$103>=480, $I$103<520), $N$107, IF(AND($I$103>=520, $I$103<=1200), $O$107, $S$115))","v":"nelze"},null,null,null,null,"FHu","FHu"]
[null,{"$f":"ListAVS!$B$217&\" Z [mm] \"","v":"Pozice mont. podložky pro teleskopy Z [mm] "},null,null,null,null,null,null,{"$f":"IF(AND($I$103>=480, $I$103<520), $N$106, IF(AND($I$103>=520, $I$103<=1200), $O$106, $S$115))","v":"nelze"},null,null,null,null,"min ↓↓","min ↓↓"]
[null,{"$f":"ListAVS!$B$218&\" TKH [mm] * \"","v":"Teoretická výška korpusu TKH [mm] * "},null,null,null,null,null,null,{"$f":"IF($I$115=$S$115, $S$115, IF($Q$118>=480, IF($Q$118<=1202, $Q$118, $S$115),\" \"))","v":"nelze"},null,null,null,null,{"$f":"SUM(N106, 32, 17, $I$107, -$I$106)","v":219},{"$f":"SUM(O106, 32, 17, $I$107, -$I$106)","v":238},"TKH",{"$f":"ROUND(SUM($I$114*2+$I$104+$I$105+$I$106), -1)","v":0}]
[null,null,null,null,null,null,null,null,null,null,null,null,null,"max ↓↓","max ↓↓"]
[null," *",{"$f":"ListAVS!$B$220","v":"Tuto výšku zadejte do tabulky pro plánování výklopů"},null,null,null,null,null,null,null,null,null,null,{"$f":"ROUNDDOWN(SUM(I103, -I104, -I105, -I106)/2, 0)","v":0},{"$f":"ROUNDDOWN(SUM(I103, -I104, -I105, -I106)/2, 0)","v":0}]
[]
[]
[]
[]
[null,null,null,null,null,null,null,null,{"$f":"ListAVS!$B$167","v":"Zpět"}]
[]
[]
[]
[]
[]
[]
[]
[]
[]
[]
[]
[]
[]
[]
[null,"      AVENTOS HF"]
[]
[null,{"$f":"ListAVS!$B$302","v":"Potřebný zdvihač se určí pomocí ukazatele výkonnosti."}]
[null,{"$f":"ListAVS!$B$303","v":"Ukazatel výkonnosti závisí na hmotnosti dolního i horního čílka, a rovněž na výšce korpusu."}]
[]
[]
[null,null,null,{"$f":"ListAVS!$B$86&\" = \"","v":"Ukazatel výkonnosti = "},{"$f":"ListAVS!$B$319&\" [kg]\"","v":"výška korpusu KH [mm] x hmotnost obou čel včetně úchytky [kg]"}]
[]
[]
[]
[]
[]
[null,{"$f":"ListAVS!$B$311","v":"Pokud znáte hmotnost čela, můžete ji zadat, jinak použijte \"Výpočet hmotnosti\"."}]
[null,{"$f":"ListAVS!$B$312","v":"V tabulce má přednost zadaná hodnota. Chcete-li použít vypočtenou hmotnost, smažte zadanou hodnotu."}]
[]
[null,{"$f":"ListAVS!$B$322&\". \"&ListAVS!$B$323&\".\"","v":"Délka teleskopů závisí na výšce korpusu KH. U asymetrických čel se použije teoretická výška TKH."}]
[]
[null,{"$f":"\" \"&ListAVS!$B$162&\":\"","v":" Asymetrická čela:"}]
[null,{"$f":"\" \"&ListAVS!$B$320","v":" Teoretická výška korpusu (TKH) = výška horního čela (FHo) x 2 (včetně mezer)"}]
[]
[null,{"$f":"ListAVS!$B$315","v":"U asymetrických čel musí být větší čelo nahoře!"}]
[]
[null,{"$f":"ListAVS!$B$325","v":"Pokud zadáte hodnotu TKH, použije se pro určení délky teleskopů"}]
[null,{"$f":"ListAVS!$B$326","v":"Nemáte-li asymetrická čela, nechte políčko prázdné."}]
[null,{"$f":"ListAVS!$B$327&\" ' \"&ListAVS!$B$194&\"' \"","v":"Pro výpočet TKH použijte ' Výpočet asymetrických čel' "}]
[]
[]
[null,{"$f":"ListAVS!$B$305","v":"Chcete-li změnit barvu krytek, přejděte na \"Úvod plánování\""}]
[]
[null,{"$f":"ListAVS!$B$411","v":"Věnujte pozornost výběru alurámečků."}]
[null,{"$f":"ListAVS!$B$412","v":"Vyberte, který typ lépe odpovídá tvaru použitého alurámečku."}]
[null,{"$f":"ListAVS!$B$413","v":"Způsob osazení skla do rámečku výrazně ovlivňuje plochu skla a tím i hmotnost!"}]
[]
[null,null,{"$f":"\"  \"&ListAVS!$B$422&\"  \"","v":"  s vloženým sklem  "}]
[]
[null,null,{"$f":"\"  \"&ListAVS!$B$423&\"  \"","v":"  s naloženým nebo nalepeným sklem  "}]
[]
[null,null,null,null,null,null,null,null,null,null,null,{"$f":"ListAVS!$B$167","v":"Zpět"}]

{"sheet":"HFw_wa","index":11,"n_rows":176,"n_cols":43,"rows_kept":176,"cut":false,"hidden":false,"merged":[[0,42,0,50],[1,1,1,2],[6,1,6,2],[6,6,6,7],[8,19,8,20],[8,1,8,2],[8,5,8,7],[7,39,7,40],[8,39,8,40],[10,1,10,3],[11,1,11,6],[12,1,14,2],[12,3,12,6],[13,3,13,6],[14,3,14,6],[9,39,9,40],[30,19,30,20],[15,1,15,6],[16,1,16,6],[19,19,19,20],[20,1,20,6],[21,1,21,3],[19,1,19,2],[19,5,19,7],[22,1,22,6],[26,1,26,6],[27,1,27,6],[30,1,32,9],[23,1,25,2],[23,3,23,6],[9,1,9,6],[111,1,111,5],[113,8,113,9],[109,1,109,5],[75,13,75,16],[75,17,75,19],[102,13,104,13],[102,14,104,14],[11,39,12,42],[13,39,14,42],[87,13,87,18],[88,13,88,18],[89,13,89,18],[78,13,78,18],[79,13,79,18],[80,13,80,18],[84,17,84,19],[86,13,86,18],[85,13,85,18],[124,8,124,9],[138,0,178,0],[144,4,144,11],[115,1,115,7],[115,8,115,9],[116,1,116,7],[116,8,116,9],[117,1,117,7],[117,8,117,9],[98,0,137,0],[101,1,101,9],[102,1,102,7],[102,8,102,9],[104,8,104,9],[105,1,105,7],[105,8,105,9],[114,1,114,7],[113,1,113,7],[24,3,24,6],[25,3,25,6],[71,15,71,19],[103,8,103,9],[76,13,76,18],[77,13,77,18],[103,1,103,7],[114,8,114,9],[109,6,109,9],[110,1,110,5],[104,1,104,7],[108,1,108,9],[106,1,106,7],[106,8,106,9]]}
[]
[null," AVENTOS HF top",null,null,null,null,null,null,null,null,null,null,null,null,"rámeček",null,null,null,3,null,null,null,null,null,null,null,null,null,null,null,null,null,null,null,null,null,null,{"$f":"ListAVS!$B$152","v":"Jdi na"}]
[]
[null,{"$f":"ListAVS!$B$17","v":"Dřevěné čelo"},null,null,null,{"$f":"ListAVS!$B$35&\"  \"","v":"horní čelo  "},null,null,null,null,{"$f":"U71","v":" "},null,null,null,1,null,null,null,{"$f":"\" \"&ListAVS!$B$41&\" A \"","v":" Cena za korpus A "},null,null,null,null,"výpočet",null,null,null,null,null,null,null,null,null,null,null,null,null,{"$f":"\" \"&ListAVS!$B$153","v":" Úvod plánování"}]
[null,{"$f":"ListAVS!$B$20&\" ***\"","v":"Široký alurámeček ***"},null,null,null,{"$f":"ListAVS!$B$36&\"  \"","v":"dolní čelo  "},null,null,null,null,{"$f":"U73","v":" "},null,null,null,"A = 1",null,null,null,{"$f":"\" \"&ListAVS!$B$41&\" B \"","v":" Cena za korpus B "},null,null,null,null,null,null,null,null,null,null,null,null,null,null,null,null,null,null,{"$f":"\" \"&ListAVS!$B$154","v":" Nápověda"}]
[null,null,null,null,null,null,null,null,null,{"$f":"IF($Z$78<>3,$Y$73,\" \")&\"      \"","v":" Změnit hodnoty můžete v Úvodu plánování      "},null,null,null,null,"B = 2",null,null,null,{"$f":"\" \"&ListAVS!$B$61","v":" Cena celkem bez DPH"}]
[null,{"$f":"ListAVS!$B$51&\":   \"","v":"Cena kování:   "},null,null,null,null,{"$f":"IF(S2=1,$AF$47,IF($S$2=2,$AH$47,IF($S$2=3,$AD$47,0)))","v":0},null,null,null,null,null,null,null,null,null,null,null,null,null,null,null,null,null,{"$f":"$B$2","v":" AVENTOS HF top"},null,null,null,null,null,null,null,null,null,null,null,null,{"$f":"\" \"&ListAVS!$B$159","v":" Doplňky"}]
[null,null,null,null,null,null,null,{"$f":"IF(AND(OR($S$9=2, $S$20=2), $AD$47>0), $N$35, \" \")","v":" "},null,null,null,null,null,null,null,null,null,null,null,null,null,null,null,null,{"$f":"ListAVS!B52","v":"Název"},{"$f":"ListAVS!$B$53","v":"Číslo artiklu"},{"$f":"ListAVS!B54","v":"Barva"},{"$f":"ListAVS!B56","v":"Ks"},{"$f":"ListAVS!B58","v":"Jednotková cena"},{"$f":"ListAVS!B59","v":"Celkem"},"A","Cena","B","Cena",null,null,null,null,null,{"$f":"\"  \"&ListAVS!$B$86&\" LF \"","v":"  Ukazatel výkonnosti LF "},null,"Zdvihací mechanizmus vruty","Zdvihací mechanizmus šrouby"]
[null,{"$f":"\"▼ \"&ListAVS!$B$317","v":"▼ Způsob otvírání"},null,{"$f":"IF($M$17>0, ListAVS!$B$37&\": \", \" \")","v":" "},{"$f":"IF(SUM($AE$9:$AE$10)>0,25,IF(SUM($AE$11:$AE$12)>0,28,\" \"))","v":" "},{"$f":"ListAVS!$B$64&\" A\"","v":"Korpus A"},null,null,null,null,null,null,null,"zdvih A",null,"teleskop",null,null,1,false,null," - SRVDRV",null,null,{"$f":"CenAVS!A11","v":"Sada zdvihačů HF top, na vruty"},{"$f":"CenAVS!B11","v":"22F2500"},{"$f":"CenAVS!C11","v":"ZN"},{"$f":"SUM(AE9,AG9)","v":0},{"$f":"CenAVS!F11","v":1651.93},{"$f":"AB9*AC9","v":0},{"$f":"IF($Y$48=1,ROUNDUP($M$17*$O$11,0),0)","v":0},{"$f":"$AC9*AE9","v":0},{"$f":"IF($Y$48=1,ROUNDUP($M$28*$O$22,0),0)","v":0},{"$f":"$AC9*AG9","v":0},null,null,null,{"$f":"\" \"&ListAVS!$B$156","v":" Přehled korpusů"},null,"    2700 - 13500",null,"22F2500","22F2510"]
[null,{"$f":"ListAVS!$B$74&\" KB [mm] \"","v":"Šířka korpusu KB [mm] "},null,null,null,null,null,null,{"$f":"IF(H10=0,\" \",IF($H10<220,\" min. 220mm\", IF($H10>1800, \" max. 1800mm\", \" \")))&IF(H17>0,IF(H10=0,\"● \"&ListAVS!$B$128,\" \"),\" \")","v":"  "},null,null,null,null,null,null,"F32",{"$f":"IF(AND($P$16>=$AB$54,$P$16<=$AC$54),SUM($O$11:$O$12),0)","v":0},null,null,"Závěs A",null,"Závěs As",null,null,{"$f":"CenAVS!A12","v":"Sada zdvihačů HF top, předmont. eurošrouby"},{"$f":"CenAVS!B12","v":"22F2510"},{"$f":"CenAVS!C12","v":"ZN"},0,{"$f":"CenAVS!F12","v":1651.93},{"$f":"AB10*AC10","v":0},{"$f":"IF($Y$48=2,ROUNDUP($M$17*$O$11,0),0)","v":0},0,{"$f":"IF($Y$48=2,ROUNDUP($M$28*$O$22,0),0)","v":0},0,null,null,null,{"$f":"\" \"&ListAVS!$B$157","v":" Objednávka"},null,"  10000 - 19300",null,"22F2800","22F2810"]
[null,{"$f":"ListAVS!$B$75&\" [mm]\"","v":"Výška korpusu [mm]"},null,null,"TKH * ",null,"KH ",null,{"$f":"IF(H11=0,\" \",IF($H11<480,\" min. 480mm\",IF($H11>1200,\" max. 1 200mm\",\" \")))&IF(H17>0,IF(H11=0,\"● \"&ListAVS!$B$128,\" \"),\" \")","v":"  "},null,null,null,null,"F25",{"$f":"IF($H16<$AB$50,0,IF($H16<=$AC$50,1,0))","v":0},"F35",{"$f":"IF(AND($P$16>=$AB$55,$P$16<=$AC$55),SUM($O$11:$O$12),0)","v":0},null,null,"T558E",{"$f":"IF($N$48=1, IF(OR($H$10>=1200, $T$17>=12), 3, 2))+IF($N$48=1,IF(OR($H$10=1800, $T$17>=20), 1, 0))","v":2},"Z553E",{"$f":"IF($P$48=1, IF(OR($H$10>=1200, $T$17>=12), 3, 2))+IF($P$48=1,IF(OR($H$10=1800, $T$17>=20), 1, 0))","v":0},null,{"$f":"CenAVS!A13","v":"Sada zdvihačů HF top, na vruty"},{"$f":"CenAVS!B13","v":"22F2800"},{"$f":"CenAVS!C13","v":"ZN"},0,{"$f":"CenAVS!F13","v":1805.55},0,{"$f":"IF($Y$48=1,ROUNDUP($M$17*$O$12,0),0)","v":0},0,{"$f":"IF($Y$48=1,ROUNDUP($M$28*$O$23,0),0)","v":0},0]
[null,{"$f":"ListAVS!$B$77&\" [kg] ** \"","v":"Hmotnost čela včetně úchytky [kg] ** "},null,null,null,null,null,null,{"$f":"IF($T14=\"ne\", \" \", IF(AND($H12=0,$H15=0, $H17>0),$N$37,\" \"))&IF(AND($H17>0, $H12>0, $M17>0),$N$41,\" \")","v":"  "},null,null,null,null,"F28",{"$f":"IF($H16<$AB$51,0,IF($H16<=$AC$51,1,0))","v":0},"F39",{"$f":"IF(AND($P$16>=$AB$56,$P$16<=$AC$56),SUM($O$11:$O$12),0)","v":0},null,null,"T5550",{"$f":"IF($N$48=2, IF(OR($H$10>=1200, $T$17>=12), 3, 2))+IF($N$48=2,IF(OR($H$10=1800, $T$17>=20), 1, 0))","v":0},"Z5500",{"$f":"IF($P$48=2, IF(OR($H$10>=1200, $T$17>=12), 3, 2))+IF($P$48=2,IF(OR($H$10=1800, $T$17>=20), 1, 0))","v":2},null,{"$f":"CenAVS!A14","v":"Sada zdvihačů HF top, předmont. eurošrouby"},{"$f":"CenAVS!B14","v":"22F2810"},{"$f":"CenAVS!C14","v":"ZN"},0,{"$f":"CenAVS!F14","v":1805.55},0,{"$f":"IF($Y$48=2,ROUNDUP($M$17*$O$12,0),0)","v":0},0,{"$f":"IF($Y$48=2,ROUNDUP($M$28*$O$23,0),0)","v":0},0,null,null,null,null,null,{"$f":"ListAVS!$B$86&\" LF = \"&ListAVS!$B$319&\" [kg]\"","v":"Ukazatel výkonnosti LF = výška korpusu KH [mm] x hmotnost obou čel včetně úchytky [kg]"}]
[null,{"$f":"ListAVS!$B$292","v":"Výpočet hmotnosti"},null,{"$f":"ListAVS!$B$81&\" TS [mm] \"","v":"Síla horního čela TS [mm] "},null,null,null,null,{"$f":"IF(OR(H17=0, $T14=\"ne\"),\" \",IF(AND(H12=0, H13=0),\" ● \"&ListAVS!$B$128,\" \"))","v":" "},null,null,null,null,null,null,null,null,null,null,null,null,null,null,null,{"$f":"CenAVS!A15","v":"Sada teleskopů HF top (480–610 mm)"},{"$f":"CenAVS!B15","v":"22F3200"},{"$f":"CenAVS!C15","v":"NI"},0,{"$f":"CenAVS!F15","v":785.14},0,{"$f":"ROUNDUP($M$17*Q10,0)","v":0},0,{"$f":"ROUNDUP($M$28*Q21,0)","v":0},0]
[null,null,null,{"$f":"ListAVS!$B$83&\" [kg] \"","v":"Hmotnost úchytky [kg] "},null,null,null,null,{"$f":"IF(M17=0, \" \", IF(AND(H12=0, S9=1, H14=0), \" ● \"&ListAVS!$B$129,\" \"))","v":" "},null,null,null,null,null,null,null,null,null,"limit v/š",{"$f":"IF(AND(220<=H10, H10<=1800, 480<=P16, P16<=1200),\"ano\",\"ne\")","v":"ne"},null,null,null,null,{"$f":"CenAVS!A16","v":"Sada teleskopů HF top (600–910 mm)"},{"$f":"CenAVS!B16","v":"22F3500"},{"$f":"CenAVS!C16","v":"NI"},0,{"$f":"CenAVS!F16","v":964.4},0,{"$f":"ROUNDUP($M$17*Q11,0)","v":0},0,{"$f":"ROUNDUP($M$28*Q22,0)","v":0},0]
[null,null,null,{"$f":"ListAVS!$B$79&\" [kg] \"","v":"Vypočtená hmotnost čela [kg] "},null,null,null,{"$f":"$T$81","v":0},{"$f":"IF($M17>0,IF($H15>0,IF($H12=0,$N$41,\" \"),\" \"),\" \")&IF(AND(H17>0, H12=0, Z78=3, $J$4=0), $N$39, \" \")","v":"  "},null,null,null,null,null,null,null,null,null,"limit LF",{"$f":"IF(AND(H16>=$AB$50, H16<=$AC$51), \"ano\", \"ne\")","v":"ne"},null,null,null,null,{"$f":"CenAVS!A17","v":"Sada teleskopů HF top (840–1200 mm)"},{"$f":"CenAVS!B17","v":"22F3900"},{"$f":"CenAVS!C17","v":"NI"},0,{"$f":"CenAVS!F17","v":1143.6400000000001},0,{"$f":"ROUNDUP($M$17*Q12,0)","v":0},0,{"$f":"ROUNDUP($M$28*Q23,0)","v":0},0]
[null,{"$f":"ListAVS!$B$86&\" LF \"","v":"Ukazatel výkonnosti LF "},null,null,null,null,null,{"$f":"IF(H12>0, H11*H12, H11*H15)","v":0},{"$f":"IF(OR($T14=\"ne\", $H17=0), \" \", IF(AND(H16>0, H16<$AB$50), $T$44, IF($H16>$AC$51, $N$44, \"  \")))","v":" "},null,null,null,null,null,"výška korpusu",{"$f":"IF(F11>0,IF(F11>=H11,F11,0),H11)","v":0},null,null,null,null,null,null,null,null,{"$f":"CenAVS!A47","v":"Sada krytek HF, HS, HL top, světle šedá"},{"$f":"CenAVS!B47","v":"22.8000"},{"$f":"CenAVS!C47","v":"HGR"},{"$f":"SUM(AE16,AG16)","v":0},{"$f":"CenAVS!F47","v":252.85},0,{"$f":"IF(AND($S$9=1, $T$48=1), SUM($AE$9:$AE$12), 0)","v":0},0,{"$f":"IF(AND($S$20=1, $T$48=1), SUM($AG$9:$AG$12), 0)","v":0},0]
[null,{"$f":"ListAVS!$B$71&\" \"","v":"Počet skříněk "},null,null,null,null,null,null,null,null,null,null,{"$f":"IF($H10*$P16=0,0,IF(SUM($H12,$H15)=0,0,IF($P16>$AC$57,0,IF(P16<$AB$54,0,IF(OR(T14=\"ne\", T15=\"ne\"),0,$H17)))))","v":0},"← Hlavní údaj",null,null,null,null,"hmot =",{"$f":"IF(H12>0,H12,H15)","v":0},{"$f":"IF(SUM(H12,H15)=0,0,IF(H12>0,1,2))","v":0},"zadaná / vypočtená",null,null,{"$f":"CenAVS!A48","v":"Sada krytek HF, HS, HL top, tmavě šedá"},{"$f":"CenAVS!B48","v":"22.8000"},{"$f":"CenAVS!C48","v":"TGR"},0,{"$f":"CenAVS!F48","v":275.94},0,{"$f":"IF(AND($S$9=1, $T$48=2), SUM($AE$9:$AE$12), 0)","v":0},0,{"$f":"IF(AND($S$20=1, $T$48=2), SUM($AG$9:$AG$12), 0)","v":0},0,null,null,null,null,null,"vruty = zdvihače s integrovanou šablonou (bez nutnosti rozměřování)"]
[null,{"$f":"IF(H17>0,IF(U17=0,\" \",IF(U17=1,$N$53,$N$54)),\" \")&IF(H17>0,IF(U17=0,\" \",IF(U17=1,$N$55,$N$56)),\" \")","v":"  "},null,null,null,null,null,null,null,null,null,null,null,null,null,null,null,null,null,null,null,null,null,null,{"$f":"CenAVS!A49","v":"Sada krytek HF, HS, HL top, hedvábně bílá"},{"$f":"CenAVS!B49","v":"22.8000"},{"$f":"CenAVS!C49","v":"SW"},0,{"$f":"CenAVS!F49","v":275.94},0,{"$f":"IF(AND($S$9=1, $T$48=3), SUM($AE$9:$AE$12), 0)","v":0},0,{"$f":"IF(AND($S$20=1, $T$48=3), SUM($AG$9:$AG$12), 0)","v":0},0,null,null,null,null,null,"šrouby = zdvihače s přednotovanými šrouby (nutné předvrtání)"]
[null,{"$f":"IF(F11=0,\" \",IF(F11>1200,\"TKH = max. 1200!\",IF(F11<480,\"TKH = min. 480!\",IF(F11<H11,$N$59,IF(H17>0,IF(F11=0,\" \",IF(AND(F11>0,M17=1), $N$58,\" \")),\" \")))))","v":" "},null,null,null,null,null,null,null,null,null,null,null,null,null,null,null,null,null,null,null,null,null,null,{"$f":"CenAVS!A50","v":"Sada krytek pro SERVO-DRIVE, světle šedá"},{"$f":"CenAVS!B50","v":"23.8000"},{"$f":"CenAVS!C50","v":"HGR"},0,{"$f":"CenAVS!F50","v":2606.7600000000002},0,{"$f":"IF(AND($S$9=2, $T$48=1), $AE$45, 0)","v":0},0,{"$f":"IF(AND($S$20=2, $T$48=1), $AG$45, 0)","v":0},0,null,null,null,{"$f":"\" \"&ListAVS!$B$194","v":" Výpočet asymetrických čel"}]
[null,{"$f":"\"▼ \"&ListAVS!$B$317","v":"▼ Způsob otvírání"},null,{"$f":"IF($M$28>0, ListAVS!$B$37&\": \", \" \")","v":" "},{"$f":"IF(SUM($AG$9:$AG$10)>0,25,IF(SUM($AG$11:$AG$12)>0,28,\" \"))","v":" "},{"$f":"ListAVS!$B$64&\" B\"","v":"Korpus B"},null,null,null,null,null,null,null,"zdvih B",null,"teleskop",null,null,1,false,null," - SRVDRV",null,null,{"$f":"CenAVS!A51","v":"Sada krytek pro SERVO-DRIVE, tmavě šedá"},{"$f":"CenAVS!B51","v":"23.8000"},{"$f":"CenAVS!C51","v":"TGR"},0,{"$f":"CenAVS!F51","v":2709.29},0,{"$f":"IF(AND($S$9=2, $T$48=2), $AE$45, 0)","v":0},0,{"$f":"IF(AND($S$20=2, $T$48=2), $AG$45, 0)","v":0},0]
[null,{"$f":"ListAVS!$B$74&\" KB [mm] \"","v":"Šířka korpusu KB [mm] "},null,null,null,null,null,null,{"$f":"IF(H21=0,\" \",IF($H21<220,\" min. 220mm\",IF($H21>1800,\" max. 1 800mm\",\" \")))&IF(H28>0,IF(H21=0,\"● \"&ListAVS!$B$128,\" \"),\" \")","v":"  "},null,null,null,null,null,null,"F32",{"$f":"IF(AND($P$27>=$AB$54,$P$27<=$AC$54),SUM($O$22:$O$23),0)","v":0},null,null,"Závěs B",null,"Závěs Bs",null,null,{"$f":"CenAVS!A52","v":"Sada krytek pro SERVO-DRIVE,hedvábně bílá"},{"$f":"CenAVS!B52","v":"23.8000"},{"$f":"CenAVS!C52","v":"SW"},0,{"$f":"CenAVS!F52","v":2709.29},0,{"$f":"IF(AND($S$9=2, $T$48=3), $AE$45, 0)","v":0},0,{"$f":"IF(AND($S$20=2, $T$48=3), $AG$45, 0)","v":0},0]
[null,{"$f":"ListAVS!$B$75&\" [mm]\"","v":"Výška korpusu [mm]"},null,null,"TKH * ",null,"KH ",null,{"$f":"IF(H22=0,\" \",IF($H22<480,\" min. 480mm\",IF($H22>1200,\" max. 1 200mm\",\" \")))&IF(H28>0,IF(H22=0,\"● \"&ListAVS!$B$128,\" \"),\" \")","v":"  "},null,null,null,null,"F25",{"$f":"IF($H27<$AB$50,0,IF($H27<=$AC$50,1,0))","v":0},"F35",{"$f":"IF(AND($P$27>=$AB$55,$P$27<=$AC$55),SUM($O$22:$O$23),0)","v":0},null,null,"T558E",{"$f":"IF($N$48=1, IF(OR($H$21>=1200, $T$28>=12), 3, 2))+IF($N$48=1,IF(OR($H$21=1800, $T$28>=20), 1, 0))","v":2},"Z553E",{"$f":"IF($P$48=1, IF(OR($H$21>=1200, $T$28>=12), 3, 2))+IF($P$48=1,IF(OR($H$21=1800, $T$28>=20), 1, 0))","v":0},null,{"$f":"CenAVS!A18","v":"Závěs CLIP top 120° "},{"$f":"CenAVS!B18","v":"70T5550.TL"},{"$f":"CenAVS!C18","v":"NI"},0,{"$f":"CenAVS!F18","v":56.56},0,{"$f":"$U$12*$M$17","v":0},0,{"$f":"$U$23*$M$28","v":0},0]
[null,{"$f":"ListAVS!$B$77&\" [kg] ** \"","v":"Hmotnost čela včetně úchytky [kg] ** "},null,null,null,null,null,null,{"$f":"IF($H28=0,\" \",IF(SUM($H23,$H26)=0,$N$38,\" \"))&IF($H28>0,IF($H23>0,$N$41,\" \"),\" \")","v":"  "},null,null,null,null,"F28",{"$f":"IF($H27<$AB$51,0,IF($H27<=$AC$51,1,IF($H27>$AB$52,1.5,0)))","v":0},"F39",{"$f":"IF(AND($P$27>=$AB$56,$P$27<=$AC$56),SUM($O$22:$O$23),0)","v":0},null,null,"T5550",{"$f":"IF($N$48=2, IF(OR($H$21>=1200, $T$28>=12), 3, 2))+IF($N$48=2,IF(OR($H$21=1800, $T$28>=20), 1, 0))","v":0},"Z5500",{"$f":"IF($P$48=2, IF(OR($H$21>=1200, $T$28>=12), 3, 2))+IF($P$48=2,IF(OR($H$21=1800, $T$28>=20), 1, 0))","v":2},null,{"$f":"CenAVS!A19","v":"Závěs CLIP top 120° EXPANDO"},{"$f":"CenAVS!B19","v":"70T558E"},{"$f":"CenAVS!C19","v":"NI"},0,{"$f":"CenAVS!F19","v":53.42},0,{"$f":"$U$11*$M$17","v":0},0,{"$f":"$U$22*$M$28","v":0},0]
[null,{"$f":"ListAVS!$B$292","v":"Výpočet hmotnosti"},null,{"$f":"ListAVS!$B$81&\" TS [mm] \"","v":"Síla horního čela TS [mm] "},null,null,null,null,{"$f":"IF(H28=0,\" \",IF(AND(H23=0, H24=0),\" ● \"&ListAVS!$B$128,\" \"))","v":" "},null,null,null,null,null,null,null,null,null,null,null,null,null,null,null,{"$f":"CenAVS!A20","v":"Středový závěs CLIP top "},{"$f":"CenAVS!B20","v":"78Z5500T"},{"$f":"CenAVS!C20","v":"NI"},0,{"$f":"CenAVS!F20","v":92.71},0,{"$f":"$M$17*$W$12","v":0},0,{"$f":"$M$28*$W$23","v":0},0]
[null,null,null,{"$f":"ListAVS!$B$83&\" [kg] \"","v":"Hmotnost úchytky [kg] "},null,null,null,null,{"$f":"IF(M28=0, \" \", IF(AND(H23=0, S20=1, H25=0), \" ● \"&ListAVS!$B$129,\" \"))","v":" "},null,null,null,null,null,null,null,null,null,"limit v/š",{"$f":"IF(AND(220<=H21, H21<=1800, 480<=P27, P27<=1200),\"ano\",\"ne\")","v":"ne"},null,null,null,null,{"$f":"CenAVS!A21","v":"Středový závěs CLIP top EXPANDO"},{"$f":"CenAVS!B21","v":"78Z553ET"},{"$f":"CenAVS!C21","v":"NI"},0,{"$f":"CenAVS!F21","v":95.69},0,null,0,null,0]
[null,null,null,{"$f":"ListAVS!$B$79&\" [kg] \"","v":"Vypočtená hmotnost čela [kg] "},null,null,null,{"$f":"$T$90","v":0},{"$f":"IF($H28>0,IF($H26>0,IF($H23=0,$N$41,\" \"),\" \"),\" \")&IF(AND(H28>0, H23=0, Z87=3, $J$4=0), $N$39, \" \")","v":"  "},null,null,null,null,null,null,null,null,null,"limit LF",{"$f":"IF(AND(H27>=$AB$50, H27<=$AC$51), \"ano\", \"ne\")","v":"ne"},null,null,null,null,{"$f":"CenAVS!A22","v":"Závěs CLIP top pro alurámečky"},{"$f":"CenAVS!B22","v":"72T550A.TL"},{"$f":"CenAVS!C22","v":"NI"},null,{"$f":"CenAVS!F22","v":77.180000000000007},0,null,0,null,0]
[null,{"$f":"ListAVS!$B$86&\" LF \"","v":"Ukazatel výkonnosti LF "},null,null,null,null,null,{"$f":"IF(H23>0, H22*H23, H22*H26)","v":0},{"$f":"IF(AND(H27>0, H27<$AB$50), $T$44, IF($H27>$AC$51, $N$44, \"  \"))","v":"  "},null,null,null,null,null,"výška korpusu",{"$f":"IF(F22>0,IF(F22>=H22,F22,0),H22)","v":0},null,null,null,null,null,null,null,null,{"$f":"CenAVS!A23","v":"Střed. závěs CLIP top pro alurámečky"},{"$f":"CenAVS!B23","v":"78Z550AT"},{"$f":"CenAVS!C23","v":"NI"},null,{"$f":"CenAVS!F23","v":101.63},0,null,0,null,0]
[null,{"$f":"ListAVS!$B$71&\" \"","v":"Počet skříněk "},null,null,null,null,null,null,null,null,null,null,{"$f":"IF($H21*$P27=0,0,IF(SUM($H23,$H26)=0,0,IF($P27>$AC$57,0,IF(P27<$AB$54,0,IF(OR(T25=\"ne\", T26=\"ne\"),0,$H28)))))","v":0},"← Hlavní údaj",null,null,null,null,"hmot =",{"$f":"IF(H23>0,H23,H26)","v":0},{"$f":"IF(SUM(H23,H26)=0,0,IF(H23>0,1,2))","v":0},"zadaná / vypočtená",null,null,{"$f":"CenAVS!A24","v":"Adaptér CLIP k teleskopům P"},{"$f":"CenAVS!B24","v":"175H5B00   R"},{"$f":"CenAVS!C24","v":"NI"},null,{"$f":"CenAVS!F24","v":90.34},0,null,0,null,0]
[null,{"$f":"IF(H28>0,IF(U28=0,\" \",IF(U28=1,$N$53,$N$54)),\" \")&IF(H28>0,IF(U28=0,\" \",IF(U28=1,$N$55,$N$56)),\" \")","v":"  "},null,null,null,null,null,null,null,null,null,null,null,null,null,null,null,null,null,null,null,null,null,null,{"$f":"CenAVS!A25","v":"Adaptér CLIP k teleskopům L"},{"$f":"CenAVS!B25","v":"175H5B00   L"},{"$f":"CenAVS!C25","v":"NI"},null,{"$f":"CenAVS!F25","v":90.34},0,null,0,null,0]
[null,{"$f":"IF(F22=0,\" \",IF(F22>1200,\"TKH = max. 1200!\",IF(F22<480,\"TKH = min. 480!\",IF(F22<H22,$N$59,IF(H28>0,IF(F22=0,\" \",IF(AND(F22>0,M28=1), $N$58,\" \")),\" \")))))","v":" "},null,null,null,null,null,null,null,null,null,null,null,null,null,null,null,null,null,null,null,null,null,null,{"$f":"CenAVS!A26","v":"Adaptér CLIP ke středovým závěsům"},{"$f":"CenAVS!B26","v":"175H5A00"},{"$f":"CenAVS!C26","v":"NI"},null,{"$f":"CenAVS!F26","v":90.34},0,null,0,null,0]
[null,{"$f":"IF(OR(AND($S$9=2, $M$17>0), AND($S$20=2, $M$28>0)), ListAVS!$B$175, \" \")","v":" "},null,null,null,null,null,null,null,null,null,null,null,null,null,null,null,null,{"$f":"IF($T$31=FALSE,2,1)","v":1},true,null," - Zdroj"]
[]
[null,null,null,null,null,null,null,null,null,null,null,null,null,null,null,null,null,null,null,null,null,null,null,null,{"$f":"CenAVS!A27","v":0},{"$f":"CenAVS!B27","v":0},{"$f":"CenAVS!C27","v":0},null,{"$f":"CenAVS!F27","v":0},0,null,0,null,0]
[null,null,null,null,null,null,null,null,null,null,null,null,null,null,null,null,null,null,null,null,null,null,null,null,null,null,null,null,null,0,null,0,null,0]
[null,null,null,null,null,null,null,null,null,null,null,null,null,{"$f":"ListAVS!B176","v":"Cena bez napájecího zdroje!"},null,null,null,null,null,null,null,null,null,null,null,null,null,null,null,0,null,0,null,0]
[null,null,null,null,null,null,null,null,null,null,null,null,null,null,null,null,null,null,null,null,null,null,null,null,{"$f":"CenAVS!A162","v":"CLIP top montážní podložka, excentr, 0 mm"},{"$f":"CenAVS!B162","v":"173H7100 "},{"$f":"CenAVS!C162","v":"NI"},null,{"$f":"CenAVS!F162","v":17.84},0,null,0,null,0]
[null,null,{"$f":"\"*  \"&ListAVS!$B$183","v":"*  Pouze pro asymetrická čela: zadejte teoretickou výšku TKH."},null,null,null,null,null,null,null,null,null,null,{"$f":"\" \"&ListAVS!$B$115","v":" Zadejte hmotnost nebo vyplňte všechny buňky"},null,null,null,null,null,null,null,null,null,null,{"$f":"CenAVS!A163","v":"CLIP top mont. podložka, excentr, EXPANDO, 0 mm"},{"$f":"CenAVS!B163","v":"174H7100E "},{"$f":"CenAVS!C163","v":"NI"},null,{"$f":"CenAVS!F163","v":19.39},0,null,0,null,0]
[null,null,{"$f":"\" ( \"&ListAVS!$B$184&\")\"","v":" ( TKH = dvojnásobná výška horního čela včetně mezer)"},null,null,null,null,null,null,null,null,null,null,null,null,null,null,null,null,null,null,null,null,null,null,null,null,null,null,null,null,0,null,0]
[null,null,{"$f":"\" \"&ListAVS!$B$327&\" '\"&ListAVS!$B$194&\"' \"","v":" Pro výpočet TKH použijte 'Výpočet asymetrických čel' "},null,null,null,null,null,null,null,null,null,null,{"$f":"\" \"&ListAVS!$B$117","v":" Vyplňte nahoře objemovou hmotnost "}]
[]
[null,null,{"$f":"\"** \"&ListAVS!$B$186","v":"** Pokud znáte hmotnost a nechcete využít výpočtu hmotnosti"},null,null,null,null,null,null,null,null,null,null,{"$f":"\"◄ \"&ListAVS!$B$111","v":"◄ hodnota bude použita pro výpočet LF"}]
[null,null,{"$f":"\"*** \"&ListAVS!$B$403","v":"*** Vyberte typ alurámečku!"},null,null,null,null,null,null,null,null,null,null,{"$f":"\" * \"&ListAVS!$B$127","v":" * Doplňte hodnoty"},null,null,null,null,null,null,null,null,null,null,{"$f":"CenAVS!A166","v":"CLIP top přímá mont. podložka, ocel, 0 mm"},{"$f":"CenAVS!B166","v":"175H3100"},{"$f":"CenAVS!C166","v":"NI"},{"$f":"SUM(AE42,AG42)","v":0},{"$f":"CenAVS!F166","v":16.98},0,{"$f":"IF($R$48=2, SUM($U$11*$M$17, $U12*$M17, $W$12*$M$17), 0)+SUM($Q10*2, $Q11*2, $Q12*2)*$M$17","v":0},{"$f":"$AC42*AE42","v":0},{"$f":"IF($R$48=2, SUM($U$22*$M$28, $U23*$M28, $W$23*$M$28), 0)+SUM($Q21*2, $Q22*2, $Q23*2)*$M$28","v":0},{"$f":"$AC42*AG42","v":0}]
[null,null,{"$f":"\"      \"&ListAVS!$B$404","v":"      Více informací k výběru alurámečků v Nápovědě"},null,null,null,null,null,null,null,null,null,null,null,null,null,null,null,null,null,null,null,null,null,{"$f":"CenAVS!A167","v":"CLIP top přímá mont. podložka, ocel, EXP, 0 mm"},{"$f":"CenAVS!B167","v":"177H3100E "},{"$f":"CenAVS!C167","v":"NI"},{"$f":"SUM(AE43,AG43)","v":0},{"$f":"CenAVS!F167","v":17.07},0,{"$f":"IF($R$48=1, SUM($U$11*$M$17, $U$12*$M$17, $W$12*$M$17), 0)","v":0},{"$f":"$AC43*AE45","v":0},{"$f":"IF($R$48=1, SUM($U$22*$M$28, $U$23*$M$28, $W$23*$M$28), 0)","v":0},{"$f":"$AC43*AG43","v":0}]
[null,null,null,null,null,null,null,null,null,null,null,null,null,{"$f":"\" max. 19.300! \"&ListAVS!$B$121","v":" max. 19.300! Upravte hmotnost nebo výšku"},null,null,null,null,null,{"$f":"\" min. \"&$AB$50&\"! \"&ListAVS!$B$121","v":" min. 2700! Upravte hmotnost nebo výšku"},null,null,null,null,{"$f":"CenAVS!A169","v":0},{"$f":"CenAVS!B169","v":0},{"$f":"CenAVS!C169","v":0},null,{"$f":"CenAVS!F169","v":0},0,null,{"$f":"$AC44*AE44","v":0},null,{"$f":"$AC44*AG44","v":0}]
[null,null,null,null,null,null,null,null,null,null,null,null,null,{"$f":"\" \"&ListAVS!$B$119","v":" Přídavný třetí zdvihač"},null,null,null,null,null,null,{"$f":"\" \"&ListAVS!B126","v":" Použijte pouze jeden zdvihač"},null,null,null,{"$f":"CenAVS!A171","v":"SERVO-DRIVE jednotka (sada)"},{"$f":"CenAVS!B171","v":"23.A000"},{"$f":"CenAVS!C171","v":"R7037"},{"$f":"SUM(AE45,AG45)","v":0},{"$f":"CenAVS!F171","v":8297.32},0,{"$f":"IF($S$9=1, 0, $M$17)+IF(AND($S$9=2, $H$16>$AB$52), $M$17, 0)","v":0},{"$f":"$AC45*AE45","v":0},{"$f":"IF($S$20=1, 0, $M$28)+IF(AND($S$20=2, $H$27>$AB$52), $M$28, 0)","v":0},{"$f":"$AC45*AG45","v":0}]
[null,null,null,null,null,null,null,null,null,null,null,null,null,{"$f":"ListAVS!$B$181","v":"Přídavný třetí zdvihač může být použit pouze s plným spodním čelem!"}]
[null,null,null,null,null,null,null,null,null,null,null,null,null,null,null,null,null,null,null,null,null,null,null,null,null,null,null,null,{"$f":"ListAVS!$B$61&\" \"","v":"Cena celkem bez DPH "},{"$f":"SUM(AD9:AD45)","v":0},null,{"$f":"SUM(AF9:AF46)","v":0},null,{"$f":"SUM(AH9:AH46)","v":0}]
[null,null,null,null,null,null,null,null,null,null,null,null,null,{"$f":"HF!$L$33","v":1},2,2,2,{"$f":"HF!$P$33","v":1},null,{"$f":"MenuAVS!$P$28","v":1},null,null,null,null,{"$f":"HF!$R$33","v":1},{"$f":"Param!M10","v":"Parametry HF"}]
[null,null,null,null,null,null,null,null,null,null,null,null,null,"záv.","alu","střed.","alu","podl.",null,"kryt.",null,null,"Provedení:",null,"montáž:",{"$f":"Param!M11","v":"Zdvihač"},{"$f":"Param!N11","v":"ks"},{"$f":"Param!O11","v":"min"},{"$f":"Param!P11","v":"max"},{"$f":"Param!Q11","v":"alu max."}]
[null,null,null,null,null,null,null,null,null,null,null,null,null,{"$f":"ListAVS!$B$133","v":"Expando"},null,{"$f":"ListAVS!$B$133","v":"Expando"},null,{"$f":"ListAVS!$B$133","v":"Expando"},null,{"$f":"ListAVS!$B$145","v":"Světle šedá (HGR)"},null,null,"Standard",null,"vruty",{"$f":"Param!M12","v":"22F2500"},{"$f":"Param!N12","v":1},{"$f":"Param!O12","v":2700},{"$f":"Param!P12","v":11500}]
[null,null,null,null,null,null,null,null,null,null,null,null,null,{"$f":"ListAVS!$B$134","v":"na vruty"},null,{"$f":"ListAVS!$B$134","v":"na vruty"},null,{"$f":"ListAVS!$B$134","v":"na vruty"},null,{"$f":"ListAVS!$B$147","v":"Hedvábně bílá (SW)"},null,null,"SERVO-DRIVE",null,"eurošrouby",{"$f":"Param!M13","v":"22F2800"},{"$f":"Param!N13","v":1},{"$f":"Param!O13","v":11500},{"$f":"Param!P13","v":19300},{"$f":"Param!Q13","v":19300}]
[null,null,null,null,null,null,null,null,null,null,null,null,null,null,null,null,null,null,null,{"$f":"ListAVS!$B$148","v":0},null,null,null,null,null,{"$f":"Param!M14","v":"22F2800"},{"$f":"Param!N14","v":1.5},{"$f":"Param!O14","v":19300},{"$f":"Param!P14","v":28950},{"$f":"Param!Q14","v":0}]
[null,null,null,null,null,null,null,null,null,null,null,null,null,{"$f":"ListAVS!B187","v":"Pro určení typu zdvihače bude použita zadaná hmotnost"},null,null,null,null,null,null,null,null,null,null,null,{"$f":"Param!M17","v":"Teleskop"},null,{"$f":"Param!O17","v":"min"},{"$f":"Param!P17","v":"max"},{"$f":"Param!Q17","v":0}]
[null,null,null,null,null,null,null,null,null,null,null,null,null,{"$f":"ListAVS!B188","v":"Pro určení typu zdvihače bude použita vypočtená hmotnost"},null,null,null,null,null,null,null,null,null,null,null,{"$f":"Param!M18","v":"20F3200"},{"$f":"Param!N18","v":0},{"$f":"Param!O18","v":480},{"$f":"Param!P18","v":605},{"$f":"Param!Q18","v":0}]
[null,null,null,null,null,null,null,null,null,null,null,null,null,{"$f":"\". \"&ListAVS!$B$189","v":". Chcete-li použít vypočtenou hmotnost, smažte zadanou hodnotu"},null,null,null,null,null,null,null,null,null,null,null,{"$f":"Param!M19","v":"20F3500"},{"$f":"Param!N19","v":0},{"$f":"Param!O19","v":605},{"$f":"Param!P19","v":890},{"$f":"Param!Q19","v":0}]
[null,null,null,null,null,null,null,null,null,null,null,null,null,{"$f":"\". \"&ListAVS!$B$190","v":". Chcete-li použít zadanou hmotnost, zadejte ji do políčka"},null,null,null,null,null,null,null,null,null,null,null,{"$f":"Param!M20","v":"20F3900"},{"$f":"Param!N20","v":0},{"$f":"Param!O20","v":890},{"$f":"Param!P20","v":1200},{"$f":"Param!Q20","v":0}]
[null,null,null,null,null,null,null,null,null,null,null,null,null,{"$f":"ListAVS!B191","v":0},null,null,null,null,null,null,null,null,null,null,null,null,null,{"$f":"Param!O21","v":"max."},{"$f":"Param!P21","v":1200},{"$f":"Param!Q21","v":0}]
[null,null,null,null,null,null,null,null,null,null,null,null,null,{"$f":"ListAVS!B192","v":"Pro výběr teleskopů bude použita teoretická výška TKH"}]
[null,null,null,null,null,null,null,null,null,null,null,null,null,{"$f":"ListAVS!B193","v":"Teoretická výška TKH nesmí být menší než KH"}]
[]
[]
[]
[]
[]
[]
[]
[]
[]
[]
[null,null,null,null,null,null,null,null,null,null,null,null,null,{"$f":"ListAVS!$B$73","v":"Výpočet hmotnosti čel"}]
[null,null,null,null,null,null,null,null,null,null,null,null,null,null,{"$f":"ListAVS!$B$35&\"  \"","v":"horní čelo  "},null,null,null,null,{"$f":"J4","v":0},{"$f":"IF(Z78=3,IF(T71=0,Y74,\" \"),IF(T71>0,Y75,\" \"))","v":" "},null,null,null,{"$f":"IF($Z$78=1,$Z$79,IF($Z$78=2,$Z$80,$Z$81&\" \"&$Y$81&\"kg/m3\"))&\" A~\"&$T$79&\"/ B~\"&$T$88&\"mm\"","v":"MDF (760 kg/m3) A~0/ B~0mm"},null,null,null,null,{"$f":"MenuAVS!$Q$81","v":2500}]
[null,null,null,null,null,null,null,null,null,null,null,null,null,null,null,{"$f":"IF($Z$78<>3,$Y$73,\" \")&\"      \"","v":" Změnit hodnoty můžete v Úvodu plánování      "},null,null,null,null,null,null,null,null,{"$f":"IF($AF$77=1,$AF$94,IF($AF$77=2,$AF$95,$AF$96&\" -  \"&$T$73&\"mm\"))","v":"Alurámečky s 4mm sklem"}]
[null,null,null,null,null,null,null,null,null,null,null,null,null,null,{"$f":"ListAVS!$B$36&\"  \"","v":"dolní čelo  "},null,null,null,null,{"$f":"J5","v":0},{"$f":"IF(AF77=3,IF(T73=0,AE74,\" \"),IF(T73>0,AE75,\" \"))","v":" "},null,null,null,{"$f":"\" \"&ListAVS!$B$410","v":" Změnit hodnoty můžete v Úvodu plánování"}]
[null,null,null,null,null,null,null,null,null,null,null,null,null,null,null,null,null,null,null,null,null,null,null,null,{"$f":"\" \"&ListAVS!$B$244&\" [kg/m3]\"","v":" Zadejte objemovou hmotnost  [kg/m3]"},null,null,null,null,null,{"$f":"\" \"&ListAVS!$B$245&\" [mm]\"","v":" Zadejte sílu skla [mm]"}]
[null,null,null,null,null,null,null,null,null,null,null,null,null,null,null,null,null,null,null,null,null,null,null,null,{"$f":"\" \"&ListAVS!$B$240&\" '\"&ListAVS!$B$92&\"'\"","v":" Hodnota platí jen pro volbu 'Jiné - volitelná hustota'"},null,null,null,null,null,{"$f":"\" \"&ListAVS!$B$240&\" '\"&ListAVS!$B$95&\"'\"","v":" Hodnota platí jen pro volbu 'Alurámečky s jiným sklem'"}]
[null,null,null,null,null,null,null,null,null,null,null,null,null,null,null,null,null,{"$f":"D9","v":" "},null,null,null,null,null,null,null,null,null,null,null,null,"váha spoj.","tl. skla","typ alu"]
[null,null,null,null,null,null,null,null,null,null,null,null,null,{"$f":"ListAVS!$B$74&\" KB [mm]       \"","v":"Šířka korpusu KB [mm]       "},null,null,null,null,null,{"$f":"H10","v":0},null,null,null,null,{"$f":"T77*T78*T79/2","v":0},null,null,null,null,{"$f":"IF($AG$77=1,$X$94,$X$95)","v":0.62},{"$f":"$X$96","v":0.61},1,{"$f":"$O$4","v":1}]
[null,null,null,null,null,null,null,null,null,null,null,null,null,{"$f":"ListAVS!$B$75&\" KH [mm]       \"","v":"Výška korpusu KH [mm]       "},null,null,null,null,null,{"$f":"H11","v":0},null,null,null,null,{"$f":"Y77/1000000000","v":0},1,null,null,null,"váha alu",{"$f":"SUM(T77*2,(T78/2-90)*2)*AD77/1000","v":-0.11159999999999999},"A plocha B"]
[null,null,null,null,null,null,null,null,null,null,null,null,null,{"$f":"ListAVS!$B$80&\" TS [mm] \"","v":"Síla čela TS [mm] "},null,null,null,null,null,{"$f":"H13","v":0},{"$f":"IF(SUM(T77,T78)=0,\" \",IF(T79=0,\" ● \"&ListAVS!$B$128,\" \"))","v":" "},null,null,null,{"$f":"MenuAVS!$C$31","v":760},{"$f":"ListAVS!$B$90&\" (\"&Y79&\" kg/m3)\"","v":"MDF (760 kg/m3)"},null,null,null,{"$f":"$AD$71*4/1000","v":10},{"$f":"IF($AG$77=1,AF79*AD79,AG79*AD79)","v":6.4000000000000001E-2},{"$f":"SUM(($T$77-80)*($T$78/2-80)/1000000)","v":6.4000000000000003E-3},{"$f":"SUM(($T$77-6)*($T$78/2-6)/1000000)","v":3.6000000000000001E-5},"4mm"]
[null,null,null,null,null,null,null,null,null,null,null,null,null,{"$f":"ListAVS!$B$83&\" [kg] \"","v":"Hmotnost úchytky [kg] "},null,null,null,null,null,{"$f":"H14","v":0},{"$f":"IF(SUM(T77,T78)=0,\" \",IF(T80=0,\" ● \"&ListAVS!$B$129,\" \"))","v":" "},null,null,null,{"$f":"MenuAVS!$C$32","v":680},{"$f":"ListAVS!$B$91&\" (\"&Y80&\" kg/m3)\"","v":"Dřevotříska (680 kg/m3)"},null,null,null,{"$f":"$AD$71*5/1000","v":12.5},{"$f":"IF($AG$77=1,AF80*AD80,AG80*AD80)","v":0.08},{"$f":"SUM(($T$77-80)*($T$78/2-80)/1000000)","v":6.4000000000000003E-3},{"$f":"SUM(($T$77-6)*($T$78/2-6)/1000000)","v":3.6000000000000001E-5},"5mm"]
[null,null,null,null,null,null,null,null,null,null,null,null,null,{"$f":"ListAVS!$B$79&\" [kg] \"","v":"Vypočtená hmotnost čela [kg] "},null,null,null,null,null,{"$f":"IF(X81*AD82<>0,SUM(X81,AD82,T80),0)","v":0},null,null,null,{"$f":"IF(T77*T78*T79=0,0,IF(Z78=1,Y78*Y79,IF(Z78=2,Y78*Y80,Y78*Y81)))","v":0},{"$f":"$T$71","v":0},{"$f":"ListAVS!$B$92","v":"Jiné - volitelná hustota"},null,null,null,{"$f":"$AD$71*$T$73/1000","v":0},{"$f":"IF($AG$77=1,AF81*AD81,AG81*AD81)","v":0},{"$f":"SUM(($T$77-80)*($T$78/2-80)/1000000)","v":6.4000000000000003E-3},{"$f":"SUM(($T$77-6)*($T$78/2-6)/1000000)","v":3.6000000000000001E-5},"jiné"]
[null,null,null,null,null,null,null,null,null,null,null,null,null,null,{"$f":"IF(T81>0,IF(T80=0,$Z$94,\" \"),\" \")","v":" "},null,null,null,null,null,null,null,null,null,null,null,null,null,null,{"$f":"IF(OR(AND(AF77=3, $T$73=0), T77*T78=0), 0, SUM(IF(AF77=1,AE79,IF(AF77=2,AE80,AE81)),AE78,AE77))","v":0}]
[]
[]
[null,null,null,null,null,null,null,null,null,null,null,null,null,null,null,null,null,{"$f":"D20","v":" "},null,null,null,null,null,null,null,null,null,null,null,null,"váha spoj.","tl. skla","typ alu"]
[null,null,null,null,null,null,null,null,null,null,null,null,null,{"$f":"ListAVS!$B$74&\" KB [mm]       \"","v":"Šířka korpusu KB [mm]       "},null,null,null,null,null,{"$f":"H21","v":0},null,null,null,null,{"$f":"T86*T87*T88","v":0},null,null,null,null,{"$f":"IF($AG$77=1,$X$94,$X$95)","v":0.62},{"$f":"$X$96","v":0.61},{"$f":"$AF$77","v":1},{"$f":"$AG$77","v":1}]
[null,null,null,null,null,null,null,null,null,null,null,null,null,{"$f":"ListAVS!$B$75&\" KH [mm]       \"","v":"Výška korpusu KH [mm]       "},null,null,null,null,null,{"$f":"H22","v":0},null,null,null,null,{"$f":"Y86/1000000000/2","v":0},{"$f":"Z78","v":1},null,null,null,"váha alu",{"$f":"SUM(T86*2,(T87/2-90)*2)*AD86/1000","v":-0.11159999999999999},"A plocha B"]
[null,null,null,null,null,null,null,null,null,null,null,null,null,{"$f":"ListAVS!$B$80&\" TS [mm] \"","v":"Síla čela TS [mm] "},null,null,null,null,null,{"$f":"H24","v":0},{"$f":"IF(SUM(T86,T87)=0,\" \",IF(T88=0,\" ● \"&ListAVS!$B$128,\" \"))","v":" "},null,null,null,{"$f":"$Y$79","v":760},{"$f":"$Z$79","v":"MDF (760 kg/m3)"},null,null,null,{"$f":"AD79","v":10},{"$f":"IF($AG$77=1,AF88*AD88,AG88*AD88)","v":6.4000000000000001E-2},{"$f":"SUM(($T$86-80)*($T$87/2-80)/1000000)","v":6.4000000000000003E-3},{"$f":"SUM(($T$86-6)*($T$87/2-6)/1000000)","v":3.6000000000000001E-5},"4mm"]
[null,null,null,null,null,null,null,null,null,null,null,null,null,{"$f":"ListAVS!$B$83&\" [kg] \"","v":"Hmotnost úchytky [kg] "},null,null,null,null,null,{"$f":"H25","v":0},{"$f":"IF(SUM(T86,T87)=0,\" \",IF(T89=0,\" ● \"&ListAVS!$B$129,\" \"))","v":" "},null,null,null,{"$f":"$Y$80","v":680},{"$f":"$Z$80","v":"Dřevotříska (680 kg/m3)"},null,null,null,{"$f":"AD80","v":12.5},{"$f":"IF($AG$77=1,AF89*AD89,AG89*AD89)","v":0.08},{"$f":"SUM(($T$86-80)*($T$87/2-80)/1000000)","v":6.4000000000000003E-3},{"$f":"SUM(($T$86-6)*($T$87/2-6)/1000000)","v":3.6000000000000001E-5},"5mm"]
[null,null,null,null,null,null,null,null,null,null,null,null,null,{"$f":"ListAVS!$B$79&\" [kg] \"","v":"Vypočtená hmotnost čela [kg] "},null,null,null,null,null,{"$f":"IF(X90*AD91<>0,SUM(X90,AD91,T89),0)","v":0},null,null,null,{"$f":"IF(T86*T87*T88=0,0,IF(Z87=1,Y87*Y88,IF(Z87=2,Y87*Y89,Y87*Y90)))","v":0},{"$f":"$Y$81","v":0},{"$f":"$Z$81","v":"Jiné - volitelná hustota"},null,null,null,{"$f":"AD81","v":0},{"$f":"IF($AG$77=1,AF90*AD90,AG90*AD90)","v":0},{"$f":"SUM(($T$86-80)*($T$87/2-80)/1000000)","v":6.4000000000000003E-3},{"$f":"SUM(($T$86-6)*($T$87/2-6)/1000000)","v":3.6000000000000001E-5},"jiné"]
[null,null,null,null,null,null,null,null,null,null,null,null,null,null,{"$f":"IF(T90>0,IF(T89=0,$Z$94,\" \"),\" \")","v":" "},null,null,null,null,null,null,null,null,null,null,null,null,null,null,{"$f":"IF(OR(AND(AF86=3, $T$73=0), T86*T87=0), 0, SUM(IF(AF86=1,AE88,IF(AF86=2,AE89,AE90)),AE87,AE86))","v":0}]
[]
[]
[null,null,null,null,null,null,null,null,null,null,null,null,null,null,null,null,null,null,null,null,null,null,{"$f":"ListAVS!$B$422&\"  \"","v":"s vloženým sklem  "},{"$f":"MenuAVS!$I$86","v":0.62},null,{"$f":"ListAVS!$B$102&\"!\"","v":"Není započtena hmotnost úchytky!"},null,null,null,null,null,{"$f":"ListAVS!$B$93","v":"Alurámečky s 4mm sklem"}]
[null,null,null,null,null,null,null,null,null,null,null,null,null,null,null,null,null,null,null,null,null,null,{"$f":"ListAVS!$B$423&\"  \"","v":"s naloženým nebo nalepeným sklem  "},{"$f":"MenuAVS!$I$87","v":0.63},null,null,null,null,null,null,null,{"$f":"ListAVS!$B$94","v":"Alurámečky s 5mm sklem"}]
[null,null,null,null,null,null,null,null,null,null,null,null,null,null,null,null,null,null,null,null,null,null,{"$f":"ListAVS!$B$405&\" [kg/set] *  \"","v":"Hmotnost spojovacího materiálu [kg/set] *  "},{"$f":"MenuAVS!$I$88","v":0.61},null,null,null,null,null,null,null,{"$f":"ListAVS!$B$95","v":"Alurámečky s jiným sklem"}]
[]
[]
[]
[null,{"$f":"ListAVS!$B$194","v":"Výpočet asymetrických čel"}]
[]
[null,{"$f":"\"   \"&ListAVS!$B$197","v":"   Parametry korpusu"}]
[null,{"$f":"ListAVS!$B$75&\" KH [mm] \"","v":"Výška korpusu KH [mm] "},null,null,null,null,null,null,null,null,{"$f":"IF(I103<480, \" min. 480\", IF(I103>1200, \" max. 1200\", \" \"))","v":" min. 480"},null,null," <=519"," >=520"]
[null,{"$f":"ListAVS!$B$200&\" F1 [mm] \"","v":"Mezera nahoře F1 [mm] "}]
[null,{"$f":"ListAVS!$B$201&\" F2 [mm] \"","v":"Mezera mezi čely F2 [mm] "},null,null,null,null,null,null,null,null,{"$f":"IF($I$103=0,\" \",IF($I$105<1.5,\" min. 1,5 mm!\",\" \"))","v":" "}]
[null,{"$f":"ListAVS!$B$202&\" F3 [mm] \"","v":"Mezera dole F3 [mm] "},null,null,null,null,null,null,null,null,null,null,"Z",170,189]
[null,{"$f":"ListAVS!$B$203&\" [mm] \"","v":"Síla dna korpusu [mm] "},null,null,null,null,null,null,null,null,null,null,"H",93,116]
[]
[null,{"$f":"\"   \"&ListAVS!$B$205","v":"   Výsledky plánování"},null,null,null,null,null,null,null,null,null,null,null,"FHo","FHo"]
[null,null,null,null,null,null,{"$f":"ListAVS!$B$206&\" [mm] \"","v":"Možné výšky čel [mm] "},null,null,null,null,null,null,"min ↓↓","min ↓↓"]
[null,{"$f":"ListAVS!$B$207","v":"Čelo nahoře (FHo) v rozmezí"},null,null,null,null,"min.",{"$f":"IF(AND($I$103>=480, $I$103<=519), $N$111, IF(AND($I$103>=520, $I$103<=1200), $O$111, $S$115))","v":"nelze"},"max.",{"$f":"IF(AND($I$103>=480, $I$103<=519), $N$115, IF(AND($I$103>=520, $I$103<=1200), $O$115, $S$115))","v":"nelze"},null,null,null,{"$f":"SUM(I103, -I104, -I105, -I106, -N120)","v":0},{"$f":"SUM(I103, -I104, -I105, -I106, -O120)","v":0}]
[null,{"$f":"ListAVS!$B$208","v":"Čelo dole (FHu) v rozmezí"},null,null,null,null,"min.",{"$f":"IF(AND($I$103>=480, $I$103<=519), $N$118, IF(AND($I$103>=520, $I$103<=1200), $O$118, $S$115))","v":"nelze"},"max.",{"$f":"IF(AND($I$103>=480, $I$103<=519), $N$120, IF(AND($I$103>=520, $I$103<=1200), $O$120, $S$115))","v":"nelze"},null,null,null,"max ↓↓","max ↓↓"]
[null,null,null,null,null,null,null,null,null,null,null,null,null,{"$f":"ROUNDUP(SUM(519, -$I$104, -$I$105, -$I$106)/2, 0)","v":260},{"$f":"ROUNDUP(SUM(1200, -$I$104, -$I$105, -$I$106)/2, 0)","v":600},"absolutně"]
[null,{"$f":"ListAVS!$B$214&\" FHo [mm] \"","v":"Výška čela nahoře FHo [mm] "},null,null,null,null,null,null,null,null,{"$f":"IF($I$103=0,\" \",IF($I$114>$J$111,V114,IF($I$114<$H$111,$S$114,\" \")))","v":" "},null,null,{"$f":"SUM(I103, -I104, -I105, -I106, -N118)","v":-219},{"$f":"SUM(I103, -I104, -I105, -I106, -O118)","v":-238},"vypočtená",null,null,{"$f":"\" min. \"&TEXT($H$111,\"#\")&\" mm!\"","v":" min. nelze mm!"},null,null,{"$f":"\" max. \"&TEXT($J$111,\"#\")&\" mm!\"","v":" max. nelze mm!"}]
[null,{"$f":"ListAVS!$B$215&\" FHu [mm] \"","v":"Výška čela dole FHu [mm] "},null,null,null,null,null,null,{"$f":"IF($I$114<$H$111,$S$115,IF($I$114>$J$111,$S$115,+$I$103-$I$104-$I$105-$I$106-$I$114))","v":"nelze"},null,null,null,null,{"$f":"IF($N$114>$N$113, $N$113, $N$114)","v":-219},{"$f":"IF($O$114>$O$113, $O$113, $O$114)","v":-238},"výsledná",null,null,{"$f":"ListAVS!B211","v":"nelze"}]
[null,{"$f":"ListAVS!$B$216&\" H [mm] \"","v":"Pozice zdvihače H [mm] "},null,null,null,null,null,null,{"$f":"IF(AND($I$103>=480, $I$103<520), $N$107, IF(AND($I$103>=520, $I$103<=1200), $O$107, $S$115))","v":"nelze"},null,null,null,null,"FHu","FHu"]
[null,{"$f":"ListAVS!$B$217&\" Z [mm] \"","v":"Pozice mont. podložky pro teleskopy Z [mm] "},null,null,null,null,null,null,{"$f":"IF(AND($I$103>=480, $I$103<520), $N$106, IF(AND($I$103>=520, $I$103<=1200), $O$106, $S$115))","v":"nelze"},null,null,null,null,"min ↓↓","min ↓↓"]
[null,{"$f":"ListAVS!$B$218&\" TKH [mm] * \"","v":"Teoretická výška korpusu TKH [mm] * "},null,null,null,null,null,null,{"$f":"IF($I$115=$S$115, $S$115, IF($Q$118>=480, IF($Q$118<=1202, $Q$118, $S$115),\" \"))","v":"nelze"},null,null,null,null,{"$f":"SUM(N106, 32, 17, $I$107, -$I$106)","v":219},{"$f":"SUM(O106, 32, 17, $I$107, -$I$106)","v":238},"TKH",{"$f":"ROUND(SUM($I$114*2+$I$104+$I$105+$I$106), -1)","v":0}]
[null,null,null,null,null,null,null,null,null,null,null,null,null,"max ↓↓","max ↓↓"]
[null," *",{"$f":"ListAVS!$B$220","v":"Tuto výšku zadejte do tabulky pro plánování výklopů"},null,null,null,null,null,null,null,null,null,null,{"$f":"ROUNDDOWN(SUM(I103, -I104, -I105, -I106)/2, 0)","v":0},{"$f":"ROUNDDOWN(SUM(I103, -I104, -I105, -I106)/2, 0)","v":0}]
[]
[]
[]
[]
[null,null,null,null,null,null,null,null,{"$f":"ListAVS!$B$167","v":"Zpět"}]
[]
[]
[]
[]
[]
[]
[]
[]
[]
[]
[]
[]
[]
[null,"      AVENTOS HF"]
[]
[null,{"$f":"ListAVS!$B$302","v":"Potřebný zdvihač se určí pomocí ukazatele výkonnosti."}]
[null,{"$f":"ListAVS!$B$303","v":"Ukazatel výkonnosti závisí na hmotnosti dolního i horního čílka, a rovněž na výšce korpusu."}]
[]
[]
[null,null,null,{"$f":"ListAVS!$B$86&\" = \"","v":"Ukazatel výkonnosti = "},{"$f":"ListAVS!$B$319&\" [kg]\"","v":"výška korpusu KH [mm] x hmotnost obou čel včetně úchytky [kg]"}]
[]
[]
[]
[]
[]
[null,{"$f":"ListAVS!$B$311","v":"Pokud znáte hmotnost čela, můžete ji zadat, jinak použijte \"Výpočet hmotnosti\"."}]
[null,{"$f":"ListAVS!$B$312","v":"V tabulce má přednost zadaná hodnota. Chcete-li použít vypočtenou hmotnost, smažte zadanou hodnotu."}]
[]
[null,{"$f":"ListAVS!$B$322&\". \"&ListAVS!$B$323&\".\"","v":"Délka teleskopů závisí na výšce korpusu KH. U asymetrických čel se použije teoretická výška TKH."}]
[]
[null,{"$f":"\" \"&ListAVS!$B$162&\":\"","v":" Asymetrická čela:"}]
[null,{"$f":"\" \"&ListAVS!$B$320","v":" Teoretická výška korpusu (TKH) = výška horního čela (FHo) x 2 (včetně mezer)"}]
[]
[null,{"$f":"ListAVS!$B$315","v":"U asymetrických čel musí být větší čelo nahoře!"}]
[]
[null,{"$f":"ListAVS!$B$325","v":"Pokud zadáte hodnotu TKH, použije se pro určení délky teleskopů"}]
[null,{"$f":"ListAVS!$B$326","v":"Nemáte-li asymetrická čela, nechte políčko prázdné."}]
[null,{"$f":"ListAVS!$B$327&\" ' \"&ListAVS!$B$194&\"' \"","v":"Pro výpočet TKH použijte ' Výpočet asymetrických čel' "}]
[]
[]
[null,{"$f":"ListAVS!$B$305","v":"Chcete-li změnit barvu krytek, přejděte na \"Úvod plánování\""}]
[]
[null,{"$f":"ListAVS!$B$411","v":"Věnujte pozornost výběru alurámečků."}]
[null,{"$f":"ListAVS!$B$412","v":"Vyberte, který typ lépe odpovídá tvaru použitého alurámečku."}]
[null,{"$f":"ListAVS!$B$413","v":"Způsob osazení skla do rámečku výrazně ovlivňuje plochu skla a tím i hmotnost!"}]
[]
[null,null,{"$f":"\"  \"&ListAVS!$B$422&\"  \"","v":"  s vloženým sklem  "}]
[]
[null,null,{"$f":"\"  \"&ListAVS!$B$423&\"  \"","v":"  s naloženým nebo nalepeným sklem  "}]
[]
[null,null,null,null,null,null,null,null,null,null,null,{"$f":"ListAVS!$B$167","v":"Zpět"}]

{"sheet":"HFwa_w","index":12,"n_rows":176,"n_cols":43,"rows_kept":176,"cut":false,"hidden":false,"merged":[[0,55,0,63],[1,1,1,2],[6,1,6,2],[6,6,6,7],[8,19,8,20],[8,1,8,2],[8,5,8,7],[7,39,7,40],[8,39,8,40],[10,1,10,3],[11,1,11,6],[12,1,14,2],[12,3,12,6],[13,3,13,6],[14,3,14,6],[9,39,9,40],[30,19,30,20],[15,1,15,6],[16,1,16,6],[19,19,19,20],[20,1,20,6],[21,1,21,3],[19,1,19,2],[19,5,19,7],[22,1,22,6],[26,1,26,6],[27,1,27,6],[30,1,32,9],[23,1,25,2],[23,3,23,6],[9,1,9,6],[111,1,111,5],[113,8,113,9],[109,1,109,5],[75,13,75,16],[75,17,75,19],[102,13,104,13],[102,14,104,14],[11,39,12,42],[13,39,14,42],[87,13,87,18],[88,13,88,18],[89,13,89,18],[78,13,78,18],[79,13,79,18],[80,13,80,18],[84,17,84,19],[86,13,86,18],[85,13,85,18],[124,8,124,9],[138,0,178,0],[144,4,144,11],[115,1,115,7],[115,8,115,9],[116,1,116,7],[116,8,116,9],[117,1,117,7],[117,8,117,9],[98,0,137,0],[101,1,101,9],[102,1,102,7],[102,8,102,9],[104,8,104,9],[105,1,105,7],[105,8,105,9],[114,1,114,7],[113,1,113,7],[24,3,24,6],[25,3,25,6],[72,15,72,19],[103,8,103,9],[76,13,76,18],[77,13,77,18],[103,1,103,7],[114,8,114,9],[109,6,109,9],[110,1,110,5],[104,1,104,7],[108,1,108,9],[106,1,106,7],[106,8,106,9]]}
[]
[null," AVENTOS HF top",null,null,null,null,null,null,null,null,null,null,null,null,"rámeček",null,null,null,3,null,null,null,null,null,null,null,null,null,null,null,null,null,null,null,null,null,null,{"$f":"ListAVS!$B$152","v":"Jdi na"}]
[]
[null,{"$f":"ListAVS!$B$20&\" ***\"","v":"Široký alurámeček ***"},null,null,null,{"$f":"ListAVS!$B$35&\"  \"","v":"horní čelo  "},null,null,null,null,{"$f":"U71","v":" "},null,null,null,1,null,null,null,{"$f":"\" \"&ListAVS!$B$41&\" A \"","v":" Cena za korpus A "},null,null,null,null,"výpočet",null,null,null,null,null,null,null,null,null,null,null,null,null,{"$f":"\" \"&ListAVS!$B$153","v":" Úvod plánování"}]
[null,{"$f":"ListAVS!$B$17","v":"Dřevěné čelo"},null,null,null,{"$f":"ListAVS!$B$36&\"  \"","v":"dolní čelo  "},null,null,null,null,{"$f":"U72","v":" "},null,null,null,"A = 1",null,null,null,{"$f":"\" \"&ListAVS!$B$41&\" B \"","v":" Cena za korpus B "},null,null,null,null,null,null,null,null,null,null,null,null,null,null,null,null,null,null,{"$f":"\" \"&ListAVS!$B$154","v":" Nápověda"}]
[null,null,null,null,null,null,null,null,null,{"$f":"IF($AF$77<>3,$Y$73,\" \")&\"      \"","v":" Změnit hodnoty můžete v Úvodu plánování      "},null,null,null,null,"B = 2",null,null,null,{"$f":"\" \"&ListAVS!$B$61","v":" Cena celkem bez DPH"}]
[null,{"$f":"ListAVS!$B$51&\":   \"","v":"Cena kování:   "},null,null,null,null,{"$f":"IF(S2=1,$AF$47,IF($S$2=2,$AH$47,IF($S$2=3,$AD$47,0)))","v":0},null,null,null,null,null,null,null,null,null,null,null,null,null,null,null,null,null,{"$f":"$B$2","v":" AVENTOS HF top"},null,null,null,null,null,null,null,null,null,null,null,null,{"$f":"\" \"&ListAVS!$B$159","v":" Doplňky"}]
[null,null,null,null,null,null,null,{"$f":"IF(AND(OR($S$9=2, $S$20=2), $AD$47>0), $N$35, \" \")","v":" "},null,null,null,null,null,null,null,null,null,null,null,null,null,null,null,null,{"$f":"ListAVS!B52","v":"Název"},{"$f":"ListAVS!$B$53","v":"Číslo artiklu"},{"$f":"ListAVS!B54","v":"Barva"},{"$f":"ListAVS!B56","v":"Ks"},{"$f":"ListAVS!B58","v":"Jednotková cena"},{"$f":"ListAVS!B59","v":"Celkem"},"A","Cena","B","Cena",null,null,null,null,null,{"$f":"\"  \"&ListAVS!$B$86&\" LF \"","v":"  Ukazatel výkonnosti LF "},null,"Zdvihací mechanizmus vruty","Zdvihací mechanizmus šrouby"]
[null,{"$f":"\"▼ \"&ListAVS!$B$317","v":"▼ Způsob otvírání"},null,{"$f":"IF($M$17>0, ListAVS!$B$37&\": \", \" \")","v":" "},{"$f":"IF(SUM($AE$9:$AE$10)>0,25,IF(SUM($AE$11:$AE$12)>0,28,\" \"))","v":" "},{"$f":"ListAVS!$B$64&\" A\"","v":"Korpus A"},null,null,null,null,null,null,null,"zdvih A",null,"teleskop",null,null,1,false,null," - SRVDRV",null,null,{"$f":"CenAVS!A11","v":"Sada zdvihačů HF top, na vruty"},{"$f":"CenAVS!B11","v":"22F2500"},{"$f":"CenAVS!C11","v":"ZN"},{"$f":"SUM(AE9,AG9)","v":0},{"$f":"CenAVS!F11","v":1651.93},{"$f":"AB9*AC9","v":0},{"$f":"IF($Y$48=1,ROUNDUP($M$17*$O$11,0),0)","v":0},{"$f":"$AC9*AE9","v":0},{"$f":"IF($Y$48=1,ROUNDUP($M$28*$O$22,0),0)","v":0},{"$f":"$AC9*AG9","v":0},null,null,null,{"$f":"\" \"&ListAVS!$B$156","v":" Přehled korpusů"},null,"    2700 - 13500",null,"22F2500","22F2510"]
[null,{"$f":"ListAVS!$B$74&\" KB [mm] \"","v":"Šířka korpusu KB [mm] "},null,null,null,null,null,null,{"$f":"IF(H10=0,\" \",IF($H10<220,\" min. 220mm\",\" \"))&IF(H17>0,IF(H10=0,\"● \"&ListAVS!$B$128,\" \"),\" \")","v":"  "},null,null,null,null,null,null,"F32",{"$f":"IF(AND($P$16>=$AB$54,$P$16<=$AC$54),SUM($O$11:$O$12),0)","v":0},null,null,"Závěs A",null,"Závěs As",null,null,{"$f":"CenAVS!A12","v":"Sada zdvihačů HF top, předmont. eurošrouby"},{"$f":"CenAVS!B12","v":"22F2510"},{"$f":"CenAVS!C12","v":"ZN"},0,{"$f":"CenAVS!F12","v":1651.93},{"$f":"AB10*AC10","v":0},{"$f":"IF($Y$48=2,ROUNDUP($M$17*$O$11,0),0)","v":0},0,{"$f":"IF($Y$48=2,ROUNDUP($M$28*$O$22,0),0)","v":0},0,null,null,null,{"$f":"\" \"&ListAVS!$B$157","v":" Objednávka"},null,"  10000 - 19300",null,"22F2800","22F2810"]
[null,{"$f":"ListAVS!$B$75&\" [mm]\"","v":"Výška korpusu [mm]"},null,null,"TKH * ",null,"KH ",null,{"$f":"IF(H11=0,\" \",IF($H11<480,\" min. 480mm\",IF($H11>1200,\" max. 1 200mm\",\" \")))&IF(H17>0,IF(H11=0,\"● \"&ListAVS!$B$128,\" \"),\" \")","v":"  "},null,null,null,null,"F25",{"$f":"IF($H16<$AB$50,0,IF($H16<=$AC$50,1,0))","v":0},"F35",{"$f":"IF(AND($P$16>=$AB$55,$P$16<=$AC$55),SUM($O$11:$O$12),0)","v":0},null,null,"T558E",{"$f":"IF($N$48=1, IF(OR($H$10>=1200, $T$17>=12), 3, 2))+IF($N$48=1,IF(OR($H$10=1800, $T$17>=20), 1, 0))","v":0},"Z553E",{"$f":"IF($P$48=1, IF(OR($H$10>=1200, $T$17>=12), 3, 2))+IF($P$48=1,IF(OR($H$10=1800, $T$17>=20), 1, 0))","v":2},null,{"$f":"CenAVS!A13","v":"Sada zdvihačů HF top, na vruty"},{"$f":"CenAVS!B13","v":"22F2800"},{"$f":"CenAVS!C13","v":"ZN"},0,{"$f":"CenAVS!F13","v":1805.55},0,{"$f":"IF($Y$48=1,ROUNDUP($M$17*$O$12,0),0)","v":0},0,{"$f":"IF($Y$48=1,ROUNDUP($M$28*$O$23,0),0)","v":0},0]
[null,{"$f":"ListAVS!$B$77&\" [kg] ** \"","v":"Hmotnost čela včetně úchytky [kg] ** "},null,null,null,null,null,null,{"$f":"IF($T14=\"ne\", \" \", IF(AND($H12=0,$H15=0, $H17>0),$N$37,\" \"))&IF(AND($H17>0, $H12>0, $M17>0),$N$41,\" \")","v":"  "},null,null,null,null,"F28",{"$f":"IF($H16<$AB$51,0,IF($H16<=$AC$51,1,0))","v":0},"F39",{"$f":"IF(AND($P$16>=$AB$56,$P$16<=$AC$56),SUM($O$11:$O$12),0)","v":0},null,null,"T5550",{"$f":"IF($N$48=2, IF(OR($H$10>=1200, $T$17>=12), 3, 2))+IF($N$48=2,IF(OR($H$10=1800, $T$17>=20), 1, 0))","v":2},"Z5500",{"$f":"IF($P$48=2, IF(OR($H$10>=1200, $T$17>=12), 3, 2))+IF($P$48=2,IF(OR($H$10=1800, $T$17>=20), 1, 0))","v":0},null,{"$f":"CenAVS!A14","v":"Sada zdvihačů HF top, předmont. eurošrouby"},{"$f":"CenAVS!B14","v":"22F2810"},{"$f":"CenAVS!C14","v":"ZN"},0,{"$f":"CenAVS!F14","v":1805.55},0,{"$f":"IF($Y$48=2,ROUNDUP($M$17*$O$12,0),0)","v":0},0,{"$f":"IF($Y$48=2,ROUNDUP($M$28*$O$23,0),0)","v":0},0,null,null,null,null,null,{"$f":"ListAVS!$B$86&\" LF = \"&ListAVS!$B$319&\" [kg]\"","v":"Ukazatel výkonnosti LF = výška korpusu KH [mm] x hmotnost obou čel včetně úchytky [kg]"}]
[null,{"$f":"ListAVS!$B$292","v":"Výpočet hmotnosti"},null,{"$f":"ListAVS!$B$82&\" TS [mm] \"","v":"Síla dolního čela TS [mm] "},null,null,null,null,{"$f":"IF(OR(H17=0, $T14=\"ne\"),\" \",IF(AND(H12=0, H13=0),\" ● \"&ListAVS!$B$128,\" \"))","v":" "},null,null,null,null,null,null,null,null,null,null,null,null,null,null,null,{"$f":"CenAVS!A15","v":"Sada teleskopů HF top (480–610 mm)"},{"$f":"CenAVS!B15","v":"22F3200"},{"$f":"CenAVS!C15","v":"NI"},0,{"$f":"CenAVS!F15","v":785.14},0,{"$f":"ROUNDUP($M$17*Q10,0)","v":0},0,{"$f":"ROUNDUP($M$28*Q21,0)","v":0},0]
[null,null,null,{"$f":"ListAVS!$B$83&\" [kg] \"","v":"Hmotnost úchytky [kg] "},null,null,null,null,{"$f":"IF(M17=0, \" \", IF(AND(H12=0, S9=1, H14=0), \" ● \"&ListAVS!$B$129,\" \"))","v":" "},null,null,null,null,null,null,null,null,null,"limit v/š",{"$f":"IF(AND(220<=H10, H10<=1800, 480<=P16, P16<=1200),\"ano\",\"ne\")","v":"ne"},null,null,null,null,{"$f":"CenAVS!A16","v":"Sada teleskopů HF top (600–910 mm)"},{"$f":"CenAVS!B16","v":"22F3500"},{"$f":"CenAVS!C16","v":"NI"},0,{"$f":"CenAVS!F16","v":964.4},0,{"$f":"ROUNDUP($M$17*Q11,0)","v":0},0,{"$f":"ROUNDUP($M$28*Q22,0)","v":0},0]
[null,null,null,{"$f":"ListAVS!$B$79&\" [kg] \"","v":"Vypočtená hmotnost čela [kg] "},null,null,null,{"$f":"$T$81","v":0},{"$f":"IF($M17>0,IF($H15>0,IF($H12=0,$N$41,\" \"),\" \"),\" \")&IF(AND(H17>0, H12=0, Z78=3, $J$4=0), $N$39, \" \")","v":"  "},null,null,null,null,null,null,null,null,null,"limit LF",{"$f":"IF(AND(H16>=$AB$50, H16<=$AC$51), \"ano\", \"ne\")","v":"ne"},null,null,null,null,{"$f":"CenAVS!A17","v":"Sada teleskopů HF top (840–1200 mm)"},{"$f":"CenAVS!B17","v":"22F3900"},{"$f":"CenAVS!C17","v":"NI"},0,{"$f":"CenAVS!F17","v":1143.6400000000001},0,{"$f":"ROUNDUP($M$17*Q12,0)","v":0},0,{"$f":"ROUNDUP($M$28*Q23,0)","v":0},0]
[null,{"$f":"ListAVS!$B$86&\" LF \"","v":"Ukazatel výkonnosti LF "},null,null,null,null,null,{"$f":"IF(H12>0, H11*H12, H11*H15)","v":0},{"$f":"IF(AND(H16>0, H16<$AB$50), $T$44, IF($H16>$AC$51, $N$44, \"  \"))","v":"  "},null,null,null,null,null,"výška korpusu",{"$f":"IF(F11>0,IF(F11>=H11,F11,0),H11)","v":0},null,null,null,null,null,null,null,null,{"$f":"CenAVS!A47","v":"Sada krytek HF, HS, HL top, světle šedá"},{"$f":"CenAVS!B47","v":"22.8000"},{"$f":"CenAVS!C47","v":"HGR"},{"$f":"SUM(AE16,AG16)","v":0},{"$f":"CenAVS!F47","v":252.85},0,{"$f":"IF(AND($S$9=1, $T$48=1), SUM($AE$9:$AE$12), 0)","v":0},0,{"$f":"IF(AND($S$20=1, $T$48=1), SUM($AG$9:$AG$12), 0)","v":0},0]
[null,{"$f":"ListAVS!$B$71&\" \"","v":"Počet skříněk "},null,null,null,null,null,null,null,null,null,null,{"$f":"IF($H10*$P16=0,0,IF(SUM($H12,$H15)=0,0,IF($P16>$AC$57,0,IF(P16<$AB$54,0,IF(OR(T14=\"ne\", T15=\"ne\"),0,$H17)))))","v":0},"← Hlavní údaj",null,null,null,null,"hmot =",{"$f":"IF(H12>0,H12,H15)","v":0},{"$f":"IF(SUM(H12,H15)=0,0,IF(H12>0,1,2))","v":0},"zadaná / vypočtená",null,null,{"$f":"CenAVS!A48","v":"Sada krytek HF, HS, HL top, tmavě šedá"},{"$f":"CenAVS!B48","v":"22.8000"},{"$f":"CenAVS!C48","v":"TGR"},0,{"$f":"CenAVS!F48","v":275.94},0,{"$f":"IF(AND($S$9=1, $T$48=2), SUM($AE$9:$AE$12), 0)","v":0},0,{"$f":"IF(AND($S$20=1, $T$48=2), SUM($AG$9:$AG$12), 0)","v":0},0,null,null,null,null,null,"vruty = zdvihače s integrovanou šablonou (bez nutnosti rozměřování)"]
[null,{"$f":"IF(H17>0,IF(U17=0,\" \",IF(U17=1,$N$53,$N$54)),\" \")&IF(H17>0,IF(U17=0,\" \",IF(U17=1,$N$55,$N$56)),\" \")","v":"  "},null,null,null,null,null,null,null,null,null,null,null,null,null,null,null,null,null,null,null,null,null,null,{"$f":"CenAVS!A49","v":"Sada krytek HF, HS, HL top, hedvábně bílá"},{"$f":"CenAVS!B49","v":"22.8000"},{"$f":"CenAVS!C49","v":"SW"},0,{"$f":"CenAVS!F49","v":275.94},0,{"$f":"IF(AND($S$9=1, $T$48=3), SUM($AE$9:$AE$12), 0)","v":0},0,{"$f":"IF(AND($S$20=1, $T$48=3), SUM($AG$9:$AG$12), 0)","v":0},0,null,null,null,null,null,"šrouby = zdvihače s přednotovanými šrouby (nutné předvrtání)"]
[null,{"$f":"IF(F11=0,\" \",IF(F11>1200,\"TKH = max. 1200!\",IF(F11<480,\"TKH = min. 480!\",IF(F11<H11,$N$59,IF(H17>0,IF(F11=0,\" \",IF(AND(F11>0,M17=1), $N$58,\" \")),\" \")))))","v":" "},null,null,null,null,null,null,null,null,null,null,null,null,null,null,null,null,null,null,null,null,null,null,{"$f":"CenAVS!A50","v":"Sada krytek pro SERVO-DRIVE, světle šedá"},{"$f":"CenAVS!B50","v":"23.8000"},{"$f":"CenAVS!C50","v":"HGR"},0,{"$f":"CenAVS!F50","v":2606.7600000000002},0,{"$f":"IF(AND($S$9=2, $T$48=1), $AE$45, 0)","v":0},0,{"$f":"IF(AND($S$20=2, $T$48=1), $AG$45, 0)","v":0},0,null,null,null,{"$f":"\" \"&ListAVS!$B$194","v":" Výpočet asymetrických čel"}]
[null,{"$f":"\"▼ \"&ListAVS!$B$317","v":"▼ Způsob otvírání"},null,{"$f":"IF($M$28>0, ListAVS!$B$37&\": \", \" \")","v":" "},{"$f":"IF(SUM($AG$9:$AG$10)>0,25,IF(SUM($AG$11:$AG$12)>0,28,\" \"))","v":" "},{"$f":"ListAVS!$B$64&\" B\"","v":"Korpus B"},null,null,null,null,null,null,null,"zdvih B",null,"teleskop",null,null,1,false,null," - SRVDRV",null,null,{"$f":"CenAVS!A51","v":"Sada krytek pro SERVO-DRIVE, tmavě šedá"},{"$f":"CenAVS!B51","v":"23.8000"},{"$f":"CenAVS!C51","v":"TGR"},0,{"$f":"CenAVS!F51","v":2709.29},0,{"$f":"IF(AND($S$9=2, $T$48=2), $AE$45, 0)","v":0},0,{"$f":"IF(AND($S$20=2, $T$48=2), $AG$45, 0)","v":0},0]
[null,{"$f":"ListAVS!$B$74&\" KB [mm] \"","v":"Šířka korpusu KB [mm] "},null,null,null,null,null,null,{"$f":"IF(H21=0,\" \",IF($H21<220,\" min. 220mm\",IF($H21>1800,\" max. 1 800mm\",\" \")))&IF(H28>0,IF(H21=0,\"● \"&ListAVS!$B$128,\" \"),\" \")","v":"  "},null,null,null,null,null,null,"F32",{"$f":"IF(AND($P$27>=$AB$54,$P$27<=$AC$54),SUM($O$22:$O$23),0)","v":0},null,null,"Závěs B",null,"Závěs Bs",null,null,{"$f":"CenAVS!A52","v":"Sada krytek pro SERVO-DRIVE,hedvábně bílá"},{"$f":"CenAVS!B52","v":"23.8000"},{"$f":"CenAVS!C52","v":"SW"},0,{"$f":"CenAVS!F52","v":2709.29},0,{"$f":"IF(AND($S$9=2, $T$48=3), $AE$45, 0)","v":0},0,{"$f":"IF(AND($S$20=2, $T$48=3), $AG$45, 0)","v":0},0]
[null,{"$f":"ListAVS!$B$75&\" [mm]\"","v":"Výška korpusu [mm]"},null,null,"TKH * ",null,"KH ",null,{"$f":"IF(H22=0,\" \",IF($H22<480,\" min. 480mm\",IF($H22>1200,\" max. 1 200mm\",\" \")))&IF(H28>0,IF(H22=0,\"● \"&ListAVS!$B$128,\" \"),\" \")","v":"  "},null,null,null,null,"F25",{"$f":"IF($H27<$AB$50,0,IF($H27<=$AC$50,1,0))","v":0},"F35",{"$f":"IF(AND($P$27>=$AB$55,$P$27<=$AC$55),SUM($O$22:$O$23),0)","v":0},null,null,"T558E",{"$f":"IF($N$48=1, IF(OR($H$21>=1200, $T$28>=12), 3, 2))+IF($N$48=1,IF(OR($H$21=1800, $T$28>=20), 1, 0))","v":0},"Z553E",{"$f":"IF($P$48=1, IF(OR($H$21>=1200, $T$28>=12), 3, 2))+IF($P$48=1,IF(OR($H$21=1800, $T$28>=20), 1, 0))","v":2},null,{"$f":"CenAVS!A18","v":"Závěs CLIP top 120° "},{"$f":"CenAVS!B18","v":"70T5550.TL"},{"$f":"CenAVS!C18","v":"NI"},0,{"$f":"CenAVS!F18","v":56.56},0,{"$f":"$U$12*$M$17","v":0},0,{"$f":"$U$23*$M$28","v":0},0]
[null,{"$f":"ListAVS!$B$77&\" [kg] ** \"","v":"Hmotnost čela včetně úchytky [kg] ** "},null,null,null,null,null,null,{"$f":"IF($H28=0,\" \",IF(SUM($H23,$H26)=0,$N$37,\" \"))&IF($H28>0,IF($H23>0,$N$41,\" \"),\" \")","v":"  "},null,null,null,null,"F28",{"$f":"IF($H27<$AB$51,0,IF($H27<=$AC$51,1,IF($H27>$AB$52,1.5,0)))","v":0},"F39",{"$f":"IF(AND($P$27>=$AB$56,$P$27<=$AC$56),SUM($O$22:$O$23),0)","v":0},null,null,"T5550",{"$f":"IF($N$48=2, IF(OR($H$21>=1200, $T$28>=12), 3, 2))+IF($N$48=2,IF(OR($H$21=1800, $T$28>=20), 1, 0))","v":2},"Z5500",{"$f":"IF($P$48=2, IF(OR($H$21>=1200, $T$28>=12), 3, 2))+IF($P$48=2,IF(OR($H$21=1800, $T$28>=20), 1, 0))","v":0},null,{"$f":"CenAVS!A19","v":"Závěs CLIP top 120° EXPANDO"},{"$f":"CenAVS!B19","v":"70T558E"},{"$f":"CenAVS!C19","v":"NI"},0,{"$f":"CenAVS!F19","v":53.42},0,{"$f":"$U$11*$M$17","v":0},0,{"$f":"$U$22*$M$28","v":0},0]
[null,{"$f":"ListAVS!$B$292","v":"Výpočet hmotnosti"},null,{"$f":"ListAVS!$B$82&\" TS [mm] \"","v":"Síla dolního čela TS [mm] "},null,null,null,null,{"$f":"IF(H28=0,\" \",IF(AND(H23=0, H24=0),\" ● \"&ListAVS!$B$128,\" \"))","v":" "},null,null,null,null,null,null,null,null,null,null,null,null,null,null,null,{"$f":"CenAVS!A20","v":"Středový závěs CLIP top "},{"$f":"CenAVS!B20","v":"78Z5500T"},{"$f":"CenAVS!C20","v":"NI"},0,{"$f":"CenAVS!F20","v":92.71},0,{"$f":"$M$17*$W$12","v":0},0,{"$f":"$M$28*$W$23","v":0},0]
[null,null,null,{"$f":"ListAVS!$B$83&\" [kg] \"","v":"Hmotnost úchytky [kg] "},null,null,null,null,{"$f":"IF(M28=0, \" \", IF(AND(H23=0, S20=1, H25=0), \" ● \"&ListAVS!$B$129,\" \"))","v":" "},null,null,null,null,null,null,null,null,null,"limit v/š",{"$f":"IF(AND(220<=H21, H21<=1800, 480<=P27, P27<=1200),\"ano\",\"ne\")","v":"ne"},null,null,null,null,{"$f":"CenAVS!A21","v":"Středový závěs CLIP top EXPANDO"},{"$f":"CenAVS!B21","v":"78Z553ET"},{"$f":"CenAVS!C21","v":"NI"},0,{"$f":"CenAVS!F21","v":95.69},0,{"$f":"$M$17*$W$11","v":0},0,{"$f":"$M$28*$W$22","v":0},0]
[null,null,null,{"$f":"ListAVS!$B$79&\" [kg] \"","v":"Vypočtená hmotnost čela [kg] "},null,null,null,{"$f":"$T$90","v":0},{"$f":"IF($M28>0,IF($H26>0,IF($H23=0,$N$41,\" \"),\" \"),\" \")&IF(AND(H28>0, H23=0, Z89=3, $J$4=0), $N$39, \" \")","v":"  "},null,null,null,null,null,null,null,null,null,"limit LF",{"$f":"IF(AND(H27>=$AB$50, H27<=$AC$51), \"ano\", \"ne\")","v":"ne"},null,null,null,null,{"$f":"CenAVS!A22","v":"Závěs CLIP top pro alurámečky"},{"$f":"CenAVS!B22","v":"72T550A.TL"},{"$f":"CenAVS!C22","v":"NI"},null,{"$f":"CenAVS!F22","v":77.180000000000007},0,null,0,null,0]
[null,{"$f":"ListAVS!$B$86&\" LF \"","v":"Ukazatel výkonnosti LF "},null,null,null,null,null,{"$f":"IF(H22<1041,IF(H22>479,IF(H23>0,H22*H23,H22*H26),0),0)","v":0},{"$f":"IF(AND(H27>0, H27<$AB$50), $T$44, IF($H27>$AC$51, $N$44, \"  \"))","v":"  "},null,null,null,null,null,"výška korpusu",{"$f":"IF(F22>0,IF(F22>=H22,F22,0),H22)","v":0},null,null,null,null,null,null,null,null,{"$f":"CenAVS!A23","v":"Střed. závěs CLIP top pro alurámečky"},{"$f":"CenAVS!B23","v":"78Z550AT"},{"$f":"CenAVS!C23","v":"NI"},null,{"$f":"CenAVS!F23","v":101.63},0,null,0,null,0]
[null,{"$f":"ListAVS!$B$71&\" \"","v":"Počet skříněk "},null,null,null,null,null,null,null,null,null,null,{"$f":"IF($H21*$P27=0,0,IF(SUM($H23,$H26)=0,0,IF($P27>$AC$57,0,IF(P27<$AB$54,0,IF(OR(T25=\"ne\", T26=\"ne\"),0,$H28)))))","v":0},"← Hlavní údaj",null,null,null,null,"hmot =",{"$f":"IF(H23>0,H23,H26)","v":0},{"$f":"IF(SUM(H23,H26)=0,0,IF(H23>0,1,2))","v":0},"zadaná / vypočtená",null,null,{"$f":"CenAVS!A24","v":"Adaptér CLIP k teleskopům P"},{"$f":"CenAVS!B24","v":"175H5B00   R"},{"$f":"CenAVS!C24","v":"NI"},null,{"$f":"CenAVS!F24","v":90.34},0,null,0,null,0]
[null,{"$f":"IF(H28>0,IF(U28=0,\" \",IF(U28=1,$N$53,$N$54)),\" \")&IF(H28>0,IF(U28=0,\" \",IF(U28=1,$N$55,$N$56)),\" \")","v":"  "},null,null,null,null,null,null,null,null,null,null,null,null,null,null,null,null,null,null,null,null,null,null,{"$f":"CenAVS!A25","v":"Adaptér CLIP k teleskopům L"},{"$f":"CenAVS!B25","v":"175H5B00   L"},{"$f":"CenAVS!C25","v":"NI"},null,{"$f":"CenAVS!F25","v":90.34},0,null,0,null,0]
[null,{"$f":"IF(F22=0,\" \",IF(F22>1200,\"TKH = max. 1200!\",IF(F22<480,\"TKH = min. 480!\",IF(F22<H22,$N$59,IF(H28>0,IF(F22=0,\" \",IF(AND(F22>0,M28=1), $N$58,\" \")),\" \")))))","v":" "},null,null,null,null,null,null,null,null,null,null,null,null,null,null,null,null,null,null,null,null,null,null,{"$f":"CenAVS!A26","v":"Adaptér CLIP ke středovým závěsům"},{"$f":"CenAVS!B26","v":"175H5A00"},{"$f":"CenAVS!C26","v":"NI"},null,{"$f":"CenAVS!F26","v":90.34},0,null,0,null,0]
[null,{"$f":"IF(OR(AND($S$9=2, $M$17>0), AND($S$20=2, $M$28>0)), ListAVS!$B$175, \" \")","v":" "},null,null,null,null,null,null,null,null,null,null,null,null,null,null,null,null,{"$f":"IF($T$31=FALSE,2,1)","v":1},true,null," - Zdroj"]
[]
[null,null,null,null,null,null,null,null,null,null,null,null,null,null,null,null,null,null,null,null,null,null,null,null,{"$f":"CenAVS!A27","v":0},{"$f":"CenAVS!B27","v":0},{"$f":"CenAVS!C27","v":0},null,{"$f":"CenAVS!F27","v":0},0,null,0,null,0]
[null,null,null,null,null,null,null,null,null,null,null,null,null,null,null,null,null,null,null,null,null,null,null,null,null,null,null,null,null,0,null,0,null,0]
[null,null,{"$f":"IF($H16>25900,\" \",IF($H16>17250,$N$46,IF($H27>25900,\" \",IF($H27>17250,$N$46,\" \"))))","v":" "},null,null,null,null,null,null,null,null,null,null,{"$f":"ListAVS!B176","v":"Cena bez napájecího zdroje!"},null,null,null,null,null,null,null,null,null,null,null,null,null,null,null,0,null,0,null,0]
[null,null,null,null,null,null,null,null,null,null,null,null,null,null,null,null,null,null,null,null,null,null,null,null,{"$f":"CenAVS!A162","v":"CLIP top montážní podložka, excentr, 0 mm"},{"$f":"CenAVS!B162","v":"173H7100 "},{"$f":"CenAVS!C162","v":"NI"},{"$f":"SUM(AE36,AG36)","v":0},{"$f":"CenAVS!F162","v":17.84},0,{"$f":"SUM($AE$24:$AE$25)","v":0},0,{"$f":"SUM($AG$24:$AG$25)","v":0},0]
[null,null,{"$f":"\"*  \"&ListAVS!$B$183","v":"*  Pouze pro asymetrická čela: zadejte teoretickou výšku TKH."},null,null,null,null,null,null,null,null,null,null,{"$f":"\" \"&ListAVS!$B$115","v":" Zadejte hmotnost nebo vyplňte všechny buňky"},null,null,null,null,null,null,null,null,null,null,{"$f":"CenAVS!A163","v":"CLIP top mont. podložka, excentr, EXPANDO, 0 mm"},{"$f":"CenAVS!B163","v":"174H7100E "},{"$f":"CenAVS!C163","v":"NI"},null,{"$f":"CenAVS!F163","v":19.39},0,null,0,null,0]
[null,null,{"$f":"\" ( \"&ListAVS!$B$184&\")\"","v":" ( TKH = dvojnásobná výška horního čela včetně mezer)"},null,null,null,null,null,null,null,null,null,null,null,null,null,null,null,null,null,null,null,null,null,null,null,null,null,null,null,null,0,null,0]
[null,null,{"$f":"\" \"&ListAVS!$B$327&\" '\"&ListAVS!$B$194&\"' \"","v":" Pro výpočet TKH použijte 'Výpočet asymetrických čel' "},null,null,null,null,null,null,null,null,null,null,{"$f":"\" \"&ListAVS!$B$117","v":" Vyplňte nahoře objemovou hmotnost "}]
[]
[null,null,{"$f":"\"** \"&ListAVS!$B$186","v":"** Pokud znáte hmotnost a nechcete využít výpočtu hmotnosti"},null,null,null,null,null,null,null,null,null,null,{"$f":"\"◄ \"&ListAVS!$B$111","v":"◄ hodnota bude použita pro výpočet LF"}]
[null,null,{"$f":"\"*** \"&ListAVS!$B$403","v":"*** Vyberte typ alurámečku!"},null,null,null,null,null,null,null,null,null,null,{"$f":"\" * \"&ListAVS!$B$127","v":" * Doplňte hodnoty"},null,null,null,null,null,null,null,null,null,null,{"$f":"CenAVS!A166","v":"CLIP top přímá mont. podložka, ocel, 0 mm"},{"$f":"CenAVS!B166","v":"175H3100"},{"$f":"CenAVS!C166","v":"NI"},{"$f":"SUM(AE42,AG42)","v":0},{"$f":"CenAVS!F166","v":16.98},0,{"$f":"IF($R$48=2, SUM($U$11, $U$12, $W$12, $Q$10*2, $Q$11*2, $Q$12*2)*$M$17, 0)","v":0},{"$f":"$AC42*AE42","v":0},{"$f":"IF($R$48=2, SUM($U$22, $U$23, $W$23, $Q$21*2, $Q$22*2, $Q$23*2)*$M$28, 0)","v":0},{"$f":"$AC42*AG42","v":0}]
[null,null,{"$f":"\"      \"&ListAVS!$B$404","v":"      Více informací k výběru alurámečků v Nápovědě"},null,null,null,null,null,null,null,null,null,null,null,null,null,null,null,null,null,null,null,null,null,{"$f":"CenAVS!A167","v":"CLIP top přímá mont. podložka, ocel, EXP, 0 mm"},{"$f":"CenAVS!B167","v":"177H3100E "},{"$f":"CenAVS!C167","v":"NI"},{"$f":"SUM(AE43,AG43)","v":0},{"$f":"CenAVS!F167","v":17.07},0,{"$f":"IF($R$48=1, SUM($U$11, $U$12, $W$12, $Q$10*2, $Q$11*2, $Q$12*2)*$M$17, 0)","v":0},{"$f":"$AC43*AE45","v":0},{"$f":"IF($R$48=1, SUM($U$22, $U$23, $W$23, $Q$21*2, $Q$22*2, $Q$23*2)*$M$28, 0)","v":0},{"$f":"$AC43*AG43","v":0}]
[null,null,null,null,null,null,null,null,null,null,null,null,null,{"$f":"\" max. 19.300! \"&ListAVS!$B$121","v":" max. 19.300! Upravte hmotnost nebo výšku"},null,null,null,null,null,{"$f":"\" min. \"&$AB$50&\"! \"&ListAVS!$B$121","v":" min. 2700! Upravte hmotnost nebo výšku"},null,null,null,null,{"$f":"CenAVS!A169","v":0},{"$f":"CenAVS!B169","v":0},{"$f":"CenAVS!C169","v":0},null,{"$f":"CenAVS!F169","v":0},0,null,{"$f":"$AC44*AE44","v":0},null,{"$f":"$AC44*AG44","v":0}]
[null,null,null,null,null,null,null,null,null,null,null,null,null,{"$f":"\" \"&ListAVS!$B$119&\"!\"","v":" Přídavný třetí zdvihač!"},null,null,{"$f":"\" \"&ListAVS!$B$125&\"!\"","v":" Druhá pohonná jednotka!"},null,null,null,{"$f":"\" \"&ListAVS!B126","v":" Použijte pouze jeden zdvihač"},null,null,null,{"$f":"CenAVS!A171","v":"SERVO-DRIVE jednotka (sada)"},{"$f":"CenAVS!B171","v":"23.A000"},{"$f":"CenAVS!C171","v":"R7037"},{"$f":"SUM(AE45,AG45)","v":0},{"$f":"CenAVS!F171","v":8297.32},0,{"$f":"IF($S$9=1, 0, $M$17)+IF(AND($S$9=2, $H$16>$AB$52), $M$17, 0)","v":0},{"$f":"$AC45*AE45","v":0},{"$f":"IF($S$20=1, 0, $M$28)+IF(AND($S$20=2, $H$27>$AB$52), $M$28, 0)","v":0},{"$f":"$AC45*AG45","v":0}]
[null,null,null,null,null,null,null,null,null,null,null,null,null,{"$f":"ListAVS!$B$181","v":"Přídavný třetí zdvihač může být použit pouze s plným spodním čelem!"}]
[null,null,null,null,null,null,null,null,null,null,null,null,null,null,null,null,null,null,null,null,null,null,null,null,null,null,null,null,{"$f":"ListAVS!$B$61&\" \"","v":"Cena celkem bez DPH "},{"$f":"SUM(AD9:AD45)","v":0},null,{"$f":"SUM(AF9:AF46)","v":0},null,{"$f":"SUM(AH9:AH46)","v":0}]
[null,null,null,null,null,null,null,null,null,null,null,null,null,2,2,{"$f":"HF!$N$33","v":1},2,{"$f":"HF!$P$33","v":1},null,{"$f":"MenuAVS!$P$28","v":1},null,null,null,null,{"$f":"HF!$R$33","v":1},{"$f":"Param!M10","v":"Parametry HF"}]
[null,null,null,null,null,null,null,null,null,null,null,null,null,"záv.","alu","střed.","alu","podl.",null,"kryt.",null,null,"Provedení:",null,"montáž:",{"$f":"Param!M11","v":"Zdvihač"},{"$f":"Param!N11","v":"ks"},{"$f":"Param!O11","v":"min"},{"$f":"Param!P11","v":"max"},{"$f":"Param!Q11","v":"alu max."}]
[null,null,null,null,null,null,null,null,null,null,null,null,null,{"$f":"ListAVS!$B$133","v":"Expando"},null,{"$f":"ListAVS!$B$133","v":"Expando"},null,{"$f":"ListAVS!$B$133","v":"Expando"},null,{"$f":"ListAVS!$B$145","v":"Světle šedá (HGR)"},null,null,"Standard",null,"vruty",{"$f":"Param!M12","v":"22F2500"},{"$f":"Param!N12","v":1},{"$f":"Param!O12","v":2700},{"$f":"Param!P12","v":11500}]
[null,null,null,null,null,null,null,null,null,null,null,null,null,{"$f":"ListAVS!$B$134","v":"na vruty"},null,{"$f":"ListAVS!$B$134","v":"na vruty"},null,{"$f":"ListAVS!$B$134","v":"na vruty"},null,{"$f":"ListAVS!$B$146","v":"Tmavě šedá (TGR)"},null,null,"SERVO-DRIVE",null,"eurošrouby",{"$f":"Param!M13","v":"22F2800"},{"$f":"Param!N13","v":1},{"$f":"Param!O13","v":11500},{"$f":"Param!P13","v":19300},{"$f":"Param!Q13","v":19300}]
[null,null,null,null,null,null,null,null,null,null,null,null,null,null,null,null,null,null,null,{"$f":"ListAVS!$B$147","v":"Hedvábně bílá (SW)"},null,null,null,null,null,{"$f":"Param!M14","v":"22F2800"},{"$f":"Param!N14","v":1.5},{"$f":"Param!O14","v":19300},{"$f":"Param!P14","v":28950},{"$f":"Param!Q14","v":0}]
[null,null,null,null,null,null,null,null,null,null,null,null,null,{"$f":"ListAVS!B187","v":"Pro určení typu zdvihače bude použita zadaná hmotnost"},null,null,null,null,null,null,null,null,null,null,null,{"$f":"Param!M17","v":"Teleskop"},null,{"$f":"Param!O17","v":"min"},{"$f":"Param!P17","v":"max"},{"$f":"Param!Q17","v":0}]
[null,null,null,null,null,null,null,null,null,null,null,null,null,{"$f":"ListAVS!B188","v":"Pro určení typu zdvihače bude použita vypočtená hmotnost"},null,null,null,null,null,null,null,null,null,null,null,{"$f":"Param!M18","v":"20F3200"},{"$f":"Param!N18","v":0},{"$f":"Param!O18","v":480},{"$f":"Param!P18","v":605},{"$f":"Param!Q18","v":0}]
[null,null,null,null,null,null,null,null,null,null,null,null,null,{"$f":"\". \"&ListAVS!$B$189","v":". Chcete-li použít vypočtenou hmotnost, smažte zadanou hodnotu"},null,null,null,null,null,null,null,null,null,null,null,{"$f":"Param!M19","v":"20F3500"},{"$f":"Param!N19","v":0},{"$f":"Param!O19","v":605},{"$f":"Param!P19","v":890},{"$f":"Param!Q19","v":0}]
[null,null,null,null,null,null,null,null,null,null,null,null,null,{"$f":"\". \"&ListAVS!$B$190","v":". Chcete-li použít zadanou hmotnost, zadejte ji do políčka"},null,null,null,null,null,null,null,null,null,null,null,{"$f":"Param!M20","v":"20F3900"},{"$f":"Param!N20","v":0},{"$f":"Param!O20","v":890},{"$f":"Param!P20","v":1200},{"$f":"Param!Q20","v":0}]
[null,null,null,null,null,null,null,null,null,null,null,null,null,{"$f":"ListAVS!B191","v":0},null,null,null,null,null,null,null,null,null,null,null,null,null,{"$f":"Param!O21","v":"max."},{"$f":"Param!P21","v":1200},{"$f":"Param!Q21","v":0}]
[null,null,null,null,null,null,null,null,null,null,null,null,null,{"$f":"ListAVS!B192","v":"Pro výběr teleskopů bude použita teoretická výška TKH"}]
[null,null,null,null,null,null,null,null,null,null,null,null,null,{"$f":"ListAVS!B193","v":"Teoretická výška TKH nesmí být menší než KH"}]
[]
[]
[]
[]
[]
[]
[]
[]
[]
[]
[null,null,null,null,null,null,null,null,null,null,null,null,null,{"$f":"ListAVS!$B$73","v":"Výpočet hmotnosti čel"}]
[null,null,null,null,null,null,null,null,null,null,null,null,null,null,{"$f":"ListAVS!$B$35&\"  \"","v":"horní čelo  "},null,null,null,null,{"$f":"J4","v":0},{"$f":"IF(AF77=3,IF(T71=0,AE74,\" \"),IF(T71>0,AE75,\" \"))","v":" "},null,null,null,{"$f":"IF($AF$77=1,$AF$94,IF($AF$77=2,$AF$95,$AF$96&\" -  \"&$T$71&\"mm\"))","v":"Alurámečky s 4mm sklem"},null,null,null,null,{"$f":"MenuAVS!$Q$81","v":2500}]
[null,null,null,null,null,null,null,null,null,null,null,null,null,null,{"$f":"ListAVS!$B$36&\"  \"","v":"dolní čelo  "},null,null,null,null,{"$f":"J5","v":0},{"$f":"IF(Z78=3,IF(T72=0,Y74,\" \"),IF(T72>0,Y75,\" \"))","v":" "},null,null,null,{"$f":"IF($Z$78=1,$Z$79,IF($Z$78=2,$Z$80,$Z$81&\" \"&$Y$81&\"kg/m3\"))&\" A~\"&$T$79&\"/ B~\"&$T$88&\"mm\"","v":"MDF (760 kg/m3) A~0/ B~0mm"}]
[null,null,null,null,null,null,null,null,null,null,null,null,null,null,null,{"$f":"IF($Z$78<>3,$Y$73,\" \")&\"      \"","v":" Změnit hodnoty můžete v Úvodu plánování      "},null,null,null,null,null,null,null,null,{"$f":"\" \"&ListAVS!$B$410","v":" Změnit hodnoty můžete v Úvodu plánování"}]
[null,null,null,null,null,null,null,null,null,null,null,null,null,null,null,null,null,null,null,null,null,null,null,null,{"$f":"\" \"&ListAVS!$B$244&\" [kg/m3]\"","v":" Zadejte objemovou hmotnost  [kg/m3]"},null,null,null,null,null,{"$f":"\" \"&ListAVS!$B$245&\" [mm]\"","v":" Zadejte sílu skla [mm]"}]
[null,null,null,null,null,null,null,null,null,null,null,null,null,null,null,null,null,null,null,null,null,null,null,null,{"$f":"\" \"&ListAVS!$B$240&\" '\"&ListAVS!$B$92&\"'\"","v":" Hodnota platí jen pro volbu 'Jiné - volitelná hustota'"},null,null,null,null,null,{"$f":"\" \"&ListAVS!$B$240&\" '\"&ListAVS!$B$95&\"'\"","v":" Hodnota platí jen pro volbu 'Alurámečky s jiným sklem'"}]
[null,null,null,null,null,null,null,null,null,null,null,null,null,null,null,null,null,{"$f":"D9","v":" "},null,null,null,null,null,null,null,null,null,null,null,null,"váha spoj.","tl. skla","typ alu"]
[null,null,null,null,null,null,null,null,null,null,null,null,null,{"$f":"ListAVS!$B$74&\" KB [mm]       \"","v":"Šířka korpusu KB [mm]       "},null,null,null,null,null,{"$f":"H10","v":0},null,null,null,null,{"$f":"T77*T78*T79/2","v":0},null,null,null,null,{"$f":"IF($AG$77=1,$X$94,$X$95)","v":0.62},{"$f":"$X$96","v":0.61},1,{"$f":"$O$4","v":1}]
[null,null,null,null,null,null,null,null,null,null,null,null,null,{"$f":"ListAVS!$B$75&\" KH [mm]       \"","v":"Výška korpusu KH [mm]       "},null,null,null,null,null,{"$f":"H11","v":0},null,null,null,null,{"$f":"Y77/1000000000","v":0},{"$f":"AF77","v":1},null,null,null,"váha alu",{"$f":"SUM(T77*2,(T78/2-90)*2)*AD77/1000","v":-0.11159999999999999},"A plocha B"]
[null,null,null,null,null,null,null,null,null,null,null,null,null,{"$f":"ListAVS!$B$80&\" TS [mm] \"","v":"Síla čela TS [mm] "},null,null,null,null,null,{"$f":"H13","v":0},{"$f":"IF(SUM(T77,T78)=0,\" \",IF(T79=0,\" ● \"&ListAVS!$B$128,\" \"))","v":" "},null,null,null,{"$f":"MenuAVS!$C$31","v":760},{"$f":"ListAVS!$B$90&\" (\"&Y79&\" kg/m3)\"","v":"MDF (760 kg/m3)"},null,null,null,{"$f":"$AD$71*4/1000","v":10},{"$f":"IF($AG$77=1,AF79*AD79,AG79*AD79)","v":6.4000000000000001E-2},{"$f":"SUM(($T$77-80)*($T$78/2-80)/1000000)","v":6.4000000000000003E-3},{"$f":"SUM(($T$77-6)*($T$78/2-6)/1000000)","v":3.6000000000000001E-5},"4mm"]
[null,null,null,null,null,null,null,null,null,null,null,null,null,{"$f":"ListAVS!$B$83&\" [kg] \"","v":"Hmotnost úchytky [kg] "},null,null,null,null,null,{"$f":"H14","v":0},{"$f":"IF(SUM(T77,T78)=0,\" \",IF(T80=0,\" ● \"&ListAVS!$B$129,\" \"))","v":" "},null,null,null,{"$f":"MenuAVS!$C$32","v":680},{"$f":"ListAVS!$B$91&\" (\"&Y80&\" kg/m3)\"","v":"Dřevotříska (680 kg/m3)"},null,null,null,{"$f":"$AD$71*5/1000","v":12.5},{"$f":"IF($AG$77=1,AF80*AD80,AG80*AD80)","v":0.08},{"$f":"SUM(($T$77-80)*($T$78/2-80)/1000000)","v":6.4000000000000003E-3},{"$f":"SUM(($T$77-6)*($T$78/2-6)/1000000)","v":3.6000000000000001E-5},"5mm"]
[null,null,null,null,null,null,null,null,null,null,null,null,null,{"$f":"ListAVS!$B$79&\" [kg] \"","v":"Vypočtená hmotnost čela [kg] "},null,null,null,null,null,{"$f":"IF(X81*AD82<>0,SUM(X81,AD82,T80),0)","v":0},null,null,null,{"$f":"IF(T77*T78*T79=0,0,IF(Z78=1,Y78*Y79,IF(Z78=2,Y78*Y80,Y78*Y81)))","v":0},{"$f":"$T$72","v":0},{"$f":"ListAVS!$B$92","v":"Jiné - volitelná hustota"},null,null,null,{"$f":"$AD$71*$T$71/1000","v":0},{"$f":"IF($AG$77=1,AF81*AD81,AG81*AD81)","v":0},{"$f":"SUM(($T$77-80)*($T$78/2-80)/1000000)","v":6.4000000000000003E-3},{"$f":"SUM(($T$77-6)*($T$78/2-6)/1000000)","v":3.6000000000000001E-5},"jiné"]
[null,null,null,null,null,null,null,null,null,null,null,null,null,null,{"$f":"IF(T81>0,IF(T80=0,$Z$94,\" \"),\" \")","v":" "},null,null,null,null,null,null,null,null,null,null,null,null,null,null,{"$f":"IF(OR(AND(AF77=3, $T$71=0), T77*T78=0), 0, SUM(IF(AF77=1,AE79,IF(AF77=2,AE80,AE81)),AE78,AE77))","v":0}]
[]
[]
[null,null,null,null,null,null,null,null,null,null,null,null,null,null,null,null,null,{"$f":"D20","v":" "},null,null,null,null,null,null,null,null,null,null,null,null,"váha spoj.","tl. skla","typ alu"]
[null,null,null,null,null,null,null,null,null,null,null,null,null,{"$f":"ListAVS!$B$74&\" KB [mm]       \"","v":"Šířka korpusu KB [mm]       "},null,null,null,null,null,{"$f":"H21","v":0},null,null,null,null,{"$f":"T86*T87*T88","v":0},null,null,null,null,{"$f":"IF($AG$77=1,$X$94,$X$95)","v":0.62},{"$f":"$X$96","v":0.61},{"$f":"$AF$77","v":1},{"$f":"$AG$77","v":1}]
[null,null,null,null,null,null,null,null,null,null,null,null,null,{"$f":"ListAVS!$B$75&\" KH [mm]       \"","v":"Výška korpusu KH [mm]       "},null,null,null,null,null,{"$f":"H22","v":0},null,null,null,null,{"$f":"Y86/1000000000/2","v":0},{"$f":"Z78","v":1},null,null,null,"váha alu",{"$f":"SUM(T86*2,(T87/2-90)*2)*AD86/1000","v":-0.11159999999999999},"A plocha B"]
[null,null,null,null,null,null,null,null,null,null,null,null,null,{"$f":"ListAVS!$B$80&\" TS [mm] \"","v":"Síla čela TS [mm] "},null,null,null,null,null,{"$f":"H24","v":0},{"$f":"IF(SUM(T86,T87)=0,\" \",IF(T88=0,\" ● \"&ListAVS!$B$128,\" \"))","v":" "},null,null,null,{"$f":"$Y$79","v":760},{"$f":"$Z$79","v":"MDF (760 kg/m3)"},null,null,null,{"$f":"AD79","v":10},{"$f":"IF($AG$77=1,AF88*AD88,AG88*AD88)","v":6.4000000000000001E-2},{"$f":"SUM(($T$86-80)*($T$87/2-80)/1000000)","v":6.4000000000000003E-3},{"$f":"SUM(($T$86-6)*($T$87/2-6)/1000000)","v":3.6000000000000001E-5},"4mm"]
[null,null,null,null,null,null,null,null,null,null,null,null,null,{"$f":"ListAVS!$B$83&\" [kg] \"","v":"Hmotnost úchytky [kg] "},null,null,null,null,null,{"$f":"H25","v":0},{"$f":"IF(SUM(T86,T87)=0,\" \",IF(T89=0,\" ● \"&ListAVS!$B$129,\" \"))","v":" "},null,null,null,{"$f":"$Y$80","v":680},{"$f":"$Z$80","v":"Dřevotříska (680 kg/m3)"},null,null,null,{"$f":"AD80","v":12.5},{"$f":"IF($AG$77=1,AF89*AD89,AG89*AD89)","v":0.08},{"$f":"SUM(($T$86-80)*($T$87/2-80)/1000000)","v":6.4000000000000003E-3},{"$f":"SUM(($T$86-6)*($T$87/2-6)/1000000)","v":3.6000000000000001E-5},"5mm"]
[null,null,null,null,null,null,null,null,null,null,null,null,null,{"$f":"ListAVS!$B$79&\" [kg] \"","v":"Vypočtená hmotnost čela [kg] "},null,null,null,null,null,{"$f":"IF(X90*AD91<>0,SUM(X90,AD91,T89),0)","v":0},null,null,null,{"$f":"IF(T86*T87*T88=0,0,IF(Z87=1,Y87*Y88,IF(Z87=2,Y87*Y89,Y87*Y90)))","v":0},{"$f":"$Y$81","v":0},{"$f":"$Z$81","v":"Jiné - volitelná hustota"},null,null,null,{"$f":"AD81","v":0},{"$f":"IF($AG$77=1,AF90*AD90,AG90*AD90)","v":0},{"$f":"SUM(($T$86-80)*($T$87/2-80)/1000000)","v":6.4000000000000003E-3},{"$f":"SUM(($T$86-6)*($T$87/2-6)/1000000)","v":3.6000000000000001E-5},"jiné"]
[null,null,null,null,null,null,null,null,null,null,null,null,null,null,{"$f":"IF(T90>0,IF(T89=0,$Z$94,\" \"),\" \")","v":" "},null,null,null,null,null,null,null,null,null,null,null,null,null,null,{"$f":"IF(OR(AND(AF86=3, $T$71=0), T86*T87=0), 0, SUM(IF(AF86=1,AE88,IF(AF86=2,AE89,AE90)),AE87,AE86))","v":0}]
[]
[]
[null,null,null,null,null,null,null,null,null,null,null,null,null,null,null,null,null,null,null,null,null,null,{"$f":"ListAVS!$B$422&\"  \"","v":"s vloženým sklem  "},{"$f":"MenuAVS!$I$86","v":0.62},null,{"$f":"ListAVS!$B$102&\"!\"","v":"Není započtena hmotnost úchytky!"},null,null,null,null,null,{"$f":"ListAVS!$B$93","v":"Alurámečky s 4mm sklem"}]
[null,null,null,null,null,null,null,null,null,null,null,null,null,null,null,null,null,null,null,null,null,null,{"$f":"ListAVS!$B$423&\"  \"","v":"s naloženým nebo nalepeným sklem  "},{"$f":"MenuAVS!$I$87","v":0.63},null,null,null,null,null,null,null,{"$f":"ListAVS!$B$94","v":"Alurámečky s 5mm sklem"}]
[null,null,null,null,null,null,null,null,null,null,null,null,null,null,null,null,null,null,null,null,null,null,{"$f":"ListAVS!$B$405&\" [kg/set] *  \"","v":"Hmotnost spojovacího materiálu [kg/set] *  "},{"$f":"MenuAVS!$I$88","v":0.61},null,null,null,null,null,null,null,{"$f":"ListAVS!$B$95","v":"Alurámečky s jiným sklem"}]
[]
[]
[]
[null,{"$f":"ListAVS!$B$194","v":"Výpočet asymetrických čel"}]
[]
[null,{"$f":"\"   \"&ListAVS!$B$197","v":"   Parametry korpusu"}]
[null,{"$f":"ListAVS!$B$75&\" KH [mm] \"","v":"Výška korpusu KH [mm] "},null,null,null,null,null,null,null,null,{"$f":"IF(I103<480, \" min. 480\", IF(I103>1200, \" max. 1200\", \" \"))","v":" min. 480"},null,null," <=519"," >=520"]
[null,{"$f":"ListAVS!$B$200&\" F1 [mm] \"","v":"Mezera nahoře F1 [mm] "}]
[null,{"$f":"ListAVS!$B$201&\" F2 [mm] \"","v":"Mezera mezi čely F2 [mm] "},null,null,null,null,null,null,null,null,{"$f":"IF($I$103=0,\" \",IF($I$105<1.5,\" min. 1,5 mm!\",\" \"))","v":" "}]
[null,{"$f":"ListAVS!$B$202&\" F3 [mm] \"","v":"Mezera dole F3 [mm] "},null,null,null,null,null,null,null,null,null,null,"Z",170,189]
[null,{"$f":"ListAVS!$B$203&\" [mm] \"","v":"Síla dna korpusu [mm] "},null,null,null,null,null,null,null,null,null,null,"H",93,116]
[]
[null,{"$f":"\"   \"&ListAVS!$B$205","v":"   Výsledky plánování"},null,null,null,null,null,null,null,null,null,null,null,"FHo","FHo"]
[null,null,null,null,null,null,{"$f":"ListAVS!$B$206&\" [mm] \"","v":"Možné výšky čel [mm] "},null,null,null,null,null,null,"min ↓↓","min ↓↓"]
[null,{"$f":"ListAVS!$B$207","v":"Čelo nahoře (FHo) v rozmezí"},null,null,null,null,"min.",{"$f":"IF(AND($I$103>=480, $I$103<=519), $N$111, IF(AND($I$103>=520, $I$103<=1200), $O$111, $S$115))","v":"nelze"},"max.",{"$f":"IF(AND($I$103>=480, $I$103<=519), $N$115, IF(AND($I$103>=520, $I$103<=1200), $O$115, $S$115))","v":"nelze"},null,null,null,{"$f":"SUM(I103, -I104, -I105, -I106, -N120)","v":0},{"$f":"SUM(I103, -I104, -I105, -I106, -O120)","v":0}]
[null,{"$f":"ListAVS!$B$208","v":"Čelo dole (FHu) v rozmezí"},null,null,null,null,"min.",{"$f":"IF(AND($I$103>=480, $I$103<=519), $N$118, IF(AND($I$103>=520, $I$103<=1200), $O$118, $S$115))","v":"nelze"},"max.",{"$f":"IF(AND($I$103>=480, $I$103<=519), $N$120, IF(AND($I$103>=520, $I$103<=1200), $O$120, $S$115))","v":"nelze"},null,null,null,"max ↓↓","max ↓↓"]
[null,null,null,null,null,null,null,null,null,null,null,null,null,{"$f":"ROUNDUP(SUM(519, -$I$104, -$I$105, -$I$106)/2, 0)","v":260},{"$f":"ROUNDUP(SUM(1200, -$I$104, -$I$105, -$I$106)/2, 0)","v":600},"absolutně"]
[null,{"$f":"ListAVS!$B$214&\" FHo [mm] \"","v":"Výška čela nahoře FHo [mm] "},null,null,null,null,null,null,null,null,{"$f":"IF($I$103=0,\" \",IF($I$114>$J$111,V114,IF($I$114<$H$111,$S$114,\" \")))","v":" "},null,null,{"$f":"SUM(I103, -I104, -I105, -I106, -N118)","v":-219},{"$f":"SUM(I103, -I104, -I105, -I106, -O118)","v":-238},"vypočtená",null,null,{"$f":"\" min. \"&TEXT($H$111,\"#\")&\" mm!\"","v":" min. nelze mm!"},null,null,{"$f":"\" max. \"&TEXT($J$111,\"#\")&\" mm!\"","v":" max. nelze mm!"}]
[null,{"$f":"ListAVS!$B$215&\" FHu [mm] \"","v":"Výška čela dole FHu [mm] "},null,null,null,null,null,null,{"$f":"IF($I$114<$H$111,$S$115,IF($I$114>$J$111,$S$115,+$I$103-$I$104-$I$105-$I$106-$I$114))","v":"nelze"},null,null,null,null,{"$f":"IF($N$114>$N$113, $N$113, $N$114)","v":-219},{"$f":"IF($O$114>$O$113, $O$113, $O$114)","v":-238},"výsledná",null,null,{"$f":"ListAVS!B211","v":"nelze"}]
[null,{"$f":"ListAVS!$B$216&\" H [mm] \"","v":"Pozice zdvihače H [mm] "},null,null,null,null,null,null,{"$f":"IF(AND($I$103>=480, $I$103<520), $N$107, IF(AND($I$103>=520, $I$103<=1200), $O$107, $S$115))","v":"nelze"},null,null,null,null,"FHu","FHu"]
[null,{"$f":"ListAVS!$B$217&\" Z [mm] \"","v":"Pozice mont. podložky pro teleskopy Z [mm] "},null,null,null,null,null,null,{"$f":"IF(AND($I$103>=480, $I$103<520), $N$106, IF(AND($I$103>=520, $I$103<=1200), $O$106, $S$115))","v":"nelze"},null,null,null,null,"min ↓↓","min ↓↓"]
[null,{"$f":"ListAVS!$B$218&\" TKH [mm] * \"","v":"Teoretická výška korpusu TKH [mm] * "},null,null,null,null,null,null,{"$f":"IF($I$115=$S$115, $S$115, IF($Q$118>=480, IF($Q$118<=1202, $Q$118, $S$115),\" \"))","v":"nelze"},null,null,null,null,{"$f":"SUM(N106, 32, 17, $I$107, -$I$106)","v":219},{"$f":"SUM(O106, 32, 17, $I$107, -$I$106)","v":238},"TKH",{"$f":"ROUND(SUM($I$114*2+$I$104+$I$105+$I$106), -1)","v":0}]
[null,null,null,null,null,null,null,null,null,null,null,null,null,"max ↓↓","max ↓↓"]
[null," *",{"$f":"ListAVS!$B$220","v":"Tuto výšku zadejte do tabulky pro plánování výklopů"},null,null,null,null,null,null,null,null,null,null,{"$f":"ROUNDDOWN(SUM(I103, -I104, -I105, -I106)/2, 0)","v":0},{"$f":"ROUNDDOWN(SUM(I103, -I104, -I105, -I106)/2, 0)","v":0}]
[]
[]
[]
[]
[null,null,null,null,null,null,null,null,{"$f":"ListAVS!$B$167","v":"Zpět"}]
[]
[]
[]
[]
[]
[]
[]
[]
[]
[]
[]
[]
[]
[null,"      AVENTOS HF"]
[]
[null,{"$f":"ListAVS!$B$302","v":"Potřebný zdvihač se určí pomocí ukazatele výkonnosti."}]
[null,{"$f":"ListAVS!$B$303","v":"Ukazatel výkonnosti závisí na hmotnosti dolního i horního čílka, a rovněž na výšce korpusu."}]
[]
[]
[null,null,null,{"$f":"ListAVS!$B$86&\" = \"","v":"Ukazatel výkonnosti = "},{"$f":"ListAVS!$B$319&\" [kg]\"","v":"výška korpusu KH [mm] x hmotnost obou čel včetně úchytky [kg]"}]
[]
[null,{"$f":"ListAVS!$B$307","v":"Je-li ukazatel výkonnosti větší než 19300, přidá se třetí zdvihač."}]
[null,{"$f":"ListAVS!$B$309","v":"Pokud je zvolen SERVO-DRIVE, přidá se rovněž druhá pohonná jednotka."}]
[null,{"$f":"ListAVS!$B$181","v":"Přídavný třetí zdvihač může být použit pouze s plným spodním čelem!"}]
[]
[null,{"$f":"ListAVS!$B$311","v":"Pokud znáte hmotnost čela, můžete ji zadat, jinak použijte \"Výpočet hmotnosti\"."}]
[null,{"$f":"ListAVS!$B$312","v":"V tabulce má přednost zadaná hodnota. Chcete-li použít vypočtenou hmotnost, smažte zadanou hodnotu."}]
[]
[null,{"$f":"ListAVS!$B$322&\". \"&ListAVS!$B$323&\".\"","v":"Délka teleskopů závisí na výšce korpusu KH. U asymetrických čel se použije teoretická výška TKH."}]
[]
[null,{"$f":"\" \"&ListAVS!$B$162&\":\"","v":" Asymetrická čela:"}]
[null,{"$f":"\" \"&ListAVS!$B$320","v":" Teoretická výška korpusu (TKH) = výška horního čela (FHo) x 2 (včetně mezer)"}]
[]
[null,{"$f":"ListAVS!$B$315","v":"U asymetrických čel musí být větší čelo nahoře!"}]
[]
[null,{"$f":"ListAVS!$B$325","v":"Pokud zadáte hodnotu TKH, použije se pro určení délky teleskopů"}]
[null,{"$f":"ListAVS!$B$326","v":"Nemáte-li asymetrická čela, nechte políčko prázdné."}]
[null,{"$f":"ListAVS!$B$327&\" ' \"&ListAVS!$B$194&\"' \"","v":"Pro výpočet TKH použijte ' Výpočet asymetrických čel' "}]
[]
[]
[null,{"$f":"ListAVS!$B$305","v":"Chcete-li změnit barvu krytek, přejděte na \"Úvod plánování\""}]
[]
[null,{"$f":"ListAVS!$B$411","v":"Věnujte pozornost výběru alurámečků."}]
[null,{"$f":"ListAVS!$B$412","v":"Vyberte, který typ lépe odpovídá tvaru použitého alurámečku."}]
[null,{"$f":"ListAVS!$B$413","v":"Způsob osazení skla do rámečku výrazně ovlivňuje plochu skla a tím i hmotnost!"}]
[]
[null,null,{"$f":"\"  \"&ListAVS!$B$422&\"  \"","v":"  s vloženým sklem  "}]
[]
[null,null,{"$f":"\"  \"&ListAVS!$B$423&\"  \"","v":"  s naloženým nebo nalepeným sklem  "}]
[]
[null,null,null,null,null,null,null,null,null,null,null,{"$f":"ListAVS!$B$167","v":"Zpět"}]

{"sheet":"HFna","index":13,"n_rows":176,"n_cols":43,"rows_kept":176,"cut":false,"hidden":false,"merged":[[10,1,10,3],[11,1,11,6],[12,1,14,2],[14,3,14,6],[30,1,32,9],[27,1,27,6],[15,1,15,6],[16,1,16,6],[26,1,26,6],[12,3,12,6],[13,3,13,6],[23,1,25,2],[23,3,23,6],[24,3,24,6],[25,3,25,6],[20,1,20,6],[11,39,12,42],[13,39,14,42],[102,13,104,13],[102,14,104,14],[0,55,0,63],[7,39,7,40],[8,39,8,40],[9,39,9,40],[19,19,19,20],[77,13,77,18],[75,13,75,16],[75,17,75,19],[76,13,76,18],[1,1,1,2],[4,4,4,9],[8,19,8,20],[9,1,9,6],[8,1,8,2],[8,5,8,7],[6,1,6,2],[6,6,6,7],[21,1,21,3],[22,1,22,6],[19,1,19,2],[19,5,19,7],[30,19,30,20],[104,8,104,9],[87,13,87,18],[78,13,78,18],[79,13,79,18],[80,13,80,18],[84,17,84,19],[88,13,88,18],[89,13,89,18],[86,13,86,18],[85,13,85,18],[103,8,103,9],[105,1,105,7],[105,8,105,9],[106,1,106,7],[106,8,106,9],[109,1,109,5],[109,6,109,9],[108,1,108,9],[111,1,111,5],[113,1,113,7],[113,8,113,9],[114,1,114,7],[114,8,114,9],[124,8,124,9],[138,0,177,0],[144,4,144,11],[115,1,115,7],[115,8,115,9],[116,1,116,7],[116,8,116,9],[117,1,117,7],[117,8,117,9],[98,0,137,0],[101,1,101,9],[102,1,102,7],[102,8,102,9],[103,1,103,7],[104,1,104,7],[110,1,110,5]]}
[]
[null," AVENTOS HF top",null,null,null,null,null,null,null,null,null,null,null,null,"rámeček",null,null,null,3,null,null,null,null,null,null,null,null,null,null,null,null,null,null,null,null,null,null,{"$f":"ListAVS!$B$152","v":"Jdi na"}]
[]
[null,{"$f":"ListAVS!$B$21&\" ***\"","v":"Úzké alurámečky ***"},null,null,null,{"$f":"ListAVS!$B$179&\"  \"","v":"Provedení čel  "},null,null,null,null,{"$f":"U71","v":" "},null,null,null,1,null,null,null,{"$f":"\" \"&ListAVS!$B$41&\" A \"","v":" Cena za korpus A "},null,null,null,null,"výpočet",null,null,null,null,null,null,null,null,null,null,null,null,null,{"$f":"\" \"&ListAVS!$B$153","v":" Úvod plánování"}]
[null,null,null,null,{"$f":"IF($AF$77<>3,$Y$76,\" \")&\"      \"","v":" Změnit hodnoty můžete v Úvodu plánování      "},null,null,null,null,null,null,null,null,null,"A = 1",null,null,null,{"$f":"\" \"&ListAVS!$B$41&\" B \"","v":" Cena za korpus B "},null,null,null,null,null,null,null,null,null,null,null,null,null,null,null,null,null,null,{"$f":"\" \"&ListAVS!$B$154","v":" Nápověda"}]
[null,null,null,null,null,null,null,null,null,null,null,null,null,null,"B = 2",null,null,null,{"$f":"\" \"&ListAVS!$B$61","v":" Cena celkem bez DPH"}]
[null,{"$f":"ListAVS!$B$51&\":   \"","v":"Cena kování:   "},null,null,null,null,{"$f":"IF(S2=1,$AF$47,IF($S$2=2,$AH$47,IF($S$2=3,$AD$47,0)))","v":0},null,null,null,null,null,null,null,null,null,null,null,null,null,null,null,null,null,{"$f":"$B$2","v":" AVENTOS HF top"},null,null,null,null,null,null,null,null,null,null,null,null,{"$f":"\" \"&ListAVS!$B$159","v":" Doplňky"}]
[null,null,null,null,null,null,null,{"$f":"IF(AND(OR($S$9=2, $S$20=2), $AD$47>0), $N$35, \" \")","v":" "},null,null,null,null,null,null,null,null,null,null,null,null,null,null,null,null,{"$f":"ListAVS!B52","v":"Název"},{"$f":"ListAVS!$B$53","v":"Číslo artiklu"},{"$f":"ListAVS!B54","v":"Barva"},{"$f":"ListAVS!B56","v":"Ks"},{"$f":"ListAVS!B58","v":"Jednotková cena"},{"$f":"ListAVS!B59","v":"Celkem"},"A","Cena","B","Cena",null,null,null,null,null,{"$f":"\"  \"&ListAVS!$B$86&\" LF \"","v":"  Ukazatel výkonnosti LF "},null,"Zdvihací mechanizmus vruty","Zdvihací mechanizmus šrouby"]
[null,{"$f":"\"▼ \"&ListAVS!$B$317","v":"▼ Způsob otvírání"},null,{"$f":"IF($M$17>0, ListAVS!$B$37&\": \", \" \")","v":" "},{"$f":"IF(SUM($AE$9:$AE$10)>0,25,IF(SUM($AE$11:$AE$12)>0,28,\" \"))","v":" "},{"$f":"ListAVS!$B$64&\" A\"","v":"Korpus A"},null,null,null,null,null,null,null,"zdvih A",null,"teleskop",null,null,1,false,null," - SRVDRV",null,null,{"$f":"CenAVS!A11","v":"Sada zdvihačů HF top, na vruty"},{"$f":"CenAVS!B11","v":"22F2500"},{"$f":"CenAVS!C11","v":"ZN"},{"$f":"SUM(AE9,AG9)","v":0},{"$f":"CenAVS!F11","v":1651.93},{"$f":"AB9*AC9","v":0},{"$f":"IF($Y$48=1,ROUNDUP($M$17*$O$11,0),0)","v":0},{"$f":"$AC9*AE9","v":0},{"$f":"IF($Y$48=1,ROUNDUP($M$28*$O$22,0),0)","v":0},{"$f":"$AC9*AG9","v":0},null,null,null,{"$f":"\" \"&ListAVS!$B$156","v":" Přehled korpusů"},null,"    2700 - 13500",null,"22F2500","22F2510"]
[null,{"$f":"ListAVS!$B$74&\" KB [mm] \"","v":"Šířka korpusu KB [mm] "},null,null,null,null,null,null,{"$f":"IF(H10=0,\" \",IF($H10<220,\" min. 220mm\",\" \"))&IF(H17>0,IF(H10=0,\"● \"&ListAVS!$B$128,\" \"),\" \")","v":"  "},null,null,null,null,null,null,"F32",{"$f":"IF(AND($P$16>=$AB$54,$P$16<=$AC$54),SUM($O$11:$O$12),0)","v":0},null,null,"Závěs A",null,"Závěs As",null,null,{"$f":"CenAVS!A12","v":"Sada zdvihačů HF top, předmont. eurošrouby"},{"$f":"CenAVS!B12","v":"22F2510"},{"$f":"CenAVS!C12","v":"ZN"},0,{"$f":"CenAVS!F12","v":1651.93},{"$f":"AB10*AC10","v":0},{"$f":"IF($Y$48=2,ROUNDUP($M$17*$O$11,0),0)","v":0},0,{"$f":"IF($Y$48=2,ROUNDUP($M$28*$O$22,0),0)","v":0},0,null,null,null,{"$f":"\" \"&ListAVS!$B$157","v":" Objednávka"},null,"  10000 - 19300",null,"22F2800","22F2810"]
[null,{"$f":"ListAVS!$B$75&\" [mm]\"","v":"Výška korpusu [mm]"},null,null,"TKH * ",null,"KH ",null,{"$f":"IF(H11=0,\" \",IF($H11<480,\" min. 480mm\",IF($H11>1200,\" max. 1 200mm\",\" \")))&IF(H17>0,IF(H11=0,\"● \"&ListAVS!$B$128,\" \"),\" \")","v":"  "},null,null,null,null,"F25",{"$f":"IF($H16<$AB$50,0,IF($H16<=$AC$50,1,0))","v":0},"F35",{"$f":"IF(AND($P$16>=$AB$55,$P$16<=$AC$55),SUM($O$11:$O$12),0)","v":0},null,null,"T558E",{"$f":"IF($N$48=1, IF(OR($H$10>=1200, $T$17>=12), 3, 2))+IF($N$48=1,IF(OR($H$10=1800, $T$17>=20), 1, 0))","v":0},"Z553E",{"$f":"IF($P$48=1, IF(OR($H$10>=1200, $T$17>=12), 3, 2))+IF($P$48=1,IF(OR($H$10=1800, $T$17>=20), 1, 0))","v":0},null,{"$f":"CenAVS!A13","v":"Sada zdvihačů HF top, na vruty"},{"$f":"CenAVS!B13","v":"22F2800"},{"$f":"CenAVS!C13","v":"ZN"},0,{"$f":"CenAVS!F13","v":1805.55},0,{"$f":"IF($Y$48=1,ROUNDUP($M$17*$O$12,0),0)","v":0},0,{"$f":"IF($Y$48=1,ROUNDUP($M$28*$O$23,0),0)","v":0},0]
[null,{"$f":"ListAVS!$B$77&\" [kg] ** \"","v":"Hmotnost čela včetně úchytky [kg] ** "},null,null,null,null,null,null,{"$f":"IF($T14=\"ne\", \" \", IF(AND($H12=0,$H15=0, $H17>0),$N$37,\" \"))&IF(AND($H17>0, $H12>0, $M17>0),$N$41,\" \")","v":"  "},null,null,null,null,"F28",{"$f":"IF($H16<$AB$51,0,IF($H16<=$AC$51,1,0))","v":0},"F39",{"$f":"IF(AND($P$16>=$AB$56,$P$16<=$AC$56),SUM($O$11:$O$12),0)","v":0},null,null,"Z550AT",{"$f":"IF($N$48=2, IF(OR($H$10>=1200, $T$17>=12), 3, 2))+IF($N$48=2,IF(OR($H$10=1800, $T$17>=20), 1, 0))","v":2},"Z550AT",{"$f":"IF($P$48=2, IF(OR($H$10>=1200, $T$17>=12), 3, 2))+IF($P$48=2,IF(OR($H$10=1800, $T$17>=20), 1, 0))","v":2},null,{"$f":"CenAVS!A14","v":"Sada zdvihačů HF top, předmont. eurošrouby"},{"$f":"CenAVS!B14","v":"22F2810"},{"$f":"CenAVS!C14","v":"ZN"},0,{"$f":"CenAVS!F14","v":1805.55},0,{"$f":"IF($Y$48=2,ROUNDUP($M$17*$O$12,0),0)","v":0},0,{"$f":"IF($Y$48=2,ROUNDUP($M$28*$O$23,0),0)","v":0},0,null,null,null,null,null,{"$f":"ListAVS!$B$86&\" LF = \"&ListAVS!$B$319&\" [kg]\"","v":"Ukazatel výkonnosti LF = výška korpusu KH [mm] x hmotnost obou čel včetně úchytky [kg]"}]
[null,{"$f":"ListAVS!$B$292","v":"Výpočet hmotnosti"},null,{"$f":"ListAVS!$B$80&\" TS [mm] \"","v":"Síla čela TS [mm] "},null,null,null,null,null,null,null,null,null,null,null,null,null,null,null,null,null,null,null,null,{"$f":"CenAVS!A15","v":"Sada teleskopů HF top (480–610 mm)"},{"$f":"CenAVS!B15","v":"22F3200"},{"$f":"CenAVS!C15","v":"NI"},0,{"$f":"CenAVS!F15","v":785.14},0,{"$f":"ROUNDUP($M$17*Q10,0)","v":0},0,{"$f":"ROUNDUP($M$28*Q21,0)","v":0},0]
[null,null,null,{"$f":"ListAVS!$B$83&\" [kg] \"","v":"Hmotnost úchytky [kg] "},null,null,null,null,{"$f":"IF(H17=0, \" \", IF(AND(H12=0, S9=1, H14=0), \" ● \"&ListAVS!$B$129,\" \"))","v":" "},null,null,null,null,null,null,null,null,null,"limit v/š",{"$f":"IF(AND(220<=H10, H10<=1800, 480<=P16, P16<=1200),\"ano\",\"ne\")","v":"ne"},null,null,null,null,{"$f":"CenAVS!A16","v":"Sada teleskopů HF top (600–910 mm)"},{"$f":"CenAVS!B16","v":"22F3500"},{"$f":"CenAVS!C16","v":"NI"},0,{"$f":"CenAVS!F16","v":964.4},0,{"$f":"ROUNDUP($M$17*Q11,0)","v":0},0,{"$f":"ROUNDUP($M$28*Q22,0)","v":0},0]
[null,null,null,{"$f":"ListAVS!$B$79&\" [kg] \"","v":"Vypočtená hmotnost čela [kg] "},null,null,null,{"$f":"$T$81","v":0},{"$f":"IF($H17>0,IF($H15>0,IF($H12=0,$N$41,\" \"),\" \"),\" \")&IF(AND(H17>0, H12=0, Z78=3, $J$4=0), $N$39, \" \")","v":"  "},null,null,null,null,null,null,null,null,null,"limit LF",{"$f":"IF(AND(H16>=$AB$50, H16<=$AC$51), \"ano\", \"ne\")","v":"ne"},null,null,null,null,{"$f":"CenAVS!A17","v":"Sada teleskopů HF top (840–1200 mm)"},{"$f":"CenAVS!B17","v":"22F3900"},{"$f":"CenAVS!C17","v":"NI"},0,{"$f":"CenAVS!F17","v":1143.6400000000001},0,{"$f":"ROUNDUP($M$17*Q12,0)","v":0},0,{"$f":"ROUNDUP($M$28*Q23,0)","v":0},0]
[null,{"$f":"ListAVS!$B$86&\" LF \"","v":"Ukazatel výkonnosti LF "},null,null,null,null,null,{"$f":"IF(H11<=1200,IF(H11>479,IF(H12>0,H11*H12,H11*H15),0),0)","v":0},{"$f":"IF(AND(H16>0, H16<$AB$50), $T$44, IF($H16>$AC$51, $N$44, \"  \"))","v":"  "},null,null,null,null,null,"výška korpusu",{"$f":"IF(F11>0,IF(F11>=H11,F11,0),H11)","v":0},null,null,null,null,null,null,null,null,{"$f":"CenAVS!A47","v":"Sada krytek HF, HS, HL top, světle šedá"},{"$f":"CenAVS!B47","v":"22.8000"},{"$f":"CenAVS!C47","v":"HGR"},{"$f":"SUM(AE16,AG16)","v":0},{"$f":"CenAVS!F47","v":252.85},0,{"$f":"IF(AND($S$9=1, $T$48=1), SUM($AE$9:$AE$12), 0)","v":0},0,{"$f":"IF(AND($S$20=1, $T$48=1), SUM($AG$9:$AG$12), 0)","v":0},0]
[null,{"$f":"ListAVS!$B$71&\" \"","v":"Počet skříněk "},null,null,null,null,null,null,null,null,null,null,{"$f":"IF($H10*$P16=0,0,IF(SUM($H12,$H15)=0,0,IF($P16>$AC$57,0,IF(P16<$AB$54,0,IF(OR(T14=\"ne\", T15=\"ne\"),0,$H17)))))","v":0},"← Hlavní údaj",null,null,null,null,"hmot =",{"$f":"IF(H12>0,H12,H15)","v":0},{"$f":"IF(SUM(H12,H15)=0,0,IF(H12>0,1,2))","v":0},"zadaná / vypočtená",null,null,{"$f":"CenAVS!A48","v":"Sada krytek HF, HS, HL top, tmavě šedá"},{"$f":"CenAVS!B48","v":"22.8000"},{"$f":"CenAVS!C48","v":"TGR"},{"$f":"SUM(AE17,AG17)","v":0},{"$f":"CenAVS!F48","v":275.94},0,{"$f":"IF(AND($S$9=1, $T$48=2), SUM($AE$9:$AE$12), 0)","v":0},0,{"$f":"IF(AND($S$20=1, $T$48=2), SUM($AG$9:$AG$12), 0)","v":0},0,null,null,null,null,null,"vruty = zdvihače s integrovanou šablonou (bez nutnosti rozměřování)"]
[null,{"$f":"IF(H17>0,IF(U17=0,\" \",IF(U17=1,$N$53,$N$54)),\" \")&IF(H17>0,IF(U17=0,\" \",IF(U17=1,$N$55,$N$56)),\" \")","v":"  "},null,null,null,null,null,null,null,null,null,null,null,null,null,null,null,null,null,null,null,null,null,null,{"$f":"CenAVS!A49","v":"Sada krytek HF, HS, HL top, hedvábně bílá"},{"$f":"CenAVS!B49","v":"22.8000"},{"$f":"CenAVS!C49","v":"SW"},0,{"$f":"CenAVS!F49","v":275.94},0,{"$f":"IF(AND($S$9=1, $T$48=3), SUM($AE$9:$AE$12), 0)","v":0},0,{"$f":"IF(AND($S$20=1, $T$48=3), SUM($AG$9:$AG$12), 0)","v":0},0,null,null,null,null,null,"šrouby = zdvihače s přednotovanými šrouby (nutné předvrtání)"]
[null,{"$f":"IF(F11=0,\" \",IF(F11>1200,\"TKH = max. 1200!\",IF(F11<480,\"TKH = min. 480!\",IF(F11<H11,$N$59,IF(H17>0,IF(F11=0,\" \",IF(AND(F11>0,M17=1), $N$58,\" \")),\" \")))))","v":" "},null,null,null,null,null,null,null,null,null,null,null,null,null,null,null,null,null,null,null,null,null,null,{"$f":"CenAVS!A50","v":"Sada krytek pro SERVO-DRIVE, světle šedá"},{"$f":"CenAVS!B50","v":"23.8000"},{"$f":"CenAVS!C50","v":"HGR"},0,{"$f":"CenAVS!F50","v":2606.7600000000002},0,{"$f":"IF(AND($S$9=2, $T$48=1), $AE$45, 0)","v":0},0,{"$f":"IF(AND($S$20=2, $T$48=1), $AG$45, 0)","v":0},0,null,null,null,{"$f":"\" \"&ListAVS!$B$194","v":" Výpočet asymetrických čel"}]
[null,{"$f":"\"▼ \"&ListAVS!$B$317","v":"▼ Způsob otvírání"},null,{"$f":"IF($M$28>0, ListAVS!$B$37&\": \", \" \")","v":" "},{"$f":"IF(SUM($AG$9:$AG$10)>0,25,IF(SUM($AG$11:$AG$12)>0,28,\" \"))","v":" "},{"$f":"ListAVS!$B$64&\" B\"","v":"Korpus B"},null,null,null,null,null,null,null,"zdvih B",null,"teleskop",null,null,1,false,null," - SRVDRV",null,null,{"$f":"CenAVS!A51","v":"Sada krytek pro SERVO-DRIVE, tmavě šedá"},{"$f":"CenAVS!B51","v":"23.8000"},{"$f":"CenAVS!C51","v":"TGR"},0,{"$f":"CenAVS!F51","v":2709.29},0,{"$f":"IF(AND($S$9=2, $T$48=2), $AE$45, 0)","v":0},0,{"$f":"IF(AND($S$20=2, $T$48=2), $AG$45, 0)","v":0},0]
[null,{"$f":"ListAVS!$B$74&\" KB [mm] \"","v":"Šířka korpusu KB [mm] "},null,null,null,null,null,null,{"$f":"IF(H21=0,\" \",IF($H21<220,\" min. 220mm\",IF($H21>1800,\" max. 1 800mm\",\" \")))&IF(H28>0,IF(H21=0,\"● \"&ListAVS!$B$128,\" \"),\" \")","v":"  "},null,null,null,null,null,null,"F32",{"$f":"IF(AND($P$27>=$AB$54,$P$27<=$AC$54),SUM($O$22:$O$23),0)","v":0},null,null,"Závěs B",null,"Závěs Bs",null,null,{"$f":"CenAVS!A52","v":"Sada krytek pro SERVO-DRIVE,hedvábně bílá"},{"$f":"CenAVS!B52","v":"23.8000"},{"$f":"CenAVS!C52","v":"SW"},0,{"$f":"CenAVS!F52","v":2709.29},0,{"$f":"IF(AND($S$9=2, $T$48=3), $AE$45, 0)","v":0},0,{"$f":"IF(AND($S$20=2, $T$48=3), $AG$45, 0)","v":0},0]
[null,{"$f":"ListAVS!$B$75&\" [mm]\"","v":"Výška korpusu [mm]"},null,null,"TKH * ",null,"KH ",null,{"$f":"IF(H22=0,\" \",IF($H22<480,\" min. 480mm\",IF($H22>1200,\" max. 1 200mm\",\" \")))&IF(H28>0,IF(H22=0,\"● \"&ListAVS!$B$128,\" \"),\" \")","v":"  "},null,null,null,null,"F25",{"$f":"IF($H27<$AB$50,0,IF($H27<=$AC$50,1,0))","v":0},"F35",{"$f":"IF(AND($P$27>=$AB$55,$P$27<=$AC$55),SUM($O$22:$O$23),0)","v":0},null,null,"T558E",{"$f":"IF($N$48=1, IF(OR($H$21>=1200, $T$28>=12), 3, 2))+IF($N$48=1,IF(OR($H$21=1800, $T$28>=20), 1, 0))","v":0},"Z553E",{"$f":"IF($P$48=1, IF(OR($H$21>=1200, $T$28>=12), 3, 2))+IF($P$48=1,IF(OR($H$21=1800, $T$28>=20), 1, 0))","v":0},null,{"$f":"CenAVS!A18","v":"Závěs CLIP top 120° "},{"$f":"CenAVS!B18","v":"70T5550.TL"},{"$f":"CenAVS!C18","v":"NI"},0,{"$f":"CenAVS!F18","v":56.56},0,null,0,null,0]
[null,{"$f":"ListAVS!$B$77&\" [kg] ** \"","v":"Hmotnost čela včetně úchytky [kg] ** "},null,null,null,null,null,null,{"$f":"IF($H28=0,\" \",IF(SUM($H23,$H26)=0,$N$38,\" \"))&IF($H28>0,IF($H23>0,$N$41,\" \"),\" \")","v":"  "},null,null,null,null,"F28",{"$f":"IF($H27<$AB$51,0,IF($H27<=$AC$51,1,IF($H27>$AB$52,1.5,0)))","v":0},"F39",{"$f":"IF(AND($P$27>=$AB$56,$P$27<=$AC$56),SUM($O$22:$O$23),0)","v":0},null,null,"T5550",{"$f":"IF($N$48=2, IF(OR($H$21>=1200, $T$28>=12), 3, 2))+IF($N$48=2,IF(OR($H$21=1800, $T$28>=20), 1, 0))","v":2},"Z550AT",{"$f":"IF($P$48=2, IF(OR($H$21>=1200, $T$28>=12), 3, 2))+IF($P$48=2,IF(OR($H$21=1800, $T$28>=20), 1, 0))","v":2},null,{"$f":"CenAVS!A19","v":"Závěs CLIP top 120° EXPANDO"},{"$f":"CenAVS!B19","v":"70T558E"},{"$f":"CenAVS!C19","v":"NI"},0,{"$f":"CenAVS!F19","v":53.42},0,null,0,null,0]
[null,{"$f":"ListAVS!$B$292","v":"Výpočet hmotnosti"},null,{"$f":"ListAVS!$B$80&\" TS [mm] \"","v":"Síla čela TS [mm] "},null,null,null,null,null,null,null,null,null,null,null,null,null,null,null,null,null,null,null,null,{"$f":"CenAVS!A20","v":"Středový závěs CLIP top "},{"$f":"CenAVS!B20","v":"78Z5500T"},{"$f":"CenAVS!C20","v":"NI"},0,{"$f":"CenAVS!F20","v":92.71},0,null,0,null,0]
[null,null,null,{"$f":"ListAVS!$B$83&\" [kg] \"","v":"Hmotnost úchytky [kg] "},null,null,null,null,{"$f":"IF(H28=0, \" \", IF(AND(H23=0, S20=1, H25=0), \" ● \"&ListAVS!$B$129,\" \"))","v":" "},null,null,null,null,null,null,null,null,null,"limit v/š",{"$f":"IF(AND(220<=H21, H21<=1800, 480<=P27, P27<=1200),\"ano\",\"ne\")","v":"ne"},null,null,null,null,{"$f":"CenAVS!A21","v":"Středový závěs CLIP top EXPANDO"},{"$f":"CenAVS!B21","v":"78Z553ET"},{"$f":"CenAVS!C21","v":"NI"},0,{"$f":"CenAVS!F21","v":95.69},0,null,0,null,0]
[null,null,null,{"$f":"ListAVS!$B$79&\" [kg] \"","v":"Vypočtená hmotnost čela [kg] "},null,null,null,{"$f":"$T$90","v":0},{"$f":"IF($H28>0,IF($H26>0,IF($H23=0,$N$41,\" \"),\" \"),\" \")&IF(AND(H28>0, H23=0, Z87=3, $J$4=0), $N$39, \" \")","v":"  "},null,null,null,null,null,null,null,null,null,"limit LF",{"$f":"IF(AND(H27>=$AB$50, H27<=$AC$51), \"ano\", \"ne\")","v":"ne"},null,null,null,null,{"$f":"CenAVS!A22","v":"Závěs CLIP top pro alurámečky"},{"$f":"CenAVS!B22","v":"72T550A.TL"},{"$f":"CenAVS!C22","v":"NI"},0,{"$f":"CenAVS!F22","v":77.180000000000007},0,{"$f":"U12*M17","v":0},0,{"$f":"U23*M28","v":0},0]
[null,{"$f":"ListAVS!$B$86&\" LF \"","v":"Ukazatel výkonnosti LF "},null,null,null,null,null,{"$f":"IF(H22<1041,IF(H22>479,IF(H23>0,H22*H23,H22*H26),0),0)","v":0},{"$f":"IF(AND(H27>0, H27<$AB$50), $T$44, IF($H27>$AC$51, $N$44, \"  \"))","v":"  "},null,null,null,null,null,"výška korpusu",{"$f":"IF(F22>0,IF(F22>=H22,F22,0),H22)","v":0},null,null,null,null,null,null,null,null,{"$f":"CenAVS!A23","v":"Střed. závěs CLIP top pro alurámečky"},{"$f":"CenAVS!B23","v":"78Z550AT"},{"$f":"CenAVS!C23","v":"NI"},0,{"$f":"CenAVS!F23","v":101.63},0,{"$f":"W12*M17","v":0},0,{"$f":"W23*M28","v":0},0]
[null,{"$f":"ListAVS!$B$71&\" \"","v":"Počet skříněk "},null,null,null,null,null,null,null,null,null,null,{"$f":"IF($H21*$P27=0,0,IF(SUM($H23,$H26)=0,0,IF($P27>$AC$57,0,IF(P27<$AB$54,0,IF(OR(T25=\"ne\", T26=\"ne\"),0,$H28)))))","v":0},"← Hlavní údaj",null,null,null,null,"hmot =",{"$f":"IF(H23>0,H23,H26)","v":0},{"$f":"IF(SUM(H23,H26)=0,0,IF(H23>0,1,2))","v":0},"zadaná / vypočtená",null,null,{"$f":"CenAVS!A24","v":"Adaptér CLIP k teleskopům P"},{"$f":"CenAVS!B24","v":"175H5B00   R"},{"$f":"CenAVS!C24","v":"NI"},0,{"$f":"CenAVS!F24","v":90.34},0,{"$f":"SUM($Q$10:$Q$12)*$M$17","v":0},0,{"$f":"SUM($Q$21:$Q$23)*$M$28","v":0},0]
[null,{"$f":"IF(H28>0,IF(U28=0,\" \",IF(U28=1,$N$53,$N$54)),\" \")&IF(H28>0,IF(U28=0,\" \",IF(U28=1,$N$55,$N$56)),\" \")","v":"  "},null,null,null,null,null,null,null,null,null,null,null,null,null,null,null,null,null,null,null,null,null,null,{"$f":"CenAVS!A25","v":"Adaptér CLIP k teleskopům L"},{"$f":"CenAVS!B25","v":"175H5B00   L"},{"$f":"CenAVS!C25","v":"NI"},0,{"$f":"CenAVS!F25","v":90.34},0,{"$f":"SUM($Q$10:$Q$12)*$M$17","v":0},0,{"$f":"SUM($Q$21:$Q$23)*$M$28","v":0},0]
[null,{"$f":"IF(F22=0,\" \",IF(F22>1200,\"TKH = max. 1200!\",IF(F22<480,\"TKH = min. 480!\",IF(F22<H22,$N$59,IF(H28>0,IF(F22=0,\" \",IF(AND(F22>0,M28=1), $N$58,\" \")),\" \")))))","v":" "},null,null,null,null,null,null,null,null,null,null,null,null,null,null,null,null,null,null,null,null,null,null,{"$f":"CenAVS!A26","v":"Adaptér CLIP ke středovým závěsům"},{"$f":"CenAVS!B26","v":"175H5A00"},{"$f":"CenAVS!C26","v":"NI"},0,{"$f":"CenAVS!F26","v":90.34},0,{"$f":"AE27","v":0},0,{"$f":"AG27","v":0},0]
[null,{"$f":"IF(OR(AND($S$9=2, $M$17>0), AND($S$20=2, $M$28>0)), ListAVS!$B$175, \" \")","v":" "},null,null,null,null,null,null,null,null,null,null,null,null,null,null,null,null,{"$f":"IF($T$31=FALSE,2,1)","v":1},true,null," - Zdroj"]
[]
[null,null,null,null,null,null,null,null,null,null,null,null,null,null,null,null,null,null,null,null,null,null,null,null,{"$f":"CenAVS!A27","v":0},{"$f":"CenAVS!B27","v":0},{"$f":"CenAVS!C27","v":0},null,{"$f":"CenAVS!F27","v":0},0,null,0,null,0]
[null,null,null,null,null,null,null,null,null,null,null,null,null,null,null,null,null,null,null,null,null,null,null,null,null,null,null,null,null,0,null,0,null,0]
[null,null,null,null,null,null,null,null,null,null,null,null,null,{"$f":"ListAVS!B176","v":"Cena bez napájecího zdroje!"},null,null,null,null,null,null,null,null,null,null,null,null,null,null,null,0,null,0,null,0]
[null,null,null,null,null,null,null,null,null,null,null,null,null,null,null,null,null,null,null,null,null,null,null,null,{"$f":"CenAVS!A162","v":"CLIP top montážní podložka, excentr, 0 mm"},{"$f":"CenAVS!B162","v":"173H7100 "},{"$f":"CenAVS!C162","v":"NI"},null,{"$f":"CenAVS!F162","v":17.84},0,null,0,null,0]
[null,null,{"$f":"\"*  \"&ListAVS!$B$183","v":"*  Pouze pro asymetrická čela: zadejte teoretickou výšku TKH."},null,null,null,null,null,null,null,null,null,null,{"$f":"\" \"&ListAVS!$B$115","v":" Zadejte hmotnost nebo vyplňte všechny buňky"},null,null,null,null,null,null,null,null,null,null,{"$f":"CenAVS!A163","v":"CLIP top mont. podložka, excentr, EXPANDO, 0 mm"},{"$f":"CenAVS!B163","v":"174H7100E "},{"$f":"CenAVS!C163","v":"NI"},null,{"$f":"CenAVS!F163","v":19.39},0,null,0,null,0]
[null,null,{"$f":"\" ( \"&ListAVS!$B$184&\")\"","v":" ( TKH = dvojnásobná výška horního čela včetně mezer)"},null,null,null,null,null,null,null,null,null,null,{"$f":"\" \"&ListAVS!$B$116","v":" Zadejte hmotnost nebo vyplňte nahoře sílu skla"},null,null,null,null,null,null,null,null,null,null,null,null,null,null,null,null,null,0,null,0]
[null,null,{"$f":"\" \"&ListAVS!$B$327&\" '\"&ListAVS!$B$194&\"' \"","v":" Pro výpočet TKH použijte 'Výpočet asymetrických čel' "},null,null,null,null,null,null,null,null,null,null,{"$f":"\" \"&ListAVS!$B$117","v":" Vyplňte nahoře objemovou hmotnost "}]
[null,null,null,null,null,null,null,null,null,null,null,null,null,{"$f":"\" \"&ListAVS!$B$118","v":" Vyplňte nahoře sílu skla "}]
[null,null,{"$f":"\"** \"&ListAVS!$B$186","v":"** Pokud znáte hmotnost a nechcete využít výpočtu hmotnosti"},null,null,null,null,null,null,null,null,null,null,{"$f":"\"◄ \"&ListAVS!$B$111","v":"◄ hodnota bude použita pro výpočet LF"}]
[null,null,{"$f":"\"*** \"&ListAVS!$B$403","v":"*** Vyberte typ alurámečku!"},null,null,null,null,null,null,null,null,null,null,{"$f":"\" * \"&ListAVS!$B$127","v":" * Doplňte hodnoty"},null,null,null,null,null,null,null,null,null,null,{"$f":"CenAVS!A166","v":"CLIP top přímá mont. podložka, ocel, 0 mm"},{"$f":"CenAVS!B166","v":"175H3100"},{"$f":"CenAVS!C166","v":"NI"},0,{"$f":"CenAVS!F166","v":16.98},0,{"$f":"IF($R$48=2, $U$12*$M$17, 0)","v":0},{"$f":"$AC42*AE42","v":0},{"$f":"IF($R$48=2, $U$23*$M$28, 0)","v":0},{"$f":"$AC42*AG42","v":0}]
[null,null,{"$f":"\"      \"&ListAVS!$B$404","v":"      Více informací k výběru alurámečků v Nápovědě"},null,null,null,null,null,null,null,null,null,null,null,null,null,null,null,null,null,null,null,null,null,{"$f":"CenAVS!A167","v":"CLIP top přímá mont. podložka, ocel, EXP, 0 mm"},{"$f":"CenAVS!B167","v":"177H3100E "},{"$f":"CenAVS!C167","v":"NI"},0,{"$f":"CenAVS!F167","v":17.07},0,{"$f":"IF($R$48=1, $U$12*$M$17, 0)","v":0},{"$f":"$AC43*AE45","v":0},{"$f":"IF($R$48=1, $U$23*$M$28, 0)","v":0},{"$f":"$AC43*AG43","v":0}]
[null,null,null,null,null,null,null,null,null,null,null,null,null,{"$f":"\" max. 19.300! \"&ListAVS!$B$121","v":" max. 19.300! Upravte hmotnost nebo výšku"},null,null,null,null,null,{"$f":"\" min. \"&$AB$50&\"! \"&ListAVS!$B$121","v":" min. 2700! Upravte hmotnost nebo výšku"},null,null,null,null,{"$f":"CenAVS!A169","v":0},{"$f":"CenAVS!B169","v":0},{"$f":"CenAVS!C169","v":0},null,{"$f":"CenAVS!F169","v":0},0,null,{"$f":"$AC44*AE44","v":0},null,{"$f":"$AC44*AG44","v":0}]
[null,null,null,null,null,null,null,null,null,null,null,null,null,{"$f":"\" \"&ListAVS!$B$119","v":" Přídavný třetí zdvihač"},null,null,null,null,null,null,{"$f":"\" \"&ListAVS!B126","v":" Použijte pouze jeden zdvihač"},null,null,null,{"$f":"CenAVS!A171","v":"SERVO-DRIVE jednotka (sada)"},{"$f":"CenAVS!B171","v":"23.A000"},{"$f":"CenAVS!C171","v":"R7037"},0,{"$f":"CenAVS!F171","v":8297.32},0,{"$f":"IF($S$9=1, 0, $M$17)+IF(AND($S$9=2, $H$16>$AB$52), $M$17, 0)","v":0},{"$f":"$AC45*AE45","v":0},{"$f":"IF($S$20=1, 0, $M$28)+IF(AND($S$20=2, $H$27>$AB$52), $M$28, 0)","v":0},{"$f":"$AC45*AG45","v":0}]
[null,null,null,null,null,null,null,null,null,null,null,null,null,{"$f":"ListAVS!$B$181","v":"Přídavný třetí zdvihač může být použit pouze s plným spodním čelem!"}]
[null,null,null,null,null,null,null,null,null,null,null,null,null,null,null,null,null,null,null,null,null,null,null,null,null,null,null,null,{"$f":"ListAVS!$B$61&\" \"","v":"Cena celkem bez DPH "},{"$f":"SUM(AD9:AD45)","v":0},null,{"$f":"SUM(AF9:AF46)","v":0},null,{"$f":"SUM(AH9:AH46)","v":0}]
[null,null,null,null,null,null,null,null,null,null,null,null,null,2,2,2,2,{"$f":"HF!$P$33","v":1},null,{"$f":"MenuAVS!$P$28","v":1},null,null,null,null,{"$f":"HF!$R$33","v":1},{"$f":"Param!M10","v":"Parametry HF"}]
[null,null,null,null,null,null,null,null,null,null,null,null,null,"záv.","alu","střed.","alu","podl.",null,"kryt.",null,null,"Provedení:",null,"montáž:",{"$f":"Param!M11","v":"Zdvihač"},{"$f":"Param!N11","v":"ks"},{"$f":"Param!O11","v":"min"},{"$f":"Param!P11","v":"max"},{"$f":"Param!Q11","v":"alu max."}]
[null,null,null,null,null,null,null,null,null,null,null,null,null,{"$f":"ListAVS!$B$133","v":"Expando"},null,{"$f":"ListAVS!$B$133","v":"Expando"},null,{"$f":"ListAVS!$B$133","v":"Expando"},null,{"$f":"ListAVS!$B$145","v":"Světle šedá (HGR)"},null,null,"Standard",null,"vruty",{"$f":"Param!M12","v":"22F2500"},{"$f":"Param!N12","v":1},{"$f":"Param!O12","v":2700},{"$f":"Param!P12","v":11500}]
[null,null,null,null,null,null,null,null,null,null,null,null,null,{"$f":"ListAVS!$B$134","v":"na vruty"},null,{"$f":"ListAVS!$B$134","v":"na vruty"},null,{"$f":"ListAVS!$B$134","v":"na vruty"},null,{"$f":"ListAVS!$B$146","v":"Tmavě šedá (TGR)"},null,null,"SERVO-DRIVE",null,"eurošrouby",{"$f":"Param!M13","v":"22F2800"},{"$f":"Param!N13","v":1},{"$f":"Param!O13","v":11500},{"$f":"Param!P13","v":19300},{"$f":"Param!Q13","v":19300}]
[null,null,null,null,null,null,null,null,null,null,null,null,null,null,null,null,null,null,null,{"$f":"ListAVS!$B$147","v":"Hedvábně bílá (SW)"},null,null,null,null,null,{"$f":"Param!M14","v":"22F2800"},{"$f":"Param!N14","v":1.5},{"$f":"Param!O14","v":19300},{"$f":"Param!P14","v":28950},{"$f":"Param!Q14","v":0}]
[null,null,null,null,null,null,null,null,null,null,null,null,null,{"$f":"ListAVS!B187","v":"Pro určení typu zdvihače bude použita zadaná hmotnost"},null,null,null,null,null,null,null,null,null,null,null,{"$f":"Param!M17","v":"Teleskop"},null,{"$f":"Param!O17","v":"min"},{"$f":"Param!P17","v":"max"},{"$f":"Param!Q17","v":0}]
[null,null,null,null,null,null,null,null,null,null,null,null,null,{"$f":"ListAVS!B188","v":"Pro určení typu zdvihače bude použita vypočtená hmotnost"},null,null,null,null,null,null,null,null,null,null,null,{"$f":"Param!M18","v":"20F3200"},{"$f":"Param!N18","v":0},{"$f":"Param!O18","v":480},{"$f":"Param!P18","v":605},{"$f":"Param!Q18","v":0}]
[null,null,null,null,null,null,null,null,null,null,null,null,null,{"$f":"\". \"&ListAVS!$B$189","v":". Chcete-li použít vypočtenou hmotnost, smažte zadanou hodnotu"},null,null,null,null,null,null,null,null,null,null,null,{"$f":"Param!M19","v":"20F3500"},{"$f":"Param!N19","v":0},{"$f":"Param!O19","v":605},{"$f":"Param!P19","v":890},{"$f":"Param!Q19","v":0}]
[null,null,null,null,null,null,null,null,null,null,null,null,null,{"$f":"\". \"&ListAVS!$B$190","v":". Chcete-li použít zadanou hmotnost, zadejte ji do políčka"},null,null,null,null,null,null,null,null,null,null,null,{"$f":"Param!M20","v":"20F3900"},{"$f":"Param!N20","v":0},{"$f":"Param!O20","v":890},{"$f":"Param!P20","v":1200},{"$f":"Param!Q20","v":0}]
[null,null,null,null,null,null,null,null,null,null,null,null,null,{"$f":"ListAVS!B191","v":0},null,null,null,null,null,null,null,null,null,null,null,null,null,{"$f":"Param!O21","v":"max."},{"$f":"Param!P21","v":1200},{"$f":"Param!Q21","v":0}]
[null,null,null,null,null,null,null,null,null,null,null,null,null,{"$f":"ListAVS!B192","v":"Pro výběr teleskopů bude použita teoretická výška TKH"}]
[null,null,null,null,null,null,null,null,null,null,null,null,null,{"$f":"ListAVS!B193","v":"Teoretická výška TKH nesmí být menší než KH"}]
[]
[]
[]
[]
[]
[]
[]
[]
[]
[]
[null,null,null,null,null,null,null,null,null,null,null,null,null,{"$f":"ListAVS!$B$73","v":"Výpočet hmotnosti čel"}]
[null,null,null,null,null,null,null,null,null,null,null,null,null,null,{"$f":"ListAVS!$B$179&\"  \"","v":"Provedení čel  "},null,null,null,null,{"$f":"J4","v":0},{"$f":"IF(AF77=3,IF(T71=0,Y74,\" \"),IF(T71>0,Y75,\" \"))","v":" "},null,null,null,{"$f":"IF($AF$77=1,$AF$94,IF($AF$77=2,$AF$95,$AF$96&\" -  \"&$T$71&\"mm\"))","v":"Alurámečky s 4mm sklem"},null,null,null,null,{"$f":"MenuAVS!$Q$81","v":2500}]
[null,null,null,null,null,null,null,null,null,null,null,null,null,null,null,null,null,null,null,null,null,null,null,null,{"$f":"\" \"&ListAVS!$B$243","v":" Změnit objemovou hmotnost "}]
[null,null,null,null,null,null,null,null,null,null,null,null,null,null,null,null,null,null,null,null,null,null,null,null,{"$f":"\" \"&ListAVS!$B$244&\" [kg/m3]\"","v":" Zadejte objemovou hmotnost  [kg/m3]"}]
[null,null,null,null,null,null,null,null,null,null,null,null,null,null,null,null,null,null,null,null,null,null,null,null,{"$f":"\" \"&ListAVS!$B$245&\" [mm]\"","v":" Zadejte sílu skla [mm]"}]
[null,null,null,null,null,null,null,null,null,null,null,null,null,null,null,null,null,null,null,null,null,null,null,null,{"$f":"\" \"&ListAVS!$B$240&\" '\"&ListAVS!$B$95&\"'\"","v":" Hodnota platí jen pro volbu 'Alurámečky s jiným sklem'"}]
[null,null,null,null,null,null,null,null,null,null,null,null,null,null,null,null,null,{"$f":"D9","v":" "},null,null,null,null,null,null,{"$f":"\" \"&ListAVS!$B$410","v":" Změnit hodnoty můžete v Úvodu plánování"},null,null,null,null,null,"váha spoj.","tl. skla","typ alu"]
[null,null,null,null,null,null,null,null,null,null,null,null,null,{"$f":"ListAVS!$B$74&\" KB [mm]       \"","v":"Šířka korpusu KB [mm]       "},null,null,null,null,null,{"$f":"H10","v":0},null,null,null,null,{"$f":"T77*T78*T79","v":0},null,null,null,null,{"$f":"IF($AG$77=1,$X$94,$X$95)","v":0.31},{"$f":"$X$96*2","v":0.92},1,{"$f":"$O$4","v":1}]
[null,null,null,null,null,null,null,null,null,null,null,null,null,{"$f":"ListAVS!$B$75&\" KH [mm]       \"","v":"Výška korpusu KH [mm]       "},null,null,null,null,null,{"$f":"H11","v":0},null,null,null,null,{"$f":"Y77/1000000000","v":0},{"$f":"AF77","v":1},null,null,null,"váha alu",{"$f":"SUM(T77*4,(T78-80)*2)*AD77/1000","v":-4.9599999999999998E-2},"A plocha B"]
[null,null,null,null,null,null,null,null,null,null,null,null,null,{"$f":"ListAVS!$B$80&\" TS [mm] \"","v":"Síla čela TS [mm] "},null,null,null,null,null,null,null,null,null,null,{"$f":"MenuAVS!$C$31","v":760},{"$f":"ListAVS!$B$90&\" (\"&Y79&\" kg/m3)\"","v":"MDF (760 kg/m3)"},null,null,null,{"$f":"$AD$71*4/1000","v":10},{"$f":"IF($AG$77=1,AF79*AD79,AG79*AD79)","v":1.7999999999999999E-2},{"$f":"SUM(($T$77-30)*($T$78-60)/1000000)","v":1.8E-3},{"$f":"SUM(($T$77-6)*($T$78-15)/1000000)","v":9.0000000000000006E-5},"4mm"]
[null,null,null,null,null,null,null,null,null,null,null,null,null,{"$f":"ListAVS!$B$83&\" [kg] \"","v":"Hmotnost úchytky [kg] "},null,null,null,null,null,{"$f":"H14","v":0},{"$f":"IF(SUM(T77,T78)=0,\" \",IF(T80=0,\" ● \"&ListAVS!$B$129,\" \"))","v":" "},null,null,null,{"$f":"MenuAVS!$C$32","v":680},{"$f":"ListAVS!$B$91&\" (\"&Y80&\" kg/m3)\"","v":"Dřevotříska (680 kg/m3)"},null,null,null,{"$f":"$AD$71*5/1000","v":12.5},{"$f":"IF($AG$77=1,AF80*AD80,AG80*AD80)","v":2.2499999999999999E-2},{"$f":"SUM(($T$77-30)*($T$78-60)/1000000)","v":1.8E-3},{"$f":"SUM(($T$77-6)*($T$78-15)/1000000)","v":9.0000000000000006E-5},"5mm"]
[null,null,null,null,null,null,null,null,null,null,null,null,null,{"$f":"ListAVS!$B$79&\" [kg] \"","v":"Vypočtená hmotnost čela [kg] "},null,null,null,null,null,{"$f":"IF(AD82=0,0,AD82+T80)","v":0},null,null,null,{"$f":"IF(T77*T78*T79=0,0,IF(Z78=1,Y78*Y79+T80,IF(Z78=2,Y78*Y80+T80,Y78*Y81+T80)))","v":0},{"$f":"$T$71","v":0},{"$f":"ListAVS!$B$92","v":"Jiné - volitelná hustota"},null,null,null,{"$f":"$AD$71*$T$71/1000","v":0},{"$f":"IF($AG$77=1,AF81*AD81,AG81*AD81)","v":0},{"$f":"SUM(($T$77-30)*($T$78-60)/1000000)","v":1.8E-3},{"$f":"SUM(($T$77-6)*($T$78-15)/1000000)","v":9.0000000000000006E-5},"jiné"]
[null,null,null,null,null,null,null,null,null,null,null,null,null,null,{"$f":"IF(T81>0,IF(T80=0,$Z$94,\" \"),\" \")","v":" "},null,null,null,null,null,null,null,null,null,null,null,null,null,null,{"$f":"IF(OR(AND(AF77=3, $T$71=0), T77*T78=0), 0, SUM(IF(AF77=1,AE79,IF(AF77=2,AE80,AE81)),AE78,AE77))","v":0}]
[]
[]
[null,null,null,null,null,null,null,null,null,null,null,null,null,null,null,null,null,{"$f":"D20","v":" "},null,null,null,null,null,null,null,null,null,null,null,null,"váha spoj.","tl. skla","typ alu"]
[null,null,null,null,null,null,null,null,null,null,null,null,null,{"$f":"ListAVS!$B$74&\" KB [mm]       \"","v":"Šířka korpusu KB [mm]       "},null,null,null,null,null,{"$f":"H21","v":0},null,null,null,null,{"$f":"T86*T87*T88","v":0},null,null,null,null,{"$f":"IF($AG$77=1,$X$94,$X$95)","v":0.31},{"$f":"$X$96*2","v":0.92},{"$f":"$AF$77","v":1},{"$f":"$AG$77","v":1}]
[null,null,null,null,null,null,null,null,null,null,null,null,null,{"$f":"ListAVS!$B$75&\" KH [mm]       \"","v":"Výška korpusu KH [mm]       "},null,null,null,null,null,{"$f":"H22","v":0},null,null,null,null,{"$f":"Y86/1000000000","v":0},{"$f":"Z78","v":1},null,null,null,"váha alu",{"$f":"SUM(T86*4,(T87-80)*2)*AD86/1000","v":-4.9599999999999998E-2},"A plocha B"]
[null,null,null,null,null,null,null,null,null,null,null,null,null,{"$f":"ListAVS!$B$80&\" TS [mm] \"","v":"Síla čela TS [mm] "},null,null,null,null,null,null,null,null,null,null,{"$f":"$Y$79","v":760},{"$f":"$Z$79","v":"MDF (760 kg/m3)"},null,null,null,{"$f":"AD79","v":10},{"$f":"IF($AG$77=1,AF88*AD88,AG88*AD88)","v":1.7999999999999999E-2},{"$f":"SUM(($T$86-30)*($T$87-60)/1000000)","v":1.8E-3},{"$f":"SUM(($T$86-6)*($T$87-15)/1000000)","v":9.0000000000000006E-5},"4mm"]
[null,null,null,null,null,null,null,null,null,null,null,null,null,{"$f":"ListAVS!$B$83&\" [kg] \"","v":"Hmotnost úchytky [kg] "},null,null,null,null,null,{"$f":"H25","v":0},{"$f":"IF(SUM(T86,T87)=0,\" \",IF(T89=0,\" ● \"&ListAVS!$B$129,\" \"))","v":" "},null,null,null,{"$f":"$Y$80","v":680},{"$f":"$Z$80","v":"Dřevotříska (680 kg/m3)"},null,null,null,{"$f":"AD80","v":12.5},{"$f":"IF($AG$77=1,AF89*AD89,AG89*AD89)","v":2.2499999999999999E-2},{"$f":"SUM(($T$86-30)*($T$87-60)/1000000)","v":1.8E-3},{"$f":"SUM(($T$86-6)*($T$87-15)/1000000)","v":9.0000000000000006E-5},"5mm"]
[null,null,null,null,null,null,null,null,null,null,null,null,null,{"$f":"ListAVS!$B$79&\" [kg] \"","v":"Vypočtená hmotnost čela [kg] "},null,null,null,null,null,{"$f":"IF(AD91=0,0,AD91+T89)","v":0},null,null,null,{"$f":"IF(T86*T87*T88=0,0,IF(Z87=1,Y87*Y88+T89,IF(Z87=2,Y87*Y89+T89,Y87*Y90+T89)))","v":0},{"$f":"$Y$81","v":0},{"$f":"$Z$81","v":"Jiné - volitelná hustota"},null,null,null,{"$f":"AD81","v":0},{"$f":"IF($AG$77=1,AF90*AD90,AG90*AD90)","v":0},{"$f":"SUM(($T$86-30)*($T$87-60)/1000000)","v":1.8E-3},{"$f":"SUM(($T$86-6)*($T$87-15)/1000000)","v":9.0000000000000006E-5},"jiné"]
[null,null,null,null,null,null,null,null,null,null,null,null,null,null,{"$f":"IF(T90>0,IF(T89=0,$Z$94,\" \"),\" \")","v":" "},null,null,null,null,null,null,null,null,null,null,null,null,null,null,{"$f":"IF(OR(AND(AF86=3, $T$71=0), T86*T87=0), 0, SUM(IF(AF86=1,AE88,IF(AF86=2,AE89,AE90)),AE87,AE86))","v":0}]
[]
[]
[null,null,null,null,null,null,null,null,null,null,null,null,null,null,null,null,null,null,null,null,null,null,{"$f":"ListAVS!$B$424&\"  \"","v":"s vloženým sklem  "},{"$f":"MenuAVS!$I$91","v":0.31},null,{"$f":"ListAVS!$B$102&\"!\"","v":"Není započtena hmotnost úchytky!"},null,null,null,null,null,{"$f":"ListAVS!$B$93","v":"Alurámečky s 4mm sklem"}]
[null,null,null,null,null,null,null,null,null,null,null,null,null,null,null,null,null,null,null,null,null,null,{"$f":"ListAVS!$B$425&\"  \"","v":"s naloženým nebo nalepeným sklem  "},{"$f":"MenuAVS!$I$92","v":0.32},null,null,null,null,null,null,null,{"$f":"ListAVS!$B$94","v":"Alurámečky s 5mm sklem"}]
[null,null,null,null,null,null,null,null,null,null,null,null,null,null,null,null,null,null,null,null,null,null,{"$f":"ListAVS!$B$405&\" [kg/set] *  \"","v":"Hmotnost spojovacího materiálu [kg/set] *  "},{"$f":"MenuAVS!$I$93","v":0.46},null,null,null,null,null,null,null,{"$f":"ListAVS!$B$95","v":"Alurámečky s jiným sklem"}]
[]
[]
[]
[null,{"$f":"ListAVS!$B$194","v":"Výpočet asymetrických čel"}]
[]
[null,{"$f":"\"   \"&ListAVS!$B$197","v":"   Parametry korpusu"}]
[null,{"$f":"ListAVS!$B$75&\" KH [mm] \"","v":"Výška korpusu KH [mm] "},null,null,null,null,null,null,null,null,{"$f":"IF(I103<480, \" min. 480\", IF(I103>1200, \" max. 1200\", \" \"))","v":" min. 480"},null,null," <=519"," >=520"]
[null,{"$f":"ListAVS!$B$200&\" F1 [mm] \"","v":"Mezera nahoře F1 [mm] "}]
[null,{"$f":"ListAVS!$B$201&\" F2 [mm] \"","v":"Mezera mezi čely F2 [mm] "},null,null,null,null,null,null,null,null,{"$f":"IF($I$103=0,\" \",IF($I$105<1.5,\" min. 1,5 mm!\",\" \"))","v":" "}]
[null,{"$f":"ListAVS!$B$202&\" F3 [mm] \"","v":"Mezera dole F3 [mm] "},null,null,null,null,null,null,null,null,null,null,"Z",170,189]
[null,{"$f":"ListAVS!$B$203&\" [mm] \"","v":"Síla dna korpusu [mm] "},null,null,null,null,null,null,null,null,null,null,"H",93,116]
[]
[null,{"$f":"\"   \"&ListAVS!$B$205","v":"   Výsledky plánování"},null,null,null,null,null,null,null,null,null,null,null,"FHo","FHo"]
[null,null,null,null,null,null,{"$f":"ListAVS!$B$206&\" [mm] \"","v":"Možné výšky čel [mm] "},null,null,null,null,null,null,"min ↓↓","min ↓↓"]
[null,{"$f":"ListAVS!$B$207","v":"Čelo nahoře (FHo) v rozmezí"},null,null,null,null,"min.",{"$f":"IF(AND($I$103>=480, $I$103<=519), $N$111, IF(AND($I$103>=520, $I$103<=1200), $O$111, $S$115))","v":"nelze"},"max.",{"$f":"IF(AND($I$103>=480, $I$103<=519), $N$115, IF(AND($I$103>=520, $I$103<=1200), $O$115, $S$115))","v":"nelze"},null,null,null,{"$f":"SUM(I103, -I104, -I105, -I106, -N120)","v":0},{"$f":"SUM(I103, -I104, -I105, -I106, -O120)","v":0}]
[null,{"$f":"ListAVS!$B$208","v":"Čelo dole (FHu) v rozmezí"},null,null,null,null,"min.",{"$f":"IF(AND($I$103>=480, $I$103<=519), $N$118, IF(AND($I$103>=520, $I$103<=1200), $O$118, $S$115))","v":"nelze"},"max.",{"$f":"IF(AND($I$103>=480, $I$103<=519), $N$120, IF(AND($I$103>=520, $I$103<=1200), $O$120, $S$115))","v":"nelze"},null,null,null,"max ↓↓","max ↓↓"]
[null,null,null,null,null,null,null,null,null,null,null,null,null,{"$f":"ROUNDUP(SUM(519, -$I$104, -$I$105, -$I$106)/2, 0)","v":260},{"$f":"ROUNDUP(SUM(1200, -$I$104, -$I$105, -$I$106)/2, 0)","v":600},"absolutně"]
[null,{"$f":"ListAVS!$B$214&\" FHo [mm] \"","v":"Výška čela nahoře FHo [mm] "},null,null,null,null,null,null,null,null,{"$f":"IF($I$103=0,\" \",IF($I$114>$J$111,V114,IF($I$114<$H$111,$S$114,\" \")))","v":" "},null,null,{"$f":"SUM(I103, -I104, -I105, -I106, -N118)","v":-219},{"$f":"SUM(I103, -I104, -I105, -I106, -O118)","v":-238},"vypočtená",null,null,{"$f":"\" min. \"&TEXT($H$111,\"#\")&\" mm!\"","v":" min. nelze mm!"},null,null,{"$f":"\" max. \"&TEXT($J$111,\"#\")&\" mm!\"","v":" max. nelze mm!"}]
[null,{"$f":"ListAVS!$B$215&\" FHu [mm] \"","v":"Výška čela dole FHu [mm] "},null,null,null,null,null,null,{"$f":"IF($I$114<$H$111,$S$115,IF($I$114>$J$111,$S$115,+$I$103-$I$104-$I$105-$I$106-$I$114))","v":"nelze"},null,null,null,null,{"$f":"IF($N$114>$N$113, $N$113, $N$114)","v":-219},{"$f":"IF($O$114>$O$113, $O$113, $O$114)","v":-238},"výsledná",null,null,{"$f":"ListAVS!B211","v":"nelze"}]
[null,{"$f":"ListAVS!$B$216&\" H [mm] \"","v":"Pozice zdvihače H [mm] "},null,null,null,null,null,null,{"$f":"IF(AND($I$103>=480, $I$103<520), $N$107, IF(AND($I$103>=520, $I$103<=1200), $O$107, $S$115))","v":"nelze"},null,null,null,null,"FHu","FHu"]
[null,{"$f":"ListAVS!$B$217&\" Z [mm] \"","v":"Pozice mont. podložky pro teleskopy Z [mm] "},null,null,null,null,null,null,{"$f":"IF(AND($I$103>=480, $I$103<520), $N$106, IF(AND($I$103>=520, $I$103<=1200), $O$106, $S$115))","v":"nelze"},null,null,null,null,"min ↓↓","min ↓↓"]
[null,{"$f":"ListAVS!$B$218&\" TKH [mm] * \"","v":"Teoretická výška korpusu TKH [mm] * "},null,null,null,null,null,null,{"$f":"IF($I$115=$S$115, $S$115, IF($Q$118>=480, IF($Q$118<=1202, $Q$118, $S$115),\" \"))","v":"nelze"},null,null,null,null,{"$f":"SUM(N106, 32, 17, $I$107, -$I$106)","v":219},{"$f":"SUM(O106, 32, 17, $I$107, -$I$106)","v":238},"TKH",{"$f":"ROUND(SUM($I$114*2+$I$104+$I$105+$I$106), -1)","v":0}]
[null,null,null,null,null,null,null,null,null,null,null,null,null,"max ↓↓","max ↓↓"]
[null," *",{"$f":"ListAVS!$B$220","v":"Tuto výšku zadejte do tabulky pro plánování výklopů"},null,null,null,null,null,null,null,null,null,null,{"$f":"ROUNDDOWN(SUM(I103, -I104, -I105, -I106)/2, 0)","v":0},{"$f":"ROUNDDOWN(SUM(I103, -I104, -I105, -I106)/2, 0)","v":0}]
[]
[]
[]
[]
[null,null,null,null,null,null,null,null,{"$f":"ListAVS!$B$167","v":"Zpět"}]
[]
[]
[]
[]
[]
[]
[]
[]
[]
[]
[]
[]
[]
[null,"      AVENTOS HF"]
[]
[null,{"$f":"ListAVS!$B$302","v":"Potřebný zdvihač se určí pomocí ukazatele výkonnosti."}]
[null,{"$f":"ListAVS!$B$303","v":"Ukazatel výkonnosti závisí na hmotnosti dolního i horního čílka, a rovněž na výšce korpusu."}]
[]
[]
[null,null,null,{"$f":"ListAVS!$B$86&\" = \"","v":"Ukazatel výkonnosti = "},{"$f":"ListAVS!$B$319&\" [kg]\"","v":"výška korpusu KH [mm] x hmotnost obou čel včetně úchytky [kg]"}]
[]
[]
[]
[]
[]
[null,{"$f":"ListAVS!$B$311","v":"Pokud znáte hmotnost čela, můžete ji zadat, jinak použijte \"Výpočet hmotnosti\"."}]
[null,{"$f":"ListAVS!$B$312","v":"V tabulce má přednost zadaná hodnota. Chcete-li použít vypočtenou hmotnost, smažte zadanou hodnotu."}]
[]
[null,{"$f":"ListAVS!$B$322&\". \"&ListAVS!$B$323&\".\"","v":"Délka teleskopů závisí na výšce korpusu KH. U asymetrických čel se použije teoretická výška TKH."}]
[]
[null,{"$f":"\" \"&ListAVS!$B$162&\":\"","v":" Asymetrická čela:"}]
[null,{"$f":"\" \"&ListAVS!$B$320","v":" Teoretická výška korpusu (TKH) = výška horního čela (FHo) x 2 (včetně mezer)"}]
[]
[null,{"$f":"ListAVS!$B$315","v":"U asymetrických čel musí být větší čelo nahoře!"}]
[]
[null,{"$f":"ListAVS!$B$325","v":"Pokud zadáte hodnotu TKH, použije se pro určení délky teleskopů"}]
[null,{"$f":"ListAVS!$B$326","v":"Nemáte-li asymetrická čela, nechte políčko prázdné."}]
[null,{"$f":"ListAVS!$B$327&\" ' \"&ListAVS!$B$194&\"' \"","v":"Pro výpočet TKH použijte ' Výpočet asymetrických čel' "}]
[]
[]
[null,{"$f":"ListAVS!$B$305","v":"Chcete-li změnit barvu krytek, přejděte na \"Úvod plánování\""}]
[]
[null,{"$f":"ListAVS!$B$411","v":"Věnujte pozornost výběru alurámečků."}]
[null,{"$f":"ListAVS!$B$412","v":"Vyberte, který typ lépe odpovídá tvaru použitého alurámečku."}]
[null,{"$f":"ListAVS!$B$413","v":"Způsob osazení skla do rámečku výrazně ovlivňuje plochu skla a tím i hmotnost!"}]
[]
[null,null,{"$f":"\"  \"&ListAVS!$B$424&\"  \"","v":"  s vloženým sklem  "}]
[]
[null,null,{"$f":"\"  \"&ListAVS!$B$425&\"  \"","v":"  s naloženým nebo nalepeným sklem  "}]
[]
[null,null,null,null,null,null,null,null,null,null,null,{"$f":"ListAVS!$B$167","v":"Zpět"}]

{"sheet":"HFw_na","index":14,"n_rows":176,"n_cols":43,"rows_kept":176,"cut":false,"hidden":false,"merged":[[0,55,0,63],[1,1,1,2],[6,1,6,2],[6,6,6,7],[8,19,8,20],[8,1,8,2],[8,5,8,7],[7,39,7,40],[8,39,8,40],[10,1,10,3],[11,1,11,6],[12,1,14,2],[12,3,12,6],[13,3,13,6],[14,3,14,6],[9,39,9,40],[30,19,30,20],[15,1,15,6],[16,1,16,6],[19,19,19,20],[20,1,20,6],[21,1,21,3],[19,1,19,2],[19,5,19,7],[22,1,22,6],[26,1,26,6],[27,1,27,6],[30,1,32,9],[23,1,25,2],[23,3,23,6],[9,1,9,6],[111,1,111,5],[113,8,113,9],[109,1,109,5],[75,13,75,16],[75,17,75,19],[102,13,104,13],[102,14,104,14],[11,39,12,42],[13,39,14,42],[87,13,87,18],[88,13,88,18],[89,13,89,18],[78,13,78,18],[79,13,79,18],[80,13,80,18],[84,17,84,19],[86,13,86,18],[85,13,85,18],[124,8,124,9],[138,0,177,0],[144,4,144,11],[115,1,115,7],[115,8,115,9],[116,1,116,7],[116,8,116,9],[117,1,117,7],[117,8,117,9],[98,0,137,0],[101,1,101,9],[102,1,102,7],[102,8,102,9],[104,8,104,9],[105,1,105,7],[105,8,105,9],[114,1,114,7],[113,1,113,7],[24,3,24,6],[25,3,25,6],[71,15,71,19],[103,8,103,9],[76,13,76,18],[77,13,77,18],[103,1,103,7],[114,8,114,9],[109,6,109,9],[110,1,110,5],[104,1,104,7],[108,1,108,9],[106,1,106,7],[106,8,106,9]]}
[]
[null," AVENTOS HF top",null,null,null,null,null,null,null,null,null,null,null,null,"rámeček",null,null,null,3,null,null,null,null,null,null,null,null,null,null,null,null,null,null,null,null,null,null,{"$f":"ListAVS!$B$152","v":"Jdi na"}]
[]
[null,{"$f":"ListAVS!$B$17","v":"Dřevěné čelo"},null,null,null,{"$f":"ListAVS!$B$35&\"  \"","v":"horní čelo  "},null,null,null,null,{"$f":"U71","v":" "},null,null,null,1,null,null,null,{"$f":"\" \"&ListAVS!$B$41&\" A \"","v":" Cena za korpus A "},null,null,null,null,"výpočet",null,null,null,null,null,null,null,null,null,null,null,null,null,{"$f":"\" \"&ListAVS!$B$153","v":" Úvod plánování"}]
[null,{"$f":"ListAVS!$B$22&\" ***\"","v":"Úzký alurámeček ***"},null,null,null,{"$f":"ListAVS!$B$36&\"  \"","v":"dolní čelo  "},null,null,null,null,{"$f":"U73","v":" "},null,null,null,"A = 1",null,null,null,{"$f":"\" \"&ListAVS!$B$41&\" B \"","v":" Cena za korpus B "},null,null,null,null,null,null,null,null,null,null,null,null,null,null,null,null,null,null,{"$f":"\" \"&ListAVS!$B$154","v":" Nápověda"}]
[null,null,null,null,null,null,null,null,null,{"$f":"IF($Z$78<>3,$Y$73,\" \")&\"      \"","v":" Změnit hodnoty můžete v Úvodu plánování      "},null,null,null,null,"B = 2",null,null,null,{"$f":"\" \"&ListAVS!$B$61","v":" Cena celkem bez DPH"}]
[null,{"$f":"ListAVS!$B$51&\":   \"","v":"Cena kování:   "},null,null,null,null,{"$f":"IF(S2=1,$AF$47,IF($S$2=2,$AH$47,IF($S$2=3,$AD$47,0)))","v":0},null,null,null,null,null,null,null,null,null,null,null,null,null,null,null,null,null,{"$f":"$B$2","v":" AVENTOS HF top"},null,null,null,null,null,null,null,null,null,null,null,null,{"$f":"\" \"&ListAVS!$B$159","v":" Doplňky"}]
[null,null,null,null,null,null,null,{"$f":"IF(AND(OR($S$9=2, $S$20=2), $AD$47>0), $N$35, \" \")","v":" "},null,null,null,null,null,null,null,null,null,null,null,null,null,null,null,null,{"$f":"ListAVS!B52","v":"Název"},{"$f":"ListAVS!$B$53","v":"Číslo artiklu"},{"$f":"ListAVS!B54","v":"Barva"},{"$f":"ListAVS!B56","v":"Ks"},{"$f":"ListAVS!B58","v":"Jednotková cena"},{"$f":"ListAVS!B59","v":"Celkem"},"A","Cena","B","Cena",null,null,null,null,null,{"$f":"\"  \"&ListAVS!$B$86&\" LF \"","v":"  Ukazatel výkonnosti LF "},null,"Zdvihací mechanizmus vruty","Zdvihací mechanizmus šrouby"]
[null,{"$f":"\"▼ \"&ListAVS!$B$317","v":"▼ Způsob otvírání"},null,{"$f":"IF($M$17>0, ListAVS!$B$37&\": \", \" \")","v":" "},{"$f":"IF(SUM($AE$9:$AE$10)>0,25,IF(SUM($AE$11:$AE$12)>0,28,\" \"))","v":" "},{"$f":"ListAVS!$B$64&\" A\"","v":"Korpus A"},null,null,null,null,null,null,null,"zdvih A",null,"teleskop",null,null,1,false,null," - SRVDRV",null,null,{"$f":"CenAVS!A11","v":"Sada zdvihačů HF top, na vruty"},{"$f":"CenAVS!B11","v":"22F2500"},{"$f":"CenAVS!C11","v":"ZN"},{"$f":"SUM(AE9,AG9)","v":0},{"$f":"CenAVS!F11","v":1651.93},{"$f":"AB9*AC9","v":0},{"$f":"IF($Y$48=1,ROUNDUP($M$17*$O$11,0),0)","v":0},{"$f":"$AC9*AE9","v":0},{"$f":"IF($Y$48=1,ROUNDUP($M$28*$O$22,0),0)","v":0},{"$f":"$AC9*AG9","v":0},null,null,null,{"$f":"\" \"&ListAVS!$B$156","v":" Přehled korpusů"},null,"    2700 - 13500",null,"22F2500","22F2510"]
[null,{"$f":"ListAVS!$B$74&\" KB [mm] \"","v":"Šířka korpusu KB [mm] "},null,null,null,null,null,null,{"$f":"IF(H10=0,\" \",IF($H10<220,\" min. 220mm\",\" \"))&IF(H17>0,IF(H10=0,\"● \"&ListAVS!$B$128,\" \"),\" \")","v":"  "},null,null,null,null,null,null,"F32",{"$f":"IF(AND($P$16>=$AB$54,$P$16<=$AC$54),SUM($O$11:$O$12),0)","v":0},null,null,"Závěs A",null,"Závěs As",null,null,{"$f":"CenAVS!A12","v":"Sada zdvihačů HF top, předmont. eurošrouby"},{"$f":"CenAVS!B12","v":"22F2510"},{"$f":"CenAVS!C12","v":"ZN"},0,{"$f":"CenAVS!F12","v":1651.93},{"$f":"AB10*AC10","v":0},{"$f":"IF($Y$48=2,ROUNDUP($M$17*$O$11,0),0)","v":0},0,{"$f":"IF($Y$48=2,ROUNDUP($M$28*$O$22,0),0)","v":0},0,null,null,null,{"$f":"\" \"&ListAVS!$B$157","v":" Objednávka"},null,"  10000 - 19300",null,"22F2800","22F2810"]
[null,{"$f":"ListAVS!$B$75&\" [mm]\"","v":"Výška korpusu [mm]"},null,null,"TKH * ",null,"KH ",null,{"$f":"IF(H11=0,\" \",IF($H11<480,\" min. 480mm\",IF($H11>1200,\" max. 1 200mm\",\" \")))&IF(H17>0,IF(H11=0,\"● \"&ListAVS!$B$128,\" \"),\" \")","v":"  "},null,null,null,null,"F25",{"$f":"IF($H16<$AB$50,0,IF($H16<=$AC$50,1,0))","v":0},"F35",{"$f":"IF(AND($P$16>=$AB$55,$P$16<=$AC$55),SUM($O$11:$O$12),0)","v":0},null,null,"T558E",{"$f":"IF($N$48=1, IF(OR($H$10>=1200, $T$17>=12), 3, 2))+IF($N$48=1,IF(OR($H$10=1800, $T$17>=20), 1, 0))","v":2},"Z553E",{"$f":"IF($P$48=1, IF(OR($H$10>=1200, $T$17>=12), 3, 2))+IF($P$48=1,IF(OR($H$10=1800, $T$17>=20), 1, 0))","v":0},null,{"$f":"CenAVS!A13","v":"Sada zdvihačů HF top, na vruty"},{"$f":"CenAVS!B13","v":"22F2800"},{"$f":"CenAVS!C13","v":"ZN"},0,{"$f":"CenAVS!F13","v":1805.55},0,{"$f":"IF($Y$48=1,ROUNDUP($M$17*$O$12,0),0)","v":0},0,{"$f":"IF($Y$48=1,ROUNDUP($M$28*$O$23,0),0)","v":0},0]
[null,{"$f":"ListAVS!$B$77&\" [kg] ** \"","v":"Hmotnost čela včetně úchytky [kg] ** "},null,null,null,null,null,null,{"$f":"IF($T14=\"ne\", \" \", IF(AND($H12=0,$H15=0, $H17>0),$N$37,\" \"))&IF(AND($H17>0, $H12>0, $M17>0),$N$41,\" \")","v":"  "},null,null,null,null,"F28",{"$f":"IF($H16<$AB$51,0,IF($H16<=$AC$51,1,0))","v":0},"F39",{"$f":"IF(AND($P$16>=$AB$56,$P$16<=$AC$56),SUM($O$11:$O$12),0)","v":0},null,null,"T5550",{"$f":"IF($N$48=2, IF(OR($H$10>=1200, $T$17>=12), 3, 2))+IF($N$48=2,IF(OR($H$10=1800, $T$17>=20), 1, 0))","v":0},"Z550AT",{"$f":"IF($P$48=2, IF(OR($H$10>=1200, $T$17>=12), 3, 2))+IF($P$48=2,IF(OR($H$10=1800, $T$17>=20), 1, 0))","v":2},null,{"$f":"CenAVS!A14","v":"Sada zdvihačů HF top, předmont. eurošrouby"},{"$f":"CenAVS!B14","v":"22F2810"},{"$f":"CenAVS!C14","v":"ZN"},0,{"$f":"CenAVS!F14","v":1805.55},0,{"$f":"IF($Y$48=2,ROUNDUP($M$17*$O$12,0),0)","v":0},0,{"$f":"IF($Y$48=2,ROUNDUP($M$28*$O$23,0),0)","v":0},0,null,null,null,null,null,{"$f":"ListAVS!$B$86&\" LF = \"&ListAVS!$B$319&\" [kg]\"","v":"Ukazatel výkonnosti LF = výška korpusu KH [mm] x hmotnost obou čel včetně úchytky [kg]"}]
[null,{"$f":"ListAVS!$B$292","v":"Výpočet hmotnosti"},null,{"$f":"ListAVS!$B$81&\" TS [mm] \"","v":"Síla horního čela TS [mm] "},null,null,null,null,{"$f":"IF(OR(H17=0, $T14=\"ne\"),\" \",IF(AND(H12=0, H13=0),\" ● \"&ListAVS!$B$128,\" \"))","v":" "},null,null,null,null,null,null,null,null,null,null,null,null,null,null,null,{"$f":"CenAVS!A15","v":"Sada teleskopů HF top (480–610 mm)"},{"$f":"CenAVS!B15","v":"22F3200"},{"$f":"CenAVS!C15","v":"NI"},0,{"$f":"CenAVS!F15","v":785.14},0,{"$f":"ROUNDUP($M$17*Q10,0)","v":0},0,{"$f":"ROUNDUP($M$28*Q21,0)","v":0},0]
[null,null,null,{"$f":"ListAVS!$B$83&\" [kg] \"","v":"Hmotnost úchytky [kg] "},null,null,null,null,{"$f":"IF(H17=0, \" \", IF(AND(H12=0, S9=1, H14=0), \" ● \"&ListAVS!$B$129,\" \"))","v":" "},null,null,null,null,null,null,null,null,null,"limit v/š",{"$f":"IF(AND(220<=H10, H10<=1800, 480<=P16, P16<=1200),\"ano\",\"ne\")","v":"ne"},null,null,null,null,{"$f":"CenAVS!A16","v":"Sada teleskopů HF top (600–910 mm)"},{"$f":"CenAVS!B16","v":"22F3500"},{"$f":"CenAVS!C16","v":"NI"},0,{"$f":"CenAVS!F16","v":964.4},0,{"$f":"ROUNDUP($M$17*Q11,0)","v":0},0,{"$f":"ROUNDUP($M$28*Q22,0)","v":0},0]
[null,null,null,{"$f":"ListAVS!$B$79&\" [kg] \"","v":"Vypočtená hmotnost čela [kg] "},null,null,null,{"$f":"$T$81","v":0},{"$f":"IF($H17>0,IF($H15>0,IF($H12=0,$N$41,\" \"),\" \"),\" \")&IF(AND(H17>0, H12=0, Z78=3, $J$4=0), $N$39, \" \")","v":"  "},null,null,null,null,null,null,null,null,null,"limit LF",{"$f":"IF(AND(H16>=$AB$50, H16<=$AC$51), \"ano\", \"ne\")","v":"ne"},null,null,null,null,{"$f":"CenAVS!A17","v":"Sada teleskopů HF top (840–1200 mm)"},{"$f":"CenAVS!B17","v":"22F3900"},{"$f":"CenAVS!C17","v":"NI"},0,{"$f":"CenAVS!F17","v":1143.6400000000001},0,{"$f":"ROUNDUP($M$17*Q12,0)","v":0},0,{"$f":"ROUNDUP($M$28*Q23,0)","v":0},0]
[null,{"$f":"ListAVS!$B$86&\" LF \"","v":"Ukazatel výkonnosti LF "},null,null,null,null,null,{"$f":"IF(H11<1041,IF(H11>479,IF(H12>0,H11*H12,H11*H15),0),0)","v":0},{"$f":"IF(AND(H16>0, H16<$AB$50), $T$44, IF($H16>$AC$51, $N$44, \"  \"))","v":"  "},null,null,null,null,null,"výška korpusu",{"$f":"IF(F11>0,IF(F11>=H11,F11,0),H11)","v":0},null,null,null,null,null,null,null,null,{"$f":"CenAVS!A47","v":"Sada krytek HF, HS, HL top, světle šedá"},{"$f":"CenAVS!B47","v":"22.8000"},{"$f":"CenAVS!C47","v":"HGR"},{"$f":"SUM(AE16,AG16)","v":0},{"$f":"CenAVS!F47","v":252.85},0,{"$f":"IF(AND($S$9=1, $T$48=1), SUM($AE$9:$AE$12), 0)","v":0},0,{"$f":"IF(AND($S$20=1, $T$48=1), SUM($AG$9:$AG$12), 0)","v":0},0]
[null,{"$f":"ListAVS!$B$71&\" \"","v":"Počet skříněk "},null,null,null,null,null,null,null,null,null,null,{"$f":"IF($H10*$P16=0,0,IF(SUM($H12,$H15)=0,0,IF($P16>$AC$57,0,IF(P16<$AB$54,0,IF(OR(T14=\"ne\", T15=\"ne\"),0,$H17)))))","v":0},"← Hlavní údaj",null,null,null,null,"hmot =",{"$f":"IF(H12>0,H12,H15)","v":0},{"$f":"IF(SUM(H12,H15)=0,0,IF(H12>0,1,2))","v":0},"zadaná / vypočtená",null,null,{"$f":"CenAVS!A48","v":"Sada krytek HF, HS, HL top, tmavě šedá"},{"$f":"CenAVS!B48","v":"22.8000"},{"$f":"CenAVS!C48","v":"TGR"},{"$f":"SUM(AE17,AG17)","v":0},{"$f":"CenAVS!F48","v":275.94},0,{"$f":"IF(AND($S$9=1, $T$48=2), SUM($AE$9:$AE$12), 0)","v":0},0,{"$f":"IF(AND($S$20=1, $T$48=2), SUM($AG$9:$AG$12), 0)","v":0},0,null,null,null,null,null,"vruty = zdvihače s integrovanou šablonou (bez nutnosti rozměřování)"]
[null,{"$f":"IF(H17>0,IF(U17=0,\" \",IF(U17=1,$N$53,$N$54)),\" \")&IF(H17>0,IF(U17=0,\" \",IF(U17=1,$N$55,$N$56)),\" \")","v":"  "},null,null,null,null,null,null,null,null,null,null,null,null,null,null,null,null,null,null,null,null,null,null,{"$f":"CenAVS!A49","v":"Sada krytek HF, HS, HL top, hedvábně bílá"},{"$f":"CenAVS!B49","v":"22.8000"},{"$f":"CenAVS!C49","v":"SW"},0,{"$f":"CenAVS!F49","v":275.94},0,{"$f":"IF(AND($S$9=1, $T$48=3), SUM($AE$9:$AE$12), 0)","v":0},0,{"$f":"IF(AND($S$20=1, $T$48=3), SUM($AG$9:$AG$12), 0)","v":0},0,null,null,null,null,null,"šrouby = zdvihače s přednotovanými šrouby (nutné předvrtání)"]
[null,{"$f":"IF(F11=0,\" \",IF(F11>1200,\"TKH = max. 1200!\",IF(F11<480,\"TKH = min. 480!\",IF(F11<H11,$N$59,IF(H17>0,IF(F11=0,\" \",IF(AND(F11>0,M17=1), $N$58,\" \")),\" \")))))","v":" "},null,null,null,null,null,null,null,null,null,null,null,null,null,null,null,null,null,null,null,null,null,null,{"$f":"CenAVS!A50","v":"Sada krytek pro SERVO-DRIVE, světle šedá"},{"$f":"CenAVS!B50","v":"23.8000"},{"$f":"CenAVS!C50","v":"HGR"},0,{"$f":"CenAVS!F50","v":2606.7600000000002},0,{"$f":"IF(AND($S$9=2, $T$48=1), $AE$45, 0)","v":0},0,{"$f":"IF(AND($S$20=2, $T$48=1), $AG$45, 0)","v":0},0,null,null,null,{"$f":"\" \"&ListAVS!$B$194","v":" Výpočet asymetrických čel"}]
[null,{"$f":"\"▼ \"&ListAVS!$B$317","v":"▼ Způsob otvírání"},null,{"$f":"IF($M$28>0, ListAVS!$B$37&\": \", \" \")","v":" "},{"$f":"IF(SUM($AG$9:$AG$10)>0,25,IF(SUM($AG$11:$AG$12)>0,28,\" \"))","v":" "},{"$f":"ListAVS!$B$64&\" B\"","v":"Korpus B"},null,null,null,null,null,null,null,"zdvih B",null,"teleskop",null,null,1,false,null," - SRVDRV",null,null,{"$f":"CenAVS!A51","v":"Sada krytek pro SERVO-DRIVE, tmavě šedá"},{"$f":"CenAVS!B51","v":"23.8000"},{"$f":"CenAVS!C51","v":"TGR"},0,{"$f":"CenAVS!F51","v":2709.29},0,{"$f":"IF(AND($S$9=2, $T$48=2), $AE$45, 0)","v":0},0,{"$f":"IF(AND($S$20=2, $T$48=2), $AG$45, 0)","v":0},0]
[null,{"$f":"ListAVS!$B$74&\" KB [mm] \"","v":"Šířka korpusu KB [mm] "},null,null,null,null,null,null,{"$f":"IF(H21=0,\" \",IF($H21<220,\" min. 220mm\",IF($H21>1800,\" max. 1 800mm\",\" \")))&IF(H28>0,IF(H21=0,\"● \"&ListAVS!$B$128,\" \"),\" \")","v":"  "},null,null,null,null,null,null,"F32",{"$f":"IF(AND($P$27>=$AB$54,$P$27<=$AC$54),SUM($O$22:$O$23),0)","v":0},null,null,"Závěs B",null,"Závěs Bs",null,null,{"$f":"CenAVS!A52","v":"Sada krytek pro SERVO-DRIVE,hedvábně bílá"},{"$f":"CenAVS!B52","v":"23.8000"},{"$f":"CenAVS!C52","v":"SW"},0,{"$f":"CenAVS!F52","v":2709.29},0,{"$f":"IF(AND($S$9=2, $T$48=3), $AE$45, 0)","v":0},0,{"$f":"IF(AND($S$20=2, $T$48=3), $AG$45, 0)","v":0},0]
[null,{"$f":"ListAVS!$B$75&\" [mm]\"","v":"Výška korpusu [mm]"},null,null,"TKH * ",null,"KH ",null,{"$f":"IF(H22=0,\" \",IF($H22<480,\" min. 480mm\",IF($H22>1200,\" max. 1 200mm\",\" \")))&IF(H28>0,IF(H22=0,\"● \"&ListAVS!$B$128,\" \"),\" \")","v":"  "},null,null,null,null,"F25",{"$f":"IF($H27<$AB$50,0,IF($H27<=$AC$50,1,0))","v":0},"F35",{"$f":"IF(AND($P$27>=$AB$55,$P$27<=$AC$55),SUM($O$22:$O$23),0)","v":0},null,null,"T558E",{"$f":"IF($N$48=1, IF(OR($H$21>=1200, $T$28>=12), 3, 2))+IF($N$48=1,IF(OR($H$21=1800, $T$28>=20), 1, 0))","v":2},"Z553E",{"$f":"IF($P$48=1, IF(OR($H$21>=1200, $T$28>=12), 3, 2))+IF($P$48=1,IF(OR($H$21=1800, $T$28>=20), 1, 0))","v":0},null,{"$f":"CenAVS!A18","v":"Závěs CLIP top 120° "},{"$f":"CenAVS!B18","v":"70T5550.TL"},{"$f":"CenAVS!C18","v":"NI"},0,{"$f":"CenAVS!F18","v":56.56},0,{"$f":"$U$12*$M$17","v":0},0,{"$f":"$U$23*$M$28","v":0},0]
[null,{"$f":"ListAVS!$B$77&\" [kg] ** \"","v":"Hmotnost čela včetně úchytky [kg] ** "},null,null,null,null,null,null,{"$f":"IF($H28=0,\" \",IF(SUM($H23,$H26)=0,$N$37,\" \"))&IF($H28>0,IF($H23>0,$N$41,\" \"),\" \")","v":"  "},null,null,null,null,"F28",{"$f":"IF($H27<$AB$51,0,IF($H27<=$AC$51,1,IF($H27>$AB$52,1.5,0)))","v":0},"F39",{"$f":"IF(AND($P$27>=$AB$56,$P$27<=$AC$56),SUM($O$22:$O$23),0)","v":0},null,null,"T5550",{"$f":"IF($N$48=2, IF(OR($H$21>=1200, $T$28>=12), 3, 2))+IF($N$48=2,IF(OR($H$21=1800, $T$28>=20), 1, 0))","v":0},"Z550AT",{"$f":"IF($P$48=2, IF(OR($H$21>=1200, $T$28>=12), 3, 2))+IF($P$48=2,IF(OR($H$21=1800, $T$28>=20), 1, 0))","v":2},null,{"$f":"CenAVS!A19","v":"Závěs CLIP top 120° EXPANDO"},{"$f":"CenAVS!B19","v":"70T558E"},{"$f":"CenAVS!C19","v":"NI"},0,{"$f":"CenAVS!F19","v":53.42},0,{"$f":"$U$11*$M$17","v":0},0,{"$f":"$U$22*$M$28","v":0},0]
[null,{"$f":"ListAVS!$B$292","v":"Výpočet hmotnosti"},null,{"$f":"ListAVS!$B$81&\" TS [mm] \"","v":"Síla horního čela TS [mm] "},null,null,null,null,{"$f":"IF(H28=0,\" \",IF(AND(H23=0, H24=0),\" ● \"&ListAVS!$B$128,\" \"))","v":" "},null,null,null,null,null,null,null,null,null,null,null,null,null,null,null,{"$f":"CenAVS!A20","v":"Středový závěs CLIP top "},{"$f":"CenAVS!B20","v":"78Z5500T"},{"$f":"CenAVS!C20","v":"NI"},0,{"$f":"CenAVS!F20","v":92.71},0,null,0,null,0]
[null,null,null,{"$f":"ListAVS!$B$83&\" [kg] \"","v":"Hmotnost úchytky [kg] "},null,null,null,null,{"$f":"IF(H28=0, \" \", IF(AND(H23=0, S20=1, H25=0), \" ● \"&ListAVS!$B$129,\" \"))","v":" "},null,null,null,null,null,null,null,null,null,"limit v/š",{"$f":"IF(AND(220<=H21, H21<=1800, 480<=P27, P27<=1200),\"ano\",\"ne\")","v":"ne"},null,null,null,null,{"$f":"CenAVS!A21","v":"Středový závěs CLIP top EXPANDO"},{"$f":"CenAVS!B21","v":"78Z553ET"},{"$f":"CenAVS!C21","v":"NI"},0,{"$f":"CenAVS!F21","v":95.69},0,null,0,null,0]
[null,null,null,{"$f":"ListAVS!$B$79&\" [kg] \"","v":"Vypočtená hmotnost čela [kg] "},null,null,null,{"$f":"$T$90","v":0},{"$f":"IF($H28>0,IF($H26>0,IF($H23=0,$N$41,\" \"),\" \"),\" \")&IF(AND(H28>0, H23=0, Z87=3, $J$4=0), $N$39, \" \")","v":"  "},null,null,null,null,null,null,null,null,null,"limit LF",{"$f":"IF(AND(H27>=$AB$50, H27<=$AC$51), \"ano\", \"ne\")","v":"ne"},null,null,null,null,{"$f":"CenAVS!A22","v":"Závěs CLIP top pro alurámečky"},{"$f":"CenAVS!B22","v":"72T550A.TL"},{"$f":"CenAVS!C22","v":"NI"},0,{"$f":"CenAVS!F22","v":77.180000000000007},0,null,0,null,0]
[null,{"$f":"ListAVS!$B$86&\" LF \"","v":"Ukazatel výkonnosti LF "},null,null,null,null,null,{"$f":"IF(H22<1041,IF(H22>479,IF(H23>0,H22*H23,H22*H26),0),0)","v":0},{"$f":"IF(AND(H27>0, H27<$AB$50), $T$44, IF($H27>$AC$51, $N$44, \"  \"))","v":"  "},null,null,null,null,null,"výška korpusu",{"$f":"IF(F22>0,IF(F22>=H22,F22,0),H22)","v":0},null,null,null,null,null,null,null,null,{"$f":"CenAVS!A23","v":"Střed. závěs CLIP top pro alurámečky"},{"$f":"CenAVS!B23","v":"78Z550AT"},{"$f":"CenAVS!C23","v":"NI"},0,{"$f":"CenAVS!F23","v":101.63},0,{"$f":"$W$12*$M$17","v":0},0,{"$f":"$W$23*$M$28","v":0},0]
[null,{"$f":"ListAVS!$B$71&\" \"","v":"Počet skříněk "},null,null,null,null,null,null,null,null,null,null,{"$f":"IF($H21*$P27=0,0,IF(SUM($H23,$H26)=0,0,IF($P27>$AC$57,0,IF(P27<$AB$54,0,IF(OR(T25=\"ne\", T26=\"ne\"),0,$H28)))))","v":0},"← Hlavní údaj",null,null,null,null,"hmot =",{"$f":"IF(H23>0,H23,H26)","v":0},{"$f":"IF(SUM(H23,H26)=0,0,IF(H23>0,1,2))","v":0},"zadaná / vypočtená",null,null,{"$f":"CenAVS!A24","v":"Adaptér CLIP k teleskopům P"},{"$f":"CenAVS!B24","v":"175H5B00   R"},{"$f":"CenAVS!C24","v":"NI"},0,{"$f":"CenAVS!F24","v":90.34},0,{"$f":"SUM($Q$10:$Q$12)*$M$17","v":0},0,{"$f":"SUM($Q$21:$Q$23)*$M$28","v":0},0]
[null,{"$f":"IF(H28>0,IF(U28=0,\" \",IF(U28=1,$N$53,$N$54)),\" \")&IF(H28>0,IF(U28=0,\" \",IF(U28=1,$N$55,$N$56)),\" \")","v":"  "},null,null,null,null,null,null,null,null,null,null,null,null,null,null,null,null,null,null,null,null,null,null,{"$f":"CenAVS!A25","v":"Adaptér CLIP k teleskopům L"},{"$f":"CenAVS!B25","v":"175H5B00   L"},{"$f":"CenAVS!C25","v":"NI"},0,{"$f":"CenAVS!F25","v":90.34},0,{"$f":"SUM($Q$10:$Q$12)*$M$17","v":0},0,{"$f":"SUM($Q$21:$Q$23)*$M$28","v":0},0]
[null,{"$f":"IF(F22=0,\" \",IF(F22>1200,\"TKH = max. 1200!\",IF(F22<480,\"TKH = min. 480!\",IF(F22<H22,$N$59,IF(H28>0,IF(F22=0,\" \",IF(AND(F22>0,M28=1), $N$58,\" \")),\" \")))))","v":" "},null,null,null,null,null,null,null,null,null,null,null,null,null,null,null,null,null,null,null,null,null,null,{"$f":"CenAVS!A26","v":"Adaptér CLIP ke středovým závěsům"},{"$f":"CenAVS!B26","v":"175H5A00"},{"$f":"CenAVS!C26","v":"NI"},0,{"$f":"CenAVS!F26","v":90.34},0,null,0,null,0]
[null,{"$f":"IF(OR(AND($S$9=2, $M$17>0), AND($S$20=2, $M$28>0)), ListAVS!$B$175, \" \")","v":" "},null,null,null,null,null,null,null,null,null,null,null,null,null,null,null,null,{"$f":"IF($T$31=FALSE,2,1)","v":1},true,null," - Zdroj"]
[]
[null,null,null,null,null,null,null,null,null,null,null,null,null,null,null,null,null,null,null,null,null,null,null,null,{"$f":"CenAVS!A27","v":0},{"$f":"CenAVS!B27","v":0},{"$f":"CenAVS!C27","v":0},null,{"$f":"CenAVS!F27","v":0},0,null,0,null,0]
[null,null,null,null,null,null,null,null,null,null,null,null,null,null,null,null,null,null,null,null,null,null,null,null,null,null,null,null,null,0,null,0,null,0]
[null,null,null,null,null,null,null,null,null,null,null,null,null,{"$f":"ListAVS!B176","v":"Cena bez napájecího zdroje!"},null,null,null,null,null,null,null,null,null,null,null,null,null,null,null,0,null,0,null,0]
[null,null,null,null,null,null,null,null,null,null,null,null,null,null,null,null,null,null,null,null,null,null,null,null,{"$f":"CenAVS!A162","v":"CLIP top montážní podložka, excentr, 0 mm"},{"$f":"CenAVS!B162","v":"173H7100 "},{"$f":"CenAVS!C162","v":"NI"},0,{"$f":"CenAVS!F162","v":17.84},0,null,0,null,0]
[null,null,{"$f":"\"*  \"&ListAVS!$B$183","v":"*  Pouze pro asymetrická čela: zadejte teoretickou výšku TKH."},null,null,null,null,null,null,null,null,null,null,{"$f":"\" \"&ListAVS!$B$115","v":" Zadejte hmotnost nebo vyplňte všechny buňky"},null,null,null,null,null,null,null,null,null,null,{"$f":"CenAVS!A163","v":"CLIP top mont. podložka, excentr, EXPANDO, 0 mm"},{"$f":"CenAVS!B163","v":"174H7100E "},{"$f":"CenAVS!C163","v":"NI"},0,{"$f":"CenAVS!F163","v":19.39},0,null,0,null,0]
[null,null,{"$f":"\" ( \"&ListAVS!$B$184&\")\"","v":" ( TKH = dvojnásobná výška horního čela včetně mezer)"},null,null,null,null,null,null,null,null,null,null,null,null,null,null,null,null,null,null,null,null,null,null,null,null,null,null,null,null,0,null,0]
[null,null,{"$f":"\" \"&ListAVS!$B$327&\" '\"&ListAVS!$B$194&\"' \"","v":" Pro výpočet TKH použijte 'Výpočet asymetrických čel' "},null,null,null,null,null,null,null,null,null,null,{"$f":"\" \"&ListAVS!$B$117","v":" Vyplňte nahoře objemovou hmotnost "}]
[]
[null,null,{"$f":"\"** \"&ListAVS!$B$186","v":"** Pokud znáte hmotnost a nechcete využít výpočtu hmotnosti"},null,null,null,null,null,null,null,null,null,null,{"$f":"\"◄ \"&ListAVS!$B$111","v":"◄ hodnota bude použita pro výpočet LF"}]
[null,null,{"$f":"\"*** \"&ListAVS!$B$403","v":"*** Vyberte typ alurámečku!"},null,null,null,null,null,null,null,null,null,null,{"$f":"\" * \"&ListAVS!$B$127","v":" * Doplňte hodnoty"},null,null,null,null,null,null,null,null,null,null,{"$f":"CenAVS!A166","v":"CLIP top přímá mont. podložka, ocel, 0 mm"},{"$f":"CenAVS!B166","v":"175H3100"},{"$f":"CenAVS!C166","v":"NI"},{"$f":"SUM(AE42,AG42)","v":0},{"$f":"CenAVS!F166","v":16.98},0,{"$f":"IF($R$48=2, SUM($U$11:$U$12, $W$12)*$M$17, 0)","v":0},{"$f":"$AC42*AE42","v":0},{"$f":"IF($R$48=2, SUM($U$22:$U$23, $W$23)*$M$17, 0)","v":0},{"$f":"$AC42*AG42","v":0}]
[null,null,{"$f":"\"      \"&ListAVS!$B$404","v":"      Více informací k výběru alurámečků v Nápovědě"},null,null,null,null,null,null,null,null,null,null,null,null,null,null,null,null,null,null,null,null,null,{"$f":"CenAVS!A167","v":"CLIP top přímá mont. podložka, ocel, EXP, 0 mm"},{"$f":"CenAVS!B167","v":"177H3100E "},{"$f":"CenAVS!C167","v":"NI"},{"$f":"SUM(AE43,AG43)","v":0},{"$f":"CenAVS!F167","v":17.07},0,{"$f":"IF($R$48=1, SUM($U$11:$U$12, $W$12)*$M$17, 0)","v":0},{"$f":"$AC43*AE45","v":0},{"$f":"IF($R$48=1, SUM($U$22:$U$23, $W$23)*$M$17, 0)","v":0},{"$f":"$AC43*AG43","v":0}]
[null,null,null,null,null,null,null,null,null,null,null,null,null,{"$f":"\" max. 19.300! \"&ListAVS!$B$121","v":" max. 19.300! Upravte hmotnost nebo výšku"},null,null,null,null,null,{"$f":"\" min. \"&$AB$50&\"! \"&ListAVS!$B$121","v":" min. 2700! Upravte hmotnost nebo výšku"},null,null,null,null,{"$f":"CenAVS!A169","v":0},{"$f":"CenAVS!B169","v":0},{"$f":"CenAVS!C169","v":0},null,{"$f":"CenAVS!F169","v":0},0,null,{"$f":"$AC44*AE44","v":0},null,{"$f":"$AC44*AG44","v":0}]
[null,null,null,null,null,null,null,null,null,null,null,null,null,{"$f":"\" \"&ListAVS!$B$119","v":" Přídavný třetí zdvihač"},null,null,null,null,null,null,{"$f":"\" \"&ListAVS!B126","v":" Použijte pouze jeden zdvihač"},null,null,null,{"$f":"CenAVS!A171","v":"SERVO-DRIVE jednotka (sada)"},{"$f":"CenAVS!B171","v":"23.A000"},{"$f":"CenAVS!C171","v":"R7037"},{"$f":"SUM(AE45,AG45)","v":0},{"$f":"CenAVS!F171","v":8297.32},0,{"$f":"IF($S$9=1, 0, $M$17)+IF(AND($S$9=2, $H$16>$AB$52), $M$17, 0)","v":0},{"$f":"$AC45*AE45","v":0},{"$f":"IF($S$20=1, 0, $M$28)+IF(AND($S$20=2, $H$27>$AB$52), $M$28, 0)","v":0},{"$f":"$AC45*AG45","v":0}]
[null,null,null,null,null,null,null,null,null,null,null,null,null,{"$f":"ListAVS!$B$181","v":"Přídavný třetí zdvihač může být použit pouze s plným spodním čelem!"}]
[null,null,null,null,null,null,null,null,null,null,null,null,null,null,null,null,null,null,null,null,null,null,null,null,null,null,null,null,{"$f":"ListAVS!$B$61&\" \"","v":"Cena celkem bez DPH "},{"$f":"SUM(AD9:AD45)","v":0},null,{"$f":"SUM(AF9:AF46)","v":0},null,{"$f":"SUM(AH9:AH46)","v":0}]
[null,null,null,null,null,null,null,null,null,null,null,null,null,{"$f":"HF!$L$33","v":1},2,2,2,{"$f":"HF!$P$33","v":1},null,{"$f":"MenuAVS!$P$28","v":1},null,null,null,null,{"$f":"HF!$R$33","v":1},{"$f":"Param!M10","v":"Parametry HF"}]
[null,null,null,null,null,null,null,null,null,null,null,null,null,"záv.","alu","střed.","alu","podl.",null,"kryt.",null,null,"Provedení:",null,"montáž:",{"$f":"Param!M11","v":"Zdvihač"},{"$f":"Param!N11","v":"ks"},{"$f":"Param!O11","v":"min"},{"$f":"Param!P11","v":"max"},{"$f":"Param!Q11","v":"alu max."}]
[null,null,null,null,null,null,null,null,null,null,null,null,null,{"$f":"ListAVS!$B$133","v":"Expando"},null,{"$f":"ListAVS!$B$133","v":"Expando"},null,{"$f":"ListAVS!$B$133","v":"Expando"},null,{"$f":"ListAVS!$B$145","v":"Světle šedá (HGR)"},null,null,"Standard",null,"vruty",{"$f":"Param!M12","v":"22F2500"},{"$f":"Param!N12","v":1},{"$f":"Param!O12","v":2700},{"$f":"Param!P12","v":11500}]
[null,null,null,null,null,null,null,null,null,null,null,null,null,{"$f":"ListAVS!$B$134","v":"na vruty"},null,{"$f":"ListAVS!$B$134","v":"na vruty"},null,{"$f":"ListAVS!$B$134","v":"na vruty"},null,{"$f":"ListAVS!$B$146","v":"Tmavě šedá (TGR)"},null,null,"SERVO-DRIVE",null,"eurošrouby",{"$f":"Param!M13","v":"22F2800"},{"$f":"Param!N13","v":1},{"$f":"Param!O13","v":11500},{"$f":"Param!P13","v":19300},{"$f":"Param!Q13","v":19300}]
[null,null,null,null,null,null,null,null,null,null,null,null,null,null,null,null,null,null,null,{"$f":"ListAVS!$B$147","v":"Hedvábně bílá (SW)"},null,null,null,null,null,{"$f":"Param!M14","v":"22F2800"},{"$f":"Param!N14","v":1.5},{"$f":"Param!O14","v":19300},{"$f":"Param!P14","v":28950},{"$f":"Param!Q14","v":0}]
[null,null,null,null,null,null,null,null,null,null,null,null,null,{"$f":"ListAVS!B187","v":"Pro určení typu zdvihače bude použita zadaná hmotnost"},null,null,null,null,null,null,null,null,null,null,null,{"$f":"Param!M17","v":"Teleskop"},null,{"$f":"Param!O17","v":"min"},{"$f":"Param!P17","v":"max"},{"$f":"Param!Q17","v":0}]
[null,null,null,null,null,null,null,null,null,null,null,null,null,{"$f":"ListAVS!B188","v":"Pro určení typu zdvihače bude použita vypočtená hmotnost"},null,null,null,null,null,null,null,null,null,null,null,{"$f":"Param!M18","v":"20F3200"},{"$f":"Param!N18","v":0},{"$f":"Param!O18","v":480},{"$f":"Param!P18","v":605},{"$f":"Param!Q18","v":0}]
[null,null,null,null,null,null,null,null,null,null,null,null,null,{"$f":"\". \"&ListAVS!$B$189","v":". Chcete-li použít vypočtenou hmotnost, smažte zadanou hodnotu"},null,null,null,null,null,null,null,null,null,null,null,{"$f":"Param!M19","v":"20F3500"},{"$f":"Param!N19","v":0},{"$f":"Param!O19","v":605},{"$f":"Param!P19","v":890},{"$f":"Param!Q19","v":0}]
[null,null,null,null,null,null,null,null,null,null,null,null,null,{"$f":"\". \"&ListAVS!$B$190","v":". Chcete-li použít zadanou hmotnost, zadejte ji do políčka"},null,null,null,null,null,null,null,null,null,null,null,{"$f":"Param!M20","v":"20F3900"},{"$f":"Param!N20","v":0},{"$f":"Param!O20","v":890},{"$f":"Param!P20","v":1200},{"$f":"Param!Q20","v":0}]
[null,null,null,null,null,null,null,null,null,null,null,null,null,{"$f":"ListAVS!B191","v":0},null,null,null,null,null,null,null,null,null,null,null,null,null,{"$f":"Param!O21","v":"max."},{"$f":"Param!P21","v":1200},{"$f":"Param!Q21","v":0}]
[null,null,null,null,null,null,null,null,null,null,null,null,null,{"$f":"ListAVS!B192","v":"Pro výběr teleskopů bude použita teoretická výška TKH"}]
[null,null,null,null,null,null,null,null,null,null,null,null,null,{"$f":"ListAVS!B193","v":"Teoretická výška TKH nesmí být menší než KH"}]
[]
[]
[]
[]
[]
[]
[]
[]
[]
[]
[null,null,null,null,null,null,null,null,null,null,null,null,null,{"$f":"ListAVS!$B$73","v":"Výpočet hmotnosti čel"}]
[null,null,null,null,null,null,null,null,null,null,null,null,null,null,{"$f":"ListAVS!$B$35&\"  \"","v":"horní čelo  "},null,null,null,null,{"$f":"J4","v":0},{"$f":"IF(Z78=3,IF(T71=0,Y74,\" \"),IF(T71>0,Y75,\" \"))","v":" "},null,null,null,{"$f":"IF($Z$78=1,$Z$79,IF($Z$78=2,$Z$80,$Z$81&\" \"&$Y$81&\"kg/m3\"))&\" A~\"&$T$79&\"/ B~\"&$T$88&\"mm\"","v":"MDF (760 kg/m3) A~0/ B~0mm"},null,null,null,null,{"$f":"MenuAVS!$Q$81","v":2500}]
[null,null,null,null,null,null,null,null,null,null,null,null,null,null,null,{"$f":"IF($Z$78<>3,$Y$73,\" \")&\"      \"","v":" Změnit hodnoty můžete v Úvodu plánování      "},null,null,null,null,null,null,null,null,{"$f":"IF($AF$77=1,$AF$94,IF($AF$77=2,$AF$95,$AF$96&\" -  \"&$T$73&\"mm\"))","v":"Alurámečky s 4mm sklem"}]
[null,null,null,null,null,null,null,null,null,null,null,null,null,null,{"$f":"ListAVS!$B$36&\"  \"","v":"dolní čelo  "},null,null,null,null,{"$f":"J5","v":0},{"$f":"IF(AF77=3,IF(T73=0,AE74,\" \"),IF(T73>0,AE75,\" \"))","v":" "},null,null,null,{"$f":"\" \"&ListAVS!$B$410","v":" Změnit hodnoty můžete v Úvodu plánování"}]
[null,null,null,null,null,null,null,null,null,null,null,null,null,null,null,null,null,null,null,null,null,null,null,null,{"$f":"\" \"&ListAVS!$B$244&\" [kg/m3]\"","v":" Zadejte objemovou hmotnost  [kg/m3]"},null,null,null,null,null,{"$f":"\" \"&ListAVS!$B$245&\" [mm]\"","v":" Zadejte sílu skla [mm]"}]
[null,null,null,null,null,null,null,null,null,null,null,null,null,null,null,null,null,null,null,null,null,null,null,null,{"$f":"\" \"&ListAVS!$B$240&\" '\"&ListAVS!$B$92&\"'\"","v":" Hodnota platí jen pro volbu 'Jiné - volitelná hustota'"},null,null,null,null,null,{"$f":"\" \"&ListAVS!$B$240&\" '\"&ListAVS!$B$95&\"'\"","v":" Hodnota platí jen pro volbu 'Alurámečky s jiným sklem'"}]
[null,null,null,null,null,null,null,null,null,null,null,null,null,null,null,null,null,{"$f":"D9","v":" "},null,null,null,null,null,null,null,null,null,null,null,null,"váha spoj.","tl. skla","typ alu"]
[null,null,null,null,null,null,null,null,null,null,null,null,null,{"$f":"ListAVS!$B$74&\" KB [mm]       \"","v":"Šířka korpusu KB [mm]       "},null,null,null,null,null,{"$f":"H10","v":0},null,null,null,null,{"$f":"T77*T78*T79/2","v":0},null,null,null,null,{"$f":"IF($AG$77=1,$X$94,$X$95)","v":0.31},{"$f":"$X$96","v":0.46},1,{"$f":"$O$4","v":1}]
[null,null,null,null,null,null,null,null,null,null,null,null,null,{"$f":"ListAVS!$B$75&\" KH [mm]       \"","v":"Výška korpusu KH [mm]       "},null,null,null,null,null,{"$f":"H11","v":0},null,null,null,null,{"$f":"Y77/1000000000","v":0},{"$f":"AF77","v":1},null,null,null,"váha alu",{"$f":"SUM(T77*2,(T78/2-40)*2)*AD77/1000","v":-2.4799999999999999E-2},"A plocha B"]
[null,null,null,null,null,null,null,null,null,null,null,null,null,{"$f":"ListAVS!$B$80&\" TS [mm] \"","v":"Síla čela TS [mm] "},null,null,null,null,null,{"$f":"H13","v":0},{"$f":"IF(SUM(T77,T78)=0,\" \",IF(T79=0,\" ● \"&ListAVS!$B$128,\" \"))","v":" "},null,null,null,{"$f":"MenuAVS!$C$31","v":760},{"$f":"ListAVS!$B$90&\" (\"&Y79&\" kg/m3)\"","v":"MDF (760 kg/m3)"},null,null,null,{"$f":"$AD$71*4/1000","v":10},{"$f":"IF($AG$77=1,AF79*AD79,AG79*AD79)","v":8.9999999999999993E-3},{"$f":"SUM(($T$77-30)*($T$78/2-30)/1000000)","v":8.9999999999999998E-4},{"$f":"SUM(($T$77-6)*($T$78/2-6)/1000000)","v":3.6000000000000001E-5},"4mm"]
[null,null,null,null,null,null,null,null,null,null,null,null,null,{"$f":"ListAVS!$B$83&\" [kg] \"","v":"Hmotnost úchytky [kg] "},null,null,null,null,null,{"$f":"H14","v":0},{"$f":"IF(SUM(T77,T78)=0,\" \",IF(T80=0,\" ● \"&ListAVS!$B$129,\" \"))","v":" "},null,null,null,{"$f":"MenuAVS!$C$32","v":680},{"$f":"ListAVS!$B$91&\" (\"&Y80&\" kg/m3)\"","v":"Dřevotříska (680 kg/m3)"},null,null,null,{"$f":"$AD$71*5/1000","v":12.5},{"$f":"IF($AG$77=1,AF80*AD80,AG80*AD80)","v":1.125E-2},{"$f":"SUM(($T$77-30)*($T$78/2-30)/1000000)","v":8.9999999999999998E-4},{"$f":"SUM(($T$77-6)*($T$78/2-6)/1000000)","v":3.6000000000000001E-5},"5mm"]
[null,null,null,null,null,null,null,null,null,null,null,null,null,{"$f":"ListAVS!$B$79&\" [kg] \"","v":"Vypočtená hmotnost čela [kg] "},null,null,null,null,null,{"$f":"IF(X81*AD82<>0,SUM(X81,AD82,T80),0)","v":0},null,null,null,{"$f":"IF(T77*T78*T79=0,0,IF(Z78=1,Y78*Y79,IF(Z78=2,Y78*Y80,Y78*Y81)))","v":0},{"$f":"$T$71","v":0},{"$f":"ListAVS!$B$92","v":"Jiné - volitelná hustota"},null,null,null,{"$f":"$AD$71*$T$73/1000","v":0},{"$f":"IF($AG$77=1,AF81*AD81,AG81*AD81)","v":0},{"$f":"SUM(($T$77-30)*($T$78/2-30)/1000000)","v":8.9999999999999998E-4},{"$f":"SUM(($T$77-6)*($T$78/2-6)/1000000)","v":3.6000000000000001E-5},"jiné"]
[null,null,null,null,null,null,null,null,null,null,null,null,null,null,{"$f":"IF(T81>0,IF(T80=0,$Z$94,\" \"),\" \")","v":" "},null,null,null,null,null,null,null,null,null,null,null,null,null,null,{"$f":"IF(OR(AND(AF77=3, $T$73=0), T77*T78=0), 0, SUM(IF(AF77=1,AE79,IF(AF77=2,AE80,AE81)),AE78,AE77))","v":0}]
[]
[]
[null,null,null,null,null,null,null,null,null,null,null,null,null,null,null,null,null,{"$f":"D20","v":" "},null,null,null,null,null,null,null,null,null,null,null,null,"váha spoj.","tl. skla","typ alu"]
[null,null,null,null,null,null,null,null,null,null,null,null,null,{"$f":"ListAVS!$B$74&\" KB [mm]       \"","v":"Šířka korpusu KB [mm]       "},null,null,null,null,null,{"$f":"H21","v":0},null,null,null,null,{"$f":"T86*T87*T88","v":0},null,null,null,null,{"$f":"IF($AG$77=1,$X$94,$X$95)","v":0.31},{"$f":"$X$96","v":0.46},{"$f":"$AF$77","v":1},{"$f":"$AG$77","v":1}]
[null,null,null,null,null,null,null,null,null,null,null,null,null,{"$f":"ListAVS!$B$75&\" KH [mm]       \"","v":"Výška korpusu KH [mm]       "},null,null,null,null,null,{"$f":"H22","v":0},null,null,null,null,{"$f":"Y86/1000000000/2","v":0},{"$f":"Z78","v":1},null,null,null,"váha alu",{"$f":"SUM(T86*2,(T87/2-40)*2)*AD86/1000","v":-2.4799999999999999E-2},"A plocha B"]
[null,null,null,null,null,null,null,null,null,null,null,null,null,{"$f":"ListAVS!$B$80&\" TS [mm] \"","v":"Síla čela TS [mm] "},null,null,null,null,null,{"$f":"H24","v":0},{"$f":"IF(SUM(T86,T87)=0,\" \",IF(T88=0,\" ● \"&ListAVS!$B$128,\" \"))","v":" "},null,null,null,{"$f":"$Y$79","v":760},{"$f":"$Z$79","v":"MDF (760 kg/m3)"},null,null,null,{"$f":"AD79","v":10},{"$f":"IF($AG$77=1,AF88*AD88,AG88*AD88)","v":8.9999999999999993E-3},{"$f":"SUM(($T$86-30)*($T$87/2-30)/1000000)","v":8.9999999999999998E-4},{"$f":"SUM(($T$86-6)*($T$87/2-6)/1000000)","v":3.6000000000000001E-5},"4mm"]
[null,null,null,null,null,null,null,null,null,null,null,null,null,{"$f":"ListAVS!$B$83&\" [kg] \"","v":"Hmotnost úchytky [kg] "},null,null,null,null,null,{"$f":"H25","v":0},{"$f":"IF(SUM(T86,T87)=0,\" \",IF(T89=0,\" ● \"&ListAVS!$B$129,\" \"))","v":" "},null,null,null,{"$f":"$Y$80","v":680},{"$f":"$Z$80","v":"Dřevotříska (680 kg/m3)"},null,null,null,{"$f":"AD80","v":12.5},{"$f":"IF($AG$77=1,AF89*AD89,AG89*AD89)","v":1.125E-2},{"$f":"SUM(($T$86-30)*($T$87/2-30)/1000000)","v":8.9999999999999998E-4},{"$f":"SUM(($T$86-6)*($T$87/2-6)/1000000)","v":3.6000000000000001E-5},"5mm"]
[null,null,null,null,null,null,null,null,null,null,null,null,null,{"$f":"ListAVS!$B$79&\" [kg] \"","v":"Vypočtená hmotnost čela [kg] "},null,null,null,null,null,{"$f":"IF(X90*AD91<>0,SUM(X90,AD91,T89),0)","v":0},null,null,null,{"$f":"IF(T86*T87*T88=0,0,IF(Z87=1,Y87*Y88,IF(Z87=2,Y87*Y89,Y87*Y90)))","v":0},{"$f":"$Y$81","v":0},{"$f":"$Z$81","v":"Jiné - volitelná hustota"},null,null,null,{"$f":"AD81","v":0},{"$f":"IF($AG$77=1,AF90*AD90,AG90*AD90)","v":0},{"$f":"SUM(($T$86-30)*($T$87/2-30)/1000000)","v":8.9999999999999998E-4},{"$f":"SUM(($T$86-6)*($T$87/2-6)/1000000)","v":3.6000000000000001E-5},"jiné"]
[null,null,null,null,null,null,null,null,null,null,null,null,null,null,{"$f":"IF(T90>0,IF(T89=0,$Z$94,\" \"),\" \")","v":" "},null,null,null,null,null,null,null,null,null,null,null,null,null,null,{"$f":"IF(T86*T87=0,0,SUM(IF(AF86=1,AE88,IF(AF86=2,AE89,AE90)),AE87,AE86))","v":0}]
[]
[]
[null,null,null,null,null,null,null,null,null,null,null,null,null,null,null,null,null,null,null,null,null,null,{"$f":"ListAVS!$B$424&\"  \"","v":"s vloženým sklem  "},{"$f":"MenuAVS!$I$91","v":0.31},null,{"$f":"ListAVS!$B$102&\"!\"","v":"Není započtena hmotnost úchytky!"},null,null,null,null,null,{"$f":"ListAVS!$B$93","v":"Alurámečky s 4mm sklem"}]
[null,null,null,null,null,null,null,null,null,null,null,null,null,null,null,null,null,null,null,null,null,null,{"$f":"ListAVS!$B$425&\"  \"","v":"s naloženým nebo nalepeným sklem  "},{"$f":"MenuAVS!$I$92","v":0.32},null,null,null,null,null,null,null,{"$f":"ListAVS!$B$94","v":"Alurámečky s 5mm sklem"}]
[null,null,null,null,null,null,null,null,null,null,null,null,null,null,null,null,null,null,null,null,null,null,{"$f":"ListAVS!$B$405&\" [kg/set] *  \"","v":"Hmotnost spojovacího materiálu [kg/set] *  "},{"$f":"MenuAVS!$I$93","v":0.46},null,null,null,null,null,null,null,{"$f":"ListAVS!$B$95","v":"Alurámečky s jiným sklem"}]
[]
[]
[]
[null,{"$f":"ListAVS!$B$194","v":"Výpočet asymetrických čel"}]
[]
[null,{"$f":"\"   \"&ListAVS!$B$197","v":"   Parametry korpusu"}]
[null,{"$f":"ListAVS!$B$75&\" KH [mm] \"","v":"Výška korpusu KH [mm] "},null,null,null,null,null,null,null,null,{"$f":"IF(I103<480, \" min. 480\", IF(I103>1200, \" max. 1200\", \" \"))","v":" min. 480"},null,null," <=519"," >=520"]
[null,{"$f":"ListAVS!$B$200&\" F1 [mm] \"","v":"Mezera nahoře F1 [mm] "}]
[null,{"$f":"ListAVS!$B$201&\" F2 [mm] \"","v":"Mezera mezi čely F2 [mm] "},null,null,null,null,null,null,null,null,{"$f":"IF($I$103=0,\" \",IF($I$105<1.5,\" min. 1,5 mm!\",\" \"))","v":" "}]
[null,{"$f":"ListAVS!$B$202&\" F3 [mm] \"","v":"Mezera dole F3 [mm] "},null,null,null,null,null,null,null,null,null,null,"Z",170,189]
[null,{"$f":"ListAVS!$B$203&\" [mm] \"","v":"Síla dna korpusu [mm] "},null,null,null,null,null,null,null,null,null,null,"H",93,116]
[]
[null,{"$f":"\"   \"&ListAVS!$B$205","v":"   Výsledky plánování"},null,null,null,null,null,null,null,null,null,null,null,"FHo","FHo"]
[null,null,null,null,null,null,{"$f":"ListAVS!$B$206&\" [mm] \"","v":"Možné výšky čel [mm] "},null,null,null,null,null,null,"min ↓↓","min ↓↓"]
[null,{"$f":"ListAVS!$B$207","v":"Čelo nahoře (FHo) v rozmezí"},null,null,null,null,"min.",{"$f":"IF(AND($I$103>=480, $I$103<=519), $N$111, IF(AND($I$103>=520, $I$103<=1200), $O$111, $S$115))","v":"nelze"},"max.",{"$f":"IF(AND($I$103>=480, $I$103<=519), $N$115, IF(AND($I$103>=520, $I$103<=1200), $O$115, $S$115))","v":"nelze"},null,null,null,{"$f":"SUM(I103, -I104, -I105, -I106, -N120)","v":0},{"$f":"SUM(I103, -I104, -I105, -I106, -O120)","v":0}]
[null,{"$f":"ListAVS!$B$208","v":"Čelo dole (FHu) v rozmezí"},null,null,null,null,"min.",{"$f":"IF(AND($I$103>=480, $I$103<=519), $N$118, IF(AND($I$103>=520, $I$103<=1200), $O$118, $S$115))","v":"nelze"},"max.",{"$f":"IF(AND($I$103>=480, $I$103<=519), $N$120, IF(AND($I$103>=520, $I$103<=1200), $O$120, $S$115))","v":"nelze"},null,null,null,"max ↓↓","max ↓↓"]
[null,null,null,null,null,null,null,null,null,null,null,null,null,{"$f":"ROUNDUP(SUM(519, -$I$104, -$I$105, -$I$106)/2, 0)","v":260},{"$f":"ROUNDUP(SUM(1200, -$I$104, -$I$105, -$I$106)/2, 0)","v":600},"absolutně"]
[null,{"$f":"ListAVS!$B$214&\" FHo [mm] \"","v":"Výška čela nahoře FHo [mm] "},null,null,null,null,null,null,null,null,{"$f":"IF($I$103=0,\" \",IF($I$114>$J$111,V114,IF($I$114<$H$111,$S$114,\" \")))","v":" "},null,null,{"$f":"SUM(I103, -I104, -I105, -I106, -N118)","v":-219},{"$f":"SUM(I103, -I104, -I105, -I106, -O118)","v":-238},"vypočtená",null,null,{"$f":"\" min. \"&TEXT($H$111,\"#\")&\" mm!\"","v":" min. nelze mm!"},null,null,{"$f":"\" max. \"&TEXT($J$111,\"#\")&\" mm!\"","v":" max. nelze mm!"}]
[null,{"$f":"ListAVS!$B$215&\" FHu [mm] \"","v":"Výška čela dole FHu [mm] "},null,null,null,null,null,null,{"$f":"IF($I$114<$H$111,$S$115,IF($I$114>$J$111,$S$115,+$I$103-$I$104-$I$105-$I$106-$I$114))","v":"nelze"},null,null,null,null,{"$f":"IF($N$114>$N$113, $N$113, $N$114)","v":-219},{"$f":"IF($O$114>$O$113, $O$113, $O$114)","v":-238},"výsledná",null,null,{"$f":"ListAVS!B211","v":"nelze"}]
[null,{"$f":"ListAVS!$B$216&\" H [mm] \"","v":"Pozice zdvihače H [mm] "},null,null,null,null,null,null,{"$f":"IF(AND($I$103>=480, $I$103<520), $N$107, IF(AND($I$103>=520, $I$103<=1200), $O$107, $S$115))","v":"nelze"},null,null,null,null,"FHu","FHu"]
[null,{"$f":"ListAVS!$B$217&\" Z [mm] \"","v":"Pozice mont. podložky pro teleskopy Z [mm] "},null,null,null,null,null,null,{"$f":"IF(AND($I$103>=480, $I$103<520), $N$106, IF(AND($I$103>=520, $I$103<=1200), $O$106, $S$115))","v":"nelze"},null,null,null,null,"min ↓↓","min ↓↓"]
[null,{"$f":"ListAVS!$B$218&\" TKH [mm] * \"","v":"Teoretická výška korpusu TKH [mm] * "},null,null,null,null,null,null,{"$f":"IF($I$115=$S$115, $S$115, IF($Q$118>=480, IF($Q$118<=1202, $Q$118, $S$115),\" \"))","v":"nelze"},null,null,null,null,{"$f":"SUM(N106, 32, 17, $I$107, -$I$106)","v":219},{"$f":"SUM(O106, 32, 17, $I$107, -$I$106)","v":238},"TKH",{"$f":"ROUND(SUM($I$114*2+$I$104+$I$105+$I$106), -1)","v":0}]
[null,null,null,null,null,null,null,null,null,null,null,null,null,"max ↓↓","max ↓↓"]
[null," *",{"$f":"ListAVS!$B$220","v":"Tuto výšku zadejte do tabulky pro plánování výklopů"},null,null,null,null,null,null,null,null,null,null,{"$f":"ROUNDDOWN(SUM(I103, -I104, -I105, -I106)/2, 0)","v":0},{"$f":"ROUNDDOWN(SUM(I103, -I104, -I105, -I106)/2, 0)","v":0}]
[]
[]
[]
[]
[null,null,null,null,null,null,null,null,{"$f":"ListAVS!$B$167","v":"Zpět"}]
[]
[]
[]
[]
[]
[]
[]
[]
[]
[]
[]
[]
[]
[null,"      AVENTOS HF"]
[]
[null,{"$f":"ListAVS!$B$302","v":"Potřebný zdvihač se určí pomocí ukazatele výkonnosti."}]
[null,{"$f":"ListAVS!$B$303","v":"Ukazatel výkonnosti závisí na hmotnosti dolního i horního čílka, a rovněž na výšce korpusu."}]
[]
[]
[null,null,null,{"$f":"ListAVS!$B$86&\" = \"","v":"Ukazatel výkonnosti = "},{"$f":"ListAVS!$B$319&\" [kg]\"","v":"výška korpusu KH [mm] x hmotnost obou čel včetně úchytky [kg]"}]
[]
[]
[]
[]
[]
[null,{"$f":"ListAVS!$B$311","v":"Pokud znáte hmotnost čela, můžete ji zadat, jinak použijte \"Výpočet hmotnosti\"."}]
[null,{"$f":"ListAVS!$B$312","v":"V tabulce má přednost zadaná hodnota. Chcete-li použít vypočtenou hmotnost, smažte zadanou hodnotu."}]
[]
[null,{"$f":"ListAVS!$B$322&\". \"&ListAVS!$B$323&\".\"","v":"Délka teleskopů závisí na výšce korpusu KH. U asymetrických čel se použije teoretická výška TKH."}]
[]
[null,{"$f":"\" \"&ListAVS!$B$162&\":\"","v":" Asymetrická čela:"}]
[null,{"$f":"\" \"&ListAVS!$B$320","v":" Teoretická výška korpusu (TKH) = výška horního čela (FHo) x 2 (včetně mezer)"}]
[]
[null,{"$f":"ListAVS!$B$315","v":"U asymetrických čel musí být větší čelo nahoře!"}]
[]
[null,{"$f":"ListAVS!$B$325","v":"Pokud zadáte hodnotu TKH, použije se pro určení délky teleskopů"}]
[null,{"$f":"ListAVS!$B$326","v":"Nemáte-li asymetrická čela, nechte políčko prázdné."}]
[null,{"$f":"ListAVS!$B$327&\" ' \"&ListAVS!$B$194&\"' \"","v":"Pro výpočet TKH použijte ' Výpočet asymetrických čel' "}]
[]
[]
[null,{"$f":"ListAVS!$B$305","v":"Chcete-li změnit barvu krytek, přejděte na \"Úvod plánování\""}]
[]
[null,{"$f":"ListAVS!$B$411","v":"Věnujte pozornost výběru alurámečků."}]
[null,{"$f":"ListAVS!$B$412","v":"Vyberte, který typ lépe odpovídá tvaru použitého alurámečku."}]
[null,{"$f":"ListAVS!$B$413","v":"Způsob osazení skla do rámečku výrazně ovlivňuje plochu skla a tím i hmotnost!"}]
[]
[null,null,{"$f":"\"  \"&ListAVS!$B$424&\"  \"","v":"  s vloženým sklem  "}]
[]
[null,null,{"$f":"\"  \"&ListAVS!$B$425&\"  \"","v":"  s naloženým nebo nalepeným sklem  "}]
[]
[null,null,null,null,null,null,null,null,null,null,null,{"$f":"ListAVS!$B$167","v":"Zpět"}]

{"sheet":"HFna_w","index":15,"n_rows":176,"n_cols":43,"rows_kept":176,"cut":false,"hidden":false,"merged":[[0,55,0,63],[1,1,1,2],[6,1,6,2],[6,6,6,7],[8,19,8,20],[8,1,8,2],[8,5,8,7],[7,39,7,40],[8,39,8,40],[10,1,10,3],[11,1,11,6],[12,1,14,2],[12,3,12,6],[13,3,13,6],[14,3,14,6],[9,39,9,40],[30,19,30,20],[15,1,15,6],[16,1,16,6],[19,19,19,20],[20,1,20,6],[21,1,21,3],[19,1,19,2],[19,5,19,7],[22,1,22,6],[26,1,26,6],[27,1,27,6],[30,1,32,9],[23,1,25,2],[23,3,23,6],[9,1,9,6],[111,1,111,5],[113,8,113,9],[109,1,109,5],[75,13,75,16],[75,17,75,19],[102,13,104,13],[102,14,104,14],[11,39,12,42],[13,39,14,42],[87,13,87,18],[88,13,88,18],[89,13,89,18],[78,13,78,18],[79,13,79,18],[80,13,80,18],[84,17,84,19],[86,13,86,18],[85,13,85,18],[124,8,124,9],[138,0,178,0],[144,4,144,11],[115,1,115,7],[115,8,115,9],[116,1,116,7],[116,8,116,9],[117,1,117,7],[117,8,117,9],[98,0,137,0],[101,1,101,9],[102,1,102,7],[102,8,102,9],[104,8,104,9],[105,1,105,7],[105,8,105,9],[114,1,114,7],[113,1,113,7],[24,3,24,6],[25,3,25,6],[72,15,72,19],[103,8,103,9],[76,13,76,18],[77,13,77,18],[103,1,103,7],[114,8,114,9],[109,6,109,9],[110,1,110,5],[104,1,104,7],[108,1,108,9],[106,1,106,7],[106,8,106,9]]}
[]
[null," AVENTOS HF top",null,null,null,null,null,null,null,null,null,null,null,null,"rámeček",null,null,null,3,null,null,null,null,null,null,null,null,null,null,null,null,null,null,null,null,null,null,{"$f":"ListAVS!$B$152","v":"Jdi na"}]
[]
[null,{"$f":"ListAVS!$B$21&\" ***\"","v":"Úzké alurámečky ***"},null,null,null,{"$f":"ListAVS!$B$35&\"  \"","v":"horní čelo  "},null,null,null,null,{"$f":"U71","v":" "},null,null,null,1,null,null,null,{"$f":"\" \"&ListAVS!$B$41&\" A \"","v":" Cena za korpus A "},null,null,null,null,"výpočet",null,null,null,null,null,null,null,null,null,null,null,null,null,{"$f":"\" \"&ListAVS!$B$153","v":" Úvod plánování"}]
[null,{"$f":"ListAVS!$B$17","v":"Dřevěné čelo"},null,null,null,{"$f":"ListAVS!$B$36&\"  \"","v":"dolní čelo  "},null,null,null,null,{"$f":"U72","v":" "},null,null,null,"A = 1",null,null,null,{"$f":"\" \"&ListAVS!$B$41&\" B \"","v":" Cena za korpus B "},null,null,null,null,null,null,null,null,null,null,null,null,null,null,null,null,null,null,{"$f":"\" \"&ListAVS!$B$154","v":" Nápověda"}]
[null,null,null,null,null,null,null,null,null,{"$f":"IF($Z$78<>3,$Y$73,\" \")&\"      \"","v":" Změnit hodnoty můžete v Úvodu plánování      "},null,null,null,null,"B = 2",null,null,null,{"$f":"\" \"&ListAVS!$B$61","v":" Cena celkem bez DPH"}]
[null,{"$f":"ListAVS!$B$51&\":   \"","v":"Cena kování:   "},null,null,null,null,{"$f":"IF(S2=1,$AF$47,IF($S$2=2,$AH$47,IF($S$2=3,$AD$47,0)))","v":0},null,null,null,null,null,null,null,null,null,null,null,null,null,null,null,null,null,{"$f":"$B$2","v":" AVENTOS HF top"},null,null,null,null,null,null,null,null,null,null,null,null,{"$f":"\" \"&ListAVS!$B$159","v":" Doplňky"}]
[null,null,null,null,null,null,null,{"$f":"IF(AND(OR($S$9=2, $S$20=2), $AD$47>0), $N$35, \" \")","v":" "},null,null,null,null,null,null,null,null,null,null,null,null,null,null,null,null,{"$f":"ListAVS!B52","v":"Název"},{"$f":"ListAVS!$B$53","v":"Číslo artiklu"},{"$f":"ListAVS!B54","v":"Barva"},{"$f":"ListAVS!B56","v":"Ks"},{"$f":"ListAVS!B58","v":"Jednotková cena"},{"$f":"ListAVS!B59","v":"Celkem"},"A","Cena","B","Cena",null,null,null,null,null,{"$f":"\"  \"&ListAVS!$B$86&\" LF \"","v":"  Ukazatel výkonnosti LF "},null,"Zdvihací mechanizmus vruty","Zdvihací mechanizmus šrouby"]
[null,{"$f":"\"▼ \"&ListAVS!$B$317","v":"▼ Způsob otvírání"},null,{"$f":"IF($M$17>0, ListAVS!$B$37&\": \", \" \")","v":" "},{"$f":"IF(SUM($AE$9:$AE$10)>0,25,IF(SUM($AE$11:$AE$12)>0,28,\" \"))","v":" "},{"$f":"ListAVS!$B$64&\" A\"","v":"Korpus A"},null,null,null,null,null,null,null,"zdvih A",null,"teleskop",null,null,1,false,null," - SRVDRV",null,null,{"$f":"CenAVS!A11","v":"Sada zdvihačů HF top, na vruty"},{"$f":"CenAVS!B11","v":"22F2500"},{"$f":"CenAVS!C11","v":"ZN"},{"$f":"SUM(AE9,AG9)","v":0},{"$f":"CenAVS!F11","v":1651.93},{"$f":"AB9*AC9","v":0},{"$f":"IF($Y$48=1,ROUNDUP($M$17*$O$11,0),0)","v":0},{"$f":"$AC9*AE9","v":0},{"$f":"IF($Y$48=1,ROUNDUP($M$28*$O$22,0),0)","v":0},{"$f":"$AC9*AG9","v":0},null,null,null,{"$f":"\" \"&ListAVS!$B$156","v":" Přehled korpusů"},null,"    2700 - 13500",null,"22F2500","22F2510"]
[null,{"$f":"ListAVS!$B$74&\" KB [mm] \"","v":"Šířka korpusu KB [mm] "},null,null,null,null,null,null,{"$f":"IF(H10=0,\" \",IF($H10<220,\" min. 220mm\",\" \"))&IF(H17>0,IF(H10=0,\"● \"&ListAVS!$B$128,\" \"),\" \")","v":"  "},null,null,null,null,null,null,"F32",{"$f":"IF(AND($P$16>=$AB$54,$P$16<=$AC$54),SUM($O$11:$O$12),0)","v":0},null,null,"Závěs A",null,"Závěs As",null,null,{"$f":"CenAVS!A12","v":"Sada zdvihačů HF top, předmont. eurošrouby"},{"$f":"CenAVS!B12","v":"22F2510"},{"$f":"CenAVS!C12","v":"ZN"},0,{"$f":"CenAVS!F12","v":1651.93},{"$f":"AB10*AC10","v":0},{"$f":"IF($Y$48=2,ROUNDUP($M$17*$O$11,0),0)","v":0},0,{"$f":"IF($Y$48=2,ROUNDUP($M$28*$O$22,0),0)","v":0},0,null,null,null,{"$f":"\" \"&ListAVS!$B$157","v":" Objednávka"},null,"  10000 - 19300",null,"22F2800","22F2810"]
[null,{"$f":"ListAVS!$B$75&\" [mm]\"","v":"Výška korpusu [mm]"},null,null,"TKH * ",null,"KH ",null,{"$f":"IF(H11=0,\" \",IF($H11<480,\" min. 480mm\",IF($H11>1200,\" max. 1 200mm\",\" \")))&IF(H17>0,IF(H11=0,\"● \"&ListAVS!$B$128,\" \"),\" \")","v":"  "},null,null,null,null,"F25",{"$f":"IF($H16<$AB$50,0,IF($H16<=$AC$50,1,0))","v":0},"F35",{"$f":"IF(AND($P$16>=$AB$55,$P$16<=$AC$55),SUM($O$11:$O$12),0)","v":0},null,null,"T558E",{"$f":"IF($N$48=1, IF(OR($H$10>=1200, $T$17>=12), 3, 2))+IF($N$48=1,IF(OR($H$10=1800, $T$17>=20), 1, 0))","v":0},"Z553E",{"$f":"IF($P$48=1, IF(OR($H$10>=1200, $T$17>=12), 3, 2))+IF($P$48=1,IF(OR($H$10=1800, $T$17>=20), 1, 0))","v":2},null,{"$f":"CenAVS!A13","v":"Sada zdvihačů HF top, na vruty"},{"$f":"CenAVS!B13","v":"22F2800"},{"$f":"CenAVS!C13","v":"ZN"},0,{"$f":"CenAVS!F13","v":1805.55},0,{"$f":"IF($Y$48=1,ROUNDUP($M$17*$O$12,0),0)","v":0},0,{"$f":"IF($Y$48=1,ROUNDUP($M$28*$O$23,0),0)","v":0},0]
[null,{"$f":"ListAVS!$B$77&\" [kg] ** \"","v":"Hmotnost čela včetně úchytky [kg] ** "},null,null,null,null,null,null,{"$f":"IF($T14=\"ne\", \" \", IF(AND($H12=0,$H15=0, $H17>0),$N$37,\" \"))&IF(AND($H17>0, $H12>0, $M17>0),$N$41,\" \")","v":"  "},null,null,null,null,"F28",{"$f":"IF($H16<$AB$51,0,IF($H16<=$AC$51,1,0))","v":0},"F39",{"$f":"IF(AND($P$16>=$AB$56,$P$16<=$AC$56),SUM($O$11:$O$12),0)","v":0},null,null,"Z550AT",{"$f":"IF($N$48=2, IF(OR($H$10>=1200, $T$17>=12), 3, 2))+IF($N$48=2,IF(OR($H$10=1800, $T$17>=20), 1, 0))","v":2},"Z5500",{"$f":"IF($P$48=2, IF(OR($H$10>=1200, $T$17>=12), 3, 2))+IF($P$48=2,IF(OR($H$10=1800, $T$17>=20), 1, 0))","v":0},null,{"$f":"CenAVS!A14","v":"Sada zdvihačů HF top, předmont. eurošrouby"},{"$f":"CenAVS!B14","v":"22F2810"},{"$f":"CenAVS!C14","v":"ZN"},0,{"$f":"CenAVS!F14","v":1805.55},0,{"$f":"IF($Y$48=2,ROUNDUP($M$17*$O$12,0),0)","v":0},0,{"$f":"IF($Y$48=2,ROUNDUP($M$28*$O$23,0),0)","v":0},0,null,null,null,null,null,{"$f":"ListAVS!$B$86&\" LF = \"&ListAVS!$B$319&\" [kg]\"","v":"Ukazatel výkonnosti LF = výška korpusu KH [mm] x hmotnost obou čel včetně úchytky [kg]"}]
[null,{"$f":"ListAVS!$B$292","v":"Výpočet hmotnosti"},null,{"$f":"ListAVS!$B$82&\" TS [mm] \"","v":"Síla dolního čela TS [mm] "},null,null,null,null,{"$f":"IF(OR(H17=0, $T14=\"ne\"),\" \",IF(AND(H12=0, H13=0),\" ● \"&ListAVS!$B$128,\" \"))","v":" "},null,null,null,null,null,null,null,null,null,null,null,null,null,null,null,{"$f":"CenAVS!A15","v":"Sada teleskopů HF top (480–610 mm)"},{"$f":"CenAVS!B15","v":"22F3200"},{"$f":"CenAVS!C15","v":"NI"},0,{"$f":"CenAVS!F15","v":785.14},0,{"$f":"ROUNDUP($M$17*Q10,0)","v":0},0,{"$f":"ROUNDUP($M$28*Q21,0)","v":0},0]
[null,null,null,{"$f":"ListAVS!$B$83&\" [kg] \"","v":"Hmotnost úchytky [kg] "},null,null,null,null,{"$f":"IF(H17=0, \" \", IF(AND(H12=0, S9=1, H14=0), \" ● \"&ListAVS!$B$129,\" \"))","v":" "},null,null,null,null,null,null,null,null,null,"limit v/š",{"$f":"IF(AND(220<=H10, H10<=1800, 480<=P16, P16<=1200),\"ano\",\"ne\")","v":"ne"},null,null,null,null,{"$f":"CenAVS!A16","v":"Sada teleskopů HF top (600–910 mm)"},{"$f":"CenAVS!B16","v":"22F3500"},{"$f":"CenAVS!C16","v":"NI"},0,{"$f":"CenAVS!F16","v":964.4},0,{"$f":"ROUNDUP($M$17*Q11,0)","v":0},0,{"$f":"ROUNDUP($M$28*Q22,0)","v":0},0]
[null,null,null,{"$f":"ListAVS!$B$79&\" [kg] \"","v":"Vypočtená hmotnost čela [kg] "},null,null,null,{"$f":"$T$81","v":0},{"$f":"IF($H17>0,IF($H15>0,IF($H12=0,$N$41,\" \"),\" \"),\" \")&IF(AND(H17>0, H12=0, Z78=3, $J$4=0), $N$39, \" \")","v":"  "},null,null,null,null,null,null,null,null,null,"limit LF",{"$f":"IF(AND(H16>=$AB$50, H16<=$AC$51), \"ano\", \"ne\")","v":"ne"},null,null,null,null,{"$f":"CenAVS!A17","v":"Sada teleskopů HF top (840–1200 mm)"},{"$f":"CenAVS!B17","v":"22F3900"},{"$f":"CenAVS!C17","v":"NI"},0,{"$f":"CenAVS!F17","v":1143.6400000000001},0,{"$f":"ROUNDUP($M$17*Q12,0)","v":0},0,{"$f":"ROUNDUP($M$28*Q23,0)","v":0},0]
[null,{"$f":"ListAVS!$B$86&\" LF \"","v":"Ukazatel výkonnosti LF "},null,null,null,null,null,{"$f":"IF(H11<1041,IF(H11>479,IF(H12>0,H11*H12,H11*H15),0),0)","v":0},{"$f":"IF(AND(H16>0, H16<$AB$50), $T$44, IF($H16>$AC$51, $N$44, \"  \"))","v":"  "},null,null,null,null,null,"výška korpusu",{"$f":"IF(F11>0,IF(F11>=H11,F11,0),H11)","v":0},null,null,null,null,null,null,null,null,{"$f":"CenAVS!A47","v":"Sada krytek HF, HS, HL top, světle šedá"},{"$f":"CenAVS!B47","v":"22.8000"},{"$f":"CenAVS!C47","v":"HGR"},{"$f":"SUM(AE16,AG16)","v":0},{"$f":"CenAVS!F47","v":252.85},0,{"$f":"IF(AND($S$9=1, $T$48=1), SUM($AE$9:$AE$12), 0)","v":0},0,{"$f":"IF(AND($S$20=1, $T$48=1), SUM($AG$9:$AG$12), 0)","v":0},0]
[null,{"$f":"ListAVS!$B$71&\" \"","v":"Počet skříněk "},null,null,null,null,null,null,null,null,null,null,{"$f":"IF($H10*$P16=0,0,IF(SUM($H12,$H15)=0,0,IF($P16>$AC$57,0,IF(P16<$AB$54,0,IF(OR(T14=\"ne\", T15=\"ne\"),0,$H17)))))","v":0},"← Hlavní údaj",null,null,null,null,"hmot =",{"$f":"IF(H12>0,H12,H15)","v":0},{"$f":"IF(SUM(H12,H15)=0,0,IF(H12>0,1,2))","v":0},"zadaná / vypočtená",null,null,{"$f":"CenAVS!A48","v":"Sada krytek HF, HS, HL top, tmavě šedá"},{"$f":"CenAVS!B48","v":"22.8000"},{"$f":"CenAVS!C48","v":"TGR"},{"$f":"SUM(AE17,AG17)","v":0},{"$f":"CenAVS!F48","v":275.94},0,{"$f":"IF(AND($S$9=1, $T$48=2), SUM($AE$9:$AE$12), 0)","v":0},0,{"$f":"IF(AND($S$20=1, $T$48=2), SUM($AG$9:$AG$12), 0)","v":0},0,null,null,null,null,null,"vruty = zdvihače s integrovanou šablonou (bez nutnosti rozměřování)"]
[null,{"$f":"IF(H17>0,IF(U17=0,\" \",IF(U17=1,$N$53,$N$54)),\" \")&IF(H17>0,IF(U17=0,\" \",IF(U17=1,$N$55,$N$56)),\" \")","v":"  "},null,null,null,null,null,null,null,null,null,null,null,null,null,null,null,null,null,null,null,null,null,null,{"$f":"CenAVS!A49","v":"Sada krytek HF, HS, HL top, hedvábně bílá"},{"$f":"CenAVS!B49","v":"22.8000"},{"$f":"CenAVS!C49","v":"SW"},0,{"$f":"CenAVS!F49","v":275.94},0,{"$f":"IF(AND($S$9=1, $T$48=3), SUM($AE$9:$AE$12), 0)","v":0},0,{"$f":"IF(AND($S$20=1, $T$48=3), SUM($AG$9:$AG$12), 0)","v":0},0,null,null,null,null,null,"šrouby = zdvihače s přednotovanými šrouby (nutné předvrtání)"]
[null,{"$f":"IF(F11=0,\" \",IF(F11>1200,\"TKH = max. 1200!\",IF(F11<480,\"TKH = min. 480!\",IF(F11<H11,$N$59,IF(H17>0,IF(F11=0,\" \",IF(AND(F11>0,M17=1), $N$58,\" \")),\" \")))))","v":" "},null,null,null,null,null,null,null,null,null,null,null,null,null,null,null,null,null,null,null,null,null,null,{"$f":"CenAVS!A50","v":"Sada krytek pro SERVO-DRIVE, světle šedá"},{"$f":"CenAVS!B50","v":"23.8000"},{"$f":"CenAVS!C50","v":"HGR"},0,{"$f":"CenAVS!F50","v":2606.7600000000002},0,{"$f":"IF(AND($S$9=2, $T$48=1), $AE$45, 0)","v":0},0,{"$f":"IF(AND($S$20=2, $T$48=1), $AG$45, 0)","v":0},0,null,null,null,{"$f":"\" \"&ListAVS!$B$194","v":" Výpočet asymetrických čel"}]
[null,{"$f":"\"▼ \"&ListAVS!$B$317","v":"▼ Způsob otvírání"},null,{"$f":"IF($M$28>0, ListAVS!$B$37&\": \", \" \")","v":" "},{"$f":"IF(SUM($AG$9:$AG$10)>0,25,IF(SUM($AG$11:$AG$12)>0,28,\" \"))","v":" "},{"$f":"ListAVS!$B$64&\" B\"","v":"Korpus B"},null,null,null,null,null,null,null,"zdvih B",null,"teleskop",null,null,1,false,null," - SRVDRV",null,null,{"$f":"CenAVS!A51","v":"Sada krytek pro SERVO-DRIVE, tmavě šedá"},{"$f":"CenAVS!B51","v":"23.8000"},{"$f":"CenAVS!C51","v":"TGR"},0,{"$f":"CenAVS!F51","v":2709.29},0,{"$f":"IF(AND($S$9=2, $T$48=2), $AE$45, 0)","v":0},0,{"$f":"IF(AND($S$20=2, $T$48=2), $AG$45, 0)","v":0},0]
[null,{"$f":"ListAVS!$B$74&\" KB [mm] \"","v":"Šířka korpusu KB [mm] "},null,null,null,null,null,null,{"$f":"IF(H21=0,\" \",IF($H21<220,\" min. 220mm\",IF($H21>1800,\" max. 1 800mm\",\" \")))&IF(H28>0,IF(H21=0,\"● \"&ListAVS!$B$128,\" \"),\" \")","v":"  "},null,null,null,null,null,null,"F32",{"$f":"IF(AND($P$27>=$AB$54,$P$27<=$AC$54),SUM($O$22:$O$23),0)","v":0},null,null,"Závěs B",null,"Závěs Bs",null,null,{"$f":"CenAVS!A52","v":"Sada krytek pro SERVO-DRIVE,hedvábně bílá"},{"$f":"CenAVS!B52","v":"23.8000"},{"$f":"CenAVS!C52","v":"SW"},0,{"$f":"CenAVS!F52","v":2709.29},0,{"$f":"IF(AND($S$9=2, $T$48=3), $AE$45, 0)","v":0},0,{"$f":"IF(AND($S$20=2, $T$48=3), $AG$45, 0)","v":0},0]
[null,{"$f":"ListAVS!$B$75&\" [mm]\"","v":"Výška korpusu [mm]"},null,null,"TKH * ",null,"KH ",null,{"$f":"IF(H22=0,\" \",IF($H22<480,\" min. 480mm\",IF($H22>1200,\" max. 1 200mm\",\" \")))&IF(H28>0,IF(H22=0,\"● \"&ListAVS!$B$128,\" \"),\" \")","v":"  "},null,null,null,null,"F25",{"$f":"IF($H27<$AB$50,0,IF($H27<=$AC$50,1,0))","v":0},"F35",{"$f":"IF(AND($P$27>=$AB$55,$P$27<=$AC$55),SUM($O$22:$O$23),0)","v":0},null,null,"T558E",{"$f":"IF($N$48=1, IF(OR($H$21>=1200, $T$28>=12), 3, 2))+IF($N$48=1,IF(OR($H$21=1800, $T$28>=20), 1, 0))","v":0},"Z553E",{"$f":"IF($P$48=1, IF(OR($H$21>=1200, $T$28>=12), 3, 2))+IF($P$48=1,IF(OR($H$21=1800, $T$28>=20), 1, 0))","v":2},null,{"$f":"CenAVS!A18","v":"Závěs CLIP top 120° "},{"$f":"CenAVS!B18","v":"70T5550.TL"},{"$f":"CenAVS!C18","v":"NI"},0,{"$f":"CenAVS!F18","v":56.56},0,null,0,null,0]
[null,{"$f":"ListAVS!$B$77&\" [kg] ** \"","v":"Hmotnost čela včetně úchytky [kg] ** "},null,null,null,null,null,null,{"$f":"IF($H28=0,\" \",IF(SUM($H23,$H26)=0,$N$37,\" \"))&IF($H28>0,IF($H23>0,$N$41,\" \"),\" \")","v":"  "},null,null,null,null,"F28",{"$f":"IF($H27<$AB$51,0,IF($H27<=$AC$51,1,IF($H27>$AB$52,1.5,0)))","v":0},"F39",{"$f":"IF(AND($P$27>=$AB$56,$P$27<=$AC$56),SUM($O$22:$O$23),0)","v":0},null,null,"Z550AT",{"$f":"IF($N$48=2, IF(OR($H$21>=1200, $T$28>=12), 3, 2))+IF($N$48=2,IF(OR($H$21=1800, $T$28>=20), 1, 0))","v":2},"Z5500",{"$f":"IF($P$48=2, IF(OR($H$21>=1200, $T$28>=12), 3, 2))+IF($P$48=2,IF(OR($H$21=1800, $T$28>=20), 1, 0))","v":0},null,{"$f":"CenAVS!A19","v":"Závěs CLIP top 120° EXPANDO"},{"$f":"CenAVS!B19","v":"70T558E"},{"$f":"CenAVS!C19","v":"NI"},0,{"$f":"CenAVS!F19","v":53.42},0,null,0,null,0]
[null,{"$f":"ListAVS!$B$292","v":"Výpočet hmotnosti"},null,{"$f":"ListAVS!$B$82&\" TS [mm] \"","v":"Síla dolního čela TS [mm] "},null,null,null,null,{"$f":"IF(H28=0,\" \",IF(AND(H23=0, H24=0),\" ● \"&ListAVS!$B$128,\" \"))","v":" "},null,null,null,null,null,null,null,null,null,null,null,null,null,null,null,{"$f":"CenAVS!A20","v":"Středový závěs CLIP top "},{"$f":"CenAVS!B20","v":"78Z5500T"},{"$f":"CenAVS!C20","v":"NI"},0,{"$f":"CenAVS!F20","v":92.71},0,{"$f":"$W$12*$M$17","v":0},0,{"$f":"$W$23*$M$17","v":0},0]
[null,null,null,{"$f":"ListAVS!$B$83&\" [kg] \"","v":"Hmotnost úchytky [kg] "},null,null,null,null,{"$f":"IF(H28=0, \" \", IF(AND(H23=0, S20=1, H25=0), \" ● \"&ListAVS!$B$129,\" \"))","v":" "},null,null,null,null,null,null,null,null,null,"limit v/š",{"$f":"IF(AND(220<=H21, H21<=1800, 480<=P27, P27<=1200),\"ano\",\"ne\")","v":"ne"},null,null,null,null,{"$f":"CenAVS!A21","v":"Středový závěs CLIP top EXPANDO"},{"$f":"CenAVS!B21","v":"78Z553ET"},{"$f":"CenAVS!C21","v":"NI"},0,{"$f":"CenAVS!F21","v":95.69},0,{"$f":"$W$11*$M$17","v":0},0,{"$f":"$W$22*$M$17","v":0},0]
[null,null,null,{"$f":"ListAVS!$B$79&\" [kg] \"","v":"Vypočtená hmotnost čela [kg] "},null,null,null,{"$f":"$T$90","v":0},{"$f":"IF($H28>0,IF($H26>0,IF($H23=0,$N$41,\" \"),\" \"),\" \")&IF(AND(H28>0, H23=0, Z87=3, $J$4=0), $N$39, \" \")","v":"  "},null,null,null,null,null,null,null,null,null,"limit LF",{"$f":"IF(AND(H27>=$AB$50, H27<=$AC$51), \"ano\", \"ne\")","v":"ne"},null,null,null,null,{"$f":"CenAVS!A22","v":"Závěs CLIP top pro alurámečky"},{"$f":"CenAVS!B22","v":"72T550A.TL"},{"$f":"CenAVS!C22","v":"NI"},0,{"$f":"CenAVS!F22","v":77.180000000000007},0,{"$f":"$U$12*$M$17","v":0},0,{"$f":"$U$23*$M$17","v":0},0]
[null,{"$f":"ListAVS!$B$86&\" LF \"","v":"Ukazatel výkonnosti LF "},null,null,null,null,null,{"$f":"IF(H22<1041,IF(H22>479,IF(H23>0,H22*H23,H22*H26),0),0)","v":0},{"$f":"IF(AND(H27>0, H27<$AB$50), $T$44, IF($H27>$AC$51, $N$44, \"  \"))","v":"  "},null,null,null,null,null,"výška korpusu",{"$f":"IF(F22>0,IF(F22>=H22,F22,0),H22)","v":0},null,null,null,null,null,null,null,null,{"$f":"CenAVS!A23","v":"Střed. závěs CLIP top pro alurámečky"},{"$f":"CenAVS!B23","v":"78Z550AT"},{"$f":"CenAVS!C23","v":"NI"},0,{"$f":"CenAVS!F23","v":101.63},0,null,0,null,0]
[null,{"$f":"ListAVS!$B$71&\" \"","v":"Počet skříněk "},null,null,null,null,null,null,null,null,null,null,{"$f":"IF($H21*$P27=0,0,IF(SUM($H23,$H26)=0,0,IF($P27>$AC$57,0,IF(P27<$AB$54,0,IF(OR(T25=\"ne\", T26=\"ne\"),0,$H28)))))","v":0},"← Hlavní údaj",null,null,null,null,"hmot =",{"$f":"IF(H23>0,H23,H26)","v":0},{"$f":"IF(SUM(H23,H26)=0,0,IF(H23>0,1,2))","v":0},"zadaná / vypočtená",null,null,{"$f":"CenAVS!A24","v":"Adaptér CLIP k teleskopům P"},{"$f":"CenAVS!B24","v":"175H5B00   R"},{"$f":"CenAVS!C24","v":"NI"},0,{"$f":"CenAVS!F24","v":90.34},0,null,0,null,0]
[null,{"$f":"IF(H28>0,IF(U28=0,\" \",IF(U28=1,$N$53,$N$54)),\" \")&IF(H28>0,IF(U28=0,\" \",IF(U28=1,$N$55,$N$56)),\" \")","v":"  "},null,null,null,null,null,null,null,null,null,null,null,null,null,null,null,null,null,null,null,null,null,null,{"$f":"CenAVS!A25","v":"Adaptér CLIP k teleskopům L"},{"$f":"CenAVS!B25","v":"175H5B00   L"},{"$f":"CenAVS!C25","v":"NI"},0,{"$f":"CenAVS!F25","v":90.34},0,null,0,null,0]
[null,{"$f":"IF(F22=0,\" \",IF(F22>1200,\"TKH = max. 1200!\",IF(F22<480,\"TKH = min. 480!\",IF(F22<H22,$N$59,IF(H28>0,IF(F22=0,\" \",IF(AND(F22>0,M28=1), $N$58,\" \")),\" \")))))","v":" "},null,null,null,null,null,null,null,null,null,null,null,null,null,null,null,null,null,null,null,null,null,null,{"$f":"CenAVS!A26","v":"Adaptér CLIP ke středovým závěsům"},{"$f":"CenAVS!B26","v":"175H5A00"},{"$f":"CenAVS!C26","v":"NI"},0,{"$f":"CenAVS!F26","v":90.34},0,{"$f":"AE26","v":0},0,{"$f":"AG26","v":0},0]
[null,{"$f":"IF(OR(AND($S$9=2, $M$17>0), AND($S$20=2, $M$28>0)), ListAVS!$B$175, \" \")","v":" "},null,null,null,null,null,null,null,null,null,null,null,null,null,null,null,null,{"$f":"IF($T$31=FALSE,2,1)","v":1},true,null," - Zdroj"]
[]
[null,null,null,null,null,null,null,null,null,null,null,null,null,null,null,null,null,null,null,null,null,null,null,null,{"$f":"CenAVS!A27","v":0},{"$f":"CenAVS!B27","v":0},{"$f":"CenAVS!C27","v":0},null,{"$f":"CenAVS!F27","v":0},0,null,0,null,0]
[null,null,null,null,null,null,null,null,null,null,null,null,null,null,null,null,null,null,null,null,null,null,null,null,null,null,null,null,null,0,null,0,null,0]
[null,null,{"$f":"IF($H16>25900,\" \",IF($H16>17250,$N$46,IF($H27>25900,\" \",IF($H27>17250,$N$46,\" \"))))","v":" "},null,null,null,null,null,null,null,null,null,null,{"$f":"ListAVS!B176","v":"Cena bez napájecího zdroje!"},null,null,null,null,null,null,null,null,null,null,null,null,null,null,null,0,null,0,null,0]
[null,null,null,null,null,null,null,null,null,null,null,null,null,null,null,null,null,null,null,null,null,null,null,null,{"$f":"CenAVS!A162","v":"CLIP top montážní podložka, excentr, 0 mm"},{"$f":"CenAVS!B162","v":"173H7100 "},{"$f":"CenAVS!C162","v":"NI"},0,{"$f":"CenAVS!F162","v":17.84},0,null,0,null,0]
[null,null,{"$f":"\"*  \"&ListAVS!$B$183","v":"*  Pouze pro asymetrická čela: zadejte teoretickou výšku TKH."},null,null,null,null,null,null,null,null,null,null,{"$f":"\" \"&ListAVS!$B$115","v":" Zadejte hmotnost nebo vyplňte všechny buňky"},null,null,null,null,null,null,null,null,null,null,{"$f":"CenAVS!A163","v":"CLIP top mont. podložka, excentr, EXPANDO, 0 mm"},{"$f":"CenAVS!B163","v":"174H7100E "},{"$f":"CenAVS!C163","v":"NI"},0,{"$f":"CenAVS!F163","v":19.39},0,null,0,null,0]
[null,null,{"$f":"\" (\"&ListAVS!$B$184&\")\"","v":" (TKH = dvojnásobná výška horního čela včetně mezer)"},null,null,null,null,null,null,null,null,null,null,null,null,null,null,null,null,null,null,null,null,null,null,null,null,null,null,null,null,0,null,0]
[null,null,{"$f":"\" \"&ListAVS!$B$327&\" '\"&ListAVS!$B$194&\"' \"","v":" Pro výpočet TKH použijte 'Výpočet asymetrických čel' "},null,null,null,null,null,null,null,null,null,null,{"$f":"\" \"&ListAVS!$B$117","v":" Vyplňte nahoře objemovou hmotnost "}]
[]
[null,null,{"$f":"\"** \"&ListAVS!$B$186","v":"** Pokud znáte hmotnost a nechcete využít výpočtu hmotnosti"},null,null,null,null,null,null,null,null,null,null,{"$f":"\"◄ \"&ListAVS!$B$111","v":"◄ hodnota bude použita pro výpočet LF"}]
[null,null,{"$f":"\"*** \"&ListAVS!$B$403","v":"*** Vyberte typ alurámečku!"},null,null,null,null,null,null,null,null,null,null,{"$f":"\" * \"&ListAVS!$B$127","v":" * Doplňte hodnoty"},null,null,null,null,null,null,null,null,null,null,{"$f":"CenAVS!A166","v":"CLIP top přímá mont. podložka, ocel, 0 mm"},{"$f":"CenAVS!B166","v":"175H3100"},{"$f":"CenAVS!C166","v":"NI"},{"$f":"SUM(AE42,AG42)","v":0},{"$f":"CenAVS!F166","v":16.98},0,{"$f":"IF($R$48=2, SUM($U$11, $U$12, $W$12, $Q$10*2, $Q$11*2, $Q$12*2)*$M$17, 0)","v":0},{"$f":"$AC42*AE42","v":0},{"$f":"IF($R$48=2, SUM($U$22, $U$23, $W$23, $Q$21*2, $Q$22*2, $Q$23*2)*$M$28, 0)","v":0},{"$f":"$AC42*AG42","v":0}]
[null,null,{"$f":"\"      \"&ListAVS!$B$404","v":"      Více informací k výběru alurámečků v Nápovědě"},null,null,null,null,null,null,null,null,null,null,null,null,null,null,null,null,null,null,null,null,null,{"$f":"CenAVS!A167","v":"CLIP top přímá mont. podložka, ocel, EXP, 0 mm"},{"$f":"CenAVS!B167","v":"177H3100E "},{"$f":"CenAVS!C167","v":"NI"},{"$f":"SUM(AE43,AG43)","v":0},{"$f":"CenAVS!F167","v":17.07},0,{"$f":"IF($R$48=1, SUM($U$11, $U$12, $W$12, $Q$10*2, $Q$11*2, $Q$12*2)*$M$17, 0)","v":0},{"$f":"$AC43*AE45","v":0},{"$f":"IF($R$48=1, SUM($U$22, $U$23, $W$23, $Q$21*2, $Q$22*2, $Q$23*2)*$M$28, 0)","v":0},{"$f":"$AC43*AG43","v":0}]
[null,null,null,null,null,null,null,null,null,null,null,null,null,{"$f":"\" max. 19.300! \"&ListAVS!$B$121","v":" max. 19.300! Upravte hmotnost nebo výšku"},null,null,null,null,null,{"$f":"\" min. \"&$AB$50&\"! \"&ListAVS!$B$121","v":" min. 2700! Upravte hmotnost nebo výšku"},null,null,null,null,{"$f":"CenAVS!A169","v":0},{"$f":"CenAVS!B169","v":0},{"$f":"CenAVS!C169","v":0},null,{"$f":"CenAVS!F169","v":0},0,null,{"$f":"$AC44*AE44","v":0},null,{"$f":"$AC44*AG44","v":0}]
[null,null,null,null,null,null,null,null,null,null,null,null,null,{"$f":"\" \"&ListAVS!$B$119&\"!\"","v":" Přídavný třetí zdvihač!"},null,null,{"$f":"\" \"&ListAVS!$B$125&\"!\"","v":" Druhá pohonná jednotka!"},null,null,null,{"$f":"\" \"&ListAVS!B126","v":" Použijte pouze jeden zdvihač"},null,null,null,{"$f":"CenAVS!A171","v":"SERVO-DRIVE jednotka (sada)"},{"$f":"CenAVS!B171","v":"23.A000"},{"$f":"CenAVS!C171","v":"R7037"},{"$f":"SUM(AE45,AG45)","v":0},{"$f":"CenAVS!F171","v":8297.32},0,{"$f":"IF($S$9=1, 0, $M$17)+IF(AND($S$9=2, $H$16>$AB$52), $M$17, 0)","v":0},{"$f":"$AC45*AE45","v":0},{"$f":"IF($S$20=1, 0, $M$28)+IF(AND($S$20=2, $H$27>$AB$52), $M$28, 0)","v":0},{"$f":"$AC45*AG45","v":0}]
[null,null,null,null,null,null,null,null,null,null,null,null,null,{"$f":"ListAVS!$B$181","v":"Přídavný třetí zdvihač může být použit pouze s plným spodním čelem!"}]
[null,null,null,null,null,null,null,null,null,null,null,null,null,null,null,null,null,null,null,null,null,null,null,null,null,null,null,null,{"$f":"ListAVS!$B$61&\" \"","v":"Cena celkem bez DPH "},{"$f":"SUM(AD9:AD45)","v":0},null,{"$f":"SUM(AF9:AF46)","v":0},null,{"$f":"SUM(AH9:AH46)","v":0}]
[null,null,null,null,null,null,null,null,null,null,null,null,null,2,2,{"$f":"HF!$N$33","v":1},2,{"$f":"HF!$P$33","v":1},null,{"$f":"MenuAVS!$P$28","v":1},null,null,null,null,{"$f":"HF!$R$33","v":1},{"$f":"Param!M10","v":"Parametry HF"}]
[null,null,null,null,null,null,null,null,null,null,null,null,null,"záv.","alu","střed.","alu","podl.",null,"kryt.",null,null,"Provedení:",null,"montáž:",{"$f":"Param!M11","v":"Zdvihač"},{"$f":"Param!N11","v":"ks"},{"$f":"Param!O11","v":"min"},{"$f":"Param!P11","v":"max"},{"$f":"Param!Q11","v":"alu max."}]
[null,null,null,null,null,null,null,null,null,null,null,null,null,{"$f":"ListAVS!$B$133","v":"Expando"},null,{"$f":"ListAVS!$B$133","v":"Expando"},null,{"$f":"ListAVS!$B$133","v":"Expando"},null,{"$f":"ListAVS!$B$145","v":"Světle šedá (HGR)"},null,null,"Standard",null,"vruty",{"$f":"Param!M12","v":"22F2500"},{"$f":"Param!N12","v":1},{"$f":"Param!O12","v":2700},{"$f":"Param!P12","v":11500}]
[null,null,null,null,null,null,null,null,null,null,null,null,null,{"$f":"ListAVS!$B$134","v":"na vruty"},null,{"$f":"ListAVS!$B$134","v":"na vruty"},null,{"$f":"ListAVS!$B$134","v":"na vruty"},null,{"$f":"ListAVS!$B$146","v":"Tmavě šedá (TGR)"},null,null,"SERVO-DRIVE",null,"eurošrouby",{"$f":"Param!M13","v":"22F2800"},{"$f":"Param!N13","v":1},{"$f":"Param!O13","v":11500},{"$f":"Param!P13","v":19300},{"$f":"Param!Q13","v":19300}]
[null,null,null,null,null,null,null,null,null,null,null,null,null,null,null,null,null,null,null,{"$f":"ListAVS!$B$147","v":"Hedvábně bílá (SW)"},null,null,null,null,null,{"$f":"Param!M14","v":"22F2800"},{"$f":"Param!N14","v":1.5},{"$f":"Param!O14","v":19300},{"$f":"Param!P14","v":28950},{"$f":"Param!Q14","v":0}]
[null,null,null,null,null,null,null,null,null,null,null,null,null,{"$f":"ListAVS!B187","v":"Pro určení typu zdvihače bude použita zadaná hmotnost"},null,null,null,null,null,null,null,null,null,null,null,{"$f":"Param!M17","v":"Teleskop"},null,{"$f":"Param!O17","v":"min"},{"$f":"Param!P17","v":"max"},{"$f":"Param!Q17","v":0}]
[null,null,null,null,null,null,null,null,null,null,null,null,null,{"$f":"ListAVS!B188","v":"Pro určení typu zdvihače bude použita vypočtená hmotnost"},null,null,null,null,null,null,null,null,null,null,null,{"$f":"Param!M18","v":"20F3200"},{"$f":"Param!N18","v":0},{"$f":"Param!O18","v":480},{"$f":"Param!P18","v":605},{"$f":"Param!Q18","v":0}]
[null,null,null,null,null,null,null,null,null,null,null,null,null,{"$f":"\". \"&ListAVS!$B$189","v":". Chcete-li použít vypočtenou hmotnost, smažte zadanou hodnotu"},null,null,null,null,null,null,null,null,null,null,null,{"$f":"Param!M19","v":"20F3500"},{"$f":"Param!N19","v":0},{"$f":"Param!O19","v":605},{"$f":"Param!P19","v":890},{"$f":"Param!Q19","v":0}]
[null,null,null,null,null,null,null,null,null,null,null,null,null,{"$f":"\". \"&ListAVS!$B$190","v":". Chcete-li použít zadanou hmotnost, zadejte ji do políčka"},null,null,null,null,null,null,null,null,null,null,null,{"$f":"Param!M20","v":"20F3900"},{"$f":"Param!N20","v":0},{"$f":"Param!O20","v":890},{"$f":"Param!P20","v":1200},{"$f":"Param!Q20","v":0}]
[null,null,null,null,null,null,null,null,null,null,null,null,null,{"$f":"ListAVS!B191","v":0},null,null,null,null,null,null,null,null,null,null,null,null,null,{"$f":"Param!O21","v":"max."},{"$f":"Param!P21","v":1200},{"$f":"Param!Q21","v":0}]
[null,null,null,null,null,null,null,null,null,null,null,null,null,{"$f":"ListAVS!B192","v":"Pro výběr teleskopů bude použita teoretická výška TKH"}]
[null,null,null,null,null,null,null,null,null,null,null,null,null,{"$f":"ListAVS!B193","v":"Teoretická výška TKH nesmí být menší než KH"}]
[]
[]
[]
[]
[]
[]
[]
[]
[]
[]
[null,null,null,null,null,null,null,null,null,null,null,null,null,{"$f":"ListAVS!$B$73","v":"Výpočet hmotnosti čel"}]
[null,null,null,null,null,null,null,null,null,null,null,null,null,null,{"$f":"ListAVS!$B$35&\"  \"","v":"horní čelo  "},null,null,null,null,{"$f":"J4","v":0},{"$f":"IF(AF77=3,IF(T71=0,AE74,\" \"),IF(T71>0,AE75,\" \"))","v":" "},null,null,null,{"$f":"IF($AF$77=1,$AF$94,IF($AF$77=2,$AF$95,$AF$96&\" -  \"&$T$71&\"mm\"))","v":"Alurámečky s 4mm sklem"},null,null,null,null,{"$f":"MenuAVS!$Q$81","v":2500}]
[null,null,null,null,null,null,null,null,null,null,null,null,null,null,{"$f":"ListAVS!$B$36&\"  \"","v":"dolní čelo  "},null,null,null,null,{"$f":"J5","v":0},{"$f":"IF(Z78=3,IF(T72=0,Y74,\" \"),IF(T72>0,Y75,\" \"))","v":" "},null,null,null,{"$f":"IF($Z$78=1,$Z$79,IF($Z$78=2,$Z$80,$Z$81&\" \"&$Y$81&\"kg/m3\"))&\" A~\"&$T$79&\"/ B~\"&$T$88&\"mm\"","v":"MDF (760 kg/m3) A~0/ B~0mm"}]
[null,null,null,null,null,null,null,null,null,null,null,null,null,null,null,{"$f":"IF($Z$78<>3,$Y$73,\" \")&\"      \"","v":" Změnit hodnoty můžete v Úvodu plánování      "},null,null,null,null,null,null,null,null,{"$f":"\" \"&ListAVS!$B$410","v":" Změnit hodnoty můžete v Úvodu plánování"}]
[null,null,null,null,null,null,null,null,null,null,null,null,null,null,null,null,null,null,null,null,null,null,null,null,{"$f":"\" \"&ListAVS!$B$244&\" [kg/m3]\"","v":" Zadejte objemovou hmotnost  [kg/m3]"},null,null,null,null,null,{"$f":"\" \"&ListAVS!$B$245&\" [mm]\"","v":" Zadejte sílu skla [mm]"}]
[null,null,null,null,null,null,null,null,null,null,null,null,null,null,null,null,null,null,null,null,null,null,null,null,{"$f":"\" \"&ListAVS!$B$240&\" '\"&ListAVS!$B$92&\"'\"","v":" Hodnota platí jen pro volbu 'Jiné - volitelná hustota'"},null,null,null,null,null,{"$f":"\" \"&ListAVS!$B$240&\" '\"&ListAVS!$B$95&\"'\"","v":" Hodnota platí jen pro volbu 'Alurámečky s jiným sklem'"}]
[null,null,null,null,null,null,null,null,null,null,null,null,null,null,null,null,null,{"$f":"D9","v":" "},null,null,null,null,null,null,null,null,null,null,null,null,"váha spoj.","tl. skla","typ alu"]
[null,null,null,null,null,null,null,null,null,null,null,null,null,{"$f":"ListAVS!$B$74&\" KB [mm]       \"","v":"Šířka korpusu KB [mm]       "},null,null,null,null,null,{"$f":"H10","v":0},null,null,null,null,{"$f":"T77*T78*T79/2","v":0},null,null,null,null,{"$f":"IF($AG$77=1,$X$94,$X$95)","v":0.31},{"$f":"$X$96","v":0.46},1,{"$f":"$O$4","v":1}]
[null,null,null,null,null,null,null,null,null,null,null,null,null,{"$f":"ListAVS!$B$75&\" KH [mm]       \"","v":"Výška korpusu KH [mm]       "},null,null,null,null,null,{"$f":"H11","v":0},null,null,null,null,{"$f":"Y77/1000000000","v":0},{"$f":"AF77","v":1},null,null,null,"váha alu",{"$f":"SUM(T77*2,(T78/2-40)*2)*AD77/1000","v":-2.4799999999999999E-2},"A plocha B"]
[null,null,null,null,null,null,null,null,null,null,null,null,null,{"$f":"ListAVS!$B$80&\" TS [mm] \"","v":"Síla čela TS [mm] "},null,null,null,null,null,{"$f":"H13","v":0},{"$f":"IF(SUM(T77,T78)=0,\" \",IF(T79=0,\" ● \"&ListAVS!$B$128,\" \"))","v":" "},null,null,null,{"$f":"MenuAVS!$C$31","v":760},{"$f":"ListAVS!$B$90&\" (\"&Y79&\" kg/m3)\"","v":"MDF (760 kg/m3)"},null,null,null,{"$f":"$AD$71*4/1000","v":10},{"$f":"IF($AG$77=1,AF79*AD79,AG79*AD79)","v":8.9999999999999993E-3},{"$f":"SUM(($T$77-30)*($T$78/2-30)/1000000)","v":8.9999999999999998E-4},{"$f":"SUM(($T$77-6)*($T$78/2-6)/1000000)","v":3.6000000000000001E-5},"4mm"]
[null,null,null,null,null,null,null,null,null,null,null,null,null,{"$f":"ListAVS!$B$83&\" [kg] \"","v":"Hmotnost úchytky [kg] "},null,null,null,null,null,{"$f":"H14","v":0},{"$f":"IF(SUM(T77,T78)=0,\" \",IF(T80=0,\" ● \"&ListAVS!$B$129,\" \"))","v":" "},null,null,null,{"$f":"MenuAVS!$C$32","v":680},{"$f":"ListAVS!$B$91&\" (\"&Y80&\" kg/m3)\"","v":"Dřevotříska (680 kg/m3)"},null,null,null,{"$f":"$AD$71*5/1000","v":12.5},{"$f":"IF($AG$77=1,AF80*AD80,AG80*AD80)","v":1.125E-2},{"$f":"SUM(($T$77-30)*($T$78/2-30)/1000000)","v":8.9999999999999998E-4},{"$f":"SUM(($T$77-6)*($T$78/2-6)/1000000)","v":3.6000000000000001E-5},"5mm"]
[null,null,null,null,null,null,null,null,null,null,null,null,null,{"$f":"ListAVS!$B$79&\" [kg] \"","v":"Vypočtená hmotnost čela [kg] "},null,null,null,null,null,{"$f":"IF(X81*AD82<>0,SUM(X81,AD82,T80),0)","v":0},null,null,null,{"$f":"IF(T77*T78*T79=0,0,IF(Z78=1,Y78*Y79,IF(Z78=2,Y78*Y80,Y78*Y81)))","v":0},{"$f":"$T$72","v":0},{"$f":"ListAVS!$B$92","v":"Jiné - volitelná hustota"},null,null,null,{"$f":"$AD$71*$T$71/1000","v":0},{"$f":"IF($AG$77=1,AF81*AD81,AG81*AD81)","v":0},{"$f":"SUM(($T$77-30)*($T$78/2-30)/1000000)","v":8.9999999999999998E-4},{"$f":"SUM(($T$77-6)*($T$78/2-6)/1000000)","v":3.6000000000000001E-5},"jiné"]
[null,null,null,null,null,null,null,null,null,null,null,null,null,null,{"$f":"IF(T81>0,IF(T80=0,$Z$94,\" \"),\" \")","v":" "},null,null,null,null,null,null,null,null,null,null,null,null,null,null,{"$f":"IF(OR(AND(AF77=3, $T$71=0), T77*T78=0), 0, SUM(IF(AF77=1,AE79,IF(AF77=2,AE80,AE81)),AE78,AE77))","v":0}]
[]
[]
[null,null,null,null,null,null,null,null,null,null,null,null,null,null,null,null,null,{"$f":"D20","v":" "},null,null,null,null,null,null,null,null,null,null,null,null,"váha spoj.","tl. skla","typ alu"]
[null,null,null,null,null,null,null,null,null,null,null,null,null,{"$f":"ListAVS!$B$74&\" KB [mm]       \"","v":"Šířka korpusu KB [mm]       "},null,null,null,null,null,{"$f":"H21","v":0},null,null,null,null,{"$f":"T86*T87*T88","v":0},null,null,null,null,{"$f":"IF($AG$77=1,$X$94,$X$95)","v":0.31},{"$f":"$X$96","v":0.46},{"$f":"$AF$77","v":1},{"$f":"$AG$77","v":1}]
[null,null,null,null,null,null,null,null,null,null,null,null,null,{"$f":"ListAVS!$B$75&\" KH [mm]       \"","v":"Výška korpusu KH [mm]       "},null,null,null,null,null,{"$f":"H22","v":0},null,null,null,null,{"$f":"Y86/1000000000/2","v":0},{"$f":"Z78","v":1},null,null,null,"váha alu",{"$f":"SUM(T86*2,(T87/2-40)*2)*AD86/1000","v":-2.4799999999999999E-2},"A plocha B"]
[null,null,null,null,null,null,null,null,null,null,null,null,null,{"$f":"ListAVS!$B$80&\" TS [mm] \"","v":"Síla čela TS [mm] "},null,null,null,null,null,{"$f":"H24","v":0},{"$f":"IF(SUM(T86,T87)=0,\" \",IF(T88=0,\" ● \"&ListAVS!$B$128,\" \"))","v":" "},null,null,null,{"$f":"$Y$79","v":760},{"$f":"$Z$79","v":"MDF (760 kg/m3)"},null,null,null,{"$f":"AD79","v":10},{"$f":"IF($AG$77=1,AF88*AD88,AG88*AD88)","v":8.9999999999999993E-3},{"$f":"SUM(($T$86-30)*($T$87/2-30)/1000000)","v":8.9999999999999998E-4},{"$f":"SUM(($T$86-6)*($T$87/2-6)/1000000)","v":3.6000000000000001E-5},"4mm"]
[null,null,null,null,null,null,null,null,null,null,null,null,null,{"$f":"ListAVS!$B$83&\" [kg] \"","v":"Hmotnost úchytky [kg] "},null,null,null,null,null,{"$f":"H25","v":0},{"$f":"IF(SUM(T86,T87)=0,\" \",IF(T89=0,\" ● \"&ListAVS!$B$129,\" \"))","v":" "},null,null,null,{"$f":"$Y$80","v":680},{"$f":"$Z$80","v":"Dřevotříska (680 kg/m3)"},null,null,null,{"$f":"AD80","v":12.5},{"$f":"IF($AG$77=1,AF89*AD89,AG89*AD89)","v":1.125E-2},{"$f":"SUM(($T$86-30)*($T$87/2-30)/1000000)","v":8.9999999999999998E-4},{"$f":"SUM(($T$86-6)*($T$87/2-6)/1000000)","v":3.6000000000000001E-5},"5mm"]
[null,null,null,null,null,null,null,null,null,null,null,null,null,{"$f":"ListAVS!$B$79&\" [kg] \"","v":"Vypočtená hmotnost čela [kg] "},null,null,null,null,null,{"$f":"IF(X90*AD91<>0,SUM(X90,AD91,T89),0)","v":0},null,null,null,{"$f":"IF(T86*T87*T88=0,0,IF(Z87=1,Y87*Y88,IF(Z87=2,Y87*Y89,Y87*Y90)))","v":0},{"$f":"$Y$81","v":0},{"$f":"$Z$81","v":"Jiné - volitelná hustota"},null,null,null,{"$f":"AD81","v":0},{"$f":"IF($AG$77=1,AF90*AD90,AG90*AD90)","v":0},{"$f":"SUM(($T$86-30)*($T$87/2-30)/1000000)","v":8.9999999999999998E-4},{"$f":"SUM(($T$86-6)*($T$87/2-6)/1000000)","v":3.6000000000000001E-5},"jiné"]
[null,null,null,null,null,null,null,null,null,null,null,null,null,null,{"$f":"IF(T90>0,IF(T89=0,$Z$94,\" \"),\" \")","v":" "},null,null,null,null,null,null,null,null,null,null,null,null,null,null,{"$f":"IF(OR(AND(AF86=3, $T$71=0), T86*T87=0), 0, SUM(IF(AF86=1,AE88,IF(AF86=2,AE89,AE90)),AE87,AE86))","v":0}]
[]
[]
[null,null,null,null,null,null,null,null,null,null,null,null,null,null,null,null,null,null,null,null,null,null,{"$f":"ListAVS!$B$424&\"  \"","v":"s vloženým sklem  "},{"$f":"MenuAVS!$I$91","v":0.31},null,{"$f":"ListAVS!$B$102&\"!\"","v":"Není započtena hmotnost úchytky!"},null,null,null,null,null,{"$f":"ListAVS!$B$93","v":"Alurámečky s 4mm sklem"}]
[null,null,null,null,null,null,null,null,null,null,null,null,null,null,null,null,null,null,null,null,null,null,{"$f":"ListAVS!$B$425&\"  \"","v":"s naloženým nebo nalepeným sklem  "},{"$f":"MenuAVS!$I$92","v":0.32},null,null,null,null,null,null,null,{"$f":"ListAVS!$B$94","v":"Alurámečky s 5mm sklem"}]
[null,null,null,null,null,null,null,null,null,null,null,null,null,null,null,null,null,null,null,null,null,null,{"$f":"ListAVS!$B$405&\" [kg/set] *  \"","v":"Hmotnost spojovacího materiálu [kg/set] *  "},{"$f":"MenuAVS!$I$93","v":0.46},null,null,null,null,null,null,null,{"$f":"ListAVS!$B$95","v":"Alurámečky s jiným sklem"}]
[]
[]
[]
[null,{"$f":"ListAVS!$B$194","v":"Výpočet asymetrických čel"}]
[]
[null,{"$f":"\"   \"&ListAVS!$B$197","v":"   Parametry korpusu"}]
[null,{"$f":"ListAVS!$B$75&\" KH [mm] \"","v":"Výška korpusu KH [mm] "},null,null,null,null,null,null,null,null,{"$f":"IF(I103<480, \" min. 480\", IF(I103>1200, \" max. 1200\", \" \"))","v":" min. 480"},null,null," <=519"," >=520"]
[null,{"$f":"ListAVS!$B$200&\" F1 [mm] \"","v":"Mezera nahoře F1 [mm] "}]
[null,{"$f":"ListAVS!$B$201&\" F2 [mm] \"","v":"Mezera mezi čely F2 [mm] "},null,null,null,null,null,null,null,null,{"$f":"IF($I$103=0,\" \",IF($I$105<1.5,\" min. 1,5 mm!\",\" \"))","v":" "}]
[null,{"$f":"ListAVS!$B$202&\" F3 [mm] \"","v":"Mezera dole F3 [mm] "},null,null,null,null,null,null,null,null,null,null,"Z",170,189]
[null,{"$f":"ListAVS!$B$203&\" [mm] \"","v":"Síla dna korpusu [mm] "},null,null,null,null,null,null,null,null,null,null,"H",93,116]
[]
[null,{"$f":"\"   \"&ListAVS!$B$205","v":"   Výsledky plánování"},null,null,null,null,null,null,null,null,null,null,null,"FHo","FHo"]
[null,null,null,null,null,null,{"$f":"ListAVS!$B$206&\" [mm] \"","v":"Možné výšky čel [mm] "},null,null,null,null,null,null,"min ↓↓","min ↓↓"]
[null,{"$f":"ListAVS!$B$207","v":"Čelo nahoře (FHo) v rozmezí"},null,null,null,null,"min.",{"$f":"IF(AND($I$103>=480, $I$103<=519), $N$111, IF(AND($I$103>=520, $I$103<=1200), $O$111, $S$115))","v":"nelze"},"max.",{"$f":"IF(AND($I$103>=480, $I$103<=519), $N$115, IF(AND($I$103>=520, $I$103<=1200), $O$115, $S$115))","v":"nelze"},null,null,null,{"$f":"SUM(I103, -I104, -I105, -I106, -N120)","v":0},{"$f":"SUM(I103, -I104, -I105, -I106, -O120)","v":0}]
[null,{"$f":"ListAVS!$B$208","v":"Čelo dole (FHu) v rozmezí"},null,null,null,null,"min.",{"$f":"IF(AND($I$103>=480, $I$103<=519), $N$118, IF(AND($I$103>=520, $I$103<=1200), $O$118, $S$115))","v":"nelze"},"max.",{"$f":"IF(AND($I$103>=480, $I$103<=519), $N$120, IF(AND($I$103>=520, $I$103<=1200), $O$120, $S$115))","v":"nelze"},null,null,null,"max ↓↓","max ↓↓"]
[null,null,null,null,null,null,null,null,null,null,null,null,null,{"$f":"ROUNDUP(SUM(519, -$I$104, -$I$105, -$I$106)/2, 0)","v":260},{"$f":"ROUNDUP(SUM(1200, -$I$104, -$I$105, -$I$106)/2, 0)","v":600},"absolutně"]
[null,{"$f":"ListAVS!$B$214&\" FHo [mm] \"","v":"Výška čela nahoře FHo [mm] "},null,null,null,null,null,null,null,null,{"$f":"IF($I$103=0,\" \",IF($I$114>$J$111,V114,IF($I$114<$H$111,$S$114,\" \")))","v":" "},null,null,{"$f":"SUM(I103, -I104, -I105, -I106, -N118)","v":-219},{"$f":"SUM(I103, -I104, -I105, -I106, -O118)","v":-238},"vypočtená",null,null,{"$f":"\" min. \"&TEXT($H$111,\"#\")&\" mm!\"","v":" min. nelze mm!"},null,null,{"$f":"\" max. \"&TEXT($J$111,\"#\")&\" mm!\"","v":" max. nelze mm!"}]
[null,{"$f":"ListAVS!$B$215&\" FHu [mm] \"","v":"Výška čela dole FHu [mm] "},null,null,null,null,null,null,{"$f":"IF($I$114<$H$111,$S$115,IF($I$114>$J$111,$S$115,+$I$103-$I$104-$I$105-$I$106-$I$114))","v":"nelze"},null,null,null,null,{"$f":"IF($N$114>$N$113, $N$113, $N$114)","v":-219},{"$f":"IF($O$114>$O$113, $O$113, $O$114)","v":-238},"výsledná",null,null,{"$f":"ListAVS!B211","v":"nelze"}]
[null,{"$f":"ListAVS!$B$216&\" H [mm] \"","v":"Pozice zdvihače H [mm] "},null,null,null,null,null,null,{"$f":"IF(AND($I$103>=480, $I$103<520), $N$107, IF(AND($I$103>=520, $I$103<=1200), $O$107, $S$115))","v":"nelze"},null,null,null,null,"FHu","FHu"]
[null,{"$f":"ListAVS!$B$217&\" Z [mm] \"","v":"Pozice mont. podložky pro teleskopy Z [mm] "},null,null,null,null,null,null,{"$f":"IF(AND($I$103>=480, $I$103<520), $N$106, IF(AND($I$103>=520, $I$103<=1200), $O$106, $S$115))","v":"nelze"},null,null,null,null,"min ↓↓","min ↓↓"]
[null,{"$f":"ListAVS!$B$218&\" TKH [mm] * \"","v":"Teoretická výška korpusu TKH [mm] * "},null,null,null,null,null,null,{"$f":"IF($I$115=$S$115, $S$115, IF($Q$118>=480, IF($Q$118<=1202, $Q$118, $S$115),\" \"))","v":"nelze"},null,null,null,null,{"$f":"SUM(N106, 32, 17, $I$107, -$I$106)","v":219},{"$f":"SUM(O106, 32, 17, $I$107, -$I$106)","v":238},"TKH",{"$f":"ROUND(SUM($I$114*2+$I$104+$I$105+$I$106), -1)","v":0}]
[null,null,null,null,null,null,null,null,null,null,null,null,null,"max ↓↓","max ↓↓"]
[null," *",{"$f":"ListAVS!$B$220","v":"Tuto výšku zadejte do tabulky pro plánování výklopů"},null,null,null,null,null,null,null,null,null,null,{"$f":"ROUNDDOWN(SUM(I103, -I104, -I105, -I106)/2, 0)","v":0},{"$f":"ROUNDDOWN(SUM(I103, -I104, -I105, -I106)/2, 0)","v":0}]
[]
[]
[]
[]
[null,null,null,null,null,null,null,null,{"$f":"ListAVS!$B$167","v":"Zpět"}]
[]
[]
[]
[]
[]
[]
[]
[]
[]
[]
[]
[]
[]
[null,"      AVENTOS HF"]
[]
[null,{"$f":"ListAVS!$B$302","v":"Potřebný zdvihač se určí pomocí ukazatele výkonnosti."}]
[null,{"$f":"ListAVS!$B$303","v":"Ukazatel výkonnosti závisí na hmotnosti dolního i horního čílka, a rovněž na výšce korpusu."}]
[]
[]
[null,null,null,{"$f":"ListAVS!$B$86&\" = \"","v":"Ukazatel výkonnosti = "},{"$f":"ListAVS!$B$319&\" [kg]\"","v":"výška korpusu KH [mm] x hmotnost obou čel včetně úchytky [kg]"}]
[]
[null,{"$f":"ListAVS!$B$307","v":"Je-li ukazatel výkonnosti větší než 19300, přidá se třetí zdvihač."}]
[null,{"$f":"ListAVS!$B$309","v":"Pokud je zvolen SERVO-DRIVE, přidá se rovněž druhá pohonná jednotka."}]
[null,{"$f":"ListAVS!$B$181","v":"Přídavný třetí zdvihač může být použit pouze s plným spodním čelem!"}]
[]
[null,{"$f":"ListAVS!$B$311","v":"Pokud znáte hmotnost čela, můžete ji zadat, jinak použijte \"Výpočet hmotnosti\"."}]
[null,{"$f":"ListAVS!$B$312","v":"V tabulce má přednost zadaná hodnota. Chcete-li použít vypočtenou hmotnost, smažte zadanou hodnotu."}]
[]
[null,{"$f":"ListAVS!$B$322&\". \"&ListAVS!$B$323&\".\"","v":"Délka teleskopů závisí na výšce korpusu KH. U asymetrických čel se použije teoretická výška TKH."}]
[]
[null,{"$f":"\" \"&ListAVS!$B$162&\":\"","v":" Asymetrická čela:"}]
[null,{"$f":"\" \"&ListAVS!$B$320","v":" Teoretická výška korpusu (TKH) = výška horního čela (FHo) x 2 (včetně mezer)"}]
[]
[null,{"$f":"ListAVS!$B$315","v":"U asymetrických čel musí být větší čelo nahoře!"}]
[]
[null,{"$f":"ListAVS!$B$325","v":"Pokud zadáte hodnotu TKH, použije se pro určení délky teleskopů"}]
[null,{"$f":"ListAVS!$B$326","v":"Nemáte-li asymetrická čela, nechte políčko prázdné."}]
[null,{"$f":"ListAVS!$B$327&\" ' \"&ListAVS!$B$194&\"' \"","v":"Pro výpočet TKH použijte ' Výpočet asymetrických čel' "}]
[]
[]
[null,{"$f":"ListAVS!$B$305","v":"Chcete-li změnit barvu krytek, přejděte na \"Úvod plánování\""}]
[]
[null,{"$f":"ListAVS!$B$411","v":"Věnujte pozornost výběru alurámečků."}]
[null,{"$f":"ListAVS!$B$412","v":"Vyberte, který typ lépe odpovídá tvaru použitého alurámečku."}]
[null,{"$f":"ListAVS!$B$413","v":"Způsob osazení skla do rámečku výrazně ovlivňuje plochu skla a tím i hmotnost!"}]
[]
[null,null,{"$f":"\"  \"&ListAVS!$B$424&\"  \"","v":"  s vloženým sklem  "}]
[]
[null,null,{"$f":"\"  \"&ListAVS!$B$425&\"  \"","v":"  s naloženým nebo nalepeným sklem  "}]
[]
[null,null,null,null,null,null,null,null,null,null,null,{"$f":"ListAVS!$B$167","v":"Zpět"}]

{"sheet":"HSw","index":16,"n_rows":124,"n_cols":46,"rows_kept":124,"cut":false,"hidden":false,"merged":[[1,1,1,2],[1,13,1,14],[1,16,1,17],[9,1,9,6],[4,5,4,9],[3,10,4,11],[6,1,6,2],[6,6,6,7],[8,1,8,2],[96,13,96,18],[8,5,8,7],[26,1,26,6],[26,14,26,15],[27,1,27,6],[30,1,32,9],[30,15,30,16],[21,1,21,6],[15,1,15,6],[15,14,15,15],[16,1,16,6],[20,1,20,6],[19,1,19,2],[10,1,10,6],[11,1,11,6],[87,13,87,18],[23,1,25,2],[8,44,9,44],[8,45,9,45],[95,17,95,19],[25,3,25,6],[19,5,19,7],[22,1,22,6],[85,13,85,18],[86,13,86,18],[99,13,99,18],[100,13,100,18],[109,0,150,0],[105,18,105,19],[12,1,14,2],[12,3,12,6],[13,3,13,6],[97,13,97,18],[98,13,98,18],[88,13,88,18],[89,13,89,18],[80,15,80,19],[84,17,84,19],[14,3,14,6],[23,3,23,6],[24,3,24,6]]}
[]
[null," AVENTOS HS top",null,null,null,null,null,null,null,null,null,null,null,"zdvih A",null,"↓rozhodnutí","zdvih B",null,"↓rozhodnutí",null,null,null,null,null,null,null,null,null,null,null,null,null,null,null,null,null,3,null,null,{"$f":"ListAVS!$B$152","v":"Jdi na"}]
[]
[null,{"$f":"ListAVS!$B$17","v":"Dřevěné čelo"},null,null,null,{"$f":"ListAVS!$B$179&\"  \"","v":"Provedení čel  "},null,null,null,null,{"$f":"IF($Z$87=3,IF(J4=0,$Y$82,\" \"),IF(J4>0,$Y$83,\" \"))","v":" "},null,null,"S22",{"$f":"IF(AND($H$11>=$AC$51, $H$11<$AD$51, $P$17>=$AE$51, $P$17<=$AF$51), 1, 0)","v":0},{"$f":"O4","v":0},"S22",{"$f":"IF(AND($H$22>=$AC$51, $H$22<$AD$51, $P$28>=$AE$51, $P$28<=$AF$51), 1, 0)","v":0},{"$f":"R4","v":0},"← (350–450)",null,null,null,null,null,null,null,null,null,null,null,null,null,null,null,null,{"$f":"\" \"&ListAVS!$B$41&\" A \"","v":" Cena za korpus A "},null,null," Úvod plánování"]
[null,null,null,null,null,{"$f":"IF($Z$87<>3,$Y$81,\" \")&\"      \"","v":" Změnit hodnoty můžete v Úvodu plánování      "},null,null,null,null,null,null,null,"S22 v",{"$f":"IF(AND($H$11>=$AC$52, $H$11<$AD$52, $P$17>=$AE$52, $P$17<=$AF$52), 1, 0)","v":0},{"$f":"IF(AND($O$5=1, $O$6=1, $P$17<=5), O5, 0)+IF(AND($O$5=1, $O$6=0), 1, IF(AND(O5=1, O6=0), O5, 0))","v":0},"S22 v",{"$f":"IF(AND($H$22>=$AC$52, $H$22<$AD$52, $P$28>=$AE$52, $P$28<=$AF$52), 1, 0)","v":0},{"$f":"IF(AND($R$5=1, $R$6=1, $P$28<=5), R5, 0)+IF(AND($R$5=1, $R$6=0), 1, IF(AND(R5=1, R6=0), R5, 0))","v":0},"← (450–540)",null,null,null,null,null,null,null,null,null,null,null,null,null,null,null,null,{"$f":"\" \"&ListAVS!$B$41&\" B \"","v":" Cena za korpus B "},null,null,{"$f":"\" \"&ListAVS!$B$154","v":" Nápověda"}]
[null,null,null,null,null,null,null,null,null,null,null,null,null,"S25",{"$f":"IF(AND($H$11>=$AC$53, $H$11<$AD$53, $P$17>=$AE$53, $P$17<=$AF$53), 1, 0)","v":0},{"$f":"IF(AND($O$5=1, $O$6=1, $P$17>5), O6, 0)+IF(AND($O$6=1, $O$7=1, $P$17<7), O6, IF(AND(O5=0, O6=1, O7=0), O6, 0))","v":0},"S25",{"$f":"IF(AND($H$22>=$AC$53, $H$22<$AD$53, $P$28>=$AE$53, $P$28<=$AF$53), 1, 0)","v":0},{"$f":"IF(AND($R$5=1, $R$6=1, $P$28>5), R6, 0)+IF(AND($R$6=1, $R$7=1, $P$28<7), R6, IF(AND(R5=0, R6=1, R7=0), R6, 0))","v":0},null,null,null,null,null,null,null,null,null,null,null,null,null,null,null,null,null,{"$f":"\" \"&ListAVS!$B$61","v":" Cena celkem bez DPH"}]
[null,{"$f":"ListAVS!$B$51&\":   \"","v":"Cena kování:   "},null,null,null,null,{"$f":"IF($AK$2=1,$AF$45,IF($AK$2=2,$AH$45,IF($AK$2=3,$AD$45,0)))","v":0},null,null,null,null,null,null,"S28",{"$f":"IF(AND($H$11>=$AC$54, $H$11<=$AD$54, $P$17>=$AE$54, $P$17<=$AF$54), 1, 0)","v":0},{"$f":"IF(AND($O$6=1, $O$7=1, $P$17>=7), O7, IF(AND(O6=0, O7=1), O7, 0))","v":0},"S28",{"$f":"IF(AND($H$22>=$AC$54, $H$22<=$AD$54, $P$28>=$AE$54, $P$28<=$AF$54), 1, 0)","v":0},{"$f":"IF(AND($R$6=1, $R$7=1, $P$28>=7), R7, IF(AND(R6=0, R7=1), R7, 0))","v":0},null,null,null,null,null,{"$f":"$B$2","v":" AVENTOS HS top"},{"$f":"B5","v":0},null,null,null,null,null,null,null,null,null,null,null,null,null,{"$f":"\" \"&ListAVS!$B$159","v":" Doplňky"}]
[null,null,null,null,null,null,null,{"$f":"IF(AND(OR($Q$16=2, $Q$27=2), $AD$45>0), $N$35, \" \")","v":" "},null,null,null,null,null,null,null,null,null,null,null,null,null,null,null,null,{"$f":"ListAVS!B52","v":"Název"},{"$f":"ListAVS!$B$53","v":"Číslo artiklu"},{"$f":"ListAVS!B54","v":"Barva"},{"$f":"ListAVS!B56","v":"Ks"},{"$f":"ListAVS!B58","v":"Jednotková cena"},{"$f":"ListAVS!B59","v":"Celkem"},"A","Cena","B","Cena",null,null,null,null,null,null,null,null,{"$f":"ListAVS!B75&\" KH (mm)\"","v":"Výška korpusu KH (mm)"},{"$f":"ListAVS!B76&\" FG (kg)\"","v":"Hmotnost čela FG (kg)"},{"$f":"ListAVS!$B$84&\" \"&ListAVS!$B$349","v":"Zdvihací mechanizmus vruty"},{"$f":"ListAVS!$B$84&\" \"&ListAVS!$B$350","v":"Zdvihací mechanizmus předmont. eurošrouby"}]
[null,{"$f":"\"▼ \"&ListAVS!$B$317","v":"▼ Způsob otvírání"},null,{"$f":"IF($M$17>0, ListAVS!$B$37&\": \", \" \")","v":" "},{"$f":"IF(SUM($AE$9:$AE$10)>0,\"22\",IF(SUM($AE$11:$AE$12)>0,\"25\",IF(SUM($AE$13:$AE$14)>0,\"28\",\" \")))","v":" "},{"$f":"ListAVS!$B$64&\" A\"","v":"Korpus A"},null,null,null,null,null,null,null,null,null,null,null,null,null,null,null,null,null,null,{"$f":"CenAVS!A28","v":"Sada zdvihačů HS top, na vruty"},{"$f":"CenAVS!B28","v":"22S2200"},{"$f":"CenAVS!C28","v":"ZN"},{"$f":"SUM(AE9,AG9)","v":0},{"$f":"CenAVS!F28","v":1754.34},{"$f":"AB9*AC9","v":0},{"$f":"IF(AND($W$46=1, SUM($P$4:$P$5)=1), $M$17, 0)","v":0},{"$f":"$AC9*AE9","v":0},{"$f":"IF(AND($W$46=1, SUM($S$4:$S$5)=1), $M$28, 0)","v":0},{"$f":"$AC9*AG9","v":0},null,null,null,null,null,{"$f":"\" \"&ListAVS!$B$156","v":" Přehled korpusů"},null,null,"350 - 450","2.00 - 11.50","22S2200","22S2210"]
[null,{"$f":"ListAVS!$B$74&\" KB [mm] \"","v":"Šířka korpusu KB [mm] "},null,null,null,null,null,null,{"$f":"IF($H10=0,\" \",IF($H10<220,\" min. 220mm\",IF($H10>1800,\" max. 1 800mm\",\" \")))&IF(H17>0,IF(H10=0,\"● \"&ListAVS!$B$128,\" \"),\" \")","v":" ● Povinná hodnota"},null,null,null,null,null,null,null,null,null,null,null,null,null,null,null,{"$f":"CenAVS!A29","v":"Sada zdvihačů HS top, předmont. eurošrouby"},{"$f":"CenAVS!B29","v":"22S2210"},{"$f":"CenAVS!C29","v":"ZN"},0,{"$f":"CenAVS!F29","v":1754.34},{"$f":"AB10*AC10","v":0},{"$f":"IF(AND($W$46=2, SUM($P$4:$P$5)=1), $M$17, 0)","v":0},0,{"$f":"IF(AND($W$46=2, SUM($S$4:$S$5)=1), $M$28, 0)","v":0},0,null,null,null,null,null,{"$f":"\" \"&ListAVS!$B$157","v":" Objednávka"},null,null,"450 - 540","2.50 - 12.50"]
[null,{"$f":"ListAVS!$B$75&\" KH [mm]  \"","v":"Výška korpusu KH [mm]  "},null,null,null,null,null,null,{"$f":"IF($H11=0,\" \",IF($H11<350,\" min. 350mm\",IF($H11>800,\" max. 800 mm\",\" \")))&IF(H17>0,IF(H11=0,\"● \"&ListAVS!$B$128,\" \"),\" \")","v":" ● Povinná hodnota"},null,null,null,null,null,null,null,null,null,null,null,null,null,null,null,{"$f":"CenAVS!A30","v":"Sada zdvihačů HS top, na vruty"},{"$f":"CenAVS!B30","v":"22S2500"},{"$f":"CenAVS!C30","v":"ZN"},0,{"$f":"CenAVS!F30","v":1856.76},0,{"$f":"IF(AND($W$46=1, $P$6=1), $M$17, 0)","v":0},0,{"$f":"IF(AND($W$46=1, $S$6=1), $M$28, 0)","v":0},0,null,null,null,null,null,null,null,null,"480 - 660","2.75 - 15.25","22S2500","22S2510"]
[null,{"$f":"ListAVS!$B$77&\" [kg] ** \"","v":"Hmotnost čela včetně úchytky [kg] ** "},null,null,null,null,null,null,{"$f":"IF($H17=0,  \" \", IF(SUM($H12,$H15)=0,$N$54,\" \"))&IF(AND(SUM($O$4:$O$7)=0, T12=\"ano\", $T13=\"ne\", H12>0),$N$58,IF(AND($H17>0,$H12>0, $M17>0, $T13=\"ano\"),$N$55,\" \"))","v":" Zadejte hmotnost nebo vyplňte všechny buňky "},null,null,null,null,null,null,null,null,null,"limit v/š",{"$f":"IF(AND(219<H10,H10<1801,349<H11,H11<801),\"ano\",\"ne\")","v":"ne"},null,null,null,null,{"$f":"CenAVS!A31","v":"Sada zdvihačů HS top, předmont. eurošrouby"},{"$f":"CenAVS!B31","v":"22S2510"},{"$f":"CenAVS!C31","v":"ZN"},0,{"$f":"CenAVS!F31","v":1856.76},0,{"$f":"IF(AND($W$46=2, $P$6=1), $M$17, 0)","v":0},0,{"$f":"IF(AND($W$46=2, $S$6=1), $M$28, 0)","v":0},0,null,null,null,null,null,null,null,null,"650 - 800","3.50 - 18.50","22S2800","22S2810"]
[null,{"$f":"ListAVS!$B$292","v":"Výpočet hmotnosti"},null,{"$f":"ListAVS!$B$80&\" TS [mm] \"","v":"Síla čela TS [mm] "},null,null,null,null,{"$f":"IF(H17=0,\" \",IF(AND(H12=0, H13=0),\" ● \"&ListAVS!$B$128,\" \"))&IF(H17=0,\" \",IF(AND(H12=0, H13<14), \" min. 14 mm\", \" \"))","v":" ● Povinná hodnota min. 14 mm"},null,null,null,null,null,null,null,null,null,"limit hmot",{"$f":"IF(AND($H$11>=$AC$51, $H$11<=$AD$51, $P$17>=$AE$51, $P$17<=$AF$51), \"ano\", IF(AND($H$11>=$AC$52, $H$11<=$AD$52, $P$17>=$AE$52, $P$17<=$AF$52), \"ano\", IF(AND($H$11>=$AC$53, $H$11<=$AD$53, $P$17>=$AE$53, $P$17<=$AF$53), \"ano\", IF(AND($H$11>=$AC$54, $H$11<=$AD$54, $P$17>=$AE$54, $P$17<=$AF$54), \"ano\", \"ne\"))))","v":"ne"},null,null,null,null,{"$f":"CenAVS!A32","v":"Sada zdvihačů HS top, na vruty"},{"$f":"CenAVS!B32","v":"22S2800"},{"$f":"CenAVS!C32","v":"ZN"},0,{"$f":"CenAVS!F32","v":1972},0,{"$f":"IF(AND($W$46=1, $P$7=1), $M$17, 0)","v":0},0,{"$f":"IF(AND($W$46=1, $S$7=1), $M$28, 0)","v":0},0]
[null,null,null,{"$f":"ListAVS!$B$83&\" [kg] \"","v":"Hmotnost úchytky [kg] "},null,null,null,null,{"$f":"IF(H17=0, \" \", IF(AND(H12=0, Q16=1, H14=0), \" ● \"&ListAVS!$B$129,\" \"))","v":" ● Doporučená hodnota"},null,null,null,null,null,null,null,null,null,null,null,null,null,null,null,{"$f":"CenAVS!A33","v":"Sada zdvihačů HS top, předmont. eurošrouby"},{"$f":"CenAVS!B33","v":"22S2810"},{"$f":"CenAVS!C33","v":"ZN"},0,{"$f":"CenAVS!F33","v":1972},0,{"$f":"IF(AND($W$46=2, $P$7=1), $M$17, 0)","v":0},0,{"$f":"IF(AND($W$46=2, $S$7=1), $M$28, 0)","v":0},0,null,null,null,null,null,null,null,null,{"$f":"ListAVS!B349&\" = \"&ListAVS!B351","v":"vruty = zdvihače s integrovanou šablonou (bez nutnosti rozměřování)"}]
[null,null,null,{"$f":"ListAVS!$B$79&\" [kg] \"","v":"Vypočtená hmotnost čela [kg] "},null,null,null,{"$f":"$T$90","v":0},{"$f":"IF(AND($H17>0,$H15>0,$H12=0,$M17>0), $N$41,\" \")&IF(AND(H17>0, H12=0, Z87=3, $J$4=0), $N$39, \" \")","v":"  "},null,null,null,null,null,null,"Servo-Drive",null,null,null,null,null,null,null,null,null,null,null,null,null,null,null,null,null,null,null,null,null,null,null,null,null,null,{"$f":"ListAVS!B350&\" = \"&ListAVS!B352","v":"předmont. eurošrouby = zdvihače s předmotovanými šrouby (nutné předvrtání)"}]
[null,{"$f":"ListAVS!$B$29&\" * \"","v":"Počet mezistěn * "},null,null,null,null,null,null,{"$f":"IF(AND(H16>0, Q16=2), $N$53, \" \")","v":" "},null,null,null,null,null,false,null,1,null,null,null,null,null,null,null,{"$f":"CenAVS!A34","v":"Sada ramen HS top"},{"$f":"CenAVS!B34","v":"22S3500"},{"$f":"CenAVS!C34","v":"ZN"},{"$f":"SUM(AE16,AG16)","v":0},{"$f":"CenAVS!F34","v":1169.26},{"$f":"AB16*AC16","v":0},{"$f":"SUM($AE$9:$AE$14)","v":0},{"$f":"$AC16*AE16","v":0},{"$f":"SUM($AG$9:$AG$14)","v":0},{"$f":"$AC16*AG16","v":0}]
[null,{"$f":"ListAVS!$B$71&\" \"","v":"Počet skříněk "},null,null,null,null,null,1,null,null,null,null,{"$f":"IF($H10*$H11*$P17=0,0,IF(SUM(O4:O7)=0,0,IF($H10>1800,0, IF($H10<220, 0, IF(AND(H12=0, H13<14), 0, $H17)))))","v":0},null,"hmot =",{"$f":"IF(H12>0,H12,H15)","v":0},{"$f":"IF(SUM(H12,H15)=0,0,IF(H12>0,1,2))","v":0},"zadaná / vypočtená"]
[null,{"$f":"IF(H17>0,IF(OR(Q17=0,M17=0), \" \",IF(Q17=1,$N$67,$N$68)),\" \")&IF(H17>0,IF(OR(Q17=0, M17=0), \" \",IF(Q17=1,$N$69,$N$70)),\" \")","v":"  "}]
[null,null,null,null,null,null,null,null,null,null,null,null,null,"tyč",{"$f":"IF($H$10>1360,1.5,IF($H$10<610,0.5,1))","v":0.5},null,"tyč",{"$f":"IF($H$21>1360,1.5,IF($H$21<610,0.5,1))","v":0.5}]
[null,{"$f":"\"▼ \"&ListAVS!$B$317","v":"▼ Způsob otvírání"},null,{"$f":"IF($M$28>0, ListAVS!$B$37&\": \", \" \")","v":" "},{"$f":"IF(SUM($AG$9:$AG$10)>0,\"22\",IF(SUM($AG$11:$AG$12)>0,\"25\",IF(SUM($AG$13:$AG$14)>0,\"28\",\" \")))","v":" "},{"$f":"ListAVS!$B$64&\" B\"","v":"Korpus B"},null,null,null,null,null,null,null,"mezistěny",{"$f":"IF($H$16>0,$H$16,IF($H$10>1219,1,0))","v":0},null,"mezistěny",{"$f":"IF($H$27>0,$H$27,IF($H$21>1219,1,0))","v":0},null,null,null,null,null,null,{"$f":"CenAVS!A47","v":"Sada krytek HF, HS, HL top, světle šedá"},{"$f":"CenAVS!B47","v":"22.8000"},{"$f":"CenAVS!C47","v":"HGR"},0,{"$f":"CenAVS!F47","v":252.85},0,{"$f":"IF(AND($Q$16=1,$T$46=1),SUM($AE$9:$AE$14),0)","v":0},0,{"$f":"IF(AND($Q$27=1,$T$46=1),SUM($AG$9:$AG$14),0)","v":0},0]
[null,{"$f":"ListAVS!$B$74&\" KB [mm] \"","v":"Šířka korpusu KB [mm] "},null,null,null,null,null,null,{"$f":"IF($H21=0,\" \",IF($H21<220,\" min. 220mm\",IF($H21>1800,\" max. 1 800mm\",\" \")))&IF(H28>0,IF(H21=0,\"● \"&ListAVS!$B$128,\" \"),\" \")","v":"  "},null,null,null,null,null,null,null,null,null,null,null,null,null,null,null,{"$f":"CenAVS!A48","v":"Sada krytek HF, HS, HL top, tmavě šedá"},{"$f":"CenAVS!B48","v":"22.8000"},{"$f":"CenAVS!C48","v":"TGR"},0,{"$f":"CenAVS!F48","v":275.94},0,{"$f":"IF(AND($Q$16=1,$T$46=2),SUM($AE$9:$AE$14),0)","v":0},0,{"$f":"IF(AND($Q$27=1,$T$46=2),SUM($AG$9:$AG$14),0)","v":0},0]
[null,{"$f":"ListAVS!$B$75&\" KH [mm] \"","v":"Výška korpusu KH [mm] "},null,null,null,null,null,null,{"$f":"IF($H22=0,\" \",IF($H22<350,\" min. 350mm\",IF($H22>800,\" max. 800 mm\",\" \")))&IF(H28>0,IF(H22=0,\"● \"&ListAVS!$B$128,\" \"),\" \")","v":"  "},null,null,null,null,null,null,null,null,null,null,null,null,null,null,null,{"$f":"CenAVS!A49","v":"Sada krytek HF, HS, HL top, hedvábně bílá"},{"$f":"CenAVS!B49","v":"22.8000"},{"$f":"CenAVS!C49","v":"SW"},0,{"$f":"CenAVS!F49","v":275.94},0,{"$f":"IF(AND($Q$16=1,$T$46=3),SUM($AE$9:$AE$14),0)","v":0},0,{"$f":"IF(AND($Q$27=1,$T$46=3),SUM($AG$9:$AG$14),0)","v":0},0]
[null,{"$f":"ListAVS!$B$77&\" [kg] ** \"","v":"Hmotnost čela včetně úchytky [kg] ** "},null,null,null,null,null,null,{"$f":"IF($H28=0,\" \",IF(SUM($H23,$H26)=0,$N$54,\" \"))&IF(AND(SUM($R$4:$R$7)=0, T23=\"ano\", $T24=\"ne\",H23>0),$N$58,IF(AND($H28>0,$H23>0, $M28>0, $T24=\"ano\"),$N$55,\" \"))","v":"  "},null,null,null,null,null,null,null,null,null,"limit v/š",{"$f":"IF(AND(219<H21,H21<1801,349<H22,H22<801),\"ano\",\"ne\")","v":"ne"},null,null,null,null,{"$f":"CenAVS!A50","v":"Sada krytek pro SERVO-DRIVE, světle šedá"},{"$f":"CenAVS!B50","v":"23.8000"},{"$f":"CenAVS!C50","v":"HGR"},0,{"$f":"CenAVS!F50","v":2606.7600000000002},0,{"$f":"IF(AND($Q$16=2,$T$46=1),SUM($AE$9:$AE$14),0)","v":0},0,{"$f":"IF(AND($Q$27=2,$T$46=1),SUM($AG$9:$AG$14),0)","v":0},0]
[null,{"$f":"ListAVS!$B$292","v":"Výpočet hmotnosti"},null,{"$f":"ListAVS!$B$80&\" TS [mm] \"","v":"Síla čela TS [mm] "},null,null,null,null,{"$f":"IF(H28=0,\" \",IF(AND(H23=0, H24=0),\" ● \"&ListAVS!$B$128,\" \"))&IF(H28=0,\" \",IF(AND(H23=0, H24<14), \" min. 14 mm\", \" \"))","v":"  "},null,null,null,null,null,null,null,null,null,"limit hmot",{"$f":"IF(AND($H$22>=$AC$51, $H$22<=$AD$51, $P$28>=$AE$51, $P$28<=$AF$51), \"ano\", IF(AND($H$22>=$AC$52, $H$22<=$AD$52, $P$28>=$AE$52, $P$28<=$AF$52), \"ano\", IF(AND($H$22>=$AC$53, $H$22<=$AD$53, $P$28>=$AE$53, $P$28<=$AF$53), \"ano\", IF(AND($H$22>=$AC$54, $H$22<=$AD$54, $P$28>=$AE$54, $P$28<=$AF$54), \"ano\", \"ne\"))))","v":"ne"},null,null,null,null,{"$f":"CenAVS!A51","v":"Sada krytek pro SERVO-DRIVE, tmavě šedá"},{"$f":"CenAVS!B51","v":"23.8000"},{"$f":"CenAVS!C51","v":"TGR"},0,{"$f":"CenAVS!F51","v":2709.29},0,{"$f":"IF(AND($Q$16=2,$T$46=2),SUM($AE$9:$AE$14),0)","v":0},0,{"$f":"IF(AND($Q$27=2,$T$46=2),SUM($AG$9:$AG$14),0)","v":0},0]
[null,null,null,{"$f":"ListAVS!$B$83&\" [kg] \"","v":"Hmotnost úchytky [kg] "},null,null,null,null,{"$f":"IF(H28=0, \" \", IF(AND(H23=0, Q27=1, H25=0), \" ● \"&ListAVS!$B$129,\" \"))","v":" "},null,null,null,null,null,null,null,null,null,null,null,null,null,null,null,{"$f":"CenAVS!A52","v":"Sada krytek pro SERVO-DRIVE,hedvábně bílá"},{"$f":"CenAVS!B52","v":"23.8000"},{"$f":"CenAVS!C52","v":"SW"},0,{"$f":"CenAVS!F52","v":2709.29},0,{"$f":"IF(AND($Q$16=2,$T$46=3),SUM($AE$9:$AE$14),0)","v":0},0,{"$f":"IF(AND($Q$27=2,$T$46=3),SUM($AG$9:$AG$14),0)","v":0},0]
[null,null,null,{"$f":"ListAVS!$B$79&\" [kg] \"","v":"Vypočtená hmotnost čela [kg] "},null,null,null,{"$f":"$T$101","v":0},{"$f":"IF(AND($H28>0,$H26>0,$H23=0,$M28>0), $N$41,\" \")&IF(AND(H28>0, H23=0, Z98=3, $J$4=0), $N$39, \" \")","v":"  "},null,null,null,null,null,null,"Servo-Drive"]
[null,{"$f":"ListAVS!$B$29&\" * \"","v":"Počet mezistěn * "},null,null,null,null,null,null,{"$f":"IF(AND(H27>0, Q27=2), $N$53, \" \")","v":" "},null,null,null,null,null,false,null,1]
[null,{"$f":"ListAVS!$B$71&\" \"","v":"Počet skříněk "},null,null,null,null,null,null,null,null,null,null,{"$f":"IF($H21*$H22*$P28=0,0,IF(SUM(R4:R7)=0,0,IF($H21>1800,0, IF($H21<220, 0, IF(AND(H23=0, H24<14), 0, $H28)))))","v":0},null,"hmot =",{"$f":"IF(H23>0,H23,H26)","v":0},{"$f":"IF(SUM(H23,H26)=0,0,IF(H23>0,1,2))","v":0},"zadaná / vypočtená"]
[null,{"$f":"IF(H28>0,IF(OR(Q28=0,M28=0), \" \",IF(Q28=1,$N$67,$N$68)),\" \")&IF(H28>0,IF(OR(Q28=0, M28=0), \" \",IF(Q28=1,$N$69,$N$70)),\" \")","v":"  "},null,null,null,null,null,null,null,null,null,null,null,null,null,null,null,null,null,null,null,null,null,null,{"$f":"CenAVS!A78","v":"Sada čel.kování pro dřev. čela"},{"$f":"CenAVS!B78","v":"20S4200"},{"$f":"CenAVS!C78","v":"NI"},0,{"$f":"CenAVS!F78","v":90.38},0,{"$f":"IF($O$46=2,SUM(AE$16:AE$17),0)","v":0},{"$f":"$AC29*AE29","v":0},{"$f":"IF($O$46=2,SUM(AG$16:AG$17),0)","v":0},0]
[null,null,null,null,null,null,null,null,null,null,null,null,null,null,null,null,null,null,null,null,null,null,null,null,{"$f":"CenAVS!A79","v":"Čelní.kování pro dřev. čela EXPANDO"},{"$f":"CenAVS!B79","v":"20S42E1"},{"$f":"CenAVS!C79","v":"NI"},0,{"$f":"CenAVS!F79","v":51.36},0,{"$f":"IF($O$46=1,SUM(AE$16:AE$17)*2,0)","v":0},0,{"$f":"IF($O$46=1,SUM(AG$16:AG$17)*2,0)","v":0},0]
[null,{"$f":"IF(OR(AND($Q$16=2, $M$17>0), AND($Q$27=2, $M$28>0)), ListAVS!$B$175, \" \")","v":" "},null,null,null,null,null,null,null,null,null,null,null,null,{"$f":"IF($P$31=FALSE,2,1)","v":2},false,null," - Zdroj",null,null,null,null,null,null,{"$f":"CenAVS!A80","v":"Sada čel.kování pro tenké materiály"},{"$f":"CenAVS!B80","v":"20S42T1"},{"$f":"CenAVS!C80","v":"NI"},0,{"$f":"CenAVS!F80","v":291.60000000000002},0,null,0,null,0]
[null,null,null,null,null,null,null,null,null,null,null,null,null,null,null,null,null,null,null,null,null,null,null,null,{"$f":"CenAVS!A81","v":"Sada čel.kování pro úzké alurámečky"},{"$f":"CenAVS!B81","v":"20S4200A"},{"$f":"CenAVS!C81","v":"NI"},0,{"$f":"CenAVS!F81","v":395.5},0,null,0,null,0]
[null,null,null,null,null,null,null,null,null,null,null,null,null,null,null,null,null,null,null,null,null,null,null,null,{"$f":"CenAVS!A82","v":0},{"$f":"CenAVS!B82","v":0},{"$f":"CenAVS!C82","v":0},0,{"$f":"CenAVS!F82","v":0},0,null,0,null,0]
[null,null,null,null,null,null,null,null,null,null,null,null,null,null,null,null,null,null,null,null,null,null,null,null,null,null,null,null,null,null,null,0,null,0]
[null,null,null,null,null,null,null,null,null,null,null,null,null,{"$f":"ListAVS!B176","v":"Cena bez napájecího zdroje!"},null,null,null,null,null,null,null,null,null,null,null,null,null,null,null,null,null,0,null,0]
[null,null,null,null,null,null,null,null,null,null,null,null,null,null,null,null,null,null,null,null,null,null,null,null,null,null,null,null,null,null,null,0,null,0]
[null," *",{"$f":"ListAVS!$B$233","v":"Zadejte počet mezistěn v korpusu "},null,null,null,null,null,null,null,null,null,null,{"$f":"\" \"&ListAVS!$B$115","v":" Zadejte hmotnost nebo vyplňte všechny buňky"},null,null,null,null,null,null,null,null,null,null,null,null,null,null,null,null,null,0,null,0]
[null," **",{"$f":"ListAVS!$B$186","v":"Pokud znáte hmotnost a nechcete využít výpočtu hmotnosti"},null,null,null,null,null,null,null,null,null,null,null,null,null,null,null,null,null,null,null,null,null,null,null,null,null,null,null,null,0,null,0]
[null,null,null,null,null,null,null,null,null,null,null,null,null,{"$f":"\" \"&ListAVS!$B$117","v":" Vyplňte nahoře objemovou hmotnost "}]
[null,null,null,null,null,null,null,null,null,null,null,null,null,null,null,null,null,null,null,null,null,null,null,null,null,null,null,null,null,null,null,{"$f":"$AC40*AE40","v":0},null,{"$f":"$AC40*AG40","v":0}]
[null,null,null,null,null,null,null,null,null,null,null,null,null,{"$f":"\"◄ \"&ListAVS!$B$111","v":"◄ hodnota bude použita pro výpočet LF"},null,null,null,null,null,null,null,null,null,null,null,null,null,null,null,null,null,{"$f":"$AC41*AE43","v":0},null,{"$f":"$AC41*AG41","v":0}]
[null,null,null,null,null,null,null,null,null,null,null,null,null,{"$f":"\" * \"&ListAVS!$B$127","v":" * Doplňte hodnoty"},null,null,null,null,null,null,null,null,null,null,{"$f":"CenAVS!A169","v":0},{"$f":"CenAVS!B169","v":0},{"$f":"CenAVS!C169","v":0},null,{"$f":"CenAVS!F169","v":0},0,null,{"$f":"$AC42*AE42","v":0},null,{"$f":"$AC42*AG42","v":0}]
[null,null,null,null,null,null,null,null,null,null,null,null,null,null,null,null,null,null,null,null,null,null,null,null,{"$f":"CenAVS!A171","v":"SERVO-DRIVE jednotka (sada)"},{"$f":"CenAVS!B171","v":"23.A000"},{"$f":"CenAVS!C171","v":"R7037"},{"$f":"SUM(AE43,AG43)","v":0},{"$f":"CenAVS!F171","v":8297.32},0,{"$f":"IF($Q$16=1, 0, $M$17)","v":0},{"$f":"$AC43*AE43","v":0},{"$f":"IF($Q$27=1, 0, $M$28)","v":0},{"$f":"$AC43*AG43","v":0}]
[]
[null,null,null,null,null,null,null,null,null,null,null,null,null,null,null,null,null,null,null,null,null,null,null,null,null,null,null,null,{"$f":"ListAVS!$B$61&\" \"","v":"Cena celkem bez DPH "},{"$f":"SUM(AD9:AD43)","v":0},null,{"$f":"SUM(AF9:AF44)","v":0},null,{"$f":"SUM(AH9:AH44)","v":0}]
[null,null,null,null,null,null,null,null,null,null,null,null,null,null,{"$f":"HS!$N$26","v":2},null,null,null,null,{"$f":"MenuAVS!$P$28","v":1},null,null,{"$f":"HS!$P$26","v":1}]
[null,null,null,null,null,null,null,null,null,null,null,null,null,null,"čelní kov.",null,"Provedení:",null,null,"kryt.",null,null,{"$f":"HS!P27","v":"mont."}]
[null,null,null,null,null,null,null,null,null,null,null,null,null,null,{"$f":"ListAVS!$B$142","v":"Expando"},null,"Standard",null,null,{"$f":"ListAVS!$B$145","v":"Světle šedá (HGR)"},null,null,{"$f":"HS!P28","v":"vruty"}]
[null,null,null,null,null,null,null,null,null,null,null,null,null,null,{"$f":"ListAVS!$B$143","v":"na vruty"},null,"SERVO-DRIVE",null,null,{"$f":"ListAVS!$B$146","v":"Tmavě šedá (TGR)"},null,null,{"$f":"HS!P29","v":"předmont. eurošrouby"},null,null,null,{"$f":"Param!M22","v":"Parametry HS"}]
[null,null,null,null,null,null,null,null,null,null,null,null,null,null,null,null,null,null,null,{"$f":"ListAVS!$B$147","v":"Hedvábně bílá (SW)"},null,null,null,null,null,null,{"$f":"Param!M23","v":"Zdvihač"},{"$f":"Param!N23","v":"ks"},{"$f":"Param!O23","v":"min"},{"$f":"Param!P23","v":"max"},{"$f":"Param!Q23","v":"hmot. min."},{"$f":"Param!R23","v":"hmot. max."}]
[null,null,null,null,null,null,null,null,null,null,null,null,null,null,null,null,null,null,null,null,null,null,null,null,null,null,{"$f":"Param!M24","v":"22S2200"},null,{"$f":"Param!O24","v":350},{"$f":"Param!P24","v":450},{"$f":"Param!Q24","v":2},{"$f":"Param!R24","v":11.5}]
[null,null,null,null,null,null,null,null,null,null,null,null,null,{"$f":"\" \"&ListAVS!$B$108","v":" v kombinaci se SERVO-DRIVE"},null,null,null,null,null,null,null,null,null,null,null,null,{"$f":"Param!M25","v":"22S2200 v"},null,{"$f":"Param!O25","v":450},{"$f":"Param!P25","v":540},{"$f":"Param!Q25","v":2.5},{"$f":"Param!R25","v":12.5}]
[null,null,null,null,null,null,null,null,null,null,null,null,null,{"$f":"\" \"&ListAVS!$B$109","v":" nelze v kombinaci se SERVO-DRIVE"},null,null,null,null,null,null,null,null,null,null,null,null,{"$f":"Param!M26","v":"22S2500"},null,{"$f":"Param!O26","v":480},{"$f":"Param!P26","v":660},{"$f":"Param!Q26","v":2.75},{"$f":"Param!R26","v":15.25}]
[null,null,null,null,null,null,null,null,null,null,null,null,null,{"$f":"\" \"&ListAVS!$B$115","v":" Zadejte hmotnost nebo vyplňte všechny buňky"},null,null,null,null,null,null,null,null,null,null,null,null,{"$f":"Param!M27","v":"22S2800"},null,{"$f":"Param!O27","v":650},{"$f":"Param!P27","v":800},{"$f":"Param!Q27","v":3.5},{"$f":"Param!R27","v":18.5}]
[null,null,null,null,null,null,null,null,null,null,null,null,null,{"$f":"\"◄ \"&ListAVS!$B$112","v":"◄ hodnota bude použita pro výběr zdvihače"}]
[null,null,null,null,null,null,null,null,null,null,null,null,null,{"$f":"\" * \"&ListAVS!$B$127","v":" * Doplňte hodnoty"}]
[]
[null,null,null,null,null,null,null,null,null,null,null,null,null,{"$f":"\" \"&ListAVS!$B$124&\"!\"","v":" Hmotnost mimo povolený rozsah!"}]
[null,null,null,null,null,null,null,null,null,null,null,null,null,{"$f":"\" max. 9 000! \"&ListAVS!$B$121","v":" max. 9 000! Upravte hmotnost nebo výšku"}]
[null,null,null,null,null,null,null,null,null,null,null,null,null,{"$f":"\" \"&ListAVS!$B$234","v":" Nutná mezistěna"}]
[]
[]
[]
[]
[]
[]
[null,null,null,null,null,null,null,null,null,null,null,null,null,{"$f":"ListAVS!B187&\". \"","v":"Pro určení typu zdvihače bude použita zadaná hmotnost. "}]
[null,null,null,null,null,null,null,null,null,null,null,null,null,{"$f":"ListAVS!B188&\". \"","v":"Pro určení typu zdvihače bude použita vypočtená hmotnost. "}]
[null,null,null,null,null,null,null,null,null,null,null,null,null,{"$f":"ListAVS!B189","v":"Chcete-li použít vypočtenou hmotnost, smažte zadanou hodnotu"}]
[null,null,null,null,null,null,null,null,null,null,null,null,null,{"$f":"ListAVS!B190","v":"Chcete-li použít zadanou hmotnost, zadejte ji do políčka"}]
[]
[]
[]
[]
[]
[]
[]
[]
[null,null,null,null,null,null,null,null,null,null,null,null,null,{"$f":"ListAVS!$B$73","v":"Výpočet hmotnosti čel"}]
[null,null,null,null,null,null,null,null,null,null,null,null,null,null,null,null,null,null,null,{"$f":"J4","v":0},{"$f":"IF($Z$87=3,IF(T80=0,$Y$82,\" \"),IF(T80>0,$Y$83,\" \"))","v":" "},null,null,null,{"$f":"IF($Z$87=1,$Z$88,IF($Z$87=2,$Z$89,$Z$90&\" \"&$Y$90&\"kg/m3\"))&\" A~\"&$T$88&\"/ B~\"&$T$99&\"mm\"","v":"Dřevotříska (680 kg/m3) A~0/ B~0mm"}]
[null,null,null,null,null,null,null,null,null,null,null,null,null,null,null,{"$f":"IF($Z$87<>3,$Y$81,\" \")&\"      \"","v":" Změnit hodnoty můžete v Úvodu plánování      "},null,null,null,null,null,null,null,null,{"$f":"\" \"&ListAVS!$B$410","v":" Změnit hodnoty můžete v Úvodu plánování"}]
[null,null,null,null,null,null,null,null,null,null,null,null,null,null,null,null,null,null,null,null,null,null,null,null,{"$f":"\" \"&ListAVS!$B$244&\" [kg/m3]\"","v":" Zadejte objemovou hmotnost  [kg/m3]"}]
[null,null,null,null,null,null,null,null,null,null,null,null,null,null,null,null,null,null,null,null,null,null,null,null,{"$f":"\" \"&ListAVS!$B$240&\" '\"&ListAVS!$B$92&\"'\"","v":" Hodnota platí jen pro volbu 'Jiné - volitelná hustota'"}]
[]
[null,null,null,null,null,null,null,null,null,null,null,null,null,null,null,null,null,{"$f":"D9","v":" "}]
[null,null,null,null,null,null,null,null,null,null,null,null,null,{"$f":"ListAVS!$B$74&\" KB [mm]       \"","v":"Šířka korpusu KB [mm]       "},null,null,null,null,null,{"$f":"H10","v":0},null,null,null,null,{"$f":"T86*T87*T88","v":0},null,null,null,null,3.51,"alu"]
[null,null,null,null,null,null,null,null,null,null,null,null,null,{"$f":"ListAVS!$B$75&\" KH [mm]       \"","v":"Výška korpusu KH [mm]       "},null,null,null,null,null,{"$f":"H11","v":0},null,null,null,null,{"$f":"Y86/1000000000","v":0},2,null,null,null,"váha alu",{"$f":"SUM(T86*2,T87*2)*AD86/10000","v":0}]
[null,null,null,null,null,null,null,null,null,null,null,null,null,{"$f":"ListAVS!$B$80&\" TS [mm] \"","v":"Síla čela TS [mm] "},null,null,null,null,null,{"$f":"H13","v":0},{"$f":"IF(SUM(T86,T87)=0,\" \",IF(T88=0,\" ● \"&ListAVS!$B$128,\" \"))","v":" "},null,null,null,{"$f":"MenuAVS!$C$31","v":760},{"$f":"ListAVS!$B$90&\" (\"&Y88&\" kg/m3)\"","v":"MDF (760 kg/m3)"},null,null,null,10,{"$f":"SUM($T$86*$T$87*$AD88)/1000000","v":0},3]
[null,null,null,null,null,null,null,null,null,null,null,null,null,{"$f":"ListAVS!$B$83&\" [kg] \"","v":"Hmotnost úchytky [kg] "},null,null,null,null,null,{"$f":"H14","v":0},{"$f":"IF(SUM(T86,T87)=0,\" \",IF(T89=0,\" ● \"&ListAVS!$B$129,\" \"))","v":" "},null,null,null,{"$f":"MenuAVS!$C$32","v":680},{"$f":"ListAVS!$B$91&\" (\"&Y89&\" kg/m3)\"","v":"Dřevotříska (680 kg/m3)"},null,null,null,15,{"$f":"SUM($T$86*$T$87*$AD89)/1000000","v":0},{"$f":"ListAVS!$B$93","v":"Alurámečky s 4mm sklem"}]
[null,null,null,null,null,null,null,null,null,null,null,null,null,{"$f":"ListAVS!$B$79&\" [kg] \"","v":"Vypočtená hmotnost čela [kg] "},null,null,null,null,null,{"$f":"IF(X90=0,0,X90+T89)","v":0},null,null,null,{"$f":"IF(T86*T87*T88=0,0,IF(Z87=1,Y87*Y88,IF(Z87=2,Y87*Y89,Y87*Y90)))","v":0},{"$f":"$T$80","v":0},{"$f":"ListAVS!$B$92","v":"Jiné - volitelná hustota"},null,null,null,{"$f":"2.5*$T$80","v":0},{"$f":"SUM($T$86*$T$87*$AD90)/1000000","v":0},{"$f":"ListAVS!$B$94","v":"Alurámečky s 5mm sklem"}]
[null,null,null,null,null,null,null,null,null,null,null,null,null,null,{"$f":"IF(T90>0,IF(T89=0,$Y$107,\" \"),\" \")","v":" "},null,null,null,null,null,null,null,null,null,null,null,null,null,null,{"$f":"SUM(IF(AF88=1,AE88,IF(AF88=2,AE89,AE90)),AE87)","v":0},null,{"$f":"ListAVS!$B$95","v":"Alurámečky s jiným sklem"}]
[]
[]
[]
[]
[null,null,null,null,null,null,null,null,null,null,null,null,null,null,null,null,null,{"$f":"D20","v":" "}]
[null,null,null,null,null,null,null,null,null,null,null,null,null,{"$f":"ListAVS!$B$74&\" KB [mm]       \"","v":"Šířka korpusu KB [mm]       "},null,null,null,null,null,{"$f":"H21","v":0},null,null,null,null,{"$f":"T97*T98*T99","v":0},null,null,null,null,3.51,"alu"]
[null,null,null,null,null,null,null,null,null,null,null,null,null,{"$f":"ListAVS!$B$75&\" KH [mm]       \"","v":"Výška korpusu KH [mm]       "},null,null,null,null,null,{"$f":"H22","v":0},null,null,null,null,{"$f":"Y97/1000000000","v":0},{"$f":"Z87","v":2},null,null,null,"váha alu",{"$f":"SUM(T97*2,T98*2)*AD97/10000","v":0}]
[null,null,null,null,null,null,null,null,null,null,null,null,null,{"$f":"ListAVS!$B$80&\" TS [mm] \"","v":"Síla čela TS [mm] "},null,null,null,null,null,{"$f":"H24","v":0},{"$f":"IF(SUM(T97,T98)=0,\" \",IF(T99=0,\" ● \"&ListAVS!$B$128,\" \"))","v":" "},null,null,null,{"$f":"$Y$88","v":760},{"$f":"$Z$88","v":"MDF (760 kg/m3)"},null,null,null,8.8000000000000007,{"$f":"SUM($T$97*$T$98*$AD99)/1000000","v":0},{"$f":"AF88","v":3}]
[null,null,null,null,null,null,null,null,null,null,null,null,null,{"$f":"ListAVS!$B$83&\" [kg] \"","v":"Hmotnost úchytky [kg] "},null,null,null,null,null,{"$f":"H25","v":0},{"$f":"IF(SUM(T97,T98)=0,\" \",IF(T100=0,\" ● \"&ListAVS!$B$129,\" \"))","v":" "},null,null,null,{"$f":"$Y$89","v":680},{"$f":"$Z$89","v":"Dřevotříska (680 kg/m3)"},null,null,null,13.2,{"$f":"SUM($T$97*$T$98*$AD100)/1000000","v":0},{"$f":"ListAVS!$B$93","v":"Alurámečky s 4mm sklem"}]
[null,null,null,null,null,null,null,null,null,null,null,null,null,{"$f":"ListAVS!$B$79&\" [kg] \"","v":"Vypočtená hmotnost čela [kg] "},null,null,null,null,null,{"$f":"IF(X101=0,0,X101+T100)","v":0},null,null,null,{"$f":"IF(T97*T98*T99=0,0,IF(Z98=1,Y98*Y99,IF(Z98=2,Y98*Y100,Y98*Y101)))","v":0},{"$f":"$Y$90","v":0},{"$f":"$Z$90","v":"Jiné - volitelná hustota"},null,null,null,{"$f":"2.2*$T$80","v":0},{"$f":"SUM($T$97*$T$98*$AD101)/1000000","v":0},{"$f":"ListAVS!$B$94","v":"Alurámečky s 5mm sklem"}]
[null,null,null,null,null,null,null,null,null,null,null,null,null,null,{"$f":"IF(T101>0,IF(T100=0,$Y$107,\" \"),\" \")","v":" "},null,null,null,null,null,null,null,null,null,null,null,null,null,null,{"$f":"SUM(IF(AF99=1,AE99,IF(AF99=2,AE100,AE101)),AE98)","v":0},null,{"$f":"ListAVS!$B$95","v":"Alurámečky s jiným sklem"}]
[]
[]
[]
[]
[null,null,null,null,null,null,null,null,null,null,null,null,null,null,null,null,null,null,null,null,null,null,null,null,{"$f":"ListAVS!$B$102&\"!\"","v":"Není započtena hmotnost úchytky!"}]
[]
[]
[null,"      AVENTOS HS"]
[]
[null,{"$f":"ListAVS!$B$332","v":"Pro výběr správného zdvihače potřebujete znát výšku korpusu a hmotnost čela."}]
[]
[null,{"$f":"ListAVS!$B$334","v":"Výška korpusu KH = 602 mm zaokrouhlit na KH = 600 mm"}]
[null,{"$f":"ListAVS!$B$335","v":"Výška korpusu KH = 603 mm zaokrouhlit na KH = 605 mm"}]
[]
[null,{"$f":"ListAVS!$B$311","v":"Pokud znáte hmotnost čela, můžete ji zadat, jinak použijte \"Výpočet hmotnosti\"."}]
[null,{"$f":"ListAVS!$B$312","v":"V tabulce má přednost zadaná hodnota. Chcete-li použít vypočtenou hmotnost, smažte zadanou hodnotu."}]
[]
[]
[null,{"$f":"ListAVS!$B$305","v":"Chcete-li změnit barvu krytek, přejděte na \"Úvod plánování\""}]
[]
[]
[null,null,null,null,null,null,null,null,null,null,null,{"$f":"ListAVS!$B$167","v":"Zpět"}]

{"sheet":"HSwa","index":17,"n_rows":131,"n_cols":46,"rows_kept":131,"cut":false,"hidden":false,"merged":[[8,44,9,44],[8,45,9,45],[0,45,0,46],[1,1,1,2],[1,13,1,14],[1,16,1,17],[4,5,4,9],[6,1,6,2],[6,6,6,7],[9,1,9,6],[14,3,14,6],[11,1,11,6],[12,1,14,2],[12,3,12,6],[13,3,13,6],[10,1,10,6],[8,1,8,2],[8,5,8,7],[15,14,15,15],[30,15,30,16],[20,1,20,6],[21,1,21,6],[22,1,22,6],[26,1,26,6],[26,14,26,15],[23,1,25,2],[23,3,23,6],[24,3,24,6],[25,3,25,6],[16,1,16,6],[15,1,15,6],[19,1,19,2],[19,5,19,7],[27,1,27,6],[30,1,32,9],[98,13,98,18],[88,13,88,18],[89,13,89,18],[95,17,95,19],[96,13,96,18],[97,13,97,18],[109,0,150,0],[84,17,84,19],[85,13,85,18],[86,13,86,18],[87,13,87,18],[99,13,99,18],[100,13,100,18]]}
[1]
[null," AVENTOS HS top",null,null,null,null,null,null,null,null,null,null,null,"zdvih A",null,"↓rozhodnutí","zdvih B",null,"↓rozhodnutí",null,null,"rámeček",null,null,null,null,null,null,null,null,null,null,null,null,null,null,3,null,null,{"$f":"ListAVS!$B$152","v":"Jdi na"}]
[]
[null,{"$f":"ListAVS!$B$20&\" ***\"","v":"Široký alurámeček ***"},null,null,null,{"$f":"ListAVS!$B$179&\"  \"","v":"Provedení čel  "},null,null,null,null,{"$f":"U80","v":" "},null,null,"S22",{"$f":"IF(AND($H$11>=$AC$51, $H$11<$AD$51, $P$17>=$AE$51, $P$17<=$AF$51), 1, 0)","v":0},{"$f":"O4","v":0},"S22",{"$f":"IF(AND($H$22>=$AC$51, $H$22<$AD$51, $P$28>=$AE$51, $P$28<=$AF$51), 1, 0)","v":0},{"$f":"R4","v":0},"← (350–450)",null,1,null,null,null,null,null,null,null,null,null,null,null,null,null,null,{"$f":"\" \"&ListAVS!$B$41&\" A \"","v":" Cena za korpus A "},null,null," Úvod plánování"]
[null,null,null,null,null,{"$f":"IF($AF$87<>3,$Y$81,\" \")&\"      \"","v":" Změnit hodnoty můžete v Úvodu plánování      "},null,null,null,null,null,null,null,"S22 v",{"$f":"IF(AND($H$11>=$AC$52, $H$11<$AD$52, $P$17>=$AE$52, $P$17<=$AF$52), 1, 0)","v":0},{"$f":"IF(AND($O$5=1, $O$6=1, $P$17<=5), O5, 0)+IF(AND($O$5=1, $O$6=0), 1, IF(AND(O5=1, O6=0), O5, 0))","v":0},"S22 v",{"$f":"IF(AND($H$22>=$AC$52, $H$22<$AD$52, $P$28>=$AE$52, $P$28<=$AF$52), 1, 0)","v":0},{"$f":"IF(AND($R$5=1, $R$6=1, $P$28<=5), R5, 0)+IF(AND($R$5=1, $R$6=0), 1, IF(AND(R5=1, R6=0), R5, 0))","v":0},"← (450–540)",null,null,null,null,null,null,null,null,null,null,null,null,null,null,null,null,{"$f":"\" \"&ListAVS!$B$41&\" B \"","v":" Cena za korpus B "},null,null,{"$f":"\" \"&ListAVS!$B$154","v":" Nápověda"}]
[null,null,null,null,null,null,null,null,null,null,null,null,null,"S25",{"$f":"IF(AND($H$11>=$AC$53, $H$11<$AD$53, $P$17>=$AE$53, $P$17<=$AF$53), 1, 0)","v":0},{"$f":"IF(AND($O$5=1, $O$6=1, $P$17>5), O6, 0)+IF(AND($O$6=1, $O$7=1, $P$17<7), O6, IF(AND(O5=0, O6=1, O7=0), O6, 0))","v":0},"S25",{"$f":"IF(AND($H$22>=$AC$53, $H$22<$AD$53, $P$28>=$AE$53, $P$28<=$AF$53), 1, 0)","v":0},{"$f":"IF(AND($R$5=1, $R$6=1, $P$28>5), R6, 0)+IF(AND($R$6=1, $R$7=1, $P$28<7), R6, IF(AND(R5=0, R6=1, R7=0), R6, 0))","v":0},null,null,null,null,null,null,null,null,null,null,null,null,null,null,null,null,null,{"$f":"\" \"&ListAVS!$B$61","v":" Cena celkem bez DPH"}]
[null,{"$f":"ListAVS!$B$51&\":   \"","v":"Cena kování:   "},null,null,null,null,{"$f":"IF($AK$2=1,$AF$45,IF($AK$2=2,$AH$45,IF($AK$2=3,$AD$45,0)))","v":0},null,null,null,null,null,null,"S28",{"$f":"IF(AND($H$11>=$AC$54, $H$11<=$AD$54, $P$17>=$AE$54, $P$17<=$AF$54), 1, 0)","v":0},{"$f":"IF(AND($O$6=1, $O$7=1, $P$17>=7), O7, IF(AND(O6=0, O7=1), O7, 0))","v":0},"S28",{"$f":"IF(AND($H$22>=$AC$54, $H$22<=$AD$54, $P$28>=$AE$54, $P$28<=$AF$54), 1, 0)","v":0},{"$f":"IF(AND($R$6=1, $R$7=1, $P$28>=7), R7, IF(AND(R6=0, R7=1), R7, 0))","v":0},null,null,null,null,null,{"$f":"$B$2","v":" AVENTOS HS top"},{"$f":"B5","v":0},null,null,null,null,null,null,null,null,null,null,null,null,null,{"$f":"\" \"&ListAVS!$B$159","v":" Doplňky"}]
[null,null,null,null,null,null,null,{"$f":"IF(AND(OR($Q$16=2, $Q$27=2), $AD$45>0), $N$35, \" \")","v":" "},null,null,null,null,null,null,null,null,null,null,null,null,null,null,null,null,{"$f":"ListAVS!B52","v":"Název"},{"$f":"ListAVS!$B$53","v":"Číslo artiklu"},{"$f":"ListAVS!B54","v":"Barva"},{"$f":"ListAVS!B56","v":"Ks"},{"$f":"ListAVS!B58","v":"Jednotková cena"},{"$f":"ListAVS!B59","v":"Celkem"},"A","Cena","B","Cena",null,null,null,null,null,null,null,null,{"$f":"ListAVS!B75&\" KH (mm)\"","v":"Výška korpusu KH (mm)"},{"$f":"ListAVS!B76&\" FG (kg)\"","v":"Hmotnost čela FG (kg)"},{"$f":"ListAVS!$B$84&\" \"&ListAVS!$B$349","v":"Zdvihací mechanizmus vruty"},{"$f":"ListAVS!$B$84&\" \"&ListAVS!$B$350","v":"Zdvihací mechanizmus předmont. eurošrouby"}]
[null,{"$f":"\"▼ \"&ListAVS!$B$317","v":"▼ Způsob otvírání"},null,{"$f":"IF($M$17>0, ListAVS!$B$37&\": \", \" \")","v":" "},{"$f":"IF(SUM($AE$9:$AE$10)>0,\"22\",IF(SUM($AE$11:$AE$12)>0,\"25\",IF(SUM($AE$13:$AE$14)>0,\"28\",\" \")))","v":" "},{"$f":"ListAVS!$B$64&\" A\"","v":"Korpus A"},null,null,null,null,null,null,null,null,null,null,null,null,null,null,null,null,null,null,{"$f":"CenAVS!A28","v":"Sada zdvihačů HS top, na vruty"},{"$f":"CenAVS!B28","v":"22S2200"},{"$f":"CenAVS!C28","v":"ZN"},{"$f":"SUM(AE9,AG9)","v":0},{"$f":"CenAVS!F28","v":1754.34},{"$f":"AB9*AC9","v":0},{"$f":"IF(AND($W$46=1, SUM($P$4:$P$5)=1), $M$17, 0)","v":0},{"$f":"$AC9*AE9","v":0},{"$f":"IF(AND($W$46=1, SUM($S$4:$S$5)=1), $M$28, 0)","v":0},{"$f":"$AC9*AG9","v":0},null,null,null,null,null,{"$f":"\" \"&ListAVS!$B$156","v":" Přehled korpusů"},null,null,"350 - 450","2.00 - 11.50","22S2200","22S2210"]
[null,{"$f":"ListAVS!$B$74&\" KB [mm] \"","v":"Šířka korpusu KB [mm] "},null,null,null,null,null,null,{"$f":"IF($H10=0,\" \",IF($H10<220,\" min. 220mm\",IF($H10>1800,\" max. 1 800mm\",\" \")))&IF(H17>0,IF(H10=0,\"● \"&ListAVS!$B$128,\" \"),\" \")","v":"  "},null,null,null,null,null,null,null,null,null,null,null,null,null,null,null,{"$f":"CenAVS!A29","v":"Sada zdvihačů HS top, předmont. eurošrouby"},{"$f":"CenAVS!B29","v":"22S2210"},{"$f":"CenAVS!C29","v":"ZN"},0,{"$f":"CenAVS!F29","v":1754.34},{"$f":"AB10*AC10","v":0},{"$f":"IF(AND($W$46=2, SUM($P$4:$P$5)=1), $M$17, 0)","v":0},0,{"$f":"IF(AND($W$46=2, SUM($S$4:$S$5)=1), $M$28, 0)","v":0},0,null,null,null,null,null,{"$f":"\" \"&ListAVS!$B$157","v":" Objednávka"},null,null,"450 - 540","2.50 - 12.50"]
[null,{"$f":"ListAVS!$B$75&\" KH [mm]  \"","v":"Výška korpusu KH [mm]  "},null,null,null,null,null,null,{"$f":"IF($H11=0,\" \",IF($H11<350,\" min. 350mm\",IF($H11>800,\" max. 800 mm\",\" \")))&IF(H17>0,IF(H11=0,\"● \"&ListAVS!$B$128,\" \"),\" \")","v":"  "},null,null,null,null,null,null,null,null,null,null,null,null,null,null,null,{"$f":"CenAVS!A30","v":"Sada zdvihačů HS top, na vruty"},{"$f":"CenAVS!B30","v":"22S2500"},{"$f":"CenAVS!C30","v":"ZN"},0,{"$f":"CenAVS!F30","v":1856.76},0,{"$f":"IF(AND($W$46=1, $P$6=1), $M$17, 0)","v":0},0,{"$f":"IF(AND($W$46=1, $S$6=1), $M$28, 0)","v":0},0,null,null,null,null,null,null,null,null,"480 - 660","2.75 - 15.25","22S2500","22S2510"]
[null,{"$f":"ListAVS!$B$77&\" [kg] ** \"","v":"Hmotnost čela včetně úchytky [kg] ** "},null,null,null,null,null,null,{"$f":"IF($H17=0,  \" \", IF(SUM($H12,$H15)=0,$N$54,\" \"))&IF(AND(SUM($O$4:$O$7)=0, T12=\"ano\", $T13=\"ne\", H12>0),$N$58,IF(AND($H17>0,$H12>0, $M17>0, $T13=\"ano\"),$N$55,\" \"))","v":"  "},null,null,null,null,null,null,null,null,null,"limit v/š",{"$f":"IF(AND(219<H10,H10<1801,349<H11,H11<801),\"ano\",\"ne\")","v":"ne"},null,null,null,null,{"$f":"CenAVS!A31","v":"Sada zdvihačů HS top, předmont. eurošrouby"},{"$f":"CenAVS!B31","v":"22S2510"},{"$f":"CenAVS!C31","v":"ZN"},0,{"$f":"CenAVS!F31","v":1856.76},0,{"$f":"IF(AND($W$46=2, $P$6=1), $M$17, 0)","v":0},0,{"$f":"IF(AND($W$46=2, $S$6=1), $M$28, 0)","v":0},0,null,null,null,null,null,null,null,null,"650 - 800","3.50 - 18.50","22S2800","22S2810"]
[null,{"$f":"ListAVS!$B$292","v":"Výpočet hmotnosti"},null,{"$f":"ListAVS!$B$80&\" TS [mm] \"","v":"Síla čela TS [mm] "},null,null,null,null,null,null,null,null,null,null,null,null,null,null,"limit hmot",{"$f":"IF(AND($H$11>=$AC$51, $H$11<=$AD$51, $P$17>=$AE$51, $P$17<=$AF$51), \"ano\", IF(AND($H$11>=$AC$52, $H$11<=$AD$52, $P$17>=$AE$52, $P$17<=$AF$52), \"ano\", IF(AND($H$11>=$AC$53, $H$11<=$AD$53, $P$17>=$AE$53, $P$17<=$AF$53), \"ano\", IF(AND($H$11>=$AC$54, $H$11<=$AD$54, $P$17>=$AE$54, $P$17<=$AF$54), \"ano\", \"ne\"))))","v":"ne"},null,null,null,null,{"$f":"CenAVS!A32","v":"Sada zdvihačů HS top, na vruty"},{"$f":"CenAVS!B32","v":"22S2800"},{"$f":"CenAVS!C32","v":"ZN"},0,{"$f":"CenAVS!F32","v":1972},0,{"$f":"IF(AND($W$46=1, $P$7=1), $M$17, 0)","v":0},0,{"$f":"IF(AND($W$46=1, $S$7=1), $M$28, 0)","v":0},0]
[null,null,null,{"$f":"ListAVS!$B$83&\" [kg] \"","v":"Hmotnost úchytky [kg] "},null,null,null,null,{"$f":"IF(H17=0, \" \", IF(AND(H12=0, Q16=1, H14=0), \" ● \"&ListAVS!$B$129,\" \"))","v":" "},null,null,null,null,null,null,null,null,null,null,null,null,null,null,null,{"$f":"CenAVS!A33","v":"Sada zdvihačů HS top, předmont. eurošrouby"},{"$f":"CenAVS!B33","v":"22S2810"},{"$f":"CenAVS!C33","v":"ZN"},0,{"$f":"CenAVS!F33","v":1972},0,{"$f":"IF(AND($W$46=2, $P$7=1), $M$17, 0)","v":0},0,{"$f":"IF(AND($W$46=2, $S$7=1), $M$28, 0)","v":0},0,null,null,null,null,null,null,null,null,{"$f":"ListAVS!B349&\" = \"&ListAVS!B351","v":"vruty = zdvihače s integrovanou šablonou (bez nutnosti rozměřování)"}]
[null,null,null,{"$f":"ListAVS!$B$79&\" [kg] \"","v":"Vypočtená hmotnost čela [kg] "},null,null,null,{"$f":"$T$90","v":0},{"$f":"IF(AND($H17>0,$H15>0,$H12=0,$M17>0), $N$41,\" \")&IF(AND(H17>0, H12=0, Z87=3, $J$4=0), $N$39, \" \")","v":"  "},null,null,null,null,null,null,"Servo-Drive",null,null,null,null,null,null,null,null,null,null,null,null,null,null,null,null,null,null,null,null,null,null,null,null,null,null,{"$f":"ListAVS!B350&\" = \"&ListAVS!B352","v":"předmont. eurošrouby = zdvihače s předmotovanými šrouby (nutné předvrtání)"}]
[null,null,null,null,null,null,null,null,{"$f":"IF(AND(H16>0, Q16=2), $N$53, \" \")","v":" "},null,null,null,null,null,false,null,1,null,null,null,null,null,null,null,{"$f":"CenAVS!A34","v":"Sada ramen HS top"},{"$f":"CenAVS!B34","v":"22S3500"},{"$f":"CenAVS!C34","v":"ZN"},{"$f":"SUM(AE16,AG16)","v":0},{"$f":"CenAVS!F34","v":1169.26},{"$f":"AB16*AC16","v":0},{"$f":"SUM($AE$9:$AE$14)","v":0},{"$f":"$AC16*AE16","v":0},{"$f":"SUM($AG$9:$AG$14)","v":0},{"$f":"$AC16*AG16","v":0}]
[null,{"$f":"ListAVS!$B$71","v":"Počet skříněk"},null,null,null,null,null,null,null,null,null,null,{"$f":"IF($H10*$H11*$P17=0,0,IF(SUM(O4:O7)=0,0,IF($H10>1800,0, IF($H10<220, 0, $H17))))","v":0},null,"hmot =",{"$f":"IF(H12>0,H12,H15)","v":0},{"$f":"IF(SUM(H12,H15)=0,0,IF(H12>0,1,2))","v":0},"zadaná / vypočtená"]
[null,{"$f":"IF(H17>0,IF(OR(Q17=0,M17=0), \" \",IF(Q17=1,$N$67,$N$68)),\" \")&IF(H17>0,IF(OR(Q17=0, M17=0), \" \",IF(Q17=1,$N$69,$N$70)),\" \")","v":"  "}]
[null,null,null,null,null,null,null,null,null,null,null,null,null,"tyč",{"$f":"IF($H$10>1360,1.5,IF($H$10<610,0.5,1))","v":0.5},null,"tyč",{"$f":"IF($H$21>1360,1.5,IF($H$21<610,0.5,1))","v":0.5}]
[null,{"$f":"\"▼ \"&ListAVS!$B$317","v":"▼ Způsob otvírání"},null,{"$f":"IF($M$28>0, ListAVS!$B$37&\": \", \" \")","v":" "},{"$f":"IF(SUM($AG$9:$AG$10)>0,\"22\",IF(SUM($AG$11:$AG$12)>0,\"25\",IF(SUM($AG$13:$AG$14)>0,\"28\",\" \")))","v":" "},{"$f":"ListAVS!$B$64&\" B\"","v":"Korpus B"},null,null,null,null,null,null,null,"mezistěny",{"$f":"IF($H$16>0,$H$16,IF($H$10>1219,1,0))","v":0},null,"mezistěny",{"$f":"IF($H$27>0,$H$27,IF($H$21>1219,1,0))","v":0},null,null,null,null,null,null,{"$f":"CenAVS!A47","v":"Sada krytek HF, HS, HL top, světle šedá"},{"$f":"CenAVS!B47","v":"22.8000"},{"$f":"CenAVS!C47","v":"HGR"},0,{"$f":"CenAVS!F47","v":252.85},0,{"$f":"IF(AND($Q$16=1,$T$46=1),SUM($AE$9:$AE$14),0)","v":0},0,{"$f":"IF(AND($Q$27=1,$T$46=1),SUM($AG$9:$AG$14),0)","v":0},0]
[null,{"$f":"ListAVS!$B$74&\" KB [mm] \"","v":"Šířka korpusu KB [mm] "},null,null,null,null,null,null,{"$f":"IF($H21=0,\" \",IF($H21<220,\" min. 220mm\",IF($H21>1800,\" max. 1 800mm\",\" \")))&IF(H28>0,IF(H21=0,\"● \"&ListAVS!$B$128,\" \"),\" \")","v":"  "},null,null,null,null,null,null,null,null,null,null,null,null,null,null,null,{"$f":"CenAVS!A48","v":"Sada krytek HF, HS, HL top, tmavě šedá"},{"$f":"CenAVS!B48","v":"22.8000"},{"$f":"CenAVS!C48","v":"TGR"},0,{"$f":"CenAVS!F48","v":275.94},0,{"$f":"IF(AND($Q$16=1,$T$46=2),SUM($AE$9:$AE$14),0)","v":0},0,{"$f":"IF(AND($Q$27=1,$T$46=2),SUM($AG$9:$AG$14),0)","v":0},0]
[null,{"$f":"ListAVS!$B$75&\" KH [mm] \"","v":"Výška korpusu KH [mm] "},null,null,null,null,null,null,{"$f":"IF($H22=0,\" \",IF($H22<350,\" min. 350mm\",IF($H22>800,\" max. 800 mm\",\" \")))&IF(H28>0,IF(H22=0,\"● \"&ListAVS!$B$128,\" \"),\" \")","v":"  "},null,null,null,null,null,null,null,null,null,null,null,null,null,null,null,{"$f":"CenAVS!A49","v":"Sada krytek HF, HS, HL top, hedvábně bílá"},{"$f":"CenAVS!B49","v":"22.8000"},{"$f":"CenAVS!C49","v":"SW"},0,{"$f":"CenAVS!F49","v":275.94},0,{"$f":"IF(AND($Q$16=1,$T$46=3),SUM($AE$9:$AE$14),0)","v":0},0,{"$f":"IF(AND($Q$27=1,$T$46=3),SUM($AG$9:$AG$14),0)","v":0},0]
[null,{"$f":"ListAVS!$B$77&\" [kg] ** \"","v":"Hmotnost čela včetně úchytky [kg] ** "},null,null,null,null,null,null,{"$f":"IF($H28=0,\" \",IF(SUM($H23,$H26)=0,$N$54,\" \"))&IF(AND(SUM($R$4:$R$7)=0, T23=\"ano\", $T24=\"ne\",H23>0),$N$58,IF(AND($H28>0,$H23>0, $M28>0, $T24=\"ano\"),$N$55,\" \"))","v":"  "},null,null,null,null,null,null,null,null,null,"limit v/š",{"$f":"IF(AND(219<H21,H21<1801,349<H22,H22<801),\"ano\",\"ne\")","v":"ne"},null,null,null,null,{"$f":"CenAVS!A50","v":"Sada krytek pro SERVO-DRIVE, světle šedá"},{"$f":"CenAVS!B50","v":"23.8000"},{"$f":"CenAVS!C50","v":"HGR"},0,{"$f":"CenAVS!F50","v":2606.7600000000002},0,{"$f":"IF(AND($Q$16=2,$T$46=1),SUM($AE$9:$AE$14),0)","v":0},0,{"$f":"IF(AND($Q$27=2,$T$46=1),SUM($AG$9:$AG$14),0)","v":0},0]
[null,{"$f":"ListAVS!$B$292","v":"Výpočet hmotnosti"},null,{"$f":"ListAVS!$B$80&\" TS [mm] \"","v":"Síla čela TS [mm] "},null,null,null,null,null,null,null,null,null,null,null,null,null,null,"limit hmot",{"$f":"IF(AND($H$22>=$AC$51, $H$22<=$AD$51, $P$28>=$AE$51, $P$28<=$AF$51), \"ano\", IF(AND($H$22>=$AC$52, $H$22<=$AD$52, $P$28>=$AE$52, $P$28<=$AF$52), \"ano\", IF(AND($H$22>=$AC$53, $H$22<=$AD$53, $P$28>=$AE$53, $P$28<=$AF$53), \"ano\", IF(AND($H$22>=$AC$54, $H$22<=$AD$54, $P$28>=$AE$54, $P$28<=$AF$54), \"ano\", \"ne\"))))","v":"ne"},null,null,null,null,{"$f":"CenAVS!A51","v":"Sada krytek pro SERVO-DRIVE, tmavě šedá"},{"$f":"CenAVS!B51","v":"23.8000"},{"$f":"CenAVS!C51","v":"TGR"},0,{"$f":"CenAVS!F51","v":2709.29},0,{"$f":"IF(AND($Q$16=2,$T$46=2),SUM($AE$9:$AE$14),0)","v":0},0,{"$f":"IF(AND($Q$27=2,$T$46=2),SUM($AG$9:$AG$14),0)","v":0},0]
[null,null,null,{"$f":"ListAVS!$B$83&\" [kg] \"","v":"Hmotnost úchytky [kg] "},null,null,null,null,{"$f":"IF(H28=0, \" \", IF(AND(H23=0, Q27=1, H25=0), \" ● \"&ListAVS!$B$129,\" \"))","v":" "},null,null,null,null,null,null,null,null,null,null,null,null,null,null,null,{"$f":"CenAVS!A52","v":"Sada krytek pro SERVO-DRIVE,hedvábně bílá"},{"$f":"CenAVS!B52","v":"23.8000"},{"$f":"CenAVS!C52","v":"SW"},0,{"$f":"CenAVS!F52","v":2709.29},0,{"$f":"IF(AND($Q$16=2,$T$46=3),SUM($AE$9:$AE$14),0)","v":0},0,{"$f":"IF(AND($Q$27=2,$T$46=3),SUM($AG$9:$AG$14),0)","v":0},0]
[null,null,null,{"$f":"ListAVS!$B$79&\" [kg] \"","v":"Vypočtená hmotnost čela [kg] "},null,null,null,{"$f":"$T$101","v":0},{"$f":"IF(AND($H28>0,$H26>0,$H23=0,$M28>0), $N$41,\" \")&IF(AND(H28>0, H23=0, Z98=3, $J$4=0), $N$39, \" \")","v":"  "},null,null,null,null,null,null,"Servo-Drive"]
[null,null,null,null,null,null,null,null,{"$f":"IF(AND(H27>0, Q27=2), $N$53, \" \")","v":" "},null,null,null,null,null,false,null,1]
[null,{"$f":"ListAVS!$B$71","v":"Počet skříněk"},null,null,null,null,null,null,null,null,null,null,{"$f":"IF($H21*$H22*$P28=0,0,IF(SUM(R4:R7)=0,0,IF($H21>1800,0, IF($H21<220, 0, $H28))))","v":0},null,"hmot =",{"$f":"IF(H23>0,H23,H26)","v":0},{"$f":"IF(SUM(H23,H26)=0,0,IF(H23>0,1,2))","v":0},"zadaná / vypočtená"]
[null,{"$f":"IF(H28>0,IF(OR(Q28=0,M28=0), \" \",IF(Q28=1,$N$67,$N$68)),\" \")&IF(H28>0,IF(OR(Q28=0, M28=0), \" \",IF(Q28=1,$N$69,$N$70)),\" \")","v":"  "},null,null,null,null,null,null,null,null,null,null,null,null,null,null,null,null,null,null,null,null,null,null,{"$f":"CenAVS!A78","v":"Sada čel.kování pro dřev. čela"},{"$f":"CenAVS!B78","v":"20S4200"},{"$f":"CenAVS!C78","v":"NI"},0,{"$f":"CenAVS!F78","v":90.38},0,{"$f":"SUM(AE$16:AE$17)","v":0},{"$f":"$AC29*AE29","v":0},{"$f":"SUM(AG$16:AG$17)","v":0},0]
[null,null,null,null,null,null,null,null,null,null,null,null,null,null,null,null,null,null,null,null,null,null,null,null,{"$f":"CenAVS!A79","v":"Čelní.kování pro dřev. čela EXPANDO"},{"$f":"CenAVS!B79","v":"20S42E1"},{"$f":"CenAVS!C79","v":"NI"},0,{"$f":"CenAVS!F79","v":51.36},0,null,0,null,0]
[null,{"$f":"IF(OR(AND($Q$16=2, $M$17>0), AND($Q$27=2, $M$28>0)), ListAVS!$B$175, \" \")","v":" "},null,null,null,null,null,null,null,null,null,null,null,null,{"$f":"IF($P$31=FALSE,2,1)","v":2},false,null," - Zdroj",null,null,null,null,null,null,{"$f":"CenAVS!A80","v":"Sada čel.kování pro tenké materiály"},{"$f":"CenAVS!B80","v":"20S42T1"},{"$f":"CenAVS!C80","v":"NI"},0,{"$f":"CenAVS!F80","v":291.60000000000002},0,null,0,null,0]
[null,null,null,null,null,null,null,null,null,null,null,null,null,null,null,null,null,null,null,null,null,null,null,null,{"$f":"CenAVS!A81","v":"Sada čel.kování pro úzké alurámečky"},{"$f":"CenAVS!B81","v":"20S4200A"},{"$f":"CenAVS!C81","v":"NI"},0,{"$f":"CenAVS!F81","v":395.5},0,null,0,null,0]
[null,null,null,null,null,null,null,null,null,null,null,null,null,null,null,null,null,null,null,null,null,null,null,null,{"$f":"CenAVS!A82","v":0},{"$f":"CenAVS!B82","v":0},{"$f":"CenAVS!C82","v":0},0,{"$f":"CenAVS!F82","v":0},0,null,0,null,0]
[null,null,null,null,null,null,null,null,null,null,null,null,null,null,null,null,null,null,null,null,null,null,null,null,null,null,null,null,null,null,null,0,null,0]
[null,null,null,null,null,null,null,null,null,null,null,null,null,{"$f":"ListAVS!B176","v":"Cena bez napájecího zdroje!"},null,null,null,null,null,null,null,null,null,null,null,null,null,null,null,null,null,0,null,0]
[null,null,null,null,null,null,null,null,null,null,null,null,null,null,null,null,null,null,null,null,null,null,null,null,null,null,null,null,null,null,null,0,null,0]
[null,null,{"$f":"\"* \"&ListAVS!$B$233","v":"* Zadejte počet mezistěn v korpusu "},null,null,null,null,null,null,null,null,null,null,{"$f":"\" \"&ListAVS!$B$115","v":" Zadejte hmotnost nebo vyplňte všechny buňky"},null,null,null,null,null,null,null,null,null,null,null,null,null,null,null,null,null,0,null,0]
[null,null,{"$f":"\"** \"&ListAVS!$B$186","v":"** Pokud znáte hmotnost a nechcete využít výpočtu hmotnosti"},null,null,null,null,null,null,null,null,null,null,{"$f":"\" \"&ListAVS!$B$116","v":" Zadejte hmotnost nebo vyplňte nahoře sílu skla"},null,null,null,null,null,null,null,null,null,null,null,null,null,null,null,null,null,0,null,0]
[null,null,{"$f":"\"*** \"&ListAVS!$B$403","v":"*** Vyberte typ alurámečku!"},null,null,null,null,null,null,null,null,null,null,{"$f":"\" \"&ListAVS!$B$117","v":" Vyplňte nahoře objemovou hmotnost "}]
[null,null,{"$f":"\"      \"&ListAVS!$B$404","v":"      Více informací k výběru alurámečků v Nápovědě"},null,null,null,null,null,null,null,null,null,null,null,null,null,null,null,null,null,null,null,null,null,null,null,null,null,null,null,null,{"$f":"$AC40*AE40","v":0},null,{"$f":"$AC40*AG40","v":0}]
[null,null,null,null,null,null,null,null,null,null,null,null,null,{"$f":"\"◄ \"&ListAVS!$B$111","v":"◄ hodnota bude použita pro výpočet LF"},null,null,null,null,null,null,null,null,null,null,null,null,null,null,null,null,null,{"$f":"$AC41*AE43","v":0},null,{"$f":"$AC41*AG41","v":0}]
[null,null,null,null,null,null,null,null,null,null,null,null,null,{"$f":"\" * \"&ListAVS!$B$127","v":" * Doplňte hodnoty"},null,null,null,null,null,null,null,null,null,null,{"$f":"CenAVS!A169","v":0},{"$f":"CenAVS!B169","v":0},{"$f":"CenAVS!C169","v":0},null,{"$f":"CenAVS!F169","v":0},0,null,{"$f":"$AC42*AE42","v":0},null,{"$f":"$AC42*AG42","v":0}]
[null,null,null,null,null,null,null,null,null,null,null,null,null,null,null,null,null,null,null,null,null,null,null,null,{"$f":"CenAVS!A171","v":"SERVO-DRIVE jednotka (sada)"},{"$f":"CenAVS!B171","v":"23.A000"},{"$f":"CenAVS!C171","v":"R7037"},{"$f":"SUM(AE43,AG43)","v":0},{"$f":"CenAVS!F171","v":8297.32},0,{"$f":"IF($Q$16=1, 0, $M$17)","v":0},{"$f":"$AC43*AE43","v":0},{"$f":"IF($Q$27=1, 0, $M$28)","v":0},{"$f":"$AC43*AG43","v":0}]
[]
[null,null,null,null,null,null,null,null,null,null,null,null,null,null,null,null,null,null,null,null,null,null,null,null,null,null,null,null,{"$f":"ListAVS!$B$61&\" \"","v":"Cena celkem bez DPH "},{"$f":"SUM(AD9:AD43)","v":0},null,{"$f":"SUM(AF9:AF44)","v":0},null,{"$f":"SUM(AH9:AH44)","v":0}]
[null,null,null,null,null,null,null,null,null,null,null,null,null,null,{"$f":"HS!$N$26","v":2},null,null,null,2,{"$f":"MenuAVS!$P$28","v":1},null,null,{"$f":"HS!$P$26","v":1}]
[null,null,null,null,null,null,null,null,null,null,null,null,null,null,"čelní kov.",null,"Provedení:",null,"alu","kryt.",null,null,{"$f":"HS!P27","v":"mont."}]
[null,null,null,null,null,null,null,null,null,null,null,null,null,null,{"$f":"ListAVS!$B$142","v":"Expando"},null,"Standard",null,null,{"$f":"ListAVS!$B$145","v":"Světle šedá (HGR)"},null,null,{"$f":"HS!P28","v":"vruty"}]
[null,null,null,null,null,null,null,null,null,null,null,null,null,null,{"$f":"ListAVS!$B$143","v":"na vruty"},null,"SERVO-DRIVE",null,null,{"$f":"ListAVS!$B$146","v":"Tmavě šedá (TGR)"},null,null,{"$f":"HS!P29","v":"předmont. eurošrouby"},null,null,null,{"$f":"Param!M22","v":"Parametry HS"}]
[null,null,null,null,null,null,null,null,null,null,null,null,null,null,null,null,null,null,null,{"$f":"ListAVS!$B$147","v":"Hedvábně bílá (SW)"},null,null,null,null,null,null,{"$f":"Param!M23","v":"Zdvihač"},{"$f":"Param!N23","v":"ks"},{"$f":"Param!O23","v":"min"},{"$f":"Param!P23","v":"max"},{"$f":"Param!Q23","v":"hmot. min."},{"$f":"Param!R23","v":"hmot. max."}]
[null,null,null,null,null,null,null,null,null,null,null,null,null,null,null,null,null,null,null,null,null,null,null,null,null,null,{"$f":"Param!M24","v":"22S2200"},null,{"$f":"Param!O24","v":350},{"$f":"Param!P24","v":450},{"$f":"Param!Q24","v":2},{"$f":"Param!R24","v":11.5}]
[null,null,null,null,null,null,null,null,null,null,null,null,null,{"$f":"\" \"&ListAVS!$B$108","v":" v kombinaci se SERVO-DRIVE"},null,null,null,null,null,null,null,null,null,null,null,null,{"$f":"Param!M25","v":"22S2200 v"},null,{"$f":"Param!O25","v":450},{"$f":"Param!P25","v":540},{"$f":"Param!Q25","v":2.5},{"$f":"Param!R25","v":12.5}]
[null,null,null,null,null,null,null,null,null,null,null,null,null,{"$f":"\" \"&ListAVS!$B$109","v":" nelze v kombinaci se SERVO-DRIVE"},null,null,null,null,null,null,null,null,null,null,null,null,{"$f":"Param!M26","v":"22S2500"},null,{"$f":"Param!O26","v":480},{"$f":"Param!P26","v":660},{"$f":"Param!Q26","v":2.75},{"$f":"Param!R26","v":15.25}]
[null,null,null,null,null,null,null,null,null,null,null,null,null,{"$f":"\" \"&ListAVS!$B$115","v":" Zadejte hmotnost nebo vyplňte všechny buňky"},null,null,null,null,null,null,null,null,null,null,null,null,{"$f":"Param!M27","v":"22S2800"},null,{"$f":"Param!O27","v":650},{"$f":"Param!P27","v":800},{"$f":"Param!Q27","v":3.5},{"$f":"Param!R27","v":18.5}]
[null,null,null,null,null,null,null,null,null,null,null,null,null,{"$f":"\"◄ \"&ListAVS!$B$112","v":"◄ hodnota bude použita pro výběr zdvihače"}]
[null,null,null,null,null,null,null,null,null,null,null,null,null,{"$f":"\" * \"&ListAVS!$B$127","v":" * Doplňte hodnoty"}]
[]
[null,null,null,null,null,null,null,null,null,null,null,null,null,{"$f":"\" \"&ListAVS!$B$124&\"!\"","v":" Hmotnost mimo povolený rozsah!"}]
[null,null,null,null,null,null,null,null,null,null,null,null,null,{"$f":"\" max. 9 000! \"&ListAVS!$B$121","v":" max. 9 000! Upravte hmotnost nebo výšku"}]
[null,null,null,null,null,null,null,null,null,null,null,null,null,{"$f":"\" \"&ListAVS!$B$234","v":" Nutná mezistěna"}]
[]
[]
[]
[]
[]
[]
[null,null,null,null,null,null,null,null,null,null,null,null,null,{"$f":"ListAVS!B187&\". \"","v":"Pro určení typu zdvihače bude použita zadaná hmotnost. "}]
[null,null,null,null,null,null,null,null,null,null,null,null,null,{"$f":"ListAVS!B188&\". \"","v":"Pro určení typu zdvihače bude použita vypočtená hmotnost. "}]
[null,null,null,null,null,null,null,null,null,null,null,null,null,{"$f":"ListAVS!B189","v":"Chcete-li použít vypočtenou hmotnost, smažte zadanou hodnotu"}]
[null,null,null,null,null,null,null,null,null,null,null,null,null,{"$f":"ListAVS!B190","v":"Chcete-li použít zadanou hmotnost, zadejte ji do políčka"}]
[]
[]
[]
[]
[]
[]
[]
[]
[null,null,null,null,null,null,null,null,null,null,null,null,null,{"$f":"ListAVS!$B$73","v":"Výpočet hmotnosti čel"}]
[null,null,null,null,null,null,null,null,null,null,null,null,null,null,{"$f":"ListAVS!$B$179&\"  \"","v":"Provedení čel  "},null,null,null,null,{"$f":"J4","v":0},{"$f":"IF(AF87=3,IF(T80=0,Y82,\" \"),IF(T80>0,Y83,\" \"))","v":" "},null,null,null,{"$f":"IF($AF$87=1,$AF$105,IF($AF$87=2,$AF$106,$AF$107&\" - \"&$Y$90&\"mm\"))","v":"Alurámečky s 4mm sklem"},null,null,null,null,{"$f":"MenuAVS!$Q$81","v":2500}]
[null,null,null,null,null,null,null,null,null,null,null,null,null,null,null,null,null,null,null,null,null,null,null,null,{"$f":"\" \"&ListAVS!$B$410","v":" Změnit hodnoty můžete v Úvodu plánování"}]
[null,null,null,null,null,null,null,null,null,null,null,null,null,null,null,null,null,null,null,null,null,null,null,null,{"$f":"\" \"&ListAVS!$B$245&\" [mm]\"","v":" Zadejte sílu skla [mm]"}]
[null,null,null,null,null,null,null,null,null,null,null,null,null,null,null,null,null,null,null,null,null,null,null,null,{"$f":"\" \"&ListAVS!$B$240&\" '\"&ListAVS!$B$95&\"'\"","v":" Hodnota platí jen pro volbu 'Alurámečky s jiným sklem'"}]
[]
[null,null,null,null,null,null,null,null,null,null,null,null,null,null,null,null,null,{"$f":"D9","v":" "},null,null,null,null,null,null,null,null,null,null,null,null,"váha spoj."]
[null,null,null,null,null,null,null,null,null,null,null,null,null,{"$f":"ListAVS!$B$74&\" KB [mm]       \"","v":"Šířka korpusu KB [mm]       "},null,null,null,null,null,{"$f":"H10","v":0},null,null,null,null,{"$f":"T86*T87*T88","v":0},null,null,null,null,{"$f":"IF($AG$87=1,$X$105,$X$106)","v":0.62},{"$f":"$X$107","v":0.61},"tl. skla","typ alu"]
[null,null,null,null,null,null,null,null,null,null,null,null,null,{"$f":"ListAVS!$B$75&\" KH [mm]       \"","v":"Výška korpusu KH [mm]       "},null,null,null,null,null,{"$f":"H11","v":0},null,null,null,null,{"$f":"Y86/1000000000","v":0},2,null,null,null,"váha alu",{"$f":"SUM(T86*2,(T87-90)*2)*AD86/1000","v":-0.11159999999999999},1,{"$f":"$V$4","v":1}]
[null,null,null,null,null,null,null,null,null,null,null,null,null,{"$f":"ListAVS!$B$80&\" TS [mm] \"","v":"Síla čela TS [mm] "},null,null,null,null,null,null,null,null,null,null,{"$f":"MenuAVS!$C$31","v":760},{"$f":"ListAVS!$B$90&\" (\"&Y88&\" kg/m3)\"","v":"MDF (760 kg/m3)"},null,null,null,{"$f":"$AD$80*4/1000","v":10},{"$f":"IF($AG$87=1,AF89*AD88,AG89*AD88)","v":6.4000000000000001E-2},"A plocha B"]
[null,null,null,null,null,null,null,null,null,null,null,null,null,{"$f":"ListAVS!$B$83&\" [kg] \"","v":"Hmotnost úchytky [kg] "},null,null,null,null,null,{"$f":"H14","v":0},{"$f":"IF(SUM(T86,T87)=0,\" \",IF(T89=0,\" ● \"&ListAVS!$B$129,\" \"))","v":" "},null,null,null,{"$f":"MenuAVS!$C$32","v":680},{"$f":"ListAVS!$B$91&\" (\"&Y89&\" kg/m3)\"","v":"Dřevotříska (680 kg/m3)"},null,null,null,{"$f":"$AD$80*5/1000","v":12.5},{"$f":"IF($AG$87=1,AF90*AD89,AG90*AD89)","v":0.08},{"$f":"SUM(($T$86-80)*($T$87-80)/1000000)","v":6.4000000000000003E-3},{"$f":"SUM(($T$86-6)*($T$87-6)/1000000)","v":3.6000000000000001E-5},"4mm"]
[null,null,null,null,null,null,null,null,null,null,null,null,null,{"$f":"ListAVS!$B$79&\" [kg] \"","v":"Vypočtená hmotnost čela [kg] "},null,null,null,null,null,{"$f":"IF(AD91=0,0,AD91+T89)","v":0},null,null,null,{"$f":"IF(T86*T87*T88=0,0,IF(Z87=1,Y87*Y88,IF(Z87=2,Y87*Y89,Y87*Y90)))","v":0},{"$f":"$T$80","v":0},{"$f":"ListAVS!$B$92","v":"Jiné - volitelná hustota"},null,null,null,{"$f":"$AD$80*$T$80/1000","v":0},{"$f":"IF($AG$87=1,AF91*AD90,AG91*AD90)","v":0},{"$f":"SUM(($T$86-80)*($T$87-80)/1000000)","v":6.4000000000000003E-3},{"$f":"SUM(($T$86-6)*($T$87-6)/1000000)","v":3.6000000000000001E-5},"5mm"]
[null,null,null,null,null,null,null,null,null,null,null,null,null,null,{"$f":"IF(T90>0,IF(T89=0,$Z$105,\" \"),\" \")","v":" "},null,null,null,null,null,null,null,null,null,null,null,null,null,null,{"$f":"IF(OR(AND(AF87=3, $T$80=0), T86*T87=0), 0, SUM(IF(AF87=1,AE88,IF(AF87=2,AE89,AE90)),AE87,AE86))","v":0},null,{"$f":"SUM(($T$86-80)*($T$87-80)/1000000)","v":6.4000000000000003E-3},{"$f":"SUM(($T$86-6)*($T$87-6)/1000000)","v":3.6000000000000001E-5},"jiné"]
[]
[]
[]
[]
[null,null,null,null,null,null,null,null,null,null,null,null,null,null,null,null,null,{"$f":"D20","v":" "},null,null,null,null,null,null,null,null,null,null,null,null,"váha spoj."]
[null,null,null,null,null,null,null,null,null,null,null,null,null,{"$f":"ListAVS!$B$74&\" KB [mm]       \"","v":"Šířka korpusu KB [mm]       "},null,null,null,null,null,{"$f":"H21","v":0},null,null,null,null,{"$f":"T97*T98*T99","v":0},null,null,null,null,{"$f":"IF($AG$87=1,$X$105,$X$106)","v":0.62},{"$f":"$X$107","v":0.61},"tl. skla","typ alu"]
[null,null,null,null,null,null,null,null,null,null,null,null,null,{"$f":"ListAVS!$B$75&\" KH [mm]       \"","v":"Výška korpusu KH [mm]       "},null,null,null,null,null,{"$f":"H22","v":0},null,null,null,null,{"$f":"Y97/1000000000","v":0},{"$f":"Z87","v":2},null,null,null,"váha alu",{"$f":"SUM(T97*2,(T98-90)*2)*AD97/1000","v":-0.11159999999999999},{"$f":"$AF$87","v":1},{"$f":"$AG$87","v":1}]
[null,null,null,null,null,null,null,null,null,null,null,null,null,{"$f":"ListAVS!$B$80&\" TS [mm] \"","v":"Síla čela TS [mm] "},null,null,null,null,null,null,null,null,null,null,{"$f":"$Y$88","v":760},{"$f":"$Z$88","v":"MDF (760 kg/m3)"},null,null,null,{"$f":"AD88","v":10},{"$f":"IF($AG$87=1,AF100*AD99,AG100*AD99)","v":6.4000000000000001E-2},"A plocha B"]
[null,null,null,null,null,null,null,null,null,null,null,null,null,{"$f":"ListAVS!$B$83&\" [kg] \"","v":"Hmotnost úchytky [kg] "},null,null,null,null,null,{"$f":"H25","v":0},{"$f":"IF(SUM(T97,T98)=0,\" \",IF(T100=0,\" ● \"&ListAVS!$B$129,\" \"))","v":" "},null,null,null,{"$f":"$Y$89","v":680},{"$f":"$Z$89","v":"Dřevotříska (680 kg/m3)"},null,null,null,{"$f":"AD89","v":12.5},{"$f":"IF($AG$87=1,AF101*AD100,AG101*AD100)","v":0.08},{"$f":"SUM(($T$97-80)*($T$98-80)/1000000)","v":6.4000000000000003E-3},{"$f":"SUM(($T$97-6)*($T$98-6)/1000000)","v":3.6000000000000001E-5},"4mm"]
[null,null,null,null,null,null,null,null,null,null,null,null,null,{"$f":"ListAVS!$B$79&\" [kg] \"","v":"Vypočtená hmotnost čela [kg] "},null,null,null,null,null,{"$f":"IF(AD102=0,0,AD102+T100)","v":0},null,null,null,{"$f":"IF(T97*T98*T99=0,0,IF(Z98=1,Y98*Y99,IF(Z98=2,Y98*Y100,Y98*Y101)))","v":0},{"$f":"$Y$90","v":0},{"$f":"$Z$90","v":"Jiné - volitelná hustota"},null,null,null,{"$f":"AD90","v":0},{"$f":"IF($AG$87=1,AF102*AD101,AG102*AD101)","v":0},{"$f":"SUM(($T$97-80)*($T$98-80)/1000000)","v":6.4000000000000003E-3},{"$f":"SUM(($T$97-6)*($T$98-6)/1000000)","v":3.6000000000000001E-5},"5mm"]
[null,null,null,null,null,null,null,null,null,null,null,null,null,null,{"$f":"IF(T101>0,IF(T100=0,$Z$105,\" \"),\" \")","v":" "},null,null,null,null,null,null,null,null,null,null,null,null,null,null,{"$f":"IF(OR(AND(AF98=3, $T$80=0), T97*T98=0), 0, SUM(IF(AF98=1,AE99,IF(AF98=2,AE100,AE101)),AE98,AE97))","v":0},null,{"$f":"SUM(($T$97-80)*($T$98-80)/1000000)","v":6.4000000000000003E-3},{"$f":"SUM(($T$97-6)*($T$98-6)/1000000)","v":3.6000000000000001E-5},"jiné"]
[]
[]
[null,null,null,null,null,null,null,null,null,null,null,null,null,null,null,null,null,null,null,null,null,null,{"$f":"ListAVS!$B$422&\"  \"","v":"s vloženým sklem  "},{"$f":"MenuAVS!$I$86","v":0.62},null,{"$f":"ListAVS!$B$102&\"!\"","v":"Není započtena hmotnost úchytky!"},null,null,null,null,null,{"$f":"ListAVS!$B$93","v":"Alurámečky s 4mm sklem"}]
[null,null,null,null,null,null,null,null,null,null,null,null,null,null,null,null,null,null,null,null,null,null,{"$f":"ListAVS!$B$423&\"  \"","v":"s naloženým nebo nalepeným sklem  "},{"$f":"MenuAVS!$I$87","v":0.63},null,null,null,null,null,null,null,{"$f":"ListAVS!$B$94","v":"Alurámečky s 5mm sklem"}]
[null,null,null,null,null,null,null,null,null,null,null,null,null,null,null,null,null,null,null,null,null,null,{"$f":"ListAVS!$B$405&\" [kg/set] *  \"","v":"Hmotnost spojovacího materiálu [kg/set] *  "},{"$f":"MenuAVS!$I$88","v":0.61},null,null,null,null,null,null,null,{"$f":"ListAVS!$B$95","v":"Alurámečky s jiným sklem"}]
[]
[]
[null,"      AVENTOS HS"]
[]
[null,{"$f":"ListAVS!$B$332","v":"Pro výběr správného zdvihače potřebujete znát výšku korpusu a hmotnost čela."}]
[]
[null,{"$f":"ListAVS!$B$334","v":"Výška korpusu KH = 602 mm zaokrouhlit na KH = 600 mm"}]
[null,{"$f":"ListAVS!$B$335","v":"Výška korpusu KH = 603 mm zaokrouhlit na KH = 605 mm"}]
[]
[null,{"$f":"ListAVS!$B$311","v":"Pokud znáte hmotnost čela, můžete ji zadat, jinak použijte \"Výpočet hmotnosti\"."}]
[null,{"$f":"ListAVS!$B$312","v":"V tabulce má přednost zadaná hodnota. Chcete-li použít vypočtenou hmotnost, smažte zadanou hodnotu."}]
[]
[]
[null,{"$f":"ListAVS!$B$305","v":"Chcete-li změnit barvu krytek, přejděte na \"Úvod plánování\""}]
[]
[null,{"$f":"ListAVS!$B$411","v":"Věnujte pozornost výběru alurámečků."}]
[null,{"$f":"ListAVS!$B$412","v":"Vyberte, který typ lépe odpovídá tvaru použitého alurámečku."}]
[null,{"$f":"ListAVS!$B$413","v":"Způsob osazení skla do rámečku výrazně ovlivňuje plochu skla a tím i hmotnost!"}]
[]
[null,null,{"$f":"\"  \"&ListAVS!$B$422&\"  \"","v":"  s vloženým sklem  "}]
[]
[null,null,{"$f":"\"  \"&ListAVS!$B$423&\"  \"","v":"  s naloženým nebo nalepeným sklem  "}]
[]
[null,null,null,null,null,null,null,null,null,null,null,{"$f":"ListAVS!$B$167","v":"Zpět"}]

{"sheet":"HSna","index":18,"n_rows":131,"n_cols":46,"rows_kept":131,"cut":false,"hidden":false,"merged":[[8,44,9,44],[8,45,9,45],[0,45,0,46],[1,1,1,2],[1,13,1,14],[1,16,1,17],[4,5,4,9],[6,1,6,2],[6,6,6,7],[9,1,9,6],[14,3,14,6],[11,1,11,6],[12,1,14,2],[12,3,12,6],[13,3,13,6],[10,1,10,6],[8,1,8,2],[8,5,8,7],[15,14,15,15],[30,15,30,16],[20,1,20,6],[21,1,21,6],[22,1,22,6],[26,1,26,6],[26,14,26,15],[23,1,25,2],[23,3,23,6],[24,3,24,6],[25,3,25,6],[16,1,16,6],[15,1,15,6],[19,1,19,2],[19,5,19,7],[27,1,27,6],[30,1,32,9],[98,13,98,18],[88,13,88,18],[89,13,89,18],[95,17,95,19],[96,13,96,18],[97,13,97,18],[109,0,150,0],[84,17,84,19],[85,13,85,18],[86,13,86,18],[87,13,87,18],[99,13,99,18],[100,13,100,18]]}
[]
[null," AVENTOS HS top",null,null,null,null,null,null,null,null,null,null,null,"zdvih A",null,"↓rozhodnutí","zdvih B",null,"↓rozhodnutí",null,null,"rámeček",null,null,null,null,null,null,null,null,null,null,null,null,null,null,3,null,null,{"$f":"ListAVS!$B$152","v":"Jdi na"}]
[]
[null,{"$f":"ListAVS!$B$22&\" ***\"","v":"Úzký alurámeček ***"},null,null,null,{"$f":"ListAVS!$B$179&\"  \"","v":"Provedení čel  "},null,null,null,null,{"$f":"U80","v":" "},null,null,"S22",{"$f":"IF(AND($H$11>=$AC$51, $H$11<$AD$51, $P$17>=$AE$51, $P$17<=$AF$51), 1, 0)","v":0},{"$f":"O4","v":0},"S22",{"$f":"IF(AND($H$22>=$AC$51, $H$22<$AD$51, $P$28>=$AE$51, $P$28<=$AF$51), 1, 0)","v":0},{"$f":"R4","v":0},"← (350–450)",null,1,null,null,null,null,null,null,null,null,null,null,null,null,null,null,{"$f":"\" \"&ListAVS!$B$41&\" A \"","v":" Cena za korpus A "},null,null," Úvod plánování"]
[null,null,null,null,null,{"$f":"IF($AF$87<>3,$Y$81,\" \")&\"      \"","v":" Změnit hodnoty můžete v Úvodu plánování      "},null,null,null,null,null,null,null,"S22 v",{"$f":"IF(AND($H$11>=$AC$52, $H$11<$AD$52, $P$17>=$AE$52, $P$17<=$AF$52), 1, 0)","v":0},{"$f":"IF(AND($O$5=1, $O$6=1, $P$17<=5), O5, 0)+IF(AND($O$5=1, $O$6=0), 1, IF(AND(O5=1, O6=0), O5, 0))","v":0},"S22 v",{"$f":"IF(AND($H$22>=$AC$52, $H$22<$AD$52, $P$28>=$AE$52, $P$28<=$AF$52), 1, 0)","v":0},{"$f":"IF(AND($R$5=1, $R$6=1, $P$28<=5), R5, 0)+IF(AND($R$5=1, $R$6=0), 1, IF(AND(R5=1, R6=0), R5, 0))","v":0},"← (450–540)",null,null,null,null,null,null,null,null,null,null,null,null,null,null,null,null,{"$f":"\" \"&ListAVS!$B$41&\" B \"","v":" Cena za korpus B "},null,null,{"$f":"\" \"&ListAVS!$B$154","v":" Nápověda"}]
[null,null,null,null,null,null,null,null,null,null,null,null,null,"S25",{"$f":"IF(AND($H$11>=$AC$53, $H$11<$AD$53, $P$17>=$AE$53, $P$17<=$AF$53), 1, 0)","v":0},{"$f":"IF(AND($O$5=1, $O$6=1, $P$17>5), O6, 0)+IF(AND($O$6=1, $O$7=1, $P$17<7), O6, IF(AND(O5=0, O6=1, O7=0), O6, 0))","v":0},"S25",{"$f":"IF(AND($H$22>=$AC$53, $H$22<$AD$53, $P$28>=$AE$53, $P$28<=$AF$53), 1, 0)","v":0},{"$f":"IF(AND($R$5=1, $R$6=1, $P$28>5), R6, 0)+IF(AND($R$6=1, $R$7=1, $P$28<7), R6, IF(AND(R5=0, R6=1, R7=0), R6, 0))","v":0},null,null,null,null,null,null,null,null,null,null,null,null,null,null,null,null,null,{"$f":"\" \"&ListAVS!$B$61","v":" Cena celkem bez DPH"}]
[null,{"$f":"ListAVS!$B$51&\":   \"","v":"Cena kování:   "},null,null,null,null,{"$f":"IF($AK$2=1,$AF$45,IF($AK$2=2,$AH$45,IF($AK$2=3,$AD$45,0)))","v":0},null,null,null,null,null,null,"S28",{"$f":"IF(AND($H$11>=$AC$54, $H$11<=$AD$54, $P$17>=$AE$54, $P$17<=$AF$54), 1, 0)","v":0},{"$f":"IF(AND($O$6=1, $O$7=1, $P$17>=7), O7, IF(AND(O6=0, O7=1), O7, 0))","v":0},"S28",{"$f":"IF(AND($H$22>=$AC$54, $H$22<=$AD$54, $P$28>=$AE$54, $P$28<=$AF$54), 1, 0)","v":0},{"$f":"IF(AND($R$6=1, $R$7=1, $P$28>=7), R7, IF(AND(R6=0, R7=1), R7, 0))","v":0},null,null,null,null,null,{"$f":"$B$2","v":" AVENTOS HS top"},{"$f":"B5","v":0},null,null,null,null,null,null,null,null,null,null,null,null,null,{"$f":"\" \"&ListAVS!$B$159","v":" Doplňky"}]
[null,null,null,null,null,null,null,{"$f":"IF(AND(OR($Q$16=2, $Q$27=2), $AD$45>0), $N$35, \" \")","v":" "},null,null,null,null,null,null,null,null,null,null,null,null,null,null,null,null,{"$f":"ListAVS!B52","v":"Název"},{"$f":"ListAVS!$B$53","v":"Číslo artiklu"},{"$f":"ListAVS!B54","v":"Barva"},{"$f":"ListAVS!B56","v":"Ks"},{"$f":"ListAVS!B58","v":"Jednotková cena"},{"$f":"ListAVS!B59","v":"Celkem"},"A","Cena","B","Cena",null,null,null,null,null,null,null,null,{"$f":"ListAVS!B75&\" KH (mm)\"","v":"Výška korpusu KH (mm)"},{"$f":"ListAVS!B76&\" FG (kg)\"","v":"Hmotnost čela FG (kg)"},{"$f":"ListAVS!$B$84&\" \"&ListAVS!$B$349","v":"Zdvihací mechanizmus vruty"},{"$f":"ListAVS!$B$84&\" \"&ListAVS!$B$350","v":"Zdvihací mechanizmus předmont. eurošrouby"}]
[null,{"$f":"\"▼ \"&ListAVS!$B$317","v":"▼ Způsob otvírání"},null,{"$f":"IF($M$17>0, ListAVS!$B$37&\": \", \" \")","v":" "},{"$f":"IF(SUM($AE$9:$AE$10)>0,\"22\",IF(SUM($AE$11:$AE$12)>0,\"25\",IF(SUM($AE$13:$AE$14)>0,\"28\",\" \")))","v":" "},{"$f":"ListAVS!$B$64&\" A\"","v":"Korpus A"},null,null,null,null,null,null,null,null,null,null,null,null,null,null,null,null,null,null,{"$f":"CenAVS!A28","v":"Sada zdvihačů HS top, na vruty"},{"$f":"CenAVS!B28","v":"22S2200"},{"$f":"CenAVS!C28","v":"ZN"},{"$f":"SUM(AE9,AG9)","v":0},{"$f":"CenAVS!F28","v":1754.34},{"$f":"AB9*AC9","v":0},{"$f":"IF(AND($W$46=1, SUM($P$4:$P$5)=1), $M$17, 0)","v":0},{"$f":"$AC9*AE9","v":0},{"$f":"IF(AND($W$46=1, SUM($S$4:$S$5)=1), $M$28, 0)","v":0},{"$f":"$AC9*AG9","v":0},null,null,null,null,null,{"$f":"\" \"&ListAVS!$B$156","v":" Přehled korpusů"},null,null,"350 - 450","2.00 - 11.50","22S2200","22S2210"]
[null,{"$f":"ListAVS!$B$74&\" KB [mm] \"","v":"Šířka korpusu KB [mm] "},null,null,null,null,null,null,{"$f":"IF($H10=0,\" \",IF($H10<220,\" min. 220mm\",IF($H10>1800,\" max. 1 800mm\",\" \")))&IF(H17>0,IF(H10=0,\"● \"&ListAVS!$B$128,\" \"),\" \")","v":"  "},null,null,null,null,null,null,null,null,null,null,null,null,null,null,null,{"$f":"CenAVS!A29","v":"Sada zdvihačů HS top, předmont. eurošrouby"},{"$f":"CenAVS!B29","v":"22S2210"},{"$f":"CenAVS!C29","v":"ZN"},0,{"$f":"CenAVS!F29","v":1754.34},{"$f":"AB10*AC10","v":0},{"$f":"IF(AND($W$46=2, SUM($P$4:$P$5)=1), $M$17, 0)","v":0},0,{"$f":"IF(AND($W$46=2, SUM($S$4:$S$5)=1), $M$28, 0)","v":0},0,null,null,null,null,null,{"$f":"\" \"&ListAVS!$B$157","v":" Objednávka"},null,null,"450 - 540","2.50 - 12.50"]
[null,{"$f":"ListAVS!$B$75&\" KH [mm]  \"","v":"Výška korpusu KH [mm]  "},null,null,null,null,null,null,{"$f":"IF($H11=0,\" \",IF($H11<350,\" min. 350mm\",IF($H11>800,\" max. 800 mm\",\" \")))&IF(H17>0,IF(H11=0,\"● \"&ListAVS!$B$128,\" \"),\" \")","v":"  "},null,null,null,null,null,null,null,null,null,null,null,null,null,null,null,{"$f":"CenAVS!A30","v":"Sada zdvihačů HS top, na vruty"},{"$f":"CenAVS!B30","v":"22S2500"},{"$f":"CenAVS!C30","v":"ZN"},0,{"$f":"CenAVS!F30","v":1856.76},0,{"$f":"IF(AND($W$46=1, $P$6=1), $M$17, 0)","v":0},0,{"$f":"IF(AND($W$46=1, $S$6=1), $M$28, 0)","v":0},0,null,null,null,null,null,null,null,null,"480 - 660","2.75 - 15.25","22S2500","22S2510"]
[null,{"$f":"ListAVS!$B$77&\" [kg] ** \"","v":"Hmotnost čela včetně úchytky [kg] ** "},null,null,null,null,null,null,{"$f":"IF($H17=0,  \" \", IF(SUM($H12,$H15)=0,$N$54,\" \"))&IF(AND(SUM($O$4:$O$7)=0, T12=\"ano\", $T13=\"ne\", H12>0),$N$58,IF(AND($H17>0,$H12>0, $M17>0, $T13=\"ano\"),$N$55,\" \"))","v":"  "},null,null,null,null,null,null,null,null,null,"limit v/š",{"$f":"IF(AND(219<H10,H10<1801,349<H11,H11<801),\"ano\",\"ne\")","v":"ne"},null,null,null,null,{"$f":"CenAVS!A31","v":"Sada zdvihačů HS top, předmont. eurošrouby"},{"$f":"CenAVS!B31","v":"22S2510"},{"$f":"CenAVS!C31","v":"ZN"},0,{"$f":"CenAVS!F31","v":1856.76},0,{"$f":"IF(AND($W$46=2, $P$6=1), $M$17, 0)","v":0},0,{"$f":"IF(AND($W$46=2, $S$6=1), $M$28, 0)","v":0},0,null,null,null,null,null,null,null,null,"650 - 800","3.50 - 18.50","22S2800","22S2810"]
[null,{"$f":"ListAVS!$B$292","v":"Výpočet hmotnosti"},null,{"$f":"ListAVS!$B$80&\" TS [mm] \"","v":"Síla čela TS [mm] "},null,null,null,null,null,null,null,null,null,null,null,null,null,null,"limit hmot",{"$f":"IF(AND($H$11>=$AC$51, $H$11<=$AD$51, $P$17>=$AE$51, $P$17<=$AF$51), \"ano\", IF(AND($H$11>=$AC$52, $H$11<=$AD$52, $P$17>=$AE$52, $P$17<=$AF$52), \"ano\", IF(AND($H$11>=$AC$53, $H$11<=$AD$53, $P$17>=$AE$53, $P$17<=$AF$53), \"ano\", IF(AND($H$11>=$AC$54, $H$11<=$AD$54, $P$17>=$AE$54, $P$17<=$AF$54), \"ano\", \"ne\"))))","v":"ne"},null,null,null,null,{"$f":"CenAVS!A32","v":"Sada zdvihačů HS top, na vruty"},{"$f":"CenAVS!B32","v":"22S2800"},{"$f":"CenAVS!C32","v":"ZN"},0,{"$f":"CenAVS!F32","v":1972},0,{"$f":"IF(AND($W$46=1, $P$7=1), $M$17, 0)","v":0},0,{"$f":"IF(AND($W$46=1, $S$7=1), $M$28, 0)","v":0},0]
[null,null,null,{"$f":"ListAVS!$B$83&\" [kg] \"","v":"Hmotnost úchytky [kg] "},null,null,null,null,{"$f":"IF(H17=0, \" \", IF(AND(H12=0, Q16=1, H14=0), \" ● \"&ListAVS!$B$129,\" \"))","v":" "},null,null,null,null,null,null,null,null,null,null,null,null,null,null,null,{"$f":"CenAVS!A33","v":"Sada zdvihačů HS top, předmont. eurošrouby"},{"$f":"CenAVS!B33","v":"22S2810"},{"$f":"CenAVS!C33","v":"ZN"},0,{"$f":"CenAVS!F33","v":1972},0,{"$f":"IF(AND($W$46=2, $P$7=1), $M$17, 0)","v":0},0,{"$f":"IF(AND($W$46=2, $S$7=1), $M$28, 0)","v":0},0,null,null,null,null,null,null,null,null,{"$f":"ListAVS!B349&\" = \"&ListAVS!B351","v":"vruty = zdvihače s integrovanou šablonou (bez nutnosti rozměřování)"}]
[null,null,null,{"$f":"ListAVS!$B$79&\" [kg] \"","v":"Vypočtená hmotnost čela [kg] "},null,null,null,{"$f":"$T$90","v":0},{"$f":"IF(AND($H17>0,$H15>0,$H12=0,$M17>0), $N$41,\" \")&IF(AND(H17>0, H12=0, Z87=3, $J$4=0), $N$39, \" \")","v":"  "},null,null,null,null,null,null,"Servo-Drive",null,null,null,null,null,null,null,null,null,null,null,null,null,null,null,null,null,null,null,null,null,null,null,null,null,null,{"$f":"ListAVS!B350&\" = \"&ListAVS!B352","v":"předmont. eurošrouby = zdvihače s předmotovanými šrouby (nutné předvrtání)"}]
[null,null,null,null,null,null,null,null,{"$f":"IF(AND(H16>0, Q16=2), $N$53, \" \")","v":" "},null,null,null,null,null,false,null,1,null,null,null,null,null,null,null,{"$f":"CenAVS!A34","v":"Sada ramen HS top"},{"$f":"CenAVS!B34","v":"22S3500"},{"$f":"CenAVS!C34","v":"ZN"},{"$f":"SUM(AE16,AG16)","v":0},{"$f":"CenAVS!F34","v":1169.26},{"$f":"AB16*AC16","v":0},{"$f":"SUM($AE$9:$AE$14)","v":0},{"$f":"$AC16*AE16","v":0},{"$f":"SUM($AG$9:$AG$14)","v":0},{"$f":"$AC16*AG16","v":0}]
[null,{"$f":"ListAVS!$B$71","v":"Počet skříněk"},null,null,null,null,null,null,null,null,null,null,{"$f":"IF($H10*$H11*$P17=0,0,IF(SUM(O4:O7)=0,0,IF($H10>1800,0, IF($H10<220, 0, $H17))))","v":0},null,"hmot =",{"$f":"IF(H12>0,H12,H15)","v":0},{"$f":"IF(SUM(H12,H15)=0,0,IF(H12>0,1,2))","v":0},"zadaná / vypočtená"]
[null,{"$f":"IF(H17>0,IF(OR(Q17=0,M17=0), \" \",IF(Q17=1,$N$67,$N$68)),\" \")&IF(H17>0,IF(OR(Q17=0, M17=0), \" \",IF(Q17=1,$N$69,$N$70)),\" \")","v":"  "}]
[null,null,null,null,null,null,null,null,null,null,null,null,null,"tyč",{"$f":"IF($H$10>1360,1.5,IF($H$10<610,0.5,1))","v":0.5},null,"tyč",{"$f":"IF($H$21>1360,1.5,IF($H$21<610,0.5,1))","v":0.5}]
[null,{"$f":"\"▼ \"&ListAVS!$B$317","v":"▼ Způsob otvírání"},null,{"$f":"IF($M$28>0, ListAVS!$B$37&\": \", \" \")","v":" "},{"$f":"IF(SUM($AG$9:$AG$10)>0,\"22\",IF(SUM($AG$11:$AG$12)>0,\"25\",IF(SUM($AG$13:$AG$14)>0,\"28\",\" \")))","v":" "},{"$f":"ListAVS!$B$64&\" B\"","v":"Korpus B"},null,null,null,null,null,null,null,"mezistěny",{"$f":"IF($H$16>0,$H$16,IF($H$10>1219,1,0))","v":0},null,"mezistěny",{"$f":"IF($H$27>0,$H$27,IF($H$21>1219,1,0))","v":0},null,null,null,null,null,null,{"$f":"CenAVS!A47","v":"Sada krytek HF, HS, HL top, světle šedá"},{"$f":"CenAVS!B47","v":"22.8000"},{"$f":"CenAVS!C47","v":"HGR"},0,{"$f":"CenAVS!F47","v":252.85},0,{"$f":"IF(AND($Q$16=1,$T$46=1),SUM($AE$9:$AE$14),0)","v":0},0,{"$f":"IF(AND($Q$27=1,$T$46=1),SUM($AG$9:$AG$14),0)","v":0},0]
[null,{"$f":"ListAVS!$B$74&\" KB [mm] \"","v":"Šířka korpusu KB [mm] "},null,null,null,null,null,null,{"$f":"IF($H21=0,\" \",IF($H21<220,\" min. 220mm\",IF($H21>1800,\" max. 1 800mm\",\" \")))&IF(H28>0,IF(H21=0,\"● \"&ListAVS!$B$128,\" \"),\" \")","v":"  "},null,null,null,null,null,null,null,null,null,null,null,null,null,null,null,{"$f":"CenAVS!A48","v":"Sada krytek HF, HS, HL top, tmavě šedá"},{"$f":"CenAVS!B48","v":"22.8000"},{"$f":"CenAVS!C48","v":"TGR"},0,{"$f":"CenAVS!F48","v":275.94},0,{"$f":"IF(AND($Q$16=1,$T$46=2),SUM($AE$9:$AE$14),0)","v":0},0,{"$f":"IF(AND($Q$27=1,$T$46=2),SUM($AG$9:$AG$14),0)","v":0},0]
[null,{"$f":"ListAVS!$B$75&\" KH [mm] \"","v":"Výška korpusu KH [mm] "},null,null,null,null,null,null,{"$f":"IF($H22=0,\" \",IF($H22<350,\" min. 350mm\",IF($H22>800,\" max. 800 mm\",\" \")))&IF(H28>0,IF(H22=0,\"● \"&ListAVS!$B$128,\" \"),\" \")","v":"  "},null,null,null,null,null,null,null,null,null,null,null,null,null,null,null,{"$f":"CenAVS!A49","v":"Sada krytek HF, HS, HL top, hedvábně bílá"},{"$f":"CenAVS!B49","v":"22.8000"},{"$f":"CenAVS!C49","v":"SW"},0,{"$f":"CenAVS!F49","v":275.94},0,{"$f":"IF(AND($Q$16=1,$T$46=3),SUM($AE$9:$AE$14),0)","v":0},0,{"$f":"IF(AND($Q$27=1,$T$46=3),SUM($AG$9:$AG$14),0)","v":0},0]
[null,{"$f":"ListAVS!$B$77&\" [kg] ** \"","v":"Hmotnost čela včetně úchytky [kg] ** "},null,null,null,null,null,null,{"$f":"IF($H28=0,\" \",IF(SUM($H23,$H26)=0,$N$54,\" \"))&IF(AND(SUM($R$4:$R$7)=0, T23=\"ano\", $T24=\"ne\",H23>0),$N$58,IF(AND($H28>0,$H23>0, $M28>0, $T24=\"ano\"),$N$55,\" \"))","v":"  "},null,null,null,null,null,null,null,null,null,"limit v/š",{"$f":"IF(AND(219<H21,H21<1801,349<H22,H22<801),\"ano\",\"ne\")","v":"ne"},null,null,null,null,{"$f":"CenAVS!A50","v":"Sada krytek pro SERVO-DRIVE, světle šedá"},{"$f":"CenAVS!B50","v":"23.8000"},{"$f":"CenAVS!C50","v":"HGR"},0,{"$f":"CenAVS!F50","v":2606.7600000000002},0,{"$f":"IF(AND($Q$16=2,$T$46=1),SUM($AE$9:$AE$14),0)","v":0},0,{"$f":"IF(AND($Q$27=2,$T$46=1),SUM($AG$9:$AG$14),0)","v":0},0]
[null,{"$f":"ListAVS!$B$292","v":"Výpočet hmotnosti"},null,{"$f":"ListAVS!$B$80&\" TS [mm] \"","v":"Síla čela TS [mm] "},null,null,null,null,null,null,null,null,null,null,null,null,null,null,"limit hmot",{"$f":"IF(AND($H$22>=$AC$51, $H$22<=$AD$51, $P$28>=$AE$51, $P$28<=$AF$51), \"ano\", IF(AND($H$22>=$AC$52, $H$22<=$AD$52, $P$28>=$AE$52, $P$28<=$AF$52), \"ano\", IF(AND($H$22>=$AC$53, $H$22<=$AD$53, $P$28>=$AE$53, $P$28<=$AF$53), \"ano\", IF(AND($H$22>=$AC$54, $H$22<=$AD$54, $P$28>=$AE$54, $P$28<=$AF$54), \"ano\", \"ne\"))))","v":"ne"},null,null,null,null,{"$f":"CenAVS!A51","v":"Sada krytek pro SERVO-DRIVE, tmavě šedá"},{"$f":"CenAVS!B51","v":"23.8000"},{"$f":"CenAVS!C51","v":"TGR"},0,{"$f":"CenAVS!F51","v":2709.29},0,{"$f":"IF(AND($Q$16=2,$T$46=2),SUM($AE$9:$AE$14),0)","v":0},0,{"$f":"IF(AND($Q$27=2,$T$46=2),SUM($AG$9:$AG$14),0)","v":0},0]
[null,null,null,{"$f":"ListAVS!$B$83&\" [kg] \"","v":"Hmotnost úchytky [kg] "},null,null,null,null,{"$f":"IF(H28=0, \" \", IF(AND(H23=0, Q27=1, H25=0), \" ● \"&ListAVS!$B$129,\" \"))","v":" "},null,null,null,null,null,null,null,null,null,null,null,null,null,null,null,{"$f":"CenAVS!A52","v":"Sada krytek pro SERVO-DRIVE,hedvábně bílá"},{"$f":"CenAVS!B52","v":"23.8000"},{"$f":"CenAVS!C52","v":"SW"},0,{"$f":"CenAVS!F52","v":2709.29},0,{"$f":"IF(AND($Q$16=2,$T$46=3),SUM($AE$9:$AE$14),0)","v":0},0,{"$f":"IF(AND($Q$27=2,$T$46=3),SUM($AG$9:$AG$14),0)","v":0},0]
[null,null,null,{"$f":"ListAVS!$B$79&\" [kg] \"","v":"Vypočtená hmotnost čela [kg] "},null,null,null,{"$f":"$T$101","v":0},{"$f":"IF(AND($H28>0,$H26>0,$H23=0,$M28>0), $N$41,\" \")&IF(AND(H28>0, H23=0, Z98=3, $J$4=0), $N$39, \" \")","v":"  "},null,null,null,null,null,null,"Servo-Drive"]
[null,null,null,null,null,null,null,null,{"$f":"IF(AND(H27>0, Q27=2), $N$53, \" \")","v":" "},null,null,null,null,null,false,null,1]
[null,{"$f":"ListAVS!$B$71","v":"Počet skříněk"},null,null,null,null,null,null,null,null,null,null,{"$f":"IF($H21*$H22*$P28=0,0,IF(SUM(R4:R7)=0,0,IF($H21>1800,0, IF($H21<220, 0, $H28))))","v":0},null,"hmot =",{"$f":"IF(H23>0,H23,H26)","v":0},{"$f":"IF(SUM(H23,H26)=0,0,IF(H23>0,1,2))","v":0},"zadaná / vypočtená"]
[null,{"$f":"IF(H28>0,IF(OR(Q28=0,M28=0), \" \",IF(Q28=1,$N$67,$N$68)),\" \")&IF(H28>0,IF(OR(Q28=0, M28=0), \" \",IF(Q28=1,$N$69,$N$70)),\" \")","v":"  "},null,null,null,null,null,null,null,null,null,null,null,null,null,null,null,null,null,null,null,null,null,null,{"$f":"CenAVS!A78","v":"Sada čel.kování pro dřev. čela"},{"$f":"CenAVS!B78","v":"20S4200"},{"$f":"CenAVS!C78","v":"NI"},0,{"$f":"CenAVS!F78","v":90.38},0,null,{"$f":"$AC29*AE29","v":0},null,0]
[null,null,null,null,null,null,null,null,null,null,null,null,null,null,null,null,null,null,null,null,null,null,null,null,{"$f":"CenAVS!A79","v":"Čelní.kování pro dřev. čela EXPANDO"},{"$f":"CenAVS!B79","v":"20S42E1"},{"$f":"CenAVS!C79","v":"NI"},0,{"$f":"CenAVS!F79","v":51.36},0,null,0,null,0]
[null,{"$f":"IF(OR(AND($Q$16=2, $M$17>0), AND($Q$27=2, $M$28>0)), ListAVS!$B$175, \" \")","v":" "},null,null,null,null,null,null,null,null,null,null,null,null,{"$f":"IF($P$31=FALSE,2,1)","v":2},false,null," - Zdroj",null,null,null,null,null,null,{"$f":"CenAVS!A80","v":"Sada čel.kování pro tenké materiály"},{"$f":"CenAVS!B80","v":"20S42T1"},{"$f":"CenAVS!C80","v":"NI"},0,{"$f":"CenAVS!F80","v":291.60000000000002},0,null,0,null,0]
[null,null,null,null,null,null,null,null,null,null,null,null,null,null,null,null,null,null,null,null,null,null,null,null,{"$f":"CenAVS!A81","v":"Sada čel.kování pro úzké alurámečky"},{"$f":"CenAVS!B81","v":"20S4200A"},{"$f":"CenAVS!C81","v":"NI"},0,{"$f":"CenAVS!F81","v":395.5},0,{"$f":"AE16","v":0},0,{"$f":"AG16","v":0},0]
[null,null,null,null,null,null,null,null,null,null,null,null,null,null,null,null,null,null,null,null,null,null,null,null,{"$f":"CenAVS!A82","v":0},{"$f":"CenAVS!B82","v":0},{"$f":"CenAVS!C82","v":0},0,{"$f":"CenAVS!F82","v":0},0,null,0,null,0]
[null,null,null,null,null,null,null,null,null,null,null,null,null,null,null,null,null,null,null,null,null,null,null,null,null,null,null,null,null,null,null,0,null,0]
[null,null,null,null,null,null,null,null,null,null,null,null,null,{"$f":"ListAVS!B176","v":"Cena bez napájecího zdroje!"},null,null,null,null,null,null,null,null,null,null,null,null,null,null,null,null,null,0,null,0]
[null,null,null,null,null,null,null,null,null,null,null,null,null,null,null,null,null,null,null,null,null,null,null,null,null,null,null,null,null,null,null,0,null,0]
[null,null,{"$f":"\"* \"&ListAVS!$B$233","v":"* Zadejte počet mezistěn v korpusu "},null,null,null,null,null,null,null,null,null,null,{"$f":"\" \"&ListAVS!$B$115","v":" Zadejte hmotnost nebo vyplňte všechny buňky"},null,null,null,null,null,null,null,null,null,null,null,null,null,null,null,null,null,0,null,0]
[null,null,{"$f":"\"** \"&ListAVS!$B$186","v":"** Pokud znáte hmotnost a nechcete využít výpočtu hmotnosti"},null,null,null,null,null,null,null,null,null,null,{"$f":"\" \"&ListAVS!$B$116","v":" Zadejte hmotnost nebo vyplňte nahoře sílu skla"},null,null,null,null,null,null,null,null,null,null,null,null,null,null,null,null,null,0,null,0]
[null,null,{"$f":"\"*** \"&ListAVS!$B$403","v":"*** Vyberte typ alurámečku!"},null,null,null,null,null,null,null,null,null,null,{"$f":"\" \"&ListAVS!$B$117","v":" Vyplňte nahoře objemovou hmotnost "}]
[null,null,{"$f":"\"      \"&ListAVS!$B$404","v":"      Více informací k výběru alurámečků v Nápovědě"},null,null,null,null,null,null,null,null,null,null,null,null,null,null,null,null,null,null,null,null,null,null,null,null,null,null,null,null,{"$f":"$AC40*AE40","v":0},null,{"$f":"$AC40*AG40","v":0}]
[null,null,null,null,null,null,null,null,null,null,null,null,null,{"$f":"\"◄ \"&ListAVS!$B$111","v":"◄ hodnota bude použita pro výpočet LF"},null,null,null,null,null,null,null,null,null,null,null,null,null,null,null,null,null,{"$f":"$AC41*AE43","v":0},null,{"$f":"$AC41*AG41","v":0}]
[null,null,null,null,null,null,null,null,null,null,null,null,null,{"$f":"\" * \"&ListAVS!$B$127","v":" * Doplňte hodnoty"},null,null,null,null,null,null,null,null,null,null,{"$f":"CenAVS!A169","v":0},{"$f":"CenAVS!B169","v":0},{"$f":"CenAVS!C169","v":0},null,{"$f":"CenAVS!F169","v":0},0,null,{"$f":"$AC42*AE42","v":0},null,{"$f":"$AC42*AG42","v":0}]
[null,null,null,null,null,null,null,null,null,null,null,null,null,null,null,null,null,null,null,null,null,null,null,null,{"$f":"CenAVS!A171","v":"SERVO-DRIVE jednotka (sada)"},{"$f":"CenAVS!B171","v":"23.A000"},{"$f":"CenAVS!C171","v":"R7037"},{"$f":"SUM(AE43,AG43)","v":0},{"$f":"CenAVS!F171","v":8297.32},0,{"$f":"IF($Q$16=1, 0, $M$17)","v":0},{"$f":"$AC43*AE43","v":0},{"$f":"IF($Q$27=1, 0, $M$28)","v":0},{"$f":"$AC43*AG43","v":0}]
[]
[null,null,null,null,null,null,null,null,null,null,null,null,null,null,null,null,null,null,null,null,null,null,null,null,null,null,null,null,{"$f":"ListAVS!$B$61&\" \"","v":"Cena celkem bez DPH "},{"$f":"SUM(AD9:AD43)","v":0},null,{"$f":"SUM(AF9:AF44)","v":0},null,{"$f":"SUM(AH9:AH44)","v":0}]
[null,null,null,null,null,null,null,null,null,null,null,null,null,null,{"$f":"HS!$N$26","v":2},null,null,null,2,{"$f":"MenuAVS!$P$28","v":1},null,null,{"$f":"HS!$P$26","v":1}]
[null,null,null,null,null,null,null,null,null,null,null,null,null,null,"čelní kov.",null,"Provedení:",null,"alu","kryt.",null,null,{"$f":"HS!P27","v":"mont."}]
[null,null,null,null,null,null,null,null,null,null,null,null,null,null,{"$f":"ListAVS!$B$142","v":"Expando"},null,"Standard",null,null,{"$f":"ListAVS!$B$145","v":"Světle šedá (HGR)"},null,null,{"$f":"HS!P28","v":"vruty"}]
[null,null,null,null,null,null,null,null,null,null,null,null,null,null,{"$f":"ListAVS!$B$143","v":"na vruty"},null,"SERVO-DRIVE",null,null,{"$f":"ListAVS!$B$146","v":"Tmavě šedá (TGR)"},null,null,{"$f":"HS!P29","v":"předmont. eurošrouby"},null,null,null,{"$f":"Param!M22","v":"Parametry HS"}]
[null,null,null,null,null,null,null,null,null,null,null,null,null,null,null,null,null,null,null,{"$f":"ListAVS!$B$147","v":"Hedvábně bílá (SW)"},null,null,null,null,null,null,{"$f":"Param!M23","v":"Zdvihač"},{"$f":"Param!N23","v":"ks"},{"$f":"Param!O23","v":"min"},{"$f":"Param!P23","v":"max"},{"$f":"Param!Q23","v":"hmot. min."},{"$f":"Param!R23","v":"hmot. max."}]
[null,null,null,null,null,null,null,null,null,null,null,null,null,null,null,null,null,null,null,null,null,null,null,null,null,null,{"$f":"Param!M24","v":"22S2200"},null,{"$f":"Param!O24","v":350},{"$f":"Param!P24","v":450},{"$f":"Param!Q24","v":2},{"$f":"Param!R24","v":11.5}]
[null,null,null,null,null,null,null,null,null,null,null,null,null,{"$f":"\" \"&ListAVS!$B$108","v":" v kombinaci se SERVO-DRIVE"},null,null,null,null,null,null,null,null,null,null,null,null,{"$f":"Param!M25","v":"22S2200 v"},null,{"$f":"Param!O25","v":450},{"$f":"Param!P25","v":540},{"$f":"Param!Q25","v":2.5},{"$f":"Param!R25","v":12.5}]
[null,null,null,null,null,null,null,null,null,null,null,null,null,{"$f":"\" \"&ListAVS!$B$109","v":" nelze v kombinaci se SERVO-DRIVE"},null,null,null,null,null,null,null,null,null,null,null,null,{"$f":"Param!M26","v":"22S2500"},null,{"$f":"Param!O26","v":480},{"$f":"Param!P26","v":660},{"$f":"Param!Q26","v":2.75},{"$f":"Param!R26","v":15.25}]
[null,null,null,null,null,null,null,null,null,null,null,null,null,{"$f":"\" \"&ListAVS!$B$115","v":" Zadejte hmotnost nebo vyplňte všechny buňky"},null,null,null,null,null,null,null,null,null,null,null,null,{"$f":"Param!M27","v":"22S2800"},null,{"$f":"Param!O27","v":650},{"$f":"Param!P27","v":800},{"$f":"Param!Q27","v":3.5},{"$f":"Param!R27","v":18.5}]
[null,null,null,null,null,null,null,null,null,null,null,null,null,{"$f":"\"◄ \"&ListAVS!$B$112","v":"◄ hodnota bude použita pro výběr zdvihače"}]
[null,null,null,null,null,null,null,null,null,null,null,null,null,{"$f":"\" * \"&ListAVS!$B$127","v":" * Doplňte hodnoty"}]
[]
[null,null,null,null,null,null,null,null,null,null,null,null,null,{"$f":"\" \"&ListAVS!$B$124&\"!\"","v":" Hmotnost mimo povolený rozsah!"}]
[null,null,null,null,null,null,null,null,null,null,null,null,null,{"$f":"\" max. 9 000! \"&ListAVS!$B$121","v":" max. 9 000! Upravte hmotnost nebo výšku"}]
[null,null,null,null,null,null,null,null,null,null,null,null,null,{"$f":"\" \"&ListAVS!$B$234","v":" Nutná mezistěna"}]
[]
[]
[]
[]
[]
[]
[null,null,null,null,null,null,null,null,null,null,null,null,null,{"$f":"ListAVS!B187&\". \"","v":"Pro určení typu zdvihače bude použita zadaná hmotnost. "}]
[null,null,null,null,null,null,null,null,null,null,null,null,null,{"$f":"ListAVS!B188&\". \"","v":"Pro určení typu zdvihače bude použita vypočtená hmotnost. "}]
[null,null,null,null,null,null,null,null,null,null,null,null,null,{"$f":"ListAVS!B189","v":"Chcete-li použít vypočtenou hmotnost, smažte zadanou hodnotu"}]
[null,null,null,null,null,null,null,null,null,null,null,null,null,{"$f":"ListAVS!B190","v":"Chcete-li použít zadanou hmotnost, zadejte ji do políčka"}]
[]
[]
[]
[]
[]
[]
[]
[]
[null,null,null,null,null,null,null,null,null,null,null,null,null,{"$f":"ListAVS!$B$73","v":"Výpočet hmotnosti čel"}]
[null,null,null,null,null,null,null,null,null,null,null,null,null,null,null,{"$f":"ListAVS!$B$179&\"  \"","v":"Provedení čel  "},null,null,null,{"$f":"J4","v":0},{"$f":"IF(AF87=3,IF(T80=0,Y82,\" \"),IF(T80>0,Y83,\" \"))","v":" "},null,null,null,{"$f":"IF($AF$87=1,$AF$105,IF($AF$87=2,$AF$106,$AF$107&\" - \"&$Y$90&\"mm\"))","v":"Alurámečky s 4mm sklem"},null,null,null,null,{"$f":"MenuAVS!$Q$81","v":2500}]
[null,null,null,null,null,null,null,null,null,null,null,null,null,null,null,null,null,null,null,null,null,null,null,null,{"$f":"\" \"&ListAVS!$B$410","v":" Změnit hodnoty můžete v Úvodu plánování"}]
[null,null,null,null,null,null,null,null,null,null,null,null,null,null,null,null,null,null,null,null,null,null,null,null,{"$f":"\" \"&ListAVS!$B$245&\" [mm]\"","v":" Zadejte sílu skla [mm]"}]
[null,null,null,null,null,null,null,null,null,null,null,null,null,null,null,null,null,null,null,null,null,null,null,null,{"$f":"\" \"&ListAVS!$B$240&\" '\"&ListAVS!$B$95&\"'\"","v":" Hodnota platí jen pro volbu 'Alurámečky s jiným sklem'"}]
[]
[null,null,null,null,null,null,null,null,null,null,null,null,null,null,null,null,null,{"$f":"D9","v":" "},null,null,null,null,null,null,null,null,null,null,null,null,"váha spoj."]
[null,null,null,null,null,null,null,null,null,null,null,null,null,{"$f":"ListAVS!$B$74&\" KB [mm]       \"","v":"Šířka korpusu KB [mm]       "},null,null,null,null,null,{"$f":"H10","v":0},null,null,null,null,{"$f":"T86*T87*T88","v":0},null,null,null,null,{"$f":"IF($AG$87=1,$X$105,$X$106)","v":0.31},{"$f":"$X$107","v":0.46},"tl. skla","typ alu"]
[null,null,null,null,null,null,null,null,null,null,null,null,null,{"$f":"ListAVS!$B$75&\" KH [mm]       \"","v":"Výška korpusu KH [mm]       "},null,null,null,null,null,{"$f":"H11","v":0},null,null,null,null,{"$f":"Y86/1000000000","v":0},2,null,null,null,"váha alu",{"$f":"SUM(T86*2,(T87-40)*2)*AD86/1000","v":-2.4799999999999999E-2},1,{"$f":"$V$4","v":1}]
[null,null,null,null,null,null,null,null,null,null,null,null,null,{"$f":"ListAVS!$B$80&\" TS [mm] \"","v":"Síla čela TS [mm] "},null,null,null,null,null,null,null,null,null,null,{"$f":"MenuAVS!$C$31","v":760},{"$f":"ListAVS!$B$90&\" (\"&Y88&\" kg/m3)\"","v":"MDF (760 kg/m3)"},null,null,null,{"$f":"$AD$80*4/1000","v":10},{"$f":"IF($AG$87=1,AF89*AD88,AG89*AD88)","v":8.9999999999999993E-3},"A plocha B"]
[null,null,null,null,null,null,null,null,null,null,null,null,null,{"$f":"ListAVS!$B$83&\" [kg] \"","v":"Hmotnost úchytky [kg] "},null,null,null,null,null,{"$f":"H14","v":0},{"$f":"IF(SUM(T86,T87)=0,\" \",IF(T89=0,\" ● \"&ListAVS!$B$129,\" \"))","v":" "},null,null,null,{"$f":"MenuAVS!$C$32","v":680},{"$f":"ListAVS!$B$91&\" (\"&Y89&\" kg/m3)\"","v":"Dřevotříska (680 kg/m3)"},null,null,null,{"$f":"$AD$80*5/1000","v":12.5},{"$f":"IF($AG$87=1,AF90*AD89,AG90*AD89)","v":1.125E-2},{"$f":"SUM(($T$86-30)*($T$87-30)/1000000)","v":8.9999999999999998E-4},{"$f":"SUM(($T$86-6)*($T$87-6)/1000000)","v":3.6000000000000001E-5},"4mm"]
[null,null,null,null,null,null,null,null,null,null,null,null,null,{"$f":"ListAVS!$B$79&\" [kg] \"","v":"Vypočtená hmotnost čela [kg] "},null,null,null,null,null,{"$f":"IF(AD91=0,0,AD91+T89)","v":0},null,null,null,{"$f":"IF(T86*T87*T88=0,0,IF(Z87=1,Y87*Y88,IF(Z87=2,Y87*Y89,Y87*Y90)))","v":0},{"$f":"$T$80","v":0},{"$f":"ListAVS!$B$92","v":"Jiné - volitelná hustota"},null,null,null,{"$f":"$AD$80*$T$80/1000","v":0},{"$f":"IF($AG$87=1,AF91*AD90,AG91*AD90)","v":0},{"$f":"SUM(($T$86-30)*($T$87-30)/1000000)","v":8.9999999999999998E-4},{"$f":"SUM(($T$86-6)*($T$87-6)/1000000)","v":3.6000000000000001E-5},"5mm"]
[null,null,null,null,null,null,null,null,null,null,null,null,null,null,{"$f":"IF(T90>0,IF(T89=0,$Z$105,\" \"),\" \")","v":" "},null,null,null,null,null,null,null,null,null,null,null,null,null,null,{"$f":"IF(OR(AND(AF87=3, $T$80=0), T86*T87=0), 0, SUM(IF(AF87=1,AE88,IF(AF87=2,AE89,AE90)),AE87,AE86))","v":0},null,{"$f":"SUM(($T$86-30)*($T$87-30)/1000000)","v":8.9999999999999998E-4},{"$f":"SUM(($T$86-6)*($T$87-6)/1000000)","v":3.6000000000000001E-5},"jiné"]
[]
[]
[]
[]
[null,null,null,null,null,null,null,null,null,null,null,null,null,null,null,null,null,{"$f":"D20","v":" "},null,null,null,null,null,null,null,null,null,null,null,null,"váha spoj."]
[null,null,null,null,null,null,null,null,null,null,null,null,null,{"$f":"ListAVS!$B$74&\" KB [mm]       \"","v":"Šířka korpusu KB [mm]       "},null,null,null,null,null,{"$f":"H21","v":0},null,null,null,null,{"$f":"T97*T98*T99","v":0},null,null,null,null,{"$f":"IF($AG$87=1,$X$105,$X$106)","v":0.31},{"$f":"$X$107","v":0.46},"tl. skla","typ alu"]
[null,null,null,null,null,null,null,null,null,null,null,null,null,{"$f":"ListAVS!$B$75&\" KH [mm]       \"","v":"Výška korpusu KH [mm]       "},null,null,null,null,null,{"$f":"H22","v":0},null,null,null,null,{"$f":"Y97/1000000000","v":0},{"$f":"Z87","v":2},null,null,null,"váha alu",{"$f":"SUM(T97*2,(T98-40)*2)*AD97/1000","v":-2.4799999999999999E-2},{"$f":"$AF$87","v":1},{"$f":"$AG$87","v":1}]
[null,null,null,null,null,null,null,null,null,null,null,null,null,{"$f":"ListAVS!$B$80&\" TS [mm] \"","v":"Síla čela TS [mm] "},null,null,null,null,null,null,null,null,null,null,{"$f":"$Y$88","v":760},{"$f":"$Z$88","v":"MDF (760 kg/m3)"},null,null,null,{"$f":"AD88","v":10},{"$f":"IF($AG$87=1,AF100*AD99,AG100*AD99)","v":8.9999999999999993E-3},"A plocha B"]
[null,null,null,null,null,null,null,null,null,null,null,null,null,{"$f":"ListAVS!$B$83&\" [kg] \"","v":"Hmotnost úchytky [kg] "},null,null,null,null,null,{"$f":"H25","v":0},{"$f":"IF(SUM(T97,T98)=0,\" \",IF(T100=0,\" ● \"&ListAVS!$B$129,\" \"))","v":" "},null,null,null,{"$f":"$Y$89","v":680},{"$f":"$Z$89","v":"Dřevotříska (680 kg/m3)"},null,null,null,{"$f":"AD89","v":12.5},{"$f":"IF($AG$87=1,AF101*AD100,AG101*AD100)","v":1.125E-2},{"$f":"SUM(($T$97-30)*($T$98-30)/1000000)","v":8.9999999999999998E-4},{"$f":"SUM(($T$97-6)*($T$98-6)/1000000)","v":3.6000000000000001E-5},"4mm"]
[null,null,null,null,null,null,null,null,null,null,null,null,null,{"$f":"ListAVS!$B$79&\" [kg] \"","v":"Vypočtená hmotnost čela [kg] "},null,null,null,null,null,{"$f":"IF(AD102=0,0,AD102+T100)","v":0},null,null,null,{"$f":"IF(T97*T98*T99=0,0,IF(Z98=1,Y98*Y99,IF(Z98=2,Y98*Y100,Y98*Y101)))","v":0},{"$f":"$Y$90","v":0},{"$f":"$Z$90","v":"Jiné - volitelná hustota"},null,null,null,{"$f":"AD90","v":0},{"$f":"IF($AG$87=1,AF102*AD101,AG102*AD101)","v":0},{"$f":"SUM(($T$97-30)*($T$98-30)/1000000)","v":8.9999999999999998E-4},{"$f":"SUM(($T$97-6)*($T$98-6)/1000000)","v":3.6000000000000001E-5},"5mm"]
[null,null,null,null,null,null,null,null,null,null,null,null,null,null,{"$f":"IF(T101>0,IF(T100=0,$Z$105,\" \"),\" \")","v":" "},null,null,null,null,null,null,null,null,null,null,null,null,null,null,{"$f":"IF(OR(AND(AF98=3, $T$80=0), T97*T98=0), 0, SUM(IF(AF98=1,AE99,IF(AF98=2,AE100,AE101)),AE98,AE97))","v":0},null,{"$f":"SUM(($T$97-30)*($T$98-30)/1000000)","v":8.9999999999999998E-4},{"$f":"SUM(($T$97-6)*($T$98-6)/1000000)","v":3.6000000000000001E-5},"jiné"]
[]
[]
[null,null,null,null,null,null,null,null,null,null,null,null,null,null,null,null,null,null,null,null,null,null,{"$f":"ListAVS!$B$422&\"  \"","v":"s vloženým sklem  "},{"$f":"MenuAVS!$I$91","v":0.31},null,{"$f":"ListAVS!$B$102&\"!\"","v":"Není započtena hmotnost úchytky!"},null,null,null,null,null,{"$f":"ListAVS!$B$93","v":"Alurámečky s 4mm sklem"}]
[null,null,null,null,null,null,null,null,null,null,null,null,null,null,null,null,null,null,null,null,null,null,{"$f":"ListAVS!$B$423&\"  \"","v":"s naloženým nebo nalepeným sklem  "},{"$f":"MenuAVS!$I$92","v":0.32},null,null,null,null,null,null,null,{"$f":"ListAVS!$B$94","v":"Alurámečky s 5mm sklem"}]
[null,null,null,null,null,null,null,null,null,null,null,null,null,null,null,null,null,null,null,null,null,null,{"$f":"ListAVS!$B$405&\" [kg/set] *  \"","v":"Hmotnost spojovacího materiálu [kg/set] *  "},{"$f":"MenuAVS!$I$93","v":0.46},null,null,null,null,null,null,null,{"$f":"ListAVS!$B$95","v":"Alurámečky s jiným sklem"}]
[]
[]
[null,"      AVENTOS HS"]
[]
[null,{"$f":"ListAVS!$B$332","v":"Pro výběr správného zdvihače potřebujete znát výšku korpusu a hmotnost čela."}]
[]
[null,{"$f":"ListAVS!$B$334","v":"Výška korpusu KH = 602 mm zaokrouhlit na KH = 600 mm"}]
[null,{"$f":"ListAVS!$B$335","v":"Výška korpusu KH = 603 mm zaokrouhlit na KH = 605 mm"}]
[]
[null,{"$f":"ListAVS!$B$311","v":"Pokud znáte hmotnost čela, můžete ji zadat, jinak použijte \"Výpočet hmotnosti\"."}]
[null,{"$f":"ListAVS!$B$312","v":"V tabulce má přednost zadaná hodnota. Chcete-li použít vypočtenou hmotnost, smažte zadanou hodnotu."}]
[]
[]
[null,{"$f":"ListAVS!$B$305","v":"Chcete-li změnit barvu krytek, přejděte na \"Úvod plánování\""}]
[]
[null,{"$f":"ListAVS!$B$411","v":"Věnujte pozornost výběru alurámečků."}]
[null,{"$f":"ListAVS!$B$412","v":"Vyberte, který typ lépe odpovídá tvaru použitého alurámečku."}]
[null,{"$f":"ListAVS!$B$413","v":"Způsob osazení skla do rámečku výrazně ovlivňuje plochu skla a tím i hmotnost!"}]
[]
[null,null,{"$f":"\"  \"&ListAVS!$B$424&\"  \"","v":"  s vloženým sklem  "}]
[]
[null,null,{"$f":"\"  \"&ListAVS!$B$425&\"  \"","v":"  s naloženým nebo nalepeným sklem  "}]
[]
[null,null,null,null,null,null,null,null,null,null,null,{"$f":"ListAVS!$B$167","v":"Zpět"}]

{"sheet":"HSt","index":19,"n_rows":122,"n_cols":46,"rows_kept":122,"cut":false,"hidden":false,"merged":[[12,1,14,2],[12,3,12,6],[8,1,8,2],[9,1,9,6],[10,1,10,6],[11,1,11,6],[13,3,13,6],[14,3,14,6],[6,1,6,2],[6,6,6,7],[0,45,0,46],[1,13,1,14],[1,16,1,17],[3,10,4,11],[4,5,4,9],[8,44,9,44],[8,45,9,45],[98,13,98,18],[40,1,44,11],[88,13,88,18],[89,13,89,18],[95,17,95,19],[96,13,96,18],[97,13,97,18],[27,1,27,6],[30,1,32,9],[30,15,30,16],[20,1,20,6],[21,1,21,6],[22,1,22,6],[26,1,26,6],[26,14,26,15],[23,1,25,2],[23,3,23,6],[24,3,24,6],[25,3,25,6],[109,0,148,0],[1,1,1,2],[99,13,99,18],[100,13,100,18],[105,18,105,19],[15,1,15,6],[15,14,15,15],[16,1,16,6],[19,1,19,2],[8,5,8,7],[19,5,19,7],[80,13,80,19],[84,17,84,19],[85,13,85,18],[86,13,86,18],[87,13,87,18]]}
[]
[null," AVENTOS HS top",null,null,null,null,null,null,null,null,null,null,null,"zdvih A",null,"↓rozhodnutí","zdvih B",null,"↓rozhodnutí",null,null,null,null,null,null,null,null,null,null,null,null,null,null,null,null,null,3,null,null,{"$f":"ListAVS!$B$152","v":"Jdi na"}]
[]
[null,{"$f":"ListAVS!$B$23&\" ***\"","v":"Tenké materiály ***"},null,null,null,{"$f":"ListAVS!$B$26&\":   \"","v":"Materiál :   "},null,null,null,null,{"$f":"IF($Z$82=8,IF(J4=0,$Y$78,\" \"),IF(J4>0,$Y$79,\" \"))","v":" "},null,null,"S22",{"$f":"IF(AND($H$11>=$AC$51, $H$11<$AD$51, $P$17>=$AE$51, $P$17<=$AF$51), 1, 0)","v":0},{"$f":"O4","v":0},"S22",{"$f":"IF(AND($H$22>=$AC$51, $H$22<$AD$51, $P$28>=$AE$51, $P$28<=$AF$51), 1, 0)","v":0},{"$f":"R4","v":0},"← (350–450)",null,null,null,null,null,null,null,null,null,null,null,null,null,null,null,null,{"$f":"\" \"&ListAVS!$B$41&\" A \"","v":" Cena za korpus A "},null,null," Úvod plánování"]
[null,null,null,null,null,{"$f":"IF($Z$82<>8,$Y$77,\" \")&\"      \"","v":" Změnit hodnoty můžete v Úvodu plánování      "},null,null,null,null,null,null,null,"S22 v",{"$f":"IF(AND($H$11>=$AC$52, $H$11<$AD$52, $P$17>=$AE$52, $P$17<=$AF$52), 1, 0)","v":0},{"$f":"IF(AND($O$5=1, $O$6=1, $P$17<=5), O5, 0)+IF(AND($O$5=1, $O$6=0), 1, IF(AND(O5=1, O6=0), O5, 0))","v":0},"S22 v",{"$f":"IF(AND($H$22>=$AC$52, $H$22<$AD$52, $P$28>=$AE$52, $P$28<=$AF$52), 1, 0)","v":0},{"$f":"IF(AND($R$5=1, $R$6=1, $P$28<=5), R5, 0)+IF(AND($R$5=1, $R$6=0), 1, IF(AND(R5=1, R6=0), R5, 0))","v":0},"← (450–540)",null,null,null,null,null,null,null,null,null,null,null,null,null,null,null,null,{"$f":"\" \"&ListAVS!$B$41&\" B \"","v":" Cena za korpus B "},null,null,{"$f":"\" \"&ListAVS!$B$154","v":" Nápověda"}]
[null,null,null,null,null,null,null,null,null,null,null,null,null,"S25",{"$f":"IF(AND($H$11>=$AC$53, $H$11<$AD$53, $P$17>=$AE$53, $P$17<=$AF$53), 1, 0)","v":0},{"$f":"IF(AND($O$5=1, $O$6=1, $P$17>5), O6, 0)+IF(AND($O$6=1, $O$7=1, $P$17<7), O6, IF(AND(O5=0, O6=1, O7=0), O6, 0))","v":0},"S25",{"$f":"IF(AND($H$22>=$AC$53, $H$22<$AD$53, $P$28>=$AE$53, $P$28<=$AF$53), 1, 0)","v":0},{"$f":"IF(AND($R$5=1, $R$6=1, $P$28>5), R6, 0)+IF(AND($R$6=1, $R$7=1, $P$28<7), R6, IF(AND(R5=0, R6=1, R7=0), R6, 0))","v":0},null,null,null,null,null,null,null,null,null,null,null,null,null,null,null,null,null,{"$f":"\" \"&ListAVS!$B$61","v":" Cena celkem bez DPH"}]
[null,{"$f":"ListAVS!$B$51&\":   \"","v":"Cena kování:   "},null,null,null,null,{"$f":"IF($AK$2=1,$AF$45,IF($AK$2=2,$AH$45,IF($AK$2=3,$AD$45,0)))","v":0},null,null,null,null,null,null,"S28",{"$f":"IF(AND($H$11>=$AC$54, $H$11<=$AD$54, $P$17>=$AE$54, $P$17<=$AF$54), 1, 0)","v":0},{"$f":"IF(AND($O$6=1, $O$7=1, $P$17>=7), O7, IF(AND(O6=0, O7=1), O7, 0))","v":0},"S28",{"$f":"IF(AND($H$22>=$AC$54, $H$22<=$AD$54, $P$28>=$AE$54, $P$28<=$AF$54), 1, 0)","v":0},{"$f":"IF(AND($R$6=1, $R$7=1, $P$28>=7), R7, IF(AND(R6=0, R7=1), R7, 0))","v":0},null,null,null,null,null,{"$f":"$B$2","v":" AVENTOS HS top"},{"$f":"B5","v":0},null,null,null,null,null,null,null,null,null,null,null,null,null,{"$f":"\" \"&ListAVS!$B$159","v":" Doplňky"}]
[null,null,null,null,null,null,null,{"$f":"IF(AND(OR($Q$16=2, $Q$27=2), $AD$45>0), $N$35, \" \")","v":" "},null,null,null,null,null,null,null,null,null,null,null,null,null,null,null,null,{"$f":"ListAVS!B52","v":"Název"},{"$f":"ListAVS!$B$53","v":"Číslo artiklu"},{"$f":"ListAVS!B54","v":"Barva"},{"$f":"ListAVS!B56","v":"Ks"},{"$f":"ListAVS!B58","v":"Jednotková cena"},{"$f":"ListAVS!B59","v":"Celkem"},"A","Cena","B","Cena",null,null,null,null,null,null,null,null,{"$f":"ListAVS!B75&\" KH (mm)\"","v":"Výška korpusu KH (mm)"},{"$f":"ListAVS!B76&\" FG (kg)\"","v":"Hmotnost čela FG (kg)"},{"$f":"ListAVS!$B$84&\" \"&ListAVS!$B$349","v":"Zdvihací mechanizmus vruty"},{"$f":"ListAVS!$B$84&\" \"&ListAVS!$B$350","v":"Zdvihací mechanizmus předmont. eurošrouby"}]
[null,{"$f":"\"▼ \"&ListAVS!$B$317","v":"▼ Způsob otvírání"},null,{"$f":"IF($M$17>0, ListAVS!$B$37&\": \", \" \")","v":" "},{"$f":"IF(SUM($AE$9:$AE$10)>0,\"22\",IF(SUM($AE$11:$AE$12)>0,\"25\",IF(SUM($AE$13:$AE$14)>0,\"28\",\" \")))","v":" "},{"$f":"ListAVS!$B$64&\" A\"","v":"Korpus A"},null,null,null,null,null,null,null,null,null,null,null,null,null,null,null,null,null,null,{"$f":"CenAVS!A28","v":"Sada zdvihačů HS top, na vruty"},{"$f":"CenAVS!B28","v":"22S2200"},{"$f":"CenAVS!C28","v":"ZN"},{"$f":"SUM(AE9,AG9)","v":0},{"$f":"CenAVS!F28","v":1754.34},{"$f":"AB9*AC9","v":0},{"$f":"IF(AND($W$46=1, SUM($P$4:$P$5)=1), $M$17, 0)","v":0},{"$f":"$AC9*AE9","v":0},{"$f":"IF(AND($W$46=1, SUM($S$4:$S$5)=1), $M$28, 0)","v":0},{"$f":"$AC9*AG9","v":0},null,null,null,null,null,{"$f":"\" \"&ListAVS!$B$156","v":" Přehled korpusů"},null,null,"350 - 450","2.00 - 11.50","22S2200","22S2210"]
[null,{"$f":"ListAVS!$B$74&\" KB [mm] \"","v":"Šířka korpusu KB [mm] "},null,null,null,null,null,null,{"$f":"IF($H10=0,\" \",IF($H10<220,\" min. 220mm\",IF($H10>1800,\" max. 1 800mm\",\" \")))&IF(H17>0,IF(H10=0,\"● \"&ListAVS!$B$128,\" \"),\" \")","v":"  "},null,null,null,null,null,null,null,null,null,null,null,null,null,null,null,{"$f":"CenAVS!A29","v":"Sada zdvihačů HS top, předmont. eurošrouby"},{"$f":"CenAVS!B29","v":"22S2210"},{"$f":"CenAVS!C29","v":"ZN"},0,{"$f":"CenAVS!F29","v":1754.34},{"$f":"AB10*AC10","v":0},{"$f":"IF(AND($W$46=2, SUM($P$4:$P$5)=1), $M$17, 0)","v":0},0,{"$f":"IF(AND($W$46=2, SUM($S$4:$S$5)=1), $M$28, 0)","v":0},0,null,null,null,null,null,{"$f":"\" \"&ListAVS!$B$157","v":" Objednávka"},null,null,"450 - 540","2.50 - 12.50"]
[null,{"$f":"ListAVS!$B$75&\" KH [mm]  \"","v":"Výška korpusu KH [mm]  "},null,null,null,null,null,null,{"$f":"IF($H11=0,\" \",IF($H11<350,\" min. 350mm\",IF($H11>800,\" max. 800 mm\",\" \")))&IF(H17>0,IF(H11=0,\"● \"&ListAVS!$B$128,\" \"),\" \")","v":"  "},null,null,null,null,null,null,null,null,null,null,null,null,null,null,null,{"$f":"CenAVS!A30","v":"Sada zdvihačů HS top, na vruty"},{"$f":"CenAVS!B30","v":"22S2500"},{"$f":"CenAVS!C30","v":"ZN"},0,{"$f":"CenAVS!F30","v":1856.76},0,{"$f":"IF(AND($W$46=1, $P$6=1), $M$17, 0)","v":0},0,{"$f":"IF(AND($W$46=1, $S$6=1), $M$28, 0)","v":0},0,null,null,null,null,null,null,null,null,"480 - 660","2.75 - 15.25","22S2500","22S2510"]
[null,{"$f":"ListAVS!$B$77&\" [kg] ** \"","v":"Hmotnost čela včetně úchytky [kg] ** "},null,null,null,null,null,null,{"$f":"IF($H17=0,  \" \", IF(SUM($H12,$H15)=0,$N$54,\" \"))&IF(AND(SUM($O$4:$O$7)=0, T12=\"ano\", $T13=\"ne\", H12>0),$N$58,IF(AND($H17>0,$H12>0, $M17>0, $T13=\"ano\"),$N$55,\" \"))","v":"  "},null,null,null,null,null,null,null,null,null,"limit v/š",{"$f":"IF(AND(219<H10,H10<1801,349<H11,H11<801),\"ano\",\"ne\")","v":"ne"},null,null,null,null,{"$f":"CenAVS!A31","v":"Sada zdvihačů HS top, předmont. eurošrouby"},{"$f":"CenAVS!B31","v":"22S2510"},{"$f":"CenAVS!C31","v":"ZN"},0,{"$f":"CenAVS!F31","v":1856.76},0,{"$f":"IF(AND($W$46=2, $P$6=1), $M$17, 0)","v":0},0,{"$f":"IF(AND($W$46=2, $S$6=1), $M$28, 0)","v":0},0,null,null,null,null,null,null,null,null,"650 - 800","3.50 - 18.50","22S2800","22S2810"]
[null,{"$f":"ListAVS!$B$292","v":"Výpočet hmotnosti"},null,{"$f":"ListAVS!$B$80&\" TS [mm] \"","v":"Síla čela TS [mm] "},null,null,null,null,{"$f":"IF(H17=0,\" \",IF(AND(H12=0, H13=0),\" ● \"&ListAVS!$B$128,\" \"))&IF(H17=0,\" \",IF(AND(H12=0, H13<8), \" min. 8 mm\", IF(AND(H12=0, H13>14), \" max. 14 mm\", \" \")))","v":"  "},null,null,null,null,null,null,null,null,null,"limit hmot",{"$f":"IF(AND($H$11>=$AC$51, $H$11<=$AD$51, $P$17>=$AE$51, $P$17<=$AF$51), \"ano\", IF(AND($H$11>=$AC$52, $H$11<=$AD$52, $P$17>=$AE$52, $P$17<=$AF$52), \"ano\", IF(AND($H$11>=$AC$53, $H$11<=$AD$53, $P$17>=$AE$53, $P$17<=$AF$53), \"ano\", IF(AND($H$11>=$AC$54, $H$11<=$AD$54, $P$17>=$AE$54, $P$17<=$AF$54), \"ano\", \"ne\"))))","v":"ne"},null,null,null,null,{"$f":"CenAVS!A32","v":"Sada zdvihačů HS top, na vruty"},{"$f":"CenAVS!B32","v":"22S2800"},{"$f":"CenAVS!C32","v":"ZN"},0,{"$f":"CenAVS!F32","v":1972},0,{"$f":"IF(AND($W$46=1, $P$7=1), $M$17, 0)","v":0},0,{"$f":"IF(AND($W$46=1, $S$7=1), $M$28, 0)","v":0},0]
[null,null,null,{"$f":"ListAVS!$B$83&\" [kg] \"","v":"Hmotnost úchytky [kg] "},null,null,null,null,{"$f":"IF(H17=0, \" \", IF(AND(H12=0, Q16=1, H14=0), \" ● \"&ListAVS!$B$129,\" \"))","v":" "},null,null,null,null,null,null,null,null,null,null,null,null,null,null,null,{"$f":"CenAVS!A33","v":"Sada zdvihačů HS top, předmont. eurošrouby"},{"$f":"CenAVS!B33","v":"22S2810"},{"$f":"CenAVS!C33","v":"ZN"},0,{"$f":"CenAVS!F33","v":1972},0,{"$f":"IF(AND($W$46=2, $P$7=1), $M$17, 0)","v":0},0,{"$f":"IF(AND($W$46=2, $S$7=1), $M$28, 0)","v":0},0,null,null,null,null,null,null,null,null,{"$f":"ListAVS!B349&\" = \"&ListAVS!B351","v":"vruty = zdvihače s integrovanou šablonou (bez nutnosti rozměřování)"}]
[null,null,null,{"$f":"ListAVS!$B$79&\" [kg] \"","v":"Vypočtená hmotnost čela [kg] "},null,null,null,{"$f":"$T$90","v":0},{"$f":"IF(AND($H17>0,$H15>0,$H12=0,$M17>0), $N$41,\" \")&IF(AND(H17>0, H12=0, Z87=3, $J$4=0), $N$39, \" \")","v":"  "},null,null,null,null,null,null,"Servo-Drive",null,null,null,null,null,null,null,null,null,null,null,null,null,null,null,null,null,null,null,null,null,null,null,null,null,null,{"$f":"ListAVS!B350&\" = \"&ListAVS!B352","v":"předmont. eurošrouby = zdvihače s předmotovanými šrouby (nutné předvrtání)"}]
[null,null,null,null,null,null,null,null,{"$f":"IF(AND(H16>0, Q16=2), $N$53, \" \")","v":" "},null,null,null,null,null,false,null,1,null,null,null,null,null,null,null,{"$f":"CenAVS!A34","v":"Sada ramen HS top"},{"$f":"CenAVS!B34","v":"22S3500"},{"$f":"CenAVS!C34","v":"ZN"},{"$f":"SUM(AE16,AG16)","v":0},{"$f":"CenAVS!F34","v":1169.26},{"$f":"AB16*AC16","v":0},{"$f":"SUM($AE$9:$AE$14)","v":0},{"$f":"$AC16*AE16","v":0},{"$f":"SUM($AG$9:$AG$14)","v":0},{"$f":"$AC16*AG16","v":0}]
[null,{"$f":"ListAVS!$B$71&\"  \"","v":"Počet skříněk  "},null,null,null,null,null,null,null,null,null,null,{"$f":"IF($H10*$H11*$P17=0,0,IF(SUM(O4:O7)=0,0,IF($H10>1800,0, IF($H10<220, 0, IF(AND(H12=0, H13<14), 0, $H17)))))","v":0},null,"hmot =",{"$f":"IF(H12>0,H12,H15)","v":0},{"$f":"IF(SUM(H12,H15)=0,0,IF(H12>0,1,2))","v":0},"zadaná / vypočtená"]
[null,{"$f":"IF(H17>0,IF(OR(Q17=0,M17=0), \" \",IF(Q17=1,$N$67,$N$68)),\" \")&IF(H17>0,IF(OR(Q17=0, M17=0), \" \",IF(Q17=1,$N$69,$N$70)),\" \")","v":"  "}]
[null,null,null,null,null,null,null,null,null,null,null,null,null,"tyč",{"$f":"IF($H$10>1360,1.5,IF($H$10<610,0.5,1))","v":0.5},null,"tyč",{"$f":"IF($H$21>1360,1.5,IF($H$21<610,0.5,1))","v":0.5}]
[null,{"$f":"\"▼ \"&ListAVS!$B$317","v":"▼ Způsob otvírání"},null,{"$f":"IF($M$28>0, ListAVS!$B$37&\": \", \" \")","v":" "},{"$f":"IF(SUM($AG$9:$AG$10)>0,\"22\",IF(SUM($AG$11:$AG$12)>0,\"25\",IF(SUM($AG$13:$AG$14)>0,\"28\",\" \")))","v":" "},{"$f":"ListAVS!$B$64&\" B\"","v":"Korpus B"},null,null,null,null,null,null,null,"mezistěny",{"$f":"IF($H$16>0,$H$16,IF($H$10>1219,1,0))","v":0},null,"mezistěny",{"$f":"IF($H$27>0,$H$27,IF($H$21>1219,1,0))","v":0},null,null,null,null,null,null,{"$f":"CenAVS!A47","v":"Sada krytek HF, HS, HL top, světle šedá"},{"$f":"CenAVS!B47","v":"22.8000"},{"$f":"CenAVS!C47","v":"HGR"},0,{"$f":"CenAVS!F47","v":252.85},0,{"$f":"IF(AND($Q$16=1,$T$46=1),SUM($AE$9:$AE$14),0)","v":0},0,{"$f":"IF(AND($Q$27=1,$T$46=1),SUM($AG$9:$AG$14),0)","v":0},0]
[null,{"$f":"ListAVS!$B$74&\" KB [mm] \"","v":"Šířka korpusu KB [mm] "},null,null,null,null,null,null,{"$f":"IF($H21=0,\" \",IF($H21<220,\" min. 220mm\",IF($H21>1800,\" max. 1 800mm\",\" \")))&IF(H28>0,IF(H21=0,\"● \"&ListAVS!$B$128,\" \"),\" \")","v":"  "},null,null,null,null,null,null,null,null,null,null,null,null,null,null,null,{"$f":"CenAVS!A48","v":"Sada krytek HF, HS, HL top, tmavě šedá"},{"$f":"CenAVS!B48","v":"22.8000"},{"$f":"CenAVS!C48","v":"TGR"},0,{"$f":"CenAVS!F48","v":275.94},0,{"$f":"IF(AND($Q$16=1,$T$46=2),SUM($AE$9:$AE$14),0)","v":0},0,{"$f":"IF(AND($Q$27=1,$T$46=2),SUM($AG$9:$AG$14),0)","v":0},0]
[null,{"$f":"ListAVS!$B$75&\" KH [mm] \"","v":"Výška korpusu KH [mm] "},null,null,null,null,null,null,{"$f":"IF($H22=0,\" \",IF($H22<350,\" min. 350mm\",IF($H22>800,\" max. 800 mm\",\" \")))&IF(H28>0,IF(H22=0,\"● \"&ListAVS!$B$128,\" \"),\" \")","v":"  "},null,null,null,null,null,null,null,null,null,null,null,null,null,null,null,{"$f":"CenAVS!A49","v":"Sada krytek HF, HS, HL top, hedvábně bílá"},{"$f":"CenAVS!B49","v":"22.8000"},{"$f":"CenAVS!C49","v":"SW"},0,{"$f":"CenAVS!F49","v":275.94},0,{"$f":"IF(AND($Q$16=1,$T$46=3),SUM($AE$9:$AE$14),0)","v":0},0,{"$f":"IF(AND($Q$27=1,$T$46=3),SUM($AG$9:$AG$14),0)","v":0},0]
[null,{"$f":"ListAVS!$B$77&\" [kg] ** \"","v":"Hmotnost čela včetně úchytky [kg] ** "},null,null,null,null,null,null,{"$f":"IF($H28=0,\" \",IF(SUM($H23,$H26)=0,$N$54,\" \"))&IF(AND(SUM($R$4:$R$7)=0, T23=\"ano\", $T24=\"ne\",H23>0),$N$58,IF(AND($H28>0,$H23>0, $M28>0, $T24=\"ano\"),$N$55,\" \"))","v":"  "},null,null,null,null,null,null,null,null,null,"limit v/š",{"$f":"IF(AND(219<H21,H21<1801,349<H22,H22<801),\"ano\",\"ne\")","v":"ne"},null,null,null,null,{"$f":"CenAVS!A50","v":"Sada krytek pro SERVO-DRIVE, světle šedá"},{"$f":"CenAVS!B50","v":"23.8000"},{"$f":"CenAVS!C50","v":"HGR"},0,{"$f":"CenAVS!F50","v":2606.7600000000002},0,{"$f":"IF(AND($Q$16=2,$T$46=1),SUM($AE$9:$AE$14),0)","v":0},0,{"$f":"IF(AND($Q$27=2,$T$46=1),SUM($AG$9:$AG$14),0)","v":0},0]
[null,{"$f":"ListAVS!$B$292","v":"Výpočet hmotnosti"},null,{"$f":"ListAVS!$B$80&\" TS [mm] \"","v":"Síla čela TS [mm] "},null,null,null,null,{"$f":"IF(H28=0,\" \",IF(AND(H23=0, H24=0),\" ● \"&ListAVS!$B$128,\" \"))&IF(H28=0,\" \",IF(AND(H23=0, H24<14), \" min. 14 mm\", \" \"))","v":"  "},null,null,null,null,null,null,null,null,null,"limit hmot",{"$f":"IF(AND($H$22>=$AC$51, $H$22<=$AD$51, $P$28>=$AE$51, $P$28<=$AF$51), \"ano\", IF(AND($H$22>=$AC$52, $H$22<=$AD$52, $P$28>=$AE$52, $P$28<=$AF$52), \"ano\", IF(AND($H$22>=$AC$53, $H$22<=$AD$53, $P$28>=$AE$53, $P$28<=$AF$53), \"ano\", IF(AND($H$22>=$AC$54, $H$22<=$AD$54, $P$28>=$AE$54, $P$28<=$AF$54), \"ano\", \"ne\"))))","v":"ne"},null,null,null,null,{"$f":"CenAVS!A51","v":"Sada krytek pro SERVO-DRIVE, tmavě šedá"},{"$f":"CenAVS!B51","v":"23.8000"},{"$f":"CenAVS!C51","v":"TGR"},0,{"$f":"CenAVS!F51","v":2709.29},0,{"$f":"IF(AND($Q$16=2,$T$46=2),SUM($AE$9:$AE$14),0)","v":0},0,{"$f":"IF(AND($Q$27=2,$T$46=2),SUM($AG$9:$AG$14),0)","v":0},0]
[null,null,null,{"$f":"ListAVS!$B$83&\" [kg] \"","v":"Hmotnost úchytky [kg] "},null,null,null,null,{"$f":"IF(H28=0, \" \", IF(AND(H23=0, Q27=1, H25=0), \" ● \"&ListAVS!$B$129,\" \"))","v":" "},null,null,null,null,null,null,null,null,null,null,null,null,null,null,null,{"$f":"CenAVS!A52","v":"Sada krytek pro SERVO-DRIVE,hedvábně bílá"},{"$f":"CenAVS!B52","v":"23.8000"},{"$f":"CenAVS!C52","v":"SW"},0,{"$f":"CenAVS!F52","v":2709.29},0,{"$f":"IF(AND($Q$16=2,$T$46=3),SUM($AE$9:$AE$14),0)","v":0},0,{"$f":"IF(AND($Q$27=2,$T$46=3),SUM($AG$9:$AG$14),0)","v":0},0]
[null,null,null,{"$f":"ListAVS!$B$79&\" [kg] \"","v":"Vypočtená hmotnost čela [kg] "},null,null,null,{"$f":"$T$101","v":0},{"$f":"IF(AND($H28>0,$H26>0,$H23=0,$M28>0), $N$41,\" \")&IF(AND(H28>0, H23=0, Z98=3, $J$4=0), $N$39, \" \")","v":"  "},null,null,null,null,null,null,"Servo-Drive"]
[null,null,null,null,null,null,null,null,{"$f":"IF(AND(H27>0, Q27=2), $N$53, \" \")","v":" "},null,null,null,null,null,false,null,1]
[null,{"$f":"ListAVS!$B$71&\"  \"","v":"Počet skříněk  "},null,null,null,null,null,null,null,null,null,null,{"$f":"IF($H21*$H22*$P28=0,0,IF(SUM(R4:R7)=0,0,IF($H21>1800,0, IF($H21<220, 0, IF(AND(H23=0, H24<14), 0, $H28)))))","v":0},null,"hmot =",{"$f":"IF(H23>0,H23,H26)","v":0},{"$f":"IF(SUM(H23,H26)=0,0,IF(H23>0,1,2))","v":0},"zadaná / vypočtená"]
[null,{"$f":"IF(H28>0,IF(OR(Q28=0,M28=0), \" \",IF(Q28=1,$N$67,$N$68)),\" \")&IF(H28>0,IF(OR(Q28=0, M28=0), \" \",IF(Q28=1,$N$69,$N$70)),\" \")","v":"  "},null,null,null,null,null,null,null,null,null,null,null,null,null,null,null,null,null,null,null,null,null,null,{"$f":"CenAVS!A78","v":"Sada čel.kování pro dřev. čela"},{"$f":"CenAVS!B78","v":"20S4200"},{"$f":"CenAVS!C78","v":"NI"},0,{"$f":"CenAVS!F78","v":90.38},0,null,{"$f":"$AC29*AE29","v":0},null,0]
[null,null,null,null,null,null,null,null,null,null,null,null,null,null,null,null,null,null,null,null,null,null,null,null,{"$f":"CenAVS!A79","v":"Čelní.kování pro dřev. čela EXPANDO"},{"$f":"CenAVS!B79","v":"20S42E1"},{"$f":"CenAVS!C79","v":"NI"},0,{"$f":"CenAVS!F79","v":51.36},0,null,0,null,0]
[null,{"$f":"IF(OR(AND($Q$16=2, $M$17>0), AND($Q$27=2, $M$28>0)), ListAVS!$B$175, \" \")","v":" "},null,null,null,null,null,null,null,null,null,null,null,null,{"$f":"IF($P$31=FALSE,2,1)","v":2},false,null," - Zdroj",null,null,null,null,null,null,{"$f":"CenAVS!A80","v":"Sada čel.kování pro tenké materiály"},{"$f":"CenAVS!B80","v":"20S42T1"},{"$f":"CenAVS!C80","v":"NI"},0,{"$f":"CenAVS!F80","v":291.60000000000002},0,{"$f":"AE16","v":0},0,{"$f":"AG16","v":0},0]
[null,null,null,null,null,null,null,null,null,null,null,null,null,null,null,null,null,null,null,null,null,null,null,null,{"$f":"CenAVS!A81","v":"Sada čel.kování pro úzké alurámečky"},{"$f":"CenAVS!B81","v":"20S4200A"},{"$f":"CenAVS!C81","v":"NI"},0,{"$f":"CenAVS!F81","v":395.5},0,null,0,null,0]
[null,null,null,null,null,null,null,null,null,null,null,null,null,null,null,null,null,null,null,null,null,null,null,null,{"$f":"CenAVS!A82","v":0},{"$f":"CenAVS!B82","v":0},{"$f":"CenAVS!C82","v":0},0,{"$f":"CenAVS!F82","v":0},0,null,0,null,0]
[null,null,null,null,null,null,null,null,null,null,null,null,null,null,null,null,null,null,null,null,null,null,null,null,null,null,null,null,null,null,null,0,null,0]
[null,null,null,null,null,null,null,null,null,null,null,null,null,{"$f":"ListAVS!B176","v":"Cena bez napájecího zdroje!"},null,null,null,null,null,null,null,null,null,null,null,null,null,null,null,null,null,0,null,0]
[null,null,null,null,null,null,null,null,null,null,null,null,null,null,null,null,null,null,null,null,null,null,null,null,null,null,null,null,null,null,null,0,null,0]
[null," *",{"$f":"ListAVS!$B$233","v":"Zadejte počet mezistěn v korpusu "},null,null,null,null,null,null,null,null,null,null,{"$f":"\" \"&ListAVS!$B$115","v":" Zadejte hmotnost nebo vyplňte všechny buňky"},null,null,null,null,null,null,null,null,null,null,null,null,null,null,null,null,null,0,null,0]
[null," **",{"$f":"ListAVS!$B$186","v":"Pokud znáte hmotnost a nechcete využít výpočtu hmotnosti"},null,null,null,null,null,null,null,null,null,null,null,null,null,null,null,null,null,null,null,null,null,null,null,null,null,null,null,null,0,null,0]
[null,"***",{"$f":"ListAVS!$B$25","v":"materiály tloušťky od 8 do 14 mm"},null,null,null,null,null,null,null,null,null,null,{"$f":"\" \"&ListAVS!$B$117","v":" Vyplňte nahoře objemovou hmotnost "}]
[null,null,null,null,null,null,null,null,null,null,null,null,null,null,null,null,null,null,null,null,null,null,null,null,null,null,null,null,null,null,null,{"$f":"$AC40*AE40","v":0},null,{"$f":"$AC40*AG40","v":0}]
[null,{"$f":"ListAVS!$B$420","v":"Mějte prosím na paměti, že použitelných materiálů je celá řada. Vzhledem k různé objemové hmotnosti nelze zaručit, že všechny materiály budou použitelné pro každou velikost skříňky. Obzvláště u lehčích materiálů nemusí hmotnost čela dosáhnout minimální hodnoty pro daný rozměr. Pokud se po správném zadání všech parametrů nezobrazí v Soupisu kování žádné hodnoty, je pravděpodobné, že váha čela je pod minimální hodnotou. V tom případě nelze výklop realizovat."},null,null,null,null,null,null,null,null,null,null,null,{"$f":"\"◄ \"&ListAVS!$B$111","v":"◄ hodnota bude použita pro výpočet LF"},null,null,null,null,null,null,null,null,null,null,null,null,null,null,null,null,null,{"$f":"$AC41*AE43","v":0},null,{"$f":"$AC41*AG41","v":0}]
[null,null,null,null,null,null,null,null,null,null,null,null,null,{"$f":"\" * \"&ListAVS!$B$127","v":" * Doplňte hodnoty"},null,null,null,null,null,null,null,null,null,null,{"$f":"CenAVS!A169","v":0},{"$f":"CenAVS!B169","v":0},{"$f":"CenAVS!C169","v":0},null,{"$f":"CenAVS!F169","v":0},0,null,{"$f":"$AC42*AE42","v":0},null,{"$f":"$AC42*AG42","v":0}]
[null,null,null,null,null,null,null,null,null,null,null,null,null,null,null,null,null,null,null,null,null,null,null,null,{"$f":"CenAVS!A171","v":"SERVO-DRIVE jednotka (sada)"},{"$f":"CenAVS!B171","v":"23.A000"},{"$f":"CenAVS!C171","v":"R7037"},{"$f":"SUM(AE43,AG43)","v":0},{"$f":"CenAVS!F171","v":8297.32},0,{"$f":"IF($Q$16=1, 0, $M$17)","v":0},{"$f":"$AC43*AE43","v":0},{"$f":"IF($Q$27=1, 0, $M$28)","v":0},{"$f":"$AC43*AG43","v":0}]
[]
[null,null,null,null,null,null,null,null,null,null,null,null,null,null,null,null,null,null,null,null,null,null,null,null,null,null,null,null,{"$f":"ListAVS!$B$61&\" \"","v":"Cena celkem bez DPH "},{"$f":"SUM(AD9:AD43)","v":0},null,{"$f":"SUM(AF9:AF44)","v":0},null,{"$f":"SUM(AH9:AH44)","v":0}]
[null,null,null,null,null,null,null,null,null,null,null,null,null,null,null,null,null,null,null,{"$f":"MenuAVS!$U$28","v":1},null,null,{"$f":"HS!$P$26","v":1}]
[null,null,null,null,null,null,null,null,null,null,null,null,null,null,null,null,"Provedení:",null,null,"kryt.",null,null,{"$f":"HS!P27","v":"mont."}]
[null,null,null,null,null,null,null,null,null,null,null,null,null,null,null,null,"Standard",null,null,{"$f":"ListAVS!$B$145","v":"Světle šedá (HGR)"},null,null,{"$f":"HS!P28","v":"vruty"}]
[null,null,null,null,null,null,null,null,null,null,null,null,null,null,null,null,"SERVO-DRIVE",null,null,{"$f":"ListAVS!$B$146","v":"Tmavě šedá (TGR)"},null,null,{"$f":"HS!P29","v":"předmont. eurošrouby"},null,null,null,{"$f":"Param!M22","v":"Parametry HS"}]
[null,null,null,null,null,null,null,null,null,null,null,null,null,null,null,null,null,null,null,{"$f":"ListAVS!$B$147","v":"Hedvábně bílá (SW)"},null,null,null,null,null,null,{"$f":"Param!M23","v":"Zdvihač"},{"$f":"Param!N23","v":"ks"},{"$f":"Param!O23","v":"min"},{"$f":"Param!P23","v":"max"},{"$f":"Param!Q23","v":"hmot. min."},{"$f":"Param!R23","v":"hmot. max."}]
[null,null,null,null,null,null,null,null,null,null,null,null,null,null,null,null,null,null,null,null,null,null,null,null,null,null,{"$f":"Param!M24","v":"22S2200"},null,{"$f":"Param!O24","v":350},{"$f":"Param!P24","v":450},{"$f":"Param!Q24","v":2},{"$f":"Param!R24","v":11.5}]
[null,null,null,null,null,null,null,null,null,null,null,null,null,{"$f":"\" \"&ListAVS!$B$108","v":" v kombinaci se SERVO-DRIVE"},null,null,null,null,null,null,null,null,null,null,null,null,{"$f":"Param!M25","v":"22S2200 v"},null,{"$f":"Param!O25","v":450},{"$f":"Param!P25","v":540},{"$f":"Param!Q25","v":2.5},{"$f":"Param!R25","v":12.5}]
[null,null,null,null,null,null,null,null,null,null,null,null,null,{"$f":"\" \"&ListAVS!$B$109","v":" nelze v kombinaci se SERVO-DRIVE"},null,null,null,null,null,null,null,null,null,null,null,null,{"$f":"Param!M26","v":"22S2500"},null,{"$f":"Param!O26","v":480},{"$f":"Param!P26","v":660},{"$f":"Param!Q26","v":2.75},{"$f":"Param!R26","v":15.25}]
[null,null,null,null,null,null,null,null,null,null,null,null,null,{"$f":"\" \"&ListAVS!$B$115","v":" Zadejte hmotnost nebo vyplňte všechny buňky"},null,null,null,null,null,null,null,null,null,null,null,null,{"$f":"Param!M27","v":"22S2800"},null,{"$f":"Param!O27","v":650},{"$f":"Param!P27","v":800},{"$f":"Param!Q27","v":3.5},{"$f":"Param!R27","v":18.5}]
[null,null,null,null,null,null,null,null,null,null,null,null,null,{"$f":"\"◄ \"&ListAVS!$B$112","v":"◄ hodnota bude použita pro výběr zdvihače"}]
[null,null,null,null,null,null,null,null,null,null,null,null,null,{"$f":"\" * \"&ListAVS!$B$127","v":" * Doplňte hodnoty"}]
[]
[null,null,null,null,null,null,null,null,null,null,null,null,null,{"$f":"\" \"&ListAVS!$B$124&\"!\"","v":" Hmotnost mimo povolený rozsah!"}]
[null,null,null,null,null,null,null,null,null,null,null,null,null,{"$f":"\" max. 9 000! \"&ListAVS!$B$121","v":" max. 9 000! Upravte hmotnost nebo výšku"}]
[null,null,null,null,null,null,null,null,null,null,null,null,null,{"$f":"\" \"&ListAVS!$B$234","v":" Nutná mezistěna"}]
[]
[]
[]
[]
[]
[]
[null,null,null,null,null,null,null,null,null,null,null,null,null,{"$f":"ListAVS!B187&\". \"","v":"Pro určení typu zdvihače bude použita zadaná hmotnost. "}]
[null,null,null,null,null,null,null,null,null,null,null,null,null,{"$f":"ListAVS!B188&\". \"","v":"Pro určení typu zdvihače bude použita vypočtená hmotnost. "}]
[null,null,null,null,null,null,null,null,null,null,null,null,null,{"$f":"ListAVS!B189","v":"Chcete-li použít vypočtenou hmotnost, smažte zadanou hodnotu"}]
[null,null,null,null,null,null,null,null,null,null,null,null,null,{"$f":"ListAVS!B190","v":"Chcete-li použít zadanou hmotnost, zadejte ji do políčka"}]
[]
[]
[]
[]
[]
[null,null,null,null,null,null,null,null,null,null,null,null,null,null,null,null,null,null,null,null,null,null,null,null,{"$f":"IF($Z$82=1,$Z$83,IF($Z$82=2,$Z$84,IF($Z$82=3,$Z$85,IF($Z$82=4,$Z$86,IF($Z$82=5,$Z$87,IF($Z$82=6,$Z$88,IF($Z$82=7,$Z$89,$Z$90&\" \"&$Y$90&\"kg/m3\")))))))&\" A~\"&$T$88&\"/ B~\"&$T$99&\"mm\"","v":"Kompakt (1350 kg/m3) A~0/ B~0mm"}]
[null,null,null,null,null,null,null,null,null,null,null,null,null,null,null,null,null,null,null,null,null,null,null,null,{"$f":"\" \"&ListAVS!$B$410","v":" Změnit hodnoty můžete v Úvodu plánování"}]
[null,null,null,null,null,null,null,null,null,null,null,null,null,null,null,null,null,null,null,null,null,null,null,null,{"$f":"\" \"&ListAVS!$B$244&\" [kg/m3]\"","v":" Zadejte objemovou hmotnost  [kg/m3]"}]
[null,null,null,null,null,null,null,null,null,null,null,null,null,{"$f":"ListAVS!$B$73","v":"Výpočet hmotnosti čel"},null,null,null,null,null,null,null,null,null,null,{"$f":"\" \"&ListAVS!$B$240&\" '\"&ListAVS!$B$92&\"'\"","v":" Hodnota platí jen pro volbu 'Jiné - volitelná hustota'"}]
[null,null,null,null,null,null,null,null,null,null,null,null,null,null,null,{"$f":"ListAVS!$D$26&\"           \"","v":"           "},null,null,null,{"$f":"J4","v":0},{"$f":"IF(Z82=8,IF(T80=0,Y78,\" \"),IF(T80>0,Y79,\" \"))","v":" "}]
[null,null,null,null,null,null,null,null,null,null,null,null,null,{"$f":"IF($Z$82<>8,$Y$77,\" \")&\"      \"","v":" Změnit hodnoty můžete v Úvodu plánování      "},null,null,null,null,null,null,null,null,null,null,null,null,{"$f":"IF(OR(T88<8, T88>14), 0, 1)","v":0}]
[null,null,null,null,null,null,null,null,null,null,null,null,null,null,null,null,null,null,null,null,null,null,null,null,{"$f":"IF(AA$81=1, T86*T87*T88/1000000000, 0)","v":0},3,"↑Síla čela 1=ok, 0=fail"]
[null,null,null,null,null,null,null,null,null,null,null,null,null,null,null,null,null,null,null,null,null,null,null,null,{"$f":"MenuAVS!$C31","v":760},{"$f":"ListAVS!$B$90&\" (\"&Y83&\" kg/m3)\"","v":"MDF (760 kg/m3)"}]
[null,null,null,null,null,null,null,null,null,null,null,null,null,null,null,null,null,null,null,null,null,null,null,null,{"$f":"MenuAVS!$C32","v":680},{"$f":"ListAVS!$B$91&\" (\"&Y84&\" kg/m3)\"","v":"Dřevotříska (680 kg/m3)"}]
[null,null,null,null,null,null,null,null,null,null,null,null,null,null,null,null,null,{"$f":"D9","v":" "},null,null,null,null,null,null,{"$f":"MenuAVS!$F31","v":1350},{"$f":"ListAVS!$B$96&\" (\"&Y85&\" kg/m3)\"","v":"Kompakt (1350 kg/m3)"}]
[null,null,null,null,null,null,null,null,null,null,null,null,null,{"$f":"ListAVS!$B$74&\" KB [mm]       \"","v":"Šířka korpusu KB [mm]       "},null,null,null,null,null,{"$f":"H10","v":0},null,null,null,null,{"$f":"MenuAVS!$F32","v":1700},{"$f":"ListAVS!$B$97&\" (\"&Y86&\" kg/m3)\"","v":"Kompozit (1700 kg/m3)"}]
[null,null,null,null,null,null,null,null,null,null,null,null,null,{"$f":"ListAVS!$B$75&\" KH [mm]       \"","v":"Výška korpusu KH [mm]       "},null,null,null,null,null,{"$f":"H11","v":0},null,null,null,null,{"$f":"MenuAVS!$F33","v":2600},{"$f":"ListAVS!$B$98&\" (\"&Y87&\" kg/m3)\"","v":"Kámen (2600 kg/m3)"}]
[null,null,null,null,null,null,null,null,null,null,null,null,null,{"$f":"ListAVS!$B$80&\" TS [mm] \"","v":"Síla čela TS [mm] "},null,null,null,null,null,{"$f":"H13","v":0},{"$f":"IF(SUM(T86,T87)=0,\" \",IF(T88=0,\" ● \"&ListAVS!$B$128, IF(T88<8,\" min 8 mm!\",IF(T88>14,\" max. 14 mm!\",\" \"))))","v":" "},null,null,null,{"$f":"MenuAVS!$I31","v":2400},{"$f":"ListAVS!$B$99&\" (\"&Y88&\" kg/m3)\"","v":"Keramika (2400 kg/m3)"}]
[null,null,null,null,null,null,null,null,null,null,null,null,null,{"$f":"ListAVS!$B$83&\" [kg] \"","v":"Hmotnost úchytky [kg] "},null,null,null,null,null,{"$f":"H14","v":0},{"$f":"IF(SUM(T86,T87)=0,\" \",IF(T89=0,\" ● \"&ListAVS!$B$129,\" \"))","v":" "},null,null,null,{"$f":"MenuAVS!$I32","v":2300},{"$f":"ListAVS!$B$100&\" (\"&Y89&\" kg/m3)\"","v":"Beton (2300 kg/m3)"}]
[null,null,null,null,null,null,null,null,null,null,null,null,null,{"$f":"ListAVS!$B$79&\" [kg] \"","v":"Vypočtená hmotnost čela [kg] "},null,null,null,null,null,{"$f":"IF(X90=0,0,X90+T89)","v":0},null,null,null,{"$f":"IF(T86*T87*T88=0,0,IF(Z82=1,Y82*Y83,IF(Z82=2,Y82*Y84, IF(Z82=3,Y82*Y85, IF(Z82=4, Y82*Y86, IF(Z82=5, Y82*Y87, IF(Z82=6, Y82*Y88, IF(Z82=7, Y82*Y89, Y82*Y90))))))))","v":0},{"$f":"$T$80","v":0},{"$f":"ListAVS!$B$92","v":"Jiné - volitelná hustota"}]
[null,null,null,null,null,null,null,null,null,null,null,null,null,null,{"$f":"IF(T90>0,IF(T89=0,$Y$106,\" \"),\" \")","v":" "}]
[null,null,null,null,null,null,null,null,null,null,null,null,null,null,null,null,null,null,null,null,null,null,null,null,null,null,{"$f":"IF(OR(T99<8, T99>14), 0, 1)","v":0}]
[null,null,null,null,null,null,null,null,null,null,null,null,null,null,null,null,null,null,null,null,null,null,null,null,{"$f":"IF(AA$92=1, T97*T98*T99/1000000000, 0)","v":0},{"$f":"Z82","v":3},"↑Síla čela 1=ok, 0=fail"]
[null,null,null,null,null,null,null,null,null,null,null,null,null,null,null,null,null,null,null,null,null,null,null,null,{"$f":"$Y$83","v":760},{"$f":"$Z$83","v":"MDF (760 kg/m3)"}]
[null,null,null,null,null,null,null,null,null,null,null,null,null,null,null,null,null,null,null,null,null,null,null,null,{"$f":"$Y$84","v":680},{"$f":"$Z$84","v":"Dřevotříska (680 kg/m3)"}]
[null,null,null,null,null,null,null,null,null,null,null,null,null,null,null,null,null,{"$f":"D20","v":" "},null,null,null,null,null,null,{"$f":"$Y$85","v":1350},{"$f":"$Z$85","v":"Kompakt (1350 kg/m3)"}]
[null,null,null,null,null,null,null,null,null,null,null,null,null,{"$f":"ListAVS!$B$74&\" KB [mm]       \"","v":"Šířka korpusu KB [mm]       "},null,null,null,null,null,{"$f":"H21","v":0},null,null,null,null,{"$f":"$Y$86","v":1700},{"$f":"$Z$86","v":"Kompozit (1700 kg/m3)"}]
[null,null,null,null,null,null,null,null,null,null,null,null,null,{"$f":"ListAVS!$B$75&\" KH [mm]       \"","v":"Výška korpusu KH [mm]       "},null,null,null,null,null,{"$f":"H22","v":0},null,null,null,null,{"$f":"$Y$87","v":2600},{"$f":"$Z$87","v":"Kámen (2600 kg/m3)"}]
[null,null,null,null,null,null,null,null,null,null,null,null,null,{"$f":"ListAVS!$B$80&\" TS [mm] \"","v":"Síla čela TS [mm] "},null,null,null,null,null,{"$f":"H24","v":0},{"$f":"IF(SUM(T97,T98)=0,\" \",IF(T99=0,\" ● \"&ListAVS!$B$128, IF(T99<8,\" min 8 mm!\",IF(T99>14,\" max. 14 mm!\",\" \"))))","v":" "},null,null,null,{"$f":"$Y$88","v":2400},{"$f":"$Z$88","v":"Keramika (2400 kg/m3)"}]
[null,null,null,null,null,null,null,null,null,null,null,null,null,{"$f":"ListAVS!$B$83&\" [kg] \"","v":"Hmotnost úchytky [kg] "},null,null,null,null,null,{"$f":"H25","v":0},{"$f":"IF(SUM(T97,T98)=0,\" \",IF(T100=0,\" ● \"&ListAVS!$B$129,\" \"))","v":" "},null,null,null,{"$f":"$Y$89","v":2300},{"$f":"$Z$89","v":"Beton (2300 kg/m3)"}]
[null,null,null,null,null,null,null,null,null,null,null,null,null,{"$f":"ListAVS!$B$79&\" [kg] \"","v":"Vypočtená hmotnost čela [kg] "},null,null,null,null,null,{"$f":"IF(X101=0,0,X101+T100)","v":0},null,null,null,{"$f":"IF(T97*T98*T99=0,0,IF(Z93=1,Y93*Y94,IF(Z93=2,Y93*Y95, IF(Z93=3,Y93*Y96, IF(Z93=4, Y93*Y97, IF(Z93=5, Y93*Y98, IF(Z93=6, Y93*Y99, IF(Z93=7, Y93*Y100, Y93*Y101))))))))","v":0},{"$f":"$Y$90","v":0},{"$f":"$Z$90","v":"Jiné - volitelná hustota"}]
[null,null,null,null,null,null,null,null,null,null,null,null,null,null,{"$f":"IF(T101>0,IF(T100=0,$Y$106,\" \"),\" \")","v":" "}]
[]
[]
[]
[null,null,null,null,null,null,null,null,null,null,null,null,null,null,null,null,null,null,null,null,null,null,null,null,{"$f":"ListAVS!$B$102&\"!\"","v":"Není započtena hmotnost úchytky!"}]
[]
[]
[]
[null,"      AVENTOS HS"]
[]
[null,{"$f":"ListAVS!$B$332","v":"Pro výběr správného zdvihače potřebujete znát výšku korpusu a hmotnost čela."}]
[]
[null,{"$f":"ListAVS!$B$334","v":"Výška korpusu KH = 602 mm zaokrouhlit na KH = 600 mm"}]
[null,{"$f":"ListAVS!$B$335","v":"Výška korpusu KH = 603 mm zaokrouhlit na KH = 605 mm"}]
[]
[null,{"$f":"ListAVS!$B$311","v":"Pokud znáte hmotnost čela, můžete ji zadat, jinak použijte \"Výpočet hmotnosti\"."}]
[null,{"$f":"ListAVS!$B$312","v":"V tabulce má přednost zadaná hodnota. Chcete-li použít vypočtenou hmotnost, smažte zadanou hodnotu."}]
[]
[]
[null,{"$f":"ListAVS!$B$305","v":"Chcete-li změnit barvu krytek, přejděte na \"Úvod plánování\""}]
[null,null,null,null,null,null,null,null,null,null,null,{"$f":"ListAVS!$B$167","v":"Zpět"}]

{"sheet":"HLw","index":20,"n_rows":112,"n_cols":45,"rows_kept":112,"cut":false,"hidden":false,"merged":[[54,1,54,2],[54,3,54,4],[55,1,55,2],[55,3,55,4],[51,1,51,2],[52,1,52,2],[53,1,53,2],[53,3,53,4],[51,3,51,4],[13,3,13,6],[25,3,25,6],[0,42,0,45],[1,1,1,2],[9,1,9,6],[10,1,10,6],[8,1,8,2],[8,5,8,7],[3,10,4,11],[6,1,6,2],[6,6,6,7],[4,5,4,9],[28,15,28,16],[70,15,70,19],[24,15,24,16],[11,1,11,6],[15,1,15,6],[13,15,13,16],[16,1,16,6],[20,1,20,6],[21,1,21,6],[22,1,22,6],[14,3,14,6],[23,1,25,2],[23,3,23,6],[24,3,24,6],[12,1,14,2],[12,3,12,6],[26,1,26,6],[19,1,19,2],[19,5,19,7],[52,3,52,4],[27,1,27,6],[30,1,32,9],[74,17,74,19],[98,0,139,0],[89,13,89,18],[90,13,90,18],[88,13,88,18],[75,13,75,18],[76,13,76,18],[77,13,77,18],[78,13,78,18],[79,13,79,18],[85,17,85,19],[86,13,86,18],[87,13,87,18]]}
[]
[null,"AVENTOS HL top",null,null,null,null,null,null,null,null,null,null,null,null,null,null,null,null,1,null,null,null,null,null,null,null,null,null,null,null,null,null,null,null,null,null,{"$f":"ListAVS!$B$152","v":"Jdi na"}]
[]
[null,{"$f":"ListAVS!$B$17","v":"Dřevěné čelo"},null,null,null,{"$f":"ListAVS!$B$179&\"  \"","v":"Provedení čel  "},null,null,null,null,{"$f":"IF($Z$77=3,IF(J4=0,$Y$72,\" \"),IF(J4>0,$Y$73,\" \"))","v":" "},null,null,null,null,null,null,null,{"$f":"\" \"&ListAVS!$B$41&\" A \"","v":" Cena za korpus A "},null,null,null,null,null,null,null,null,null,null,null,null,null,null,null,null,null," Úvod plánování"]
[null,null,null,null,null,{"$f":"IF($Z$77<>3,$Y$71,\" \")&\"      \"","v":" Změnit hodnoty můžete v Úvodu plánování      "},null,null,null,null,null,null,null,null,null,null,null,null,{"$f":"\" \"&ListAVS!$B$41&\" B \"","v":" Cena za korpus B "},null,null,null,null,null,null,null,null,null,null,null,null,null,null,null,null,null,{"$f":"\" \"&ListAVS!$B$154","v":" Nápověda"}]
[null,null,null,null,null,null,null,null,null,null,null,null,null,null,null,null,null,null,{"$f":"\" \"&ListAVS!$B$61","v":" Cena celkem bez DPH"}]
[null,{"$f":"ListAVS!$B$51&\":   \"","v":"Cena kování:   "},null,null,null,null,{"$f":"IF(S2=1,$AF$40,IF($S$2=2,$AH$40,IF($S$2=3,$AD$40,0)))","v":0},null,null,null,null,null,null,null,null,null,null,null,null,null,null,null,null,null,{"$f":"$B$2","v":"AVENTOS HL top"},{"$f":"B5","v":0},null,null,null,null,null,null,null,null,null,null,{"$f":"\" \"&ListAVS!$B$159","v":" Doplňky"},null,null,null,null,null,{"$f":"ListAVS!B84&\":\"","v":"Zdvihací mechanizmus:"}]
[null,null,null,null,null,null,null,{"$f":"IF(AND(OR($R$14=2, $R$25=2), $AD$40>0), $N$35, \" \")","v":" "},null,null,null,null,null,null,null,null,null,null,null,null,null,null,null,null,{"$f":"ListAVS!B52","v":"Název"},{"$f":"ListAVS!$B$53","v":"Číslo artiklu"},{"$f":"ListAVS!B54","v":"Barva"},{"$f":"ListAVS!B56","v":"Ks"},{"$f":"ListAVS!B58","v":"Jednotková cena"},{"$f":"ListAVS!B59","v":"Celkem"},"A","Cena","B","Cena",null,null,null,null,null,null,null,null,{"$f":"ListAVS!$B$75&\" KH (mm)\"","v":"Výška korpusu KH (mm)"},{"$f":"ListAVS!$B$84&\" \"&ListAVS!$B$349","v":"Zdvihací mechanizmus vruty"},{"$f":"ListAVS!$B$84&\" \"&ListAVS!$B$350","v":"Zdvihací mechanizmus předmont. eurošrouby"}]
[null,{"$f":"\"▼ \"&ListAVS!$B$317","v":"▼ Způsob otvírání"},null,{"$f":"IF($M$15>0, ListAVS!$B$37&\": \", \" \")","v":" "},{"$f":"IF(SUM($AE$9:$AE$10)>0, \"22\", IF(SUM($AE$11:$AE$12)>0,\"25\", \" \"))","v":" "},{"$f":"ListAVS!$B$64&\" A\"","v":"Korpus A"},null,null,null,null,null,null,null,null,null,null,null,"↓rozhodnutí",null,null,null,null,null,null,{"$f":"CenAVS!A36","v":"Sada zdvihačů HL top, na vruty"},{"$f":"CenAVS!B36","v":"22L2200"},{"$f":"CenAVS!C36","v":"ZN"},{"$f":"SUM(AE9,AG9)","v":0},{"$f":"CenAVS!F36","v":1754.34},{"$f":"AB9*AC9","v":0},{"$f":"IF($W$45=1, $O$10*$M$15, 0)","v":0},{"$f":"$AC9*AE9","v":0},{"$f":"IF($W$45=1, $O$21*$M$26, 0)","v":0},{"$f":"$AC9*AG9","v":0},null,null,{"$f":"\" \"&ListAVS!$B$156","v":" Přehled korpusů"},null,null,null,null,null,"300 - 389","22L2200","22L2210"]
[null,{"$f":"ListAVS!$B$74&\" KB [mm] \"","v":"Šířka korpusu KB [mm] "},null,null,null,null,null,null,{"$f":"IF($H10=0,\" \",IF($H10<220,\" min. 220mm\",IF($H10>1800,\" max. 1 800mm\",\" \")))&IF(AND(H17>0,H10=0),\"● \"&ListAVS!$B$128,\" \")","v":"  "},null,null,null,null,"L22",{"$f":"IF(AND($H$11>=$Z$44, $H$11<=$AA$45), 1, 0)","v":0},"F32",{"$f":"IF(AND($H$11>=$Z$44, $H$11<=$AA$44, Q$15>=$AB$44, $Q$15<=$AC$44), 1, 0)","v":0},null,null,null,null,null,null,null,{"$f":"CenAVS!A37","v":"Sada zdvihačů HL top, předmont. eurošrouby"},{"$f":"CenAVS!B37","v":"22L2210"},{"$f":"CenAVS!C37","v":"ZN"},{"$f":"SUM(AE10,AG10)","v":0},{"$f":"CenAVS!F37","v":1754.34},{"$f":"AB10*AC10","v":0},{"$f":"IF($W$45=2, $O$10*$M$15, 0)","v":0},{"$f":"$AC10*AE10","v":0},{"$f":"IF($W$45=2, $O$21*$M$26, 0)","v":0},{"$f":"$AC10*AG10","v":0},null,null,{"$f":"\" \"&ListAVS!$B$157","v":" Objednávka"},null,null,null,null,null,"390 - 580","22L2500","22L2510"]
[null,{"$f":"ListAVS!$B$75&\" KH [mm]  \"","v":"Výška korpusu KH [mm]  "},null,null,null,null,null,null,{"$f":"IF($H11=0,\" \",IF($H11<300,\" min. 300mm\",IF($H11>580,\" max. 580 mm\",\" \")))&IF(AND(H17>0, H11=0),\"● \"&ListAVS!$B$128,\" \")","v":"  "},null,null,null,null,null,null,"F35",{"$f":"IF(AND($H$11>=$Z$45, $H$11<=$AA$45, Q$15>=$AB$45, $Q$15<=$AC$45), 1, 0)","v":0},null,null,null,null,null,null,null,{"$f":"CenAVS!A38","v":"Sada zdvihačů HL top, na vruty"},{"$f":"CenAVS!B38","v":"22L2500"},{"$f":"CenAVS!C38","v":"ZN"},0,{"$f":"CenAVS!F38","v":1882.38},0,{"$f":"IF($W$45=1, $O$12*$M$15, 0)","v":0},{"$f":"$AC11*AE11","v":0},{"$f":"IF($W$45=1, $O$23*$M$26, 0)","v":0},{"$f":"$AC11*AG11","v":0}]
[null,{"$f":"ListAVS!$B$77&\" [kg] ** \"","v":"Hmotnost čela včetně úchytky [kg] ** "},null,null,null,null,null,null,{"$f":"IF($H17=0,\" \",IF(SUM($H12,$H15)=0,$N$37,\" \"))&IF(AND(SUM($O$10:$O$14)=1,$V16=\"ne\",H12>0),$N$41,IF(AND($H17>0,$H12>0,V$16=\"ano\"),$N$38,\" \"))","v":"  "},null,null,null,null,"L25",{"$f":"IF(AND($H$11>=$Z$49, $H$11<=$AA$50), 1, 0)","v":0},"F38",{"$f":"IF(AND($H$11>=$Z$49, $H$11<=$AA$49, Q$15>=$AB$49, $Q$15<=$AC$49), 1, 0)","v":0},{"$f":"IF(AND($Q$12=1, $Q$13=1, $H$11<=$AD$49), 1, IF(AND($Q12=1, $Q13=0), $Q12, 0))","v":0},null,null,null,null,null,null,{"$f":"CenAVS!A39","v":"Sada zdvihačů HL top, předmont. eurošrouby"},{"$f":"CenAVS!B39","v":"22L2510"},{"$f":"CenAVS!C39","v":"ZN"},0,{"$f":"CenAVS!F39","v":1882.38},0,{"$f":"IF($W$45=2, $O$12*$M$15, 0)","v":0},{"$f":"$AC12*AE12","v":0},{"$f":"IF($W$45=2, $O$23*$M$26, 0)","v":0},{"$f":"$AC12*AG12","v":0},null,null,null,null,null,null,null,null,{"$f":"ListAVS!B349&\" = \"&ListAVS!B351","v":"vruty = zdvihače s integrovanou šablonou (bez nutnosti rozměřování)"}]
[null,{"$f":"ListAVS!$B$292","v":"Výpočet hmotnosti"},null,{"$f":"ListAVS!$B$80&\" TS [mm] \"","v":"Síla čela TS [mm] "},null,null,null,null,{"$f":"IF(H17=0,\" \",IF(AND(H12=0, H13=0),\" ● \"&ListAVS!$B$128,\" \"))&IF(H17=0,\" \",IF(AND(H12=0, H13<14), \" min. 14 mm\", \" \"))","v":"  "},null,null,null,null,null,null,"F39",{"$f":"IF(AND($H$11>=$Z$50, $H$11<=$AA$50, Q$15>=$AB$50, $Q$15<=$AC$50), 1, 0)","v":0},{"$f":"IF(AND($Q12=1,$Q13=1,$H11>$AD$49),1, IF(AND($Q12=0,$Q13=1),$Q13,0))","v":0},"tyč","mezistěny",null,null,null,null,null,null,null,null,null,null,null,null,null,null,null,null,null,null,null,null,null,null,{"$f":"ListAVS!B350&\" = \"&ListAVS!B352","v":"předmont. eurošrouby = zdvihače s předmotovanými šrouby (nutné předvrtání)"}]
[null,null,null,{"$f":"ListAVS!$B$83&\" [kg] \"","v":"Hmotnost úchytky [kg] "},null,null,null,null,{"$f":"IF(H17=0, \" \", IF(AND(H12=0, R14=1, H14=0), \" ● \"&ListAVS!$B$129,\" \"))","v":" "},null,null,null,null,null,null,null,null,1,{"$f":"IF($H$10>1360,2, IF($H$10<610,0.5,1))","v":0.5},{"$f":"H16","v":0},null,null,null,null,{"$f":"CenAVS!A40","v":"Sada ramen HL top (300–339 mm)"},{"$f":"CenAVS!B40","v":"22L3200"},{"$f":"CenAVS!C40","v":"NI"},0,{"$f":"CenAVS!F40","v":1233.67},0,{"$f":"$Q10*$M$15","v":0},{"$f":"$AC14*AE14","v":0},{"$f":"$Q21*$M$26","v":0},{"$f":"$AC14*AG14","v":0}]
[null,null,null,{"$f":"ListAVS!$B$79&\" [kg] \"","v":"Vypočtená hmotnost čela [kg] "},null,null,null,{"$f":"$T$80","v":0},{"$f":"IF(AND($H17>0,$H15>0,$H12=0,$M15>0), $N$38,\" \")&IF(AND(H17>0, H12=0, Z77=3, $J$4=0), $N$36, \" \")","v":"  "},null,null,null,{"$f":"IF($H10*$H11*$Q15=0, 0, IF(SUM(O10:O12)=0, 0, IF(SUM(Q10:Q13)=0, 0, IF($H10>1800, 0, IF($H10<220, 0, IF(AND($H12=0, $H13<14), 0, $H17))))))","v":0},null,null,"hmot =",{"$f":"IF(H12>0,H12,H15)","v":0},{"$f":"IF(SUM(H12,H15)=0,0,IF(H12>0,1,2))","v":0},"zadaná / vypočtená",null,"limit v/š",{"$f":"IF(AND(219<H10,H10<1801,299<H11,H11<581),\"ano\",\"ne\")","v":"ne"},null,null,{"$f":"CenAVS!A41","v":"Sada ramen HL top (340–389 mm)"},{"$f":"CenAVS!B41","v":"22L3500"},{"$f":"CenAVS!C41","v":"NI"},0,{"$f":"CenAVS!F41","v":1259.26},0,{"$f":"$Q11*$M$15","v":0},{"$f":"$AC15*AE15","v":0},{"$f":"$Q22*$M$26","v":0},{"$f":"$AC15*AG15","v":0}]
[null,{"$f":"ListAVS!$B$29&\" * \"","v":"Počet mezistěn * "},null,null,null,null,null,null,null,null,null,null,null,null,null,null,null,null,null,null,"limit hmot",{"$f":"IF(AND($H$11>=$Z$44, $H$11<=$AA$44, $Q$15>=$AB$44, $Q$15<=$AC$44), \"ano\", IF(AND($H$11>=$Z$45, $H$11<=$AA$45, $Q$15>=$AB$45, $Q$15<=$AC$45), \"ano\", IF(AND($H$11>=$Z$49, $H$11<=$AA$49, $Q$15>=$AB$49, $Q$15<=$AC$49), \"ano\", IF(AND($H$11>=$Z$50, $H$11<=$AA$50, $Q$15>=$AB$50, $Q$15<=$AC$50), \"ano\", \"ne\"))))","v":"ne"},null,null,{"$f":"CenAVS!A42","v":"Sada ramen HL top (390–540 mm)"},{"$f":"CenAVS!B42","v":"22L3800"},{"$f":"CenAVS!C42","v":"NI"},0,{"$f":"CenAVS!F42","v":1297.67},0,{"$f":"$R12*$M$15","v":0},{"$f":"$AC16*AE16","v":0},{"$f":"$R23*$M$26","v":0},{"$f":"$AC16*AG16","v":0}]
[null,{"$f":"ListAVS!$B$71","v":"Počet skříněk"},null,null,null,null,null,null,null,null,null,null,null,null,null,null,null,null,null,null,null,null,null,null,{"$f":"CenAVS!A43","v":"Sada ramen HL top (480–580 mm)"},{"$f":"CenAVS!B43","v":"22L3900"},{"$f":"CenAVS!C43","v":"NI"},0,{"$f":"CenAVS!F43","v":1438.5},0,{"$f":"$R13*$M$15","v":0},{"$f":"$AC17*AE17","v":0},{"$f":"$R24*$M$26","v":0},{"$f":"$AC17*AG17","v":0}]
[null,{"$f":"IF(H17>0,IF(OR(R15=0,M15=0), \" \",IF(R15=1,$N$50,$N$51)),\" \")&IF(H17>0,IF(OR(R15=0, M15=0), \" \",IF(R15=1,$N$52,$N$53)),\" \")","v":"  "},null,null,null,null,null,null,null,null,null,null,null,null,null,null,null,null,null,null,null,null,null,null,null,null,null,null,null,null,null,null,null,null,null,null,null,null,null,null,null,null,{"$f":"ListAVS!B386&\":\"","v":"Sada ramen:"}]
[null,{"$f":"IF(AND($Q$12=1, $Q$13=1, $R$12=1), ListAVS!$B$337&$Y$50&\". \"&ListAVS!$B$338, IF(AND($Q$12=1, $Q$13=1, $R$13=1), ListAVS!$B$337&$Y$49&\". \"&ListAVS!$B$338, \" \"))","v":" "},null,null,null,null,null,null,null,null,null,null,null,null,null,null,null,null,null,null,null,null,null,null,{"$f":"CenAVS!A44","v":"Tyč příčné stabizace HL top"},{"$f":"CenAVS!B44","v":"22Q1076U"},{"$f":"CenAVS!C44","v":"EV"},{"$f":"SUM(AE19,AG19)","v":0},{"$f":"CenAVS!F44","v":337.98},{"$f":"AB19*AC19","v":0},{"$f":"ROUNDUP($S$14*$M$15, 0)","v":0},{"$f":"$AC19*AE19","v":0},{"$f":"ROUNDUP($S$25*$M$26, 0)","v":0},{"$f":"$AC19*AG19","v":0},null,null,null,null,null,null,null,null,{"$f":"ListAVS!B75&\" KH (mm)\"","v":"Výška korpusu KH (mm)"},{"$f":"ListAVS!B76&\" FG (kg)\"","v":"Hmotnost čela FG (kg)"},{"$f":"ListAVS!$B$386","v":"Sada ramen"}]
[null,{"$f":"\"▼ \"&ListAVS!$B$317","v":"▼ Způsob otvírání"},null,{"$f":"IF($M$26>0, ListAVS!$B$37&\": \", \" \")","v":" "},{"$f":"IF(SUM($AG$9:$AG$10)>0, \"22\", IF(SUM($AG$11:$AG$12)>0,\"25\", \" \"))","v":" "},{"$f":"ListAVS!$B$64&\" B\"","v":"Korpus B"},null,null,null,null,null,null,null,null,null,null,null,"↓rozhodnutí",null,null,null,null,null,null,{"$f":"CenAVS!A45","v":"Sada spojovacích dílů příčné stabilizace HL top"},{"$f":"CenAVS!B45","v":"22Q080Z"},{"$f":"CenAVS!C45","v":"EV"},0,{"$f":"CenAVS!F45","v":307.76},0,{"$f":"IF($H$10>=1228, $M$15, IF($T$14>0, $T$14*$M$15, 0))","v":0},0,{"$f":"IF($H$21>=1228, $M$26, IF($T$25>0, $T$14*$M$26, 0))","v":0},0,null,null,null,null,null,null,null,null,"300 - 339","1.5 - 9.00","22L3200"]
[null,{"$f":"ListAVS!$B$74&\" KB [mm] \"","v":"Šířka korpusu KB [mm] "},null,null,null,null,null,null,{"$f":"IF($H21=0,\" \",IF($H21<220,\" min. 220mm\",IF($H21>1800,\" max. 1 800mm\",\" \")))&IF(AND(H28>0,H21=0),\"● \"&ListAVS!$B$128,\" \")","v":"  "},null,null,null,null,"L22",{"$f":"IF(AND($H$22>=$Z$44, $H$22<=$AA$45), 1, 0)","v":0},"F32",{"$f":"IF(AND($H$22>=$Z$44, $H$22<=$AA$44, Q$26>=$AB$44, $Q$26<=$AC$44), 1, 0)","v":0},null,null,null,null,null,null,null,null,null,null,null,null,null,null,0,null,0,null,null,null,null,null,null,null,null,"340 - 389","1.75 - 10.00","22L3500"]
[null,{"$f":"ListAVS!$B$75&\" KH [mm] \"","v":"Výška korpusu KH [mm] "},null,null,null,null,null,null,{"$f":"IF($H22=0,\" \",IF($H22<300,\" min. 300mm\",IF($H22>580,\" max. 580 mm\",\" \")))&IF(H28>0,IF(H22=0,\"● \"&ListAVS!$B$128,\" \"),\" \")","v":"  "},null,null,null,null,null,null,"F35",{"$f":"IF(AND($H$22>=$Z$45, $H$22<=$AA$45, Q$26>=$AB$45, $Q$26<=$AC$45), 1, 0)","v":0},null,null,null,null,null,null,null,{"$f":"CenAVS!A47","v":"Sada krytek HF, HS, HL top, světle šedá"},{"$f":"CenAVS!B47","v":"22.8000"},{"$f":"CenAVS!C47","v":"HGR"},0,{"$f":"CenAVS!F47","v":252.85},0,{"$f":"IF(AND($T$45=1, $R$14=1), SUM($AE$9:$AE$12), 0)","v":0},0,{"$f":"IF(AND($T$45=1, $R$25=1), SUM($AG$9:$AG$12), 0)","v":0},0,null,null,null,null,null,null,null,null,"390 - 540","2.00 - 12.25","22L3800"]
[null,{"$f":"ListAVS!$B$77&\" [kg] ** \"","v":"Hmotnost čela včetně úchytky [kg] ** "},null,null,null,null,null,null,{"$f":"IF($H28=0,\" \",IF(SUM($H23,$H26)=0,$N$37,\" \"))&IF(AND(SUM($O$21:$O$25)=1,$V27=\"ne\",H23>0),$N$41,IF(AND($H28>0,$H23>0,V$27=\"ano\"),$N$38,\" \"))","v":"  "},null,null,null,null,"L25",{"$f":"IF(AND($H$22>=$Z$49, $H$22<=$AA$50), 1, 0)","v":0},"F38",{"$f":"IF(AND($H$22>=$Z$49, $H$22<=$AA$49, Q$26>=$AB$49, $Q$26<=$AC$49), 1, 0)","v":0},{"$f":"IF(AND($Q$23=1, $Q$24=1, $H$11<=$AD$49), 1, IF(AND($Q23=1, $Q24=0), $Q23, 0))","v":0},null,null,null,null,null,null,{"$f":"CenAVS!A48","v":"Sada krytek HF, HS, HL top, tmavě šedá"},{"$f":"CenAVS!B48","v":"22.8000"},{"$f":"CenAVS!C48","v":"TGR"},0,{"$f":"CenAVS!F48","v":275.94},0,{"$f":"IF(AND($T$45=2, $R$14=1), SUM($AE$9:$AE$12), 0)","v":0},0,{"$f":"IF(AND($T$45=2, $R$25=1), SUM($AG$9:$AG$12), 0)","v":0},0,null,null,null,null,null,null,null,null,"480 - 580","2.5 - 14.00","22L3900"]
[null,{"$f":"ListAVS!$B$292","v":"Výpočet hmotnosti"},null,{"$f":"ListAVS!$B$80&\" TS [mm] \"","v":"Síla čela TS [mm] "},null,null,null,null,{"$f":"IF(H28=0,\" \",IF(AND(H23=0, H24=0),\" ● \"&ListAVS!$B$128,\" \"))&IF(H28=0,\" \",IF(AND(H23=0, H24<14), \" min. 14 mm\", \" \"))","v":"  "},null,null,null,null,null,null,"F39",{"$f":"IF(AND($H$22>=$Z$50, $H$22<=$AA$50, Q$26>=$AB$50, $Q$26<=$AC$50), 1, 0)","v":0},{"$f":"IF(AND($Q23=1,$Q24=1,$H22>$AD$49),1, IF(AND($Q23=0,$Q24=1),$Q24,0))","v":0},"tyč","mezistěny",null,null,null,null,{"$f":"CenAVS!A49","v":"Sada krytek HF, HS, HL top, hedvábně bílá"},{"$f":"CenAVS!B49","v":"22.8000"},{"$f":"CenAVS!C49","v":"SW"},0,{"$f":"CenAVS!F49","v":275.94},0,{"$f":"IF(AND($T$45=3, $R$14=1), SUM($AE$9:$AE$12), 0)","v":0},0,{"$f":"IF(AND($T$45=3, $R$25=1), SUM($AG$9:$AG$12), 0)","v":0},0]
[null,null,null,{"$f":"ListAVS!$B$83&\" [kg] \"","v":"Hmotnost úchytky [kg] "},null,null,null,null,{"$f":"IF(H28=0, \" \", IF(AND(H23=0, R25=1, H25=0), \" ● \"&ListAVS!$B$129,\" \"))","v":" "},null,null,null,null,null,null,null,null,1,{"$f":"IF($H$21>1360,2, IF($H$10<610,0.5,1))","v":0.5},{"$f":"H27","v":0},null,null,null,null,{"$f":"CenAVS!A50","v":"Sada krytek pro SERVO-DRIVE, světle šedá"},{"$f":"CenAVS!B50","v":"23.8000"},{"$f":"CenAVS!C50","v":"HGR"},0,{"$f":"CenAVS!F50","v":2606.7600000000002},0,{"$f":"IF(AND($T$45=1, $R$14=2), SUM($AE$9:$AE$12), 0)","v":0},0,{"$f":"IF(AND($T$45=1, $R$25=2), SUM($AG$9:$AG$12), 0)","v":0},0]
[null,null,null,{"$f":"ListAVS!$B$79&\" [kg] \"","v":"Vypočtená hmotnost čela [kg] "},null,null,null,{"$f":"$T$91","v":0},{"$f":"IF(AND($H28>0,$H26>0,$H23=0,$M26>0), $N$38,\" \")&IF(AND(H28>0, H23=0, Z88=3, $J$4=0), $N$36, \" \")","v":"  "},null,null,null,{"$f":"IF($H21*$H22*$Q26=0, 0, IF(SUM(O21:O23)=0, 0, IF(SUM(Q21:Q24)=0, 0, IF($H21>1800, 0, IF($H21<220, 0, IF(AND($H23=0, $H24<14), 0, $H28))))))","v":0},null,null,"hmot =",{"$f":"IF(H23>0,H23,H26)","v":0},{"$f":"IF(SUM(H23,H26)=0,0,IF(H23>0,1,2))","v":0},"zadaná / vypočtená",null,"limit v/š",{"$f":"IF(AND(219<H21,H21<1801,299<H22,H22<581),\"ano\",\"ne\")","v":"ne"},null,null,{"$f":"CenAVS!A51","v":"Sada krytek pro SERVO-DRIVE, tmavě šedá"},{"$f":"CenAVS!B51","v":"23.8000"},{"$f":"CenAVS!C51","v":"TGR"},{"$f":"SUM(AE26,AG26)","v":0},{"$f":"CenAVS!F51","v":2709.29},{"$f":"AB26*AC26","v":0},{"$f":"IF(AND($T$45=2, $R$14=2), SUM($AE$9:$AE$12), 0)","v":0},{"$f":"$AC26*AE26","v":0},{"$f":"IF(AND($T$45=2, $R$25=2), SUM($AG$9:$AG$12), 0)","v":0},{"$f":"$AC26*AG26","v":0}]
[null,{"$f":"ListAVS!$B$29&\" * \"","v":"Počet mezistěn * "},null,null,null,null,null,null,null,null,null,null,null,null,null,null,null,null,null,null,"limit hmot",{"$f":"IF(AND($H$22>=$Z$44, $H$22<=$AA$44, $Q$26>=$AB$44, $Q$26<=$AC$44), \"ano\", IF(AND($H$22>=$Z$45, $H$22<=$AA$45, $Q$26>=$AB$45, $Q$26<=$AC$45), \"ano\", IF(AND($H$22>=$Z$49, $H$22<=$AA$49, $Q$26>=$AB$49, $Q$26<=$AC$49), \"ano\", IF(AND($H$22>=$Z$50, $H$22<=$AA$50, $Q$26>=$AB$50, $Q$26<=$AC$50), \"ano\", \"ne\"))))","v":"ne"},null,null,{"$f":"CenAVS!A52","v":"Sada krytek pro SERVO-DRIVE,hedvábně bílá"},{"$f":"CenAVS!B52","v":"23.8000"},{"$f":"CenAVS!C52","v":"SW"},{"$f":"SUM(AE27,AG27)","v":0},{"$f":"CenAVS!F52","v":2709.29},{"$f":"AB27*AC27","v":0},{"$f":"IF(AND($T$45=3, $R$14=2), SUM($AE$9:$AE$12), 0)","v":0},{"$f":"$AC27*AE27","v":0},{"$f":"IF(AND($T$45=3, $R$25=2), SUM($AG$9:$AG$12), 0)","v":0},{"$f":"$AC27*AG27","v":0}]
[null,{"$f":"ListAVS!$B$71","v":"Počet skříněk"}]
[null,{"$f":"IF(H28>0,IF(OR(R26=0,M26=0), \" \",IF(R26=1,$N$50,$N$51)),\" \")&IF(H28>0,IF(OR(R26=0, M26=0), \" \",IF(R26=1,$N$52,$N$53)),\" \")","v":"  "},null,null,null,null,null,null,null,null,null,null,null,null,{"$f":"IF($P$29=FALSE,2,1)","v":2},false,null," - Zdroj"]
[null,{"$f":"IF(AND($Q$23=1, $Q$24=1, $R$23=1), ListAVS!$B$337&$Y$50&\". \"&ListAVS!$B$338, IF(AND($Q$23=1, $Q$24=1, $R$24=1), ListAVS!$B$337&$Y$49&\". \"&ListAVS!$B$338, \" \"))","v":" "}]
[null,{"$f":"IF(OR(AND($R$14=2, $M$15>0), AND($R$25=2, $M$26>0)), ListAVS!$B$175, \" \")","v":" "}]
[null,null,null,null,null,null,null,null,null,null,null,null,null,null,null,null,null,null,null,null,null,null,null,null,{"$f":"CenAVS!A78","v":"Sada čel.kování pro dřev. čela"},{"$f":"CenAVS!B78","v":"20S4200"},{"$f":"CenAVS!C78","v":"NI"},{"$f":"SUM(AE32,AG32)","v":0},{"$f":"CenAVS!F78","v":90.38},{"$f":"AB32*AC32","v":0},{"$f":"IF($O$45=2,SUM(AE$9:AE$12),0)","v":0},{"$f":"$AC32*AE32","v":0},{"$f":"IF($O$45=2,SUM(AG$9:AG$12),0)","v":0},{"$f":"$AC32*AG32","v":0}]
[null,null,null,null,null,null,null,null,null,null,null,null,null,null,null,null,null,null,null,null,null,null,null,null,{"$f":"CenAVS!A79","v":"Čelní.kování pro dřev. čela EXPANDO"},{"$f":"CenAVS!B79","v":"20S42E1"},{"$f":"CenAVS!C79","v":"NI"},{"$f":"SUM(AE33,AG33)","v":0},{"$f":"CenAVS!F79","v":51.36},{"$f":"AB33*AC33","v":0},{"$f":"IF($O$45=1,SUM(AE$9:AE$12)*2,0)","v":0},{"$f":"$AC33*AE33","v":0},{"$f":"IF($O$45=1,SUM(AG$9:AG$12)*2,0)","v":0},{"$f":"$AC33*AG33","v":0}]
[null,null,null,null,null,null,null,null,null,null,null,null,null,null,null,null,null,null,null,null,null,null,null,null,{"$f":"CenAVS!A80","v":"Sada čel.kování pro tenké materiály"},{"$f":"CenAVS!B80","v":"20S42T1"},{"$f":"CenAVS!C80","v":"NI"},{"$f":"SUM(AE34,AG34)","v":0},{"$f":"CenAVS!F80","v":291.60000000000002},{"$f":"AB34*AC34","v":0},null,{"$f":"$AC34*AE34","v":0},null,{"$f":"$AC34*AG34","v":0}]
[null,null,null,null,null,null,null,null,null,null,null,null,null,{"$f":"ListAVS!B176","v":"Cena bez napájecího zdroje!"},null,null,null,null,null,null,null,null,null,null,{"$f":"CenAVS!A81","v":"Sada čel.kování pro úzké alurámečky"},{"$f":"CenAVS!B81","v":"20S4200A"},{"$f":"CenAVS!C81","v":"NI"},{"$f":"SUM(AE35,AG35)","v":0},{"$f":"CenAVS!F81","v":395.5},{"$f":"AB35*AC35","v":0},null,{"$f":"$AC35*AE35","v":0},null,{"$f":"$AC35*AG35","v":0}]
[null,null,null,null,null,null,null,null,null,null,null,null,null,{"$f":"\" \"&ListAVS!$B$117","v":" Vyplňte nahoře objemovou hmotnost "}]
[null," *",{"$f":"ListAVS!$B$233","v":"Zadejte počet mezistěn v korpusu "},null,null,null,null,null,null,null,null,null,null,{"$f":"\" \"&ListAVS!$B$115","v":" Zadejte hmotnost nebo vyplňte všechny buňky"},null,null,null,null,null,null,null,null,null,null,{"$f":"CenAVS!A171","v":"SERVO-DRIVE jednotka (sada)"},{"$f":"CenAVS!B171","v":"23.A000"},{"$f":"CenAVS!C171","v":"R7037"},{"$f":"SUM(AE37,AG37)","v":0},{"$f":"CenAVS!F171","v":8297.32},{"$f":"AB37*AC37","v":0},{"$f":"IF($R$14=2, $M$15, 0)","v":0},{"$f":"$AC37*AE37","v":0},{"$f":"IF($R$25=2, $M$26, 0)","v":0},{"$f":"$AC37*AG37","v":0}]
[null," **",{"$f":"ListAVS!$B$186","v":"Pokud znáte hmotnost a nechcete využít výpočtu hmotnosti"},null,null,null,null,null,null,null,null,null,null,{"$f":"\"◄ \"&ListAVS!$B$112","v":"◄ hodnota bude použita pro výběr zdvihače"},null,null,null,null,null,null,null,null,null,null,null,null,null,null,null,null,null,{"$f":"$AC38*AE38","v":0},null,{"$f":"$AC38*AG38","v":0}]
[null,null,null,null,null,null,null,null,null,null,null,null,null,{"$f":"\" * \"&ListAVS!$B$127","v":" * Doplňte hodnoty"}]
[null,null,null,null,null,null,null,null,null,null,null,null,null,null,null,null,null,null,null,null,null,null,null,null,null,null,null,null,{"$f":"ListAVS!$B$61&\" \"","v":"Cena celkem bez DPH "},{"$f":"SUM(AD9:AD38)","v":0},null,{"$f":"SUM(AF9:AF38)","v":0},null,{"$f":"SUM(AH9:AH38)","v":0}]
[null,null,null,null,null,null,null,null,null,null,null,null,null,{"$f":"ListAVS!$B$124&\"!\"","v":"Hmotnost mimo povolený rozsah!"},null,null,null,null,null,null,null,null,null,null,{"$f":"Param!M30","v":"Parametry HL"}]
[null,null,null,null,null,null,null,null,null,null,null,null,null,{"$f":"\" max. 9 000! \"&ListAVS!$B$121","v":" max. 9 000! Upravte hmotnost nebo výšku"},null,null,null,null,null,null,null,null,null,null,null,null,{"$f":"Param!O31","v":"22L2200"}]
[null,null,null,null,null,null,null,null,null,null,null,null,null,{"$f":"\" \"&ListAVS!$B$234","v":" Nutná mezistěna"},null,null,null,null,null,null,null,null,null,null,null,{"$f":"Param!N32","v":"min KH"},{"$f":"Param!O32","v":"max KH"},{"$f":"Param!P32","v":"min FG"},{"$f":"Param!Q32","v":"max FG"}]
[null,null,null,null,null,null,null,null,null,null,null,null,null,null,null,null,null,null,null,null,null,null,null,null,{"$f":"Param!M33","v":"22L3200"},{"$f":"Param!N33","v":300},{"$f":"Param!O33","v":339},{"$f":"Param!P33","v":1.5},{"$f":"Param!Q33","v":9}]
[null,null,null,null,null,null,null,null,null,null,null,null,null,null,{"$f":"HL!$N$26","v":2},null,null,null,null,{"$f":"MenuAVS!$P$28","v":1},null,null,{"$f":"HL!P26","v":1},null,{"$f":"Param!M34","v":"22L3500"},{"$f":"Param!N34","v":340},{"$f":"Param!O34","v":389},{"$f":"Param!P34","v":1.75},{"$f":"Param!Q34","v":10}]
[null,null,null,null,null,null,null,null,null,null,null,null,null,null,"čelní kov.",null,"Provedení:",null,null,"kryt.",null,null,{"$f":"HL!P27","v":"mont."}]
[null,null,null,null,null,null,null,null,null,null,null,null,null,null,{"$f":"ListAVS!$B$142","v":"Expando"},null,"Standard",null,null,{"$f":"ListAVS!$B$145","v":"Světle šedá (HGR)"},null,null,{"$f":"HL!P28","v":"vruty"},null,null,null,{"$f":"Param!O36","v":"22L2500"}]
[null,null,null,null,null,null,null,null,null,null,null,null,null,null,{"$f":"ListAVS!$B$143","v":"na vruty"},null,"SERVO-DRIVE",null,null,{"$f":"ListAVS!$B$146","v":"Tmavě šedá (TGR)"},null,null,{"$f":"HL!P29","v":"předmont. eurošrouby"},null,{"$f":"Param!M37","v":0},{"$f":"Param!N37","v":"min KH"},{"$f":"Param!O37","v":"max KH"},{"$f":"Param!P37","v":"min FG"},{"$f":"Param!Q37","v":"max FG"},{"$f":"Param!R37","v":"hranice"}]
[null,null,null,null,null,null,null,null,null,null,null,null,null,null,null,null,null,null,null,{"$f":"ListAVS!$B$147","v":"Hedvábně bílá (SW)"},null,null,null,null,{"$f":"Param!M38","v":"22L3800"},{"$f":"Param!N38","v":390},{"$f":"Param!O38","v":540},{"$f":"Param!P38","v":2},{"$f":"Param!Q38","v":12.25},{"$f":"Param!R38","v":500}]
[null,null,null,null,null,null,null,null,null,null,null,null,null,{"$f":"ListAVS!B187&\". \"","v":"Pro určení typu zdvihače bude použita zadaná hmotnost. "},null,null,null,null,null,null,null,null,null,null,{"$f":"Param!M39","v":"22L3900"},{"$f":"Param!N39","v":480},{"$f":"Param!O39","v":580},{"$f":"Param!P39","v":1.5},{"$f":"Param!Q39","v":14}]
[null,{"$f":"\" \"&ListAVS!$B$394","v":" Odstup čela od korpusu"},null,null,null,null,null,null,null,null,null,null,null,{"$f":"ListAVS!B188&\". \"","v":"Pro určení typu zdvihače bude použita vypočtená hmotnost. "}]
[null,"KH [mm]",null,{"$f":"ListAVS!$B$386","v":"Sada ramen"},null,"a [mm]","b [mm]","c [mm]","y [mm]",null,null,null,null,{"$f":"ListAVS!B189","v":"Chcete-li použít vypočtenou hmotnost, smažte zadanou hodnotu"}]
[null,"300 - 339",null,"22L3200",null,112,272.5,155.5,272.5,null,null,null,null,{"$f":"ListAVS!B190","v":"Chcete-li použít zadanou hmotnost, zadejte ji do políčka"}]
[null,"340 - 389",null,"22L3500",null,140.5,340,195,340]
[null,"390 - 540",null,"22L3800",null,176,425,245,425,null,null,null,null,{"$f":"\" \"&ListAVS!$B$108","v":" v kombinaci se SERVO-DRIVE"}]
[null,"480 - 580",null,"22L3900",null,214.5,517,297.5,517,null,null,null,null,{"$f":"\" \"&ListAVS!$B$109","v":" nelze v kombinaci se SERVO-DRIVE"}]
[]
[null,null,null,null,null,null,null,null,null,null,null,null,null,{"$f":"\" \"&ListAVS!$B$124&\"!\"","v":" Hmotnost mimo povolený rozsah!"}]
[]
[]
[]
[]
[]
[]
[]
[]
[]
[]
[null,null,null,null,null,null,null,null,null,null,null,null,null,{"$f":"ListAVS!$B$73","v":"Výpočet hmotnosti čel"}]
[null,null,null,null,null,null,null,null,null,null,null,null,null,null,null,{"$f":"ListAVS!$B$179&\"  \"","v":"Provedení čel  "},null,null,null,{"$f":"J4","v":0},{"$f":"IF(Z77=3,IF(T70=0,Y72,\" \"),IF(T70>0,Y73,\" \"))","v":" "},null,null,null,{"$f":"IF($Z$77=1,$Z$78,IF($Z$77=2,$Z$79,$Z$80&\" \"&$Y$80&\"kg/m3\"))&\" A~\"&$T$78&\"/ B~\"&$T$89&\"mm\"","v":"MDF (760 kg/m3) A~0/ B~0mm"}]
[null,null,null,null,null,null,null,null,null,null,null,null,null,null,null,{"$f":"IF($Z$77<>3,$Y$71,\" \")&\"      \"","v":" Změnit hodnoty můžete v Úvodu plánování      "},null,null,null,null,null,null,null,null,{"$f":"\" \"&ListAVS!$B$410","v":" Změnit hodnoty můžete v Úvodu plánování"}]
[null,null,null,null,null,null,null,null,null,null,null,null,null,null,null,null,null,null,null,null,null,null,null,null,{"$f":"\" \"&ListAVS!$B$244&\" [kg/m3]\"","v":" Zadejte objemovou hmotnost  [kg/m3]"}]
[null,null,null,null,null,null,null,null,null,null,null,null,null,null,null,null,null,null,null,null,null,null,null,null,{"$f":"\" \"&ListAVS!$B$240&\" '\"&ListAVS!$B$92&\"'\"","v":" Hodnota platí jen pro volbu 'Jiné - volitelná hustota'"}]
[]
[null,null,null,null,null,null,null,null,null,null,null,null,null,null,null,null,null,{"$f":"D9","v":" "}]
[null,null,null,null,null,null,null,null,null,null,null,null,null,{"$f":"ListAVS!$B$74&\" KB [mm]       \"","v":"Šířka korpusu KB [mm]       "},null,null,null,null,null,{"$f":"H10","v":0},null,null,null,null,{"$f":"T76*T77*T78","v":0},null,null,null,null,3.51,"alu"]
[null,null,null,null,null,null,null,null,null,null,null,null,null,{"$f":"ListAVS!$B$75&\" KH [mm]       \"","v":"Výška korpusu KH [mm]       "},null,null,null,null,null,{"$f":"H11","v":0},null,null,null,null,{"$f":"Y76/1000000000","v":0},1,null,null,null,"váha alu",{"$f":"SUM(T76*2,T77*2)*AD76/10000","v":0},3]
[null,null,null,null,null,null,null,null,null,null,null,null,null,{"$f":"ListAVS!$B$80&\" TS [mm] \"","v":"Síla čela TS [mm] "},null,null,null,null,null,{"$f":"H13","v":0},{"$f":"IF(SUM(T76,T77)=0,\" \",IF(T78=0,\" ● \"&ListAVS!$B$128,\" \"))","v":" "},null,null,null,{"$f":"MenuAVS!$C$31","v":760},{"$f":"ListAVS!$B$90&\" (\"&Y78&\" kg/m3)\"","v":"MDF (760 kg/m3)"},null,null,null,10,{"$f":"SUM($T$76*$T$77*$AD78)/1000000","v":0},{"$f":"ListAVS!$B$93","v":"Alurámečky s 4mm sklem"}]
[null,null,null,null,null,null,null,null,null,null,null,null,null,{"$f":"ListAVS!$B$83&\" [kg] \"","v":"Hmotnost úchytky [kg] "},null,null,null,null,null,{"$f":"H14","v":0},{"$f":"IF(SUM(T76,T77)=0,\" \",IF(T79=0,\" ● \"&ListAVS!$B$129,\" \"))","v":" "},null,null,null,{"$f":"MenuAVS!$C$32","v":680},{"$f":"ListAVS!$B$91&\" (\"&Y79&\" kg/m3)\"","v":"Dřevotříska (680 kg/m3)"},null,null,null,15,{"$f":"SUM($T$76*$T$77*$AD79)/1000000","v":0},{"$f":"ListAVS!$B$94","v":"Alurámečky s 5mm sklem"}]
[null,null,null,null,null,null,null,null,null,null,null,null,null,{"$f":"ListAVS!$B$79&\" [kg] \"","v":"Vypočtená hmotnost čela [kg] "},null,null,null,null,null,{"$f":"IF(X80=0,0,X80+T79)","v":0},null,null,null,{"$f":"IF(T76*T77*T78=0,0,IF(Z77=1,Y77*Y78,IF(Z77=2,Y77*Y79,Y77*Y80)))","v":0},{"$f":"$T$70","v":0},{"$f":"ListAVS!$B$92","v":"Jiné - volitelná hustota"},null,null,null,{"$f":"2.5*$T$70","v":0},{"$f":"SUM($T$76*$T$77*$AD80)/1000000","v":0},{"$f":"ListAVS!$B$95","v":"Alurámečky s jiným sklem"}]
[null,null,null,null,null,null,null,null,null,null,null,null,null,null,{"$f":"IF(T80>0,IF(T79=0,$Y$96,\" \"),\" \")","v":" "},null,null,null,null,null,null,null,null,null,null,null,null,null,null,{"$f":"SUM(IF(AF77=1,AE78,IF(AF77=2,AE79,AE80)),AE77)","v":0}]
[]
[]
[]
[]
[null,null,null,null,null,null,null,null,null,null,null,null,null,null,null,null,null,{"$f":"D20","v":" "}]
[null,null,null,null,null,null,null,null,null,null,null,null,null,{"$f":"ListAVS!$B$74&\" KB [mm]       \"","v":"Šířka korpusu KB [mm]       "},null,null,null,null,null,{"$f":"H21","v":0},null,null,null,null,{"$f":"T87*T88*T89","v":0},null,null,null,null,{"$f":"AD76","v":3.51},"alu"]
[null,null,null,null,null,null,null,null,null,null,null,null,null,{"$f":"ListAVS!$B$75&\" KH [mm]       \"","v":"Výška korpusu KH [mm]       "},null,null,null,null,null,{"$f":"H22","v":0},null,null,null,null,{"$f":"Y87/1000000000","v":0},{"$f":"Z77","v":1},null,null,null,"váha alu",{"$f":"SUM(T87*2,T88*2)*AD87/10000","v":0},{"$f":"AF77","v":3}]
[null,null,null,null,null,null,null,null,null,null,null,null,null,{"$f":"ListAVS!$B$80&\" TS [mm] \"","v":"Síla čela TS [mm] "},null,null,null,null,null,{"$f":"H24","v":0},{"$f":"IF(SUM(T87,T88)=0,\" \",IF(T89=0,\" ● \"&ListAVS!$B$128,\" \"))","v":" "},null,null,null,{"$f":"$Y$78","v":760},{"$f":"$Z$78","v":"MDF (760 kg/m3)"},null,null,null,{"$f":"AD78","v":10},{"$f":"SUM($T$87*$T$88*$AD89)/1000000","v":0},{"$f":"ListAVS!$B$93","v":"Alurámečky s 4mm sklem"}]
[null,"      AVENTOS HL",null,null,null,null,null,null,null,null,null,null,null,{"$f":"ListAVS!$B$83&\" [kg] \"","v":"Hmotnost úchytky [kg] "},null,null,null,null,null,{"$f":"H25","v":0},{"$f":"IF(SUM(T87,T88)=0,\" \",IF(T90=0,\" ● \"&ListAVS!$B$129,\" \"))","v":" "},null,null,null,{"$f":"$Y$79","v":680},{"$f":"$Z$79","v":"Dřevotříska (680 kg/m3)"},null,null,null,{"$f":"AD79","v":15},{"$f":"SUM($T$87*$T$88*$AD90)/1000000","v":0},{"$f":"ListAVS!$B$94","v":"Alurámečky s 5mm sklem"}]
[null,null,null,null,null,null,null,null,null,null,null,null,null,{"$f":"ListAVS!$B$79&\" [kg] \"","v":"Vypočtená hmotnost čela [kg] "},null,null,null,null,null,{"$f":"IF(X91=0,0,X91+T90)","v":0},null,null,null,{"$f":"IF(T87*T88*T89=0,0,IF(Z88=1,Y88*Y89,IF(Z88=2,Y88*Y90,Y88*Y91)))","v":0},{"$f":"$Y$80","v":0},{"$f":"$Z$80","v":"Jiné - volitelná hustota"},null,null,null,{"$f":"AD80","v":0},{"$f":"SUM($T$87*$T$88*$AD91)/1000000","v":0},{"$f":"ListAVS!$B$95","v":"Alurámečky s jiným sklem"}]
[null,{"$f":"ListAVS!$B$332","v":"Pro výběr správného zdvihače potřebujete znát výšku korpusu a hmotnost čela."},null,null,null,null,null,null,null,null,null,null,null,null,{"$f":"IF(T91>0,IF(T90=0,$Y$96,\" \"),\" \")","v":" "},null,null,null,null,null,null,null,null,null,null,null,null,null,null,{"$f":"SUM(IF(AF88=1,AE89,IF(AF88=2,AE90,AE91)),AE88)","v":0}]
[]
[null,{"$f":"ListAVS!$B$311","v":"Pokud znáte hmotnost čela, můžete ji zadat, jinak použijte \"Výpočet hmotnosti\"."}]
[null,{"$f":"ListAVS!$B$312","v":"V tabulce má přednost zadaná hodnota. Chcete-li použít vypočtenou hmotnost, smažte zadanou hodnotu."}]
[null,null,null,null,null,null,null,null,null,null,null,null,null,null,null,null,null,null,null,null,null,null,null,null,{"$f":"ListAVS!$B$102&\"!\"","v":"Není započtena hmotnost úchytky!"}]
[]
[null,{"$f":"ListAVS!$B$305","v":"Chcete-li změnit barvu krytek, přejděte na \"Úvod plánování\""}]
[]
[]
[]
[]
[]
[]
[]
[]
[]
[]
[]
[]
[]
[null,null,null,null,null,null,null,null,null,null,null,{"$f":"ListAVS!$B$167","v":"Zpět"}]

{"sheet":"HLwa","index":21,"n_rows":118,"n_cols":45,"rows_kept":118,"cut":false,"hidden":false,"merged":[[55,1,55,2],[51,1,51,2],[52,1,52,2],[53,1,53,2],[54,1,54,2],[54,3,54,4],[0,42,0,45],[1,1,1,2],[9,1,9,6],[11,1,11,6],[8,1,8,2],[8,5,8,7],[6,1,6,2],[6,6,6,7],[10,1,10,6],[4,5,4,9],[24,15,24,16],[13,15,13,16],[20,1,20,6],[21,1,21,6],[22,1,22,6],[19,1,19,2],[19,5,19,7],[16,1,16,6],[15,1,15,6],[12,1,14,2],[12,3,12,6],[13,3,13,6],[14,3,14,6],[74,17,74,19],[75,13,75,18],[76,13,76,18],[87,13,87,18],[86,13,86,18],[77,13,77,18],[78,13,78,18],[79,13,79,18],[85,17,85,19],[98,0,139,0],[88,13,88,18],[89,13,89,18],[90,13,90,18],[27,1,27,6],[30,1,32,9],[27,15,27,16],[56,3,56,4],[58,3,58,4],[59,3,59,4],[61,3,61,4],[62,3,62,4],[51,3,51,4],[52,3,52,4],[53,3,53,4],[55,3,55,4],[26,1,26,6],[23,1,25,2],[23,3,23,6],[24,3,24,6],[25,3,25,6]]}
[]
[null,"AVENTOS HL top",null,null,null,null,null,null,null,null,null,null,null,null,"rámeček",null,null,null,3,null,null,null,null,null,null,null,null,null,null,null,null,null,null,null,null,null,{"$f":"ListAVS!$B$152","v":"Jdi na"}]
[]
[null,{"$f":"ListAVS!$B$20&\" ***\"","v":"Široký alurámeček ***"},null,null,null,{"$f":"ListAVS!$B$179&\"  \"","v":"Provedení čel  "},null,null,null,null,{"$f":"U70","v":" "},null,null,null,1,null,null,null,{"$f":"\" \"&ListAVS!$B$41&\" A \"","v":" Cena za korpus A "},null,null,null,null,null,null,null,null,null,null,null,null,null,null,null,null,null," Úvod plánování"]
[null,null,null,null,null,{"$f":"IF($AF$76<>3,$Y$71,\" \")&\"      \"","v":" Změnit hodnoty můžete v Úvodu plánování      "},null,null,null,null,null,null,null,null,"A = 1",null,null,null,{"$f":"\" \"&ListAVS!$B$41&\" B \"","v":" Cena za korpus B "},null,null,null,null,null,null,null,null,null,null,null,null,null,null,null,null,null,{"$f":"\" \"&ListAVS!$B$154","v":" Nápověda"}]
[null,null,null,null,null,null,null,null,null,null,null,null,null,null,"B = 2",null,null,null,{"$f":"\" \"&ListAVS!$B$61","v":" Cena celkem bez DPH"}]
[null,{"$f":"ListAVS!$B$51&\":   \"","v":"Cena kování:   "},null,null,null,null,{"$f":"IF(S2=1,$AF$45,IF($S$2=2,$AH$45,IF($S$2=3,$AD$45,0)))","v":0},null,null,null,null,null,null,null,null,null,null,null,null,null,null,null,null,null,{"$f":"$B$2","v":"AVENTOS HL top"},{"$f":"B5","v":0},null,null,null,null,null,null,null,null,null,null,{"$f":"\" \"&ListAVS!$B$159","v":" Doplňky"},null,null,null,null,null,{"$f":"ListAVS!B84&\":\"","v":"Zdvihací mechanizmus:"}]
[null,null,null,null,null,null,null,{"$f":"IF(AND(OR($R$14=2, $R$24=2), $AD$45>0), $N$34, \" \")","v":" "},null,null,null,null,null,null,null,null,null,null,null,null,null,null,null,null,{"$f":"ListAVS!B52","v":"Název"},{"$f":"ListAVS!$B$53","v":"Číslo artiklu"},{"$f":"ListAVS!B54","v":"Barva"},{"$f":"ListAVS!B56","v":"Ks"},{"$f":"ListAVS!B58","v":"Jednotková cena"},{"$f":"ListAVS!B59","v":"Celkem"},"A","Cena","B","Cena",null,null,null,null,null,null,null,null,{"$f":"ListAVS!$B$75&\" KH (mm)\"","v":"Výška korpusu KH (mm)"},{"$f":"ListAVS!$B$84&\" \"&ListAVS!$B$349","v":"Zdvihací mechanizmus vruty"},{"$f":"ListAVS!$B$84&\" \"&ListAVS!$B$350","v":"Zdvihací mechanizmus předmont. eurošrouby"}]
[null,{"$f":"\"▼ \"&ListAVS!$B$317","v":"▼ Způsob otvírání"},null,{"$f":"IF($M$15>0, ListAVS!$B$37&\": \", \" \")","v":" "},{"$f":"IF(SUM($AE$9:$AE$10)>0, \"22\", IF(SUM($AE$11:$AE$12)>0,\"25\", \" \"))","v":" "},{"$f":"ListAVS!$B$64&\" A\"","v":"Korpus A"},null,null,null,null,null,null,null,null,null,null,null,"↓rozhodnutí",null,null,null,null,null,null,{"$f":"CenAVS!A36","v":"Sada zdvihačů HL top, na vruty"},{"$f":"CenAVS!B36","v":"22L2200"},{"$f":"CenAVS!C36","v":"ZN"},{"$f":"SUM(AE9,AG9)","v":0},{"$f":"CenAVS!F36","v":1754.34},{"$f":"AB9*AC9","v":0},{"$f":"IF($W$45=1, $O$10*$M$15, 0)","v":0},{"$f":"$AC9*AE9","v":0},{"$f":"IF($W$45=1, $O$21*$M$26, 0)","v":0},{"$f":"$AC9*AG9","v":0},null,null,{"$f":"\" \"&ListAVS!$B$156","v":" Přehled korpusů"},null,null,null,null,null,"300 - 389","22L2200","22L2210"]
[null,{"$f":"ListAVS!$B$74&\" KB [mm] \"","v":"Šířka korpusu KB [mm] "},null,null,null,null,null,null,{"$f":"IF($H10=0,\" \",IF($H10<220,\" min. 220mm\",IF($H10>1800,\" max. 1 800mm\",\" \")))&IF(AND(H17>0,H10=0),\"● \"&ListAVS!$B$128,\" \")","v":"  "},null,null,null,null,"L22",{"$f":"IF(AND($H$11>=$Z$44, $H$11<=$AA$45), 1, 0)","v":0},"F32",{"$f":"IF(AND($H$11>=$Z$44, $H$11<=$AA$44, Q$15>=$AB$44, $Q$15<=$AC$44), 1, 0)","v":0},null,null,null,null,null,null,null,{"$f":"CenAVS!A37","v":"Sada zdvihačů HL top, předmont. eurošrouby"},{"$f":"CenAVS!B37","v":"22L2210"},{"$f":"CenAVS!C37","v":"ZN"},0,{"$f":"CenAVS!F37","v":1754.34},{"$f":"AB10*AC10","v":0},{"$f":"IF($W$45=2, $O$10*$M$15, 0)","v":0},{"$f":"$AC10*AE10","v":0},{"$f":"IF($W$45=2, $O$21*$M$26, 0)","v":0},{"$f":"$AC10*AG10","v":0},null,null,{"$f":"\" \"&ListAVS!$B$157","v":" Objednávka"},null,null,null,null,null,"390 - 580","22L2500","22L2510"]
[null,{"$f":"ListAVS!$B$75&\" KH [mm]  \"","v":"Výška korpusu KH [mm]  "},null,null,null,null,null,null,{"$f":"IF($H11=0,\" \",IF($H11<300,\" min. 300mm\",IF($H11>580,\" max. 580 mm\",\" \")))&IF(H17>0,IF(H11=0,\"● \"&ListAVS!$B$128,\" \"),\" \")","v":"  "},null,null,null,null,null,null,"F35",{"$f":"IF(AND($H$11>=$Z$45, $H$11<=$AA$45, Q$15>=$AB$45, $Q$15<=$AC$45), 1, 0)","v":0},null,null,null,null,null,null,null,{"$f":"CenAVS!A38","v":"Sada zdvihačů HL top, na vruty"},{"$f":"CenAVS!B38","v":"22L2500"},{"$f":"CenAVS!C38","v":"ZN"},0,{"$f":"CenAVS!F38","v":1882.38},0,{"$f":"IF($W$45=1, $O$12*$M$15, 0)","v":0},{"$f":"$AC11*AE11","v":0},{"$f":"IF($W$45=1, $O$23*$M$26, 0)","v":0},{"$f":"$AC11*AG11","v":0}]
[null,{"$f":"ListAVS!$B$77&\" [kg] ** \"","v":"Hmotnost čela včetně úchytky [kg] ** "},null,null,null,null,null,null,{"$f":"IF($H17=0,\" \",IF(SUM($H12,$H15)=0,$N$37,\" \"))&IF(AND(SUM($O$10:$O$14)=1,$V16=\"ne\",H12>0),$N$41,IF(AND($H17>0,$H12>0,V$16=\"ano\"),$N$38,\" \"))","v":"  "},null,null,null,null,"L25",{"$f":"IF(AND($H$11>=$Z$49, $H$11<=$AA$50), 1, 0)","v":0},"F38",{"$f":"IF(AND($H$11>=$Z$49, $H$11<=$AA$49, Q$15>=$AB$49, $Q$15<=$AC$49), 1, 0)","v":0},{"$f":"IF(AND($Q$12=1, $Q$13=1, $H$11<=$AD$49), 1, IF(AND($Q12=1, $Q13=0), $Q12, 0))","v":0},null,null,null,null,null,null,{"$f":"CenAVS!A39","v":"Sada zdvihačů HL top, předmont. eurošrouby"},{"$f":"CenAVS!B39","v":"22L2510"},{"$f":"CenAVS!C39","v":"ZN"},0,{"$f":"CenAVS!F39","v":1882.38},0,{"$f":"IF($W$45=2, $O$12*$M$15, 0)","v":0},{"$f":"$AC12*AE12","v":0},{"$f":"IF($W$45=2, $O$23*$M$26, 0)","v":0},{"$f":"$AC12*AG12","v":0},null,null,null,null,null,null,null,null,{"$f":"ListAVS!B349&\" = \"&ListAVS!B351","v":"vruty = zdvihače s integrovanou šablonou (bez nutnosti rozměřování)"}]
[null,{"$f":"ListAVS!$B$292","v":"Výpočet hmotnosti"},null,{"$f":"ListAVS!$B$80&\" TS [mm] \"","v":"Síla čela TS [mm] "},null,null,null,null,null,null,null,null,null,null,null,"F39",{"$f":"IF(AND($H$11>=$Z$50, $H$11<=$AA$50, Q$15>=$AB$50, $Q$15<=$AC$50), 1, 0)","v":0},{"$f":"IF(AND($Q12=1,$Q13=1,$H11>$AD$49),1, IF(AND($Q12=0,$Q13=1),$Q13,0))","v":0},"tyč","mezistěny",null,null,null,null,null,null,null,null,null,null,null,null,null,null,null,null,null,null,null,null,null,null,{"$f":"ListAVS!B350&\" = \"&ListAVS!B352","v":"předmont. eurošrouby = zdvihače s předmotovanými šrouby (nutné předvrtání)"}]
[null,null,null,{"$f":"ListAVS!$B$83&\" [kg] \"","v":"Hmotnost úchytky [kg] "},null,null,null,null,{"$f":"IF(H17=0, \" \", IF(AND(H12=0, R14=1, H14=0), \" ● \"&ListAVS!$B$129,\" \"))","v":" "},null,null,null,null,null,null,null,null,1,{"$f":"IF($H$10>1360,2, IF($H$10<610,0.5,1))","v":0.5},{"$f":"H16","v":0},null,null,null,null,{"$f":"CenAVS!A40","v":"Sada ramen HL top (300–339 mm)"},{"$f":"CenAVS!B40","v":"22L3200"},{"$f":"CenAVS!C40","v":"NI"},0,{"$f":"CenAVS!F40","v":1233.67},0,{"$f":"$Q10*$M$15","v":0},{"$f":"$AC14*AE14","v":0},{"$f":"$Q21*$M$26","v":0},{"$f":"$AC14*AG14","v":0}]
[null,null,null,{"$f":"ListAVS!$B$79&\" [kg] \"","v":"Vypočtená hmotnost čela [kg] "},null,null,null,0,{"$f":"IF(AND($H17>0,$H15>0,$H12=0,$M15>0), $N$38,\" \")&IF(AND(H17>0, H12=0, Z77=3, $J$4=0), $N$36, \" \")","v":"  "},null,null,null,{"$f":"IF($H10*$H11*$Q15=0, 0, IF(SUM(O10:O12)=0, 0, IF(SUM(Q10:Q13)=0, 0, IF($H10>1800, 0, IF($H10<220, 0, $H17)))))","v":0},null,null,"hmot =",{"$f":"IF(H12>0,H12,H15)","v":0},{"$f":"IF(SUM(H12,H15)=0,0,IF(H12>0,1,2))","v":0},"zadaná / vypočtená",null,"limit v/š",{"$f":"IF(AND(219<H10,H10<1801,299<H11,H11<581),\"ano\",\"ne\")","v":"ne"},null,null,{"$f":"CenAVS!A41","v":"Sada ramen HL top (340–389 mm)"},{"$f":"CenAVS!B41","v":"22L3500"},{"$f":"CenAVS!C41","v":"NI"},0,{"$f":"CenAVS!F41","v":1259.26},0,{"$f":"$Q11*$M$15","v":0},{"$f":"$AC15*AE15","v":0},{"$f":"$Q22*$M$26","v":0},{"$f":"$AC15*AG15","v":0}]
[null,{"$f":"ListAVS!$B$29&\" * \"","v":"Počet mezistěn * "},null,null,null,null,null,null,null,null,null,null,null,null,null,null,null,null,null,null,"limit hmot",{"$f":"IF(AND($H$11>=$Z$44, $H$11<=$AA$44, $Q$15>=$AB$44, $Q$15<=$AC$44), \"ano\", IF(AND($H$11>=$Z$45, $H$11<=$AA$45, $Q$15>=$AB$45, $Q$15<=$AC$45), \"ano\", IF(AND($H$11>=$Z$49, $H$11<=$AA$49, $Q$15>=$AB$49, $Q$15<=$AC$49), \"ano\", IF(AND($H$11>=$Z$50, $H$11<=$AA$50, $Q$15>=$AB$50, $Q$15<=$AC$50), \"ano\", \"ne\"))))","v":"ne"},null,null,{"$f":"CenAVS!A42","v":"Sada ramen HL top (390–540 mm)"},{"$f":"CenAVS!B42","v":"22L3800"},{"$f":"CenAVS!C42","v":"NI"},0,{"$f":"CenAVS!F42","v":1297.67},0,{"$f":"$R12*$M$15","v":0},{"$f":"$AC16*AE16","v":0},{"$f":"$R23*$M$26","v":0},{"$f":"$AC16*AG16","v":0}]
[null,{"$f":"ListAVS!$B$71","v":"Počet skříněk"},null,null,null,null,null,null,null,null,null,null,null,null,null,null,null,null,null,null,null,null,null,null,{"$f":"CenAVS!A43","v":"Sada ramen HL top (480–580 mm)"},{"$f":"CenAVS!B43","v":"22L3900"},{"$f":"CenAVS!C43","v":"NI"},0,{"$f":"CenAVS!F43","v":1438.5},0,{"$f":"$R13*$M$15","v":0},{"$f":"$AC17*AE17","v":0},{"$f":"$R24*$M$26","v":0},{"$f":"$AC17*AG17","v":0}]
[null,{"$f":"IF(H17>0,IF(OR(R15=0,M15=0), \" \",IF(R15=1,$N$50,$N$51)),\" \")&IF(H17>0,IF(OR(R15=0, M15=0), \" \",IF(R15=1,$N$52,$N$53)),\" \")","v":"  "},null,null,null,null,null,null,null,null,null,null,null,null,null,null,null,null,null,null,null,null,null,null,null,null,null,null,null,null,null,null,null,null,null,null,null,null,null,null,null,null,{"$f":"ListAVS!B386&\":\"","v":"Sada ramen:"}]
[null,{"$f":"IF(AND($Q$12=1, $Q$13=1, $R$12=1), ListAVS!$B$337&$Y$50&\". \"&ListAVS!$B$338, IF(AND($Q$12=1, $Q$13=1, $R$13=1), ListAVS!$B$337&$Y$49&\". \"&ListAVS!$B$338, \" \"))","v":" "},null,null,null,null,null,null,null,null,null,null,null,null,null,null,null,null,null,null,null,null,null,null,{"$f":"CenAVS!A44","v":"Tyč příčné stabizace HL top"},{"$f":"CenAVS!B44","v":"22Q1076U"},{"$f":"CenAVS!C44","v":"EV"},{"$f":"SUM(AE19,AG19)","v":0},{"$f":"CenAVS!F44","v":337.98},{"$f":"AB19*AC19","v":0},{"$f":"ROUNDUP($S$14*$M$15, 0)","v":0},{"$f":"$AC19*AE19","v":0},{"$f":"ROUNDUP($S$25*$M$26, 0)","v":0},{"$f":"$AC19*AG19","v":0},null,null,null,null,null,null,null,null,{"$f":"ListAVS!B75&\" KH (mm)\"","v":"Výška korpusu KH (mm)"},{"$f":"ListAVS!B76&\" FG (kg)\"","v":"Hmotnost čela FG (kg)"},{"$f":"ListAVS!$B$386","v":"Sada ramen"}]
[null,{"$f":"\"▼ \"&ListAVS!$B$317","v":"▼ Způsob otvírání"},null,{"$f":"IF($M$25>0, ListAVS!$B$37&\": \", \" \")","v":" "},{"$f":"IF(SUM($AG$9:$AG$10)>0, \"22\", IF(SUM($AG$11:$AG$12)>0,\"25\", \" \"))","v":" "},{"$f":"ListAVS!$B$64&\" B\"","v":"Korpus B"},null,null,null,null,null,null,null,null,null,null,null,"↓rozhodnutí",null,null,null,null,null,null,{"$f":"CenAVS!A45","v":"Sada spojovacích dílů příčné stabilizace HL top"},{"$f":"CenAVS!B45","v":"22Q080Z"},{"$f":"CenAVS!C45","v":"EV"},0,{"$f":"CenAVS!F45","v":307.76},0,{"$f":"IF($H$10>=1228, $M$15, IF($T$14>0, $T$14*$M$15, 0))","v":0},0,{"$f":"IF($H$21>=1228, $M$26, IF($T$25>0, $T$14*$M$26, 0))","v":0},0,null,null,null,null,null,null,null,null,"300 - 339","1.5 - 9.00","22L3200"]
[null,{"$f":"ListAVS!$B$74&\" KB [mm] \"","v":"Šířka korpusu KB [mm] "},null,null,null,null,null,null,{"$f":"IF($H21=0,\" \",IF($H21<220,\" min. 220mm\",IF($H21>1800,\" max. 1 800mm\",\" \")))&IF(AND(H28>0,H21=0),\"● \"&ListAVS!$B$128,\" \")","v":"  "},null,null,null,null,"L22",{"$f":"IF(AND($H$22>=$Z$44, $H$22<=$AA$45), 1, 0)","v":0},"F32",{"$f":"IF(AND($H$22>=$Z$44, $H$22<=$AA$44, Q$26>=$AB$44, $Q$26<=$AC$44), 1, 0)","v":0},null,null,null,null,null,null,null,null,null,null,null,null,null,null,0,null,0,null,null,null,null,null,null,null,null,"340 - 389","1.75 - 10.00","22L3500"]
[null,{"$f":"ListAVS!$B$75&\" KH [mm] \"","v":"Výška korpusu KH [mm] "},null,null,null,null,null,null,{"$f":"IF($H22=0,\" \",IF($H22<300,\" min. 300mm\",IF($H22>580,\" max. 580 mm\",\" \")))&IF(H28>0,IF(H22=0,\"● \"&ListAVS!$B$128,\" \"),\" \")","v":"  "},null,null,null,null,null,null,"F35",{"$f":"IF(AND($H$22>=$Z$45, $H$22<=$AA$45, Q$26>=$AB$45, $Q$26<=$AC$45), 1, 0)","v":0},null,null,null,null,null,null,null,{"$f":"CenAVS!A47","v":"Sada krytek HF, HS, HL top, světle šedá"},{"$f":"CenAVS!B47","v":"22.8000"},{"$f":"CenAVS!C47","v":"HGR"},0,{"$f":"CenAVS!F47","v":252.85},0,{"$f":"IF(AND($T$45=1, $R$14=1), SUM($AE$9:$AE$12), 0)","v":0},0,{"$f":"IF(AND($T$45=1, $R$25=1), SUM($AG$9:$AG$12), 0)","v":0},0,null,null,null,null,null,null,null,null,"390 - 540","2.00 - 12.25","22L3800"]
[null,{"$f":"ListAVS!$B$77&\" [kg] ** \"","v":"Hmotnost čela včetně úchytky [kg] ** "},null,null,null,null,null,null,{"$f":"IF($H28=0,\" \",IF(SUM($H23,$H26)=0,$N$37,\" \"))&IF(AND(SUM($O$21:$O$25)=1,$V27=\"ne\",H23>0),$N$41,IF(AND($H28>0,$H23>0,V$27=\"ano\"),$N$38,\" \"))","v":"  "},null,null,null,null,"L25",{"$f":"IF(AND($H$22>=$Z$49, $H$22<=$AA$50), 1, 0)","v":0},"F38",{"$f":"IF(AND($H$22>=$Z$49, $H$22<=$AA$49, Q$26>=$AB$49, $Q$26<=$AC$49), 1, 0)","v":0},{"$f":"IF(AND($Q$23=1, $Q$24=1, $H$11<=$AD$49), 1, IF(AND($Q23=1, $Q24=0), $Q23, 0))","v":0},null,null,null,null,null,null,{"$f":"CenAVS!A48","v":"Sada krytek HF, HS, HL top, tmavě šedá"},{"$f":"CenAVS!B48","v":"22.8000"},{"$f":"CenAVS!C48","v":"TGR"},0,{"$f":"CenAVS!F48","v":275.94},0,{"$f":"IF(AND($T$45=2, $R$14=1), SUM($AE$9:$AE$12), 0)","v":0},0,{"$f":"IF(AND($T$45=2, $R$25=1), SUM($AG$9:$AG$12), 0)","v":0},0,null,null,null,null,null,null,null,null,"480 - 580","2.5 - 14.00","22L3900"]
[null,{"$f":"ListAVS!$B$292","v":"Výpočet hmotnosti"},null,{"$f":"ListAVS!$B$80&\" TS [mm] \"","v":"Síla čela TS [mm] "},null,null,null,null,null,null,null,null,null,null,null,"F39",{"$f":"IF(AND($H$22>=$Z$50, $H$22<=$AA$50, Q$26>=$AB$50, $Q$26<=$AC$50), 1, 0)","v":0},{"$f":"IF(AND($Q23=1,$Q24=1,$H22>$AD$49),1, IF(AND($Q23=0,$Q24=1),$Q24,0))","v":0},"tyč","mezistěny",null,null,null,null,{"$f":"CenAVS!A49","v":"Sada krytek HF, HS, HL top, hedvábně bílá"},{"$f":"CenAVS!B49","v":"22.8000"},{"$f":"CenAVS!C49","v":"SW"},0,{"$f":"CenAVS!F49","v":275.94},0,{"$f":"IF(AND($T$45=3, $R$14=1), SUM($AE$9:$AE$12), 0)","v":0},0,{"$f":"IF(AND($T$45=3, $R$25=1), SUM($AG$9:$AG$12), 0)","v":0},0]
[null,null,null,{"$f":"ListAVS!$B$83&\" [kg] \"","v":"Hmotnost úchytky [kg] "},null,null,null,null,{"$f":"IF(H28=0, \" \", IF(AND(H23=0, R25=1, H25=0), \" ● \"&ListAVS!$B$129,\" \"))","v":" "},null,null,null,null,null,null,null,null,1,{"$f":"IF($H$21>1360,2, IF($H$10<610,0.5,1))","v":0.5},{"$f":"H27","v":0},null,null,null,null,{"$f":"CenAVS!A50","v":"Sada krytek pro SERVO-DRIVE, světle šedá"},{"$f":"CenAVS!B50","v":"23.8000"},{"$f":"CenAVS!C50","v":"HGR"},0,{"$f":"CenAVS!F50","v":2606.7600000000002},0,{"$f":"IF(AND($T$45=1, $R$14=2), SUM($AE$9:$AE$12), 0)","v":0},0,{"$f":"IF(AND($T$45=1, $R$25=2), SUM($AG$9:$AG$12), 0)","v":0},0]
[null,null,null,{"$f":"ListAVS!$B$79&\" [kg] \"","v":"Vypočtená hmotnost čela [kg] "},null,null,null,{"$f":"$T$91","v":0},{"$f":"IF(AND($H28>0,$H26>0,$H23=0,$M26>0), $N$38,\" \")&IF(AND(H28>0, H23=0, Z88=3, $J$4=0), $N$36, \" \")","v":"  "},null,null,null,{"$f":"IF($H21*$H22*$Q26=0,0,IF(SUM(O21:O23)=0,0,IF(SUM(Q21:Q24)=0,0,IF($H21>1800,0,IF($H21<220,0,$H28)))))","v":0},null,null,"hmot =",{"$f":"IF(H23>0,H23,H26)","v":0},{"$f":"IF(SUM(H23,H26)=0,0,IF(H23>0,1,2))","v":0},"zadaná / vypočtená",null,"limit v/š",{"$f":"IF(AND(219<H21,H21<1801,299<H22,H22<581),\"ano\",\"ne\")","v":"ne"},null,null,{"$f":"CenAVS!A51","v":"Sada krytek pro SERVO-DRIVE, tmavě šedá"},{"$f":"CenAVS!B51","v":"23.8000"},{"$f":"CenAVS!C51","v":"TGR"},0,{"$f":"CenAVS!F51","v":2709.29},0,{"$f":"IF(AND($T$45=2, $R$14=2), SUM($AE$9:$AE$12), 0)","v":0},0,{"$f":"IF(AND($T$45=2, $R$25=2), SUM($AG$9:$AG$12), 0)","v":0},0]
[null,{"$f":"ListAVS!$B$29&\" * \"","v":"Počet mezistěn * "},null,null,null,null,null,null,null,null,null,null,null,null,null,null,null,null,null,null,"limit hmot",{"$f":"IF(AND($H$22>=$Z$44, $H$22<=$AA$44, $Q$26>=$AB$44, $Q$26<=$AC$44), \"ano\", IF(AND($H$22>=$Z$45, $H$22<=$AA$45, $Q$26>=$AB$45, $Q$26<=$AC$45), \"ano\", IF(AND($H$22>=$Z$49, $H$22<=$AA$49, $Q$26>=$AB$49, $Q$26<=$AC$49), \"ano\", IF(AND($H$22>=$Z$50, $H$22<=$AA$50, $Q$26>=$AB$50, $Q$26<=$AC$50), \"ano\", \"ne\"))))","v":"ne"},null,null,{"$f":"CenAVS!A52","v":"Sada krytek pro SERVO-DRIVE,hedvábně bílá"},{"$f":"CenAVS!B52","v":"23.8000"},{"$f":"CenAVS!C52","v":"SW"},0,{"$f":"CenAVS!F52","v":2709.29},0,{"$f":"IF(AND($T$45=3, $R$14=2), SUM($AE$9:$AE$12), 0)","v":0},0,{"$f":"IF(AND($T$45=3, $R$25=2), SUM($AG$9:$AG$12), 0)","v":0},0]
[null,{"$f":"ListAVS!$B$71","v":"Počet skříněk"},null,null,null,null,null,null,null,null,null,null,null,null,{"$f":"IF($P$28=FALSE,2,1)","v":2},false,null," - Zdroj"]
[null,{"$f":"IF(H28>0,IF(OR(R26=0,M26=0), \" \",IF(R26=1,$N$50,$N$51)),\" \")&IF(H28>0,IF(OR(R26=0, M26=0), \" \",IF(R26=1,$N$52,$N$53)),\" \")","v":"  "}]
[null,{"$f":"IF(AND($Q$23=1, $Q$24=1, $R$23=1), ListAVS!$B$337&$Y$50&\". \"&ListAVS!$B$338, IF(AND($Q$23=1, $Q$24=1, $R$24=1), ListAVS!$B$337&$Y$49&\". \"&ListAVS!$B$338, \" \"))","v":" "}]
[null,{"$f":"IF(OR(AND($R$14=2, $M$15>0), AND($R$24=2, $M$25>0)), ListAVS!$B$175, \" \")","v":" "}]
[null,null,null,null,null,null,null,null,null,null,null,null,null,null,null,null,null,null,null,null,null,null,null,null,{"$f":"CenAVS!A78","v":"Sada čel.kování pro dřev. čela"},{"$f":"CenAVS!B78","v":"20S4200"},{"$f":"CenAVS!C78","v":"NI"},{"$f":"SUM(AE32,AG32)","v":0},{"$f":"CenAVS!F78","v":90.38},{"$f":"AB32*AC32","v":0},{"$f":"SUM(AE$9:AE$12)","v":0},{"$f":"$AC32*AE32","v":0},{"$f":"SUM(AG$9:AG$12)","v":0},{"$f":"$AC32*AG32","v":0}]
[null,null,null,null,null,null,null,null,null,null,null,null,null,null,null,null,null,null,null,null,null,null,null,null,{"$f":"CenAVS!A79","v":"Čelní.kování pro dřev. čela EXPANDO"},{"$f":"CenAVS!B79","v":"20S42E1"},{"$f":"CenAVS!C79","v":"NI"},{"$f":"SUM(AE33,AG33)","v":0},{"$f":"CenAVS!F79","v":51.36},{"$f":"AB33*AC33","v":0},null,{"$f":"$AC33*AE33","v":0},null,{"$f":"$AC33*AG33","v":0}]
[null,null,null,null,null,null,null,null,null,null,null,null,null,null,null,null,null,null,null,null,null,null,null,null,{"$f":"CenAVS!A80","v":"Sada čel.kování pro tenké materiály"},{"$f":"CenAVS!B80","v":"20S42T1"},{"$f":"CenAVS!C80","v":"NI"},{"$f":"SUM(AE34,AG34)","v":0},{"$f":"CenAVS!F80","v":291.60000000000002},{"$f":"AB34*AC34","v":0},null,{"$f":"$AC34*AE34","v":0},null,{"$f":"$AC34*AG34","v":0}]
[null,null,null,null,null,null,null,null,null,null,null,null,null,{"$f":"ListAVS!B176","v":"Cena bez napájecího zdroje!"},null,null,null,null,null,null,null,null,null,null,{"$f":"CenAVS!A81","v":"Sada čel.kování pro úzké alurámečky"},{"$f":"CenAVS!B81","v":"20S4200A"},{"$f":"CenAVS!C81","v":"NI"},{"$f":"SUM(AE35,AG35)","v":0},{"$f":"CenAVS!F81","v":395.5},{"$f":"AB35*AC35","v":0},null,{"$f":"$AC35*AE35","v":0},null,{"$f":"$AC35*AG35","v":0}]
[null,null,null,null,null,null,null,null,null,null,null,null,null,{"$f":"\" \"&ListAVS!$B$117","v":" Vyplňte nahoře objemovou hmotnost "}]
[null,null,{"$f":"\"* \"&ListAVS!$B$233","v":"* Zadejte počet mezistěn v korpusu "},null,null,null,null,null,null,null,null,null,null,{"$f":"\" \"&ListAVS!$B$115","v":" Zadejte hmotnost nebo vyplňte všechny buňky"},null,null,null,null,null,null,null,null,null,null,{"$f":"CenAVS!A171","v":"SERVO-DRIVE jednotka (sada)"},{"$f":"CenAVS!B171","v":"23.A000"},{"$f":"CenAVS!C171","v":"R7037"},{"$f":"SUM(AE37,AG37)","v":0},{"$f":"CenAVS!F171","v":8297.32},{"$f":"AB37*AC37","v":0},{"$f":"IF($R$14=2, $M$15, 0)","v":0},{"$f":"$AC37*AE37","v":0},{"$f":"IF($R$25=2, $M$26, 0)","v":0},{"$f":"$AC37*AG37","v":0}]
[null,null,{"$f":"\"** \"&ListAVS!$B$186","v":"** Pokud znáte hmotnost a nechcete využít výpočtu hmotnosti"},null,null,null,null,null,null,null,null,null,null,{"$f":"\"◄ \"&ListAVS!$B$112","v":"◄ hodnota bude použita pro výběr zdvihače"},null,null,null,null,null,null,null,null,null,null,null,null,null,null,null,null,null,{"$f":"$AC38*AE38","v":0},null,{"$f":"$AC38*AG38","v":0}]
[null,null,{"$f":"\"*** \"&ListAVS!$B$403","v":"*** Vyberte typ alurámečku!"},null,null,null,null,null,null,null,null,null,null,{"$f":"\" * \"&ListAVS!$B$127","v":" * Doplňte hodnoty"}]
[null,null,{"$f":"\"      \"&ListAVS!$B$404","v":"      Více informací k výběru alurámečků v Nápovědě"},null,null,null,null,null,null,null,null,null,null,null,null,null,null,null,null,null,null,null,null,null,null,null,null,null,{"$f":"ListAVS!$B$61&\" \"","v":"Cena celkem bez DPH "},{"$f":"SUM(AD9:AD38)","v":0},null,{"$f":"SUM(AF9:AF38)","v":0},null,{"$f":"SUM(AH9:AH38)","v":0}]
[null,null,null,null,null,null,null,null,null,null,null,null,null,{"$f":"\" \"&ListAVS!$B$124&\"!\"","v":" Hmotnost mimo povolený rozsah!"},null,null,null,null,null,null,null,null,null,null,{"$f":"Param!M30","v":"Parametry HL"}]
[null,null,null,null,null,null,null,null,null,null,null,null,null,{"$f":"\" max. 9 000! \"&ListAVS!$B$121","v":" max. 9 000! Upravte hmotnost nebo výšku"},null,null,null,null,null,null,null,null,null,null,null,null,{"$f":"Param!O31","v":"22L2200"}]
[null,null,null,null,null,null,null,null,null,null,null,null,null,{"$f":"\" \"&ListAVS!$B$234","v":" Nutná mezistěna"},null,null,null,null,null,null,null,null,null,null,null,{"$f":"Param!N32","v":"min KH"},{"$f":"Param!O32","v":"max KH"},{"$f":"Param!P32","v":"min FG"},{"$f":"Param!Q32","v":"max FG"}]
[null,null,null,null,null,null,null,null,null,null,null,null,null,null,null,null,null,null,null,null,null,null,null,null,{"$f":"Param!M33","v":"22L3200"},{"$f":"Param!N33","v":300},{"$f":"Param!O33","v":339},{"$f":"Param!P33","v":1.5},{"$f":"Param!Q33","v":9}]
[null,null,null,null,null,null,null,null,null,null,null,null,null,null,{"$f":"HL!$N$26","v":2},null,null,null,null,{"$f":"MenuAVS!$P$28","v":1},null,null,{"$f":"HL!P26","v":1},null,{"$f":"Param!M34","v":"22L3500"},{"$f":"Param!N34","v":340},{"$f":"Param!O34","v":389},{"$f":"Param!P34","v":1.75},{"$f":"Param!Q34","v":10}]
[null,null,null,null,null,null,null,null,null,null,null,null,null,null,"čelní kov.",null,"Provedení:",null,null,"kryt.",null,null,{"$f":"HL!P27","v":"mont."}]
[null,null,null,null,null,null,null,null,null,null,null,null,null,null,{"$f":"ListAVS!$B$142","v":"Expando"},null,"Standard",null,null,{"$f":"ListAVS!$B$145","v":"Světle šedá (HGR)"},null,null,{"$f":"HL!P28","v":"vruty"},null,null,null,{"$f":"Param!O36","v":"22L2500"}]
[null,null,null,null,null,null,null,null,null,null,null,null,null,null,{"$f":"ListAVS!$B$143","v":"na vruty"},null,"SERVO-DRIVE",null,null,{"$f":"ListAVS!$B$146","v":"Tmavě šedá (TGR)"},null,null,{"$f":"HL!P29","v":"předmont. eurošrouby"},null,{"$f":"Param!M37","v":0},{"$f":"Param!N37","v":"min KH"},{"$f":"Param!O37","v":"max KH"},{"$f":"Param!P37","v":"min FG"},{"$f":"Param!Q37","v":"max FG"},{"$f":"Param!R37","v":"hranice"}]
[null,null,null,null,null,null,null,null,null,null,null,null,null,null,null,null,null,null,null,{"$f":"ListAVS!$B$147","v":"Hedvábně bílá (SW)"},null,null,null,null,{"$f":"Param!M38","v":"22L3800"},{"$f":"Param!N38","v":390},{"$f":"Param!O38","v":540},{"$f":"Param!P38","v":2},{"$f":"Param!Q38","v":12.25},{"$f":"Param!R38","v":500}]
[null,null,null,null,null,null,null,null,null,null,null,null,null,{"$f":"ListAVS!B187&\". \"","v":"Pro určení typu zdvihače bude použita zadaná hmotnost. "},null,null,null,null,null,null,null,null,null,null,{"$f":"Param!M39","v":"22L3900"},{"$f":"Param!N39","v":480},{"$f":"Param!O39","v":580},{"$f":"Param!P39","v":1.5},{"$f":"Param!Q39","v":14}]
[null,{"$f":"\" \"&ListAVS!$B$394","v":" Odstup čela od korpusu"},null,null,null,null,null,null,null,null,null,null,null,{"$f":"ListAVS!B188&\". \"","v":"Pro určení typu zdvihače bude použita vypočtená hmotnost. "}]
[null,"KH [mm]",null,{"$f":"ListAVS!$B$386","v":"Sada ramen"},null,"a [mm]","b [mm]","c [mm]","y [mm]",null,null,null,null,{"$f":"ListAVS!B189","v":"Chcete-li použít vypočtenou hmotnost, smažte zadanou hodnotu"}]
[null,"300 - 339",null,"22L3200",null,112,272.5,155.5,272.5,null,null,null,null,{"$f":"ListAVS!B190","v":"Chcete-li použít zadanou hmotnost, zadejte ji do políčka"}]
[null,"340 - 389",null,"22L3500",null,140.5,340,195,340]
[null,"390 - 540",null,"22L3800",null,176,425,245,425,null,null,null,null,{"$f":"\" \"&ListAVS!$B$108","v":" v kombinaci se SERVO-DRIVE"}]
[null,"480 - 580",null,"22L3900",null,214.5,517,297.5,517,null,null,null,null,{"$f":"\" \"&ListAVS!$B$109","v":" nelze v kombinaci se SERVO-DRIVE"}]
[]
[]
[]
[]
[]
[]
[]
[]
[]
[]
[]
[]
[null,null,null,null,null,null,null,null,null,null,null,null,null,{"$f":"ListAVS!$B$73","v":"Výpočet hmotnosti čel"}]
[null,null,null,null,null,null,null,null,null,null,null,null,null,null,null,{"$f":"ListAVS!$B$179&\"  \"","v":"Provedení čel  "},null,null,null,{"$f":"J4","v":0},{"$f":"IF(AF76=3,IF(T70=0,Y72,\" \"),IF(T70>0,Y73,\" \"))","v":" "},null,null,null,{"$f":"IF($AF$76=1,$AF$95,IF($AF$76=2,$AF$96,#REF!&\" - \"&$Y$80&\"mm\"))","v":"Alurámečky s 4mm sklem"},null,null,null,null,{"$f":"MenuAVS!$Q$81","v":2500}]
[null,null,null,null,null,null,null,null,null,null,null,null,null,null,null,null,null,null,null,null,null,null,null,null,{"$f":"\" \"&ListAVS!$B$410","v":" Změnit hodnoty můžete v Úvodu plánování"}]
[null,null,null,null,null,null,null,null,null,null,null,null,null,null,null,null,null,null,null,null,null,null,null,null,{"$f":"\" \"&ListAVS!$B$245&\" [mm]\"","v":" Zadejte sílu skla [mm]"}]
[null,null,null,null,null,null,null,null,null,null,null,null,null,null,null,null,null,null,null,null,null,null,null,null,{"$f":"\" \"&ListAVS!$B$240&\" '\"&ListAVS!$B$95&\"'\"","v":" Hodnota platí jen pro volbu 'Alurámečky s jiným sklem'"}]
[]
[null,null,null,null,null,null,null,null,null,null,null,null,null,null,null,null,null,{"$f":"D9","v":" "},null,null,null,null,null,null,null,null,null,null,null,null,"váha spoj.","tl. skla","typ alu"]
[null,null,null,null,null,null,null,null,null,null,null,null,null,{"$f":"ListAVS!$B$74&\" KB [mm]       \"","v":"Šířka korpusu KB [mm]       "},null,null,null,null,null,{"$f":"H10","v":0},null,null,null,null,{"$f":"T76*T77*T78","v":0},null,null,null,null,{"$f":"IF($AG$76=1,$X$95,$X$96)","v":0.62},{"$f":"$X$97","v":0.61},1,{"$f":"$O$4","v":1}]
[null,null,null,null,null,null,null,null,null,null,null,null,null,{"$f":"ListAVS!$B$75&\" KH [mm]       \"","v":"Výška korpusu KH [mm]       "},null,null,null,null,null,{"$f":"H11","v":0},null,null,null,null,{"$f":"Y76/1000000000","v":0},2,null,null,null,"váha alu",{"$f":"SUM(T76*2,(T77-90)*2)*AD76/1000","v":-0.11159999999999999},"A plocha B"]
[null,null,null,null,null,null,null,null,null,null,null,null,null,{"$f":"ListAVS!$B$80&\" TS [mm] \"","v":"Síla čela TS [mm] "},null,null,null,null,null,null,null,null,null,null,{"$f":"MenuAVS!$C$31","v":760},{"$f":"ListAVS!$B$90&\" (\"&Y78&\" kg/m3)\"","v":"MDF (760 kg/m3)"},null,null,null,{"$f":"$AD$70*4/1000","v":10},{"$f":"IF($AG$76=1,AF78*AD78,AG78*AD78)","v":6.4000000000000001E-2},{"$f":"SUM(($T$76-80)*($T$77-80)/1000000)","v":6.4000000000000003E-3},{"$f":"SUM(($T$76-6)*($T$77-6)/1000000)","v":3.6000000000000001E-5},"4mm"]
[null,null,null,null,null,null,null,null,null,null,null,null,null,{"$f":"ListAVS!$B$83&\" [kg] \"","v":"Hmotnost úchytky [kg] "},null,null,null,null,null,{"$f":"H14","v":0},{"$f":"IF(SUM(T76,T77)=0,\" \",IF(T79=0,\" ● \"&ListAVS!$B$129,\" \"))","v":" "},null,null,null,{"$f":"MenuAVS!$C$32","v":680},{"$f":"ListAVS!$B$91&\" (\"&Y79&\" kg/m3)\"","v":"Dřevotříska (680 kg/m3)"},null,null,null,{"$f":"$AD$70*5/1000","v":12.5},{"$f":"IF($AG$76=1,AF79*AD79,AG79*AD79)","v":0.08},{"$f":"SUM(($T$76-80)*($T$77-80)/1000000)","v":6.4000000000000003E-3},{"$f":"SUM(($T$76-6)*($T$77-6)/1000000)","v":3.6000000000000001E-5},"5mm"]
[null,null,null,null,null,null,null,null,null,null,null,null,null,{"$f":"ListAVS!$B$79&\" [kg] \"","v":"Vypočtená hmotnost čela [kg] "},null,null,null,null,null,{"$f":"IF(AD81=0,0,AD81+T79)","v":0},null,null,null,{"$f":"IF(T76*T77*T78=0,0,IF(Z77=1,Y77*Y78,IF(Z77=2,Y77*Y79,Y77*Y80)))","v":0},{"$f":"$T$70","v":0},{"$f":"ListAVS!$B$92","v":"Jiné - volitelná hustota"},null,null,null,{"$f":"$AD$70*$T$70/1000","v":0},{"$f":"IF($AG$76=1,AF80*AD80,AG80*AD80)","v":0},{"$f":"SUM(($T$76-80)*($T$77-80)/1000000)","v":6.4000000000000003E-3},{"$f":"SUM(($T$76-6)*($T$77-6)/1000000)","v":3.6000000000000001E-5},"jiné"]
[null,null,null,null,null,null,null,null,null,null,null,null,null,null,null,null,null,null,null,null,null,null,null,null,null,null,null,null,null,{"$f":"IF(OR(AND(AF76=3, $T$70=0), T76*T77=0), 0, SUM(IF(AF76=1,AE78,IF(AF76=2,AE79,AE80)),AE77,AE76))","v":0}]
[]
[null,null,null,null,null,null,null,null,null,null,null,null,null,null,{"$f":"IF(T80>0,IF(T79=0,$Z$95,\" \"),\" \")","v":" "}]
[]
[]
[null,null,null,null,null,null,null,null,null,null,null,null,null,null,null,null,null,{"$f":"D20","v":" "},null,null,null,null,null,null,null,null,null,null,null,null,"váha spoj.","tl. skla","typ alu"]
[null,null,null,null,null,null,null,null,null,null,null,null,null,{"$f":"ListAVS!$B$74&\" KB [mm]       \"","v":"Šířka korpusu KB [mm]       "},null,null,null,null,null,{"$f":"H21","v":0},null,null,null,null,{"$f":"T87*T88*T89","v":0},null,null,null,null,{"$f":"IF($AG$76=1,$X$95,$X$96)","v":0.62},{"$f":"$X$97","v":0.61},{"$f":"$AF$76","v":1},{"$f":"$AG$76","v":1}]
[null,null,null,null,null,null,null,null,null,null,null,null,null,{"$f":"ListAVS!$B$75&\" KH [mm]       \"","v":"Výška korpusu KH [mm]       "},null,null,null,null,null,{"$f":"H22","v":0},null,null,null,null,{"$f":"Y87/1000000000","v":0},{"$f":"Z77","v":2},null,null,null,"váha alu",{"$f":"SUM(T87*2,(T88-90)*2)*AD87/1000","v":-0.11159999999999999},"A plocha B"]
[null,null,null,null,null,null,null,null,null,null,null,null,null,{"$f":"ListAVS!$B$80&\" TS [mm] \"","v":"Síla čela TS [mm] "},null,null,null,null,null,null,null,null,null,null,{"$f":"$Y$78","v":760},{"$f":"$Z$78","v":"MDF (760 kg/m3)"},null,null,null,{"$f":"AD78","v":10},{"$f":"IF($AG$76=1,AF89*AD89,AG89*AD89)","v":6.4000000000000001E-2},{"$f":"SUM(($T$87-80)*($T$88-80)/1000000)","v":6.4000000000000003E-3},{"$f":"SUM(($T$87-6)*($T$88-6)/1000000)","v":3.6000000000000001E-5},"4mm"]
[null,null,null,null,null,null,null,null,null,null,null,null,null,{"$f":"ListAVS!$B$83&\" [kg] \"","v":"Hmotnost úchytky [kg] "},null,null,null,null,null,{"$f":"H25","v":0},{"$f":"IF(SUM(T87,T88)=0,\" \",IF(T90=0,\" ● \"&ListAVS!$B$129,\" \"))","v":" "},null,null,null,{"$f":"$Y$79","v":680},{"$f":"$Z$79","v":"Dřevotříska (680 kg/m3)"},null,null,null,{"$f":"AD79","v":12.5},{"$f":"IF($AG$76=1,AF90*AD90,AG90*AD90)","v":0.08},{"$f":"SUM(($T$87-80)*($T$88-80)/1000000)","v":6.4000000000000003E-3},{"$f":"SUM(($T$87-6)*($T$88-6)/1000000)","v":3.6000000000000001E-5},"5mm"]
[null,null,null,null,null,null,null,null,null,null,null,null,null,{"$f":"ListAVS!$B$79&\" [kg] \"","v":"Vypočtená hmotnost čela [kg] "},null,null,null,null,null,{"$f":"IF(AD92=0,0,AD92+T90)","v":0},null,null,null,{"$f":"IF(T87*T88*T89=0,0,IF(Z88=1,Y88*Y89,IF(Z88=2,Y88*Y90,Y88*Y91)))","v":0},{"$f":"$Y$80","v":0},{"$f":"$Z$80","v":"Jiné - volitelná hustota"},null,null,null,{"$f":"AD80","v":0},{"$f":"IF($AG$76=1,AF91*AD91,AG91*AD91)","v":0},{"$f":"SUM(($T$87-80)*($T$88-80)/1000000)","v":6.4000000000000003E-3},{"$f":"SUM(($T$87-6)*($T$88-6)/1000000)","v":3.6000000000000001E-5},"jiné"]
[null,null,null,null,null,null,null,null,null,null,null,null,null,null,{"$f":"IF(T91>0,IF(T90=0,$Z$95,\" \"),\" \")","v":" "},null,null,null,null,null,null,null,null,null,null,null,null,null,null,{"$f":"IF(OR(AND(AF87=3, $T$70=0), T87*T88=0), 0, SUM(IF(AF87=1,AE89,IF(AF87=2,AE90,AE91)),AE88,AE87))","v":0}]
[]
[]
[null,null,null,null,null,null,null,null,null,null,null,null,null,null,null,null,null,null,null,null,null,null,{"$f":"ListAVS!$B$422&\"  \"","v":"s vloženým sklem  "},{"$f":"MenuAVS!$I$86","v":0.62},null,{"$f":"ListAVS!$B$102&\"!\"","v":"Není započtena hmotnost úchytky!"},null,null,null,null,null,{"$f":"ListAVS!$B$93","v":"Alurámečky s 4mm sklem"}]
[null,null,null,null,null,null,null,null,null,null,null,null,null,null,null,null,null,null,null,null,null,null,{"$f":"ListAVS!$B$423&\"  \"","v":"s naloženým nebo nalepeným sklem  "},{"$f":"MenuAVS!$I$87","v":0.63},null,null,null,null,null,null,null,{"$f":"ListAVS!$B$94","v":"Alurámečky s 5mm sklem"}]
[null,null,null,null,null,null,null,null,null,null,null,null,null,null,null,null,null,null,null,null,null,null,{"$f":"ListAVS!$B$405&\" [kg/set] *  \"","v":"Hmotnost spojovacího materiálu [kg/set] *  "},{"$f":"MenuAVS!$I$88","v":0.61},null,null,null,null,null,null,null,{"$f":"ListAVS!$B$95","v":"Alurámečky s jiným sklem"}]
[]
[]
[null,"      AVENTOS HL"]
[]
[null,{"$f":"ListAVS!$B$332","v":"Pro výběr správného zdvihače potřebujete znát výšku korpusu a hmotnost čela."}]
[]
[null,{"$f":"ListAVS!$B$311","v":"Pokud znáte hmotnost čela, můžete ji zadat, jinak použijte \"Výpočet hmotnosti\"."}]
[null,{"$f":"ListAVS!$B$312","v":"V tabulce má přednost zadaná hodnota. Chcete-li použít vypočtenou hmotnost, smažte zadanou hodnotu."}]
[]
[]
[null,{"$f":"ListAVS!$B$305","v":"Chcete-li změnit barvu krytek, přejděte na \"Úvod plánování\""}]
[]
[null,{"$f":"ListAVS!$B$411","v":"Věnujte pozornost výběru alurámečků."}]
[null,{"$f":"ListAVS!$B$412","v":"Vyberte, který typ lépe odpovídá tvaru použitého alurámečku."}]
[null,{"$f":"ListAVS!$B$413","v":"Způsob osazení skla do rámečku výrazně ovlivňuje plochu skla a tím i hmotnost!"}]
[]
[null,null,{"$f":"\"  \"&ListAVS!$B$422&\"  \"","v":"  s vloženým sklem  "}]
[]
[null,null,{"$f":"\"  \"&ListAVS!$B$423&\"  \"","v":"  s naloženým nebo nalepeným sklem  "}]
[]
[null,null,null,null,null,null,null,null,null,null,null,{"$f":"ListAVS!$B$167","v":"Zpět"}]

{"sheet":"HLna","index":22,"n_rows":118,"n_cols":45,"rows_kept":118,"cut":false,"hidden":false,"merged":[[0,42,0,45],[1,1,1,2],[9,1,9,6],[11,1,11,6],[8,1,8,2],[8,5,8,7],[6,1,6,2],[6,6,6,7],[10,1,10,6],[4,5,4,9],[13,15,13,16],[20,1,20,6],[21,1,21,6],[22,1,22,6],[19,1,19,2],[19,5,19,7],[16,1,16,6],[15,1,15,6],[12,1,14,2],[12,3,12,6],[13,3,13,6],[14,3,14,6],[74,17,74,19],[75,13,75,18],[76,13,76,18],[87,13,87,18],[86,13,86,18],[77,13,77,18],[78,13,78,18],[79,13,79,18],[85,17,85,19],[24,15,24,16],[98,0,139,0],[88,13,88,18],[89,13,89,18],[90,13,90,18],[27,1,27,6],[30,1,32,9],[27,15,27,16],[56,3,56,4],[58,3,58,4],[59,3,59,4],[61,3,61,4],[62,3,62,4],[51,3,51,4],[52,3,52,4],[53,3,53,4],[55,3,55,4],[26,1,26,6],[23,1,25,2],[23,3,23,6],[24,3,24,6],[25,3,25,6],[51,1,51,2],[52,1,52,2],[53,1,53,2],[54,1,54,2],[54,3,54,4],[55,1,55,2]]}
[]
[null,"AVENTOS HL top",null,null,null,null,null,null,null,null,null,null,null,null,"rámeček",null,null,null,3,null,null,null,null,null,null,null,null,null,null,null,null,null,null,null,null,null,{"$f":"ListAVS!$B$152","v":"Jdi na"}]
[]
[null,{"$f":"ListAVS!$B$22&\" ***\"","v":"Úzký alurámeček ***"},null,null,null,{"$f":"ListAVS!$B$179&\"  \"","v":"Provedení čel  "},null,null,null,null,{"$f":"U70","v":" "},null,null,null,1,null,null,null,{"$f":"\" \"&ListAVS!$B$41&\" A \"","v":" Cena za korpus A "},null,null,null,null,null,null,null,null,null,null,null,null,null,null,null,null,null," Úvod plánování"]
[null,null,null,null,null,{"$f":"IF($AF$76<>3,$Y$71,\" \")&\"      \"","v":" Změnit hodnoty můžete v Úvodu plánování      "},null,null,null,null,null,null,null,null,"A = 1",null,null,null,{"$f":"\" \"&ListAVS!$B$41&\" B \"","v":" Cena za korpus B "},null,null,null,null,null,null,null,null,null,null,null,null,null,null,null,null,null,{"$f":"\" \"&ListAVS!$B$154","v":" Nápověda"}]
[null,null,null,null,null,null,null,null,null,null,null,null,null,null,"B = 2",null,null,null,{"$f":"\" \"&ListAVS!$B$61","v":" Cena celkem bez DPH"}]
[null,{"$f":"ListAVS!$B$51&\":   \"","v":"Cena kování:   "},null,null,null,null,{"$f":"IF(S2=1,$AF$45,IF($S$2=2,$AH$45,IF($S$2=3,$AD$45,0)))","v":0},null,null,null,null,null,null,null,null,null,null,null,null,null,null,null,null,null,{"$f":"$B$2","v":"AVENTOS HL top"},{"$f":"B5","v":0},null,null,null,null,null,null,null,null,null,null,{"$f":"\" \"&ListAVS!$B$159","v":" Doplňky"},null,null,null,null,null,{"$f":"ListAVS!B84&\":\"","v":"Zdvihací mechanizmus:"}]
[null,null,null,null,null,null,null,{"$f":"IF(AND(OR($R$14=2, $R$24=2), $AD$45>0), $N$34, \" \")","v":" "},null,null,null,null,null,null,null,null,null,null,null,null,null,null,null,null,{"$f":"ListAVS!B52","v":"Název"},{"$f":"ListAVS!$B$53","v":"Číslo artiklu"},{"$f":"ListAVS!B54","v":"Barva"},{"$f":"ListAVS!B56","v":"Ks"},{"$f":"ListAVS!B58","v":"Jednotková cena"},{"$f":"ListAVS!B59","v":"Celkem"},"A","Cena","B","Cena",null,null,null,null,null,null,null,null,{"$f":"ListAVS!$B$75&\" KH (mm)\"","v":"Výška korpusu KH (mm)"},{"$f":"ListAVS!$B$84&\" \"&ListAVS!$B$349","v":"Zdvihací mechanizmus vruty"},{"$f":"ListAVS!$B$84&\" \"&ListAVS!$B$350","v":"Zdvihací mechanizmus předmont. eurošrouby"}]
[null,{"$f":"\"▼ \"&ListAVS!$B$317","v":"▼ Způsob otvírání"},null,{"$f":"IF($M$15>0, ListAVS!$B$37&\": \", \" \")","v":" "},{"$f":"IF(SUM($AE$9:$AE$10)>0, \"22\", IF(SUM($AE$11:$AE$12)>0,\"25\", \" \"))","v":" "},{"$f":"ListAVS!$B$64&\" A\"","v":"Korpus A"},null,null,null,null,null,null,null,null,null,null,null,"↓rozhodnutí",null,null,null,null,null,null,{"$f":"CenAVS!A36","v":"Sada zdvihačů HL top, na vruty"},{"$f":"CenAVS!B36","v":"22L2200"},{"$f":"CenAVS!C36","v":"ZN"},{"$f":"SUM(AE9,AG9)","v":0},{"$f":"CenAVS!F36","v":1754.34},{"$f":"AB9*AC9","v":0},{"$f":"IF($W$45=1, $O$10*$M$15, 0)","v":0},{"$f":"$AC9*AE9","v":0},{"$f":"IF($W$45=1, $O$21*$M$26, 0)","v":0},{"$f":"$AC9*AG9","v":0},null,null,{"$f":"\" \"&ListAVS!$B$156","v":" Přehled korpusů"},null,null,null,null,null,"300 - 389","22L2200","22L2210"]
[null,{"$f":"ListAVS!$B$74&\" KB [mm] \"","v":"Šířka korpusu KB [mm] "},null,null,null,null,null,null,{"$f":"IF($H10=0,\" \",IF($H10<220,\" min. 220mm\",IF($H10>1800,\" max. 1 800mm\",\" \")))&IF(AND(H17>0,H10=0),\"● \"&ListAVS!$B$128,\" \")","v":"  "},null,null,null,null,"L22",{"$f":"IF(AND($H$11>=$Z$44, $H$11<=$AA$45), 1, 0)","v":0},"F32",{"$f":"IF(AND($H$11>=$Z$44, $H$11<=$AA$44, Q$15>=$AB$44, $Q$15<=$AC$44), 1, 0)","v":0},null,null,null,null,null,null,null,{"$f":"CenAVS!A37","v":"Sada zdvihačů HL top, předmont. eurošrouby"},{"$f":"CenAVS!B37","v":"22L2210"},{"$f":"CenAVS!C37","v":"ZN"},0,{"$f":"CenAVS!F37","v":1754.34},{"$f":"AB10*AC10","v":0},{"$f":"IF($W$45=2, $O$10*$M$15, 0)","v":0},{"$f":"$AC10*AE10","v":0},{"$f":"IF($W$45=2, $O$21*$M$26, 0)","v":0},{"$f":"$AC10*AG10","v":0},null,null,{"$f":"\" \"&ListAVS!$B$157","v":" Objednávka"},null,null,null,null,null,"390 - 580","22L2500","22L2510"]
[null,{"$f":"ListAVS!$B$75&\" KH [mm]  \"","v":"Výška korpusu KH [mm]  "},null,null,null,null,null,null,{"$f":"IF($H11=0,\" \",IF($H11<300,\" min. 300mm\",IF($H11>580,\" max. 580 mm\",\" \")))&IF(H17>0,IF(H11=0,\"● \"&ListAVS!$B$128,\" \"),\" \")","v":"  "},null,null,null,null,null,null,"F35",{"$f":"IF(AND($H$11>=$Z$45, $H$11<=$AA$45, Q$15>=$AB$45, $Q$15<=$AC$45), 1, 0)","v":0},null,null,null,null,null,null,null,{"$f":"CenAVS!A38","v":"Sada zdvihačů HL top, na vruty"},{"$f":"CenAVS!B38","v":"22L2500"},{"$f":"CenAVS!C38","v":"ZN"},0,{"$f":"CenAVS!F38","v":1882.38},0,{"$f":"IF($W$45=1, $O$12*$M$15, 0)","v":0},{"$f":"$AC11*AE11","v":0},{"$f":"IF($W$45=1, $O$23*$M$26, 0)","v":0},{"$f":"$AC11*AG11","v":0}]
[null,{"$f":"ListAVS!$B$77&\" [kg] ** \"","v":"Hmotnost čela včetně úchytky [kg] ** "},null,null,null,null,null,null,{"$f":"IF($H17=0,\" \",IF(SUM($H12,$H15)=0,$N$37,\" \"))&IF(AND(SUM($O$10:$O$14)=1,$V16=\"ne\",H12>0),$N$41,IF(AND($H17>0,$H12>0,V$16=\"ano\"),$N$38,\" \"))","v":"  "},null,null,null,null,"L25",{"$f":"IF(AND($H$11>=$Z$49, $H$11<=$AA$50), 1, 0)","v":0},"F38",{"$f":"IF(AND($H$11>=$Z$49, $H$11<=$AA$49, Q$15>=$AB$49, $Q$15<=$AC$49), 1, 0)","v":0},{"$f":"IF(AND($Q$12=1, $Q$13=1, $H$11<=$AD$49), 1, IF(AND($Q12=1, $Q13=0), $Q12, 0))","v":0},null,null,null,null,null,null,{"$f":"CenAVS!A39","v":"Sada zdvihačů HL top, předmont. eurošrouby"},{"$f":"CenAVS!B39","v":"22L2510"},{"$f":"CenAVS!C39","v":"ZN"},0,{"$f":"CenAVS!F39","v":1882.38},0,{"$f":"IF($W$45=2, $O$12*$M$15, 0)","v":0},{"$f":"$AC12*AE12","v":0},{"$f":"IF($W$45=2, $O$23*$M$26, 0)","v":0},{"$f":"$AC12*AG12","v":0},null,null,null,null,null,null,null,null,{"$f":"ListAVS!B349&\" = \"&ListAVS!B351","v":"vruty = zdvihače s integrovanou šablonou (bez nutnosti rozměřování)"}]
[null,{"$f":"ListAVS!$B$292","v":"Výpočet hmotnosti"},null,{"$f":"ListAVS!$B$80&\" TS [mm] \"","v":"Síla čela TS [mm] "},null,null,null,null,null,null,null,null,null,null,null,"F39",{"$f":"IF(AND($H$11>=$Z$50, $H$11<=$AA$50, Q$15>=$AB$50, $Q$15<=$AC$50), 1, 0)","v":0},{"$f":"IF(AND($Q12=1,$Q13=1,$H11>$AD$49),1, IF(AND($Q12=0,$Q13=1),$Q13,0))","v":0},"tyč","mezistěny",null,null,null,null,null,null,null,null,null,null,null,null,null,null,null,null,null,null,null,null,null,null,{"$f":"ListAVS!B350&\" = \"&ListAVS!B352","v":"předmont. eurošrouby = zdvihače s předmotovanými šrouby (nutné předvrtání)"}]
[null,null,null,{"$f":"ListAVS!$B$83&\" [kg] \"","v":"Hmotnost úchytky [kg] "},null,null,null,null,{"$f":"IF(H17=0, \" \", IF(AND(H12=0, R14=1, H14=0), \" ● \"&ListAVS!$B$129,\" \"))","v":" "},null,null,null,null,null,null,null,null,1,{"$f":"IF($H$10>1360,2, IF($H$10<610,0.5,1))","v":0.5},{"$f":"H16","v":0},null,null,null,null,{"$f":"CenAVS!A40","v":"Sada ramen HL top (300–339 mm)"},{"$f":"CenAVS!B40","v":"22L3200"},{"$f":"CenAVS!C40","v":"NI"},0,{"$f":"CenAVS!F40","v":1233.67},0,{"$f":"$Q10*$M$15","v":0},{"$f":"$AC14*AE14","v":0},{"$f":"$Q21*$M$26","v":0},{"$f":"$AC14*AG14","v":0}]
[null,null,null,{"$f":"ListAVS!$B$79&\" [kg] \"","v":"Vypočtená hmotnost čela [kg] "},null,null,null,{"$f":"$T$80","v":0},{"$f":"IF(AND($H17>0,$H15>0,$H12=0,$M15>0), $N$38,\" \")&IF(AND(H17>0, H12=0, Z77=3, $J$4=0), $N$36, \" \")","v":"  "},null,null,null,{"$f":"IF($H10*$H11*$Q15=0, 0, IF(SUM(O10:O12)=0, 0, IF(SUM(Q10:Q13)=0, 0, IF($H10>1800, 0, IF($H10<220, 0, $H17)))))","v":0},null,null,"hmot =",{"$f":"IF(H12>0,H12,H15)","v":0},{"$f":"IF(SUM(H12,H15)=0,0,IF(H12>0,1,2))","v":0},"zadaná / vypočtená",null,"limit v/š",{"$f":"IF(AND(219<H10,H10<1801,299<H11,H11<581),\"ano\",\"ne\")","v":"ne"},null,null,{"$f":"CenAVS!A41","v":"Sada ramen HL top (340–389 mm)"},{"$f":"CenAVS!B41","v":"22L3500"},{"$f":"CenAVS!C41","v":"NI"},0,{"$f":"CenAVS!F41","v":1259.26},0,{"$f":"$Q11*$M$15","v":0},{"$f":"$AC15*AE15","v":0},{"$f":"$Q22*$M$26","v":0},{"$f":"$AC15*AG15","v":0}]
[null,{"$f":"ListAVS!$B$29&\" * \"","v":"Počet mezistěn * "},null,null,null,null,null,null,null,null,null,null,null,null,null,null,null,null,null,null,"limit hmot",{"$f":"IF(AND($H$11>=$Z$44, $H$11<=$AA$44, $Q$15>=$AB$44, $Q$15<=$AC$44), \"ano\", IF(AND($H$11>=$Z$45, $H$11<=$AA$45, $Q$15>=$AB$45, $Q$15<=$AC$45), \"ano\", IF(AND($H$11>=$Z$49, $H$11<=$AA$49, $Q$15>=$AB$49, $Q$15<=$AC$49), \"ano\", IF(AND($H$11>=$Z$50, $H$11<=$AA$50, $Q$15>=$AB$50, $Q$15<=$AC$50), \"ano\", \"ne\"))))","v":"ne"},null,null,{"$f":"CenAVS!A42","v":"Sada ramen HL top (390–540 mm)"},{"$f":"CenAVS!B42","v":"22L3800"},{"$f":"CenAVS!C42","v":"NI"},0,{"$f":"CenAVS!F42","v":1297.67},0,{"$f":"$R12*$M$15","v":0},{"$f":"$AC16*AE16","v":0},{"$f":"$R23*$M$26","v":0},{"$f":"$AC16*AG16","v":0}]
[null,{"$f":"ListAVS!$B$71","v":"Počet skříněk"},null,null,null,null,null,null,null,null,null,null,null,null,null,null,null,null,null,null,null,null,null,null,{"$f":"CenAVS!A43","v":"Sada ramen HL top (480–580 mm)"},{"$f":"CenAVS!B43","v":"22L3900"},{"$f":"CenAVS!C43","v":"NI"},0,{"$f":"CenAVS!F43","v":1438.5},0,{"$f":"$R13*$M$15","v":0},{"$f":"$AC17*AE17","v":0},{"$f":"$R24*$M$26","v":0},{"$f":"$AC17*AG17","v":0},null,null,2]
[null,{"$f":"IF(H17>0,IF(OR(R15=0,M15=0), \" \",IF(R15=1,$N$50,$N$51)),\" \")&IF(H17>0,IF(OR(R15=0, M15=0), \" \",IF(R15=1,$N$52,$N$53)),\" \")","v":"  "},null,null,null,null,null,null,null,null,null,null,null,null,null,null,null,null,null,null,null,null,null,null,null,null,null,null,null,null,null,null,null,null,null,null,null,null,null,null,null,null,{"$f":"ListAVS!B386&\":\"","v":"Sada ramen:"}]
[null,{"$f":"IF(AND($Q$12=1, $Q$13=1, $R$12=1), ListAVS!$B$337&$Y$50&\". \"&ListAVS!$B$338, IF(AND($Q$12=1, $Q$13=1, $R$13=1), ListAVS!$B$337&$Y$49&\". \"&ListAVS!$B$338, \" \"))","v":" "},null,null,null,null,null,null,null,null,null,null,null,null,null,null,null,null,null,null,null,null,null,null,{"$f":"CenAVS!A44","v":"Tyč příčné stabizace HL top"},{"$f":"CenAVS!B44","v":"22Q1076U"},{"$f":"CenAVS!C44","v":"EV"},{"$f":"SUM(AE19,AG19)","v":0},{"$f":"CenAVS!F44","v":337.98},{"$f":"AB19*AC19","v":0},{"$f":"ROUNDUP($S$14*$M$15, 0)","v":0},{"$f":"$AC19*AE19","v":0},{"$f":"ROUNDUP($S$25*$M$26, 0)","v":0},{"$f":"$AC19*AG19","v":0},null,null,null,null,null,null,null,null,{"$f":"ListAVS!B75&\" KH (mm)\"","v":"Výška korpusu KH (mm)"},{"$f":"ListAVS!B76&\" FG (kg)\"","v":"Hmotnost čela FG (kg)"},{"$f":"ListAVS!$B$386","v":"Sada ramen"}]
[null,{"$f":"\"▼ \"&ListAVS!$B$317","v":"▼ Způsob otvírání"},null,{"$f":"IF($M$25>0, ListAVS!$B$37&\": \", \" \")","v":" "},{"$f":"IF(SUM($AG$9:$AG$10)>0, \"22\", IF(SUM($AG$11:$AG$12)>0,\"25\", \" \"))","v":" "},{"$f":"ListAVS!$B$64&\" B\"","v":"Korpus B"},null,null,null,null,null,null,null,null,null,null,null,"↓rozhodnutí",null,null,null,null,null,null,{"$f":"CenAVS!A45","v":"Sada spojovacích dílů příčné stabilizace HL top"},{"$f":"CenAVS!B45","v":"22Q080Z"},{"$f":"CenAVS!C45","v":"EV"},0,{"$f":"CenAVS!F45","v":307.76},0,{"$f":"IF($H$10>=1228, $M$15, IF($T$14>0, $T$14*$M$15, 0))","v":0},0,{"$f":"IF($H$21>=1228, $M$26, IF($T$25>0, $T$14*$M$26, 0))","v":0},0,null,null,null,null,null,null,null,null,"300 - 339","1.5 - 9.00","22L3200"]
[null,{"$f":"ListAVS!$B$74&\" KB [mm] \"","v":"Šířka korpusu KB [mm] "},null,null,null,null,null,null,{"$f":"IF($H21=0,\" \",IF($H21<220,\" min. 220mm\",IF($H21>1800,\" max. 1 800mm\",\" \")))&IF(AND(H28>0,H21=0),\"● \"&ListAVS!$B$128,\" \")","v":"  "},null,null,null,null,"L22",{"$f":"IF(AND($H$22>=$Z$44, $H$22<=$AA$45), 1, 0)","v":0},"F32",{"$f":"IF(AND($H$22>=$Z$44, $H$22<=$AA$44, Q$26>=$AB$44, $Q$26<=$AC$44), 1, 0)","v":0},null,null,null,null,null,null,null,null,null,null,null,null,null,null,0,null,0,null,null,null,null,null,null,null,null,"340 - 389","1.75 - 10.00","22L3500"]
[null,{"$f":"ListAVS!$B$75&\" KH [mm] \"","v":"Výška korpusu KH [mm] "},null,null,null,null,null,null,{"$f":"IF($H22=0,\" \",IF($H22<300,\" min. 300mm\",IF($H22>580,\" max. 580 mm\",\" \")))&IF(H28>0,IF(H22=0,\"● \"&ListAVS!$B$128,\" \"),\" \")","v":"  "},null,null,null,null,null,null,"F35",{"$f":"IF(AND($H$22>=$Z$45, $H$22<=$AA$45, Q$26>=$AB$45, $Q$26<=$AC$45), 1, 0)","v":0},null,null,null,null,null,null,null,{"$f":"CenAVS!A47","v":"Sada krytek HF, HS, HL top, světle šedá"},{"$f":"CenAVS!B47","v":"22.8000"},{"$f":"CenAVS!C47","v":"HGR"},0,{"$f":"CenAVS!F47","v":252.85},0,{"$f":"IF(AND($T$45=1, $R$14=1), SUM($AE$9:$AE$12), 0)","v":0},0,{"$f":"IF(AND($T$45=1, $R$25=1), SUM($AG$9:$AG$12), 0)","v":0},0,null,null,null,null,null,null,null,null,"390 - 540","2.00 - 12.25","22L3800"]
[null,{"$f":"ListAVS!$B$77&\" [kg] ** \"","v":"Hmotnost čela včetně úchytky [kg] ** "},null,null,null,null,null,null,{"$f":"IF($H28=0,\" \",IF(SUM($H23,$H26)=0,$N$37,\" \"))&IF(AND(SUM($O$21:$O$25)=1,$V27=\"ne\",H23>0),$N$41,IF(AND($H28>0,$H23>0,V$27=\"ano\"),$N$38,\" \"))","v":"  "},null,null,null,null,"L25",{"$f":"IF(AND($H$22>=$Z$49, $H$22<=$AA$50), 1, 0)","v":0},"F38",{"$f":"IF(AND($H$22>=$Z$49, $H$22<=$AA$49, Q$26>=$AB$49, $Q$26<=$AC$49), 1, 0)","v":0},{"$f":"IF(AND($Q$23=1, $Q$24=1, $H$11<=$AD$49), 1, IF(AND($Q23=1, $Q24=0), $Q23, 0))","v":0},null,null,null,null,null,null,{"$f":"CenAVS!A48","v":"Sada krytek HF, HS, HL top, tmavě šedá"},{"$f":"CenAVS!B48","v":"22.8000"},{"$f":"CenAVS!C48","v":"TGR"},0,{"$f":"CenAVS!F48","v":275.94},0,{"$f":"IF(AND($T$45=2, $R$14=1), SUM($AE$9:$AE$12), 0)","v":0},0,{"$f":"IF(AND($T$45=2, $R$25=1), SUM($AG$9:$AG$12), 0)","v":0},0,null,null,null,null,null,null,null,null,"480 - 580","2.5 - 14.00","22L3900"]
[null,{"$f":"ListAVS!$B$292","v":"Výpočet hmotnosti"},null,{"$f":"ListAVS!$B$80&\" TS [mm] \"","v":"Síla čela TS [mm] "},null,null,null,null,null,null,null,null,null,null,null,"F39",{"$f":"IF(AND($H$22>=$Z$50, $H$22<=$AA$50, Q$26>=$AB$50, $Q$26<=$AC$50), 1, 0)","v":0},1,"tyč","mezistěny",null,null,null,null,{"$f":"CenAVS!A49","v":"Sada krytek HF, HS, HL top, hedvábně bílá"},{"$f":"CenAVS!B49","v":"22.8000"},{"$f":"CenAVS!C49","v":"SW"},0,{"$f":"CenAVS!F49","v":275.94},0,{"$f":"IF(AND($T$45=3, $R$14=1), SUM($AE$9:$AE$12), 0)","v":0},0,{"$f":"IF(AND($T$45=3, $R$25=1), SUM($AG$9:$AG$12), 0)","v":0},0]
[null,null,null,{"$f":"ListAVS!$B$83&\" [kg] \"","v":"Hmotnost úchytky [kg] "},null,null,null,null,{"$f":"IF(H28=0, \" \", IF(AND(H23=0, R25=1, H25=0), \" ● \"&ListAVS!$B$129,\" \"))","v":" "},null,null,null,null,null,null,null,null,2,{"$f":"IF($H$21>1360,2, IF($H$10<610,0.5,1))","v":0.5},{"$f":"H27","v":0},null,null,null,null,{"$f":"CenAVS!A50","v":"Sada krytek pro SERVO-DRIVE, světle šedá"},{"$f":"CenAVS!B50","v":"23.8000"},{"$f":"CenAVS!C50","v":"HGR"},0,{"$f":"CenAVS!F50","v":2606.7600000000002},0,{"$f":"IF(AND($T$45=1, $R$14=2), SUM($AE$9:$AE$12), 0)","v":0},0,{"$f":"IF(AND($T$45=1, $R$25=2), SUM($AG$9:$AG$12), 0)","v":0},0]
[null,null,null,{"$f":"ListAVS!$B$79&\" [kg] \"","v":"Vypočtená hmotnost čela [kg] "},null,null,null,{"$f":"$T$91","v":0},{"$f":"IF(AND($H28>0,$H26>0,$H23=0,$M26>0), $N$38,\" \")&IF(AND(H28>0, H23=0, Z88=3, $J$4=0), $N$36, \" \")","v":"  "},null,null,null,{"$f":"IF($H21*$H22*$Q26=0,0,IF(SUM(O21:O23)=0,0,IF(SUM(Q21:Q24)=0,0,IF($H21>1800,0,IF($H21<220,0,$H28)))))","v":0},null,null,"hmot =",{"$f":"IF(H23>0,H23,H26)","v":0},{"$f":"IF(SUM(H23,H26)=0,0,IF(H23>0,1,2))","v":0},"zadaná / vypočtená",null,"limit v/š",{"$f":"IF(AND(219<H21,H21<1801,299<H22,H22<581),\"ano\",\"ne\")","v":"ne"},null,null,{"$f":"CenAVS!A51","v":"Sada krytek pro SERVO-DRIVE, tmavě šedá"},{"$f":"CenAVS!B51","v":"23.8000"},{"$f":"CenAVS!C51","v":"TGR"},0,{"$f":"CenAVS!F51","v":2709.29},0,{"$f":"IF(AND($T$45=2, $R$14=2), SUM($AE$9:$AE$12), 0)","v":0},0,{"$f":"IF(AND($T$45=2, $R$25=2), SUM($AG$9:$AG$12), 0)","v":0},0]
[null,{"$f":"ListAVS!$B$29&\" * \"","v":"Počet mezistěn * "},null,null,null,null,null,null,null,null,null,null,null,null,null,null,null,null,null,null,"limit hmot",{"$f":"IF(AND($H$22>=$Z$44, $H$22<=$AA$44, $Q$26>=$AB$44, $Q$26<=$AC$44), \"ano\", IF(AND($H$22>=$Z$45, $H$22<=$AA$45, $Q$26>=$AB$45, $Q$26<=$AC$45), \"ano\", IF(AND($H$22>=$Z$49, $H$22<=$AA$49, $Q$26>=$AB$49, $Q$26<=$AC$49), \"ano\", IF(AND($H$22>=$Z$50, $H$22<=$AA$50, $Q$26>=$AB$50, $Q$26<=$AC$50), \"ano\", \"ne\"))))","v":"ne"},null,null,{"$f":"CenAVS!A52","v":"Sada krytek pro SERVO-DRIVE,hedvábně bílá"},{"$f":"CenAVS!B52","v":"23.8000"},{"$f":"CenAVS!C52","v":"SW"},0,{"$f":"CenAVS!F52","v":2709.29},0,{"$f":"IF(AND($T$45=3, $R$14=2), SUM($AE$9:$AE$12), 0)","v":0},0,{"$f":"IF(AND($T$45=3, $R$25=2), SUM($AG$9:$AG$12), 0)","v":0},0]
[null,{"$f":"ListAVS!$B$71","v":"Počet skříněk"},null,null,null,null,null,null,null,null,null,null,null,null,{"$f":"IF($P$28=FALSE,2,1)","v":2},false,null," - Zdroj"]
[null,{"$f":"IF(H28>0,IF(OR(R24=0,M25=0), \" \",IF(R24=1,$N$50,$N$51)),\" \")&IF(H28>0,IF(OR(R24=0, M25=0), \" \",IF(R24=1,$N$52,$N$53)),\" \")","v":"  "}]
[null,{"$f":"IF(AND($Q$23=1, $Q$24=1, $R$23=1), ListAVS!$B$337&$Y$50&\". \"&ListAVS!$B$338, IF(AND($Q$23=1, $Q$24=1, $R$24=1), ListAVS!$B$337&$Y$49&\". \"&ListAVS!$B$338, \" \"))","v":" "}]
[null,{"$f":"IF(OR(AND($R$14=2, $M$15>0), AND($R$24=2, $M$25>0)), ListAVS!$B$175, \" \")","v":" "}]
[null,null,null,null,null,null,null,null,null,null,null,null,null,null,null,null,null,null,null,null,null,null,null,null,{"$f":"CenAVS!A78","v":"Sada čel.kování pro dřev. čela"},{"$f":"CenAVS!B78","v":"20S4200"},{"$f":"CenAVS!C78","v":"NI"},{"$f":"SUM(AE32,AG32)","v":0},{"$f":"CenAVS!F78","v":90.38},{"$f":"AB32*AC32","v":0},null,{"$f":"$AC32*AE32","v":0},null,{"$f":"$AC32*AG32","v":0}]
[null,null,null,null,null,null,null,null,null,null,null,null,null,null,null,null,null,null,null,null,null,null,null,null,{"$f":"CenAVS!A79","v":"Čelní.kování pro dřev. čela EXPANDO"},{"$f":"CenAVS!B79","v":"20S42E1"},{"$f":"CenAVS!C79","v":"NI"},{"$f":"SUM(AE33,AG33)","v":0},{"$f":"CenAVS!F79","v":51.36},{"$f":"AB33*AC33","v":0},null,{"$f":"$AC33*AE33","v":0},null,{"$f":"$AC33*AG33","v":0}]
[null,null,null,null,null,null,null,null,null,null,null,null,null,null,null,null,null,null,null,null,null,null,null,null,{"$f":"CenAVS!A80","v":"Sada čel.kování pro tenké materiály"},{"$f":"CenAVS!B80","v":"20S42T1"},{"$f":"CenAVS!C80","v":"NI"},{"$f":"SUM(AE34,AG34)","v":0},{"$f":"CenAVS!F80","v":291.60000000000002},{"$f":"AB34*AC34","v":0},null,{"$f":"$AC34*AE34","v":0},null,{"$f":"$AC34*AG34","v":0}]
[null,null,null,null,null,null,null,null,null,null,null,null,null,{"$f":"ListAVS!B176","v":"Cena bez napájecího zdroje!"},null,null,null,null,null,null,null,null,null,null,{"$f":"CenAVS!A81","v":"Sada čel.kování pro úzké alurámečky"},{"$f":"CenAVS!B81","v":"20S4200A"},{"$f":"CenAVS!C81","v":"NI"},{"$f":"SUM(AE35,AG35)","v":0},{"$f":"CenAVS!F81","v":395.5},{"$f":"AB35*AC35","v":0},{"$f":"SUM(AE$9:AE$12)","v":0},{"$f":"$AC35*AE35","v":0},{"$f":"SUM(AG$9:AG$12)","v":0},{"$f":"$AC35*AG35","v":0}]
[null,null,null,null,null,null,null,null,null,null,null,null,null,{"$f":"\" \"&ListAVS!$B$117","v":" Vyplňte nahoře objemovou hmotnost "}]
[null,null,{"$f":"\"* \"&ListAVS!$B$233","v":"* Zadejte počet mezistěn v korpusu "},null,null,null,null,null,null,null,null,null,null,{"$f":"\" \"&ListAVS!$B$115","v":" Zadejte hmotnost nebo vyplňte všechny buňky"},null,null,null,null,null,null,null,null,null,null,{"$f":"CenAVS!A171","v":"SERVO-DRIVE jednotka (sada)"},{"$f":"CenAVS!B171","v":"23.A000"},{"$f":"CenAVS!C171","v":"R7037"},{"$f":"SUM(AE37,AG37)","v":0},{"$f":"CenAVS!F171","v":8297.32},{"$f":"AB37*AC37","v":0},{"$f":"IF($R$14=2, $M$15, 0)","v":0},{"$f":"$AC37*AE37","v":0},{"$f":"IF($R$25=2, $M$26, 0)","v":0},{"$f":"$AC37*AG37","v":0}]
[null,null,{"$f":"\"** \"&ListAVS!$B$186","v":"** Pokud znáte hmotnost a nechcete využít výpočtu hmotnosti"},null,null,null,null,null,null,null,null,null,null,{"$f":"\"◄ \"&ListAVS!$B$112","v":"◄ hodnota bude použita pro výběr zdvihače"},null,null,null,null,null,null,null,null,null,null,null,null,null,null,null,null,null,{"$f":"$AC38*AE38","v":0},null,{"$f":"$AC38*AG38","v":0}]
[null,null,{"$f":"\"*** \"&ListAVS!$B$403","v":"*** Vyberte typ alurámečku!"},null,null,null,null,null,null,null,null,null,null,{"$f":"\" * \"&ListAVS!$B$127","v":" * Doplňte hodnoty"}]
[null,null,{"$f":"\"      \"&ListAVS!$B$404","v":"      Více informací k výběru alurámečků v Nápovědě"},null,null,null,null,null,null,null,null,null,null,null,null,null,null,null,null,null,null,null,null,null,null,null,null,null,{"$f":"ListAVS!$B$61&\" \"","v":"Cena celkem bez DPH "},{"$f":"SUM(AD9:AD38)","v":0},null,{"$f":"SUM(AF9:AF38)","v":0},null,{"$f":"SUM(AH9:AH38)","v":0}]
[null,null,null,null,null,null,null,null,null,null,null,null,null,{"$f":"\" \"&ListAVS!$B$124&\"!\"","v":" Hmotnost mimo povolený rozsah!"},null,null,null,null,null,null,null,null,null,null,{"$f":"Param!M30","v":"Parametry HL"}]
[null,null,null,null,null,null,null,null,null,null,null,null,null,{"$f":"\" max. 9 000! \"&ListAVS!$B$121","v":" max. 9 000! Upravte hmotnost nebo výšku"},null,null,null,null,null,null,null,null,null,null,null,null,{"$f":"Param!O31","v":"22L2200"}]
[null,null,null,null,null,null,null,null,null,null,null,null,null,{"$f":"\" \"&ListAVS!$B$234","v":" Nutná mezistěna"},null,null,null,null,null,null,null,null,null,null,null,{"$f":"Param!N32","v":"min KH"},{"$f":"Param!O32","v":"max KH"},{"$f":"Param!P32","v":"min FG"},{"$f":"Param!Q32","v":"max FG"}]
[null,null,null,null,null,null,null,null,null,null,null,null,null,null,null,null,null,null,null,null,null,null,null,null,{"$f":"Param!M33","v":"22L3200"},{"$f":"Param!N33","v":300},{"$f":"Param!O33","v":339},{"$f":"Param!P33","v":1.5},{"$f":"Param!Q33","v":9}]
[null,null,null,null,null,null,null,null,null,null,null,null,null,null,{"$f":"HL!$N$26","v":2},null,null,null,null,{"$f":"MenuAVS!$P$28","v":1},null,null,{"$f":"HL!P26","v":1},null,{"$f":"Param!M34","v":"22L3500"},{"$f":"Param!N34","v":340},{"$f":"Param!O34","v":389},{"$f":"Param!P34","v":1.75},{"$f":"Param!Q34","v":10}]
[null,null,null,null,null,null,null,null,null,null,null,null,null,null,"čelní kov.",null,"Provedení:",null,null,"kryt.",null,null,{"$f":"HL!P27","v":"mont."}]
[null,null,null,null,null,null,null,null,null,null,null,null,null,null,{"$f":"ListAVS!$B$142","v":"Expando"},null,"Standard",null,null,{"$f":"ListAVS!$B$145","v":"Světle šedá (HGR)"},null,null,{"$f":"HL!P28","v":"vruty"},null,null,null,{"$f":"Param!O36","v":"22L2500"}]
[null,null,null,null,null,null,null,null,null,null,null,null,null,null,{"$f":"ListAVS!$B$143","v":"na vruty"},null,"SERVO-DRIVE",null,null,{"$f":"ListAVS!$B$146","v":"Tmavě šedá (TGR)"},null,null,{"$f":"HL!P29","v":"předmont. eurošrouby"},null,{"$f":"Param!M37","v":0},{"$f":"Param!N37","v":"min KH"},{"$f":"Param!O37","v":"max KH"},{"$f":"Param!P37","v":"min FG"},{"$f":"Param!Q37","v":"max FG"},{"$f":"Param!R37","v":"hranice"}]
[null,null,null,null,null,null,null,null,null,null,null,null,null,null,null,null,null,null,null,{"$f":"ListAVS!$B$147","v":"Hedvábně bílá (SW)"},null,null,null,null,{"$f":"Param!M38","v":"22L3800"},{"$f":"Param!N38","v":390},{"$f":"Param!O38","v":540},{"$f":"Param!P38","v":2},{"$f":"Param!Q38","v":12.25},{"$f":"Param!R38","v":500}]
[null,null,null,null,null,null,null,null,null,null,null,null,null,{"$f":"ListAVS!B187&\". \"","v":"Pro určení typu zdvihače bude použita zadaná hmotnost. "},null,null,null,null,null,null,null,null,null,null,{"$f":"Param!M39","v":"22L3900"},{"$f":"Param!N39","v":480},{"$f":"Param!O39","v":580},{"$f":"Param!P39","v":1.5},{"$f":"Param!Q39","v":14}]
[null,{"$f":"\" \"&ListAVS!$B$394","v":" Odstup čela od korpusu"},null,null,null,null,null,null,null,null,null,null,null,{"$f":"ListAVS!B188&\". \"","v":"Pro určení typu zdvihače bude použita vypočtená hmotnost. "}]
[null,"KH [mm]",null,{"$f":"ListAVS!$B$386","v":"Sada ramen"},null,"a [mm]","b [mm]","c [mm]","y [mm]",null,null,null,null,{"$f":"ListAVS!B189","v":"Chcete-li použít vypočtenou hmotnost, smažte zadanou hodnotu"}]
[null,"300 - 339",null,"22L3200",null,112,272.5,155.5,272.5,null,null,null,null,{"$f":"ListAVS!B190","v":"Chcete-li použít zadanou hmotnost, zadejte ji do políčka"}]
[null,"340 - 389",null,"22L3500",null,140.5,340,195,340]
[null,"390 - 540",null,"22L3800",null,176,425,245,425,null,null,null,null,{"$f":"\" \"&ListAVS!$B$108","v":" v kombinaci se SERVO-DRIVE"}]
[null,"480 - 580",null,"22L3900",null,214.5,517,297.5,517,null,null,null,null,{"$f":"\" \"&ListAVS!$B$109","v":" nelze v kombinaci se SERVO-DRIVE"}]
[]
[]
[]
[]
[]
[]
[]
[]
[]
[]
[]
[]
[null,null,null,null,null,null,null,null,null,null,null,null,null,{"$f":"ListAVS!$B$73","v":"Výpočet hmotnosti čel"}]
[null,null,null,null,null,null,null,null,null,null,null,null,null,null,null,{"$f":"ListAVS!$B$179&\"  \"","v":"Provedení čel  "},null,null,null,{"$f":"J4","v":0},{"$f":"IF(AF76=3,IF(T70=0,Y72,\" \"),IF(T70>0,Y73,\" \"))","v":" "},null,null,null,{"$f":"IF($AF$76=1,$AF$95,IF($AF$76=2,$AF$96,#REF!&\" - \"&$Y$80&\"mm\"))","v":"Alurámečky s 4mm sklem"},null,null,null,null,{"$f":"MenuAVS!$Q$81","v":2500}]
[null,null,null,null,null,null,null,null,null,null,null,null,null,null,null,null,null,null,null,null,null,null,null,null,{"$f":"\" \"&ListAVS!$B$410","v":" Změnit hodnoty můžete v Úvodu plánování"}]
[null,null,null,null,null,null,null,null,null,null,null,null,null,null,null,null,null,null,null,null,null,null,null,null,{"$f":"\" \"&ListAVS!$B$245&\" [mm]\"","v":" Zadejte sílu skla [mm]"}]
[null,null,null,null,null,null,null,null,null,null,null,null,null,null,null,null,null,null,null,null,null,null,null,null,{"$f":"\" \"&ListAVS!$B$240&\" '\"&ListAVS!$B$95&\"'\"","v":" Hodnota platí jen pro volbu 'Alurámečky s jiným sklem'"}]
[]
[null,null,null,null,null,null,null,null,null,null,null,null,null,null,null,null,null,{"$f":"D9","v":" "},null,null,null,null,null,null,null,null,null,null,null,null,"váha spoj.","tl. skla","typ alu"]
[null,null,null,null,null,null,null,null,null,null,null,null,null,{"$f":"ListAVS!$B$74&\" KB [mm]       \"","v":"Šířka korpusu KB [mm]       "},null,null,null,null,null,{"$f":"H10","v":0},null,null,null,null,{"$f":"T76*T77*T78","v":0},null,null,null,null,{"$f":"IF($AG$76=1,$X$95,$X$96)","v":0.31},{"$f":"$X$97","v":0.46},1,{"$f":"$O$4","v":1}]
[null,null,null,null,null,null,null,null,null,null,null,null,null,{"$f":"ListAVS!$B$75&\" KH [mm]       \"","v":"Výška korpusu KH [mm]       "},null,null,null,null,null,{"$f":"H11","v":0},null,null,null,null,{"$f":"Y76/1000000000","v":0},2,null,null,null,"váha alu",{"$f":"SUM(T76*2,(T77-40)*2)*AD76/1000","v":-2.4799999999999999E-2},"A plocha B"]
[null,null,null,null,null,null,null,null,null,null,null,null,null,{"$f":"ListAVS!$B$80&\" TS [mm] \"","v":"Síla čela TS [mm] "},null,null,null,null,null,null,null,null,null,null,{"$f":"MenuAVS!$C$31","v":760},{"$f":"ListAVS!$B$90&\" (\"&Y78&\" kg/m3)\"","v":"MDF (760 kg/m3)"},null,null,null,{"$f":"$AD$70*4/1000","v":10},{"$f":"IF($AG$76=1,AF78*AD78,AG78*AD78)","v":8.9999999999999993E-3},{"$f":"SUM(($T$76-30)*($T$77-30)/1000000)","v":8.9999999999999998E-4},{"$f":"SUM(($T$76-6)*($T$77-6)/1000000)","v":3.6000000000000001E-5},"4mm"]
[null,null,null,null,null,null,null,null,null,null,null,null,null,{"$f":"ListAVS!$B$83&\" [kg] \"","v":"Hmotnost úchytky [kg] "},null,null,null,null,null,{"$f":"H14","v":0},{"$f":"IF(SUM(T76,T77)=0,\" \",IF(T79=0,\" ● \"&ListAVS!$B$129,\" \"))","v":" "},null,null,null,{"$f":"MenuAVS!$C$32","v":680},{"$f":"ListAVS!$B$91&\" (\"&Y79&\" kg/m3)\"","v":"Dřevotříska (680 kg/m3)"},null,null,null,{"$f":"$AD$70*5/1000","v":12.5},{"$f":"IF($AG$76=1,AF79*AD79,AG79*AD79)","v":1.125E-2},{"$f":"SUM(($T$76-30)*($T$77-30)/1000000)","v":8.9999999999999998E-4},{"$f":"SUM(($T$76-6)*($T$77-6)/1000000)","v":3.6000000000000001E-5},"5mm"]
[null,null,null,null,null,null,null,null,null,null,null,null,null,{"$f":"ListAVS!$B$79&\" [kg] \"","v":"Vypočtená hmotnost čela [kg] "},null,null,null,null,null,{"$f":"IF(AD81=0,0,AD81+T79)","v":0},null,null,null,{"$f":"IF(T76*T77*T78=0,0,IF(Z77=1,Y77*Y78,IF(Z77=2,Y77*Y79,Y77*Y80)))","v":0},{"$f":"$T$70","v":0},{"$f":"ListAVS!$B$92","v":"Jiné - volitelná hustota"},null,null,null,{"$f":"$AD$70*$T$70/1000","v":0},{"$f":"IF($AG$76=1,AF80*AD80,AG80*AD80)","v":0},{"$f":"SUM(($T$76-30)*($T$77-30)/1000000)","v":8.9999999999999998E-4},{"$f":"SUM(($T$76-6)*($T$77-6)/1000000)","v":3.6000000000000001E-5},"jiné"]
[null,null,null,null,null,null,null,null,null,null,null,null,null,null,null,null,null,null,null,null,null,null,null,null,null,null,null,null,null,{"$f":"IF(OR(AND(AF76=3, $T$70=0), T76*T77=0), 0, SUM(IF(AF76=1,AE78,IF(AF76=2,AE79,AE80)),AE77,AE76))","v":0}]
[]
[null,null,null,null,null,null,null,null,null,null,null,null,null,null,{"$f":"IF(T80>0,IF(T79=0,$Z$95,\" \"),\" \")","v":" "}]
[]
[]
[null,null,null,null,null,null,null,null,null,null,null,null,null,null,null,null,null,{"$f":"D20","v":" "},null,null,null,null,null,null,null,null,null,null,null,null,"váha spoj.","tl. skla","typ alu"]
[null,null,null,null,null,null,null,null,null,null,null,null,null,{"$f":"ListAVS!$B$74&\" KB [mm]       \"","v":"Šířka korpusu KB [mm]       "},null,null,null,null,null,{"$f":"H21","v":0},null,null,null,null,{"$f":"T87*T88*T89","v":0},null,null,null,null,{"$f":"IF($AG$76=1,$X$95,$X$96)","v":0.31},{"$f":"$X$97","v":0.46},{"$f":"$AF$76","v":1},{"$f":"$AG$76","v":1}]
[null,null,null,null,null,null,null,null,null,null,null,null,null,{"$f":"ListAVS!$B$75&\" KH [mm]       \"","v":"Výška korpusu KH [mm]       "},null,null,null,null,null,{"$f":"H22","v":0},null,null,null,null,{"$f":"Y87/1000000000","v":0},{"$f":"Z77","v":2},null,null,null,"váha alu",{"$f":"SUM(T87*2,(T88-40)*2)*AD87/1000","v":-2.4799999999999999E-2},"A plocha B"]
[null,null,null,null,null,null,null,null,null,null,null,null,null,{"$f":"ListAVS!$B$80&\" TS [mm] \"","v":"Síla čela TS [mm] "},null,null,null,null,null,null,null,null,null,null,{"$f":"$Y$78","v":760},{"$f":"$Z$78","v":"MDF (760 kg/m3)"},null,null,null,{"$f":"AD78","v":10},{"$f":"IF($AG$76=1,AF89*AD89,AG89*AD89)","v":8.9999999999999993E-3},{"$f":"SUM(($T$87-30)*($T$88-30)/1000000)","v":8.9999999999999998E-4},{"$f":"SUM(($T$87-6)*($T$88-6)/1000000)","v":3.6000000000000001E-5},"4mm"]
[null,null,null,null,null,null,null,null,null,null,null,null,null,{"$f":"ListAVS!$B$83&\" [kg] \"","v":"Hmotnost úchytky [kg] "},null,null,null,null,null,{"$f":"H25","v":0},{"$f":"IF(SUM(T87,T88)=0,\" \",IF(T90=0,\" ● \"&ListAVS!$B$129,\" \"))","v":" "},null,null,null,{"$f":"$Y$79","v":680},{"$f":"$Z$79","v":"Dřevotříska (680 kg/m3)"},null,null,null,{"$f":"AD79","v":12.5},{"$f":"IF($AG$76=1,AF90*AD90,AG90*AD90)","v":1.125E-2},{"$f":"SUM(($T$87-30)*($T$88-30)/1000000)","v":8.9999999999999998E-4},{"$f":"SUM(($T$87-6)*($T$88-6)/1000000)","v":3.6000000000000001E-5},"5mm"]
[null,null,null,null,null,null,null,null,null,null,null,null,null,{"$f":"ListAVS!$B$79&\" [kg] \"","v":"Vypočtená hmotnost čela [kg] "},null,null,null,null,null,{"$f":"IF(AD92=0,0,AD92+T90)","v":0},null,null,null,{"$f":"IF(T87*T88*T89=0,0,IF(Z88=1,Y88*Y89,IF(Z88=2,Y88*Y90,Y88*Y91)))","v":0},{"$f":"$Y$80","v":0},{"$f":"$Z$80","v":"Jiné - volitelná hustota"},null,null,null,{"$f":"AD80","v":0},{"$f":"IF($AG$76=1,AF91*AD91,AG91*AD91)","v":0},{"$f":"SUM(($T$87-30)*($T$88-30)/1000000)","v":8.9999999999999998E-4},{"$f":"SUM(($T$87-6)*($T$88-6)/1000000)","v":3.6000000000000001E-5},"jiné"]
[null,null,null,null,null,null,null,null,null,null,null,null,null,null,{"$f":"IF(T91>0,IF(T90=0,$Z$95,\" \"),\" \")","v":" "},null,null,null,null,null,null,null,null,null,null,null,null,null,null,{"$f":"IF(OR(AND(AF87=3, $T$70=0), T87*T88=0), 0, SUM(IF(AF87=1,AE89,IF(AF87=2,AE90,AE91)),AE88,AE87))","v":0}]
[]
[]
[null,null,null,null,null,null,null,null,null,null,null,null,null,null,null,null,null,null,null,null,null,null,{"$f":"ListAVS!$B$424&\"  \"","v":"s vloženým sklem  "},{"$f":"MenuAVS!$I$91","v":0.31},null,{"$f":"ListAVS!$B$102&\"!\"","v":"Není započtena hmotnost úchytky!"},null,null,null,null,null,{"$f":"ListAVS!$B$93","v":"Alurámečky s 4mm sklem"}]
[null,null,null,null,null,null,null,null,null,null,null,null,null,null,null,null,null,null,null,null,null,null,{"$f":"ListAVS!$B$425&\"  \"","v":"s naloženým nebo nalepeným sklem  "},{"$f":"MenuAVS!$I$92","v":0.32},null,null,null,null,null,null,null,{"$f":"ListAVS!$B$94","v":"Alurámečky s 5mm sklem"}]
[null,null,null,null,null,null,null,null,null,null,null,null,null,null,null,null,null,null,null,null,null,null,{"$f":"ListAVS!$B$405&\" [kg/set] *  \"","v":"Hmotnost spojovacího materiálu [kg/set] *  "},{"$f":"MenuAVS!$I$93","v":0.46},null,null,null,null,null,null,null,{"$f":"ListAVS!$B$95","v":"Alurámečky s jiným sklem"}]
[]
[]
[null,"      AVENTOS HL"]
[]
[null,{"$f":"ListAVS!$B$332","v":"Pro výběr správného zdvihače potřebujete znát výšku korpusu a hmotnost čela."}]
[]
[null,{"$f":"ListAVS!$B$311","v":"Pokud znáte hmotnost čela, můžete ji zadat, jinak použijte \"Výpočet hmotnosti\"."}]
[null,{"$f":"ListAVS!$B$312","v":"V tabulce má přednost zadaná hodnota. Chcete-li použít vypočtenou hmotnost, smažte zadanou hodnotu."}]
[]
[]
[null,{"$f":"ListAVS!$B$305","v":"Chcete-li změnit barvu krytek, přejděte na \"Úvod plánování\""}]
[]
[null,{"$f":"ListAVS!$B$411","v":"Věnujte pozornost výběru alurámečků."}]
[null,{"$f":"ListAVS!$B$412","v":"Vyberte, který typ lépe odpovídá tvaru použitého alurámečku."}]
[null,{"$f":"ListAVS!$B$413","v":"Způsob osazení skla do rámečku výrazně ovlivňuje plochu skla a tím i hmotnost!"}]
[]
[null,null,{"$f":"\"  \"&ListAVS!$B$424&\"  \"","v":"  s vloženým sklem  "}]
[]
[null,null,{"$f":"\"  \"&ListAVS!$B$425&\"  \"","v":"  s naloženým nebo nalepeným sklem  "}]
[]
[null,null,null,null,null,null,null,null,null,null,null,{"$f":"ListAVS!$B$167","v":"Zpět"}]

{"sheet":"HLt","index":23,"n_rows":112,"n_cols":45,"rows_kept":112,"cut":false,"hidden":false,"merged":[[55,1,55,2],[51,1,51,2],[52,1,52,2],[53,1,53,2],[54,1,54,2],[54,3,54,4],[87,13,87,18],[0,42,0,45],[1,1,1,2],[16,1,16,6],[6,1,6,2],[6,6,6,7],[10,1,10,6],[11,1,11,6],[15,1,15,6],[24,15,24,16],[4,5,4,9],[3,10,4,11],[19,1,19,2],[13,15,13,16],[22,1,22,6],[20,1,20,6],[21,1,21,6],[19,5,19,7],[8,1,8,2],[9,1,9,6],[8,5,8,7],[13,3,13,6],[14,3,14,6],[12,1,14,2],[12,3,12,6],[27,15,27,16],[78,13,78,18],[73,17,73,19],[74,13,74,18],[75,13,75,18],[76,13,76,18],[77,13,77,18],[26,1,26,6],[40,1,44,11],[23,1,25,2],[23,3,23,6],[24,3,24,6],[25,3,25,6],[27,1,27,6],[30,1,32,9],[98,0,152,0],[69,15,69,19],[51,3,51,4],[52,3,52,4],[53,3,53,4],[55,3,55,4],[56,3,56,4],[58,3,58,4],[59,3,59,4],[61,3,61,4],[62,3,62,4],[88,13,88,18],[89,13,89,18],[84,17,84,19],[85,13,85,18],[86,13,86,18]]}
[]
[null,"AVENTOS HL top",null,null,null,null,null,null,null,null,null,null,null,null,null,null,null,null,3,null,null,null,null,null,null,null,null,null,null,null,null,null,null,null,null,null,{"$f":"ListAVS!$B$152","v":"Jdi na"}]
[]
[null,{"$f":"ListAVS!$B$23&\" ***\"","v":"Tenké materiály ***"},null,null,null,{"$f":"ListAVS!$B$26&\":   \"","v":"Materiál :   "},null,null,null,null,{"$f":"IF($Z$71=8,IF(J4=0,$Y$67,\" \"),IF(J4>0,$Y$68,\" \"))","v":" "},null,null,null,null,null,null,null,{"$f":"\" \"&ListAVS!$B$41&\" A \"","v":" Cena za korpus A "},null,null,null,null,null,null,null,null,null,null,null,null,null,null,null,null,null," Úvod plánování"]
[null,null,null,null,null,{"$f":"IF($Z$72<>8,$Y$66,\" \")&\"      \"","v":" Změnit hodnoty můžete v Úvodu plánování      "},null,null,null,null,null,null,null,null,null,null,null,null,{"$f":"\" \"&ListAVS!$B$41&\" B \"","v":" Cena za korpus B "},null,null,null,null,null,null,null,null,null,null,null,null,null,null,null,null,null,{"$f":"\" \"&ListAVS!$B$154","v":" Nápověda"}]
[null,null,null,null,null,null,null,null,null,null,null,null,null,null,null,null,null,null,{"$f":"\" \"&ListAVS!$B$61","v":" Cena celkem bez DPH"}]
[null,{"$f":"ListAVS!$B$51&\":   \"","v":"Cena kování:   "},null,null,null,null,{"$f":"IF(S2=1,$AF$45,IF($S$2=2,$AH$45,IF($S$2=3,$AD$45,0)))","v":0},null,null,null,null,null,null,null,null,null,null,null,null,null,null,null,null,null,{"$f":"$B$2","v":"AVENTOS HL top"},{"$f":"B5","v":0},null,null,null,null,null,null,null,null,null,null,{"$f":"\" \"&ListAVS!$B$159","v":" Doplňky"},null,null,null,null,null,{"$f":"ListAVS!B84&\":\"","v":"Zdvihací mechanizmus:"}]
[null,null,null,null,null,null,null,{"$f":"IF(AND(OR($R$14=2, $R$24=2), $AD$45>0), $N$34, \" \")","v":" "},null,null,null,null,null,null,null,null,null,null,null,null,null,null,null,null,{"$f":"ListAVS!B52","v":"Název"},{"$f":"ListAVS!$B$53","v":"Číslo artiklu"},{"$f":"ListAVS!B54","v":"Barva"},{"$f":"ListAVS!B56","v":"Ks"},{"$f":"ListAVS!B58","v":"Jednotková cena"},{"$f":"ListAVS!B59","v":"Celkem"},"A","Cena","B","Cena",null,null,null,null,null,null,null,null,{"$f":"ListAVS!$B$75&\" KH (mm)\"","v":"Výška korpusu KH (mm)"},{"$f":"ListAVS!$B$84&\" \"&ListAVS!$B$349","v":"Zdvihací mechanizmus vruty"},{"$f":"ListAVS!$B$84&\" \"&ListAVS!$B$350","v":"Zdvihací mechanizmus předmont. eurošrouby"}]
[null,{"$f":"\"▼ \"&ListAVS!$B$317","v":"▼ Způsob otvírání"},null,{"$f":"IF($M$15>0, ListAVS!$B$37&\": \", \" \")","v":" "},{"$f":"IF(SUM($AE$9:$AE$10)>0, \"22\", IF(SUM($AE$11:$AE$12)>0,\"25\", \" \"))","v":" "},{"$f":"ListAVS!$B$64&\" A\"","v":"Korpus A"},null,null,null,null,null,null,null,null,null,null,null,"↓rozhodnutí",null,null,null,null,null,null,{"$f":"CenAVS!A36","v":"Sada zdvihačů HL top, na vruty"},{"$f":"CenAVS!B36","v":"22L2200"},{"$f":"CenAVS!C36","v":"ZN"},{"$f":"SUM(AE9,AG9)","v":0},{"$f":"CenAVS!F36","v":1754.34},{"$f":"AB9*AC9","v":0},{"$f":"IF($W$45=1, $O$10*$M$15, 0)","v":0},{"$f":"$AC9*AE9","v":0},{"$f":"IF($W$45=1, $O$21*$M$26, 0)","v":0},{"$f":"$AC9*AG9","v":0},null,null,{"$f":"\" \"&ListAVS!$B$156","v":" Přehled korpusů"},null,null,null,null,null,"300 - 389","22L2200","22L2210"]
[null,{"$f":"ListAVS!$B$74&\" KB [mm] \"","v":"Šířka korpusu KB [mm] "},null,null,null,null,null,null,{"$f":"IF($H10=0,\" \",IF($H10<220,\" min. 220mm\",IF($H10>1800,\" max. 1 800mm\",\" \")))&IF(AND(H17>0,H10=0),\"● \"&ListAVS!$B$128,\" \")","v":"  "},null,null,null,null,"L22",{"$f":"IF(AND($H$11>=$Z$44, $H$11<=$AA$45), 1, 0)","v":0},"F32",{"$f":"IF(AND($H$11>=$Z$44, $H$11<=$AA$44, Q$15>=$AB$44, $Q$15<=$AC$44), 1, 0)","v":0},null,null,null,null,null,null,null,{"$f":"CenAVS!A37","v":"Sada zdvihačů HL top, předmont. eurošrouby"},{"$f":"CenAVS!B37","v":"22L2210"},{"$f":"CenAVS!C37","v":"ZN"},0,{"$f":"CenAVS!F37","v":1754.34},{"$f":"AB10*AC10","v":0},{"$f":"IF($W$45=2, $O$10*$M$15, 0)","v":0},{"$f":"$AC10*AE10","v":0},{"$f":"IF($W$45=2, $O$21*$M$26, 0)","v":0},{"$f":"$AC10*AG10","v":0},null,null,{"$f":"\" \"&ListAVS!$B$157","v":" Objednávka"},null,null,null,null,null,"390 - 580","22L2500","22L2510"]
[null,{"$f":"ListAVS!$B$75&\" KH [mm]  \"","v":"Výška korpusu KH [mm]  "},null,null,null,null,null,null,{"$f":"IF($H11=0,\" \",IF($H11<300,\" min. 300mm\",IF($H11>580,\" max. 580 mm\",\" \")))&IF(H17>0,IF(H11=0,\"● \"&ListAVS!$B$128,\" \"),\" \")","v":"  "},null,null,null,null,null,null,"F35",{"$f":"IF(AND($H$11>=$Z$45, $H$11<=$AA$45, Q$15>=$AB$45, $Q$15<=$AC$45), 1, 0)","v":0},null,null,null,null,null,null,null,{"$f":"CenAVS!A38","v":"Sada zdvihačů HL top, na vruty"},{"$f":"CenAVS!B38","v":"22L2500"},{"$f":"CenAVS!C38","v":"ZN"},0,{"$f":"CenAVS!F38","v":1882.38},0,{"$f":"IF($W$45=1, $O$12*$M$15, 0)","v":0},{"$f":"$AC11*AE11","v":0},{"$f":"IF($W$45=1, $O$23*$M$26, 0)","v":0},{"$f":"$AC11*AG11","v":0}]
[null,{"$f":"ListAVS!$B$77&\" [kg] ** \"","v":"Hmotnost čela včetně úchytky [kg] ** "},null,null,null,null,null,null,{"$f":"IF($H17=0,\" \",IF(SUM($H12,$H15)=0,$N$37,\" \"))&IF(AND(SUM($O$10:$O$14)=1,$V16=\"ne\",H12>0),$N$41,IF(AND($H17>0,$H12>0,V$16=\"ano\"),$N$38,\" \"))","v":"  "},null,null,null,null,"L25",{"$f":"IF(AND($H$11>=$Z$49, $H$11<=$AA$50), 1, 0)","v":0},"F38",{"$f":"IF(AND($H$11>=$Z$49, $H$11<=$AA$49, Q$15>=$AB$49, $Q$15<=$AC$49), 1, 0)","v":0},{"$f":"IF(AND($Q$12=1, $Q$13=1, $H$11<=$AD$49), 1, IF(AND($Q12=1, $Q13=0), $Q12, 0))","v":0},null,null,null,null,null,null,{"$f":"CenAVS!A39","v":"Sada zdvihačů HL top, předmont. eurošrouby"},{"$f":"CenAVS!B39","v":"22L2510"},{"$f":"CenAVS!C39","v":"ZN"},0,{"$f":"CenAVS!F39","v":1882.38},0,{"$f":"IF($W$45=2, $O$12*$M$15, 0)","v":0},{"$f":"$AC12*AE12","v":0},{"$f":"IF($W$45=2, $O$23*$M$26, 0)","v":0},{"$f":"$AC12*AG12","v":0},null,null,null,null,null,null,null,null,{"$f":"ListAVS!$B$349&\" = \"&ListAVS!$B$351","v":"vruty = zdvihače s integrovanou šablonou (bez nutnosti rozměřování)"}]
[null,{"$f":"ListAVS!$B$292","v":"Výpočet hmotnosti"},null,{"$f":"ListAVS!$B$80&\" TS [mm] \"","v":"Síla čela TS [mm] "},null,null,null,null,{"$f":"IF(H17=0,\" \",IF(AND(H12=0, H13=0),\" ● \"&ListAVS!$B$128,\" \"))&IF(H17=0,\" \",IF(AND(H12=0, H13<8), \" min. 8 mm\", IF(AND(H12=0, H13>14), \" max. 14 mm\", \" \")))","v":"  "},null,null,null,null,null,null,"F39",{"$f":"IF(AND($H$11>=$Z$50, $H$11<=$AA$50, Q$15>=$AB$50, $Q$15<=$AC$50), 1, 0)","v":0},{"$f":"IF(AND($Q12=1,$Q13=1,$H11>$AD$49),1, IF(AND($Q12=0,$Q13=1),$Q13,0))","v":0},"tyč","mezistěny",null,null,null,null,null,null,null,null,null,null,null,null,null,null,null,null,null,null,null,null,null,null,{"$f":"ListAVS!$B$350&\" = \"&ListAVS!$B$352","v":"předmont. eurošrouby = zdvihače s předmotovanými šrouby (nutné předvrtání)"}]
[null,null,null,{"$f":"ListAVS!$B$83&\" [kg] \"","v":"Hmotnost úchytky [kg] "},null,null,null,null,{"$f":"IF(H17=0, \" \", IF(AND(H12=0, R14=1, H14=0), \" ● \"&ListAVS!$B$129,\" \"))","v":" "},null,null,null,null,null,null,null,null,2,{"$f":"IF($H$10>1360,2, IF($H$10<610,0.5,1))","v":0.5},{"$f":"H16","v":0},null,null,null,null,{"$f":"CenAVS!A40","v":"Sada ramen HL top (300–339 mm)"},{"$f":"CenAVS!B40","v":"22L3200"},{"$f":"CenAVS!C40","v":"NI"},0,{"$f":"CenAVS!F40","v":1233.67},0,{"$f":"$Q10*$M$15","v":0},{"$f":"$AC14*AE14","v":0},{"$f":"$Q21*$M$26","v":0},{"$f":"$AC14*AG14","v":0}]
[null,null,null,{"$f":"ListAVS!$B$79&\" [kg] \"","v":"Vypočtená hmotnost čela [kg] "},null,null,null,{"$f":"$T$79","v":0},{"$f":"IF(AND($H17>0,$H15>0,$H12=0,$M15>0), $N$38,\" \")&IF(AND(H17>0, H12=0, Z77=3, $J$4=0), $N$36, \" \")","v":"  "},null,null,null,{"$f":"IF($H10*$H11*$Q15=0, 0, IF(SUM(O10:O12)=0, 0, IF(SUM(Q10:Q13)=0, 0, IF($H10>1800, 0, IF($H10<220, 0, IF(AND($H12=0, $H13<8, H13>14), 0, $H17))))))","v":0},null,null,"hmot =",{"$f":"IF(H12>0,H12,H15)","v":0},{"$f":"IF(SUM(H12,H15)=0,0,IF(H12>0,1,2))","v":0},"zadaná / vypočtená",null,"limit v/š",{"$f":"IF(AND(219<H10,H10<1801,299<H11,H11<581),\"ano\",\"ne\")","v":"ne"},null,null,{"$f":"CenAVS!A41","v":"Sada ramen HL top (340–389 mm)"},{"$f":"CenAVS!B41","v":"22L3500"},{"$f":"CenAVS!C41","v":"NI"},0,{"$f":"CenAVS!F41","v":1259.26},0,{"$f":"$Q11*$M$15","v":0},{"$f":"$AC15*AE15","v":0},{"$f":"$Q22*$M$26","v":0},{"$f":"$AC15*AG15","v":0}]
[null,{"$f":"ListAVS!$B$29&\" * \"","v":"Počet mezistěn * "},null,null,null,null,null,null,null,null,null,null,null,null,null,null,null,null,null,null,"limit hmot",{"$f":"IF(AND($H$11>=$Z$44, $H$11<=$AA$44, $Q$15>=$AB$44, $Q$15<=$AC$44), \"ano\", IF(AND($H$11>=$Z$45, $H$11<=$AA$45, $Q$15>=$AB$45, $Q$15<=$AC$45), \"ano\", IF(AND($H$11>=$Z$49, $H$11<=$AA$49, $Q$15>=$AB$49, $Q$15<=$AC$49), \"ano\", IF(AND($H$11>=$Z$50, $H$11<=$AA$50, $Q$15>=$AB$50, $Q$15<=$AC$50), \"ano\", \"ne\"))))","v":"ne"},null,null,{"$f":"CenAVS!A42","v":"Sada ramen HL top (390–540 mm)"},{"$f":"CenAVS!B42","v":"22L3800"},{"$f":"CenAVS!C42","v":"NI"},0,{"$f":"CenAVS!F42","v":1297.67},0,{"$f":"$R12*$M$15","v":0},{"$f":"$AC16*AE16","v":0},{"$f":"$R23*$M$26","v":0},{"$f":"$AC16*AG16","v":0}]
[null,{"$f":"ListAVS!$B$71&\"  \"","v":"Počet skříněk  "},null,null,null,null,null,null,null,null,null,null,null,null,null,null,null,null,null,null,null,null,null,null,{"$f":"CenAVS!A43","v":"Sada ramen HL top (480–580 mm)"},{"$f":"CenAVS!B43","v":"22L3900"},{"$f":"CenAVS!C43","v":"NI"},0,{"$f":"CenAVS!F43","v":1438.5},0,{"$f":"$R13*$M$15","v":0},{"$f":"$AC17*AE17","v":0},{"$f":"$R24*$M$26","v":0},{"$f":"$AC17*AG17","v":0}]
[null,{"$f":"IF(H17>0,IF(OR(R15=0,M15=0), \" \",IF(R15=1,$N$50,$N$51)),\" \")&IF(H17>0,IF(OR(R15=0, M15=0), \" \",IF(R15=1,$N$52,$N$53)),\" \")","v":"  "},null,null,null,null,null,null,null,null,null,null,null,null,null,null,null,null,null,null,null,null,null,null,null,null,null,null,null,null,null,null,null,null,null,null,null,null,null,null,null,null,{"$f":"ListAVS!B386&\":\"","v":"Sada ramen:"}]
[null,{"$f":"IF(AND($Q$12=1, $Q$13=1, $R$12=1), ListAVS!$B$337&$Y$50&\". \"&ListAVS!$B$338, IF(AND($Q$12=1, $Q$13=1, $R$13=1), ListAVS!$B$337&$Y$49&\". \"&ListAVS!$B$338, \" \"))","v":" "},null,null,null,null,null,null,null,null,null,null,null,null,null,null,null,null,null,null,null,null,null,null,{"$f":"CenAVS!A44","v":"Tyč příčné stabizace HL top"},{"$f":"CenAVS!B44","v":"22Q1076U"},{"$f":"CenAVS!C44","v":"EV"},{"$f":"SUM(AE19,AG19)","v":0},{"$f":"CenAVS!F44","v":337.98},{"$f":"AB19*AC19","v":0},{"$f":"ROUNDUP($S$14*$M$15, 0)","v":0},{"$f":"$AC19*AE19","v":0},{"$f":"ROUNDUP($S$25*$M$26, 0)","v":0},{"$f":"$AC19*AG19","v":0},null,null,null,null,null,null,null,null,{"$f":"ListAVS!B75&\" KH (mm)\"","v":"Výška korpusu KH (mm)"},{"$f":"ListAVS!B76&\" FG (kg)\"","v":"Hmotnost čela FG (kg)"},{"$f":"ListAVS!$B$386","v":"Sada ramen"}]
[null,{"$f":"\"▼ \"&ListAVS!$B$317","v":"▼ Způsob otvírání"},null,{"$f":"IF($M$25>0, ListAVS!$B$37&\": \", \" \")","v":" "},{"$f":"IF(SUM($AG$9:$AG$10)>0, \"22\", IF(SUM($AG$11:$AG$12)>0,\"25\", \" \"))","v":" "},{"$f":"ListAVS!$B$64&\" B\"","v":"Korpus B"},null,null,null,null,null,null,null,null,null,null,null,"↓rozhodnutí",null,null,null,null,null,null,{"$f":"CenAVS!A45","v":"Sada spojovacích dílů příčné stabilizace HL top"},{"$f":"CenAVS!B45","v":"22Q080Z"},{"$f":"CenAVS!C45","v":"EV"},0,{"$f":"CenAVS!F45","v":307.76},0,{"$f":"IF($H$10>=1228, $M$15, IF($T$14>0, $T$14*$M$15, 0))","v":0},0,{"$f":"IF($H$21>=1228, $M$26, IF($T$25>0, $T$14*$M$26, 0))","v":0},0,null,null,null,null,null,null,null,null,"300 - 339","1.5 - 9.00","22L3200"]
[null,{"$f":"ListAVS!$B$74&\" KB [mm] \"","v":"Šířka korpusu KB [mm] "},null,null,null,null,null,null,{"$f":"IF($H21=0,\" \",IF($H21<220,\" min. 220mm\",IF($H21>1800,\" max. 1 800mm\",\" \")))&IF(AND(H28>0,H21=0),\"● \"&ListAVS!$B$128,\" \")","v":"  "},null,null,null,null,"L22",{"$f":"IF(AND($H$22>=$Z$44, $H$22<=$AA$45), 1, 0)","v":0},"F32",{"$f":"IF(AND($H$22>=$Z$44, $H$22<=$AA$44, Q$26>=$AB$44, $Q$26<=$AC$44), 1, 0)","v":0},null,null,null,null,null,null,null,null,null,null,null,null,null,null,0,null,0,null,null,null,null,null,null,null,null,"340 - 389","1.75 - 10.00","22L3500"]
[null,{"$f":"ListAVS!$B$75&\" KH [mm] \"","v":"Výška korpusu KH [mm] "},null,null,null,null,null,null,{"$f":"IF($H22=0,\" \",IF($H22<300,\" min. 300mm\",IF($H22>580,\" max. 580 mm\",\" \")))&IF(H28>0,IF(H22=0,\"● \"&ListAVS!$B$128,\" \"),\" \")","v":"  "},null,null,null,null,null,null,"F35",{"$f":"IF(AND($H$22>=$Z$45, $H$22<=$AA$45, Q$26>=$AB$45, $Q$26<=$AC$45), 1, 0)","v":0},null,null,null,null,null,null,null,{"$f":"CenAVS!A47","v":"Sada krytek HF, HS, HL top, světle šedá"},{"$f":"CenAVS!B47","v":"22.8000"},{"$f":"CenAVS!C47","v":"HGR"},0,{"$f":"CenAVS!F47","v":252.85},0,{"$f":"IF(AND($T$45=1, $R$14=1), SUM($AE$9:$AE$12), 0)","v":0},0,{"$f":"IF(AND($T$45=1, $R$25=1), SUM($AG$9:$AG$12), 0)","v":0},0,null,null,null,null,null,null,null,null,"390 - 540","2.00 - 12.25","22L3800"]
[null,{"$f":"ListAVS!$B$77&\" [kg] ** \"","v":"Hmotnost čela včetně úchytky [kg] ** "},null,null,null,null,null,null,{"$f":"IF($H28=0,\" \",IF(SUM($H23,$H26)=0,$N$37,\" \"))&IF(AND(SUM($O$21:$O$25)=1,$V27=\"ne\",H23>0),$N$41,IF(AND($H28>0,$H23>0,V$27=\"ano\"),$N$38,\" \"))","v":"  "},null,null,null,null,"L25",{"$f":"IF(AND($H$22>=$Z$49, $H$22<=$AA$50), 1, 0)","v":0},"F38",{"$f":"IF(AND($H$22>=$Z$49, $H$22<=$AA$49, Q$26>=$AB$49, $Q$26<=$AC$49), 1, 0)","v":0},{"$f":"IF(AND($Q$23=1, $Q$24=1, $H$11<=$AD$49), 1, IF(AND($Q23=1, $Q24=0), $Q23, 0))","v":0},null,null,null,null,null,null,{"$f":"CenAVS!A48","v":"Sada krytek HF, HS, HL top, tmavě šedá"},{"$f":"CenAVS!B48","v":"22.8000"},{"$f":"CenAVS!C48","v":"TGR"},0,{"$f":"CenAVS!F48","v":275.94},0,{"$f":"IF(AND($T$45=2, $R$14=1), SUM($AE$9:$AE$12), 0)","v":0},0,{"$f":"IF(AND($T$45=2, $R$25=1), SUM($AG$9:$AG$12), 0)","v":0},0,null,null,null,null,null,null,null,null,"480 - 580","2.5 - 14.00","22L3900"]
[null,{"$f":"ListAVS!$B$292","v":"Výpočet hmotnosti"},null,{"$f":"ListAVS!$B$80&\" TS [mm] \"","v":"Síla čela TS [mm] "},null,null,null,null,{"$f":"IF(H28=0,\" \",IF(AND(H23=0, H24=0),\" ● \"&ListAVS!$B$128,\" \"))&IF(H28=0,\" \",IF(AND(H23=0, H24<8), \" min. 8 mm\", IF(AND(H23=0, H24>14), \" max. 14 mm\", \" \")))","v":"  "},null,null,null,null,null,null,"F39",{"$f":"IF(AND($H$22>=$Z$50, $H$22<=$AA$50, Q$26>=$AB$50, $Q$26<=$AC$50), 1, 0)","v":0},1,"tyč","mezistěny",null,null,null,null,{"$f":"CenAVS!A49","v":"Sada krytek HF, HS, HL top, hedvábně bílá"},{"$f":"CenAVS!B49","v":"22.8000"},{"$f":"CenAVS!C49","v":"SW"},0,{"$f":"CenAVS!F49","v":275.94},0,{"$f":"IF(AND($T$45=3, $R$14=1), SUM($AE$9:$AE$12), 0)","v":0},0,{"$f":"IF(AND($T$45=3, $R$25=1), SUM($AG$9:$AG$12), 0)","v":0},0]
[null,null,null,{"$f":"ListAVS!$B$83&\" [kg] \"","v":"Hmotnost úchytky [kg] "},null,null,null,null,{"$f":"IF(H28=0, \" \", IF(AND(H23=0, R25=1, H25=0), \" ● \"&ListAVS!$B$129,\" \"))","v":" "},null,null,null,null,null,null,null,null,1,{"$f":"IF($H$21>1360,2, IF($H$10<610,0.5,1))","v":0.5},{"$f":"H27","v":0},null,null,null,null,{"$f":"CenAVS!A50","v":"Sada krytek pro SERVO-DRIVE, světle šedá"},{"$f":"CenAVS!B50","v":"23.8000"},{"$f":"CenAVS!C50","v":"HGR"},0,{"$f":"CenAVS!F50","v":2606.7600000000002},0,{"$f":"IF(AND($T$45=1, $R$14=2), SUM($AE$9:$AE$12), 0)","v":0},0,{"$f":"IF(AND($T$45=1, $R$25=2), SUM($AG$9:$AG$12), 0)","v":0},0]
[null,null,null,{"$f":"ListAVS!$B$79&\" [kg] \"","v":"Vypočtená hmotnost čela [kg] "},null,null,null,{"$f":"$T$90","v":0},{"$f":"IF(AND($H28>0,$H26>0,$H23=0,$M26>0), $N$38,\" \")&IF(AND(H28>0, H23=0, Z88=3, $J$4=0), $N$36, \" \")","v":"  "},null,null,null,{"$f":"IF($H21*$H22*$Q26=0, 0, IF(SUM(O21:O23)=0, 0, IF(SUM(Q21:Q24)=0, 0, IF($H21>1800, 0, IF($H21<220, 0, IF(AND($H23=0, $H24<8, H24>14), 0, $H28))))))","v":0},null,null,"hmot =",{"$f":"IF(H23>0,H23,H26)","v":0},{"$f":"IF(SUM(H23,H26)=0,0,IF(H23>0,1,2))","v":0},"zadaná / vypočtená",null,"limit v/š",{"$f":"IF(AND(219<H21,H21<1801,299<H22,H22<581),\"ano\",\"ne\")","v":"ne"},null,null,{"$f":"CenAVS!A51","v":"Sada krytek pro SERVO-DRIVE, tmavě šedá"},{"$f":"CenAVS!B51","v":"23.8000"},{"$f":"CenAVS!C51","v":"TGR"},0,{"$f":"CenAVS!F51","v":2709.29},0,{"$f":"IF(AND($T$45=2, $R$14=2), SUM($AE$9:$AE$12), 0)","v":0},0,{"$f":"IF(AND($T$45=2, $R$25=2), SUM($AG$9:$AG$12), 0)","v":0},0]
[null,{"$f":"ListAVS!$B$29&\" * \"","v":"Počet mezistěn * "},null,null,null,null,null,null,null,null,null,null,null,null,null,null,null,null,null,null,"limit hmot",{"$f":"IF(AND($H$22>=$Z$44, $H$22<=$AA$44, $Q$26>=$AB$44, $Q$26<=$AC$44), \"ano\", IF(AND($H$22>=$Z$45, $H$22<=$AA$45, $Q$26>=$AB$45, $Q$26<=$AC$45), \"ano\", IF(AND($H$22>=$Z$49, $H$22<=$AA$49, $Q$26>=$AB$49, $Q$26<=$AC$49), \"ano\", IF(AND($H$22>=$Z$50, $H$22<=$AA$50, $Q$26>=$AB$50, $Q$26<=$AC$50), \"ano\", \"ne\"))))","v":"ne"},null,null,{"$f":"CenAVS!A52","v":"Sada krytek pro SERVO-DRIVE,hedvábně bílá"},{"$f":"CenAVS!B52","v":"23.8000"},{"$f":"CenAVS!C52","v":"SW"},0,{"$f":"CenAVS!F52","v":2709.29},0,{"$f":"IF(AND($T$45=3, $R$14=2), SUM($AE$9:$AE$12), 0)","v":0},0,{"$f":"IF(AND($T$45=3, $R$25=2), SUM($AG$9:$AG$12), 0)","v":0},0]
[null,{"$f":"ListAVS!$B$71&\"  \"","v":"Počet skříněk  "},null,null,null,null,null,null,null,null,null,null,null,null,{"$f":"IF($P$28=FALSE,2,1)","v":2},false,null," - Zdroj"]
[null,{"$f":"IF(H28>0,IF(OR(R25=0,M25=0), \" \",IF(R25=1,$N$50,$N$51)),\" \")&IF(H28>0,IF(OR(R25=0, M25=0), \" \",IF(R25=1,$N$52,$N$53)),\" \")","v":"  "}]
[null,{"$f":"IF(AND($Q$23=1, $Q$24=1, $R$23=1), ListAVS!$B$337&$Y$50&\". \"&ListAVS!$B$338, IF(AND($Q$23=1, $Q$24=1, $R$24=1), ListAVS!$B$337&$Y$49&\". \"&ListAVS!$B$338, \" \"))","v":" "}]
[null,{"$f":"IF(OR(AND($R$14=2, $M$15>0), AND($R$24=2, $M$25>0)), ListAVS!$B$175, \" \")","v":" "}]
[null,null,null,null,null,null,null,null,null,null,null,null,null,null,null,null,null,null,null,null,null,null,null,null,{"$f":"CenAVS!A78","v":"Sada čel.kování pro dřev. čela"},{"$f":"CenAVS!B78","v":"20S4200"},{"$f":"CenAVS!C78","v":"NI"},{"$f":"SUM(AE32,AG32)","v":0},{"$f":"CenAVS!F78","v":90.38},{"$f":"AB32*AC32","v":0},null,{"$f":"$AC32*AE32","v":0},null,{"$f":"$AC32*AG32","v":0}]
[null,null,null,null,null,null,null,null,null,null,null,null,null,null,null,null,null,null,null,null,null,null,null,null,{"$f":"CenAVS!A79","v":"Čelní.kování pro dřev. čela EXPANDO"},{"$f":"CenAVS!B79","v":"20S42E1"},{"$f":"CenAVS!C79","v":"NI"},{"$f":"SUM(AE33,AG33)","v":0},{"$f":"CenAVS!F79","v":51.36},{"$f":"AB33*AC33","v":0},null,{"$f":"$AC33*AE33","v":0},null,{"$f":"$AC33*AG33","v":0}]
[null,null,null,null,null,null,null,null,null,null,null,null,null,null,null,null,null,null,null,null,null,null,null,null,{"$f":"CenAVS!A80","v":"Sada čel.kování pro tenké materiály"},{"$f":"CenAVS!B80","v":"20S42T1"},{"$f":"CenAVS!C80","v":"NI"},{"$f":"SUM(AE34,AG34)","v":0},{"$f":"CenAVS!F80","v":291.60000000000002},{"$f":"AB34*AC34","v":0},{"$f":"SUM(AE$9:AE$12)","v":0},{"$f":"$AC34*AE34","v":0},{"$f":"SUM(AG$9:AG$12)","v":0},{"$f":"$AC34*AG34","v":0}]
[null,null,null,null,null,null,null,null,null,null,null,null,null,{"$f":"ListAVS!B176","v":"Cena bez napájecího zdroje!"},null,null,null,null,null,null,null,null,null,null,{"$f":"CenAVS!A81","v":"Sada čel.kování pro úzké alurámečky"},{"$f":"CenAVS!B81","v":"20S4200A"},{"$f":"CenAVS!C81","v":"NI"},{"$f":"SUM(AE35,AG35)","v":0},{"$f":"CenAVS!F81","v":395.5},{"$f":"AB35*AC35","v":0},null,{"$f":"$AC35*AE35","v":0},null,{"$f":"$AC35*AG35","v":0}]
[null,null,null,null,null,null,null,null,null,null,null,null,null,{"$f":"\" \"&ListAVS!$B$117","v":" Vyplňte nahoře objemovou hmotnost "}]
[null," *",{"$f":"ListAVS!$B$233","v":"Zadejte počet mezistěn v korpusu "},null,null,null,null,null,null,null,null,null,null,{"$f":"\" \"&ListAVS!$B$115","v":" Zadejte hmotnost nebo vyplňte všechny buňky"},null,null,null,null,null,null,null,null,null,null,{"$f":"CenAVS!A171","v":"SERVO-DRIVE jednotka (sada)"},{"$f":"CenAVS!B171","v":"23.A000"},{"$f":"CenAVS!C171","v":"R7037"},{"$f":"SUM(AE37,AG37)","v":0},{"$f":"CenAVS!F171","v":8297.32},{"$f":"AB37*AC37","v":0},{"$f":"IF($R$14=2, $M$15, 0)","v":0},{"$f":"$AC37*AE37","v":0},{"$f":"IF($R$25=2, $M$26, 0)","v":0},{"$f":"$AC37*AG37","v":0}]
[null," **",{"$f":"ListAVS!$B$186","v":"Pokud znáte hmotnost a nechcete využít výpočtu hmotnosti"},null,null,null,null,null,null,null,null,null,null,{"$f":"\"◄ \"&ListAVS!$B$112","v":"◄ hodnota bude použita pro výběr zdvihače"},null,null,null,null,null,null,null,null,null,null,null,null,null,null,null,null,null,{"$f":"$AC38*AE38","v":0},null,{"$f":"$AC38*AG38","v":0}]
[null,"***",{"$f":"ListAVS!$B$25","v":"materiály tloušťky od 8 do 14 mm"},null,null,null,null,null,null,null,null,null,null,{"$f":"\" * \"&ListAVS!$B$127","v":" * Doplňte hodnoty"}]
[null,null,null,null,null,null,null,null,null,null,null,null,null,null,null,null,null,null,null,null,null,null,null,null,null,null,null,null,{"$f":"ListAVS!$B$61&\" \"","v":"Cena celkem bez DPH "},{"$f":"SUM(AD9:AD38)","v":0},null,{"$f":"SUM(AF9:AF38)","v":0},null,{"$f":"SUM(AH9:AH38)","v":0}]
[null,{"$f":"ListAVS!$B$420","v":"Mějte prosím na paměti, že použitelných materiálů je celá řada. Vzhledem k různé objemové hmotnosti nelze zaručit, že všechny materiály budou použitelné pro každou velikost skříňky. Obzvláště u lehčích materiálů nemusí hmotnost čela dosáhnout minimální hodnoty pro daný rozměr. Pokud se po správném zadání všech parametrů nezobrazí v Soupisu kování žádné hodnoty, je pravděpodobné, že váha čela je pod minimální hodnotou. V tom případě nelze výklop realizovat."},null,null,null,null,null,null,null,null,null,null,null,{"$f":"\" \"&ListAVS!$B$124&\"!\"","v":" Hmotnost mimo povolený rozsah!"},null,null,null,null,null,null,null,null,null,null,{"$f":"Param!M30","v":"Parametry HL"}]
[null,null,null,null,null,null,null,null,null,null,null,null,null,{"$f":"\" max. 9 000! \"&ListAVS!$B$121","v":" max. 9 000! Upravte hmotnost nebo výšku"},null,null,null,null,null,null,null,null,null,null,null,null,{"$f":"Param!O31","v":"22L2200"}]
[null,null,null,null,null,null,null,null,null,null,null,null,null,{"$f":"\" \"&ListAVS!$B$234","v":" Nutná mezistěna"},null,null,null,null,null,null,null,null,null,null,null,{"$f":"Param!N32","v":"min KH"},{"$f":"Param!O32","v":"max KH"},{"$f":"Param!P32","v":"min FG"},{"$f":"Param!Q32","v":"max FG"}]
[null,null,null,null,null,null,null,null,null,null,null,null,null,null,null,null,null,null,null,null,null,null,null,null,{"$f":"Param!M33","v":"22L3200"},{"$f":"Param!N33","v":300},{"$f":"Param!O33","v":339},{"$f":"Param!P33","v":1.5},{"$f":"Param!Q33","v":9}]
[null,null,null,null,null,null,null,null,null,null,null,null,null,null,null,null,null,null,null,{"$f":"MenuAVS!$U$28","v":1},null,null,{"$f":"HL!P26","v":1},null,{"$f":"Param!M34","v":"22L3500"},{"$f":"Param!N34","v":340},{"$f":"Param!O34","v":389},{"$f":"Param!P34","v":1.75},{"$f":"Param!Q34","v":10}]
[null,null,null,null,null,null,null,null,null,null,null,null,null,null,null,null,"Provedení:",null,null,"kryt.",null,null,{"$f":"HL!P27","v":"mont."}]
[null,null,null,null,null,null,null,null,null,null,null,null,null,null,null,null,"Standard",null,null,{"$f":"ListAVS!$B$145","v":"Světle šedá (HGR)"},null,null,{"$f":"HL!P28","v":"vruty"},null,null,null,{"$f":"Param!O36","v":"22L2500"}]
[null,null,null,null,null,null,null,null,null,null,null,null,null,null,null,null,"SERVO-DRIVE",null,null,{"$f":"ListAVS!$B$146","v":"Tmavě šedá (TGR)"},null,null,{"$f":"HL!P29","v":"předmont. eurošrouby"},null,{"$f":"Param!M37","v":0},{"$f":"Param!N37","v":"min KH"},{"$f":"Param!O37","v":"max KH"},{"$f":"Param!P37","v":"min FG"},{"$f":"Param!Q37","v":"max FG"},{"$f":"Param!R37","v":"hranice"}]
[null,null,null,null,null,null,null,null,null,null,null,null,null,null,null,null,null,null,null,{"$f":"ListAVS!$B$147","v":"Hedvábně bílá (SW)"},null,null,null,null,{"$f":"Param!M38","v":"22L3800"},{"$f":"Param!N38","v":390},{"$f":"Param!O38","v":540},{"$f":"Param!P38","v":2},{"$f":"Param!Q38","v":12.25},{"$f":"Param!R38","v":500}]
[null,null,null,null,null,null,null,null,null,null,null,null,null,{"$f":"ListAVS!B187&\". \"","v":"Pro určení typu zdvihače bude použita zadaná hmotnost. "},null,null,null,null,null,null,null,null,null,null,{"$f":"Param!M39","v":"22L3900"},{"$f":"Param!N39","v":480},{"$f":"Param!O39","v":580},{"$f":"Param!P39","v":1.5},{"$f":"Param!Q39","v":14}]
[null,{"$f":"\" \"&ListAVS!$B$394","v":" Odstup čela od korpusu"},null,null,null,null,null,null,null,null,null,null,null,{"$f":"ListAVS!B188&\". \"","v":"Pro určení typu zdvihače bude použita vypočtená hmotnost. "}]
[null,"KH [mm]",null,{"$f":"ListAVS!$B$386","v":"Sada ramen"},null,"a [mm]","b [mm]","c [mm]","y [mm]",null,null,null,null,{"$f":"ListAVS!B189","v":"Chcete-li použít vypočtenou hmotnost, smažte zadanou hodnotu"}]
[null,"300 - 339",null,"22L3200",null,112,272.5,155.5,272.5,null,null,null,null,{"$f":"ListAVS!B190","v":"Chcete-li použít zadanou hmotnost, zadejte ji do políčka"}]
[null,"340 - 389",null,"22L3500",null,140.5,340,195,340]
[null,"390 - 540",null,"22L3800",null,176,425,245,425,null,null,null,null,{"$f":"\" \"&ListAVS!$B$108","v":" v kombinaci se SERVO-DRIVE"}]
[null,"480 - 580",null,"22L3900",null,214.5,517,297.5,517,null,null,null,null,{"$f":"\" \"&ListAVS!$B$109","v":" nelze v kombinaci se SERVO-DRIVE"}]
[]
[]
[]
[]
[]
[]
[]
[]
[]
[null,null,null,null,null,null,null,null,null,null,null,null,null,null,null,null,null,null,null,null,null,null,null,null,{"$f":"\" \"&ListAVS!$B$410","v":" Změnit hodnoty můžete v Úvodu plánování"}]
[null,null,null,null,null,null,null,null,null,null,null,null,null,null,null,null,null,null,null,null,null,null,null,null,{"$f":"\" \"&ListAVS!$B$244&\" [kg/m3]\"","v":" Zadejte objemovou hmotnost  [kg/m3]"}]
[null,null,null,null,null,null,null,null,null,null,null,null,null,{"$f":"ListAVS!$B$73","v":"Výpočet hmotnosti čel"},null,null,null,null,null,null,null,null,null,null,{"$f":"\" \"&ListAVS!$B$240&\" '\"&ListAVS!$B$92&\"'\"","v":" Hodnota platí jen pro volbu 'Jiné - volitelná hustota'"}]
[null,null,null,null,null,null,null,null,null,null,null,null,null,null,null,{"$f":"ListAVS!$B$26&\"           \"","v":"Materiál            "},null,null,null,{"$f":"J4","v":0},{"$f":"IF(Z72=3,IF(T69=0,Y67,\" \"),IF(T69>0,Y68,\" \"))","v":" "}]
[null,null,null,null,null,null,null,null,null,null,null,null,null,null,null,{"$f":"IF($Z$72<>3,$Y$66,\" \")&\"      \"","v":" Změnit hodnoty můžete v Úvodu plánování      "},null,null,null,null,null,null,null,null,null,null,{"$f":"IF(OR(T77<8, T77>14), 0, 1)","v":0}]
[null,null,null,null,null,null,null,null,null,null,null,null,null,null,null,null,null,null,null,null,null,null,null,null,{"$f":"IF(AA$70=1, T75*T76*T77/1000000000, 0)","v":0},3,"↑Síla čela 1=ok, 0=fail"]
[null,null,null,null,null,null,null,null,null,null,null,null,null,null,null,null,null,null,null,null,null,null,null,null,{"$f":"MenuAVS!$C31","v":760},{"$f":"ListAVS!$B$90&\" (\"&Y72&\" kg/m3)\"","v":"MDF (760 kg/m3)"}]
[null,null,null,null,null,null,null,null,null,null,null,null,null,null,null,null,null,null,null,null,null,null,null,null,{"$f":"MenuAVS!$C32","v":680},{"$f":"ListAVS!$B$91&\" (\"&Y73&\" kg/m3)\"","v":"Dřevotříska (680 kg/m3)"}]
[null,null,null,null,null,null,null,null,null,null,null,null,null,null,null,null,null,{"$f":"D9","v":" "},null,null,null,null,null,null,{"$f":"MenuAVS!$F31","v":1350},{"$f":"ListAVS!$B$96&\" (\"&Y74&\" kg/m3)\"","v":"Kompakt (1350 kg/m3)"}]
[null,null,null,null,null,null,null,null,null,null,null,null,null,{"$f":"ListAVS!$B$74&\" KB [mm]       \"","v":"Šířka korpusu KB [mm]       "},null,null,null,null,null,{"$f":"H10","v":0},null,null,null,null,{"$f":"MenuAVS!$F32","v":1700},{"$f":"ListAVS!$B$97&\" (\"&Y75&\" kg/m3)\"","v":"Kompozit (1700 kg/m3)"}]
[null,null,null,null,null,null,null,null,null,null,null,null,null,{"$f":"ListAVS!$B$75&\" KH [mm]       \"","v":"Výška korpusu KH [mm]       "},null,null,null,null,null,{"$f":"H11","v":0},null,null,null,null,{"$f":"MenuAVS!$F33","v":2600},{"$f":"ListAVS!$B$98&\" (\"&Y76&\" kg/m3)\"","v":"Kámen (2600 kg/m3)"}]
[null,null,null,null,null,null,null,null,null,null,null,null,null,{"$f":"ListAVS!$B$80&\" TS [mm] \"","v":"Síla čela TS [mm] "},null,null,null,null,null,{"$f":"H13","v":0},{"$f":"IF(SUM(T75,T76)=0,\" \",IF(T77=0,\" ● \"&ListAVS!$B$128, IF(T77<8,\" min 8 mm!\",IF(T77>14,\" max. 14 mm!\",\" \"))))","v":" "},null,null,null,{"$f":"MenuAVS!$I31","v":2400},{"$f":"ListAVS!$B$99&\" (\"&Y77&\" kg/m3)\"","v":"Keramika (2400 kg/m3)"}]
[null,null,null,null,null,null,null,null,null,null,null,null,null,{"$f":"ListAVS!$B$83&\" [kg] \"","v":"Hmotnost úchytky [kg] "},null,null,null,null,null,{"$f":"H14","v":0},{"$f":"IF(SUM(T75,T76)=0,\" \",IF(T78=0,\" ● \"&ListAVS!$B$129,\" \"))","v":" "},null,null,null,{"$f":"MenuAVS!$I32","v":2300},{"$f":"ListAVS!$B$100&\" (\"&Y78&\" kg/m3)\"","v":"Beton (2300 kg/m3)"}]
[null,null,null,null,null,null,null,null,null,null,null,null,null,{"$f":"ListAVS!$B$79&\" [kg] \"","v":"Vypočtená hmotnost čela [kg] "},null,null,null,null,null,{"$f":"IF(X79=0,0,X79+T78)","v":0},null,null,null,{"$f":"IF(T75*T76*T77=0,0,IF(Z71=1,Y71*Y72,IF(Z71=2,Y71*Y73, IF(Z71=3,Y71*Y74, IF(Z71=4, Y71*Y75, IF(Z71=5, Y71*Y76, IF(Z71=6, Y71*Y77, IF(Z71=7, Y71*Y78, Y71*Y79))))))))","v":0},{"$f":"$T$69","v":0},{"$f":"ListAVS!$B$92","v":"Jiné - volitelná hustota"}]
[null,null,null,null,null,null,null,null,null,null,null,null,null,null,{"$f":"IF(T79>0,IF(T78=0,$Z$95,\" \"),\" \")","v":" "}]
[null,null,null,null,null,null,null,null,null,null,null,null,null,null,null,null,null,null,null,null,null,null,null,null,null,null,{"$f":"IF(OR(T88<8, T88>14), 0, 1)","v":0}]
[null,null,null,null,null,null,null,null,null,null,null,null,null,null,null,null,null,null,null,null,null,null,null,null,{"$f":"IF(AA$81=1, T86*T87*T88/1000000000, 0)","v":0},{"$f":"Z71","v":3},"↑Síla čela 1=ok, 0=fail"]
[null,null,null,null,null,null,null,null,null,null,null,null,null,null,null,null,null,null,null,null,null,null,null,null,{"$f":"$Y$72","v":760},{"$f":"$Z$72","v":"MDF (760 kg/m3)"}]
[null,null,null,null,null,null,null,null,null,null,null,null,null,null,null,null,null,null,null,null,null,null,null,null,{"$f":"$Y$73","v":680},{"$f":"$Z$73","v":"Dřevotříska (680 kg/m3)"}]
[null,null,null,null,null,null,null,null,null,null,null,null,null,null,null,null,null,{"$f":"D20","v":" "},null,null,null,null,null,null,{"$f":"$Y$74","v":1350},{"$f":"$Z$74","v":"Kompakt (1350 kg/m3)"}]
[null,null,null,null,null,null,null,null,null,null,null,null,null,{"$f":"ListAVS!$B$74&\" KB [mm]       \"","v":"Šířka korpusu KB [mm]       "},null,null,null,null,null,{"$f":"H21","v":0},null,null,null,null,{"$f":"$Y$75","v":1700},{"$f":"$Z$75","v":"Kompozit (1700 kg/m3)"}]
[null,null,null,null,null,null,null,null,null,null,null,null,null,{"$f":"ListAVS!$B$75&\" KH [mm]       \"","v":"Výška korpusu KH [mm]       "},null,null,null,null,null,{"$f":"H22","v":0},null,null,null,null,{"$f":"$Y$76","v":2600},{"$f":"$Z$76","v":"Kámen (2600 kg/m3)"}]
[null,null,null,null,null,null,null,null,null,null,null,null,null,{"$f":"ListAVS!$B$80&\" TS [mm] \"","v":"Síla čela TS [mm] "},null,null,null,null,null,{"$f":"H24","v":0},{"$f":"IF(SUM(T86,T87)=0,\" \",IF(T88=0,\" ● \"&ListAVS!$B$128, IF(T88<8,\" min 8 mm!\",IF(T88>14,\" max. 14 mm!\",\" \"))))","v":" "},null,null,null,{"$f":"$Y$77","v":2400},{"$f":"$Z$77","v":"Keramika (2400 kg/m3)"}]
[null,null,null,null,null,null,null,null,null,null,null,null,null,{"$f":"ListAVS!$B$83&\" [kg] \"","v":"Hmotnost úchytky [kg] "},null,null,null,null,null,{"$f":"H25","v":0},{"$f":"IF(SUM(T86,T87)=0,\" \",IF(T89=0,\" ● \"&ListAVS!$B$129,\" \"))","v":" "},null,null,null,{"$f":"$Y$78","v":2300},{"$f":"$Z$78","v":"Beton (2300 kg/m3)"}]
[null,null,null,null,null,null,null,null,null,null,null,null,null,{"$f":"ListAVS!$B$79&\" [kg] \"","v":"Vypočtená hmotnost čela [kg] "},null,null,null,null,null,{"$f":"IF(X90=0,0,X90+T89)","v":0},null,null,null,{"$f":"IF(T86*T87*T88=0,0,IF(Z82=1,Y82*Y83,IF(Z82=2,Y82*Y84, IF(Z82=3,Y82*Y85, IF(Z82=4, Y82*Y86, IF(Z82=5, Y82*Y87, IF(Z82=6, Y82*Y88, IF(Z82=7, Y82*Y89, Y82*Y90))))))))","v":0},{"$f":"$Y$79","v":0},{"$f":"$Z$79","v":"Jiné - volitelná hustota"}]
[null,null,null,null,null,null,null,null,null,null,null,null,null,null,{"$f":"IF(T90>0,IF(T89=0,$Z$95,\" \"),\" \")","v":" "}]
[]
[]
[]
[null,null,null,null,null,null,null,null,null,null,null,null,null,null,null,null,null,null,null,null,null,null,null,null,null,{"$f":"ListAVS!$B$102&\"!\"","v":"Není započtena hmotnost úchytky!"}]
[]
[]
[]
[]
[null,"      AVENTOS HL"]
[]
[null,{"$f":"ListAVS!$B$332","v":"Pro výběr správného zdvihače potřebujete znát výšku korpusu a hmotnost čela."}]
[]
[null,{"$f":"ListAVS!$B$311","v":"Pokud znáte hmotnost čela, můžete ji zadat, jinak použijte \"Výpočet hmotnosti\"."}]
[null,{"$f":"ListAVS!$B$312","v":"V tabulce má přednost zadaná hodnota. Chcete-li použít vypočtenou hmotnost, smažte zadanou hodnotu."}]
[]
[]
[null,{"$f":"ListAVS!$B$305","v":"Chcete-li změnit barvu krytek, přejděte na \"Úvod plánování\""}]
[]
[]
[]
[null,null,null,null,null,null,null,null,null,null,null,{"$f":"ListAVS!$B$167","v":"Zpět"}]

{"sheet":"HKw","index":24,"n_rows":121,"n_cols":45,"rows_kept":121,"cut":false,"hidden":false,"merged":[[11,1,11,6],[1,1,1,3],[8,17,8,18],[8,21,8,22],[0,42,0,50],[8,5,8,7],[4,5,4,9],[3,10,4,11],[6,1,6,2],[6,6,6,7],[9,1,9,6],[9,21,9,22],[10,1,10,6],[8,1,8,2],[19,42,20,46],[19,17,19,18],[19,21,19,22],[20,1,20,6],[20,21,20,22],[19,1,19,2],[19,5,19,7],[15,1,15,2],[15,3,15,6],[16,1,16,6],[17,42,18,46],[12,1,14,2],[12,3,12,6],[13,3,13,6],[14,3,14,6],[21,1,21,6],[22,1,22,6],[26,1,26,2],[26,3,26,6],[77,13,77,18],[70,15,70,19],[74,17,74,19],[30,1,32,9],[29,19,29,20],[36,2,39,10],[25,3,25,6],[23,1,25,2],[23,3,23,6],[24,3,24,6],[27,1,27,6],[98,0,139,0],[105,4,105,11],[89,13,89,18],[90,13,90,18],[95,18,95,19],[88,13,88,18],[75,13,75,18],[76,13,76,18],[87,13,87,18],[78,13,78,18],[79,13,79,18],[85,17,85,19],[86,13,86,18]]}
[]
[null,"AVENTOS HK top",null,null,null,null,null,null,null,null,null,null,null,null,null,null,null,null,3,null,null,null,null,null,null,null,null,null,null,null,null,null,null,null,null,null,null,null,null,{"$f":"ListAVS!$B$152","v":"Jdi na"}]
[]
[null,{"$f":"ListAVS!$B$17","v":"Dřevěné čelo"},null,null,null,{"$f":"ListAVS!$B$179&\"  \"","v":"Provedení čel  "},null,null,null,null,{"$f":"IF($Z$77=3,IF(J4=0,$Y$72,\" \"),IF(J4>0,$Y$73,\" \"))","v":" "},null,null,null,null,null,null,null,{"$f":"\" \"&ListAVS!$B$41&\" A \"","v":" Cena za korpus A "},null,null,null,null,null,null,null,null,null,null,null,null,null,null,null,null,null,null,null,null," Úvod plánování"]
[null,null,null,null,null,{"$f":"IF($Z$77<>3,$Y$71,\" \")&\"      \"","v":" Změnit hodnoty můžete v Úvodu plánování      "},null,null,null,null,null,null,null,null,null,null,null,null,{"$f":"\" \"&ListAVS!$B$41&\" B \"","v":" Cena za korpus B "},null,null,null,null,null,null,null,null,null,null,null,null,null,null,null,null,null,null,null,null,{"$f":"\" \"&ListAVS!$B$154","v":" Nápověda"}]
[null,null,null,null,null,null,null,null,null,null,null,null,null,null,null,null,null,null,{"$f":"\" \"&ListAVS!$B$61","v":" Cena celkem bez DPH"}]
[null,{"$f":"ListAVS!$B$51&\":   \"","v":"Cena kování:   "},null,null,null,null,{"$f":"IF(S2=1,$AF$48,IF($S$2=2,$AH$48,IF($S$2=3,$AD$48,0)))","v":0},null,null,null,null,null,null,null,null,null,null,null,null,null,null,null,null,null,{"$f":"$B$2","v":"AVENTOS HK top"},{"$f":"B5","v":0},null,null,null,null,null,null,null,null,null,null,null,null,null,{"$f":"\" \"&ListAVS!$B$159","v":" Doplňky"}]
[null,null,null,null,null,null,null,{"$f":"IF(AND(OR($U$16=2, $U$27=2), $AD$48>0), $N$34, \" \")","v":" "},null,null,null,null,null,null,null,null,null,null,null,null,null,null,null,null,{"$f":"ListAVS!B52","v":"Název"},{"$f":"ListAVS!$B$53","v":"Číslo artiklu"},{"$f":"ListAVS!B54","v":"Barva"},{"$f":"ListAVS!B56","v":"Ks"},{"$f":"ListAVS!B58","v":"Jednotková cena"},{"$f":"ListAVS!B59","v":"Celkem"},"A","Cena","B","Cena",null,null,null,null,null,null,null,null,{"$f":"\"  \"&ListAVS!$B$86&\" LF \"","v":"  Ukazatel výkonnosti LF "},{"$f":"ListAVS!$B$84&\" \"&ListAVS!$B$349","v":"Zdvihací mechanizmus vruty"},{"$f":"ListAVS!$B$84&\" \"&ListAVS!$B$350","v":"Zdvihací mechanizmus předmont. eurošrouby"}]
[null,{"$f":"\"▼ \"&ListAVS!$B$317","v":"▼ Způsob otvírání"},null,{"$f":"IF($M$17>0, ListAVS!$B$37&\": \", \" \")","v":" "},{"$f":"IF(OR($AE$9>0, $AE$13>0), \"23\", IF(OR($AE$10>0, $AE$14>0), \"25\", IF(OR($AE$11>0, $AE$15>0), \"27\", IF(OR($AE$12>0, $AE$16>0), \"29\", IF(OR($AE$24>0, $AE$28>0), \"23T\", IF(OR($AE$25>0, $AE$29>0), \"25T\", IF(OR($AE$26>0, $AE$30>0), \"27T\", IF(OR($AE$27>0, $AE$31>0), \"29T\", \" \"))))))))","v":" "},{"$f":"ListAVS!$B$64&\" A\"","v":"Korpus A"},null,null,null,null,null,null,null,null,null,null,null,"dva zdvihače",null,2000,{"$f":"T9-1","v":1999},"tři zdvihače",null,null,{"$f":"CenAVS!A54","v":"Sada zdvihačů HK top, na vruty"},{"$f":"CenAVS!B54","v":"22K2300"},{"$f":"CenAVS!C54","v":"ZN"},{"$f":"SUM(AE9,AG9)","v":0},{"$f":"CenAVS!F54","v":1468.44},{"$f":"AB9*AC9","v":0},{"$f":"IF(AND($U$16<>3,$N$44=1),ROUNDUP(SUM(O11:P11)*$M$17,0),0)","v":0},{"$f":"$AC9*AE9","v":0},{"$f":"IF(AND($U$27<>3,$N$44=1),ROUNDUP(SUM(O22:P22)*$M$28,0),0)","v":0},{"$f":"$AC9*AG9","v":0},null,null,null,null,null,{"$f":"\" \"&ListAVS!$B$156","v":" Přehled korpusů"},null,null,"  420 - 1610","22K2300","22K2310"]
[null,{"$f":"ListAVS!$B$74&\" KB [mm] \"","v":"Šířka korpusu KB [mm] "},null,null,null,null,null,null,{"$f":"IF($H10=0,\" \",IF($H10<220,\" min. 220mm\",\" \"))&IF(H17>0,IF(H10=0,\"● \"&ListAVS!$B$128,\" \"),\" \")","v":"  "},null,null,null,null,"zdvih A","dva","tři",null,"min","max","š.max","š. min",false,null,null,{"$f":"CenAVS!A55","v":"Sada zdvihačů HK top, na vruty"},{"$f":"CenAVS!B55","v":"22K2500"},{"$f":"CenAVS!C55","v":"ZN"},{"$f":"SUM(AE10,AG10)","v":0},{"$f":"CenAVS!F55","v":1468.44},{"$f":"AB10*AC10","v":0},{"$f":"IF(AND($U$16<>3,$N$44=1),ROUNDUP(SUM(O12:P12)*$M$17,0),0)","v":0},0,{"$f":"IF(AND($U$27<>3,$N$44=1),ROUNDUP(SUM(O23:P23)*$M$28,0),0)","v":0},0,null,null,null,null,null,{"$f":"\" \"&ListAVS!$B$157","v":" Objednávka"},null,null,"  930 - 2800","22K2500","22K2510"]
[null,{"$f":"ListAVS!$B$75&\" KH [mm]  \"","v":"Výška korpusu KH [mm]  "},null,null,null,null,null,null,{"$f":"IF($H11=0,\" \",IF($H11<205,\" min. 205 mm\",IF($H11>600,\" max. 600 mm\",\" \")))&IF(H17>0,IF(H11=0,\"● \"&ListAVS!$B$128,\" \"),\" \")","v":"  "},null,null,null,null,"K23",{"$f":"IF($V$10=FALSE,IF($H$16>R11,IF($H$16<S11,1,0),0),0)","v":0},{"$f":"IF($V$10=TRUE,IF($H$16>V11,IF($H$16<W11,1.5,0),0),0)","v":0},null,419,1200,null,null,629,1800,null,{"$f":"CenAVS!A56","v":"Sada zdvihačů HK top, na vruty"},{"$f":"CenAVS!B56","v":"22K2700"},{"$f":"CenAVS!C56","v":"ZN"},0,{"$f":"CenAVS!F56","v":1475.61},0,{"$f":"IF(AND($U$16<>3,$N$44=1),ROUNDUP(SUM(O13:P13)*$M$17,0),0)","v":0},0,{"$f":"IF(AND($U$27<>3,$N$44=1),ROUNDUP(SUM(O24:P24)*$M$28,0),0)","v":0},0,null,null,null,null,null,null,null,null,"  1730 - 5200","22K2700","22K2710"]
[null,{"$f":"ListAVS!$B$78&\" [kg] ** \"","v":"Hmotnost čela vč. 2x hmotnost úchytky [kg] ** "},null,null,null,null,null,null,{"$f":"IF($H17=0,\" \",IF(SUM($H12,$H15)=0,$N$36,\" \"))&IF(AND($H17>0,M17>0), IF($H12>0,$N$37,\" \"),\" \")","v":"  "},null,null,null,null,"K25",{"$f":"IF($V$10=FALSE,IF($H$16>R12,IF($H$16<S12,1,0),0),0)","v":0},{"$f":"IF($V$10=TRUE,IF($H$16>V12,IF($H$16<W12,1.5,0),0),0)","v":0},null,1200,2200,null,null,1800,3300,null,{"$f":"CenAVS!A57","v":"Sada zdvihačů HK top, na vruty"},{"$f":"CenAVS!B57","v":"22K2900"},{"$f":"CenAVS!C57","v":"ZN"},0,{"$f":"CenAVS!F57","v":1726.54},0,{"$f":"IF(AND($U$16<>3,$N$44=1),ROUNDUP(SUM(O14:P14)*$M$17,0),0)","v":0},0,{"$f":"IF(AND($U$27<>3,$N$44=1),ROUNDUP(SUM(O25:P25)*$M$28,0),0)","v":0},0,null,null,null,null,null,null,null,null,"  3200 - 9000","22K2900","22K2910"]
[null,{"$f":"ListAVS!$B$292","v":"Výpočet hmotnosti"},null,{"$f":"ListAVS!$B$80&\" TS [mm] \"","v":"Síla čela TS [mm] "},null,null,null,null,{"$f":"IF(H17=0,\" \",IF(AND(H12=0, H13=0),\" ● \"&ListAVS!$B$128,\" \"))&IF(H17=0,\" \",IF(AND(H12=0, H13<14), \" min. 14 mm\", \" \"))","v":"  "},null,null,null,null,"K27",{"$f":"IF($V$10=FALSE,IF($H$16>R13,IF($H$16<S13,1,0),0),0)","v":0},{"$f":"IF($V$10=TRUE,IF($H$16>V13,IF($H$16<W13,1.5,0),0),0)","v":0},null,2200,4200,null,null,3300,6300,null,{"$f":"CenAVS!A58","v":"Sada zdvihačů HK top, předmont. eurošrouby"},{"$f":"CenAVS!B58","v":"22K2310"},{"$f":"CenAVS!C58","v":"ZN"},0,{"$f":"CenAVS!F58","v":1468.44},0,{"$f":"IF(AND($U$16<>3,$N$44=2),ROUNDUP(SUM(O11:P11)*$M$17,0),0)","v":0},0,{"$f":"IF(AND($U$27<>3,$N$44=2),ROUNDUP(SUM(O22:P22)*$M$28,0),0)","v":0},0]
[null,null,null,{"$f":"ListAVS!$B$83&\" [kg] \"","v":"Hmotnost úchytky [kg] "},null,null,null,null,{"$f":"IF(H17=0, \" \", IF(AND(H12=0, U16=1, H14=0), \" ● \"&ListAVS!$B$129,\" \"))","v":" "},null,null,null,null,"K29",{"$f":"IF($V$10=FALSE,IF($H$16>R14,IF($H$16<S14,1,0),0),0)","v":0},{"$f":"IF($V$10=TRUE,IF($H$16>V14,IF($H$16<W14,1.5,0),0),0)","v":0},null,4200,9001,null,null,6300,13501,null,{"$f":"CenAVS!A59","v":"Sada zdvihačů HK top, předmont. eurošrouby"},{"$f":"CenAVS!B59","v":"22K2510"},{"$f":"CenAVS!C59","v":"ZN"},0,{"$f":"CenAVS!F59","v":1468.44},0,{"$f":"IF(AND($U$16<>3,$N$44=2),ROUNDUP(SUM(O12:P12)*$M$17,0),0)","v":0},0,{"$f":"IF(AND($U$27<>3,$N$44=2),ROUNDUP(SUM(O23:P23)*$M$28,0),0)","v":0},0,null,null,null,null,null,null,null,null,{"$f":"ListAVS!$B$349&\" = \"&ListAVS!$B$351","v":"vruty = zdvihače s integrovanou šablonou (bez nutnosti rozměřování)"}]
[null,null,null,{"$f":"ListAVS!$B$79&\" [kg] \"","v":"Vypočtená hmotnost čela [kg] "},null,null,null,{"$f":"$T$80","v":0},{"$f":"IF(AND($H17>0,$H15>0,$H12=0,$M17>0), $N$37,\" \")&IF(AND(H17>0, H12=0, Z77=3, $J$4=0), $N$35, \" \")","v":"  "},null,null,null,null,null,null,null,null,null,null,null,{"$f":"IF(U16=1,$V$46,IF(U16=2,$V$47,$V$48))","v":"Standard"},null,null,null,{"$f":"CenAVS!A60","v":"Sada zdvihačů HK top, předmont. eurošrouby"},{"$f":"CenAVS!B60","v":"22K2710"},{"$f":"CenAVS!C60","v":"ZN"},0,{"$f":"CenAVS!F60","v":1475.61},0,{"$f":"IF(AND($U$16<>3,$N$44=2),ROUNDUP(SUM(O13:P13)*$M$17,0),0)","v":0},0,{"$f":"IF(AND($U$27<>3,$N$44=2),ROUNDUP(SUM(O24:P24)*$M$28,0),0)","v":0},0,null,null,null,null,null,null,null,null,{"$f":"ListAVS!$B$350&\" = \"&ListAVS!$B$352","v":"předmont. eurošrouby = zdvihače s předmotovanými šrouby (nutné předvrtání)"}]
[null,{"$f":"ListAVS!$B$87&\" *      \"","v":"Třetí zdvihač *      "},null,{"$f":"ListAVS!$B$86&\" LF \"","v":"Ukazatel výkonnosti LF "},null,null,null,{"$f":"IF(H12>0,H11*H12,H11*H15)","v":0},{"$f":"IF(H17=0,\" \",IF($H16<420,$N$39,IF($H16>13500,$N$40,IF($H16>9000,IF(V10=FALSE,$N$41,\" \"),\" \"))))","v":" "},null,null,null,null,null,null,null,null,null,null,null,1,null,null,null,{"$f":"CenAVS!A61","v":"Sada zdvihačů HK top, předmont. eurošrouby"},{"$f":"CenAVS!B61","v":"22K2910"},{"$f":"CenAVS!C61","v":"ZN"},0,{"$f":"CenAVS!F61","v":1726.54},0,{"$f":"IF(AND($U$16<>3,$N$44=2),ROUNDUP(SUM(O14:P14)*$M$17,0),0)","v":0},0,{"$f":"IF(AND($U$27<>3,$N$44=2),ROUNDUP(SUM(O25:P25)*$M$28,0),0)","v":0},0]
[null,{"$f":"ListAVS!$B$71&\" \"","v":"Počet skříněk "},null,null,null,null,null,null,{"$f":"IF(OR(H17=0, $H16>13500),\" \",IF($H16>9000,IF(V10=FALSE,$N$42,\" \"),\" \"))","v":" "},null,null,null,{"$f":"IF($H10*$H11*$T17=0, 0, IF(OR($H11<210, $H11>600, $H16<420, $H16>13500), 0, IF(AND($H12=0, $H13<14), 0, IF(AND(H16>9000, V10=FALSE), 0, $H17))))","v":0},null,null,null,null,null,"hmot =",{"$f":"IF(H12>0,H12,H15)","v":0},{"$f":"IF(SUM(H12,H15)=0,0,IF(H12>0,1,2))","v":0},"zadaná / vypočtená",null,null,{"$f":"CenAVS!A62","v":"Sada krytek HK top, světle šedá"},{"$f":"CenAVS!B62","v":"22K8000"},{"$f":"CenAVS!C62","v":"HG "},0,{"$f":"CenAVS!F62","v":211.38},0,{"$f":"IF($U$16<>2,IF($T$44=1,SUM($AE$9:$AE$16, $AE$24:$AE$31),0),0)","v":0},0,{"$f":"IF($U$27<>2,IF($T$44=1,SUM($AG$9:$AG$16, $AG$24:$AG$31),0),0)","v":0},0]
[null,{"$f":"IF(H17>0,IF(OR(U17=0,M17=0), \" \",IF(U17=1, $N$49, $N$50)),\" \")&IF(H17>0,IF(OR(U17=0, M17=0), \" \",IF(U17=1, $N$51, $N$52)),\" \")","v":"  "},null,null,null,null,null,null,null,null,null,null,null,null,null,null,null,null,null,null,null,null,null,null,{"$f":"CenAVS!A63","v":"Sada krytek HK top, tmavě šedá"},{"$f":"CenAVS!B63","v":"22K8000"},{"$f":"CenAVS!C63","v":"TGR"},0,{"$f":"CenAVS!F63","v":231.45},0,{"$f":"IF($U$16<>2,IF($T$44=2,SUM($AE$9:$AE$16, $AE$24:$AE$31),0),0)","v":0},0,{"$f":"IF($U$27<>2,IF($T$44=2,SUM($AG$9:$AG$16, $AG$24:$AG$31),0),0)","v":0},0,null,null,null,null,null,null,null,null,{"$f":"ListAVS!$B$86&\" LF = \"&ListAVS!$B$75&\" KH [mm] x \"&ListAVS!$B$78&\" [kg]\"","v":"Ukazatel výkonnosti LF = Výška korpusu KH [mm] x Hmotnost čela vč. 2x hmotnost úchytky [kg]"}]
[null,null,null,null,null,null,null,null,null,null,null,null,null,null,null,null,null,null,null,null,null,null,null,null,{"$f":"CenAVS!A64","v":"Sada krytek HK top, bílá"},{"$f":"CenAVS!B64","v":"22K8000"},{"$f":"CenAVS!C64","v":"SW "},0,{"$f":"CenAVS!F64","v":231.45},0,{"$f":"IF($U$16<>2,IF($T$44=3,SUM($AE$9:$AE$16, $AE$24:$AE$31),0),0)","v":0},0,{"$f":"IF($U$27<>2,IF($T$44=3,SUM($AG$9:$AG$16, $AG$24:$AG$31),0),0)","v":0},0]
[null,{"$f":"\"▼ \"&ListAVS!$B$317","v":"▼ Způsob otvírání"},null,{"$f":"IF($M$28>0, ListAVS!$B$37&\": \", \" \")","v":" "},{"$f":"IF(OR($AG$9>0, $AG$13>0), \"23\", IF(OR($AG$10>0, $AG$14>0), \"25\", IF(OR($AG$11>0, $AG$15>0), \"27\", IF(OR($AG$12>0, $AG$16>0), \"29\", IF(OR($AG$24>0, $AG$28>0), \"23T\", IF(OR($AG$25>0, $AG$29>0), \"25T\", IF(OR($AG$26>0, $AG$30>0), \"27T\", IF(OR($AG$27>0, $AG$31>0), \"29T\", \" \"))))))))","v":" "},{"$f":"ListAVS!$B$64&\" B\"","v":"Korpus B"},null,null,null,null,null,null,null,null,null,null,null,"dva zdvihače",null,null,null,"tři zdvihače",null,null,{"$f":"CenAVS!A65","v":"Sada krytek HK top, SERVO-DRIVE, sv.šedá"},{"$f":"CenAVS!B65","v":"23K8000"},{"$f":"CenAVS!C65","v":"HG "},0,{"$f":"CenAVS!F65","v":2493.35},0,{"$f":"IF($U$16=2,IF($T$44=1,SUM($AE$9:$AE$16),0),0)","v":0},0,{"$f":"IF($U$27=2,IF($T$44=1,SUM($AG$9:$AG$16),0),0)","v":0},0,null,null,null,null,null,null,null,null,{"$f":"ListAVS!$B$354","v":"V případě využití třetího zdvihače můžete zvýšit ukazatel výkonnosti a tudíž hmotnost čílka o 50%."}]
[null,{"$f":"ListAVS!$B$74&\" KB [mm] \"","v":"Šířka korpusu KB [mm] "},null,null,null,null,null,null,{"$f":"IF($H21=0,\" \",IF($H21<220,\" min. 220mm\",IF($H21>1800,\" max. 1 800mm\",\" \")))&IF(H28>0,IF(H21=0,\"● \"&ListAVS!$B$128,\" \"),\" \")","v":"  "},null,null,null,null,"zdvih B","dva","tři",null,"min","max",null,null,false,null,null,{"$f":"CenAVS!A66","v":"Sada krytek HK top, SERVO-DRIVE, tm.šedá"},{"$f":"CenAVS!B66","v":"23K8000"},{"$f":"CenAVS!C66","v":"TGR"},0,{"$f":"CenAVS!F66","v":2595.3000000000002},0,{"$f":"IF($U$16=2,IF($T$44=2,SUM($AE$9:$AE$16),0),0)","v":0},0,{"$f":"IF($U$27=2,IF($T$44=2,SUM($AG$9:$AG$16),0),0)","v":0},0]
[null,{"$f":"ListAVS!$B$75&\" KH [mm] \"","v":"Výška korpusu KH [mm] "},null,null,null,null,null,null,{"$f":"IF($H22=0,\" \",IF($H22<205,\" min. 205 mm\",IF($H22>600,\" max. 600 mm\",\" \")))&IF(H28>0,IF(H22=0,\"● \"&ListAVS!$B$128,\" \"),\" \")","v":"  "},null,null,null,null,"K23",{"$f":"IF($V$21=FALSE,IF($H$27>R22,IF($H$27<S22,1,0),0),0)","v":0},{"$f":"IF($V$21=TRUE,IF($H$27>V22,IF($H$27<W22,1.5,0),0),0)","v":0},null,419,1200,null,null,629,1800,null,{"$f":"CenAVS!A67","v":"Sada krytek HK top, SERVO-DRIVE, bílá"},{"$f":"CenAVS!B67","v":"23K8000"},{"$f":"CenAVS!C67","v":"SW "},0,{"$f":"CenAVS!F67","v":2595.3000000000002},0,{"$f":"IF($U$16=2,IF($T$44=3,SUM($AE$9:$AE$16),0),0)","v":0},0,{"$f":"IF($U$27=2,IF($T$44=3,SUM($AG$9:$AG$16),0),0)","v":0},0]
[null,{"$f":"ListAVS!$B$78&\" [kg] ** \"","v":"Hmotnost čela vč. 2x hmotnost úchytky [kg] ** "},null,null,null,null,null,null,{"$f":"IF($H28=0,\" \",IF(SUM($H23,$H26)=0,$N$36,\" \"))&IF(AND($H28>0,M28>0), IF($H23>0,$N$37,\" \"),\" \")","v":"  "},null,null,null,null,"K25",{"$f":"IF($V$21=FALSE,IF($H$27>R23,IF($H$27<S23,1,0),0),0)","v":0},{"$f":"IF($V$21=TRUE,IF($H$27>V23,IF($H$27<W23,1.5,0),0),0)","v":0},null,1200,2200,null,null,1800,3300,null,{"$f":"CenAVS!A68","v":0},{"$f":"CenAVS!B68","v":0},{"$f":"CenAVS!C68","v":0},0,{"$f":"CenAVS!F68","v":0},0,null,0,null,0]
[null,{"$f":"ListAVS!$B$292","v":"Výpočet hmotnosti"},null,{"$f":"ListAVS!$B$80&\" TS [mm] \"","v":"Síla čela TS [mm] "},null,null,null,null,{"$f":"IF(H28=0,\" \",IF(AND(H23=0, H24=0),\" ● \"&ListAVS!$B$128,\" \"))&IF(H28=0,\" \",IF(AND(H23=0, H24<14), \" min. 14 mm\", \" \"))","v":"  "},null,null,null,null,"K27",{"$f":"IF($V$21=FALSE,IF($H$27>R24,IF($H$27<S24,1,0),0),0)","v":0},{"$f":"IF($V$21=TRUE,IF($H$27>V24,IF($H$27<W24,1.5,0),0),0)","v":0},null,2200,4200,null,null,3300,6300,null,{"$f":"CenAVS!A69","v":"Sada zdvihačů HK top, TIP-ON, na vruty"},{"$f":"CenAVS!B69","v":"22K2300T"},{"$f":"CenAVS!C69","v":"ZN"},0,{"$f":"CenAVS!F69","v":1575.99},0,{"$f":"IF(AND($U$16=3,$N$44=1),ROUNDUP(SUM(O11:P11)*$M$17,0),0)","v":0},0,{"$f":"IF(AND($U$27=3,$N$44=1),ROUNDUP(SUM(O22:P22)*$M$28,0),0)","v":0},0]
[null,null,null,{"$f":"ListAVS!$B$83&\" [kg] \"","v":"Hmotnost úchytky [kg] "},null,null,null,null,{"$f":"IF(H28=0, \" \", IF(AND(H23=0, U27=1, H25=0), \" ● \"&ListAVS!$B$129,\" \"))","v":" "},null,null,null,null,"K29",{"$f":"IF($V$21=FALSE,IF($H$27>R25,IF($H$27<S25,1,0),0),0)","v":0},{"$f":"IF($V$21=TRUE,IF($H$27>V25,IF($H$27<W25,1.5,0),0),0)","v":0},null,4200,9001,null,null,6300,13501,null,{"$f":"CenAVS!A70","v":"Sada zdvihačů HK top, TIP-ON, na vruty"},{"$f":"CenAVS!B70","v":"22K2500T"},{"$f":"CenAVS!C70","v":"ZN"},0,{"$f":"CenAVS!F70","v":1575.99},0,{"$f":"IF(AND($U$16=3,$N$44=1),ROUNDUP(SUM(O12:P12)*$M$17,0),0)","v":0},0,{"$f":"IF(AND($U$27=3,$N$44=1),ROUNDUP(SUM(O23:P23)*$M$28,0),0)","v":0},0]
[null,null,null,{"$f":"ListAVS!$B$79&\" [kg] \"","v":"Vypočtená hmotnost čela [kg] "},null,null,null,{"$f":"$T$91","v":0},{"$f":"IF(AND($H28>0,$H26>0,$H23=0,$M28>0), $N$37,\" \")&IF(AND(H28>0, H23=0, Z88=3, $J$4=0), $N$35, \" \")","v":"  "},null,null,null,null,null,null,null,null,null,null,null,{"$f":"IF(U27=1,$V$46,IF(U27=2,$V$47,$V$48))","v":"Standard"},null,null,null,{"$f":"CenAVS!A71","v":"Sada zdvihačů HK top, TIP-ON, na vruty"},{"$f":"CenAVS!B71","v":"22K2700T"},{"$f":"CenAVS!C71","v":"ZN"},0,{"$f":"CenAVS!F71","v":1676.35},0,{"$f":"IF(AND($U$16=3,$N$44=1),ROUNDUP(SUM(O13:P13)*$M$17,0),0)","v":0},0,{"$f":"IF(AND($U$27=3,$N$44=1),ROUNDUP(SUM(O24:P24)*$M$28,0),0)","v":0},0]
[null,{"$f":"ListAVS!$B$87&\" *      \"","v":"Třetí zdvihač *      "},null,{"$f":"ListAVS!$B$86&\" LF \"","v":"Ukazatel výkonnosti LF "},null,null,null,{"$f":"IF(H23>0,H22*H23,H22*H26)","v":0},{"$f":"IF(H28=0,\" \",IF($H27<420,$N$39,IF($H27>13500,$N$40,IF($H27>9000,IF(V21=FALSE,$N$41,\" \"),\" \"))))","v":" "},null,null,null,null,null,null,null,null,null,null,null,1,null,null,null,{"$f":"CenAVS!A72","v":"Sada zdvihačů HK top, TIP-ON, na vruty"},{"$f":"CenAVS!B72","v":"22K2900T"},{"$f":"CenAVS!C72","v":"ZN"},0,{"$f":"CenAVS!F72","v":1927.28},0,{"$f":"IF(AND($U$16=3,$N$44=1),ROUNDUP(SUM(O14:P14)*$M$17,0),0)","v":0},0,{"$f":"IF(AND($U$27=3,$N$44=1),ROUNDUP(SUM(O25:P25)*$M$28,0),0)","v":0},0]
[null,{"$f":"ListAVS!$B$71&\" \"","v":"Počet skříněk "},null,null,null,null,null,null,{"$f":"IF(OR(H28=0, $H27>13500),\" \",IF($H27>9000,IF(V21=FALSE,$N$42,\" \"),\" \"))","v":" "},null,null,null,{"$f":"IF($H21*$H22*$T28=0,0,IF($H22<210,0,IF(H27<420,0,IF($H27>13500,0,IF(AND($H23=0,$H24<14),0,IF(H27>9000,IF(V21=FALSE,0,$H28),$H28))))))","v":0},null,null,null,null,null,"hmot =",{"$f":"IF(H23>0,H23,H26)","v":0},{"$f":"IF(SUM(H23,H26)=0,0,IF(H23>0,1,2))","v":0},"zadaná / vypočtená",null,null,{"$f":"CenAVS!A73","v":"Sada zdvihačů HK top, TIP-ON, předmont. eurošrouby"},{"$f":"CenAVS!B73","v":"22K2310T"},{"$f":"CenAVS!C73","v":"ZN"},0,{"$f":"CenAVS!F73","v":1575.99},0,{"$f":"IF(AND($U$16=3,$N$44=2),ROUNDUP(SUM(O11:P11)*$M$17,0),0)","v":0},0,{"$f":"IF(AND($U$27=3,$N$44=2),ROUNDUP(SUM(O22:P22)*$M$28,0),0)","v":0},0]
[null,{"$f":"IF(H28>0,IF(OR(U28=0,M28=0), \" \",IF(U28=1, $N$49, $N$50)),\" \")&IF(H28>0,IF(OR(U28=0, M28=0), \" \",IF(U28=1, $N$51, $N$52)),\" \")","v":"  "},null,null,null,null,null,null,null,null,null,null,null,null,null,null,null,null,null,null,null,null,null,null,{"$f":"CenAVS!A74","v":"Sada zdvihačů HK top, TIP-ON, předmont. eurošrouby"},{"$f":"CenAVS!B74","v":"22K2510T"},{"$f":"CenAVS!C74","v":"ZN"},0,{"$f":"CenAVS!F74","v":1575.99},0,{"$f":"IF(AND($U$16=3,$N$44=2),ROUNDUP(SUM(O12:P12)*$M$17,0),0)","v":0},0,{"$f":"IF(AND($U$27=3,$N$44=2),ROUNDUP(SUM(O23:P23)*$M$28,0),0)","v":0},0]
[null,null,null,null,null,null,null,null,null,null,null,null,null,null,null,null,null,null,{"$f":"IF($T$30=FALSE,2,1)","v":2},false,null," - Zdroj",null,null,{"$f":"CenAVS!A75","v":"Sada zdvihačů HK top, TIP-ON, předmont. eurošrouby"},{"$f":"CenAVS!B75","v":"22K2710T"},{"$f":"CenAVS!C75","v":"ZN"},0,{"$f":"CenAVS!F75","v":1676.35},{"$f":"AB30*AC30","v":0},{"$f":"IF(AND($U$16=3,$N$44=2),ROUNDUP(SUM(O13:P13)*$M$17,0),0)","v":0},{"$f":"$AC30*AE30","v":0},{"$f":"IF(AND($U$27=3,$N$44=2),ROUNDUP(SUM(O24:P24)*$M$28,0),0)","v":0},{"$f":"$AC30*AG30","v":0}]
[null,{"$f":"IF(OR(AND($U$16=2, $M$17>0), AND($U$27=2, $M$28>0)), ListAVS!$B$175, \" \")","v":" "},null,null,null,null,null,null,null,null,null,null,null,null,null,null,null,null,null,null,null,null,null,null,{"$f":"CenAVS!A76","v":"Sada zdvihačů HK top, TIP-ON, předmont. eurošrouby"},{"$f":"CenAVS!B76","v":"22K2910T"},{"$f":"CenAVS!C76","v":"ZN"},0,{"$f":"CenAVS!F76","v":1927.28},0,{"$f":"IF(AND($U$16=3,$N$44=2),ROUNDUP(SUM(O14:P14)*$M$17,0),0)","v":0},0,{"$f":"IF(AND($U$27=3,$N$44=2),ROUNDUP(SUM(O25:P25)*$M$28,0),0)","v":0},0]
[null,null,null,null,null,null,null,null,null,null,null,null,null,null,null,null,null,null,null,null,null,null,null,null,{"$f":"CenAVS!A77","v":0},{"$f":"CenAVS!B77","v":0},{"$f":"CenAVS!C77","v":0},0,{"$f":"CenAVS!F77","v":0},0,null,0,null,0]
[null,null,null,null,null,null,null,null,null,null,null,null,null,null,null,null,null,null,null,null,null,null,null,null,{"$f":"CenAVS!A78","v":"Sada čel.kování pro dřev. čela"},{"$f":"CenAVS!B78","v":"20S4200"},{"$f":"CenAVS!C78","v":"NI"},0,{"$f":"CenAVS!F78","v":90.38},0,{"$f":"IF($R$44=2,SUM(AE$9:AE$16, $AE$24:$AE$31),0)","v":0},0,{"$f":"IF($R$44=2,SUM(AG$9:AG$16, $AG$24:$AG$31),0)","v":0},0]
[null,null,null,null,null,null,null,null,null,null,null,null,null,{"$f":"ListAVS!B176","v":"Cena bez napájecího zdroje!"},null,null,null,null,null,null,null,null,null,null,{"$f":"CenAVS!A79","v":"Čelní.kování pro dřev. čela EXPANDO"},{"$f":"CenAVS!B79","v":"20S42E1"},{"$f":"CenAVS!C79","v":"NI"},0,{"$f":"CenAVS!F79","v":51.36},0,{"$f":"IF($R$44=1,SUM(AE$9:AE$16, $AE$24:$AE$31)*2,0)","v":0},0,{"$f":"IF($R$44=1,SUM(AG$9:AG$16, $AG$24:$AG$31)*2,0)","v":0},0]
[null,null,{"$f":"IF(OR($V$10=TRUE, $V$21=TRUE), ListAVS!$B$182, \" \")","v":" "},null,null,null,null,null,null,null,null,null,null,{"$f":"\" \"&ListAVS!$B$117","v":" Vyplňte nahoře objemovou hmotnost "},null,null,null,null,null,null,null,null,null,null,{"$f":"CenAVS!A80","v":"Sada čel.kování pro tenké materiály"},{"$f":"CenAVS!B80","v":"20S42T1"},{"$f":"CenAVS!C80","v":"NI"},0,{"$f":"CenAVS!F80","v":291.60000000000002},0,null,0,null,0]
[null,null,null,null,null,null,null,null,null,null,null,null,null,{"$f":"\" \"&ListAVS!$B$115","v":" Zadejte hmotnost nebo vyplňte všechny buňky"},null,null,null,null,null,null,null,null,null,null,{"$f":"CenAVS!A81","v":"Sada čel.kování pro úzké alurámečky"},{"$f":"CenAVS!B81","v":"20S4200A"},{"$f":"CenAVS!C81","v":"NI"},0,{"$f":"CenAVS!F81","v":395.5},0,null,0,null,0]
[null," *",{"$f":"ListAVS!$B$230&\" \"&ListAVS!$B$231","v":"U širokých korpusů doporučujeme nainstalovat třetí zdvihač na střed korpusu. Důvodem je prohýbání čela v otevřené pozici. Také faktor výkonnosti LF a váha dveří mohou být o 50% navýšeny."},null,null,null,null,null,null,null,null,null,null,{"$f":"\"◄ \"&ListAVS!$B$111","v":"◄ hodnota bude použita pro výpočet LF"},null,null,null,null,null,null,null,null,null,null,{"$f":"CenAVS!A82","v":0},{"$f":"CenAVS!B82","v":0},{"$f":"CenAVS!C82","v":0},0,{"$f":"CenAVS!F82","v":0},0,null,0,null,0]
[null,null,null,null,null,null,null,null,null,null,null,null,null,{"$f":"\" * \"&ListAVS!$B$127","v":" * Doplňte hodnoty"},null,null,null,null,null,null,null,null,null,null,{"$f":"CenAVS!A185","v":"TIP-ON, krátká verze, šedá"},{"$f":"CenAVS!B185","v":"956.1004"},{"$f":"CenAVS!C185","v":"PG"},{"$f":"SUM(AE38,AG38)","v":0},{"$f":"CenAVS!F185","v":116.95},{"$f":"AB38*AC38","v":0},{"$f":"IF(AND($T$44<3,$U$16=3),IF($H$11<=500,$M$17,0),0)","v":0},{"$f":"$AC38*AE38","v":0},{"$f":"IF(AND($T$44<3,$U$27=3),IF($H$22<=500,$M$28,0),0)","v":0},{"$f":"$AC38*AG38","v":0}]
[null,null,null,null,null,null,null,null,null,null,null,null,null,{"$f":"\" min. 420! \"&ListAVS!$B$121","v":" min. 420! Upravte hmotnost nebo výšku"},null,null,null,null,null,null,null,null,null,null,{"$f":"CenAVS!A186","v":"TIP-ON, krátká verze, hedvábně bílá"},{"$f":"CenAVS!B186","v":"956.1004"},{"$f":"CenAVS!C186","v":"SW"},0,{"$f":"CenAVS!F186","v":116.95},0,{"$f":"IF(AND($T$44=3,$U$16=3),IF($H$11<=500,$M$17,0),0)","v":0},0,{"$f":"IF(AND($T$44=3,$U$27=3),IF($H$22<=500,$M$28,0),0)","v":0},0]
[null,null,null,null,null,null,null,null,null,null,null,null,null,{"$f":"\" max. 13.500! \"&ListAVS!$B$121","v":" max. 13.500! Upravte hmotnost nebo výšku"},null,null,null,null,null,null,null,null,null,null,{"$f":"CenAVS!A187","v":"TIP-ON, krátká verze, karbon černá"},{"$f":"CenAVS!B187","v":"956.1004"},{"$f":"CenAVS!C187","v":"CS"},0,{"$f":"CenAVS!F187","v":116.95},0,null,0,null,0]
[null," **",{"$f":"ListAVS!$B$186","v":"Pokud znáte hmotnost a nechcete využít výpočtu hmotnosti"},null,null,null,null,null,null,null,null,null,null,{"$f":"\" max. 9 000! \"&ListAVS!$B$121","v":" max. 9 000! Upravte hmotnost nebo výšku"},null,null,null,null,null,null,null,null,null,null,{"$f":"CenAVS!A188","v":"TIP-ON, dlouhá verze, šedá"},{"$f":"CenAVS!B188","v":"956A1004"},{"$f":"CenAVS!C188","v":"PG"},0,{"$f":"CenAVS!F188","v":146.75},0,{"$f":"IF(AND($T$44<3,$U$16=3),IF($H$11>500,$M$17,0),0)","v":0},0,{"$f":"IF(AND($T$44<3,$U$27=3),IF($H$22>500,$M$28,0),0)","v":0},0]
[null,null,null,null,null,null,null,null,null,null,null,null,null,{"$f":"\"                       \"&ListAVS!$B$122","v":"                       nebo přidejte třetí zdvihač"},null,null,null,null,null,null,null,null,null,null,{"$f":"CenAVS!A189","v":"TIP-ON, dlouhá verze, hedvábně bílá"},{"$f":"CenAVS!B189","v":"956A1004"},{"$f":"CenAVS!C189","v":"WA"},0,{"$f":"CenAVS!F189","v":146.75},0,{"$f":"IF(AND($T$44=3,$U$16=3),IF($H$11>500,$M$17,0),0)","v":0},0,{"$f":"IF(AND($T$44=3,$U$27=3),IF($H$22>500,$M$28,0),0)","v":0},0]
[null,null,null,null,null,null,null,null,null,null,null,null,null,null,null,null,null,null,null,null,null,null,null,null,{"$f":"CenAVS!A190","v":"TIP-ON, dlouhá verze, karbon černá"},{"$f":"CenAVS!B190","v":"956A1004"},{"$f":"CenAVS!C190","v":"CS"},0,{"$f":"CenAVS!F190","v":146.75},0,null,0,null,0]
[null,null,null,null,null,null,null,null,null,null,null,null,null,{"$f":"HK!$P$26","v":1},null,1,null,{"$f":"HK!$N$26","v":2},null,{"$f":"MenuAVS!$P$28","v":1},null,1]
[null,null,null,null,null,null,null,null,null,null,null,null,null,"zdvihač",null,"střed.",null,"čelní kov.",null,"kryt.",null,"provedení"]
[null,null,null,null,null,null,null,null,null,null,null,null,null,"vruty",null,null,null,{"$f":"ListAVS!$B$142","v":"Expando"},null,{"$f":"ListAVS!$B$145","v":"Světle šedá (HGR)"},null,"Standard",null,null,{"$f":"CenAVS!A172","v":"SERVO-DRIVE jednotka (sada) pro HK top"},{"$f":"CenAVS!B172","v":"23KA000"},{"$f":"CenAVS!C172","v":"R7037"},{"$f":"SUM(AE46,AG46)","v":0},{"$f":"CenAVS!F172","v":8251.18},{"$f":"AB46*AC46","v":0},{"$f":"IF($U$16=2, $M$17, 0)+IF(AND($U$16=2, $V$10=TRUE), $M$17, 0)","v":0},{"$f":"$AC46*AE46","v":0},{"$f":"IF($U$27=2, $M$28, 0)+IF(AND($U$27=2, $V$21=TRUE), $M$28, 0)","v":0},{"$f":"$AC46*AG46","v":0}]
[null,null,null,null,null,null,null,null,null,null,null,null,null,"šrouby",null,null,null,{"$f":"ListAVS!$B$143","v":"na vruty"},null,{"$f":"ListAVS!$B$146","v":"Tmavě šedá (TGR)"},null,"SERVO-DRIVE"]
[null,null,null,null,null,null,null,null,null,null,null,null,null,null,null,null,null,null,null,{"$f":"ListAVS!$B$147","v":"Hedvábně bílá (SW)"},null,"TIP-ON",null,null,null,null,null,null,{"$f":"ListAVS!$B$61&\" \"","v":"Cena celkem bez DPH "},{"$f":"SUM(AD9:AD46)","v":0},null,{"$f":"SUM(AF9:AF47)","v":0},null,{"$f":"SUM(AH9:AH47)","v":0}]
[null,null,null,null,null,null,null,null,null,null,null,null,null,{"$f":"ListAVS!B187&\". \"","v":"Pro určení typu zdvihače bude použita zadaná hmotnost. "}]
[null,null,null,null,null,null,null,null,null,null,null,null,null,{"$f":"ListAVS!B188&\". \"","v":"Pro určení typu zdvihače bude použita vypočtená hmotnost. "}]
[null,null,null,null,null,null,null,null,null,null,null,null,null,{"$f":"ListAVS!B189","v":"Chcete-li použít vypočtenou hmotnost, smažte zadanou hodnotu"}]
[null,null,null,null,null,null,null,null,null,null,null,null,null,{"$f":"ListAVS!B190","v":"Chcete-li použít zadanou hmotnost, zadejte ji do políčka"}]
[]
[]
[]
[]
[]
[]
[]
[]
[]
[]
[]
[]
[]
[]
[]
[]
[null,null,null,null,null,null,null,null,null,null,null,null,null,{"$f":"ListAVS!$B$73","v":"Výpočet hmotnosti čel"}]
[null,null,null,null,null,null,null,null,null,null,null,null,null,null,null,{"$f":"ListAVS!$B$179&\"  \"","v":"Provedení čel  "},null,null,null,{"$f":"J4","v":0},{"$f":"IF(Z77=3,IF(T70=0,Y72,\" \"),IF(T70>0,Y73,\" \"))","v":" "},null,null,null,{"$f":"IF($Z$77=1,$Z$78,IF($Z$77=2,$Z$79,$Z$80&\" \"&$Y$80&\"kg/m3\"))&\" A~\"&$T$78&\"/ B~\"&$T$89&\"mm\"","v":"MDF (760 kg/m3) A~0/ B~0mm"}]
[null,null,null,null,null,null,null,null,null,null,null,null,null,null,null,{"$f":"IF($Z$77<>3,$Y$71,\" \")&\"      \"","v":" Změnit hodnoty můžete v Úvodu plánování      "},null,null,null,null,null,null,null,null,{"$f":"\" \"&ListAVS!$B$410","v":" Změnit hodnoty můžete v Úvodu plánování"}]
[null,null,null,null,null,null,null,null,null,null,null,null,null,null,null,null,null,null,null,null,null,null,null,null,{"$f":"\" \"&ListAVS!$B$244&\" [kg/m3]\"","v":" Zadejte objemovou hmotnost  [kg/m3]"}]
[null,null,null,null,null,null,null,null,null,null,null,null,null,null,null,null,null,null,null,null,null,null,null,null,{"$f":"\" \"&ListAVS!$B$240&\" '\"&ListAVS!$B$92&\"'\"","v":" Hodnota platí jen pro volbu 'Jiné - volitelná hustota'"}]
[]
[null,null,null,null,null,null,null,null,null,null,null,null,null,null,null,null,null,{"$f":"D9","v":" "}]
[null,null,null,null,null,null,null,null,null,null,null,null,null,{"$f":"ListAVS!$B$74&\" KB [mm]       \"","v":"Šířka korpusu KB [mm]       "},null,null,null,null,null,{"$f":"H10","v":0},null,null,null,null,{"$f":"T76*T77*T78","v":0},null,null,null,null,3.51,"alu"]
[null,null,null,null,null,null,null,null,null,null,null,null,null,{"$f":"ListAVS!$B$75&\" KH [mm]       \"","v":"Výška korpusu KH [mm]       "},null,null,null,null,null,{"$f":"H11","v":0},null,null,null,null,{"$f":"Y76/1000000000","v":0},1,null,null,null,"váha alu",{"$f":"SUM(T76*2,T77*2)*AD76/10000","v":0},3]
[null,null,null,null,null,null,null,null,null,null,null,null,null,{"$f":"ListAVS!$B$80&\" TS [mm] \"","v":"Síla čela TS [mm] "},null,null,null,null,null,{"$f":"H13","v":0},{"$f":"IF(SUM(T76,T77)=0,\" \",IF(T78=0,\" ● \"&ListAVS!$B$128,\" \"))","v":" "},null,null,null,{"$f":"MenuAVS!$C$31","v":760},{"$f":"ListAVS!$B$90&\" (\"&Y78&\" kg/m3)\"","v":"MDF (760 kg/m3)"},null,null,null,10,{"$f":"SUM($T$76*$T$77*$AD78)/1000000","v":0},{"$f":"ListAVS!$B$93","v":"Alurámečky s 4mm sklem"}]
[null,null,null,null,null,null,null,null,null,null,null,null,null,{"$f":"ListAVS!$B$83&\" [kg] \"","v":"Hmotnost úchytky [kg] "},null,null,null,null,null,{"$f":"H14","v":0},{"$f":"IF($U$16=3,\" \",IF(SUM(T76,T77)=0,\" \",IF(T79=0,\" ● \"&ListAVS!$B$129,\" \")))","v":" "},null,null,null,{"$f":"MenuAVS!$C$32","v":680},{"$f":"ListAVS!$B$91&\" (\"&Y79&\" kg/m3)\"","v":"Dřevotříska (680 kg/m3)"},null,null,null,15,{"$f":"SUM($T$76*$T$77*$AD79)/1000000","v":0},{"$f":"ListAVS!$B$94","v":"Alurámečky s 5mm sklem"}]
[null,null,null,null,null,null,null,null,null,null,null,null,null,{"$f":"ListAVS!$B$79&\" [kg] \"","v":"Vypočtená hmotnost čela [kg] "},null,null,null,null,null,{"$f":"IF(X80=0,0,X80+2*T79)","v":0},null,null,null,{"$f":"IF(T76*T77*T78=0,0,IF(Z77=1,Y77*Y78,IF(Z77=2,Y77*Y79,Y77*Y80)))","v":0},{"$f":"$T$70","v":0},{"$f":"ListAVS!$B$92","v":"Jiné - volitelná hustota"},null,null,null,{"$f":"2.5*$T$70","v":0},{"$f":"SUM($T$76*$T$77*$AD80)/1000000","v":0},{"$f":"ListAVS!$B$95","v":"Alurámečky s jiným sklem"}]
[null,null,null,null,null,null,null,null,null,null,null,null,null,null,{"$f":"IF((U16=3)*AND(T80>0)*AND(T79>0),$Z$96&\" \"&$Z$97,IF((U16<>3)*AND(T80>0),IF(T79=0,$Z$95,\" \"),\" \"))","v":" "},null,null,null,null,null,null,null,null,null,null,null,null,null,null,{"$f":"IF(AF77=1,AE78,IF(AF77=2,AE79,AE80))","v":0}]
[]
[]
[]
[]
[null,null,null,null,null,null,null,null,null,null,null,null,null,null,null,null,null,{"$f":"D20","v":" "}]
[null,null,null,null,null,null,null,null,null,null,null,null,null,{"$f":"ListAVS!$B$74&\" KB [mm]       \"","v":"Šířka korpusu KB [mm]       "},null,null,null,null,null,{"$f":"H21","v":0},null,null,null,null,{"$f":"T87*T88*T89","v":0},null,null,null,null,{"$f":"AD76","v":3.51},"alu"]
[null,null,null,null,null,null,null,null,null,null,null,null,null,{"$f":"ListAVS!$B$75&\" KH [mm]       \"","v":"Výška korpusu KH [mm]       "},null,null,null,null,null,{"$f":"H22","v":0},null,null,null,null,{"$f":"Y87/1000000000","v":0},{"$f":"Z77","v":1},null,null,null,"váha alu",{"$f":"SUM(T87*2,T88*2)*AD87/10000","v":0},{"$f":"AF77","v":3}]
[null,null,null,null,null,null,null,null,null,null,null,null,null,{"$f":"ListAVS!$B$80&\" TS [mm] \"","v":"Síla čela TS [mm] "},null,null,null,null,null,{"$f":"H24","v":0},{"$f":"IF(SUM(T87,T88)=0,\" \",IF(T89=0,\" ● \"&ListAVS!$B$128,\" \"))","v":" "},null,null,null,{"$f":"$Y$78","v":760},{"$f":"$Z$78","v":"MDF (760 kg/m3)"},null,null,null,{"$f":"AD78","v":10},{"$f":"SUM($T$87*$T$88*$AD89)/1000000","v":0},{"$f":"ListAVS!$B$93","v":"Alurámečky s 4mm sklem"}]
[null,null,null,null,null,null,null,null,null,null,null,null,null,{"$f":"ListAVS!$B$83&\" [kg] \"","v":"Hmotnost úchytky [kg] "},null,null,null,null,null,{"$f":"H25","v":0},{"$f":"IF($U$27=3,\" \",IF(SUM(T87,T88)=0,\" \",IF(T90=0,\" ● \"&ListAVS!$B$129,\" \")))","v":" "},null,null,null,{"$f":"$Y$79","v":680},{"$f":"$Z$79","v":"Dřevotříska (680 kg/m3)"},null,null,null,{"$f":"AD79","v":15},{"$f":"SUM($T$87*$T$88*$AD90)/1000000","v":0},{"$f":"ListAVS!$B$94","v":"Alurámečky s 5mm sklem"}]
[null,null,null,null,null,null,null,null,null,null,null,null,null,{"$f":"ListAVS!$B$79&\" [kg] \"","v":"Vypočtená hmotnost čela [kg] "},null,null,null,null,null,{"$f":"IF(X91=0,0,X91+2*T90)","v":0},null,null,null,{"$f":"IF(T87*T88*T89=0,0,IF(Z88=1,Y88*Y89,IF(Z88=2,Y88*Y90,Y88*Y91)))","v":0},{"$f":"$Y$80","v":0},{"$f":"$Z$80","v":"Jiné - volitelná hustota"},null,null,null,{"$f":"AD80","v":0},{"$f":"SUM($T$87*$T$88*$AD91)/1000000","v":0},{"$f":"ListAVS!$B$95","v":"Alurámečky s jiným sklem"}]
[null,null,null,null,null,null,null,null,null,null,null,null,null,null,{"$f":"IF((U27=3)*AND(T91>0)*AND(T90>0),$Z$96&\" \"&$Z$97,IF((U27<>3)*AND(T91>0),IF(T90=0,$Z$95,\" \"),\" \"))","v":" "},null,null,null,null,null,null,null,null,null,null,null,null,null,null,{"$f":"IF(AF88=1,AE89,IF(AF88=2,AE90,AE91))","v":0}]
[]
[]
[null,null,null,null,null,null,null,null,null,null,null,null,null,null,null,null,null,null,null,null,null,null,null,null,null,{"$f":"ListAVS!$B$102&\"!\"","v":"Není započtena hmotnost úchytky!"}]
[null,null,null,null,null,null,null,null,null,null,null,null,null,null,null,null,null,null,null,null,null,null,null,null,null,{"$f":"ListAVS!B103","v":"Opravdu máte úchytku na TIP-ON?"}]
[null,null,null,null,null,null,null,null,null,null,null,null,null,null,null,null,null,null,null,null,null,null,null,null,null,{"$f":"ListAVS!B104&\"!\"","v":"Jestli ne, smažte hmotnost úchytky.!"}]
[]
[]
[null,"      AVENTOS HK"]
[]
[null,{"$f":"ListAVS!$B$302","v":"Potřebný zdvihač se určí pomocí ukazatele výkonnosti."}]
[null,{"$f":"ListAVS!$B$340","v":"Ukazatel výkonnosti závisí na hmotnosti čela (včetně dvojnásobné hmotnosti úchytky) a na výšce korpusu."}]
[]
[]
[null,null,null,{"$f":"ListAVS!$B$86&\" = \"","v":"Ukazatel výkonnosti = "},{"$f":"ListAVS!$B$341&\" [kg]\"","v":"výška korpusu (KH) [mm] x hmotnost čela včetně dvojnásobné hmotnosti úchytky [kg]"}]
[]
[null,{"$f":"ListAVS!$B$354","v":"V případě využití třetího zdvihače můžete zvýšit ukazatel výkonnosti a tudíž hmotnost čílka o 50%."}]
[]
[null,{"$f":"ListAVS!$B$182","v":"Přídavný třetí zdvihač může být použit pouze s plným čelem!"}]
[]
[null,{"$f":"ListAVS!$B$311","v":"Pokud znáte hmotnost čela, můžete ji zadat, jinak použijte \"Výpočet hmotnosti\"."}]
[null,{"$f":"ListAVS!$B$312","v":"V tabulce má přednost zadaná hodnota. Chcete-li použít vypočtenou hmotnost, smažte zadanou hodnotu."}]
[]
[]
[null,{"$f":"ListAVS!$B$305","v":"Chcete-li změnit barvu krytek, přejděte na \"Úvod plánování\""}]
[]
[]
[]
[]
[null,null,null,null,null,null,null,null,null,null,null,{"$f":"ListAVS!$B$167","v":"Zpět"}]

{"sheet":"HKwa","index":25,"n_rows":126,"n_cols":45,"rows_kept":126,"cut":false,"hidden":false,"merged":[[1,1,1,3],[8,17,8,18],[8,21,8,22],[4,5,4,9],[8,5,8,7],[0,42,0,45],[3,10,4,11],[16,1,16,6],[12,1,14,2],[12,3,12,6],[13,3,13,6],[14,3,14,6],[6,1,6,2],[6,6,6,7],[9,1,9,6],[15,1,15,2],[15,3,15,6],[11,1,11,6],[9,21,9,22],[10,1,10,6],[8,1,8,2],[21,1,21,6],[22,1,22,6],[26,1,26,2],[26,3,26,6],[19,1,19,2],[19,5,19,7],[23,1,25,2],[23,3,23,6],[24,3,24,6],[25,3,25,6],[20,1,20,6],[30,1,32,9],[29,19,29,20],[74,17,74,19],[75,13,75,18],[27,1,27,6],[98,0,139,0],[105,4,105,11],[78,13,78,18],[79,13,79,18],[85,17,85,19],[86,13,86,18],[87,13,87,18],[17,42,18,46],[19,42,20,46],[88,13,88,18],[89,13,89,18],[90,13,90,18],[76,13,76,18],[77,13,77,18],[19,17,19,18],[19,21,19,22],[20,21,20,22]]}
[]
[null,"AVENTOS HK top",null,null,null,null,null,null,null,null,null,null,null,null,"rámeček",null,null,null,3,null,null,null,null,null,null,null,null,null,null,null,null,null,null,null,null,null,null,null,null,{"$f":"ListAVS!$B$152","v":"Jdi na"}]
[]
[null,{"$f":"ListAVS!$B$20&\" ***\"","v":"Široký alurámeček ***"},null,null,null,{"$f":"ListAVS!$B$179&\"  \"","v":"Provedení čel  "},null,null,null,null,{"$f":"U70","v":" "},null,null,null,1,null,null,null,{"$f":"\" \"&ListAVS!$B$41&\" A \"","v":" Cena za korpus A "},null,null,null,null,null,null,null,null,null,null,null,null,null,null,null,null,null,null,null,null," Úvod plánování"]
[null,null,null,null,null,{"$f":"IF($AF$76<>3,$Y$71,\" \")&\"      \"","v":" Změnit hodnoty můžete v Úvodu plánování      "},null,null,null,null,null,null,null,null,"A = 1",null,null,null,{"$f":"\" \"&ListAVS!$B$41&\" B \"","v":" Cena za korpus B "},null,null,null,null,null,null,null,null,null,null,null,null,null,null,null,null,null,null,null,null,{"$f":"\" \"&ListAVS!$B$154","v":" Nápověda"}]
[null,null,null,null,null,null,null,null,null,null,null,null,null,null,"B = 2",null,null,null,{"$f":"\" \"&ListAVS!$B$61","v":" Cena celkem bez DPH"}]
[null,{"$f":"ListAVS!$B$51&\":   \"","v":"Cena kování:   "},null,null,null,null,{"$f":"IF(S2=1,$AF$48,IF($S$2=2,$AH$48,IF($S$2=3,$AD$48,0)))","v":0},null,null,null,null,null,null,null,null,null,null,null,null,null,null,null,null,null,{"$f":"$B$2","v":"AVENTOS HK top"},{"$f":"B5","v":0},null,null,null,null,null,null,null,null,null,null,null,null,null,{"$f":"\" \"&ListAVS!$B$159","v":" Doplňky"}]
[null,null,null,null,null,null,null,{"$f":"IF(AND(OR($U$16=2, $U$27=2), $AD$48>0), $N$34, \" \")","v":" "},null,null,null,null,null,null,null,null,null,null,null,null,null,null,null,null,{"$f":"ListAVS!B52","v":"Název"},{"$f":"ListAVS!$B$53","v":"Číslo artiklu"},{"$f":"ListAVS!B54","v":"Barva"},{"$f":"ListAVS!B56","v":"Ks"},{"$f":"ListAVS!B58","v":"Jednotková cena"},{"$f":"ListAVS!B59","v":"Celkem"},"A","Cena","B","Cena",null,null,null,null,null,null,null,null,{"$f":"\"  \"&ListAVS!$B$86&\" LF \"","v":"  Ukazatel výkonnosti LF "},{"$f":"ListAVS!$B$84&\" \"&ListAVS!$B$349","v":"Zdvihací mechanizmus vruty"},{"$f":"ListAVS!$B$84&\" \"&ListAVS!$B$350","v":"Zdvihací mechanizmus předmont. eurošrouby"}]
[null,{"$f":"\"▼ \"&ListAVS!$B$317","v":"▼ Způsob otvírání"},null,{"$f":"IF($M$17>0, ListAVS!$B$37&\": \", \" \")","v":" "},{"$f":"IF(OR($AE$9>0, $AE$13>0), \"23\", IF(OR($AE$10>0, $AE$14>0), \"25\", IF(OR($AE$11>0, $AE$15>0), \"27\", IF(OR($AE$12>0, $AE$16>0), \"29\", IF(OR($AE$24>0, $AE$28>0), \"23T\", IF(OR($AE$25>0, $AE$29>0), \"25T\", IF(OR($AE$26>0, $AE$30>0), \"27T\", IF(OR($AE$27>0, $AE$31>0), \"29T\", \" \"))))))))","v":" "},{"$f":"ListAVS!$B$64&\" A\"","v":"Korpus A"},null,null,null,null,null,null,null,null,null,null,null,"dva zdvihače",null,2000,{"$f":"T9-1","v":1999},"tři zdvihače",null,null,{"$f":"CenAVS!A54","v":"Sada zdvihačů HK top, na vruty"},{"$f":"CenAVS!B54","v":"22K2300"},{"$f":"CenAVS!C54","v":"ZN"},{"$f":"SUM(AE9,AG9)","v":0},{"$f":"CenAVS!F54","v":1468.44},{"$f":"AB9*AC9","v":0},{"$f":"IF(AND($U$16<>3,$N$44=1),ROUNDUP(SUM(O11:P11)*$M$17,0),0)","v":0},{"$f":"$AC9*AE9","v":0},{"$f":"IF(AND($U$27<>3,$N$44=1),ROUNDUP(SUM(O22:P22)*$M$28,0),0)","v":0},{"$f":"$AC9*AG9","v":0},null,null,null,null,null,{"$f":"\" \"&ListAVS!$B$156","v":" Přehled korpusů"},null,null,"  420 - 1610","22K2300","22K2310"]
[null,{"$f":"ListAVS!$B$74&\" KB [mm] \"","v":"Šířka korpusu KB [mm] "},null,null,null,null,null,null,{"$f":"IF($H10=0,\" \",IF($H10<220,\" min. 220mm\",IF($H10>1800,\" max. 1 800mm\",\" \")))&IF(H17>0,IF(H10=0,\"● \"&ListAVS!$B$128,\" \"),\" \")","v":"  "},null,null,null,null,"zdvih A","dva","tři",null,"min","max","š.max","š. min",false,null,null,{"$f":"CenAVS!A55","v":"Sada zdvihačů HK top, na vruty"},{"$f":"CenAVS!B55","v":"22K2500"},{"$f":"CenAVS!C55","v":"ZN"},{"$f":"SUM(AE10,AG10)","v":0},{"$f":"CenAVS!F55","v":1468.44},{"$f":"AB10*AC10","v":0},{"$f":"IF(AND($U$16<>3,$N$44=1),ROUNDUP(SUM(O12:P12)*$M$17,0),0)","v":0},0,{"$f":"IF(AND($U$27<>3,$N$44=1),ROUNDUP(SUM(O23:P23)*$M$28,0),0)","v":0},0,null,null,null,null,null,{"$f":"\" \"&ListAVS!$B$157","v":" Objednávka"},null,null,"  930 - 2800","22K2500","22K2510"]
[null,{"$f":"ListAVS!$B$75&\" KH [mm]  \"","v":"Výška korpusu KH [mm]  "},null,null,null,null,null,null,{"$f":"IF($H11=0,\" \",IF($H11<205,\" min. 205 mm\",IF($H11>600,\" max. 600 mm\",\" \")))&IF(H17>0,IF(H11=0,\"● \"&ListAVS!$B$128,\" \"),\" \")","v":"  "},null,null,null,null,"K23",{"$f":"IF($V$10=FALSE,IF($H$16>R11,IF($H$16<S11,1,0),0),0)","v":0},{"$f":"IF($V$10=TRUE,IF($H$16>V11,IF($H$16<W11,1.5,0),0),0)","v":0},null,419,1200,null,null,629,1800,null,{"$f":"CenAVS!A56","v":"Sada zdvihačů HK top, na vruty"},{"$f":"CenAVS!B56","v":"22K2700"},{"$f":"CenAVS!C56","v":"ZN"},0,{"$f":"CenAVS!F56","v":1475.61},0,{"$f":"IF(AND($U$16<>3,$N$44=1),ROUNDUP(SUM(O13:P13)*$M$17,0),0)","v":0},0,{"$f":"IF(AND($U$27<>3,$N$44=1),ROUNDUP(SUM(O24:P24)*$M$28,0),0)","v":0},0,null,null,null,null,null,null,null,null,"  1730 - 5200","22K2700","22K2710"]
[null,{"$f":"ListAVS!$B$78&\" [kg] ** \"","v":"Hmotnost čela vč. 2x hmotnost úchytky [kg] ** "},null,null,null,null,null,null,{"$f":"IF($H17=0,\" \",IF(SUM($H12,$H15)=0,$N$35,\" \"))&IF(AND($H17>0,$M17>0), IF($H12>0,$N$37,\" \"),\" \")","v":"  "},null,null,null,null,"K25",{"$f":"IF($V$10=FALSE,IF($H$16>R12,IF($H$16<S12,1,0),0),0)","v":0},{"$f":"IF($V$10=TRUE,IF($H$16>V12,IF($H$16<W12,1.5,0),0),0)","v":0},null,1200,2200,null,null,1800,3300,null,{"$f":"CenAVS!A57","v":"Sada zdvihačů HK top, na vruty"},{"$f":"CenAVS!B57","v":"22K2900"},{"$f":"CenAVS!C57","v":"ZN"},0,{"$f":"CenAVS!F57","v":1726.54},0,{"$f":"IF(AND($U$16<>3,$N$44=1),ROUNDUP(SUM(O14:P14)*$M$17,0),0)","v":0},0,{"$f":"IF(AND($U$27<>3,$N$44=1),ROUNDUP(SUM(O25:P25)*$M$28,0),0)","v":0},0,null,null,null,null,null,null,null,null,"  3200 - 9000","22K2900","22K2910"]
[null,{"$f":"ListAVS!$B$292","v":"Výpočet hmotnosti"},null,{"$f":"ListAVS!$B$80&\" TS [mm] \"","v":"Síla čela TS [mm] "},null,null,null,null,null,null,null,null,null,"K27",{"$f":"IF($V$10=FALSE,IF($H$16>R13,IF($H$16<S13,1,0),0),0)","v":0},{"$f":"IF($V$10=TRUE,IF($H$16>V13,IF($H$16<W13,1.5,0),0),0)","v":0},null,2200,4200,null,null,3300,6300,null,{"$f":"CenAVS!A58","v":"Sada zdvihačů HK top, předmont. eurošrouby"},{"$f":"CenAVS!B58","v":"22K2310"},{"$f":"CenAVS!C58","v":"ZN"},0,{"$f":"CenAVS!F58","v":1468.44},0,{"$f":"IF(AND($U$16<>3,$N$44=2),ROUNDUP(SUM(O11:P11)*$M$17,0),0)","v":0},0,{"$f":"IF(AND($U$27<>3,$N$44=2),ROUNDUP(SUM(O22:P22)*$M$28,0),0)","v":0},0]
[null,null,null,{"$f":"ListAVS!$B$83&\" [kg] \"","v":"Hmotnost úchytky [kg] "},null,null,null,null,{"$f":"IF(OR(H17=0, $M17=0), \" \", IF(AND(H12=0, U16=1, H14=0), \" ● \"&ListAVS!$B$129,\" \"))","v":" "},null,null,null,null,"K29",{"$f":"IF($V$10=FALSE,IF($H$16>R14,IF($H$16<S14,1,0),0),0)","v":0},{"$f":"IF($V$10=TRUE,IF($H$16>V14,IF($H$16<W14,1.5,0),0),0)","v":0},null,4200,9001,null,null,6300,13501,null,{"$f":"CenAVS!A59","v":"Sada zdvihačů HK top, předmont. eurošrouby"},{"$f":"CenAVS!B59","v":"22K2510"},{"$f":"CenAVS!C59","v":"ZN"},0,{"$f":"CenAVS!F59","v":1468.44},0,{"$f":"IF(AND($U$16<>3,$N$44=2),ROUNDUP(SUM(O12:P12)*$M$17,0),0)","v":0},0,{"$f":"IF(AND($U$27<>3,$N$44=2),ROUNDUP(SUM(O23:P23)*$M$28,0),0)","v":0},0,null,null,null,null,null,null,null,null,{"$f":"ListAVS!$B$349&\" = \"&ListAVS!$B$351","v":"vruty = zdvihače s integrovanou šablonou (bez nutnosti rozměřování)"}]
[null,null,null,{"$f":"ListAVS!$B$79&\" [kg] \"","v":"Vypočtená hmotnost čela [kg] "},null,null,null,{"$f":"$T$80","v":0},{"$f":"IF(AND($H17>0,$M17>0), IF($H15>0,IF($H12=0,$N$37,\" \"),\" \"),\" \")","v":" "},null,null,null,null,null,null,null,null,null,null,null,{"$f":"IF(U16=1,$V$46,IF(U16=2,$V$47,$V$48))","v":"Standard"},null,null,null,{"$f":"CenAVS!A60","v":"Sada zdvihačů HK top, předmont. eurošrouby"},{"$f":"CenAVS!B60","v":"22K2710"},{"$f":"CenAVS!C60","v":"ZN"},0,{"$f":"CenAVS!F60","v":1475.61},0,{"$f":"IF(AND($U$16<>3,$N$44=2),ROUNDUP(SUM(O13:P13)*$M$17,0),0)","v":0},0,{"$f":"IF(AND($U$27<>3,$N$44=2),ROUNDUP(SUM(O24:P24)*$M$28,0),0)","v":0},0,null,null,null,null,null,null,null,null,{"$f":"ListAVS!$B$350&\" = \"&ListAVS!$B$352","v":"předmont. eurošrouby = zdvihače s předmotovanými šrouby (nutné předvrtání)"}]
[null,null,null,{"$f":"ListAVS!$B$86&\" LF \"","v":"Ukazatel výkonnosti LF "},null,null,null,{"$f":"IF(H12>0,H11*H12,H11*H15)","v":0},{"$f":"IF(H17=0,\" \",IF($H16<420,$N$39,IF($H16>13500,$N$40,IF($H16>9000,IF(V10=FALSE,$N$41,\" \"),\" \"))))","v":" "},null,null,null,null,null,null,null,null,null,null,null,1,null,null,null,{"$f":"CenAVS!A61","v":"Sada zdvihačů HK top, předmont. eurošrouby"},{"$f":"CenAVS!B61","v":"22K2910"},{"$f":"CenAVS!C61","v":"ZN"},0,{"$f":"CenAVS!F61","v":1726.54},0,{"$f":"IF(AND($U$16<>3,$N$44=2),ROUNDUP(SUM(O14:P14)*$M$17,0),0)","v":0},0,{"$f":"IF(AND($U$27<>3,$N$44=2),ROUNDUP(SUM(O25:P25)*$M$28,0),0)","v":0},0]
[null,{"$f":"ListAVS!$B$71&\" \"","v":"Počet skříněk "},null,null,null,null,null,null,null,null,null,null,{"$f":"IF($H10*$H11*$T17=0,0,IF(OR($H11<210,$H11>600,$H16<420,$H16>13500),0,IF(AND(H16>9000,V10=FALSE),0,$H17)))","v":0},null,null,null,null,null,"hmot =",{"$f":"IF(H12>0,H12,H15)","v":0},{"$f":"IF(SUM(H12,H15)=0,0,IF(H12>0,1,2))","v":0},"zadaná / vypočtená",null,null,{"$f":"CenAVS!A62","v":"Sada krytek HK top, světle šedá"},{"$f":"CenAVS!B62","v":"22K8000"},{"$f":"CenAVS!C62","v":"HG "},0,{"$f":"CenAVS!F62","v":211.38},0,{"$f":"IF($U$16<>2,IF($T$44=1,SUM($AE$9:$AE$16, $AE$24:$AE$31),0),0)","v":0},0,{"$f":"IF($U$27<>2,IF($T$44=1,SUM($AG$9:$AG$16, $AG$24:$AG$31),0),0)","v":0},0]
[null,{"$f":"IF(H17>0,IF(U17=0,\" \",IF(U17=1,$N$49,$N$50)),\" \")&IF(H17>0,IF(U17=0,\" \",IF(U17=1,$N$51,$N$52)),\" \")","v":"  "},null,null,null,null,null,null,null,null,null,null,null,null,null,null,null,null,null,null,null,null,null,null,{"$f":"CenAVS!A63","v":"Sada krytek HK top, tmavě šedá"},{"$f":"CenAVS!B63","v":"22K8000"},{"$f":"CenAVS!C63","v":"TGR"},0,{"$f":"CenAVS!F63","v":231.45},0,{"$f":"IF($U$16<>2,IF($T$44=2,SUM($AE$9:$AE$16, $AE$24:$AE$31),0),0)","v":0},0,{"$f":"IF($U$27<>2,IF($T$44=2,SUM($AG$9:$AG$16, $AG$24:$AG$31),0),0)","v":0},0,null,null,null,null,null,null,null,null,{"$f":"ListAVS!$B$86&\" LF = \"&ListAVS!$B$75&\" KH [mm] x \"&ListAVS!$B$78&\" [kg]\"","v":"Ukazatel výkonnosti LF = Výška korpusu KH [mm] x Hmotnost čela vč. 2x hmotnost úchytky [kg]"}]
[null,null,null,null,null,null,null,null,null,null,null,null,null,null,null,null,null,null,null,null,null,null,null,null,{"$f":"CenAVS!A64","v":"Sada krytek HK top, bílá"},{"$f":"CenAVS!B64","v":"22K8000"},{"$f":"CenAVS!C64","v":"SW "},0,{"$f":"CenAVS!F64","v":231.45},0,{"$f":"IF($U$16<>2,IF($T$44=3,SUM($AE$9:$AE$16, $AE$24:$AE$31),0),0)","v":0},0,{"$f":"IF($U$27<>2,IF($T$44=3,SUM($AG$9:$AG$16, $AG$24:$AG$31),0),0)","v":0},0]
[null,{"$f":"\"▼ \"&ListAVS!$B$317","v":"▼ Způsob otvírání"},null,{"$f":"IF($M$28>0, ListAVS!$B$37&\": \", \" \")","v":" "},{"$f":"IF(OR($AG$9>0, $AG$13>0), \"23\", IF(OR($AG$10>0, $AG$14>0), \"25\", IF(OR($AG$11>0, $AG$15>0), \"27\", IF(OR($AG$12>0, $AG$16>0), \"29\", IF(OR($AG$24>0, $AG$28>0), \"23T\", IF(OR($AG$25>0, $AG$29>0), \"25T\", IF(OR($AG$26>0, $AG$30>0), \"27T\", IF(OR($AG$27>0, $AG$31>0), \"29T\", \" \"))))))))","v":" "},{"$f":"ListAVS!$B$64&\" B\"","v":"Korpus B"},null,null,null,null,null,null,null,null,null,null,null,"dva zdvihače",null,null,null,"tři zdvihače",null,null,{"$f":"CenAVS!A65","v":"Sada krytek HK top, SERVO-DRIVE, sv.šedá"},{"$f":"CenAVS!B65","v":"23K8000"},{"$f":"CenAVS!C65","v":"HG "},0,{"$f":"CenAVS!F65","v":2493.35},0,{"$f":"IF($U$16=2,IF($T$44=1,SUM($AE$9:$AE$16),0),0)","v":0},0,{"$f":"IF($U$27=2,IF($T$44=1,SUM($AG$9:$AG$16),0),0)","v":0},0]
[null,{"$f":"ListAVS!$B$74&\" KB [mm] \"","v":"Šířka korpusu KB [mm] "},null,null,null,null,null,null,{"$f":"IF($H21=0,\" \",IF($H21<220,\" min. 220mm\",IF($H21>1800,\" max. 1 800mm\",\" \")))&IF(H28>0,IF(H21=0,\"● \"&ListAVS!$B$128,\" \"),\" \")","v":"  "},null,null,null,null,"zdvih B","dva","tři",null,"min","max",null,null,false,null,null,{"$f":"CenAVS!A66","v":"Sada krytek HK top, SERVO-DRIVE, tm.šedá"},{"$f":"CenAVS!B66","v":"23K8000"},{"$f":"CenAVS!C66","v":"TGR"},0,{"$f":"CenAVS!F66","v":2595.3000000000002},0,{"$f":"IF($U$16=2,IF($T$44=2,SUM($AE$9:$AE$16),0),0)","v":0},0,{"$f":"IF($U$27=2,IF($T$44=2,SUM($AG$9:$AG$16),0),0)","v":0},0]
[null,{"$f":"ListAVS!$B$75&\" KH [mm] \"","v":"Výška korpusu KH [mm] "},null,null,null,null,null,null,{"$f":"IF($H22=0,\" \",IF($H22<205,\" min. 205 mm\",IF($H22>600,\" max. 600 mm\",\" \")))&IF(H28>0,IF(H22=0,\"● \"&ListAVS!$B$128,\" \"),\" \")","v":"  "},null,null,null,null,"K23",{"$f":"IF($V$21=FALSE,IF($H$27>R22,IF($H$27<S22,1,0),0),0)","v":0},{"$f":"IF($V$21=TRUE,IF($H$27>V22,IF($H$27<W22,1.5,0),0),0)","v":0},null,419,1200,null,null,629,1800,null,{"$f":"CenAVS!A67","v":"Sada krytek HK top, SERVO-DRIVE, bílá"},{"$f":"CenAVS!B67","v":"23K8000"},{"$f":"CenAVS!C67","v":"SW "},0,{"$f":"CenAVS!F67","v":2595.3000000000002},0,{"$f":"IF($U$16=2,IF($T$44=3,SUM($AE$9:$AE$16),0),0)","v":0},0,{"$f":"IF($U$27=2,IF($T$44=3,SUM($AG$9:$AG$16),0),0)","v":0},0]
[null,{"$f":"ListAVS!$B$78&\" [kg] ** \"","v":"Hmotnost čela vč. 2x hmotnost úchytky [kg] ** "},null,null,null,null,null,null,{"$f":"IF($H28=0,\" \",IF(AND($H23=0, $H26=0,$AF$87=3), $N$35,\" \"))&IF(AND($H28>0,M28>0), IF($H23>0,$N$37,\" \"),\" \")","v":"  "},null,null,null,null,"K25",{"$f":"IF($V$21=FALSE,IF($H$27>R23,IF($H$27<S23,1,0),0),0)","v":0},{"$f":"IF($V$21=TRUE,IF($H$27>V23,IF($H$27<W23,1.5,0),0),0)","v":0},null,1200,2200,null,null,1800,3300,null,{"$f":"CenAVS!A68","v":0},{"$f":"CenAVS!B68","v":0},{"$f":"CenAVS!C68","v":0},0,{"$f":"CenAVS!F68","v":0},0,null,0,null,0]
[null,{"$f":"ListAVS!$B$292","v":"Výpočet hmotnosti"},null,{"$f":"ListAVS!$B$80&\" TS [mm] \"","v":"Síla čela TS [mm] "},null,null,null,null,null,null,null,null,null,"K27",{"$f":"IF($V$21=FALSE,IF($H$27>R24,IF($H$27<S24,1,0),0),0)","v":0},{"$f":"IF($V$21=TRUE,IF($H$27>V24,IF($H$27<W24,1.5,0),0),0)","v":0},null,2200,4200,null,null,3300,6300,null,{"$f":"CenAVS!A69","v":"Sada zdvihačů HK top, TIP-ON, na vruty"},{"$f":"CenAVS!B69","v":"22K2300T"},{"$f":"CenAVS!C69","v":"ZN"},0,{"$f":"CenAVS!F69","v":1575.99},0,{"$f":"IF(AND($U$16=3,$N$44=1),ROUNDUP(SUM(O11:P11)*$M$17,0),0)","v":0},0,{"$f":"IF(AND($U$27=3,$N$44=1),ROUNDUP(SUM(O22:P22)*$M$28,0),0)","v":0},0]
[null,null,null,{"$f":"ListAVS!$B$83&\" [kg] \"","v":"Hmotnost úchytky [kg] "},null,null,null,null,{"$f":"IF(OR(H28=0, $M28=0), \" \", IF(AND(H23=0, U27=1, H25=0), \" ● \"&ListAVS!$B$129,\" \"))","v":" "},null,null,null,null,"K29",{"$f":"IF($V$21=FALSE,IF($H$27>R25,IF($H$27<S25,1,0),0),0)","v":0},{"$f":"IF($V$21=TRUE,IF($H$27>V25,IF($H$27<W25,1.5,0),0),0)","v":0},null,4200,9001,null,null,6300,13501,null,{"$f":"CenAVS!A70","v":"Sada zdvihačů HK top, TIP-ON, na vruty"},{"$f":"CenAVS!B70","v":"22K2500T"},{"$f":"CenAVS!C70","v":"ZN"},0,{"$f":"CenAVS!F70","v":1575.99},0,{"$f":"IF(AND($U$16=3,$N$44=1),ROUNDUP(SUM(O12:P12)*$M$17,0),0)","v":0},0,{"$f":"IF(AND($U$27=3,$N$44=1),ROUNDUP(SUM(O23:P23)*$M$28,0),0)","v":0},0]
[null,null,null,{"$f":"ListAVS!$B$79&\" [kg] \"","v":"Vypočtená hmotnost čela [kg] "},null,null,null,{"$f":"$T$91","v":0},{"$f":"IF(AND($H28>0, $M28>0), IF($H26>0,IF($H23=0,$N$37,\" \"),\" \"),\" \")","v":" "},null,null,null,null,null,null,null,null,null,null,null,{"$f":"IF(U27=1,$V$46,IF(U27=2,$V$47,$V$48))","v":"Standard"},null,null,null,{"$f":"CenAVS!A71","v":"Sada zdvihačů HK top, TIP-ON, na vruty"},{"$f":"CenAVS!B71","v":"22K2700T"},{"$f":"CenAVS!C71","v":"ZN"},0,{"$f":"CenAVS!F71","v":1676.35},0,{"$f":"IF(AND($U$16=3,$N$44=1),ROUNDUP(SUM(O13:P13)*$M$17,0),0)","v":0},0,{"$f":"IF(AND($U$27=3,$N$44=1),ROUNDUP(SUM(O24:P24)*$M$28,0),0)","v":0},0]
[null,null,null,{"$f":"ListAVS!$B$86&\" LF \"","v":"Ukazatel výkonnosti LF "},null,null,null,{"$f":"IF(H23>0,H22*H23,H22*H26)","v":0},{"$f":"IF(H28=0,\" \",IF($H27<420,$N$39,IF($H27>13500,$N$40,IF($H27>9000,IF(V21=FALSE,$N$41,\" \"),\" \"))))","v":" "},null,null,null,null,null,null,null,null,null,null,null,1,null,null,null,{"$f":"CenAVS!A72","v":"Sada zdvihačů HK top, TIP-ON, na vruty"},{"$f":"CenAVS!B72","v":"22K2900T"},{"$f":"CenAVS!C72","v":"ZN"},0,{"$f":"CenAVS!F72","v":1927.28},0,{"$f":"IF(AND($U$16=3,$N$44=1),ROUNDUP(SUM(O14:P14)*$M$17,0),0)","v":0},0,{"$f":"IF(AND($U$27=3,$N$44=1),ROUNDUP(SUM(O25:P25)*$M$28,0),0)","v":0},0]
[null,{"$f":"ListAVS!$B$71&\" \"","v":"Počet skříněk "},null,null,null,null,null,null,null,null,null,null,{"$f":"IF($H21*$H22*$T28=0,0,IF(OR($H22<210,$H22>600,$H27<420,$H27>13500),0,IF(AND(H27>9000,V21=FALSE),0,$H28)))","v":0},null,null,null,null,null,"hmot =",{"$f":"IF(H23>0,H23,H26)","v":0},{"$f":"IF(SUM(H23,H26)=0,0,IF(H23>0,1,2))","v":0},"zadaná / vypočtená",null,null,{"$f":"CenAVS!A73","v":"Sada zdvihačů HK top, TIP-ON, předmont. eurošrouby"},{"$f":"CenAVS!B73","v":"22K2310T"},{"$f":"CenAVS!C73","v":"ZN"},0,{"$f":"CenAVS!F73","v":1575.99},0,{"$f":"IF(AND($U$16=3,$N$44=2),ROUNDUP(SUM(O11:P11)*$M$17,0),0)","v":0},0,{"$f":"IF(AND($U$27=3,$N$44=2),ROUNDUP(SUM(O22:P22)*$M$28,0),0)","v":0},0]
[null,{"$f":"IF(H28>0,IF(U28=0,\" \",IF(U28=1,$N$49,$N$50)),\" \")&IF(H28>0,IF(U28=0,\" \",IF(U28=1,$N$51,$N$52)),\" \")","v":"  "},null,null,null,null,null,null,null,null,null,null,null,null,null,null,null,null,null,null,null,null,null,null,{"$f":"CenAVS!A74","v":"Sada zdvihačů HK top, TIP-ON, předmont. eurošrouby"},{"$f":"CenAVS!B74","v":"22K2510T"},{"$f":"CenAVS!C74","v":"ZN"},0,{"$f":"CenAVS!F74","v":1575.99},0,{"$f":"IF(AND($U$16=3,$N$44=2),ROUNDUP(SUM(O12:P12)*$M$17,0),0)","v":0},0,{"$f":"IF(AND($U$27=3,$N$44=2),ROUNDUP(SUM(O23:P23)*$M$28,0),0)","v":0},0]
[null,null,null,null,null,null,null,null,null,null,null,null,null,null,null,null,null,null,{"$f":"IF($T$30=FALSE,2,1)","v":2},false,null," - Zdroj",null,null,{"$f":"CenAVS!A75","v":"Sada zdvihačů HK top, TIP-ON, předmont. eurošrouby"},{"$f":"CenAVS!B75","v":"22K2710T"},{"$f":"CenAVS!C75","v":"ZN"},0,{"$f":"CenAVS!F75","v":1676.35},{"$f":"AB30*AC30","v":0},{"$f":"IF(AND($U$16=3,$N$44=2),ROUNDUP(SUM(O13:P13)*$M$17,0),0)","v":0},0,{"$f":"IF(AND($U$27=3,$N$44=2),ROUNDUP(SUM(O24:P24)*$M$28,0),0)","v":0},{"$f":"$AC30*AG30","v":0}]
[null,{"$f":"IF(OR(AND($U$16=2, $M$17>0), AND($U$27=2, $M$28>0)), ListAVS!$B$175, \" \")","v":" "},null,null,null,null,null,null,null,null,null,null,null,null,null,null,null,null,null,null,null,null,null,null,{"$f":"CenAVS!A76","v":"Sada zdvihačů HK top, TIP-ON, předmont. eurošrouby"},{"$f":"CenAVS!B76","v":"22K2910T"},{"$f":"CenAVS!C76","v":"ZN"},0,{"$f":"CenAVS!F76","v":1927.28},0,{"$f":"IF(AND($U$16=3,$N$44=2),ROUNDUP(SUM(O14:P14)*$M$17,0),0)","v":0},0,{"$f":"IF(AND($U$27=3,$N$44=2),ROUNDUP(SUM(O25:P25)*$M$28,0),0)","v":0},0]
[null,null,null,null,null,null,null,null,null,null,null,null,null,null,null,null,null,null,null,null,null,null,null,null,{"$f":"CenAVS!A77","v":0},{"$f":"CenAVS!B77","v":0},{"$f":"CenAVS!C77","v":0},0,{"$f":"CenAVS!F77","v":0},0,null,0,null,0]
[null,null,null,null,null,null,null,null,null,null,null,null,null,null,null,null,null,null,null,null,null,null,null,null,{"$f":"CenAVS!A78","v":"Sada čel.kování pro dřev. čela"},{"$f":"CenAVS!B78","v":"20S4200"},{"$f":"CenAVS!C78","v":"NI"},0,{"$f":"CenAVS!F78","v":90.38},0,{"$f":"SUM(AE$9:AE$16, $AE$24:$AE$31)","v":0},0,{"$f":"SUM(AG$9:AG$16, $AG$24:$AG$31)","v":0},0]
[null,null,null,null,null,null,null,null,null,null,null,null,null,{"$f":"ListAVS!B176","v":"Cena bez napájecího zdroje!"},null,null,null,null,null,null,null,null,null,null,{"$f":"CenAVS!A79","v":"Čelní.kování pro dřev. čela EXPANDO"},{"$f":"CenAVS!B79","v":"20S42E1"},{"$f":"CenAVS!C79","v":"NI"},0,{"$f":"CenAVS!F79","v":51.36},0,null,0,null,0]
[null,null,null,null,null,null,null,null,null,null,null,null,null,{"$f":"\" \"&ListAVS!$B$116","v":" Zadejte hmotnost nebo vyplňte nahoře sílu skla"},null,null,null,null,null,null,null,null,null,null,{"$f":"CenAVS!A80","v":"Sada čel.kování pro tenké materiály"},{"$f":"CenAVS!B80","v":"20S42T1"},{"$f":"CenAVS!C80","v":"NI"},0,{"$f":"CenAVS!F80","v":291.60000000000002},0,null,0,null,0]
[null,null,{"$f":"\"** \"&ListAVS!$B$186","v":"** Pokud znáte hmotnost a nechcete využít výpočtu hmotnosti"},null,null,null,null,null,null,null,null,null,null,{"$f":"\" \"&ListAVS!$B$115","v":" Zadejte hmotnost nebo vyplňte všechny buňky"},null,null,null,null,null,null,null,null,null,null,{"$f":"CenAVS!A81","v":"Sada čel.kování pro úzké alurámečky"},{"$f":"CenAVS!B81","v":"20S4200A"},{"$f":"CenAVS!C81","v":"NI"},0,{"$f":"CenAVS!F81","v":395.5},0,null,0,null,0]
[null,null,{"$f":"\"*** \"&ListAVS!$B$403","v":"*** Vyberte typ alurámečku!"},null,null,null,null,null,null,null,null,null,null,{"$f":"\"◄ \"&ListAVS!$B$111","v":"◄ hodnota bude použita pro výpočet LF"},null,null,null,null,null,null,null,null,null,null,{"$f":"CenAVS!A82","v":0},{"$f":"CenAVS!B82","v":0},{"$f":"CenAVS!C82","v":0},0,{"$f":"CenAVS!F82","v":0},0,null,0,null,0]
[null,null,{"$f":"\"      \"&ListAVS!$B$404","v":"      Více informací k výběru alurámečků v Nápovědě"},null,null,null,null,null,null,null,null,null,null,{"$f":"\" * \"&ListAVS!$B$127","v":" * Doplňte hodnoty"},null,null,null,null,null,null,null,null,null,null,{"$f":"CenAVS!A185","v":"TIP-ON, krátká verze, šedá"},{"$f":"CenAVS!B185","v":"956.1004"},{"$f":"CenAVS!C185","v":"PG"},{"$f":"SUM(AE38,AG38)","v":0},{"$f":"CenAVS!F185","v":116.95},{"$f":"AB38*AC38","v":0},{"$f":"IF(AND($T$44<3,$U$16=3),IF($H$11<=500,$M$17,0),0)","v":0},{"$f":"$AC38*AE38","v":0},{"$f":"IF(AND($T$44<3,$U$27=3),IF($H$22<=500,$M$28,0),0)","v":0},{"$f":"$AC38*AG38","v":0}]
[null,null,null,null,null,null,null,null,null,null,null,null,null,{"$f":"\" min. 420! \"&ListAVS!$B$121","v":" min. 420! Upravte hmotnost nebo výšku"},null,null,null,null,null,null,null,null,null,null,{"$f":"CenAVS!A186","v":"TIP-ON, krátká verze, hedvábně bílá"},{"$f":"CenAVS!B186","v":"956.1004"},{"$f":"CenAVS!C186","v":"SW"},0,{"$f":"CenAVS!F186","v":116.95},0,{"$f":"IF(AND($T$44=3,$U$16=3),IF($H$11<=500,$M$17,0),0)","v":0},0,{"$f":"IF(AND($T$44=3,$U$27=3),IF($H$22<=500,$M$28,0),0)","v":0},0]
[null,null,null,null,null,null,null,null,null,null,null,null,null,{"$f":"\" max. 9 000! \"&ListAVS!$B$121","v":" max. 9 000! Upravte hmotnost nebo výšku"},null,null,null,null,null,null,null,null,null,null,{"$f":"CenAVS!A187","v":"TIP-ON, krátká verze, karbon černá"},{"$f":"CenAVS!B187","v":"956.1004"},{"$f":"CenAVS!C187","v":"CS"},0,{"$f":"CenAVS!F187","v":116.95},0,null,0,null,0]
[null,null,null,null,null,null,null,null,null,null,null,null,null,{"$f":"\" max. 9 000! \"&ListAVS!$B$121","v":" max. 9 000! Upravte hmotnost nebo výšku"},null,null,null,null,null,null,null,null,null,null,{"$f":"CenAVS!A188","v":"TIP-ON, dlouhá verze, šedá"},{"$f":"CenAVS!B188","v":"956A1004"},{"$f":"CenAVS!C188","v":"PG"},0,{"$f":"CenAVS!F188","v":146.75},0,{"$f":"IF(AND($T$44<3,$U$16=3),IF($H$11>500,$M$17,0),0)","v":0},0,{"$f":"IF(AND($T$44<3,$U$27=3),IF($H$22>500,$M$28,0),0)","v":0},0]
[null,null,null,null,null,null,null,null,null,null,null,null,null,{"$f":"\"                       \"&ListAVS!$B$122","v":"                       nebo přidejte třetí zdvihač"},null,null,null,null,null,null,null,null,null,null,{"$f":"CenAVS!A189","v":"TIP-ON, dlouhá verze, hedvábně bílá"},{"$f":"CenAVS!B189","v":"956A1004"},{"$f":"CenAVS!C189","v":"WA"},0,{"$f":"CenAVS!F189","v":146.75},0,{"$f":"IF(AND($T$44=3,$U$16=3),IF($H$11>500,$M$17,0),0)","v":0},0,{"$f":"IF(AND($T$44=3,$U$27=3),IF($H$22>500,$M$28,0),0)","v":0},0]
[null,null,null,null,null,null,null,null,null,null,null,null,null,null,null,null,null,null,null,null,null,null,null,null,{"$f":"CenAVS!A190","v":"TIP-ON, dlouhá verze, karbon černá"},{"$f":"CenAVS!B190","v":"956A1004"},{"$f":"CenAVS!C190","v":"CS"},0,{"$f":"CenAVS!F190","v":146.75},0,null,0,null,0]
[null,null,null,null,null,null,null,null,null,null,null,null,null,{"$f":"HK!$P$26","v":1},null,1,null,{"$f":"HK!$N$26","v":2},2,{"$f":"MenuAVS!$P$28","v":1},null,null,null,null,{"$f":"CenAVS!A169","v":0},{"$f":"CenAVS!B169","v":0},{"$f":"CenAVS!C169","v":0},null,{"$f":"CenAVS!F169","v":0},0,null,0,null,0]
[null,null,null,null,null,null,null,null,null,null,null,null,null,"zdvihač",null,"střed.",null,"čelní kov.","alu","kryt.",null,"provedení"]
[null,null,null,null,null,null,null,null,null,null,null,null,null,"vruty",null,null,null,{"$f":"ListAVS!$B$142","v":"Expando"},null,{"$f":"ListAVS!$B$145","v":"Světle šedá (HGR)"},null,"Standard",null,null,{"$f":"CenAVS!A172","v":"SERVO-DRIVE jednotka (sada) pro HK top"},{"$f":"CenAVS!B172","v":"23KA000"},{"$f":"CenAVS!C172","v":"R7037"},{"$f":"SUM(AE46,AG46)","v":0},{"$f":"CenAVS!F172","v":8251.18},{"$f":"AB46*AC46","v":0},{"$f":"IF($U$16=2, $M$17, 0)","v":0},{"$f":"$AC46*AE46","v":0},{"$f":"IF($U$27=2, $M$28, 0)","v":0},{"$f":"$AC46*AG46","v":0}]
[null,null,null,null,null,null,null,null,null,null,null,null,null,"šrouby",null,null,null,{"$f":"ListAVS!$B$143","v":"na vruty"},null,{"$f":"ListAVS!$B$146","v":"Tmavě šedá (TGR)"},null,"SERVO-DRIVE"]
[null,null,null,null,null,null,null,null,null,null,null,null,null,null,null,null,null,null,null,{"$f":"ListAVS!$B$147","v":"Hedvábně bílá (SW)"},null,"TIP-ON",null,null,null,null,null,null,{"$f":"ListAVS!$B$61&\" \"","v":"Cena celkem bez DPH "},{"$f":"SUM(AD9:AD47)","v":0},null,{"$f":"SUM(AF9:AF47)","v":0},null,{"$f":"SUM(AH9:AH47)","v":0}]
[null,null,null,null,null,null,null,null,null,null,null,null,null,{"$f":"ListAVS!B187&\". \"","v":"Pro určení typu zdvihače bude použita zadaná hmotnost. "}]
[null,null,null,null,null,null,null,null,null,null,null,null,null,{"$f":"ListAVS!B188&\". \"","v":"Pro určení typu zdvihače bude použita vypočtená hmotnost. "}]
[null,null,null,null,null,null,null,null,null,null,null,null,null,{"$f":"ListAVS!B189","v":"Chcete-li použít vypočtenou hmotnost, smažte zadanou hodnotu"}]
[null,null,null,null,null,null,null,null,null,null,null,null,null,{"$f":"ListAVS!B190","v":"Chcete-li použít zadanou hmotnost, zadejte ji do políčka"}]
[]
[]
[]
[]
[]
[]
[]
[]
[]
[]
[]
[]
[]
[]
[]
[]
[null,null,null,null,null,null,null,null,null,null,null,null,null,{"$f":"ListAVS!$B$73","v":"Výpočet hmotnosti čel"}]
[null,null,null,null,null,null,null,null,null,null,null,null,null,null,null,{"$f":"ListAVS!$B$179&\"  \"","v":"Provedení čel  "},null,null,null,{"$f":"J4","v":0},{"$f":"IF(AF76=3,IF(T70=0,Y72,\" \"),IF(T70>0,Y73,\" \"))","v":" "},null,null,null,{"$f":"IF($AF$76=1,$AF$95,IF($AF$76=2,$AF$96,$AF$97&\" - \"&$Y$80&\"mm\"))","v":"Alurámečky s 4mm sklem"},null,null,null,null,{"$f":"MenuAVS!$Q$81","v":2500}]
[null,null,null,null,null,null,null,null,null,null,null,null,null,null,null,null,null,null,null,null,null,null,null,null,{"$f":"\" \"&ListAVS!$B$410","v":" Změnit hodnoty můžete v Úvodu plánování"}]
[null,null,null,null,null,null,null,null,null,null,null,null,null,null,null,null,null,null,null,null,null,null,null,null,{"$f":"\" \"&ListAVS!$B$245&\" [mm]\"","v":" Zadejte sílu skla [mm]"}]
[null,null,null,null,null,null,null,null,null,null,null,null,null,null,null,null,null,null,null,null,null,null,null,null,{"$f":"\" \"&ListAVS!$B$240&\" '\"&ListAVS!$B$95&\"'\"","v":" Hodnota platí jen pro volbu 'Alurámečky s jiným sklem'"}]
[]
[null,null,null,null,null,null,null,null,null,null,null,null,null,null,null,null,null,{"$f":"D9","v":" "},null,null,null,null,null,null,null,null,null,null,null,null,"váha spoj.","tl. skla","typ alu"]
[null,null,null,null,null,null,null,null,null,null,null,null,null,{"$f":"ListAVS!$B$74&\" KB [mm]       \"","v":"Šířka korpusu KB [mm]       "},null,null,null,null,null,{"$f":"H10","v":0},null,null,null,null,{"$f":"T76*T77*T78","v":0},null,null,null,null,{"$f":"IF($AG$76=1,$X$95,$X$96)","v":0.62},{"$f":"$X$97","v":0.61},1,{"$f":"$O$4","v":1}]
[null,null,null,null,null,null,null,null,null,null,null,null,null,{"$f":"ListAVS!$B$75&\" KH [mm]       \"","v":"Výška korpusu KH [mm]       "},null,null,null,null,null,{"$f":"H11","v":0},null,null,null,null,{"$f":"Y76/1000000000","v":0},1,null,null,null,"váha alu",{"$f":"SUM(T76*2,(T77-90)*2)*AD76/1000","v":-0.11159999999999999},"A plocha B"]
[null,null,null,null,null,null,null,null,null,null,null,null,null,{"$f":"ListAVS!$B$80&\" TS [mm] \"","v":"Síla čela TS [mm] "},null,null,null,null,null,null,null,null,null,null,{"$f":"MenuAVS!$C$31","v":760},{"$f":"ListAVS!$B$90&\" (\"&Y78&\" kg/m3)\"","v":"MDF (760 kg/m3)"},null,null,null,{"$f":"$AD$70*4/1000","v":10},{"$f":"IF($AG$76=1,AF78*AD78,AG78*AD78)","v":6.4000000000000001E-2},{"$f":"SUM(($T$76-80)*($T$77-80)/1000000)","v":6.4000000000000003E-3},{"$f":"SUM(($T$76-6)*($T$77-6)/1000000)","v":3.6000000000000001E-5},"4mm"]
[null,null,null,null,null,null,null,null,null,null,null,null,null,{"$f":"ListAVS!$B$83&\" [kg] \"","v":"Hmotnost úchytky [kg] "},null,null,null,null,null,{"$f":"H14","v":0},{"$f":"IF($U$16=3,\" \",IF(SUM(T76,T77)=0,\" \",IF(T79=0,\" ● \"&ListAVS!$B$129,\" \")))","v":" "},null,null,null,{"$f":"MenuAVS!$C$32","v":680},{"$f":"ListAVS!$B$91&\" (\"&Y79&\" kg/m3)\"","v":"Dřevotříska (680 kg/m3)"},null,null,null,{"$f":"$AD$70*5/1000","v":12.5},{"$f":"IF($AG$76=1,AF79*AD79,AG79*AD79)","v":0.08},{"$f":"SUM(($T$76-80)*($T$77-80)/1000000)","v":6.4000000000000003E-3},{"$f":"SUM(($T$76-6)*($T$77-6)/1000000)","v":3.6000000000000001E-5},"5mm"]
[null,null,null,null,null,null,null,null,null,null,null,null,null,{"$f":"ListAVS!$B$79&\" [kg] \"","v":"Vypočtená hmotnost čela [kg] "},null,null,null,null,null,{"$f":"IF(AD81=0,0,AD81+2*T79)","v":0},null,null,null,{"$f":"IF(T76*T77*T78=0,0,IF(Z77=1,Y77*Y78,IF(Z77=2,Y77*Y79,Y77*Y80)))","v":0},{"$f":"$T$70","v":0},{"$f":"ListAVS!$B$92","v":"Jiné - volitelná hustota"},null,null,null,{"$f":"$AD$70*$T$70/1000","v":0},{"$f":"IF($AG$76=1,AF80*AD80,AG80*AD80)","v":0},{"$f":"SUM(($T$76-80)*($T$77-80)/1000000)","v":6.4000000000000003E-3},{"$f":"SUM(($T$76-6)*($T$77-6)/1000000)","v":3.6000000000000001E-5},"jiné"]
[null,null,null,null,null,null,null,null,null,null,null,null,null,null,{"$f":"IF((U16=3)*AND(T80>0)*AND(T79>0),$Z$96&\" \"&$Z$97,IF((U16<>3)*AND(T80>0),IF(T79=0,$Z$95,\" \"),\" \"))","v":" "},null,null,null,null,null,null,null,null,null,null,null,null,null,null,{"$f":"IF(OR(AND(AF76=3, $T$70=0), T76*T77=0), 0, SUM(IF(AF76=1,AE78,IF(AF76=2,AE79,AE80)),AE77,AE76))","v":0}]
[]
[]
[]
[]
[null,null,null,null,null,null,null,null,null,null,null,null,null,null,null,null,null,{"$f":"D20","v":" "},null,null,null,null,null,null,null,null,null,null,null,null,"váha spoj.","tl. skla","typ alu"]
[null,null,null,null,null,null,null,null,null,null,null,null,null,{"$f":"ListAVS!$B$74&\" KB [mm]       \"","v":"Šířka korpusu KB [mm]       "},null,null,null,null,null,{"$f":"H21","v":0},null,null,null,null,{"$f":"T87*T88*T89","v":0},null,null,null,null,{"$f":"IF($AG$76=1,$X$95,$X$96)","v":0.62},{"$f":"$X$97","v":0.61},{"$f":"$AF$76","v":1},{"$f":"$AG$76","v":1}]
[null,null,null,null,null,null,null,null,null,null,null,null,null,{"$f":"ListAVS!$B$75&\" KH [mm]       \"","v":"Výška korpusu KH [mm]       "},null,null,null,null,null,{"$f":"H22","v":0},null,null,null,null,{"$f":"Y87/1000000000","v":0},{"$f":"Z77","v":1},null,null,null,"váha alu",{"$f":"SUM(T87*2,(T88-90)*2)*AD87/1000","v":-0.11159999999999999},"A plocha B"]
[null,null,null,null,null,null,null,null,null,null,null,null,null,{"$f":"ListAVS!$B$80&\" TS [mm] \"","v":"Síla čela TS [mm] "},null,null,null,null,null,null,null,null,null,null,{"$f":"$Y$78","v":760},{"$f":"$Z$78","v":"MDF (760 kg/m3)"},null,null,null,{"$f":"AD78","v":10},{"$f":"IF($AG$76=1,AF89*AD89,AG89*AD89)","v":6.4000000000000001E-2},{"$f":"SUM(($T$87-80)*($T$88-80)/1000000)","v":6.4000000000000003E-3},{"$f":"SUM(($T$87-6)*($T$88-6)/1000000)","v":3.6000000000000001E-5},"4mm"]
[null,null,null,null,null,null,null,null,null,null,null,null,null,{"$f":"ListAVS!$B$83&\" [kg] \"","v":"Hmotnost úchytky [kg] "},null,null,null,null,null,{"$f":"H25","v":0},{"$f":"IF($U$27=3,\" \",IF(SUM(T87,T88)=0,\" \",IF(T90=0,\" ● \"&ListAVS!$B$129,\" \")))","v":" "},null,null,null,{"$f":"$Y$79","v":680},{"$f":"$Z$79","v":"Dřevotříska (680 kg/m3)"},null,null,null,{"$f":"AD79","v":12.5},{"$f":"IF($AG$76=1,AF90*AD90,AG90*AD90)","v":0.08},{"$f":"SUM(($T$87-80)*($T$88-80)/1000000)","v":6.4000000000000003E-3},{"$f":"SUM(($T$87-6)*($T$88-6)/1000000)","v":3.6000000000000001E-5},"5mm"]
[null,null,null,null,null,null,null,null,null,null,null,null,null,{"$f":"ListAVS!$B$79&\" [kg] \"","v":"Vypočtená hmotnost čela [kg] "},null,null,null,null,null,{"$f":"IF(AD92=0,0,AD92+2*T90)","v":0},null,null,null,{"$f":"IF(T87*T88*T89=0,0,IF(Z88=1,Y88*Y89,IF(Z88=2,Y88*Y90,Y88*Y91)))","v":0},{"$f":"$Y$80","v":0},{"$f":"$Z$80","v":"Jiné - volitelná hustota"},null,null,null,{"$f":"AD80","v":0},{"$f":"IF($AG$76=1,AF91*AD91,AG91*AD91)","v":0},{"$f":"SUM(($T$87-80)*($T$88-80)/1000000)","v":6.4000000000000003E-3},{"$f":"SUM(($T$87-6)*($T$88-6)/1000000)","v":3.6000000000000001E-5},"jiné"]
[null,null,null,null,null,null,null,null,null,null,null,null,null,null,{"$f":"IF((U27=3)*AND(T91>0)*AND(T90>0),$Z$96&\" \"&$Z$97,IF((U27<>3)*AND(T91>0),IF(T90=0,$Z$95,\" \"),\" \"))","v":" "},null,null,null,null,null,null,null,null,null,null,null,null,null,null,{"$f":"IF(OR(AND(AF87=3, $T$70=0), T87*T88=0), 0, SUM(IF(AF87=1,AE89,IF(AF87=2,AE90,AE91)),AE88,AE87))","v":0}]
[]
[]
[null,null,null,null,null,null,null,null,null,null,null,null,null,null,null,null,null,null,null,null,null,null,{"$f":"ListAVS!$B$422&\"  \"","v":"s vloženým sklem  "},{"$f":"MenuAVS!$I$86","v":0.62},null,{"$f":"ListAVS!$B$102&\"!\"","v":"Není započtena hmotnost úchytky!"},null,null,null,null,null,{"$f":"ListAVS!$B$93","v":"Alurámečky s 4mm sklem"}]
[null,null,null,null,null,null,null,null,null,null,null,null,null,null,null,null,null,null,null,null,null,null,{"$f":"ListAVS!$B$423&\"  \"","v":"s naloženým nebo nalepeným sklem  "},{"$f":"MenuAVS!$I$87","v":0.63},null,{"$f":"ListAVS!B103","v":"Opravdu máte úchytku na TIP-ON?"},null,null,null,null,null,{"$f":"ListAVS!$B$94","v":"Alurámečky s 5mm sklem"}]
[null,null,null,null,null,null,null,null,null,null,null,null,null,null,null,null,null,null,null,null,null,null,{"$f":"ListAVS!$B$405&\" [kg/set] *  \"","v":"Hmotnost spojovacího materiálu [kg/set] *  "},{"$f":"MenuAVS!$I$88","v":0.61},null,{"$f":"ListAVS!B104&\"!\"","v":"Jestli ne, smažte hmotnost úchytky.!"},null,null,null,null,null,{"$f":"ListAVS!$B$95","v":"Alurámečky s jiným sklem"}]
[]
[]
[null,"      AVENTOS HK"]
[]
[null,{"$f":"ListAVS!$B$302","v":"Potřebný zdvihač se určí pomocí ukazatele výkonnosti."}]
[null,{"$f":"ListAVS!$B$340","v":"Ukazatel výkonnosti závisí na hmotnosti čela (včetně dvojnásobné hmotnosti úchytky) a na výšce korpusu."}]
[]
[]
[null,null,null,{"$f":"ListAVS!$B$86&\" = \"","v":"Ukazatel výkonnosti = "},{"$f":"ListAVS!$B$341&\" [kg]\"","v":"výška korpusu (KH) [mm] x hmotnost čela včetně dvojnásobné hmotnosti úchytky [kg]"}]
[]
[]
[]
[]
[]
[null,{"$f":"ListAVS!$B$311","v":"Pokud znáte hmotnost čela, můžete ji zadat, jinak použijte \"Výpočet hmotnosti\"."}]
[null,{"$f":"ListAVS!$B$312","v":"V tabulce má přednost zadaná hodnota. Chcete-li použít vypočtenou hmotnost, smažte zadanou hodnotu."}]
[]
[]
[null,{"$f":"ListAVS!$B$305","v":"Chcete-li změnit barvu krytek, přejděte na \"Úvod plánování\""}]
[]
[null,{"$f":"ListAVS!$B$411","v":"Věnujte pozornost výběru alurámečků."}]
[null,{"$f":"ListAVS!$B$412","v":"Vyberte, který typ lépe odpovídá tvaru použitého alurámečku."}]
[null,{"$f":"ListAVS!$B$413","v":"Způsob osazení skla do rámečku výrazně ovlivňuje plochu skla a tím i hmotnost!"}]
[]
[null,null,{"$f":"\"  \"&ListAVS!$B$422&\"  \"","v":"  s vloženým sklem  "}]
[]
[null,null,{"$f":"\"  \"&ListAVS!$B$423&\"  \"","v":"  s naloženým nebo nalepeným sklem  "}]
[]
[null,null,null,null,null,null,null,null,null,null,null,{"$f":"ListAVS!$B$167","v":"Zpět"}]

{"sheet":"HKna","index":26,"n_rows":126,"n_cols":45,"rows_kept":126,"cut":false,"hidden":false,"merged":[[1,1,1,3],[8,17,8,18],[8,21,8,22],[4,5,4,9],[8,5,8,7],[0,42,0,45],[3,10,4,11],[16,1,16,6],[12,1,14,2],[12,3,12,6],[13,3,13,6],[14,3,14,6],[6,1,6,2],[6,6,6,7],[9,1,9,6],[15,1,15,2],[15,3,15,6],[11,1,11,6],[9,21,9,22],[10,1,10,6],[8,1,8,2],[21,1,21,6],[22,1,22,6],[26,1,26,2],[26,3,26,6],[19,1,19,2],[19,5,19,7],[23,1,25,2],[23,3,23,6],[24,3,24,6],[25,3,25,6],[20,1,20,6],[30,1,32,9],[29,19,29,20],[74,17,74,19],[75,13,75,18],[27,1,27,6],[98,0,139,0],[105,4,105,11],[78,13,78,18],[79,13,79,18],[85,17,85,19],[86,13,86,18],[87,13,87,18],[17,42,18,46],[19,42,20,46],[88,13,88,18],[89,13,89,18],[90,13,90,18],[76,13,76,18],[77,13,77,18],[19,17,19,18],[19,21,19,22],[20,21,20,22]]}
[]
[null,"AVENTOS HK top",null,null,null,null,null,null,null,null,null,null,null,null,"rámeček",null,null,null,3,null,null,null,null,null,null,null,null,null,null,null,null,null,null,null,null,null,null,null,null,{"$f":"ListAVS!$B$152","v":"Jdi na"}]
[]
[null,{"$f":"ListAVS!$B$22&\" ***\"","v":"Úzký alurámeček ***"},null,null,null,{"$f":"ListAVS!$B$179&\"  \"","v":"Provedení čel  "},null,null,null,null,{"$f":"U70","v":" "},null,null,null,1,null,null,null,{"$f":"\" \"&ListAVS!$B$41&\" A \"","v":" Cena za korpus A "},null,null,null,null,null,null,null,null,null,null,null,null,null,null,null,null,null,null,null,null," Úvod plánování"]
[null,null,null,null,null,{"$f":"IF($AF$76<>3,$Y$71,\" \")&\"      \"","v":" Změnit hodnoty můžete v Úvodu plánování      "},null,null,null,null,null,null,null,null,"A = 1",null,null,null,{"$f":"\" \"&ListAVS!$B$41&\" B \"","v":" Cena za korpus B "},null,null,null,null,null,null,null,null,null,null,null,null,null,null,null,null,null,null,null,null,{"$f":"\" \"&ListAVS!$B$154","v":" Nápověda"}]
[null,null,null,null,null,null,null,null,null,null,null,null,null,null,"B = 2",null,null,null,{"$f":"\" \"&ListAVS!$B$61","v":" Cena celkem bez DPH"}]
[null,{"$f":"ListAVS!$B$51&\":   \"","v":"Cena kování:   "},null,null,null,null,{"$f":"IF(S2=1,$AF$48,IF($S$2=2,$AH$48,IF($S$2=3,$AD$48,0)))","v":0},null,null,null,null,null,null,null,null,null,null,null,null,null,null,null,null,null,{"$f":"$B$2","v":"AVENTOS HK top"},{"$f":"B5","v":0},null,null,null,null,null,null,null,null,null,null,null,null,null,{"$f":"\" \"&ListAVS!$B$159","v":" Doplňky"}]
[null,null,null,null,null,null,null,{"$f":"IF(AND(OR($U$16=2, $U$27=2), $AD$48>0), $N$34, \" \")","v":" "},null,null,null,null,null,null,null,null,null,null,null,null,null,null,null,null,{"$f":"ListAVS!B52","v":"Název"},{"$f":"ListAVS!$B$53","v":"Číslo artiklu"},{"$f":"ListAVS!B54","v":"Barva"},{"$f":"ListAVS!B56","v":"Ks"},{"$f":"ListAVS!B58","v":"Jednotková cena"},{"$f":"ListAVS!B59","v":"Celkem"},"A","Cena","B","Cena",null,null,null,null,null,null,null,null,{"$f":"\"  \"&ListAVS!$B$86&\" LF \"","v":"  Ukazatel výkonnosti LF "},{"$f":"ListAVS!$B$84&\" \"&ListAVS!$B$349","v":"Zdvihací mechanizmus vruty"},{"$f":"ListAVS!$B$84&\" \"&ListAVS!$B$350","v":"Zdvihací mechanizmus předmont. eurošrouby"}]
[null,{"$f":"\"▼ \"&ListAVS!$B$317","v":"▼ Způsob otvírání"},null,{"$f":"IF($M$17>0, ListAVS!$B$37&\": \", \" \")","v":" "},{"$f":"IF(OR($AE$9>0, $AE$13>0), \"23\", IF(OR($AE$10>0, $AE$14>0), \"25\", IF(OR($AE$11>0, $AE$15>0), \"27\", IF(OR($AE$12>0, $AE$16>0), \"29\", IF(OR($AE$24>0, $AE$28>0), \"23T\", IF(OR($AE$25>0, $AE$29>0), \"25T\", IF(OR($AE$26>0, $AE$30>0), \"27T\", IF(OR($AE$27>0, $AE$31>0), \"29T\", \" \"))))))))","v":" "},{"$f":"ListAVS!$B$64&\" A\"","v":"Korpus A"},null,null,null,null,null,null,null,null,null,null,null,"dva zdvihače",null,2000,{"$f":"T9-1","v":1999},"tři zdvihače",null,null,{"$f":"CenAVS!A54","v":"Sada zdvihačů HK top, na vruty"},{"$f":"CenAVS!B54","v":"22K2300"},{"$f":"CenAVS!C54","v":"ZN"},{"$f":"SUM(AE9,AG9)","v":0},{"$f":"CenAVS!F54","v":1468.44},{"$f":"AB9*AC9","v":0},{"$f":"IF(AND($U$16<>3,$N$44=1),ROUNDUP(SUM(O11:P11)*$M$17,0),0)","v":0},{"$f":"$AC9*AE9","v":0},{"$f":"IF(AND($U$27<>3,$N$44=1),ROUNDUP(SUM(O22:P22)*$M$28,0),0)","v":0},{"$f":"$AC9*AG9","v":0},null,null,null,null,null,{"$f":"\" \"&ListAVS!$B$156","v":" Přehled korpusů"},null,null,"  420 - 1610","22K2300","22K2310"]
[null,{"$f":"ListAVS!$B$74&\" KB [mm] \"","v":"Šířka korpusu KB [mm] "},null,null,null,null,null,null,{"$f":"IF($H10=0,\" \",IF($H10<220,\" min. 220mm\",IF($H10>1800,\" max. 1 800mm\",\" \")))&IF(H17>0,IF(H10=0,\"● \"&ListAVS!$B$128,\" \"),\" \")","v":"  "},null,null,null,null,"zdvih A","dva","tři",null,"min","max","š.max","š. min",false,null,null,{"$f":"CenAVS!A55","v":"Sada zdvihačů HK top, na vruty"},{"$f":"CenAVS!B55","v":"22K2500"},{"$f":"CenAVS!C55","v":"ZN"},{"$f":"SUM(AE10,AG10)","v":0},{"$f":"CenAVS!F55","v":1468.44},{"$f":"AB10*AC10","v":0},{"$f":"IF(AND($U$16<>3,$N$44=1),ROUNDUP(SUM(O12:P12)*$M$17,0),0)","v":0},0,{"$f":"IF(AND($U$27<>3,$N$44=1),ROUNDUP(SUM(O23:P23)*$M$28,0),0)","v":0},0,null,null,null,null,null,{"$f":"\" \"&ListAVS!$B$157","v":" Objednávka"},null,null,"  930 - 2800","22K2500","22K2510"]
[null,{"$f":"ListAVS!$B$75&\" KH [mm]  \"","v":"Výška korpusu KH [mm]  "},null,null,null,null,null,null,{"$f":"IF($H11=0,\" \",IF($H11<205,\" min. 205 mm\",IF($H11>600,\" max. 600 mm\",\" \")))&IF(H17>0,IF(H11=0,\"● \"&ListAVS!$B$128,\" \"),\" \")","v":"  "},null,null,null,null,"K23",{"$f":"IF($V$10=FALSE,IF($H$16>R11,IF($H$16<S11,1,0),0),0)","v":0},{"$f":"IF($V$10=TRUE,IF($H$16>V11,IF($H$16<W11,1.5,0),0),0)","v":0},null,419,1200,null,null,629,1800,null,{"$f":"CenAVS!A56","v":"Sada zdvihačů HK top, na vruty"},{"$f":"CenAVS!B56","v":"22K2700"},{"$f":"CenAVS!C56","v":"ZN"},0,{"$f":"CenAVS!F56","v":1475.61},0,{"$f":"IF(AND($U$16<>3,$N$44=1),ROUNDUP(SUM(O13:P13)*$M$17,0),0)","v":0},0,{"$f":"IF(AND($U$27<>3,$N$44=1),ROUNDUP(SUM(O24:P24)*$M$28,0),0)","v":0},0,null,null,null,null,null,null,null,null,"  1730 - 5200","22K2700","22K2710"]
[null,{"$f":"ListAVS!$B$78&\" [kg] ** \"","v":"Hmotnost čela vč. 2x hmotnost úchytky [kg] ** "},null,null,null,null,null,null,{"$f":"IF($H17=0,\" \",IF(SUM($H12,$H15)=0,$N$35,\" \"))&IF(AND($H17>0,$M17>0), IF($H12>0,$N$37,\" \"),\" \")","v":"  "},null,null,null,null,"K25",{"$f":"IF($V$10=FALSE,IF($H$16>R12,IF($H$16<S12,1,0),0),0)","v":0},{"$f":"IF($V$10=TRUE,IF($H$16>V12,IF($H$16<W12,1.5,0),0),0)","v":0},null,1200,2200,null,null,1800,3300,null,{"$f":"CenAVS!A57","v":"Sada zdvihačů HK top, na vruty"},{"$f":"CenAVS!B57","v":"22K2900"},{"$f":"CenAVS!C57","v":"ZN"},0,{"$f":"CenAVS!F57","v":1726.54},0,{"$f":"IF(AND($U$16<>3,$N$44=1),ROUNDUP(SUM(O14:P14)*$M$17,0),0)","v":0},0,{"$f":"IF(AND($U$27<>3,$N$44=1),ROUNDUP(SUM(O25:P25)*$M$28,0),0)","v":0},0,null,null,null,null,null,null,null,null,"  3200 - 9000","22K2900","22K2910"]
[null,{"$f":"ListAVS!$B$292","v":"Výpočet hmotnosti"},null,{"$f":"ListAVS!$B$80&\" TS [mm] \"","v":"Síla čela TS [mm] "},null,null,null,null,null,null,null,null,null,"K27",{"$f":"IF($V$10=FALSE,IF($H$16>R13,IF($H$16<S13,1,0),0),0)","v":0},{"$f":"IF($V$10=TRUE,IF($H$16>V13,IF($H$16<W13,1.5,0),0),0)","v":0},null,2200,4200,null,null,3300,6300,null,{"$f":"CenAVS!A58","v":"Sada zdvihačů HK top, předmont. eurošrouby"},{"$f":"CenAVS!B58","v":"22K2310"},{"$f":"CenAVS!C58","v":"ZN"},0,{"$f":"CenAVS!F58","v":1468.44},0,{"$f":"IF(AND($U$16<>3,$N$44=2),ROUNDUP(SUM(O11:P11)*$M$17,0),0)","v":0},0,{"$f":"IF(AND($U$27<>3,$N$44=2),ROUNDUP(SUM(O22:P22)*$M$28,0),0)","v":0},0]
[null,null,null,{"$f":"ListAVS!$B$83&\" [kg] \"","v":"Hmotnost úchytky [kg] "},null,null,null,null,{"$f":"IF(OR(H17=0, $M17=0), \" \", IF(AND(H12=0, U16=1, H14=0), \" ● \"&ListAVS!$B$129,\" \"))","v":" "},null,null,null,null,"K29",{"$f":"IF($V$10=FALSE,IF($H$16>R14,IF($H$16<S14,1,0),0),0)","v":0},{"$f":"IF($V$10=TRUE,IF($H$16>V14,IF($H$16<W14,1.5,0),0),0)","v":0},null,4200,9001,null,null,6300,13501,null,{"$f":"CenAVS!A59","v":"Sada zdvihačů HK top, předmont. eurošrouby"},{"$f":"CenAVS!B59","v":"22K2510"},{"$f":"CenAVS!C59","v":"ZN"},0,{"$f":"CenAVS!F59","v":1468.44},0,{"$f":"IF(AND($U$16<>3,$N$44=2),ROUNDUP(SUM(O12:P12)*$M$17,0),0)","v":0},0,{"$f":"IF(AND($U$27<>3,$N$44=2),ROUNDUP(SUM(O23:P23)*$M$28,0),0)","v":0},0,null,null,null,null,null,null,null,null,{"$f":"ListAVS!$B$349&\" = \"&ListAVS!$B$351","v":"vruty = zdvihače s integrovanou šablonou (bez nutnosti rozměřování)"}]
[null,null,null,{"$f":"ListAVS!$B$79&\" [kg] \"","v":"Vypočtená hmotnost čela [kg] "},null,null,null,{"$f":"$T$80","v":0},{"$f":"IF(AND($H17>0,$M17>0), IF($H15>0,IF($H12=0,$N$37,\" \"),\" \"),\" \")","v":" "},null,null,null,null,null,null,null,null,null,null,null,{"$f":"IF(U16=1,$V$46,IF(U16=2,$V$47,$V$48))","v":"Standard"},null,null,null,{"$f":"CenAVS!A60","v":"Sada zdvihačů HK top, předmont. eurošrouby"},{"$f":"CenAVS!B60","v":"22K2710"},{"$f":"CenAVS!C60","v":"ZN"},0,{"$f":"CenAVS!F60","v":1475.61},0,{"$f":"IF(AND($U$16<>3,$N$44=2),ROUNDUP(SUM(O13:P13)*$M$17,0),0)","v":0},0,{"$f":"IF(AND($U$27<>3,$N$44=2),ROUNDUP(SUM(O24:P24)*$M$28,0),0)","v":0},0,null,null,null,null,null,null,null,null,{"$f":"ListAVS!$B$350&\" = \"&ListAVS!$B$352","v":"předmont. eurošrouby = zdvihače s předmotovanými šrouby (nutné předvrtání)"}]
[null,null,null,{"$f":"ListAVS!$B$86&\" LF \"","v":"Ukazatel výkonnosti LF "},null,null,null,{"$f":"IF(H12>0,H11*H12,H11*H15)","v":0},{"$f":"IF(H17=0,\" \",IF($H16<420,$N$39,IF($H16>13500,$N$40,IF($H16>9000,IF(V10=FALSE,$N$41,\" \"),\" \"))))","v":" "},null,null,null,null,null,null,null,null,null,null,null,1,null,null,null,{"$f":"CenAVS!A61","v":"Sada zdvihačů HK top, předmont. eurošrouby"},{"$f":"CenAVS!B61","v":"22K2910"},{"$f":"CenAVS!C61","v":"ZN"},0,{"$f":"CenAVS!F61","v":1726.54},0,{"$f":"IF(AND($U$16<>3,$N$44=2),ROUNDUP(SUM(O14:P14)*$M$17,0),0)","v":0},0,{"$f":"IF(AND($U$27<>3,$N$44=2),ROUNDUP(SUM(O25:P25)*$M$28,0),0)","v":0},0]
[null,{"$f":"ListAVS!$B$71&\" \"","v":"Počet skříněk "},null,null,null,null,null,null,null,null,null,null,{"$f":"IF($H10*$H11*$T17=0,0,IF(OR($H11<210,$H11>600,$H16<420,$H16>13500),0,IF(AND(H16>9000,V10=FALSE),0,$H17)))","v":0},null,null,null,null,null,"hmot =",{"$f":"IF(H12>0,H12,H15)","v":0},{"$f":"IF(SUM(H12,H15)=0,0,IF(H12>0,1,2))","v":0},"zadaná / vypočtená",null,null,{"$f":"CenAVS!A62","v":"Sada krytek HK top, světle šedá"},{"$f":"CenAVS!B62","v":"22K8000"},{"$f":"CenAVS!C62","v":"HG "},0,{"$f":"CenAVS!F62","v":211.38},0,{"$f":"IF($U$16<>2,IF($T$44=1,SUM($AE$9:$AE$16, $AE$24:$AE$31),0),0)","v":0},0,{"$f":"IF($U$27<>2,IF($T$44=1,SUM($AG$9:$AG$16, $AG$24:$AG$31),0),0)","v":0},0]
[null,{"$f":"IF(H17>0,IF(U17=0,\" \",IF(U17=1,$N$49,$N$50)),\" \")&IF(H17>0,IF(U17=0,\" \",IF(U17=1,$N$51,$N$52)),\" \")","v":"  "},null,null,null,null,null,null,null,null,null,null,null,null,null,null,null,null,null,null,null,null,null,null,{"$f":"CenAVS!A63","v":"Sada krytek HK top, tmavě šedá"},{"$f":"CenAVS!B63","v":"22K8000"},{"$f":"CenAVS!C63","v":"TGR"},0,{"$f":"CenAVS!F63","v":231.45},0,{"$f":"IF($U$16<>2,IF($T$44=2,SUM($AE$9:$AE$16, $AE$24:$AE$31),0),0)","v":0},0,{"$f":"IF($U$27<>2,IF($T$44=2,SUM($AG$9:$AG$16, $AG$24:$AG$31),0),0)","v":0},0,null,null,null,null,null,null,null,null,{"$f":"ListAVS!$B$86&\" LF = \"&ListAVS!$B$75&\" KH [mm] x \"&ListAVS!$B$78&\" [kg]\"","v":"Ukazatel výkonnosti LF = Výška korpusu KH [mm] x Hmotnost čela vč. 2x hmotnost úchytky [kg]"}]
[null,null,null,null,null,null,null,null,null,null,null,null,null,null,null,null,null,null,null,null,null,null,null,null,{"$f":"CenAVS!A64","v":"Sada krytek HK top, bílá"},{"$f":"CenAVS!B64","v":"22K8000"},{"$f":"CenAVS!C64","v":"SW "},0,{"$f":"CenAVS!F64","v":231.45},0,{"$f":"IF($U$16<>2,IF($T$44=3,SUM($AE$9:$AE$16, $AE$24:$AE$31),0),0)","v":0},0,{"$f":"IF($U$27<>2,IF($T$44=3,SUM($AG$9:$AG$16, $AG$24:$AG$31),0),0)","v":0},0]
[null,{"$f":"\"▼ \"&ListAVS!$B$317","v":"▼ Způsob otvírání"},null,{"$f":"IF($M$28>0, ListAVS!$B$37&\": \", \" \")","v":" "},{"$f":"IF(OR($AG$9>0, $AG$13>0), \"23\", IF(OR($AG$10>0, $AG$14>0), \"25\", IF(OR($AG$11>0, $AG$15>0), \"27\", IF(OR($AG$12>0, $AG$16>0), \"29\", IF(OR($AG$24>0, $AG$28>0), \"23T\", IF(OR($AG$25>0, $AG$29>0), \"25T\", IF(OR($AG$26>0, $AG$30>0), \"27T\", IF(OR($AG$27>0, $AG$31>0), \"29T\", \" \"))))))))","v":" "},{"$f":"ListAVS!$B$64&\" B\"","v":"Korpus B"},null,null,null,null,null,null,null,null,null,null,null,"dva zdvihače",null,null,null,"tři zdvihače",null,null,{"$f":"CenAVS!A65","v":"Sada krytek HK top, SERVO-DRIVE, sv.šedá"},{"$f":"CenAVS!B65","v":"23K8000"},{"$f":"CenAVS!C65","v":"HG "},0,{"$f":"CenAVS!F65","v":2493.35},0,{"$f":"IF($U$16=2,IF($T$44=1,SUM($AE$9:$AE$16),0),0)","v":0},0,{"$f":"IF($U$27=2,IF($T$44=1,SUM($AG$9:$AG$16),0),0)","v":0},0]
[null,{"$f":"ListAVS!$B$74&\" KB [mm] \"","v":"Šířka korpusu KB [mm] "},null,null,null,null,null,null,{"$f":"IF($H21=0,\" \",IF($H21<220,\" min. 220mm\",IF($H21>1800,\" max. 1 800mm\",\" \")))&IF(H28>0,IF(H21=0,\"● \"&ListAVS!$B$128,\" \"),\" \")","v":"  "},null,null,null,null,"zdvih B","dva","tři",null,"min","max",null,null,false,null,null,{"$f":"CenAVS!A66","v":"Sada krytek HK top, SERVO-DRIVE, tm.šedá"},{"$f":"CenAVS!B66","v":"23K8000"},{"$f":"CenAVS!C66","v":"TGR"},0,{"$f":"CenAVS!F66","v":2595.3000000000002},0,{"$f":"IF($U$16=2,IF($T$44=2,SUM($AE$9:$AE$16),0),0)","v":0},0,{"$f":"IF($U$27=2,IF($T$44=2,SUM($AG$9:$AG$16),0),0)","v":0},0]
[null,{"$f":"ListAVS!$B$75&\" KH [mm] \"","v":"Výška korpusu KH [mm] "},null,null,null,null,null,null,{"$f":"IF($H22=0,\" \",IF($H22<205,\" min. 205 mm\",IF($H22>600,\" max. 600 mm\",\" \")))&IF(H28>0,IF(H22=0,\"● \"&ListAVS!$B$128,\" \"),\" \")","v":"  "},null,null,null,null,"K23",{"$f":"IF($V$21=FALSE,IF($H$27>R22,IF($H$27<S22,1,0),0),0)","v":0},{"$f":"IF($V$21=TRUE,IF($H$27>V22,IF($H$27<W22,1.5,0),0),0)","v":0},null,419,1200,null,null,629,1800,null,{"$f":"CenAVS!A67","v":"Sada krytek HK top, SERVO-DRIVE, bílá"},{"$f":"CenAVS!B67","v":"23K8000"},{"$f":"CenAVS!C67","v":"SW "},0,{"$f":"CenAVS!F67","v":2595.3000000000002},0,{"$f":"IF($U$16=2,IF($T$44=3,SUM($AE$9:$AE$16),0),0)","v":0},0,{"$f":"IF($U$27=2,IF($T$44=3,SUM($AG$9:$AG$16),0),0)","v":0},0]
[null,{"$f":"ListAVS!$B$78&\" [kg] ** \"","v":"Hmotnost čela vč. 2x hmotnost úchytky [kg] ** "},null,null,null,null,null,null,{"$f":"IF($H28=0,\" \",IF(AND($H23=0, $H26=0,$AF$87=3), $N$35,\" \"))&IF(AND($H28>0,M28>0), IF($H23>0,$N$37,\" \"),\" \")","v":"  "},null,null,null,null,"K25",{"$f":"IF($V$21=FALSE,IF($H$27>R23,IF($H$27<S23,1,0),0),0)","v":0},{"$f":"IF($V$21=TRUE,IF($H$27>V23,IF($H$27<W23,1.5,0),0),0)","v":0},null,1200,2200,null,null,1800,3300,null,{"$f":"CenAVS!A68","v":0},{"$f":"CenAVS!B68","v":0},{"$f":"CenAVS!C68","v":0},0,{"$f":"CenAVS!F68","v":0},0,null,0,null,0]
[null,{"$f":"ListAVS!$B$292","v":"Výpočet hmotnosti"},null,{"$f":"ListAVS!$B$80&\" TS [mm] \"","v":"Síla čela TS [mm] "},null,null,null,null,null,null,null,null,null,"K27",{"$f":"IF($V$21=FALSE,IF($H$27>R24,IF($H$27<S24,1,0),0),0)","v":0},{"$f":"IF($V$21=TRUE,IF($H$27>V24,IF($H$27<W24,1.5,0),0),0)","v":0},null,2200,4200,null,null,3300,6300,null,{"$f":"CenAVS!A69","v":"Sada zdvihačů HK top, TIP-ON, na vruty"},{"$f":"CenAVS!B69","v":"22K2300T"},{"$f":"CenAVS!C69","v":"ZN"},0,{"$f":"CenAVS!F69","v":1575.99},0,{"$f":"IF(AND($U$16=3,$N$44=1),ROUNDUP(SUM(O11:P11)*$M$17,0),0)","v":0},0,{"$f":"IF(AND($U$27=3,$N$44=1),ROUNDUP(SUM(O22:P22)*$M$28,0),0)","v":0},0]
[null,null,null,{"$f":"ListAVS!$B$83&\" [kg] \"","v":"Hmotnost úchytky [kg] "},null,null,null,null,{"$f":"IF(OR(H28=0, $M28=0), \" \", IF(AND(H23=0, U27=1, H25=0), \" ● \"&ListAVS!$B$129,\" \"))","v":" "},null,null,null,null,"K29",{"$f":"IF($V$21=FALSE,IF($H$27>R25,IF($H$27<S25,1,0),0),0)","v":0},{"$f":"IF($V$21=TRUE,IF($H$27>V25,IF($H$27<W25,1.5,0),0),0)","v":0},null,4200,9001,null,null,6300,13501,null,{"$f":"CenAVS!A70","v":"Sada zdvihačů HK top, TIP-ON, na vruty"},{"$f":"CenAVS!B70","v":"22K2500T"},{"$f":"CenAVS!C70","v":"ZN"},0,{"$f":"CenAVS!F70","v":1575.99},0,{"$f":"IF(AND($U$16=3,$N$44=1),ROUNDUP(SUM(O12:P12)*$M$17,0),0)","v":0},0,{"$f":"IF(AND($U$27=3,$N$44=1),ROUNDUP(SUM(O23:P23)*$M$28,0),0)","v":0},0]
[null,null,null,{"$f":"ListAVS!$B$79&\" [kg] \"","v":"Vypočtená hmotnost čela [kg] "},null,null,null,{"$f":"$T$91","v":0},{"$f":"IF(AND($H28>0, $M28>0), IF($H26>0,IF($H23=0,$N$37,\" \"),\" \"),\" \")","v":" "},null,null,null,null,null,null,null,null,null,null,null,{"$f":"IF(U27=1,$V$46,IF(U27=2,$V$47,$V$48))","v":"Standard"},null,null,null,{"$f":"CenAVS!A71","v":"Sada zdvihačů HK top, TIP-ON, na vruty"},{"$f":"CenAVS!B71","v":"22K2700T"},{"$f":"CenAVS!C71","v":"ZN"},0,{"$f":"CenAVS!F71","v":1676.35},0,{"$f":"IF(AND($U$16=3,$N$44=1),ROUNDUP(SUM(O13:P13)*$M$17,0),0)","v":0},0,{"$f":"IF(AND($U$27=3,$N$44=1),ROUNDUP(SUM(O24:P24)*$M$28,0),0)","v":0},0]
[null,null,null,{"$f":"ListAVS!$B$86&\" LF \"","v":"Ukazatel výkonnosti LF "},null,null,null,{"$f":"IF(H23>0,H22*H23,H22*H26)","v":0},{"$f":"IF(H28=0,\" \",IF($H27<420,$N$39,IF($H27>13500,$N$40,IF($H27>9000,IF(V21=FALSE,$N$41,\" \"),\" \"))))","v":" "},null,null,null,null,null,null,null,null,null,null,null,1,null,null,null,{"$f":"CenAVS!A72","v":"Sada zdvihačů HK top, TIP-ON, na vruty"},{"$f":"CenAVS!B72","v":"22K2900T"},{"$f":"CenAVS!C72","v":"ZN"},0,{"$f":"CenAVS!F72","v":1927.28},0,{"$f":"IF(AND($U$16=3,$N$44=1),ROUNDUP(SUM(O14:P14)*$M$17,0),0)","v":0},0,{"$f":"IF(AND($U$27=3,$N$44=1),ROUNDUP(SUM(O25:P25)*$M$28,0),0)","v":0},0]
[null,{"$f":"ListAVS!$B$71&\" \"","v":"Počet skříněk "},null,null,null,null,null,null,null,null,null,null,{"$f":"IF($H21*$H22*$T28=0,0,IF(OR($H22<210,$H22>600,$H27<420,$H27>13500),0,IF(AND(H27>9000,V21=FALSE),0,$H28)))","v":0},null,null,null,null,null,"hmot =",{"$f":"IF(H23>0,H23,H26)","v":0},{"$f":"IF(SUM(H23,H26)=0,0,IF(H23>0,1,2))","v":0},"zadaná / vypočtená",null,null,{"$f":"CenAVS!A73","v":"Sada zdvihačů HK top, TIP-ON, předmont. eurošrouby"},{"$f":"CenAVS!B73","v":"22K2310T"},{"$f":"CenAVS!C73","v":"ZN"},0,{"$f":"CenAVS!F73","v":1575.99},0,{"$f":"IF(AND($U$16=3,$N$44=2),ROUNDUP(SUM(O11:P11)*$M$17,0),0)","v":0},0,{"$f":"IF(AND($U$27=3,$N$44=2),ROUNDUP(SUM(O22:P22)*$M$28,0),0)","v":0},0]
[null,{"$f":"IF(H28>0,IF(U28=0,\" \",IF(U28=1,$N$49,$N$50)),\" \")&IF(H28>0,IF(U28=0,\" \",IF(U28=1,$N$51,$N$52)),\" \")","v":"  "},null,null,null,null,null,null,null,null,null,null,null,null,null,null,null,null,null,null,null,null,null,null,{"$f":"CenAVS!A74","v":"Sada zdvihačů HK top, TIP-ON, předmont. eurošrouby"},{"$f":"CenAVS!B74","v":"22K2510T"},{"$f":"CenAVS!C74","v":"ZN"},0,{"$f":"CenAVS!F74","v":1575.99},0,{"$f":"IF(AND($U$16=3,$N$44=2),ROUNDUP(SUM(O12:P12)*$M$17,0),0)","v":0},0,{"$f":"IF(AND($U$27=3,$N$44=2),ROUNDUP(SUM(O23:P23)*$M$28,0),0)","v":0},0]
[null,null,null,null,null,null,null,null,null,null,null,null,null,null,null,null,null,null,{"$f":"IF($T$30=FALSE,2,1)","v":2},false,null," - Zdroj",null,null,{"$f":"CenAVS!A75","v":"Sada zdvihačů HK top, TIP-ON, předmont. eurošrouby"},{"$f":"CenAVS!B75","v":"22K2710T"},{"$f":"CenAVS!C75","v":"ZN"},0,{"$f":"CenAVS!F75","v":1676.35},{"$f":"AB30*AC30","v":0},{"$f":"IF(AND($U$16=3,$N$44=2),ROUNDUP(SUM(O13:P13)*$M$17,0),0)","v":0},0,{"$f":"IF(AND($U$27=3,$N$44=2),ROUNDUP(SUM(O24:P24)*$M$28,0),0)","v":0},{"$f":"$AC30*AG30","v":0}]
[null,{"$f":"IF(OR(AND($U$16=2, $M$17>0), AND($U$27=2, $M$28>0)), ListAVS!$B$175, \" \")","v":" "},null,null,null,null,null,null,null,null,null,null,null,null,null,null,null,null,null,null,null,null,null,null,{"$f":"CenAVS!A76","v":"Sada zdvihačů HK top, TIP-ON, předmont. eurošrouby"},{"$f":"CenAVS!B76","v":"22K2910T"},{"$f":"CenAVS!C76","v":"ZN"},0,{"$f":"CenAVS!F76","v":1927.28},0,{"$f":"IF(AND($U$16=3,$N$44=2),ROUNDUP(SUM(O14:P14)*$M$17,0),0)","v":0},0,{"$f":"IF(AND($U$27=3,$N$44=2),ROUNDUP(SUM(O25:P25)*$M$28,0),0)","v":0},0]
[null,null,null,null,null,null,null,null,null,null,null,null,null,null,null,null,null,null,null,null,null,null,null,null,{"$f":"CenAVS!A77","v":0},{"$f":"CenAVS!B77","v":0},{"$f":"CenAVS!C77","v":0},0,{"$f":"CenAVS!F77","v":0},0,null,0,null,0]
[null,null,null,null,null,null,null,null,null,null,null,null,null,null,null,null,null,null,null,null,null,null,null,null,{"$f":"CenAVS!A78","v":"Sada čel.kování pro dřev. čela"},{"$f":"CenAVS!B78","v":"20S4200"},{"$f":"CenAVS!C78","v":"NI"},0,{"$f":"CenAVS!F78","v":90.38},0,null,0,null,0]
[null,null,null,null,null,null,null,null,null,null,null,null,null,{"$f":"ListAVS!B176","v":"Cena bez napájecího zdroje!"},null,null,null,null,null,null,null,null,null,null,{"$f":"CenAVS!A79","v":"Čelní.kování pro dřev. čela EXPANDO"},{"$f":"CenAVS!B79","v":"20S42E1"},{"$f":"CenAVS!C79","v":"NI"},0,{"$f":"CenAVS!F79","v":51.36},0,null,0,null,0]
[null,null,null,null,null,null,null,null,null,null,null,null,null,{"$f":"\" \"&ListAVS!$B$116","v":" Zadejte hmotnost nebo vyplňte nahoře sílu skla"},null,null,null,null,null,null,null,null,null,null,{"$f":"CenAVS!A80","v":"Sada čel.kování pro tenké materiály"},{"$f":"CenAVS!B80","v":"20S42T1"},{"$f":"CenAVS!C80","v":"NI"},0,{"$f":"CenAVS!F80","v":291.60000000000002},0,null,0,null,0]
[null,null,{"$f":"\"** \"&ListAVS!$B$186","v":"** Pokud znáte hmotnost a nechcete využít výpočtu hmotnosti"},null,null,null,null,null,null,null,null,null,null,{"$f":"\" \"&ListAVS!$B$115","v":" Zadejte hmotnost nebo vyplňte všechny buňky"},null,null,null,null,null,null,null,null,null,null,{"$f":"CenAVS!A81","v":"Sada čel.kování pro úzké alurámečky"},{"$f":"CenAVS!B81","v":"20S4200A"},{"$f":"CenAVS!C81","v":"NI"},0,{"$f":"CenAVS!F81","v":395.5},0,{"$f":"SUM(AE$9:AE$16, $AE$24:$AE$31)","v":0},0,{"$f":"SUM(AG$9:AG$16, $AG$24:$AG$31)","v":0},0]
[null,null,{"$f":"\"*** \"&ListAVS!$B$403","v":"*** Vyberte typ alurámečku!"},null,null,null,null,null,null,null,null,null,null,{"$f":"\"◄ \"&ListAVS!$B$111","v":"◄ hodnota bude použita pro výpočet LF"},null,null,null,null,null,null,null,null,null,null,{"$f":"CenAVS!A82","v":0},{"$f":"CenAVS!B82","v":0},{"$f":"CenAVS!C82","v":0},0,{"$f":"CenAVS!F82","v":0},0,null,0,null,0]
[null,null,{"$f":"\"      \"&ListAVS!$B$404","v":"      Více informací k výběru alurámečků v Nápovědě"},null,null,null,null,null,null,null,null,null,null,{"$f":"\" * \"&ListAVS!$B$127","v":" * Doplňte hodnoty"},null,null,null,null,null,null,null,null,null,null,{"$f":"CenAVS!A185","v":"TIP-ON, krátká verze, šedá"},{"$f":"CenAVS!B185","v":"956.1004"},{"$f":"CenAVS!C185","v":"PG"},{"$f":"SUM(AE38,AG38)","v":0},{"$f":"CenAVS!F185","v":116.95},{"$f":"AB38*AC38","v":0},{"$f":"IF(AND($T$44<3,$U$16=3),IF($H$11<=500,$M$17,0),0)","v":0},{"$f":"$AC38*AE38","v":0},{"$f":"IF(AND($T$44<3,$U$27=3),IF($H$22<=500,$M$28,0),0)","v":0},{"$f":"$AC38*AG38","v":0}]
[null,null,null,null,null,null,null,null,null,null,null,null,null,{"$f":"\" min. 420! \"&ListAVS!$B$121","v":" min. 420! Upravte hmotnost nebo výšku"},null,null,null,null,null,null,null,null,null,null,{"$f":"CenAVS!A186","v":"TIP-ON, krátká verze, hedvábně bílá"},{"$f":"CenAVS!B186","v":"956.1004"},{"$f":"CenAVS!C186","v":"SW"},0,{"$f":"CenAVS!F186","v":116.95},0,{"$f":"IF(AND($T$44=3,$U$16=3),IF($H$11<=500,$M$17,0),0)","v":0},0,{"$f":"IF(AND($T$44=3,$U$27=3),IF($H$22<=500,$M$28,0),0)","v":0},0]
[null,null,null,null,null,null,null,null,null,null,null,null,null,{"$f":"\" max. 13.500! \"&ListAVS!$B$121","v":" max. 13.500! Upravte hmotnost nebo výšku"},null,null,null,null,null,null,null,null,null,null,{"$f":"CenAVS!A187","v":"TIP-ON, krátká verze, karbon černá"},{"$f":"CenAVS!B187","v":"956.1004"},{"$f":"CenAVS!C187","v":"CS"},0,{"$f":"CenAVS!F187","v":116.95},0,null,0,null,0]
[null,null,null,null,null,null,null,null,null,null,null,null,null,{"$f":"\" max. 9 000! \"&ListAVS!$B$121","v":" max. 9 000! Upravte hmotnost nebo výšku"},null,null,null,null,null,null,null,null,null,null,{"$f":"CenAVS!A188","v":"TIP-ON, dlouhá verze, šedá"},{"$f":"CenAVS!B188","v":"956A1004"},{"$f":"CenAVS!C188","v":"PG"},0,{"$f":"CenAVS!F188","v":146.75},0,{"$f":"IF(AND($T$44<3,$U$16=3),IF($H$11>500,$M$17,0),0)","v":0},0,{"$f":"IF(AND($T$44<3,$U$27=3),IF($H$22>500,$M$28,0),0)","v":0},0]
[null,null,null,null,null,null,null,null,null,null,null,null,null,{"$f":"\"                       \"&ListAVS!$B$122","v":"                       nebo přidejte třetí zdvihač"},null,null,null,null,null,null,null,null,null,null,{"$f":"CenAVS!A189","v":"TIP-ON, dlouhá verze, hedvábně bílá"},{"$f":"CenAVS!B189","v":"956A1004"},{"$f":"CenAVS!C189","v":"WA"},0,{"$f":"CenAVS!F189","v":146.75},0,{"$f":"IF(AND($T$44=3,$U$16=3),IF($H$11>500,$M$17,0),0)","v":0},0,{"$f":"IF(AND($T$44=3,$U$27=3),IF($H$22>500,$M$28,0),0)","v":0},0]
[null,null,null,null,null,null,null,null,null,null,null,null,null,null,null,null,null,null,null,null,null,null,null,null,{"$f":"CenAVS!A190","v":"TIP-ON, dlouhá verze, karbon černá"},{"$f":"CenAVS!B190","v":"956A1004"},{"$f":"CenAVS!C190","v":"CS"},0,{"$f":"CenAVS!F190","v":146.75},0,null,0,null,0]
[null,null,null,null,null,null,null,null,null,null,null,null,null,{"$f":"HK!$P$26","v":1},null,1,null,1,null,{"$f":"MenuAVS!$P$28","v":1},null,null,null,null,{"$f":"CenAVS!A169","v":0},{"$f":"CenAVS!B169","v":0},{"$f":"CenAVS!C169","v":0},null,{"$f":"CenAVS!F169","v":0},0,null,0,null,0]
[null,null,null,null,null,null,null,null,null,null,null,null,null,"zdvihač",null,"střed.",null,"čelní kov.",null,"kryt.",null,"provedení"]
[null,null,null,null,null,null,null,null,null,null,null,null,null,"vruty",null,null,null,null,null,{"$f":"ListAVS!$B$145","v":"Světle šedá (HGR)"},null,"Standard",null,null,{"$f":"CenAVS!A172","v":"SERVO-DRIVE jednotka (sada) pro HK top"},{"$f":"CenAVS!B172","v":"23KA000"},{"$f":"CenAVS!C172","v":"R7037"},{"$f":"SUM(AE46,AG46)","v":0},{"$f":"CenAVS!F172","v":8251.18},{"$f":"AB46*AC46","v":0},{"$f":"IF($U$16=2, $M$17, 0)","v":0},{"$f":"$AC46*AE46","v":0},{"$f":"IF($U$27=2, $M$28, 0)","v":0},{"$f":"$AC46*AG46","v":0}]
[null,null,null,null,null,null,null,null,null,null,null,null,null,"šrouby",null,null,null,null,null,{"$f":"ListAVS!$B$146","v":"Tmavě šedá (TGR)"},null,"SERVO-DRIVE"]
[null,null,null,null,null,null,null,null,null,null,null,null,null,null,null,null,null,null,null,{"$f":"ListAVS!$B$147","v":"Hedvábně bílá (SW)"},null,"TIP-ON",null,null,null,null,null,null,{"$f":"ListAVS!$B$61&\" \"","v":"Cena celkem bez DPH "},{"$f":"SUM(AD9:AD47)","v":0},null,{"$f":"SUM(AF9:AF47)","v":0},null,{"$f":"SUM(AH9:AH47)","v":0}]
[null,null,null,null,null,null,null,null,null,null,null,null,null,{"$f":"ListAVS!B187&\". \"","v":"Pro určení typu zdvihače bude použita zadaná hmotnost. "}]
[null,null,null,null,null,null,null,null,null,null,null,null,null,{"$f":"ListAVS!B188&\". \"","v":"Pro určení typu zdvihače bude použita vypočtená hmotnost. "}]
[null,null,null,null,null,null,null,null,null,null,null,null,null,{"$f":"ListAVS!B189","v":"Chcete-li použít vypočtenou hmotnost, smažte zadanou hodnotu"}]
[null,null,null,null,null,null,null,null,null,null,null,null,null,{"$f":"ListAVS!B190","v":"Chcete-li použít zadanou hmotnost, zadejte ji do políčka"}]
[]
[]
[]
[]
[]
[]
[]
[]
[]
[]
[]
[]
[]
[]
[]
[]
[null,null,null,null,null,null,null,null,null,null,null,null,null,{"$f":"ListAVS!$B$73","v":"Výpočet hmotnosti čel"}]
[null,null,null,null,null,null,null,null,null,null,null,null,null,null,null,{"$f":"ListAVS!$B$179&\"  \"","v":"Provedení čel  "},null,null,null,{"$f":"J4","v":0},{"$f":"IF(AF76=3,IF(T70=0,Y72,\" \"),IF(T70>0,Y73,\" \"))","v":" "},null,null,null,{"$f":"IF($AF$76=1,$AF$95,IF($AF$76=2,$AF$96,$AF$97&\" - \"&$Y$80&\"mm\"))","v":"Alurámečky s 4mm sklem"},null,null,null,null,{"$f":"MenuAVS!$Q$81","v":2500}]
[null,null,null,null,null,null,null,null,null,null,null,null,null,null,null,null,null,null,null,null,null,null,null,null,{"$f":"\" \"&ListAVS!$B$410","v":" Změnit hodnoty můžete v Úvodu plánování"}]
[null,null,null,null,null,null,null,null,null,null,null,null,null,null,null,null,null,null,null,null,null,null,null,null,{"$f":"\" \"&ListAVS!$B$245&\" [mm]\"","v":" Zadejte sílu skla [mm]"}]
[null,null,null,null,null,null,null,null,null,null,null,null,null,null,null,null,null,null,null,null,null,null,null,null,{"$f":"\" \"&ListAVS!$B$240&\" '\"&ListAVS!$B$95&\"'\"","v":" Hodnota platí jen pro volbu 'Alurámečky s jiným sklem'"}]
[]
[null,null,null,null,null,null,null,null,null,null,null,null,null,null,null,null,null,{"$f":"D9","v":" "},null,null,null,null,null,null,null,null,null,null,null,null,"váha spoj.","tl. skla","typ alu"]
[null,null,null,null,null,null,null,null,null,null,null,null,null,{"$f":"ListAVS!$B$74&\" KB [mm]       \"","v":"Šířka korpusu KB [mm]       "},null,null,null,null,null,{"$f":"H10","v":0},null,null,null,null,{"$f":"T76*T77*T78","v":0},null,null,null,null,{"$f":"IF($AG$76=1,$X$95,$X$96)","v":0.31},{"$f":"$X$97","v":0.46},1,{"$f":"$O$4","v":1}]
[null,null,null,null,null,null,null,null,null,null,null,null,null,{"$f":"ListAVS!$B$75&\" KH [mm]       \"","v":"Výška korpusu KH [mm]       "},null,null,null,null,null,{"$f":"H11","v":0},null,null,null,null,{"$f":"Y76/1000000000","v":0},1,null,null,null,"váha alu",{"$f":"SUM(T76*2,(T77-40)*2)*AD76/1000","v":-2.4799999999999999E-2},"A plocha B"]
[null,null,null,null,null,null,null,null,null,null,null,null,null,{"$f":"ListAVS!$B$80&\" TS [mm] \"","v":"Síla čela TS [mm] "},null,null,null,null,null,null,null,null,null,null,{"$f":"MenuAVS!$C$31","v":760},{"$f":"ListAVS!$B$90&\" (\"&Y78&\" kg/m3)\"","v":"MDF (760 kg/m3)"},null,null,null,{"$f":"$AD$70*4/1000","v":10},{"$f":"IF($AG$76=1,AF78*AD78,AG78*AD78)","v":8.9999999999999993E-3},{"$f":"SUM(($T$76-30)*($T$77-30)/1000000)","v":8.9999999999999998E-4},{"$f":"SUM(($T$76-6)*($T$77-6)/1000000)","v":3.6000000000000001E-5},"4mm"]
[null,null,null,null,null,null,null,null,null,null,null,null,null,{"$f":"ListAVS!$B$83&\" [kg] \"","v":"Hmotnost úchytky [kg] "},null,null,null,null,null,{"$f":"H14","v":0},{"$f":"IF($U$16=3,\" \",IF(SUM(T76,T77)=0,\" \",IF(T79=0,\" ● \"&ListAVS!$B$129,\" \")))","v":" "},null,null,null,{"$f":"MenuAVS!$C$32","v":680},{"$f":"ListAVS!$B$91&\" (\"&Y79&\" kg/m3)\"","v":"Dřevotříska (680 kg/m3)"},null,null,null,{"$f":"$AD$70*5/1000","v":12.5},{"$f":"IF($AG$76=1,AF79*AD79,AG79*AD79)","v":1.125E-2},{"$f":"SUM(($T$76-30)*($T$77-30)/1000000)","v":8.9999999999999998E-4},{"$f":"SUM(($T$76-6)*($T$77-6)/1000000)","v":3.6000000000000001E-5},"5mm"]
[null,null,null,null,null,null,null,null,null,null,null,null,null,{"$f":"ListAVS!$B$79&\" [kg] \"","v":"Vypočtená hmotnost čela [kg] "},null,null,null,null,null,{"$f":"IF(AD81=0,0,AD81+2*T79)","v":0},null,null,null,{"$f":"IF(T76*T77*T78=0,0,IF(Z77=1,Y77*Y78,IF(Z77=2,Y77*Y79,Y77*Y80)))","v":0},{"$f":"$T$70","v":0},{"$f":"ListAVS!$B$92","v":"Jiné - volitelná hustota"},null,null,null,{"$f":"$AD$70*$T$70/1000","v":0},{"$f":"IF($AG$76=1,AF80*AD80,AG80*AD80)","v":0},{"$f":"SUM(($T$76-30)*($T$77-30)/1000000)","v":8.9999999999999998E-4},{"$f":"SUM(($T$76-6)*($T$77-6)/1000000)","v":3.6000000000000001E-5},"jiné"]
[null,null,null,null,null,null,null,null,null,null,null,null,null,null,{"$f":"IF((U16=3)*AND(T80>0)*AND(T79>0),$Z$96&\" \"&$Z$97,IF((U16<>3)*AND(T80>0),IF(T79=0,$Z$95,\" \"),\" \"))","v":" "},null,null,null,null,null,null,null,null,null,null,null,null,null,null,{"$f":"IF(OR(AND(AF76=3, $T$70=0), T76*T77=0), 0, SUM(IF(AF76=1,AE78,IF(AF76=2,AE79,AE80)),AE77,AE76))","v":0}]
[]
[]
[]
[]
[null,null,null,null,null,null,null,null,null,null,null,null,null,null,null,null,null,{"$f":"D20","v":" "},null,null,null,null,null,null,null,null,null,null,null,null,"váha spoj.","tl. skla","typ alu"]
[null,null,null,null,null,null,null,null,null,null,null,null,null,{"$f":"ListAVS!$B$74&\" KB [mm]       \"","v":"Šířka korpusu KB [mm]       "},null,null,null,null,null,{"$f":"H21","v":0},null,null,null,null,{"$f":"T87*T88*T89","v":0},null,null,null,null,{"$f":"IF($AG$76=1,$X$95,$X$96)","v":0.31},{"$f":"$X$97","v":0.46},{"$f":"$AF$76","v":1},{"$f":"$AG$76","v":1}]
[null,null,null,null,null,null,null,null,null,null,null,null,null,{"$f":"ListAVS!$B$75&\" KH [mm]       \"","v":"Výška korpusu KH [mm]       "},null,null,null,null,null,{"$f":"H22","v":0},null,null,null,null,{"$f":"Y87/1000000000","v":0},{"$f":"Z77","v":1},null,null,null,"váha alu",{"$f":"SUM(T87*2,(T88-40)*2)*AD87/1000","v":-2.4799999999999999E-2},"A plocha B"]
[null,null,null,null,null,null,null,null,null,null,null,null,null,{"$f":"ListAVS!$B$80&\" TS [mm] \"","v":"Síla čela TS [mm] "},null,null,null,null,null,null,null,null,null,null,{"$f":"$Y$78","v":760},{"$f":"$Z$78","v":"MDF (760 kg/m3)"},null,null,null,{"$f":"AD78","v":10},{"$f":"IF($AG$76=1,AF89*AD89,AG89*AD89)","v":8.9999999999999993E-3},{"$f":"SUM(($T$87-30)*($T$88-30)/1000000)","v":8.9999999999999998E-4},{"$f":"SUM(($T$87-6)*($T$88-6)/1000000)","v":3.6000000000000001E-5},"4mm"]
[null,null,null,null,null,null,null,null,null,null,null,null,null,{"$f":"ListAVS!$B$83&\" [kg] \"","v":"Hmotnost úchytky [kg] "},null,null,null,null,null,{"$f":"H25","v":0},{"$f":"IF($U$27=3,\" \",IF(SUM(T87,T88)=0,\" \",IF(T90=0,\" ● \"&ListAVS!$B$129,\" \")))","v":" "},null,null,null,{"$f":"$Y$79","v":680},{"$f":"$Z$79","v":"Dřevotříska (680 kg/m3)"},null,null,null,{"$f":"AD79","v":12.5},{"$f":"IF($AG$76=1,AF90*AD90,AG90*AD90)","v":1.125E-2},{"$f":"SUM(($T$87-30)*($T$88-30)/1000000)","v":8.9999999999999998E-4},{"$f":"SUM(($T$87-6)*($T$88-6)/1000000)","v":3.6000000000000001E-5},"5mm"]
[null,null,null,null,null,null,null,null,null,null,null,null,null,{"$f":"ListAVS!$B$79&\" [kg] \"","v":"Vypočtená hmotnost čela [kg] "},null,null,null,null,null,{"$f":"IF(AD92=0,0,AD92+2*T90)","v":0},null,null,null,{"$f":"IF(T87*T88*T89=0,0,IF(Z88=1,Y88*Y89,IF(Z88=2,Y88*Y90,Y88*Y91)))","v":0},{"$f":"$Y$80","v":0},{"$f":"$Z$80","v":"Jiné - volitelná hustota"},null,null,null,{"$f":"AD80","v":0},{"$f":"IF($AG$76=1,AF91*AD91,AG91*AD91)","v":0},{"$f":"SUM(($T$87-30)*($T$88-30)/1000000)","v":8.9999999999999998E-4},{"$f":"SUM(($T$87-6)*($T$88-6)/1000000)","v":3.6000000000000001E-5},"jiné"]
[null,null,null,null,null,null,null,null,null,null,null,null,null,null,{"$f":"IF((U27=3)*AND(T91>0)*AND(T90>0),$Z$96&\" \"&$Z$97,IF((U27<>3)*AND(T91>0),IF(T90=0,$Z$95,\" \"),\" \"))","v":" "},null,null,null,null,null,null,null,null,null,null,null,null,null,null,{"$f":"IF(OR(AND(AF87=3, $T$70=0), T87*T88=0), 0, SUM(IF(AF87=1,AE89,IF(AF87=2,AE90,AE91)),AE88,AE87))","v":0}]
[]
[]
[null,null,null,null,null,null,null,null,null,null,null,null,null,null,null,null,null,null,null,null,null,null,{"$f":"ListAVS!$B$424&\"  \"","v":"s vloženým sklem  "},{"$f":"MenuAVS!$I$91","v":0.31},null,{"$f":"ListAVS!$B$102&\"!\"","v":"Není započtena hmotnost úchytky!"},null,null,null,null,null,{"$f":"ListAVS!$B$93","v":"Alurámečky s 4mm sklem"}]
[null,null,null,null,null,null,null,null,null,null,null,null,null,null,null,null,null,null,null,null,null,null,{"$f":"ListAVS!$B$425&\"  \"","v":"s naloženým nebo nalepeným sklem  "},{"$f":"MenuAVS!$I$92","v":0.32},null,{"$f":"ListAVS!B103","v":"Opravdu máte úchytku na TIP-ON?"},null,null,null,null,null,{"$f":"ListAVS!$B$94","v":"Alurámečky s 5mm sklem"}]
[null,null,null,null,null,null,null,null,null,null,null,null,null,null,null,null,null,null,null,null,null,null,{"$f":"ListAVS!$B$405&\" [kg/set] *  \"","v":"Hmotnost spojovacího materiálu [kg/set] *  "},{"$f":"MenuAVS!$I$93","v":0.46},null,{"$f":"ListAVS!B104&\"!\"","v":"Jestli ne, smažte hmotnost úchytky.!"},null,null,null,null,null,{"$f":"ListAVS!$B$95","v":"Alurámečky s jiným sklem"}]
[]
[]
[null,"      AVENTOS HK"]
[]
[null,{"$f":"ListAVS!$B$302","v":"Potřebný zdvihač se určí pomocí ukazatele výkonnosti."}]
[null,{"$f":"ListAVS!$B$340","v":"Ukazatel výkonnosti závisí na hmotnosti čela (včetně dvojnásobné hmotnosti úchytky) a na výšce korpusu."}]
[]
[]
[null,null,null,{"$f":"ListAVS!$B$86&\" = \"","v":"Ukazatel výkonnosti = "},{"$f":"ListAVS!$B$341&\" [kg]\"","v":"výška korpusu (KH) [mm] x hmotnost čela včetně dvojnásobné hmotnosti úchytky [kg]"}]
[]
[]
[]
[]
[]
[null,{"$f":"ListAVS!$B$311","v":"Pokud znáte hmotnost čela, můžete ji zadat, jinak použijte \"Výpočet hmotnosti\"."}]
[null,{"$f":"ListAVS!$B$312","v":"V tabulce má přednost zadaná hodnota. Chcete-li použít vypočtenou hmotnost, smažte zadanou hodnotu."}]
[]
[]
[null,{"$f":"ListAVS!$B$305","v":"Chcete-li změnit barvu krytek, přejděte na \"Úvod plánování\""}]
[]
[null,{"$f":"ListAVS!$B$411","v":"Věnujte pozornost výběru alurámečků."}]
[null,{"$f":"ListAVS!$B$412","v":"Vyberte, který typ lépe odpovídá tvaru použitého alurámečku."}]
[null,{"$f":"ListAVS!$B$413","v":"Způsob osazení skla do rámečku výrazně ovlivňuje plochu skla a tím i hmotnost!"}]
[]
[null,null,{"$f":"\"  \"&ListAVS!$B$424&\"  \"","v":"  s vloženým sklem  "}]
[]
[null,null,{"$f":"\"  \"&ListAVS!$B$425&\"  \"","v":"  s naloženým nebo nalepeným sklem  "}]
[]
[null,null,null,null,null,null,null,null,null,null,null,{"$f":"ListAVS!$B$167","v":"Zpět"}]

{"sheet":"HKt","index":27,"n_rows":121,"n_cols":45,"rows_kept":121,"cut":false,"hidden":false,"merged":[[6,6,6,7],[9,1,9,6],[9,21,9,22],[0,42,0,45],[1,1,1,3],[4,5,4,9],[3,10,4,11],[8,1,8,2],[8,17,8,18],[8,21,8,22],[8,5,8,7],[6,1,6,2],[10,1,10,6],[19,17,19,18],[19,21,19,22],[20,1,20,6],[20,21,20,22],[15,1,15,2],[15,3,15,6],[16,1,16,6],[12,1,14,2],[12,3,12,6],[13,3,13,6],[14,3,14,6],[11,1,11,6],[26,1,26,2],[26,3,26,6],[19,5,19,7],[23,1,25,2],[23,3,23,6],[24,3,24,6],[25,3,25,6],[19,1,19,2],[22,1,22,6],[21,1,21,6],[27,1,27,6],[98,0,139,0],[105,4,105,11],[30,1,32,9],[36,2,39,10],[43,1,47,11],[17,42,18,46],[19,42,20,46],[87,13,87,18],[88,13,88,18],[89,13,89,18],[76,13,76,18],[69,15,69,19],[73,17,73,19],[74,13,74,18],[75,13,75,18],[86,13,86,18],[85,13,85,18],[29,19,29,20],[77,13,77,18],[78,13,78,18],[84,17,84,19]]}
[]
[null,"AVENTOS HK top",null,null,null,null,null,null,null,null,null,null,null,null,null,null,null,null,3,null,null,null,null,null,null,null,null,null,null,null,null,null,null,null,null,null,null,null,null,{"$f":"ListAVS!$B$152","v":"Jdi na"}]
[]
[null,{"$f":"ListAVS!$B$23&\" ****\"","v":"Tenké materiály ****"},null,null,null,{"$f":"ListAVS!$B$26&\":  \"","v":"Materiál :  "},null,null,null,null,{"$f":"IF($Z$71=8,IF(J4=0,$Y$67,\" \"),IF(J4>0,$Y$68,\" \"))","v":" "},null,null,null,null,null,null,null,{"$f":"\" \"&ListAVS!$B$41&\" A \"","v":" Cena za korpus A "},null,null,null,null,null,null,null,null,null,null,null,null,null,null,null,null,null,null,null,null," Úvod plánování"]
[null,null,null,null,null,{"$f":"IF($Z$72<>8,$Y$66,\" \")&\"      \"","v":" Změnit hodnoty můžete v Úvodu plánování      "},null,null,null,null,null,null,null,null,null,null,null,null,{"$f":"\" \"&ListAVS!$B$41&\" B \"","v":" Cena za korpus B "},null,null,null,null,null,null,null,null,null,null,null,null,null,null,null,null,null,null,null,null,{"$f":"\" \"&ListAVS!$B$154","v":" Nápověda"}]
[null,null,null,null,null,null,null,null,null,null,null,null,null,null,null,null,null,null,{"$f":"\" \"&ListAVS!$B$61","v":" Cena celkem bez DPH"}]
[null,{"$f":"ListAVS!$B$51&\":   \"","v":"Cena kování:   "},null,null,null,null,{"$f":"IF(S2=1,$AF$48,IF($S$2=2,$AH$48,IF($S$2=3,$AD$48,0)))","v":0},null,null,null,null,null,null,null,null,null,null,null,null,null,null,null,null,null,{"$f":"$B$2","v":"AVENTOS HK top"},{"$f":"B5","v":0},null,null,null,null,null,null,null,null,null,null,null,null,null,{"$f":"\" \"&ListAVS!$B$159","v":" Doplňky"}]
[null,null,null,null,null,null,null,{"$f":"IF(AND(OR($U$16=2, $U$27=2), $AD$48>0), $N$34, \" \")","v":" "},null,null,null,null,null,null,null,null,null,null,null,null,null,null,null,null,{"$f":"ListAVS!B52","v":"Název"},{"$f":"ListAVS!$B$53","v":"Číslo artiklu"},{"$f":"ListAVS!B54","v":"Barva"},{"$f":"ListAVS!B56","v":"Ks"},{"$f":"ListAVS!B58","v":"Jednotková cena"},{"$f":"ListAVS!B59","v":"Celkem"},"A","Cena","B","Cena",null,null,null,null,null,null,null,null,{"$f":"\"  \"&ListAVS!$B$86&\" LF \"","v":"  Ukazatel výkonnosti LF "},{"$f":"ListAVS!$B$84&\" \"&ListAVS!$B$349","v":"Zdvihací mechanizmus vruty"},{"$f":"ListAVS!$B$84&\" \"&ListAVS!$B$350","v":"Zdvihací mechanizmus předmont. eurošrouby"}]
[null,{"$f":"\"▼ \"&ListAVS!$B$317","v":"▼ Způsob otvírání"},null,{"$f":"IF($M$17>0, ListAVS!$B$37&\": \", \" \")","v":" "},{"$f":"IF(OR($AE$9>0, $AE$13>0), \"23\", IF(OR($AE$10>0, $AE$14>0), \"25\", IF(OR($AE$11>0, $AE$15>0), \"27\", IF(OR($AE$12>0, $AE$16>0), \"29\", IF(OR($AE$24>0, $AE$28>0), \"23T\", IF(OR($AE$25>0, $AE$29>0), \"25T\", IF(OR($AE$26>0, $AE$30>0), \"27T\", IF(OR($AE$27>0, $AE$31>0), \"29T\", \" \"))))))))","v":" "},{"$f":"ListAVS!$B$64&\" A\"","v":"Korpus A"},null,null,null,null,null,null,null,null,null,null,null,"dva zdvihače",null,2000,{"$f":"T9-1","v":1999},"tři zdvihače",null,null,{"$f":"CenAVS!A54","v":"Sada zdvihačů HK top, na vruty"},{"$f":"CenAVS!B54","v":"22K2300"},{"$f":"CenAVS!C54","v":"ZN"},{"$f":"SUM(AE9,AG9)","v":0},{"$f":"CenAVS!F54","v":1468.44},{"$f":"AB9*AC9","v":0},{"$f":"IF(AND($U$16<>3,$N$44=1),ROUNDUP(SUM(O11:P11)*$M$17,0),0)","v":0},{"$f":"$AC9*AE9","v":0},{"$f":"IF(AND($U$27<>3,$N$44=1),ROUNDUP(SUM(O22:P22)*$M$28,0),0)","v":0},{"$f":"$AC9*AG9","v":0},null,null,null,null,null,{"$f":"\" \"&ListAVS!$B$156","v":" Přehled korpusů"},null,null,"  420 - 1610","22K2300","22K2310"]
[null,{"$f":"ListAVS!$B$74&\" KB [mm] \"","v":"Šířka korpusu KB [mm] "},null,null,null,null,null,null,{"$f":"IF($H10=0,\" \",IF($H10<220,\" min. 220mm\",IF($H10>1800,\" max. 1 800mm\",\" \")))&IF(H17>0,IF(H10=0,\"● \"&ListAVS!$B$128,\" \"),\" \")","v":"  "},null,null,null,null,"zdvih A","dva","tři",null,"min","max","š.max","š. min",false,null,null,{"$f":"CenAVS!A55","v":"Sada zdvihačů HK top, na vruty"},{"$f":"CenAVS!B55","v":"22K2500"},{"$f":"CenAVS!C55","v":"ZN"},{"$f":"SUM(AE10,AG10)","v":0},{"$f":"CenAVS!F55","v":1468.44},{"$f":"AB10*AC10","v":0},{"$f":"IF(AND($U$16<>3,$N$44=1),ROUNDUP(SUM(O12:P12)*$M$17,0),0)","v":0},0,{"$f":"IF(AND($U$27<>3,$N$44=1),ROUNDUP(SUM(O23:P23)*$M$28,0),0)","v":0},0,null,null,null,null,null,{"$f":"\" \"&ListAVS!$B$157","v":" Objednávka"},null,null,"  930 - 2800","22K2500","22K2510"]
[null,{"$f":"ListAVS!$B$75&\" KH [mm]  \"","v":"Výška korpusu KH [mm]  "},null,null,null,null,null,null,{"$f":"IF($H11=0,\" \",IF($H11<205,\" min. 205 mm\",IF($H11>600,\" max. 600 mm\",\" \")))&IF(H17>0,IF(H11=0,\"● \"&ListAVS!$B$128,\" \"),\" \")","v":"  "},null,null,null,null,"K23",{"$f":"IF($V$10=FALSE,IF($H$16>R11,IF($H$16<S11,1,0),0),0)","v":0},{"$f":"IF($V$10=TRUE,IF($H$16>V11,IF($H$16<W11,1.5,0),0),0)","v":0},null,479,1000,null,null,719,1500,null,{"$f":"CenAVS!A56","v":"Sada zdvihačů HK top, na vruty"},{"$f":"CenAVS!B56","v":"22K2700"},{"$f":"CenAVS!C56","v":"ZN"},0,{"$f":"CenAVS!F56","v":1475.61},0,{"$f":"IF(AND($U$16<>3,$N$44=1),ROUNDUP(SUM(O13:P13)*$M$17,0),0)","v":0},0,{"$f":"IF(AND($U$27<>3,$N$44=1),ROUNDUP(SUM(O24:P24)*$M$28,0),0)","v":0},0,null,null,null,null,null,null,null,null,"  1730 - 5200","22K2700","22K2710"]
[null,{"$f":"ListAVS!$B$78&\" [kg] ** \"","v":"Hmotnost čela vč. 2x hmotnost úchytky [kg] ** "},null,null,null,null,null,null,{"$f":"IF($H17=0,\" \",IF(SUM($H12,$H15)=0,$N$36,\" \"))&IF(AND($H17>0,M17>0), IF($H12>0,$N$37,\" \"),\" \")","v":"  "},null,null,null,null,"K25",{"$f":"IF($V$10=FALSE,IF($H$16>R12,IF($H$16<S12,1,0),0),0)","v":0},{"$f":"IF($V$10=TRUE,IF($H$16>V12,IF($H$16<W12,1.5,0),0),0)","v":0},null,999.99990000000003,2000,null,null,1499.9999,3000,null,{"$f":"CenAVS!A57","v":"Sada zdvihačů HK top, na vruty"},{"$f":"CenAVS!B57","v":"22K2900"},{"$f":"CenAVS!C57","v":"ZN"},0,{"$f":"CenAVS!F57","v":1726.54},0,{"$f":"IF(AND($U$16<>3,$N$44=1),ROUNDUP(SUM(O14:P14)*$M$17,0),0)","v":0},0,{"$f":"IF(AND($U$27<>3,$N$44=1),ROUNDUP(SUM(O25:P25)*$M$28,0),0)","v":0},0,null,null,null,null,null,null,null,null,"  3200 - 9000","22K2900","22K2910"]
[null,{"$f":"ListAVS!$B$292","v":"Výpočet hmotnosti"},null,{"$f":"ListAVS!$B$80&\" TS [mm] \"","v":"Síla čela TS [mm] "},null,null,null,null,{"$f":"IF(H17=0,\" \",IF(AND(H12=0, H13=0),\" ● \"&ListAVS!$B$128&\",\",\" \"))&IF(H17=0,\" \",IF(AND(H12=0, H13<8), \" min. 8 mm\", IF($H13>14, \" max. 14 mm\", \" \")))","v":"  "},null,null,null,null,"K27",{"$f":"IF($V$10=FALSE,IF($H$16>R13,IF($H$16<S13,1,0),0),0)","v":0},{"$f":"IF($V$10=TRUE,IF($H$16>V13,IF($H$16<W13,1.5,0),0),0)","v":0},null,1999.9999989999999,4000,null,null,2999.9998999999998,6000,null,{"$f":"CenAVS!A58","v":"Sada zdvihačů HK top, předmont. eurošrouby"},{"$f":"CenAVS!B58","v":"22K2310"},{"$f":"CenAVS!C58","v":"ZN"},0,{"$f":"CenAVS!F58","v":1468.44},0,{"$f":"IF(AND($U$16<>3,$N$44=2),ROUNDUP(SUM(O11:P11)*$M$17,0),0)","v":0},0,{"$f":"IF(AND($U$27<>3,$N$44=2),ROUNDUP(SUM(O22:P22)*$M$28,0),0)","v":0},0]
[null,null,null,{"$f":"ListAVS!$B$83&\" [kg] \"","v":"Hmotnost úchytky [kg] "},null,null,null,null,{"$f":"IF(H17=0, \" \", IF(AND(H12=0, U16=1, H14=0), \" ● \"&ListAVS!$B$129,\" \"))","v":" "},null,null,null,null,"K29",{"$f":"IF($V$10=FALSE,IF($H$16>R14,IF($H$16<S14,1,0),0),0)","v":0},{"$f":"IF($V$10=TRUE,IF($H$16>V14,IF($H$16<W14,1.5,0),0),0)","v":0},null,3999.9999999000001,9001,null,null,5999.9998999999998,13501,null,{"$f":"CenAVS!A59","v":"Sada zdvihačů HK top, předmont. eurošrouby"},{"$f":"CenAVS!B59","v":"22K2510"},{"$f":"CenAVS!C59","v":"ZN"},0,{"$f":"CenAVS!F59","v":1468.44},0,{"$f":"IF(AND($U$16<>3,$N$44=2),ROUNDUP(SUM(O12:P12)*$M$17,0),0)","v":0},0,{"$f":"IF(AND($U$27<>3,$N$44=2),ROUNDUP(SUM(O23:P23)*$M$28,0),0)","v":0},0,null,null,null,null,null,null,null,null,{"$f":"ListAVS!$B$349&\" = \"&ListAVS!$B$351","v":"vruty = zdvihače s integrovanou šablonou (bez nutnosti rozměřování)"}]
[null,null,null,{"$f":"ListAVS!$B$79&\" [kg] \"","v":"Vypočtená hmotnost čela [kg] "},null,null,null,{"$f":"$T$79","v":0},{"$f":"IF(AND($H17>0,$H15>0,$H12=0,$M17>0), $N$37,\" \")&IF(AND(H17>0, H12=0, Z71=8, $J$4=0), $N$35, \" \")","v":"  "},null,null,null,null,null,null,null,null,null,null,null,{"$f":"IF(U16=1,$V$46,IF(U16=2,$V$47,$V$48))","v":"Standard"},null,null,null,{"$f":"CenAVS!A60","v":"Sada zdvihačů HK top, předmont. eurošrouby"},{"$f":"CenAVS!B60","v":"22K2710"},{"$f":"CenAVS!C60","v":"ZN"},0,{"$f":"CenAVS!F60","v":1475.61},0,{"$f":"IF(AND($U$16<>3,$N$44=2),ROUNDUP(SUM(O13:P13)*$M$17,0),0)","v":0},0,{"$f":"IF(AND($U$27<>3,$N$44=2),ROUNDUP(SUM(O24:P24)*$M$28,0),0)","v":0},0,null,null,null,null,null,null,null,null,{"$f":"ListAVS!$B$350&\" = \"&ListAVS!$B$352","v":"předmont. eurošrouby = zdvihače s předmotovanými šrouby (nutné předvrtání)"}]
[null,{"$f":"ListAVS!$B$87&\" *      \"","v":"Třetí zdvihač *      "},null,{"$f":"ListAVS!$B$86&\" LF \"","v":"Ukazatel výkonnosti LF "},null,null,null,{"$f":"IF(H12>0,H11*H12,H11*H15)","v":0},{"$f":"IF(H17=0,\" \",IF($H16<420,$N$39,IF($H16>13500,$N$40,IF($H16>9000,IF(V10=FALSE,$N$41,\" \"),\" \"))))","v":" "},null,null,null,null,null,null,null,null,null,null,null,1,null,null,null,{"$f":"CenAVS!A61","v":"Sada zdvihačů HK top, předmont. eurošrouby"},{"$f":"CenAVS!B61","v":"22K2910"},{"$f":"CenAVS!C61","v":"ZN"},0,{"$f":"CenAVS!F61","v":1726.54},0,{"$f":"IF(AND($U$16<>3,$N$44=2),ROUNDUP(SUM(O14:P14)*$M$17,0),0)","v":0},0,{"$f":"IF(AND($U$27<>3,$N$44=2),ROUNDUP(SUM(O25:P25)*$M$28,0),0)","v":0},0]
[null,{"$f":"ListAVS!$B$71&\"  \"","v":"Počet skříněk  "},null,null,null,null,null,null,{"$f":"IF(OR(H17=0, $H16>13500),\" \",IF($H16>9000,IF(V10=FALSE,$N$42,\" \"),\" \"))","v":" "},null,null,null,{"$f":"IF($H10*$H11*$T17=0, 0, IF(OR($H11<210, $H11>600, $H16<420, $H16>13500), 0, IF(AND($H12=0, $H13<8, $H13>14), 0, IF(AND(H16>9000, V10=FALSE), 0, $H17))))","v":0},null,null,null,null,null,"hmot =",{"$f":"IF(H12>0,H12,H15)","v":0},{"$f":"IF(SUM(H12,H15)=0,0,IF(H12>0,1,2))","v":0},"zadaná / vypočtená",null,null,{"$f":"CenAVS!A62","v":"Sada krytek HK top, světle šedá"},{"$f":"CenAVS!B62","v":"22K8000"},{"$f":"CenAVS!C62","v":"HG "},0,{"$f":"CenAVS!F62","v":211.38},0,{"$f":"IF($U$16<>2,IF($T$44=1,SUM($AE$9:$AE$16, $AE$24:$AE$31),0),0)","v":0},0,{"$f":"IF($U$27<>2,IF($T$44=1,SUM($AG$9:$AG$16, $AG$24:$AG$31),0),0)","v":0},0]
[null,{"$f":"IF(H17>0,IF(U17=0,\" \",IF(U17=1,$N$49,$N$50)),\" \")&IF(H17>0,IF(U17=0,\" \",IF(U17=1,$N$51,$N$52)),\" \")","v":"  "},null,null,null,null,null,null,null,null,null,null,null,null,null,null,null,null,null,null,null,null,null,null,{"$f":"CenAVS!A63","v":"Sada krytek HK top, tmavě šedá"},{"$f":"CenAVS!B63","v":"22K8000"},{"$f":"CenAVS!C63","v":"TGR"},0,{"$f":"CenAVS!F63","v":231.45},0,{"$f":"IF($U$16<>2,IF($T$44=2,SUM($AE$9:$AE$16, $AE$24:$AE$31),0),0)","v":0},0,{"$f":"IF($U$27<>2,IF($T$44=2,SUM($AG$9:$AG$16, $AG$24:$AG$31),0),0)","v":0},0,null,null,null,null,null,null,null,null,{"$f":"ListAVS!$B$86&\" LF = \"&ListAVS!$B$75&\" KH [mm] x \"&ListAVS!$B$78&\" [kg]\"","v":"Ukazatel výkonnosti LF = Výška korpusu KH [mm] x Hmotnost čela vč. 2x hmotnost úchytky [kg]"}]
[null,null,null,null,null,null,null,null,null,null,null,null,null,null,null,null,null,null,null,null,null,null,null,null,{"$f":"CenAVS!A64","v":"Sada krytek HK top, bílá"},{"$f":"CenAVS!B64","v":"22K8000"},{"$f":"CenAVS!C64","v":"SW "},0,{"$f":"CenAVS!F64","v":231.45},0,{"$f":"IF($U$16<>2,IF($T$44=3,SUM($AE$9:$AE$16, $AE$24:$AE$31),0),0)","v":0},0,{"$f":"IF($U$27<>2,IF($T$44=3,SUM($AG$9:$AG$16, $AG$24:$AG$31),0),0)","v":0},0]
[null,{"$f":"\"▼ \"&ListAVS!$B$317","v":"▼ Způsob otvírání"},null,{"$f":"IF($M$28>0, ListAVS!$B$37&\": \", \" \")","v":" "},{"$f":"IF(OR($AG$9>0, $AG$13>0), \"23\", IF(OR($AG$10>0, $AG$14>0), \"25\", IF(OR($AG$11>0, $AG$15>0), \"27\", IF(OR($AG$12>0, $AG$16>0), \"29\", IF(OR($AG$24>0, $AG$28>0), \"23T\", IF(OR($AG$25>0, $AG$29>0), \"25T\", IF(OR($AG$26>0, $AG$30>0), \"27T\", IF(OR($AG$27>0, $AG$31>0), \"29T\", \" \"))))))))","v":" "},{"$f":"ListAVS!$B$64&\" B\"","v":"Korpus B"},null,null,null,null,null,null,null,null,null,null,null,"dva zdvihače",null,null,null,"tři zdvihače",null,null,{"$f":"CenAVS!A65","v":"Sada krytek HK top, SERVO-DRIVE, sv.šedá"},{"$f":"CenAVS!B65","v":"23K8000"},{"$f":"CenAVS!C65","v":"HG "},0,{"$f":"CenAVS!F65","v":2493.35},0,{"$f":"IF($U$16=2,IF($T$44=1,SUM($AE$9:$AE$16),0),0)","v":0},0,{"$f":"IF($U$27=2,IF($T$44=1,SUM($AG$9:$AG$16),0),0)","v":0},0,null,null,null,null,null,null,null,null,{"$f":"ListAVS!$B$354","v":"V případě využití třetího zdvihače můžete zvýšit ukazatel výkonnosti a tudíž hmotnost čílka o 50%."}]
[null,{"$f":"ListAVS!$B$74&\" KB [mm] \"","v":"Šířka korpusu KB [mm] "},null,null,null,null,null,null,{"$f":"IF($H21=0,\" \",IF($H21<220,\" min. 220mm\",IF($H21>1800,\" max. 1 800mm\",\" \")))&IF(H28>0,IF(H21=0,\"● \"&ListAVS!$B$128,\" \"),\" \")","v":"  "},null,null,null,null,"zdvih B","dva","tři",null,"min","max",null,null,false,null,null,{"$f":"CenAVS!A66","v":"Sada krytek HK top, SERVO-DRIVE, tm.šedá"},{"$f":"CenAVS!B66","v":"23K8000"},{"$f":"CenAVS!C66","v":"TGR"},0,{"$f":"CenAVS!F66","v":2595.3000000000002},0,{"$f":"IF($U$16=2,IF($T$44=2,SUM($AE$9:$AE$16),0),0)","v":0},0,{"$f":"IF($U$27=2,IF($T$44=2,SUM($AG$9:$AG$16),0),0)","v":0},0]
[null,{"$f":"ListAVS!$B$75&\" KH [mm] \"","v":"Výška korpusu KH [mm] "},null,null,null,null,null,null,{"$f":"IF($H22=0,\" \",IF($H22<205,\" min. 205 mm\",IF($H22>600,\" max. 600 mm\",\" \")))&IF(H28>0,IF(H22=0,\"● \"&ListAVS!$B$128,\" \"),\" \")","v":"  "},null,null,null,null,"K23",{"$f":"IF($V$21=FALSE,IF($H$27>R22,IF($H$27<S22,1,0),0),0)","v":0},{"$f":"IF($V$21=TRUE,IF($H$27>V22,IF($H$27<W22,1.5,0),0),0)","v":0},null,479,1000,null,null,719,1500,null,{"$f":"CenAVS!A67","v":"Sada krytek HK top, SERVO-DRIVE, bílá"},{"$f":"CenAVS!B67","v":"23K8000"},{"$f":"CenAVS!C67","v":"SW "},0,{"$f":"CenAVS!F67","v":2595.3000000000002},0,{"$f":"IF($U$16=2,IF($T$44=3,SUM($AE$9:$AE$16),0),0)","v":0},0,{"$f":"IF($U$27=2,IF($T$44=3,SUM($AG$9:$AG$16),0),0)","v":0},0]
[null,{"$f":"ListAVS!$B$78&\" [kg] ** \"","v":"Hmotnost čela vč. 2x hmotnost úchytky [kg] ** "},null,null,null,null,null,null,{"$f":"IF($H28=0,\" \",IF(SUM($H23,$H26)=0,$N$36,\" \"))&IF(AND($H28>0,$M28>0), IF($H23>0,$N$37,\" \"),\" \")","v":"  "},null,null,null,null,"K25",{"$f":"IF($V$21=FALSE,IF($H$27>R23,IF($H$27<S23,1,0),0),0)","v":0},{"$f":"IF($V$21=TRUE,IF($H$27>V23,IF($H$27<W23,1.5,0),0),0)","v":0},null,999.99990000000003,2000,null,null,1499.9999,3000,null,{"$f":"CenAVS!A68","v":0},{"$f":"CenAVS!B68","v":0},{"$f":"CenAVS!C68","v":0},0,{"$f":"CenAVS!F68","v":0},0,null,0,null,0]
[null,{"$f":"ListAVS!$B$292","v":"Výpočet hmotnosti"},null,{"$f":"ListAVS!$B$80&\" TS [mm] \"","v":"Síla čela TS [mm] "},null,null,null,null,{"$f":"IF(H28=0,\" \",IF(AND(H23=0, H24=0),\" ● \"&ListAVS!$B$128&\",\",\" \"))&IF(H28=0,\" \",IF(AND(H23=0, H24<8), \" min. 8 mm\", \" \"))","v":"  "},null,null,null,null,"K27",{"$f":"IF($V$21=FALSE,IF($H$27>R24,IF($H$27<S24,1,0),0),0)","v":0},{"$f":"IF($V$21=TRUE,IF($H$27>V24,IF($H$27<W24,1.5,0),0),0)","v":0},null,1999.9999,4000,null,null,2999.9998999999998,6000,null,{"$f":"CenAVS!A69","v":"Sada zdvihačů HK top, TIP-ON, na vruty"},{"$f":"CenAVS!B69","v":"22K2300T"},{"$f":"CenAVS!C69","v":"ZN"},0,{"$f":"CenAVS!F69","v":1575.99},0,{"$f":"IF(AND($U$16=3,$N$44=1),ROUNDUP(SUM(O11:P11)*$M$17,0),0)","v":0},0,{"$f":"IF(AND($U$27=3,$N$44=1),ROUNDUP(SUM(O22:P22)*$M$28,0),0)","v":0},0]
[null,null,null,{"$f":"ListAVS!$B$83&\" [kg] \"","v":"Hmotnost úchytky [kg] "},null,null,null,null,{"$f":"IF(H28=0, \" \", IF(AND(H23=0, U27=1, H25=0), \" ● \"&ListAVS!$B$129,\" \"))","v":" "},null,null,null,null,"K29",{"$f":"IF($V$21=FALSE,IF($H$27>R25,IF($H$27<S25,1,0),0),0)","v":0},{"$f":"IF($V$21=TRUE,IF($H$27>V25,IF($H$27<W25,1.5,0),0),0)","v":0},null,3999.9998999999998,9001,null,null,5999.9998999999998,13501,null,{"$f":"CenAVS!A70","v":"Sada zdvihačů HK top, TIP-ON, na vruty"},{"$f":"CenAVS!B70","v":"22K2500T"},{"$f":"CenAVS!C70","v":"ZN"},0,{"$f":"CenAVS!F70","v":1575.99},0,{"$f":"IF(AND($U$16=3,$N$44=1),ROUNDUP(SUM(O12:P12)*$M$17,0),0)","v":0},0,{"$f":"IF(AND($U$27=3,$N$44=1),ROUNDUP(SUM(O23:P23)*$M$28,0),0)","v":0},0]
[null,null,null,{"$f":"ListAVS!$B$79&\" [kg] \"","v":"Vypočtená hmotnost čela [kg] "},null,null,null,{"$f":"$T$90","v":0},{"$f":"IF(AND($H28>0,$H26>0,$H23=0,$M28>0), $N$37,\" \")&IF(AND(H28>0, H23=0, Z71=8, $J$4=0), $N$35, \" \")","v":"  "},null,null,null,null,null,null,null,null,null,null,null,{"$f":"IF(U27=1,$V$46,IF(U27=2,$V$47,$V$48))","v":"Standard"},null,null,null,{"$f":"CenAVS!A71","v":"Sada zdvihačů HK top, TIP-ON, na vruty"},{"$f":"CenAVS!B71","v":"22K2700T"},{"$f":"CenAVS!C71","v":"ZN"},0,{"$f":"CenAVS!F71","v":1676.35},0,{"$f":"IF(AND($U$16=3,$N$44=1),ROUNDUP(SUM(O13:P13)*$M$17,0),0)","v":0},0,{"$f":"IF(AND($U$27=3,$N$44=1),ROUNDUP(SUM(O24:P24)*$M$28,0),0)","v":0},0]
[null,{"$f":"ListAVS!$B$87&\" *      \"","v":"Třetí zdvihač *      "},null,{"$f":"ListAVS!$B$86&\" LF \"","v":"Ukazatel výkonnosti LF "},null,null,null,{"$f":"IF(H23>0,H22*H23,H22*H26)","v":0},{"$f":"IF(H28=0,\" \",IF($H27<420,$N$39,IF($H27>13500,$N$40,IF($H27>9000,IF(V21=FALSE,$N$41,\" \"),\" \"))))","v":" "},null,null,null,null,null,null,null,null,null,null,null,1,null,null,null,{"$f":"CenAVS!A72","v":"Sada zdvihačů HK top, TIP-ON, na vruty"},{"$f":"CenAVS!B72","v":"22K2900T"},{"$f":"CenAVS!C72","v":"ZN"},0,{"$f":"CenAVS!F72","v":1927.28},0,{"$f":"IF(AND($U$16=3,$N$44=1),ROUNDUP(SUM(O14:P14)*$M$17,0),0)","v":0},0,{"$f":"IF(AND($U$27=3,$N$44=1),ROUNDUP(SUM(O25:P25)*$M$28,0),0)","v":0},0]
[null,{"$f":"ListAVS!$B$71&\"  \"","v":"Počet skříněk  "},null,null,null,null,null,null,{"$f":"IF(OR(H28=0, $H27>13500),\" \",IF($H27>9000,IF(V21=FALSE,$N$42,\" \"),\" \"))","v":" "},null,null,null,{"$f":"IF($H21*$H22*$T28=0,0,IF($H22<210,0,IF(H27<420,0,IF($H27>13500,0,IF(AND($H23=0,$H24<8, $H24>14),0,IF(H27>9000,IF(V21=FALSE,0,$H28),$H28))))))","v":0},null,null,null,null,null,"hmot =",{"$f":"IF(H23>0,H23,H26)","v":0},{"$f":"IF(SUM(H23,H26)=0,0,IF(H23>0,1,2))","v":0},"zadaná / vypočtená",null,null,{"$f":"CenAVS!A73","v":"Sada zdvihačů HK top, TIP-ON, předmont. eurošrouby"},{"$f":"CenAVS!B73","v":"22K2310T"},{"$f":"CenAVS!C73","v":"ZN"},0,{"$f":"CenAVS!F73","v":1575.99},0,{"$f":"IF(AND($U$16=3,$N$44=2),ROUNDUP(SUM(O11:P11)*$M$17,0),0)","v":0},0,{"$f":"IF(AND($U$27=3,$N$44=2),ROUNDUP(SUM(O22:P22)*$M$28,0),0)","v":0},0]
[null,{"$f":"IF(H28>0,IF(U28=0,\" \",IF(U28=1,$N$49,$N$50)),\" \")&IF(H28>0,IF(U28=0,\" \",IF(U28=1,$N$51,$N$52)),\" \")","v":"  "},null,null,null,null,null,null,null,null,null,null,null,null,null,null,null,null,null,null,null,null,null,null,{"$f":"CenAVS!A74","v":"Sada zdvihačů HK top, TIP-ON, předmont. eurošrouby"},{"$f":"CenAVS!B74","v":"22K2510T"},{"$f":"CenAVS!C74","v":"ZN"},0,{"$f":"CenAVS!F74","v":1575.99},0,{"$f":"IF(AND($U$16=3,$N$44=2),ROUNDUP(SUM(O12:P12)*$M$17,0),0)","v":0},0,{"$f":"IF(AND($U$27=3,$N$44=2),ROUNDUP(SUM(O23:P23)*$M$28,0),0)","v":0},0]
[null,null,null,null,null,null,null,null,null,null,null,null,null,null,null,null,null,null,{"$f":"IF($T$30=FALSE,2,1)","v":2},false,null," - Zdroj",null,null,{"$f":"CenAVS!A75","v":"Sada zdvihačů HK top, TIP-ON, předmont. eurošrouby"},{"$f":"CenAVS!B75","v":"22K2710T"},{"$f":"CenAVS!C75","v":"ZN"},0,{"$f":"CenAVS!F75","v":1676.35},{"$f":"AB30*AC30","v":0},{"$f":"IF(AND($U$16=3,$N$44=2),ROUNDUP(SUM(O13:P13)*$M$17,0),0)","v":0},0,{"$f":"IF(AND($U$27=3,$N$44=2),ROUNDUP(SUM(O24:P24)*$M$28,0),0)","v":0},{"$f":"$AC30*AG30","v":0}]
[null,{"$f":"IF(OR(AND($U$16=2, $M$17>0), AND($U$27=2, $M$28>0)), ListAVS!$B$175, \" \")","v":" "},null,null,null,null,null,null,null,null,null,null,null,null,null,null,null,null,null,null,null,null,null,null,{"$f":"CenAVS!A76","v":"Sada zdvihačů HK top, TIP-ON, předmont. eurošrouby"},{"$f":"CenAVS!B76","v":"22K2910T"},{"$f":"CenAVS!C76","v":"ZN"},0,{"$f":"CenAVS!F76","v":1927.28},0,{"$f":"IF(AND($U$16=3,$N$44=2),ROUNDUP(SUM(O14:P14)*$M$17,0),0)","v":0},0,{"$f":"IF(AND($U$27=3,$N$44=2),ROUNDUP(SUM(O25:P25)*$M$28,0),0)","v":0},0]
[null,null,null,null,null,null,null,null,null,null,null,null,null,null,null,null,null,null,null,null,null,null,null,null,{"$f":"CenAVS!A77","v":0},{"$f":"CenAVS!B77","v":0},{"$f":"CenAVS!C77","v":0},0,{"$f":"CenAVS!F77","v":0},0,null,0,null,0]
[null,null,null,null,null,null,null,null,null,null,null,null,null,null,null,null,null,null,null,null,null,null,null,null,{"$f":"CenAVS!A78","v":"Sada čel.kování pro dřev. čela"},{"$f":"CenAVS!B78","v":"20S4200"},{"$f":"CenAVS!C78","v":"NI"},0,{"$f":"CenAVS!F78","v":90.38},0,null,0,null,0]
[null,null,null,null,null,null,null,null,null,null,null,null,null,{"$f":"ListAVS!B176","v":"Cena bez napájecího zdroje!"},null,null,null,null,null,null,null,null,null,null,{"$f":"CenAVS!A79","v":"Čelní.kování pro dřev. čela EXPANDO"},{"$f":"CenAVS!B79","v":"20S42E1"},{"$f":"CenAVS!C79","v":"NI"},0,{"$f":"CenAVS!F79","v":51.36},0,null,0,null,0]
[null,null,null,null,null,null,null,null,null,null,null,null,null,{"$f":"\" \"&ListAVS!$B$117","v":" Vyplňte nahoře objemovou hmotnost "},null,null,null,null,null,null,null,null,null,null,{"$f":"CenAVS!A80","v":"Sada čel.kování pro tenké materiály"},{"$f":"CenAVS!B80","v":"20S42T1"},{"$f":"CenAVS!C80","v":"NI"},0,{"$f":"CenAVS!F80","v":291.60000000000002},0,{"$f":"SUM(AE$9:AE$16, $AE$24:$AE$31)","v":0},0,{"$f":"SUM(AG$9:AG$16, $AG$24:$AG$31)","v":0},0]
[null,null,null,null,null,null,null,null,null,null,null,null,null,{"$f":"\" \"&ListAVS!$B$115","v":" Zadejte hmotnost nebo vyplňte všechny buňky"},null,null,null,null,null,null,null,null,null,null,{"$f":"CenAVS!A81","v":"Sada čel.kování pro úzké alurámečky"},{"$f":"CenAVS!B81","v":"20S4200A"},{"$f":"CenAVS!C81","v":"NI"},0,{"$f":"CenAVS!F81","v":395.5},0,null,0,null,0]
[null," *",{"$f":"ListAVS!$B$230&\" \"&ListAVS!$B$231","v":"U širokých korpusů doporučujeme nainstalovat třetí zdvihač na střed korpusu. Důvodem je prohýbání čela v otevřené pozici. Také faktor výkonnosti LF a váha dveří mohou být o 50% navýšeny."},null,null,null,null,null,null,null,null,null,null,{"$f":"\"◄ \"&ListAVS!$B$111","v":"◄ hodnota bude použita pro výpočet LF"},null,null,null,null,null,null,null,null,null,null,{"$f":"CenAVS!A82","v":0},{"$f":"CenAVS!B82","v":0},{"$f":"CenAVS!C82","v":0},0,{"$f":"CenAVS!F82","v":0},0,null,0,null,0]
[null,null,null,null,null,null,null,null,null,null,null,null,null,{"$f":"\" * \"&ListAVS!$B$127","v":" * Doplňte hodnoty"},null,null,null,null,null,null,null,null,null,null,{"$f":"CenAVS!A185","v":"TIP-ON, krátká verze, šedá"},{"$f":"CenAVS!B185","v":"956.1004"},{"$f":"CenAVS!C185","v":"PG"},{"$f":"SUM(AE38,AG38)","v":0},{"$f":"CenAVS!F185","v":116.95},{"$f":"AB38*AC38","v":0},null,{"$f":"$AC38*AE38","v":0},{"$f":"IF(AND($T$44<3,$U$27=3),IF($H$22<=500,$M$28,0),0)","v":0},{"$f":"$AC38*AG38","v":0}]
[null,null,null,null,null,null,null,null,null,null,null,null,null,{"$f":"\" min. 420! \"&ListAVS!$B$121","v":" min. 420! Upravte hmotnost nebo výšku"},null,null,null,null,null,null,null,null,null,null,{"$f":"CenAVS!A186","v":"TIP-ON, krátká verze, hedvábně bílá"},{"$f":"CenAVS!B186","v":"956.1004"},{"$f":"CenAVS!C186","v":"SW"},0,{"$f":"CenAVS!F186","v":116.95},0,{"$f":"IF(AND($T$44=3,$U$16=3),IF($H$11<=500,$M$17,0),0)","v":0},0,{"$f":"IF(AND($T$44=3,$U$27=3),IF($H$22<=500,$M$28,0),0)","v":0},0]
[null,null,null,null,null,null,null,null,null,null,null,null,null,{"$f":"\" max. 13.500! \"&ListAVS!$B$121","v":" max. 13.500! Upravte hmotnost nebo výšku"},null,null,null,null,null,null,null,null,null,null,{"$f":"CenAVS!A187","v":"TIP-ON, krátká verze, karbon černá"},{"$f":"CenAVS!B187","v":"956.1004"},{"$f":"CenAVS!C187","v":"CS"},0,{"$f":"CenAVS!F187","v":116.95},0,null,0,null,0]
[null," **",{"$f":"ListAVS!$B$186","v":"Pokud znáte hmotnost a nechcete využít výpočtu hmotnosti"},null,null,null,null,null,null,null,null,null,null,{"$f":"\" max. 9 000! \"&ListAVS!$B$121","v":" max. 9 000! Upravte hmotnost nebo výšku"},null,null,null,null,null,null,null,null,null,null,{"$f":"CenAVS!A188","v":"TIP-ON, dlouhá verze, šedá"},{"$f":"CenAVS!B188","v":"956A1004"},{"$f":"CenAVS!C188","v":"PG"},0,{"$f":"CenAVS!F188","v":146.75},0,{"$f":"IF(AND($T$44<3,$U$16=3),IF($H$11>500,$M$17,0),0)","v":0},0,{"$f":"IF(AND($T$44<3,$U$27=3),IF($H$22>500,$M$28,0),0)","v":0},0]
[null,"****",{"$f":"ListAVS!$B$25","v":"materiály tloušťky od 8 do 14 mm"},null,null,null,null,null,null,null,null,null,null,{"$f":"\"                       \"&ListAVS!$B$122","v":"                       nebo přidejte třetí zdvihač"},null,null,null,null,null,null,null,null,null,null,{"$f":"CenAVS!A189","v":"TIP-ON, dlouhá verze, hedvábně bílá"},{"$f":"CenAVS!B189","v":"956A1004"},{"$f":"CenAVS!C189","v":"WA"},0,{"$f":"CenAVS!F189","v":146.75},0,{"$f":"IF(AND($T$44=3,$U$16=3),IF($H$11>500,$M$17,0),0)","v":0},0,{"$f":"IF(AND($T$44=3,$U$27=3),IF($H$22>500,$M$28,0),0)","v":0},0]
[null,null,null,null,null,null,null,null,null,null,null,null,null,null,null,null,null,null,null,null,null,null,null,null,{"$f":"CenAVS!A190","v":"TIP-ON, dlouhá verze, karbon černá"},{"$f":"CenAVS!B190","v":"956A1004"},{"$f":"CenAVS!C190","v":"CS"},0,{"$f":"CenAVS!F190","v":146.75},0,null,0,null,0]
[null,{"$f":"ListAVS!$B$420","v":"Mějte prosím na paměti, že použitelných materiálů je celá řada. Vzhledem k různé objemové hmotnosti nelze zaručit, že všechny materiály budou použitelné pro každou velikost skříňky. Obzvláště u lehčích materiálů nemusí hmotnost čela dosáhnout minimální hodnoty pro daný rozměr. Pokud se po správném zadání všech parametrů nezobrazí v Soupisu kování žádné hodnoty, je pravděpodobné, že váha čela je pod minimální hodnotou. V tom případě nelze výklop realizovat."},null,null,null,null,null,null,null,null,null,null,null,1,null,1,null,null,null,{"$f":"MenuAVS!$U$28","v":1},null,null,null,null,{"$f":"CenAVS!A169","v":0},{"$f":"CenAVS!B169","v":0},{"$f":"CenAVS!C169","v":0},null,{"$f":"CenAVS!F169","v":0},0,null,0,null,0]
[null,null,null,null,null,null,null,null,null,null,null,null,null,"záv.",null,"střed.",null,null,null,"kryt.",null,"provedení"]
[null,null,null,null,null,null,null,null,null,null,null,null,null,null,null,null,null,null,null,{"$f":"ListAVS!$B$145","v":"Světle šedá (HGR)"},null,"Standard",null,null,{"$f":"CenAVS!A172","v":"SERVO-DRIVE jednotka (sada) pro HK top"},{"$f":"CenAVS!B172","v":"23KA000"},{"$f":"CenAVS!C172","v":"R7037"},{"$f":"SUM(AE46,AG46)","v":0},{"$f":"CenAVS!F172","v":8251.18},{"$f":"AB46*AC46","v":0},{"$f":"IF($U$16=2, $M$17, 0)+IF(AND($U$16=2, $V$10=TRUE), $M$17, 0)","v":0},{"$f":"$AC46*AE46","v":0},{"$f":"IF($U$27=2, $M$28, 0)+IF(AND($U$27=2, $V$21=TRUE), $M$28, 0)","v":0},{"$f":"$AC46*AG46","v":0}]
[null,null,null,null,null,null,null,null,null,null,null,null,null,null,null,null,null,null,null,{"$f":"ListAVS!$B$146","v":"Tmavě šedá (TGR)"},null,"SERVO-DRIVE"]
[null,null,null,null,null,null,null,null,null,null,null,null,null,null,null,null,null,null,null,{"$f":"ListAVS!$B$147","v":"Hedvábně bílá (SW)"},null,"TIP-ON",null,null,null,null,null,null,{"$f":"ListAVS!$B$61&\" \"","v":"Cena celkem bez DPH "},{"$f":"SUM(AD9:AD47)","v":0},null,{"$f":"SUM(AF9:AF47)","v":0},null,{"$f":"SUM(AH9:AH47)","v":0}]
[null,null,null,null,null,null,null,null,null,null,null,null,null,{"$f":"ListAVS!B187&\". \"","v":"Pro určení typu zdvihače bude použita zadaná hmotnost. "}]
[null,null,null,null,null,null,null,null,null,null,null,null,null,{"$f":"ListAVS!B188&\". \"","v":"Pro určení typu zdvihače bude použita vypočtená hmotnost. "}]
[null,null,null,null,null,null,null,null,null,null,null,null,null,{"$f":"ListAVS!B189","v":"Chcete-li použít vypočtenou hmotnost, smažte zadanou hodnotu"}]
[null,null,null,null,null,null,null,null,null,null,null,null,null,{"$f":"ListAVS!B190","v":"Chcete-li použít zadanou hmotnost, zadejte ji do políčka"}]
[]
[]
[]
[]
[]
[]
[]
[]
[]
[]
[]
[]
[]
[null,null,null,null,null,null,null,null,null,null,null,null,null,null,null,null,null,null,null,null,null,null,null,null,{"$f":"\" \"&ListAVS!$B$410","v":" Změnit hodnoty můžete v Úvodu plánování"}]
[null,null,null,null,null,null,null,null,null,null,null,null,null,null,null,null,null,null,null,null,null,null,null,null,{"$f":"\" \"&ListAVS!$B$244&\" [kg/m3]\"","v":" Zadejte objemovou hmotnost  [kg/m3]"}]
[null,null,null,null,null,null,null,null,null,null,null,null,null,{"$f":"ListAVS!$B$73","v":"Výpočet hmotnosti čel"},null,null,null,null,null,null,null,null,null,null,{"$f":"\" \"&ListAVS!$B$240&\" '\"&ListAVS!$B$92&\"'\"","v":" Hodnota platí jen pro volbu 'Jiné - volitelná hustota'"}]
[null,null,null,null,null,null,null,null,null,null,null,null,null,null,null,{"$f":"ListAVS!$B$26&\":  \"","v":"Materiál :  "},null,null,null,{"$f":"J4","v":0},{"$f":"IF(Z72=3,IF(T69=0,Y67,\" \"),IF(T69>0,Y68,\" \"))","v":" "}]
[null,null,null,null,null,null,null,null,null,null,null,null,null,null,null,{"$f":"IF($Z$72<>8,$Y$66,\" \")&\"      \"","v":" Změnit hodnoty můžete v Úvodu plánování      "},null,null,null,null,null,null,null,null,null,null,{"$f":"IF(OR(T77<8, T77>14), 0, 1)","v":0}]
[null,null,null,null,null,null,null,null,null,null,null,null,null,null,null,null,null,null,null,null,null,null,null,null,{"$f":"IF(AA$70=1, T75*T76*T77/1000000000, 0)","v":0},3,"↑Síla čela 1=ok, 0=fail"]
[null,null,null,null,null,null,null,null,null,null,null,null,null,null,null,null,null,null,null,null,null,null,null,null,{"$f":"MenuAVS!$C31","v":760},{"$f":"ListAVS!$B$90&\" (\"&Y72&\" kg/m3)\"","v":"MDF (760 kg/m3)"}]
[null,null,null,null,null,null,null,null,null,null,null,null,null,null,null,null,null,null,null,null,null,null,null,null,{"$f":"MenuAVS!$C32","v":680},{"$f":"ListAVS!$B$91&\" (\"&Y73&\" kg/m3)\"","v":"Dřevotříska (680 kg/m3)"}]
[null,null,null,null,null,null,null,null,null,null,null,null,null,null,null,null,null,{"$f":"D9","v":" "},null,null,null,null,null,null,{"$f":"MenuAVS!$F31","v":1350},{"$f":"ListAVS!$B$96&\" (\"&Y74&\" kg/m3)\"","v":"Kompakt (1350 kg/m3)"}]
[null,null,null,null,null,null,null,null,null,null,null,null,null,{"$f":"ListAVS!$B$74&\" KB [mm]       \"","v":"Šířka korpusu KB [mm]       "},null,null,null,null,null,{"$f":"H10","v":0},null,null,null,null,{"$f":"MenuAVS!$F32","v":1700},{"$f":"ListAVS!$B$97&\" (\"&Y75&\" kg/m3)\"","v":"Kompozit (1700 kg/m3)"}]
[null,null,null,null,null,null,null,null,null,null,null,null,null,{"$f":"ListAVS!$B$75&\" KH [mm]       \"","v":"Výška korpusu KH [mm]       "},null,null,null,null,null,{"$f":"H11","v":0},null,null,null,null,{"$f":"MenuAVS!$F33","v":2600},{"$f":"ListAVS!$B$98&\" (\"&Y76&\" kg/m3)\"","v":"Kámen (2600 kg/m3)"}]
[null,null,null,null,null,null,null,null,null,null,null,null,null,{"$f":"ListAVS!$B$80&\" TS [mm] \"","v":"Síla čela TS [mm] "},null,null,null,null,null,{"$f":"H13","v":0},{"$f":"IF(SUM(T75,T76)=0,\" \",IF(T77=0,\" ● \"&ListAVS!$B$128, IF(T77<8,\" min 8 mm!\",IF(T77>14,\" max. 14 mm!\",\" \"))))","v":" "},null,null,null,{"$f":"MenuAVS!$I31","v":2400},{"$f":"ListAVS!$B$99&\" (\"&Y77&\" kg/m3)\"","v":"Keramika (2400 kg/m3)"}]
[null,null,null,null,null,null,null,null,null,null,null,null,null,{"$f":"ListAVS!$B$83&\" [kg] \"","v":"Hmotnost úchytky [kg] "},null,null,null,null,null,{"$f":"H14","v":0},{"$f":"IF($U$16=3,\" \",IF(SUM(T75,T76)=0,\" \",IF(T78=0,\" ● \"&ListAVS!$B$129,\" \")))","v":" "},null,null,null,{"$f":"MenuAVS!$I32","v":2300},{"$f":"ListAVS!$B$100&\" (\"&Y78&\" kg/m3)\"","v":"Beton (2300 kg/m3)"}]
[null,null,null,null,null,null,null,null,null,null,null,null,null,{"$f":"ListAVS!$B$79&\" [kg] \"","v":"Vypočtená hmotnost čela [kg] "},null,null,null,null,null,{"$f":"IF(X79=0,0,X79+2*T78)","v":0},null,null,null,{"$f":"IF(T75*T76*T77=0,0,IF(Z71=1,Y71*Y72,IF(Z71=2,Y71*Y73, IF(Z71=3,Y71*Y74, IF(Z71=4, Y71*Y75, IF(Z71=5, Y71*Y76, IF(Z71=6, Y71*Y77, IF(Z71=7, Y71*Y78, Y71*Y79))))))))","v":0},{"$f":"$T$69","v":0},{"$f":"ListAVS!$B$92","v":"Jiné - volitelná hustota"}]
[null,null,null,null,null,null,null,null,null,null,null,null,null,null,{"$f":"IF((U16=3)*AND(T79>0)*AND(T78>0),$Y$94&\" \"&$Y$95,IF((U16<>3)*AND(T79>0),IF(T78=0,$Y$93,\" \"),\" \"))","v":" "}]
[null,null,null,null,null,null,null,null,null,null,null,null,null,null,null,null,null,null,null,null,null,null,null,null,null,null,{"$f":"IF(OR(T88<8, T88>14), 0, 1)","v":0}]
[null,null,null,null,null,null,null,null,null,null,null,null,null,null,null,null,null,null,null,null,null,null,null,null,{"$f":"IF(AA$81=1, T86*T87*T88/1000000000, 0)","v":0},{"$f":"Z71","v":3},"↑Síla čela 1=ok, 0=fail"]
[null,null,null,null,null,null,null,null,null,null,null,null,null,null,null,null,null,null,null,null,null,null,null,null,{"$f":"$Y$72","v":760},{"$f":"$Z$72","v":"MDF (760 kg/m3)"}]
[null,null,null,null,null,null,null,null,null,null,null,null,null,null,null,null,null,null,null,null,null,null,null,null,{"$f":"$Y$73","v":680},{"$f":"$Z$73","v":"Dřevotříska (680 kg/m3)"}]
[null,null,null,null,null,null,null,null,null,null,null,null,null,null,null,null,null,{"$f":"D20","v":" "},null,null,null,null,null,null,{"$f":"$Y$74","v":1350},{"$f":"$Z$74","v":"Kompakt (1350 kg/m3)"}]
[null,null,null,null,null,null,null,null,null,null,null,null,null,{"$f":"ListAVS!$B$74&\" KB [mm]       \"","v":"Šířka korpusu KB [mm]       "},null,null,null,null,null,{"$f":"H21","v":0},null,null,null,null,{"$f":"$Y$75","v":1700},{"$f":"$Z$75","v":"Kompozit (1700 kg/m3)"}]
[null,null,null,null,null,null,null,null,null,null,null,null,null,{"$f":"ListAVS!$B$75&\" KH [mm]       \"","v":"Výška korpusu KH [mm]       "},null,null,null,null,null,{"$f":"H22","v":0},null,null,null,null,{"$f":"$Y$76","v":2600},{"$f":"$Z$76","v":"Kámen (2600 kg/m3)"}]
[null,null,null,null,null,null,null,null,null,null,null,null,null,{"$f":"ListAVS!$B$80&\" TS [mm] \"","v":"Síla čela TS [mm] "},null,null,null,null,null,{"$f":"H24","v":0},{"$f":"IF(SUM(T86,T87)=0,\" \",IF(T88=0,\" ● \"&ListAVS!$B$128, IF(T88<8,\" min 8 mm!\",IF(T88>14,\" max. 14 mm!\",\" \"))))","v":" "},null,null,null,{"$f":"$Y$77","v":2400},{"$f":"$Z$77","v":"Keramika (2400 kg/m3)"}]
[null,null,null,null,null,null,null,null,null,null,null,null,null,{"$f":"ListAVS!$B$83&\" [kg] \"","v":"Hmotnost úchytky [kg] "},null,null,null,null,null,{"$f":"H25","v":0},{"$f":"IF($U$27=3,\" \",IF(SUM(T86,T87)=0,\" \",IF(T89=0,\" ● \"&ListAVS!$B$129,\" \")))","v":" "},null,null,null,{"$f":"$Y$78","v":2300},{"$f":"$Z$78","v":"Beton (2300 kg/m3)"}]
[null,null,null,null,null,null,null,null,null,null,null,null,null,{"$f":"ListAVS!$B$79&\" [kg] \"","v":"Vypočtená hmotnost čela [kg] "},null,null,null,null,null,{"$f":"IF(X90=0,0,X90+2*T89)","v":0},null,null,null,{"$f":"IF(T86*T87*T88=0,0,IF(Z82=1,Y82*Y83,IF(Z82=2,Y82*Y84, IF(Z82=3,Y82*Y85, IF(Z82=4, Y82*Y86, IF(Z82=5, Y82*Y87, IF(Z82=6, Y82*Y88, IF(Z82=7, Y82*Y89, Y82*Y90))))))))","v":0},{"$f":"$Y$79","v":0},{"$f":"$Z$79","v":"Jiné - volitelná hustota"}]
[null,null,null,null,null,null,null,null,null,null,null,null,null,null,{"$f":"IF((U27=3)*AND(T90>0)*AND(T89>0),$Y$94&\" \"&$Y$95,IF((U27<>3)*AND(T90>0),IF(T89=0,$Y$93,\" \"),\" \"))","v":" "}]
[]
[null,null,null,null,null,null,null,null,null,null,null,null,null,null,null,null,null,null,null,null,null,null,null,null,{"$f":"ListAVS!$B$102&\"!\"","v":"Není započtena hmotnost úchytky!"}]
[null,null,null,null,null,null,null,null,null,null,null,null,null,null,null,null,null,null,null,null,null,null,null,null,{"$f":"ListAVS!B103","v":"Opravdu máte úchytku na TIP-ON?"}]
[null,null,null,null,null,null,null,null,null,null,null,null,null,null,null,null,null,null,null,null,null,null,null,null,{"$f":"ListAVS!B104&\"!\"","v":"Jestli ne, smažte hmotnost úchytky.!"}]
[]
[]
[]
[]
[null,"      AVENTOS HK"]
[]
[null,{"$f":"ListAVS!$B$302","v":"Potřebný zdvihač se určí pomocí ukazatele výkonnosti."}]
[null,{"$f":"ListAVS!$B$340","v":"Ukazatel výkonnosti závisí na hmotnosti čela (včetně dvojnásobné hmotnosti úchytky) a na výšce korpusu."}]
[]
[]
[null,null,null,{"$f":"ListAVS!$B$86&\" = \"","v":"Ukazatel výkonnosti = "},{"$f":"ListAVS!$B$341&\" [kg]\"","v":"výška korpusu (KH) [mm] x hmotnost čela včetně dvojnásobné hmotnosti úchytky [kg]"}]
[]
[null,{"$f":"ListAVS!$B$354","v":"V případě využití třetího zdvihače můžete zvýšit ukazatel výkonnosti a tudíž hmotnost čílka o 50%."}]
[]
[null,{"$f":"ListAVS!$B$182","v":"Přídavný třetí zdvihač může být použit pouze s plným čelem!"}]
[]
[null,{"$f":"ListAVS!$B$311","v":"Pokud znáte hmotnost čela, můžete ji zadat, jinak použijte \"Výpočet hmotnosti\"."}]
[null,{"$f":"ListAVS!$B$312","v":"V tabulce má přednost zadaná hodnota. Chcete-li použít vypočtenou hmotnost, smažte zadanou hodnotu."}]
[]
[]
[null,{"$f":"ListAVS!$B$305","v":"Chcete-li změnit barvu krytek, přejděte na \"Úvod plánování\""}]
[]
[]
[]
[]
[null,null,null,null,null,null,null,null,null,null,null,{"$f":"ListAVS!$B$167","v":"Zpět"}]

{"sheet":"HKSw","index":28,"n_rows":125,"n_cols":44,"rows_kept":125,"cut":false,"hidden":false,"merged":[[1,1,1,3],[7,43,8,43],[8,17,8,18],[8,21,8,22],[0,41,0,49],[4,5,4,9],[3,10,4,11],[8,5,8,7],[11,41,11,42],[6,1,6,2],[6,6,6,7],[7,41,8,42],[9,1,9,6],[9,21,9,22],[9,41,9,42],[10,1,10,6],[10,41,10,42],[8,1,8,2],[11,1,11,6],[12,41,12,42],[15,1,15,2],[15,3,15,6],[13,41,14,45],[16,1,16,6],[12,1,14,2],[12,3,12,6],[13,3,13,6],[14,3,14,6],[15,41,16,45],[19,17,19,18],[19,21,19,22],[20,1,20,6],[20,21,20,22],[75,13,75,18],[21,1,21,6],[22,1,22,6],[26,1,26,2],[26,3,26,6],[19,1,19,2],[19,5,19,7],[23,1,25,2],[23,3,23,6],[24,3,24,6],[25,3,25,6],[74,17,74,19],[29,19,29,20],[33,2,36,10],[61,15,61,19],[65,17,65,19],[66,13,66,18],[27,1,27,6],[67,13,67,18],[68,13,68,18],[69,13,69,18],[70,13,70,18],[84,18,84,19],[78,13,78,18],[98,0,139,0],[105,4,105,11],[76,13,76,18],[77,13,77,18],[79,13,79,18]]}
[]
[null,"AVENTOS HK-S",null,null,null,null,null,null,null,null,null,null,null,null,null,null,null,null,3,null,null,null,null,null,null,null,null,null,null,null,null,null,null,null,null,null,{"$f":"ListAVS!$B$152","v":"Jdi na"}]
[]
[null,{"$f":"ListAVS!$B$17","v":"Dřevěné čelo"},null,null,null,{"$f":"ListAVS!$B$179&\"  \"","v":"Provedení čel  "},null,null,null,null,{"$f":"IF($Z$68=3,IF(J4=0,$Y$63,\" \"),IF(J4>0,$Y$64,\" \"))","v":" "},null,null,null,null,null,null,null,{"$f":"\" \"&ListAVS!$B$41&\" A \"","v":" Cena za korpus A "},null,null,null,null,null,null,null,null,null,null,null,null,null,null,null,null,null," Úvod plánování"]
[null,null,null,null,null,{"$f":"IF($Z$68<>3,$Y$62,\" \")&\"      \"","v":" Změnit hodnoty můžete v Úvodu plánování      "},null,null,null,null,null,null,null,null,null,null,null,null,{"$f":"\" \"&ListAVS!$B$41&\" B \"","v":" Cena za korpus B "},null,null,null,null,null,null,null,null,null,null,null,null,null,null,null,null,null,{"$f":"\" \"&ListAVS!$B$154","v":" Nápověda"}]
[null,null,null,null,null,null,null,null,null,null,null,null,null,null,null,null,null,null,{"$f":"\" \"&ListAVS!$B$61","v":" Cena celkem bez DPH"}]
[null,{"$f":"ListAVS!$B$51&\":   \"","v":"Cena kování:   "},null,null,null,null,{"$f":"IF(S2=1,$AF$46,IF($S$2=2,$AH$46,IF($S$2=3,$AD$46,0)))","v":0},null,null,null,null,null,null,null,null,null,null,null,null,null,null,null,null,null,{"$f":"$B$2","v":"AVENTOS HK-S"},{"$f":"B5","v":0},null,null,null,null,null,null,null,null,null,null,{"$f":"\" \"&ListAVS!$B$159","v":" Doplňky"}]
[null,null,null,null,null,null,null,null,null,null,null,null,null,null,null,null,null,null,null,null,null,null,null,null,{"$f":"ListAVS!B52","v":"Název"},{"$f":"ListAVS!$B$53","v":"Číslo artiklu"},{"$f":"ListAVS!B54","v":"Barva"},{"$f":"ListAVS!B56","v":"Ks"},{"$f":"ListAVS!B58","v":"Jednotková cena"},{"$f":"ListAVS!B59","v":"Celkem"},"A","Cena","B","Cena",null,null,null,null,null,null,null,{"$f":"\"  \"&ListAVS!$B$86&\" LF \"","v":"  Ukazatel výkonnosti LF "},null,{"$f":"ListAVS!$B$84","v":"Zdvihací mechanizmus"}]
[null,{"$f":"\"▼ \"&ListAVS!$B$317","v":"▼ Způsob otvírání"},null,{"$f":"IF($M$17>0, ListAVS!$B$37&\": \", \" \")","v":" "},{"$f":"IF(SUM(AE$9:AE$11)>0, \"B\", IF(SUM(AE$12:AE$14)>0, \"C\", IF(SUM(AE$15:AE$17)>0, \"E\", IF(SUM(AE$19:AE$21)>0, \"B T\", IF(SUM(AE$22:AE$24)>0, \"C T\", IF(SUM(AE$25:AE$27)>0, \"E T\",  \" \"))))))","v":" "},{"$f":"ListAVS!$B$64&\" A\"","v":"Korpus A"},null,null,null,null,null,null,null,null,null,null,null,"dva zdvihače",null,null,null,"tři zdvihače",null,null,{"$f":"CenAVS!A83","v":"Sada zdvihačů HK-S, světle šedé krytky"},{"$f":"CenAVS!B83","v":"20K2B00.06"},{"$f":"CenAVS!C83","v":"HGIG"},{"$f":"SUM(AE9,AG9)","v":0},{"$f":"CenAVS!F83","v":778.98},{"$f":"AB9*AC9","v":0},{"$f":"IF(AND($U$16=1,$T$44=1),ROUNDUP(SUM($O$11:$P$11)*$M$17,0),0)","v":0},{"$f":"$AC9*AE9","v":0},{"$f":"IF(AND($U$27=1,$T$44=1),ROUNDUP(SUM($O$22:$P$22)*$M$28,0),0)","v":0},{"$f":"$AC9*AG9","v":0},null,null,{"$f":"\" \"&ListAVS!$B$156","v":" Přehled korpusů"}]
[null,{"$f":"ListAVS!$B$74&\" KB [mm] \"","v":"Šířka korpusu KB [mm] "},null,null,null,null,null,null,{"$f":"IF($H10=0,\" \",IF($H10<220,\" min. 220mm\",IF($H10>1800,\" max. 1 800mm\",\" \")))&IF(H17>0,IF(H10=0,\"● \"&ListAVS!$B$128,\" \"),\" \")","v":"  "},null,null,null,null,"zdvih A","dva","tři",null,"min","max","š.max","š. min",false,null,null,{"$f":"CenAVS!A84","v":"Sada zdvihačů HK-S, tmavě šedé krytky"},{"$f":"CenAVS!B84","v":"20K2B00.06"},{"$f":"CenAVS!C84","v":"TGIG"},{"$f":"SUM(AE10,AG10)","v":0},{"$f":"CenAVS!F84","v":801.95},{"$f":"AB10*AC10","v":0},{"$f":"IF(AND($U$16=1,$T$44=2),ROUNDUP(SUM($O$11:$P$11)*$M$17,0),0)","v":0},0,{"$f":"IF(AND($U$27=1,$T$44=2),ROUNDUP(SUM($O$22:$P$22)*$M$28,0),0)","v":0},0,null,null,{"$f":"\" \"&ListAVS!$B$157","v":" Objednávka"},null,null,null,null,"  220 - 500",null,"20K2B00.02"]
[null,{"$f":"ListAVS!$B$75&\" KH [mm]  \"","v":"Výška korpusu KH [mm]  "},null,null,null,null,null,null,{"$f":"IF($H11=0,\" \",IF($H11<190,\" min. 190mm\",IF($H11>600,\" max. 600 mm!\",\" \")))&IF(H17>0,IF(H11=0,\"● \"&ListAVS!$B$128,\" \"),\" \")","v":"  "},null,null,null,null,"K2B",{"$f":"IF($V$10=FALSE,IF($H$16>R11,IF($H$16<S11,1,0),0),0)","v":0},{"$f":"IF($V$10=TRUE,IF($H$16>V11,IF($H$16<W11,2,0),0),0)","v":0},null,219.99,450,null,null,329.99,670,null,{"$f":"CenAVS!A85","v":"Sada zdvihačů HK-S, bílé krytky"},{"$f":"CenAVS!B85","v":"20K2B00.06"},{"$f":"CenAVS!C85","v":"SWIG"},0,{"$f":"CenAVS!F85","v":801.95},0,{"$f":"IF(AND($U$16=1,$T$44=3),ROUNDUP(SUM($O$11:$P$11)*$M$17,0),0)","v":0},0,{"$f":"IF(AND($U$27=1,$T$44=3),ROUNDUP(SUM($O$22:$P$22)*$M$28,0),0)","v":0},0,null,null,null,null,null,null,null,"  400 - 1.000",null,"20K2C00.02"]
[null,{"$f":"ListAVS!$B$78&\" [kg] ** \"","v":"Hmotnost čela vč. 2x hmotnost úchytky [kg] ** "},null,null,null,null,null,null,{"$f":"IF($H17=0,\" \",IF(SUM($H12,$H15)=0,$N$36,\" \"))&IF($M17>0,IF($H12>0,$N$37,\" \"),\" \")","v":"  "},null,null,null,null,"K2C",{"$f":"IF($V$10=FALSE,IF($H$16>R12,IF($H$16<S12,1,0),0),0)","v":0},{"$f":"IF($V$10=TRUE,IF($H$16>V12,IF($H$16<W12,1.5,0),0),0)","v":0},null,449.99,980,null,null,669.99,1470,null,{"$f":"CenAVS!A86","v":"Sada zdvihačů HK-S, světle šedé krytky"},{"$f":"CenAVS!B86","v":"20K2C00.06"},{"$f":"CenAVS!C86","v":"HGIG"},0,{"$f":"CenAVS!F86","v":855.57},0,{"$f":"IF(AND($U$16=1,$T$44=1),ROUNDUP(SUM($O$12:$P$12)*$M$17,0),0)","v":0},0,{"$f":"IF(AND($U$27=1,$T$44=1),ROUNDUP(SUM($O$23:$P$23)*$M$28,0),0)","v":0},0,null,null,null,null,null,null,null,"  960 - 2.215",null,"20K2E00.02"]
[null,{"$f":"ListAVS!$B$292","v":"Výpočet hmotnosti"},null,{"$f":"ListAVS!$B$80&\" TS [mm] \"","v":"Síla čela TS [mm] "},null,null,null,null,{"$f":"IF(H17=0,\" \",IF(AND(H12=0, H13=0),\" ● \"&ListAVS!$B$128,\" \"))&IF(H17=0,\" \",IF(AND(H12=0, H13<14), \" min. 14 mm\", \" \"))","v":"  "},null,null,null,null,"K2E",{"$f":"IF($V$10=FALSE,IF($H$16>R13,IF($H$16<S13,1,0),0),0)","v":0},{"$f":"IF($V$10=TRUE,IF($H$16>V13,IF($H$16<W13,1.5,0),0),0)","v":0},null,979.99,2216,null,null,1469.99,3323,null,{"$f":"CenAVS!A87","v":"Sada zdvihačů HK-S, tmavě šedé krytky"},{"$f":"CenAVS!B87","v":"20K2C00.06"},{"$f":"CenAVS!C87","v":"TGIG"},0,{"$f":"CenAVS!F87","v":878.54},0,{"$f":"IF(AND($U$16=1,$T$44=2),ROUNDUP(SUM($O$12:$P$12)*$M$17,0),0)","v":0},0,{"$f":"IF(AND($U$27=1,$T$44=2),ROUNDUP(SUM($O$23:$P$23)*$M$28,0),0)","v":0},0]
[null,null,null,{"$f":"ListAVS!$B$83&\" [kg] \"","v":"Hmotnost úchytky [kg] "},null,null,null,null,{"$f":"IF(H17=0, \" \", IF(AND(H12=0, U16=1, H14=0), \" ● \"&ListAVS!$B$129,\" \"))","v":" "},null,null,null,null,null,null,null,null,null,null,null,null,null,null,null,{"$f":"CenAVS!A88","v":"Sada zdvihačů HK-S, bílé krytky"},{"$f":"CenAVS!B88","v":"20K2C00.06"},{"$f":"CenAVS!C88","v":"SWIG"},0,{"$f":"CenAVS!F88","v":878.54},0,{"$f":"IF(AND($U$16=1,$T$44=3),ROUNDUP(SUM($O$12:$P$12)*$M$17,0),0)","v":0},0,{"$f":"IF(AND($U$27=1,$T$44=3),ROUNDUP(SUM($O$23:$P$23)*$M$28,0),0)","v":0},0,null,null,null,null,null,null,null,{"$f":"ListAVS!$B$86&\" LF = \"&ListAVS!$B$75&\" KH [mm] x \"&ListAVS!$B$78&\" [kg]\"","v":"Ukazatel výkonnosti LF = Výška korpusu KH [mm] x Hmotnost čela vč. 2x hmotnost úchytky [kg]"}]
[null,null,null,{"$f":"ListAVS!$B$79&\" [kg] \"","v":"Vypočtená hmotnost čela [kg] "},null,null,null,{"$f":"$T$71","v":0},{"$f":"IF(AND($H17>0,$H15>0,$H12=0,$M17>0), $N$37,\" \")&IF(AND(H17>0, H12=0, Z68=3, $J$4=0), $N$35, \" \")","v":"  "},null,null,null,null,null,null,null,null,null,null,null,{"$f":"IF(U16=1,$V$46,IF(U16=2,$V$47,$V$48))","v":"Standard"},null,null,null,{"$f":"CenAVS!A89","v":"Sada zdvihačů HK-S, světle šedé krytky"},{"$f":"CenAVS!B89","v":"20K2E00.06"},{"$f":"CenAVS!C89","v":"HGIG"},0,{"$f":"CenAVS!F89","v":855.57},0,{"$f":"IF(AND($U$16=1,$T$44=1),ROUNDUP(SUM($O$13:$P$13)*$M$17,0),0)","v":0},0,{"$f":"IF(AND($U$27=1,$T$44=1),ROUNDUP(SUM($O$24:$P$24)*$M$28,0),0)","v":0},0]
[null,{"$f":"ListAVS!$B$87&\" *      \"","v":"Třetí zdvihač *      "},null,{"$f":"ListAVS!$B$86&\" LF \"","v":"Ukazatel výkonnosti LF "},null,null,null,{"$f":"IF(H12>0,H11*H12,H11*H15)","v":0},{"$f":"IF(AND($H16>0, $H16<220), $N$39, IF($H16>3322.5, $N$40, IF($H16>2215.5, IF(V10=FALSE, $N$41, \" \"),\" \")))","v":" "},null,null,null,null,null,null,null,null,null,null,null,1,null,null,null,{"$f":"CenAVS!A90","v":"Sada zdvihačů HK-S, tmavě šedé krytky"},{"$f":"CenAVS!B90","v":"20K2E00.06"},{"$f":"CenAVS!C90","v":"TGIG"},0,{"$f":"CenAVS!F90","v":878.54},0,{"$f":"IF(AND($U$16=1,$T$44=2),ROUNDUP(SUM($O$13:$P$13)*$M$17,0),0)","v":0},0,{"$f":"IF(AND($U$27=1,$T$44=2),ROUNDUP(SUM($O$24:$P$24)*$M$28,0),0)","v":0},0,null,null,null,null,null,null,null,{"$f":"ListAVS!$B$354","v":"V případě využití třetího zdvihače můžete zvýšit ukazatel výkonnosti a tudíž hmotnost čílka o 50%."}]
[null,{"$f":"ListAVS!$B$71","v":"Počet skříněk"},null,null,null,null,null,null,{"$f":"IF($H16>3322.5,\" \",IF($H16>2215.5,IF(V10=FALSE,$N$42,\" \"),\" \"))","v":" "},null,null,null,{"$f":"IF($H10*$H11*$T17=0,0,IF($H11<190,0,IF(H16<220,0,IF($H16>3322,0,IF(AND($H12=0,$H13<14),0,IF(H16>2215,IF(V10=FALSE,0,$H17),$H17))))))","v":0},null,null,null,null,null,"hmot =",{"$f":"IF(H12>0,H12,H15)","v":0},{"$f":"IF(SUM(H12,H15)=0,0,IF(H12>0,1,2))","v":0},"zadaná / vypočtená",null,null,{"$f":"CenAVS!A91","v":"Sada zdvihačů HK-S, bílé krytky"},{"$f":"CenAVS!B91","v":"20K2E00.06"},{"$f":"CenAVS!C91","v":"SWIG"},0,{"$f":"CenAVS!F91","v":878.54},0,{"$f":"IF(AND($U$16=1,$T$44=3),ROUNDUP(SUM($O$13:$P$13)*$M$17,0),0)","v":0},0,{"$f":"IF(AND($U$27=1,$T$44=3),ROUNDUP(SUM($O$24:$P$24)*$M$28,0),0)","v":0},0]
[null,{"$f":"IF(M17>0,IF(U17=0,\" \",IF(U17=1,$N$49,$N$50)),\" \")&IF(M17>0,IF(U17=0,\" \",IF(U17=1,$N$51,$N$52)),\" \")","v":"  "},null,null,null,null,null,null,null,null,null,null,null,null,null,null,null,null,null,null,null,null,null,null,{"$f":"CenAVS!A92","v":0},{"$f":"CenAVS!B92","v":0},{"$f":"CenAVS!C92","v":0},0,{"$f":"CenAVS!F92","v":0},0,null,0,null,0]
[null,null,null,null,null,null,null,null,null,null,null,null,null,null,null,null,null,null,null,null,null,null,null,null,{"$f":"CenAVS!A93","v":"Sada zdvihačů HK-S TIP-ON, světle šedé krytky"},{"$f":"CenAVS!B93","v":"20K2B00T06"},{"$f":"CenAVS!C93","v":"HGIG"},0,{"$f":"CenAVS!F93","v":785.52},0,{"$f":"IF(AND($U$16=2,$T$44=1),ROUNDUP(SUM($O$11:$P$11)*$M$17,0),0)","v":0},0,{"$f":"IF(AND($U$27=2,$T$44=1),ROUNDUP(SUM($O$22:$P$22)*$M$28,0),0)","v":0},0]
[null,{"$f":"\"▼ \"&ListAVS!$B$317","v":"▼ Způsob otvírání"},null,{"$f":"IF($M$28>0, ListAVS!$B$37&\": \", \" \")","v":" "},{"$f":"IF(SUM(AG$9:AG$11)>0, \"B\", IF(SUM(AG$12:AG$14)>0, \"C\", IF(SUM(AG$15:AG$17)>0, \"E\", IF(SUM(AG$19:AG$21)>0, \"B T\", IF(SUM(AG$22:AG$24)>0, \"C T\", IF(SUM(AG$25:AG$27)>0, \"E T\",  \" \"))))))","v":" "},{"$f":"ListAVS!$B$64&\" B\"","v":"Korpus B"},null,null,null,null,null,null,null,null,null,null,null,"dva zdvihače",null,null,null,"tři zdvihače",null,null,{"$f":"CenAVS!A94","v":"Sada zdvihačů HK-S TIP-ON, tmavě šedé krytky"},{"$f":"CenAVS!B94","v":"20K2B00T06"},{"$f":"CenAVS!C94","v":"TGIG"},0,{"$f":"CenAVS!F94","v":808.5},0,{"$f":"IF(AND($U$16=2,$T$44=2),ROUNDUP(SUM($O$11:$P$11)*$M$17,0),0)","v":0},0,{"$f":"IF(AND($U$27=2,$T$44=2),ROUNDUP(SUM($O$22:$P$22)*$M$28,0),0)","v":0},0]
[null,{"$f":"ListAVS!$B$74&\" KB [mm] \"","v":"Šířka korpusu KB [mm] "},null,null,null,null,null,null,{"$f":"IF($H21=0,\" \",IF($H21<220,\" min. 220mm\",IF($H21>1800,\" max. 1 800mm\",\" \")))&IF(H28>0,IF(H21=0,\"● \"&ListAVS!$B$128,\" \"),\" \")","v":"  "},null,null,null,null,"zdvih A","dva","tři",null,"min","max","š.max","š. min",false,null,null,{"$f":"CenAVS!A95","v":"Sada zdvihačů HK-S TIP-ON, bílé krytky"},{"$f":"CenAVS!B95","v":"20K2B00T06"},{"$f":"CenAVS!C95","v":"SWIG"},0,{"$f":"CenAVS!F95","v":808.5},0,{"$f":"IF(AND($U$16=2,$T$44=3),ROUNDUP(SUM($O$11:$P$11)*$M$17,0),0)","v":0},0,{"$f":"IF(AND($U$27=2,$T$44=3),ROUNDUP(SUM($O$22:$P$22)*$M$28,0),0)","v":0},0]
[null,{"$f":"ListAVS!$B$75&\" KH [mm] \"","v":"Výška korpusu KH [mm] "},null,null,null,null,null,null,{"$f":"IF($H22=0,\" \",IF($H22<190,\" min. 190mm\",IF($H22>600,\" max. 600 mm\",\" \")))&IF(H28>0,IF(H22=0,\"● \"&ListAVS!$B$128,\" \"),\" \")","v":"  "},null,null,null,null,"K2B",{"$f":"IF($V$21=FALSE,IF($H$27>R22,IF($H$27<S22,1,0),0),0)","v":0},{"$f":"IF($V$21=TRUE,IF($H$27>V22,IF($H$27<W22,2,0),0),0)","v":0},null,219.99,450,null,null,329.99,670,null,{"$f":"CenAVS!A96","v":"Sada zdvihačů HK-S TIP-ON, světle šedé krytky"},{"$f":"CenAVS!B96","v":"20K2C00T06"},{"$f":"CenAVS!C96","v":"HGIG"},0,{"$f":"CenAVS!F96","v":868.65},0,{"$f":"IF(AND($U$16=2,$T$44=1),ROUNDUP(SUM($O$12:$P$12)*$M$17,0),0)","v":0},0,{"$f":"IF(AND($U$27=2,$T$44=1),ROUNDUP(SUM($O$23:$P$23)*$M$28,0),0)","v":0},0]
[null,{"$f":"ListAVS!$B$78&\" [kg] ** \"","v":"Hmotnost čela vč. 2x hmotnost úchytky [kg] ** "},null,null,null,null,null,null,{"$f":"IF($H28=0,\" \",IF(SUM($H23,$H26)=0,$N$36,\" \"))&IF($M28>0,IF($H23>0,$N$37,\" \"),\" \")","v":"  "},null,null,null,null,"K2C",{"$f":"IF($V$21=FALSE,IF($H$27>R23,IF($H$27<S23,1,0),0),0)","v":0},{"$f":"IF($V$21=TRUE,IF($H$27>V23,IF($H$27<W23,1.5,0),0),0)","v":0},null,449.99,980,null,null,669.99,1470,null,{"$f":"CenAVS!A97","v":"Sada zdvihačů HK-S TIP-ON, tmavě šedé krytky"},{"$f":"CenAVS!B97","v":"20K2C00T06"},{"$f":"CenAVS!C97","v":"TGIG"},0,{"$f":"CenAVS!F97","v":891.62},0,{"$f":"IF(AND($U$16=2,$T$44=2),ROUNDUP(SUM($O$12:$P$12)*$M$17,0),0)","v":0},0,{"$f":"IF(AND($U$27=2,$T$44=2),ROUNDUP(SUM($O$23:$P$23)*$M$28,0),0)","v":0},0]
[null,{"$f":"ListAVS!$B$292","v":"Výpočet hmotnosti"},null,{"$f":"ListAVS!$B$80&\" TS [mm] \"","v":"Síla čela TS [mm] "},null,null,null,null,{"$f":"IF(H28=0,\" \",IF(AND(H23=0, H24=0),\" ● \"&ListAVS!$B$128,\" \"))&IF(H28=0,\" \",IF(AND(H23=0, H24<14), \" min. 14 mm\", \" \"))","v":"  "},null,null,null,null,"K2E",{"$f":"IF($V$21=FALSE,IF($H$27>R24,IF($H$27<S24,1,0),0),0)","v":0},{"$f":"IF($V$21=TRUE,IF($H$27>V24,IF($H$27<W24,1.5,0),0),0)","v":0},null,979.99,2216,null,null,1469.99,3323,null,{"$f":"CenAVS!A98","v":"Sada zdvihačů HK-S TIP-ON, bílé krytky"},{"$f":"CenAVS!B98","v":"20K2C00T06"},{"$f":"CenAVS!C98","v":"SWIG"},0,{"$f":"CenAVS!F98","v":891.62},0,{"$f":"IF(AND($U$16=2,$T$44=3),ROUNDUP(SUM($O$12:$P$12)*$M$17,0),0)","v":0},0,{"$f":"IF(AND($U$27=2,$T$44=3),ROUNDUP(SUM($O$23:$P$23)*$M$28,0),0)","v":0},0]
[null,null,null,{"$f":"ListAVS!$B$83&\" [kg] \"","v":"Hmotnost úchytky [kg] "},null,null,null,null,{"$f":"IF(H28=0, \" \", IF(AND(H23=0, U27=1, H25=0), \" ● \"&ListAVS!$B$129,\" \"))","v":" "},null,null,null,null,null,null,null,null,null,null,null,null,null,null,null,{"$f":"CenAVS!A99","v":"Sada zdvihačů HK-S TIP-ON, světle šedé krytky"},{"$f":"CenAVS!B99","v":"20K2E00T06"},{"$f":"CenAVS!C99","v":"HGIG"},0,{"$f":"CenAVS!F99","v":868.65},0,{"$f":"IF(AND($U$16=2,$T$44=1),ROUNDUP(SUM($O$13:$P$13)*$M$17,0),0)","v":0},0,{"$f":"IF(AND($U$27=2,$T$44=1),ROUNDUP(SUM($O$24:$P$24)*$M$28,0),0)","v":0},0]
[null,null,null,{"$f":"ListAVS!$B$79&\" [kg] \"","v":"Vypočtená hmotnost čela [kg] "},null,null,null,{"$f":"$T$80","v":0},{"$f":"IF(AND($H28>0,$H26>0,$H23=0,$M28>0), $N$37,\" \")&IF(AND(H28>0, H23=0, Z68=3, $J$4=0), $N$35, \" \")","v":"  "},null,null,null,null,null,null,null,null,null,null,null,{"$f":"IF(U27=1,$V$46,IF(U27=2,$V$47,$V$48))","v":"Standard"},null,null,null,{"$f":"CenAVS!A100","v":"Sada zdvihačů HK-S TIP-ON, tmavě šedé krytky"},{"$f":"CenAVS!B100","v":"20K2E00T06"},{"$f":"CenAVS!C100","v":"TGIG"},0,{"$f":"CenAVS!F100","v":891.62},0,{"$f":"IF(AND($U$16=2,$T$44=2),ROUNDUP(SUM($O$13:$P$13)*$M$17,0),0)","v":0},0,{"$f":"IF(AND($U$27=2,$T$44=2),ROUNDUP(SUM($O$24:$P$24)*$M$28,0),0)","v":0},0]
[null,{"$f":"ListAVS!$B$87&\" *      \"","v":"Třetí zdvihač *      "},null,{"$f":"ListAVS!$B$86&\" LF \"","v":"Ukazatel výkonnosti LF "},null,null,null,{"$f":"IF(H23>0,H22*H23,H22*H26)","v":0},{"$f":"IF(AND($H27>0, $H27<220), $N$39, IF($H27>3322.5, $N$40, IF($H27>2215.5, IF(V21=FALSE, $N$41, \" \"),\" \")))","v":" "},null,null,null,null,null,null,null,null,null,null,null,1,null,null,null,{"$f":"CenAVS!A101","v":"Sada zdvihačů HK-S TIP-ON, bílé krytky"},{"$f":"CenAVS!B101","v":"20K2E00T06"},{"$f":"CenAVS!C101","v":"SWIG"},0,{"$f":"CenAVS!F101","v":891.62},0,{"$f":"IF(AND($U$16=2,$T$44=3),ROUNDUP(SUM($O$13:$P$13)*$M$17,0),0)","v":0},0,{"$f":"IF(AND($U$27=2,$T$44=3),ROUNDUP(SUM($O$24:$P$24)*$M$28,0),0)","v":0},0]
[null,{"$f":"ListAVS!$B$71","v":"Počet skříněk"},null,null,null,null,null,null,{"$f":"IF($H27>3322.5,\" \",IF($H27>2215.5,IF(V21=FALSE,$N$42,\" \"),\" \"))","v":" "},null,null,null,{"$f":"IF($H21*$H22*$T28=0,0,IF($H22<190,0,IF(H27<220,0,IF($H27>3322,0,IF(AND($H23=0,$H24<14),0,IF(H27>2215,IF(V21=FALSE,0,$H28),$H28))))))","v":0},null,null,null,null,null,"hmot =",{"$f":"IF(H23>0,H23,H26)","v":0},{"$f":"IF(SUM(H23,H26)=0,0,IF(H23>0,1,2))","v":0},"zadaná / vypočtená",null,null,{"$f":"CenAVS!A102","v":0},{"$f":"CenAVS!B102","v":0},{"$f":"CenAVS!C102","v":0},0,{"$f":"CenAVS!F102","v":0},0,null,0,null,0]
[null,{"$f":"IF(M28>0,IF(U28=0,\" \",IF(U28=1,$N$49,$N$50)),\" \")&IF(M28>0,IF(U28=0,\" \",IF(U28=1,$N$51,$N$52)),\" \")","v":"  "},null,null,null,null,null,null,null,null,null,null,null,null,null,null,null,null,null,null,null,null,null,null,{"$f":"CenAVS!A103","v":"Sada čel.kování HK-S pro úzké alurámečky"},{"$f":"CenAVS!B103","v":"20K4A00A02"},{"$f":"CenAVS!C103","v":"NI"},0,{"$f":"CenAVS!F103","v":198.15},0,null,0,null,0]
[null,null,null,null,null,null,null,null,null,null,null,null,null,null,null,null,null,null,{"$f":"IF($T$30=FALSE,2,1)","v":2},false,null," - Zdroj",null,null,{"$f":"CenAVS!A166","v":"CLIP top přímá mont. podložka, ocel, 0 mm"},{"$f":"CenAVS!B166","v":"175H3100"},{"$f":"CenAVS!C166","v":"NI"},{"$f":"SUM(AE30,AG30)","v":0},{"$f":"CenAVS!F166","v":16.98},{"$f":"AB30*AC30","v":0},{"$f":"IF($R$44=2, SUM(AE$9:AE$27)*2, 0)","v":0},{"$f":"$AC30*AE30","v":0},{"$f":"IF($R$44=2, SUM(AG$9:AG$27)*2, 0)","v":0},{"$f":"$AC30*AG30","v":0}]
[null,null,null,null,null,null,null,null,null,null,null,null,null,null,null,null,null,null,null,null,null,null,null,null,{"$f":"CenAVS!A167","v":"CLIP top přímá mont. podložka, ocel, EXP, 0 mm"},{"$f":"CenAVS!B167","v":"177H3100E "},{"$f":"CenAVS!C167","v":"NI"},{"$f":"SUM(AE31,AG31)","v":0},{"$f":"CenAVS!F167","v":17.07},{"$f":"AB31*AC31","v":0},{"$f":"IF($R$44=1, SUM(AE$9:AE$27)*2, 0)","v":0},{"$f":"$AC31*AE31","v":0},{"$f":"IF($R$44=1, SUM(AG$9:AG$27)*2, 0)","v":0},{"$f":"$AC31*AG31","v":0}]
[null,null,{"$f":"IF(OR($V$10=TRUE, $V$21=TRUE), ListAVS!$B$182, \" \")","v":" "}]
[]
[null," *",{"$f":"ListAVS!$B$230&\" \"&ListAVS!$B$231","v":"U širokých korpusů doporučujeme nainstalovat třetí zdvihač na střed korpusu. Důvodem je prohýbání čela v otevřené pozici. Také faktor výkonnosti LF a váha dveří mohou být o 50% navýšeny."}]
[null,null,null,null,null,null,null,null,null,null,null,null,null,{"$f":"\" \"&ListAVS!$B$117","v":" Vyplňte nahoře objemovou hmotnost "},null,null,null,null,null,null,null,null,null,null,{"$f":"CenAVS!A185","v":"TIP-ON, krátká verze, šedá"},{"$f":"CenAVS!B185","v":"956.1004"},{"$f":"CenAVS!C185","v":"PG"},0,{"$f":"CenAVS!F185","v":116.95},0,{"$f":"IF(AND($T$44<3,$U$16=2),$M$17,0)","v":0},0,{"$f":"IF(AND($T$44<3,$U$27=2),$M$28,0)","v":0},0]
[null,null,null,null,null,null,null,null,null,null,null,null,null,{"$f":"\" \"&ListAVS!$B$115","v":" Zadejte hmotnost nebo vyplňte všechny buňky"},null,null,null,null,null,null,null,null,null,null,{"$f":"CenAVS!A186","v":"TIP-ON, krátká verze, hedvábně bílá"},{"$f":"CenAVS!B186","v":"956.1004"},{"$f":"CenAVS!C186","v":"SW"},{"$f":"SUM(AE36,AG36)","v":0},{"$f":"CenAVS!F186","v":116.95},{"$f":"AB36*AC36","v":0},{"$f":"IF(AND($T$44=3,$U$16=2),$M$17,0)","v":0},{"$f":"$AC36*AE36","v":0},{"$f":"IF(AND($T$44=3,$U$27=2),$M$28,0)","v":0},{"$f":"$AC36*AG36","v":0}]
[null,null,null,null,null,null,null,null,null,null,null,null,null,{"$f":"\"◄ \"&ListAVS!$B$111","v":"◄ hodnota bude použita pro výpočet LF"},null,null,null,null,null,null,null,null,null,null,{"$f":"CenAVS!A187","v":"TIP-ON, krátká verze, karbon černá"},{"$f":"CenAVS!B187","v":"956.1004"},{"$f":"CenAVS!C187","v":"CS"},{"$f":"SUM(AE37,AG37)","v":0},{"$f":"CenAVS!F187","v":116.95},{"$f":"AB37*AC37","v":0},null,{"$f":"$AC37*AE37","v":0},null,{"$f":"$AC37*AG37","v":0}]
[null," **",{"$f":"ListAVS!$B$186","v":"Pokud znáte hmotnost a nechcete využít výpočtu hmotnosti"},null,null,null,null,null,null,null,null,null,null,{"$f":"\" * \"&ListAVS!$B$127","v":" * Doplňte hodnoty"}]
[null,null,null,null,null,null,null,null,null,null,null,null,null,{"$f":"\" min. 220! \"&ListAVS!$B$121","v":" min. 220! Upravte hmotnost nebo výšku"}]
[null,null,null,null,null,null,null,null,null,null,null,null,null,{"$f":"\" max. 3.322! \"&ListAVS!$B$121","v":" max. 3.322! Upravte hmotnost nebo výšku"}]
[null,null,null,null,null,null,null,null,null,null,null,null,null,{"$f":"\" max. 2.215! \"&ListAVS!$B$121","v":" max. 2.215! Upravte hmotnost nebo výšku"}]
[null,null,null,null,null,null,null,null,null,null,null,null,null,{"$f":"\"                       \"&ListAVS!$B$122","v":"                       nebo přidejte třetí zdvihač"}]
[]
[null,null,null,null,null,null,null,null,null,null,null,null,null,1,null,1,null,{"$f":"HKS!$N$26","v":1},null,{"$f":"MenuAVS!$P$28","v":1}]
[null,null,null,null,null,null,null,null,null,null,null,null,null,"záv.",null,"střed.",null,"čelní kov.",null,"kryt.",null,"provedení"]
[null,null,null,null,null,null,null,null,null,null,null,null,null,null,null,null,null,{"$f":"ListAVS!$B$142","v":"Expando"},null,{"$f":"ListAVS!$B$145","v":"Světle šedá (HGR)"},null,"Standard",null,null,null,null,null,null,{"$f":"ListAVS!$B$61&\" \"","v":"Cena celkem bez DPH "},{"$f":"SUM(AD9:AD43)","v":0},null,{"$f":"SUM(AF9:AF45)","v":0},null,{"$f":"SUM(AH9:AH45)","v":0}]
[null,null,null,null,null,null,null,null,null,null,null,null,null,null,null,null,null,{"$f":"ListAVS!$B$143","v":"na vruty"},null,{"$f":"ListAVS!$B$146","v":"Tmavě šedá (TGR)"},null,"TIP-ON"]
[null,null,null,null,null,null,null,null,null,null,null,null,null,null,null,null,null,null,null,{"$f":"ListAVS!$B$147","v":"Hedvábně bílá (SW)"}]
[null,null,null,null,null,null,null,null,null,null,null,null,null,{"$f":"ListAVS!B187&\". \"","v":"Pro určení typu zdvihače bude použita zadaná hmotnost. "}]
[null,null,null,null,null,null,null,null,null,null,null,null,null,{"$f":"ListAVS!B188&\". \"","v":"Pro určení typu zdvihače bude použita vypočtená hmotnost. "}]
[null,null,null,null,null,null,null,null,null,null,null,null,null,{"$f":"ListAVS!B189","v":"Chcete-li použít vypočtenou hmotnost, smažte zadanou hodnotu"}]
[null,null,null,null,null,null,null,null,null,null,null,null,null,{"$f":"ListAVS!B190","v":"Chcete-li použít zadanou hmotnost, zadejte ji do políčka"}]
[]
[]
[]
[]
[]
[]
[]
[null,null,null,null,null,null,null,null,null,null,null,null,null,{"$f":"ListAVS!$B$73","v":"Výpočet hmotnosti čel"}]
[null,null,null,null,null,null,null,null,null,null,null,null,null,null,null,{"$f":"ListAVS!$B$179&\"  \"","v":"Provedení čel  "},null,null,null,{"$f":"J4","v":0},{"$f":"IF(Z68=3,IF(T61=0,Y63,\" \"),IF(T61>0,Y64,\" \"))","v":" "},null,null,null,{"$f":"IF($Z$68=1,$Z$69,IF($Z$68=2,$Z$70,$Z$71&\" \"&$Y$71&\"kg/m3\"))&\" A~\"&$T$69&\"/ B~\"&$T$78&\"mm\"","v":"MDF (760 kg/m3) A~0/ B~0mm"}]
[null,null,null,null,null,null,null,null,null,null,null,null,null,null,null,{"$f":"IF($Z$68<>3,$Y$62,\" \")&\"      \"","v":" Změnit hodnoty můžete v Úvodu plánování      "},null,null,null,null,null,null,null,null,{"$f":"\" \"&ListAVS!$B$410","v":" Změnit hodnoty můžete v Úvodu plánování"}]
[null,null,null,null,null,null,null,null,null,null,null,null,null,null,null,null,null,null,null,null,null,null,null,null,{"$f":"\" \"&ListAVS!$B$244&\" [kg/m3]\"","v":" Zadejte objemovou hmotnost  [kg/m3]"}]
[null,null,null,null,null,null,null,null,null,null,null,null,null,null,null,null,null,null,null,null,null,null,null,null,{"$f":"\" \"&ListAVS!$B$240&\" '\"&ListAVS!$B$92&\"'\"","v":" Hodnota platí jen pro volbu 'Jiné - volitelná hustota'"}]
[]
[null,null,null,null,null,null,null,null,null,null,null,null,null,null,null,null,null,{"$f":"D9","v":" "}]
[null,null,null,null,null,null,null,null,null,null,null,null,null,{"$f":"ListAVS!$B$74&\" KB [mm]       \"","v":"Šířka korpusu KB [mm]       "},null,null,null,null,null,{"$f":"H10","v":0},null,null,null,null,{"$f":"T67*T68*T69","v":0},null,null,null,null,3.51,"alu"]
[null,null,null,null,null,null,null,null,null,null,null,null,null,{"$f":"ListAVS!$B$75&\" KH [mm]       \"","v":"Výška korpusu KH [mm]       "},null,null,null,null,null,{"$f":"H11","v":0},null,null,null,null,{"$f":"Y67/1000000000","v":0},1,null,null,null,"váha alu",{"$f":"SUM(T67*2,T68*2)*AD67/10000","v":0},3]
[null,null,null,null,null,null,null,null,null,null,null,null,null,{"$f":"ListAVS!$B$80&\" TS [mm] \"","v":"Síla čela TS [mm] "},null,null,null,null,null,{"$f":"H13","v":0},{"$f":"IF(SUM(T67,T68)=0,\" \",IF(T69=0,\" ● \"&ListAVS!$B$128,\" \"))","v":" "},null,null,null,{"$f":"MenuAVS!$C$31","v":760},{"$f":"ListAVS!$B$90&\" (\"&Y69&\" kg/m3)\"","v":"MDF (760 kg/m3)"},null,null,null,10,{"$f":"SUM($T$67*$T$68*$AD69)/1000000","v":0},{"$f":"ListAVS!$B$93","v":"Alurámečky s 4mm sklem"}]
[null,null,null,null,null,null,null,null,null,null,null,null,null,{"$f":"ListAVS!$B$83&\" [kg] \"","v":"Hmotnost úchytky [kg] "},null,null,null,null,null,{"$f":"H14","v":0},{"$f":"IF($U$16=2,\" \",IF(SUM(T67,T68)=0,\" \",IF(T70=0,\" ● \"&ListAVS!$B$129,\" \")))","v":" "},null,null,null,{"$f":"MenuAVS!$C$32","v":680},{"$f":"ListAVS!$B$91&\" (\"&Y70&\" kg/m3)\"","v":"Dřevotříska (680 kg/m3)"},null,null,null,15,{"$f":"SUM($T$67*$T$68*$AD70)/1000000","v":0},{"$f":"ListAVS!$B$94","v":"Alurámečky s 5mm sklem"}]
[null,null,null,null,null,null,null,null,null,null,null,null,null,{"$f":"ListAVS!$B$79&\" [kg] \"","v":"Vypočtená hmotnost čela [kg] "},null,null,null,null,null,{"$f":"IF(X71=0,0,X71+2*T70)","v":0},null,null,null,{"$f":"IF(T67*T68*T69=0,0,IF(Z68=1,Y68*Y69,IF(Z68=2,Y68*Y70,Y68*Y71)))","v":0},{"$f":"$T$61","v":0},{"$f":"ListAVS!$B$92","v":"Jiné - volitelná hustota"},null,null,null,{"$f":"2.5*$T$61","v":0},{"$f":"SUM($T$67*$T$68*$AD71)/1000000","v":0},{"$f":"ListAVS!$B$95","v":"Alurámečky s jiným sklem"}]
[null,null,null,null,null,null,null,null,null,null,null,null,null,null,{"$f":"IF((U16=2)*AND(T71>0)*AND(T70>0),$Y$89&\" \"&$Y$90,IF((U16<>2)*AND(T71>0),IF(T70=0,$Y$88,\" \"),\" \"))","v":" "},null,null,null,null,null,null,null,null,null,null,null,null,null,null,{"$f":"IF(AF68=1,AE69,IF(AF68=2,AE70,AE71))","v":0}]
[]
[]
[null,null,null,null,null,null,null,null,null,null,null,null,null,null,null,null,null,{"$f":"D20","v":" "}]
[null,null,null,null,null,null,null,null,null,null,null,null,null,{"$f":"ListAVS!$B$74&\" KB [mm]       \"","v":"Šířka korpusu KB [mm]       "},null,null,null,null,null,{"$f":"H21","v":0},null,null,null,null,{"$f":"T76*T77*T78","v":0},null,null,null,null,{"$f":"AD67","v":3.51},"alu"]
[null,null,null,null,null,null,null,null,null,null,null,null,null,{"$f":"ListAVS!$B$75&\" KH [mm]       \"","v":"Výška korpusu KH [mm]       "},null,null,null,null,null,{"$f":"H22","v":0},null,null,null,null,{"$f":"Y76/1000000000","v":0},{"$f":"Z68","v":1},null,null,null,"váha alu",{"$f":"SUM(T76*2,T77*2)*AD76/10000","v":0},{"$f":"AF68","v":3}]
[null,null,null,null,null,null,null,null,null,null,null,null,null,{"$f":"ListAVS!$B$80&\" TS [mm] \"","v":"Síla čela TS [mm] "},null,null,null,null,null,{"$f":"H24","v":0},{"$f":"IF(SUM(T76,T77)=0,\" \",IF(T78=0,\" ● \"&ListAVS!$B$128,\" \"))","v":" "},null,null,null,{"$f":"$Y$69","v":760},{"$f":"$Z$69","v":"MDF (760 kg/m3)"},null,null,null,{"$f":"AD69","v":10},{"$f":"SUM($T$76*$T$77*$AD78)/1000000","v":0},{"$f":"ListAVS!$B$93","v":"Alurámečky s 4mm sklem"}]
[null,null,null,null,null,null,null,null,null,null,null,null,null,{"$f":"ListAVS!$B$83&\" [kg] \"","v":"Hmotnost úchytky [kg] "},null,null,null,null,null,{"$f":"H25","v":0},{"$f":"IF($U$27=2,\" \",IF(SUM(T76,T77)=0,\" \",IF(T79=0,\" ● \"&ListAVS!$B$129,\" \")))","v":" "},null,null,null,{"$f":"$Y$70","v":680},{"$f":"$Z$70","v":"Dřevotříska (680 kg/m3)"},null,null,null,{"$f":"AD70","v":15},{"$f":"SUM($T$76*$T$77*$AD79)/1000000","v":0},{"$f":"ListAVS!$B$94","v":"Alurámečky s 5mm sklem"}]
[null,null,null,null,null,null,null,null,null,null,null,null,null,{"$f":"ListAVS!$B$79&\" [kg] \"","v":"Vypočtená hmotnost čela [kg] "},null,null,null,null,null,{"$f":"IF(X80=0,0,X80+2*T79)","v":0},null,null,null,{"$f":"IF(T76*T77*T78=0,0,IF(Z77=1,Y77*Y78,IF(Z77=2,Y77*Y79,Y77*Y80)))","v":0},{"$f":"$Y$71","v":0},{"$f":"$Z$71","v":"Jiné - volitelná hustota"},null,null,null,{"$f":"AD71","v":0},{"$f":"SUM($T$76*$T$77*$AD80)/1000000","v":0},{"$f":"ListAVS!$B$95","v":"Alurámečky s jiným sklem"}]
[null,null,null,null,null,null,null,null,null,null,null,null,null,null,{"$f":"IF((U27=2)*AND(T80>0)*AND(T79>0),$Y$89&\" \"&$Y$90,IF((U27<>2)*AND(T80>0),IF(T79=0,$Y$88,\" \"),\" \"))","v":" "},null,null,null,null,null,null,null,null,null,null,null,null,null,null,{"$f":"IF(AF77=1,AE78,IF(AF77=2,AE79,AE80))","v":0}]
[]
[]
[]
[null,null,null,null,null,null,null,null,null,null,null,null,null,null,null,null,null,null,{"$f":"ListAVS!$B$167","v":"Zpět"}]
[]
[]
[null,null,null,null,null,null,null,null,null,null,null,null,null,null,null,null,null,null,null,null,null,null,null,null,{"$f":"ListAVS!$B$102&\"!\"","v":"Není započtena hmotnost úchytky!"}]
[null,null,null,null,null,null,null,null,null,null,null,null,null,null,null,null,null,null,null,null,null,null,null,null,{"$f":"ListAVS!B103","v":"Opravdu máte úchytku na TIP-ON?"}]
[null,null,null,null,null,null,null,null,null,null,null,null,null,null,null,null,null,null,null,null,null,null,null,null,{"$f":"ListAVS!B104&\"!\"","v":"Jestli ne, smažte hmotnost úchytky.!"}]
[]
[]
[]
[]
[]
[]
[]
[]
[]
[null,"      AVENTOS HK-S"]
[]
[null,{"$f":"ListAVS!$B$302","v":"Potřebný zdvihač se určí pomocí ukazatele výkonnosti."}]
[null,{"$f":"ListAVS!$B$340","v":"Ukazatel výkonnosti závisí na hmotnosti čela (včetně dvojnásobné hmotnosti úchytky) a na výšce korpusu."}]
[]
[null,{"$f":"\" \"&ListAVS!#REF!","v":{"$error":"#REF!"}}]
[null,null,null,{"$f":"ListAVS!$B$86&\" = \"","v":"Ukazatel výkonnosti = "},{"$f":"ListAVS!$B$341&\" [kg]\"","v":"výška korpusu (KH) [mm] x hmotnost čela včetně dvojnásobné hmotnosti úchytky [kg]"}]
[]
[null,{"$f":"ListAVS!$B$354","v":"V případě využití třetího zdvihače můžete zvýšit ukazatel výkonnosti a tudíž hmotnost čílka o 50%."}]
[null,{"$f":"\"(\"&ListAVS!$B$355&\")\"","v":"(Platí jen pro zdvihač 20K2E00)"}]
[null,{"$f":"ListAVS!$B$182","v":"Přídavný třetí zdvihač může být použit pouze s plným čelem!"}]
[]
[null,{"$f":"ListAVS!$B$311","v":"Pokud znáte hmotnost čela, můžete ji zadat, jinak použijte \"Výpočet hmotnosti\"."}]
[null,{"$f":"ListAVS!$B$312","v":"V tabulce má přednost zadaná hodnota. Chcete-li použít vypočtenou hmotnost, smažte zadanou hodnotu."}]
[]
[]
[null,{"$f":"ListAVS!$B$305","v":"Chcete-li změnit barvu krytek, přejděte na \"Úvod plánování\""}]
[]
[]
[]
[]
[]
[]
[]
[]
[null,null,null,null,null,null,null,null,null,null,null,{"$f":"ListAVS!$B$167","v":"Zpět"}]

{"sheet":"HKSwa","index":29,"n_rows":127,"n_cols":44,"rows_kept":127,"cut":false,"hidden":false,"merged":[[0,41,0,49],[3,10,4,11],[8,1,8,2],[11,1,11,6],[7,43,8,43],[8,17,8,18],[8,21,8,22],[4,5,4,9],[8,5,8,7],[1,1,1,3],[6,1,6,2],[6,6,6,7],[7,41,8,42],[9,1,9,6],[9,21,9,22],[9,41,9,42],[10,1,10,6],[10,41,10,42],[16,1,16,6],[12,1,14,2],[12,3,12,6],[13,3,13,6],[14,3,14,6],[12,41,12,42],[15,1,15,2],[15,3,15,6],[13,41,14,45],[11,41,11,42],[27,1,27,6],[15,41,16,45],[19,17,19,18],[19,21,19,22],[20,1,20,6],[20,21,20,22],[21,1,21,6],[22,1,22,6],[26,1,26,2],[26,3,26,6],[19,1,19,2],[19,5,19,7],[23,1,25,2],[23,3,23,6],[24,3,24,6],[25,3,25,6],[98,0,139,0],[105,4,105,11],[78,13,78,18],[29,19,29,20],[65,17,65,19],[66,13,66,18],[67,13,67,18],[68,13,68,18],[69,13,69,18],[70,13,70,18],[74,17,74,19],[75,13,75,18],[76,13,76,18],[77,13,77,18],[79,13,79,18]]}
[]
[null,"AVENTOS HK-S",null,null,null,null,null,null,null,null,null,null,null,null,"rámeček",null,null,null,3,null,null,null,null,null,null,null,null,null,null,null,null,null,null,null,null,null,{"$f":"ListAVS!$B$152","v":"Jdi na"}]
[]
[null,{"$f":"ListAVS!$B$20&\" ***\"","v":"Široký alurámeček ***"},null,null,null,{"$f":"ListAVS!$B$179&\"  \"","v":"Provedení čel  "},null,null,null,null,{"$f":"U61","v":" Zadejte sílu skla [mm]"},null,null,null,1,null,null,null,{"$f":"\" \"&ListAVS!$B$41&\" A \"","v":" Cena za korpus A "},null,null,null,null,null,null,null,null,null,null,null,null,null,null,null,null,null," Úvod plánování"]
[null,null,null,null,null,{"$f":"IF($AF$67<>3,$Y$62,\" \")&\"      \"","v":"       "},null,null,null,null,null,null,null,null,"A = 1",null,null,null,{"$f":"\" \"&ListAVS!$B$41&\" B \"","v":" Cena za korpus B "},null,null,null,null,null,null,null,null,null,null,null,null,null,null,null,null,null,{"$f":"\" \"&ListAVS!$B$154","v":" Nápověda"}]
[null,null,null,null,null,null,null,null,null,null,null,null,null,null,"B = 2",null,null,null,{"$f":"\" \"&ListAVS!$B$61","v":" Cena celkem bez DPH"}]
[null,{"$f":"ListAVS!$B$51&\":   \"","v":"Cena kování:   "},null,null,null,null,{"$f":"IF(S2=1,$AF$46,IF($S$2=2,$AH$46,IF($S$2=3,$AD$46,0)))","v":0},null,null,null,null,null,null,null,null,null,null,null,null,null,null,null,null,null,{"$f":"$B$2","v":"AVENTOS HK-S"},{"$f":"B5","v":0},null,null,null,null,null,null,null,null,null,null,{"$f":"\" \"&ListAVS!$B$159","v":" Doplňky"}]
[null,null,null,null,null,null,null,null,null,null,null,null,null,null,null,null,null,null,null,null,null,null,null,null,{"$f":"ListAVS!B52","v":"Název"},{"$f":"ListAVS!$B$53","v":"Číslo artiklu"},{"$f":"ListAVS!B54","v":"Barva"},{"$f":"ListAVS!B56","v":"Ks"},{"$f":"ListAVS!B58","v":"Jednotková cena"},{"$f":"ListAVS!B59","v":"Celkem"},"A","Cena","B","Cena",null,null,null,null,null,null,null,{"$f":"\"  \"&ListAVS!$B$86&\" LF \"","v":"  Ukazatel výkonnosti LF "},null,{"$f":"ListAVS!$B$84","v":"Zdvihací mechanizmus"}]
[null,{"$f":"\"▼ \"&ListAVS!$B$317","v":"▼ Způsob otvírání"},null,{"$f":"IF($M$17>0, ListAVS!$B$37&\": \", \" \")","v":" "},{"$f":"IF(SUM(AE9:$AE$11)>0, \"B\", IF(SUM(AE$12:AE$14)>0, \"C\", IF(SUM(AE$15:AE$17)>0, \"E\", IF(SUM(AE$19:AE$21)>0, \"B T\", IF(SUM(AE$22:AE$24)>0, \"C T\", IF(SUM(AE$25:AE$27)>0, \"E T\",  \" \"))))))","v":" "},{"$f":"ListAVS!$B$64&\" A\"","v":"Korpus A"},null,null,null,null,null,null,null,null,null,null,null,"dva zdvihače",null,null,null,"tři zdvihače",null,null,{"$f":"CenAVS!A83","v":"Sada zdvihačů HK-S, světle šedé krytky"},{"$f":"CenAVS!B83","v":"20K2B00.06"},{"$f":"CenAVS!C83","v":"HGIG"},{"$f":"SUM(AE9,AG9)","v":0},{"$f":"CenAVS!F83","v":778.98},{"$f":"AB9*AC9","v":0},{"$f":"IF(AND($U$16=1,$T$44=1),ROUNDUP(SUM($O$11:$P$11)*$M$17,0),0)","v":0},{"$f":"$AC9*AE9","v":0},{"$f":"IF(AND($U$27=1,$T$44=1),ROUNDUP(SUM($O$22:$P$22)*$M$28,0),0)","v":0},{"$f":"$AC9*AG9","v":0},null,null,{"$f":"\" \"&ListAVS!$B$156","v":" Přehled korpusů"}]
[null,{"$f":"ListAVS!$B$74&\" KB [mm] \"","v":"Šířka korpusu KB [mm] "},null,null,null,null,null,null,{"$f":"IF($H10=0,\" \",IF($H10<220,\" min. 220mm\",IF($H10>1800,\" max. 1 800mm\",\" \")))&IF(H17>0,IF(H10=0,\"● \"&ListAVS!$B$128,\" \"),\" \")","v":"  "},null,null,null,null,"zdvih A","dva","tři",null,"min","max","š.max","š. min",false,null,null,{"$f":"CenAVS!A84","v":"Sada zdvihačů HK-S, tmavě šedé krytky"},{"$f":"CenAVS!B84","v":"20K2B00.06"},{"$f":"CenAVS!C84","v":"TGIG"},{"$f":"SUM(AE10,AG10)","v":0},{"$f":"CenAVS!F84","v":801.95},{"$f":"AB10*AC10","v":0},{"$f":"IF(AND($U$16=1,$T$44=2),ROUNDUP(SUM($O$11:$P$11)*$M$17,0),0)","v":0},0,{"$f":"IF(AND($U$27=1,$T$44=2),ROUNDUP(SUM($O$22:$P$22)*$M$28,0),0)","v":0},0,null,null,{"$f":"\" \"&ListAVS!$B$157","v":" Objednávka"},null,null,null,null,"  220 - 500",null,"20K2B00.02"]
[null,{"$f":"ListAVS!$B$75&\" KH [mm]  \"","v":"Výška korpusu KH [mm]  "},null,null,null,null,null,null,{"$f":"IF($H11=0,\" \",IF($H11<190,\" min. 190mm\",IF($H11>600,\" max. 600 mm\",\" \")))&IF(H17>0,IF(H11=0,\"● \"&ListAVS!$B$128,\" \"),\" \")","v":"  "},null,null,null,null,"K2B",{"$f":"IF($V$10=FALSE,IF($H$16>R11,IF($H$16<S11,1,0),0),0)","v":0},{"$f":"IF($V$10=TRUE,IF($H$16>V11,IF($H$16<W11,2,0),0),0)","v":0},null,219.99,450,null,null,329.99,670,null,{"$f":"CenAVS!A85","v":"Sada zdvihačů HK-S, bílé krytky"},{"$f":"CenAVS!B85","v":"20K2B00.06"},{"$f":"CenAVS!C85","v":"SWIG"},0,{"$f":"CenAVS!F85","v":801.95},0,{"$f":"IF(AND($U$16=1,$T$44=3),ROUNDUP(SUM($O$11:$P$11)*$M$17,0),0)","v":0},0,{"$f":"IF(AND($U$27=1,$T$44=3),ROUNDUP(SUM($O$22:$P$22)*$M$28,0),0)","v":0},0,null,null,null,null,null,null,null,"  400 - 1.000",null,"20K2C00.02"]
[null,{"$f":"ListAVS!$B$78&\" [kg] ** \"","v":"Hmotnost čela vč. 2x hmotnost úchytky [kg] ** "},null,null,null,null,null,null,{"$f":"IF($H17=0,\" \",IF(AND($H12=0, AF67=3, J4=0), $N$35, \" \"))&IF($M17>0,IF($H12>0,$N$37,\" \"),\" \")","v":"  "},null,null,null,null,"K2C",{"$f":"IF($V$10=FALSE,IF($H$16>R12,IF($H$16<S12,1,0),0),0)","v":0},{"$f":"IF($V$10=TRUE,IF($H$16>V12,IF($H$16<W12,1.5,0),0),0)","v":0},null,449.99,980,null,null,669.99,1470,null,{"$f":"CenAVS!A86","v":"Sada zdvihačů HK-S, světle šedé krytky"},{"$f":"CenAVS!B86","v":"20K2C00.06"},{"$f":"CenAVS!C86","v":"HGIG"},0,{"$f":"CenAVS!F86","v":855.57},0,{"$f":"IF(AND($U$16=1,$T$44=1),ROUNDUP(SUM($O$12:$P$12)*$M$17,0),0)","v":0},0,{"$f":"IF(AND($U$27=1,$T$44=1),ROUNDUP(SUM($O$23:$P$23)*$M$28,0),0)","v":0},0,null,null,null,null,null,null,null,"  960 - 2.215",null,"20K2E00.02"]
[null,{"$f":"ListAVS!$B$292","v":"Výpočet hmotnosti"},null,{"$f":"ListAVS!$B$80&\" TS [mm] \"","v":"Síla čela TS [mm] "},null,null,null,null,null,null,null,null,null,"K2E",{"$f":"IF($V$10=FALSE,IF($H$16>R13,IF($H$16<S13,1,0),0),0)","v":0},{"$f":"IF($V$10=TRUE,IF($H$16>V13,IF($H$16<W13,1.5,0),0),0)","v":0},null,979.99,2216,null,null,1469.99,3061,null,{"$f":"CenAVS!A87","v":"Sada zdvihačů HK-S, tmavě šedé krytky"},{"$f":"CenAVS!B87","v":"20K2C00.06"},{"$f":"CenAVS!C87","v":"TGIG"},0,{"$f":"CenAVS!F87","v":878.54},0,{"$f":"IF(AND($U$16=1,$T$44=2),ROUNDUP(SUM($O$12:$P$12)*$M$17,0),0)","v":0},0,{"$f":"IF(AND($U$27=1,$T$44=2),ROUNDUP(SUM($O$23:$P$23)*$M$28,0),0)","v":0},0]
[null,null,null,{"$f":"ListAVS!$B$83&\" [kg] \"","v":"Hmotnost úchytky [kg] "},null,null,null,null,{"$f":"IF(H17=0, \" \", IF(AND(H12=0, U16=1, H14=0), \" ● \"&ListAVS!$B$129,\" \"))","v":" "},null,null,null,null,null,null,null,null,null,null,null,null,null,null,null,{"$f":"CenAVS!A88","v":"Sada zdvihačů HK-S, bílé krytky"},{"$f":"CenAVS!B88","v":"20K2C00.06"},{"$f":"CenAVS!C88","v":"SWIG"},0,{"$f":"CenAVS!F88","v":878.54},0,{"$f":"IF(AND($U$16=1,$T$44=3),ROUNDUP(SUM($O$12:$P$12)*$M$17,0),0)","v":0},0,{"$f":"IF(AND($U$27=1,$T$44=3),ROUNDUP(SUM($O$23:$P$23)*$M$28,0),0)","v":0},0,null,null,null,null,null,null,null,{"$f":"ListAVS!$B$86&\" LF = \"&ListAVS!$B$75&\" KH [mm] x \"&ListAVS!$B$78&\" [kg]\"","v":"Ukazatel výkonnosti LF = Výška korpusu KH [mm] x Hmotnost čela vč. 2x hmotnost úchytky [kg]"}]
[null,null,null,{"$f":"ListAVS!$B$79&\" [kg] \"","v":"Vypočtená hmotnost čela [kg] "},null,null,null,{"$f":"$T$71","v":0},{"$f":"IF($H17>0,IF($H15>0,IF($H12=0,$N$37,\" \"),\" \"),\" \")","v":" "},null,null,null,null,null,null,null,null,null,null,null,{"$f":"IF(U16=1,$V$46,IF(U16=2,$V$47,$V$48))","v":"Standard"},null,null,null,{"$f":"CenAVS!A89","v":"Sada zdvihačů HK-S, světle šedé krytky"},{"$f":"CenAVS!B89","v":"20K2E00.06"},{"$f":"CenAVS!C89","v":"HGIG"},0,{"$f":"CenAVS!F89","v":855.57},0,{"$f":"IF(AND($U$16=1,$T$44=1),ROUNDUP(SUM($O$13:$P$13)*$M$17,0),0)","v":0},0,{"$f":"IF(AND($U$27=1,$T$44=1),ROUNDUP(SUM($O$24:$P$24)*$M$28,0),0)","v":0},0]
[null,null,null,{"$f":"ListAVS!$B$86&\" LF \"","v":"Ukazatel výkonnosti LF "},null,null,null,{"$f":"IF(H12>0,H11*H12,H11*H15)","v":0},{"$f":"IF(AND(H16>0, H16<220), $N$39, IF($H16>2215.5, $N$41, \" \"))","v":" "},null,null,null,null,null,null,null,null,null,null,null,1,null,null,null,{"$f":"CenAVS!A90","v":"Sada zdvihačů HK-S, tmavě šedé krytky"},{"$f":"CenAVS!B90","v":"20K2E00.06"},{"$f":"CenAVS!C90","v":"TGIG"},0,{"$f":"CenAVS!F90","v":878.54},0,{"$f":"IF(AND($U$16=1,$T$44=2),ROUNDUP(SUM($O$13:$P$13)*$M$17,0),0)","v":0},0,{"$f":"IF(AND($U$27=1,$T$44=2),ROUNDUP(SUM($O$24:$P$24)*$M$28,0),0)","v":0},0,null,null,null,null,null,null,null,{"$f":"ListAVS!$B$354","v":"V případě využití třetího zdvihače můžete zvýšit ukazatel výkonnosti a tudíž hmotnost čílka o 50%."}]
[null,{"$f":"ListAVS!$B$71","v":"Počet skříněk"},null,null,null,null,null,null,null,null,null,null,{"$f":"IF(OR($H10*$H11*$T17=0,$H11<190,$H11>600, H16<220, $H16>3322.5),0,IF($H16>2215.5,IF($V10=FALSE,0,$H17),$H17))","v":0},null,null,null,null,null,"hmot =",{"$f":"IF(H12>0,H12,H15)","v":0},{"$f":"IF(SUM(H12,H15)=0,0,IF(H12>0,1,2))","v":0},"zadaná / vypočtená",null,null,{"$f":"CenAVS!A91","v":"Sada zdvihačů HK-S, bílé krytky"},{"$f":"CenAVS!B91","v":"20K2E00.06"},{"$f":"CenAVS!C91","v":"SWIG"},0,{"$f":"CenAVS!F91","v":878.54},0,{"$f":"IF(AND($U$16=1,$T$44=3),ROUNDUP(SUM($O$13:$P$13)*$M$17,0),0)","v":0},0,{"$f":"IF(AND($U$27=1,$T$44=3),ROUNDUP(SUM($O$24:$P$24)*$M$28,0),0)","v":0},0]
[null,{"$f":"IF(M17>0,IF(U17=0,\" \",IF(U17=1,$N$49,$N$50)),\" \")&IF(M17>0,IF(U17=0,\" \",IF(U17=1,$N$51,$N$52)),\" \")","v":"  "},null,null,null,null,null,null,null,null,null,null,null,null,null,null,null,null,null,null,null,null,null,null,{"$f":"CenAVS!A92","v":0},{"$f":"CenAVS!B92","v":0},{"$f":"CenAVS!C92","v":0},0,{"$f":"CenAVS!F92","v":0},0,null,0,null,0]
[null,null,null,null,null,null,null,null,null,null,null,null,null,null,null,null,null,null,null,null,null,null,null,null,{"$f":"CenAVS!A93","v":"Sada zdvihačů HK-S TIP-ON, světle šedé krytky"},{"$f":"CenAVS!B93","v":"20K2B00T06"},{"$f":"CenAVS!C93","v":"HGIG"},0,{"$f":"CenAVS!F93","v":785.52},0,{"$f":"IF(AND($U$16=2,$T$44=1),ROUNDUP(SUM($O$11:$P$11)*$M$17,0),0)","v":0},0,{"$f":"IF(AND($U$27=2,$T$44=1),ROUNDUP(SUM($O$22:$P$22)*$M$28,0),0)","v":0},0]
[null,{"$f":"\"▼ \"&ListAVS!$B$317","v":"▼ Způsob otvírání"},null,{"$f":"IF($M$28>0, ListAVS!$B$37&\": \", \" \")","v":" "},{"$f":"IF(SUM(AG$9:AG$11)>0, \"B\", IF(SUM(AG$12:AG$14)>0, \"C\", IF(SUM(AG$15:AG$17)>0, \"E\", IF(SUM(AG$19:AG$21)>0, \"B T\", IF(SUM(AG$22:AG$24)>0, \"C T\", IF(SUM(AG$25:AG$27)>0, \"E T\",  \" \"))))))","v":" "},{"$f":"ListAVS!$B$64&\" B\"","v":"Korpus B"},null,null,null,null,null,null,null,null,null,null,null,"dva zdvihače",null,null,null,"tři zdvihače",null,null,{"$f":"CenAVS!A94","v":"Sada zdvihačů HK-S TIP-ON, tmavě šedé krytky"},{"$f":"CenAVS!B94","v":"20K2B00T06"},{"$f":"CenAVS!C94","v":"TGIG"},0,{"$f":"CenAVS!F94","v":808.5},0,{"$f":"IF(AND($U$16=2,$T$44=2),ROUNDUP(SUM($O$11:$P$11)*$M$17,0),0)","v":0},0,{"$f":"IF(AND($U$27=2,$T$44=2),ROUNDUP(SUM($O$22:$P$22)*$M$28,0),0)","v":0},0]
[null,{"$f":"ListAVS!$B$74&\" KB [mm] \"","v":"Šířka korpusu KB [mm] "},null,null,null,null,null,null,{"$f":"IF($H21=0,\" \",IF($H21<220,\" min. 220mm\",IF($H21>1800,\" max. 1 800mm\",\" \")))&IF(H28>0,IF(H21=0,\"● \"&ListAVS!$B$128,\" \"),\" \")","v":"  "},null,null,null,null,"zdvih A","dva","tři",null,"min","max","š.max","š. min",false,null,null,{"$f":"CenAVS!A95","v":"Sada zdvihačů HK-S TIP-ON, bílé krytky"},{"$f":"CenAVS!B95","v":"20K2B00T06"},{"$f":"CenAVS!C95","v":"SWIG"},0,{"$f":"CenAVS!F95","v":808.5},0,{"$f":"IF(AND($U$16=2,$T$44=3),ROUNDUP(SUM($O$11:$P$11)*$M$17,0),0)","v":0},0,{"$f":"IF(AND($U$27=2,$T$44=3),ROUNDUP(SUM($O$22:$P$22)*$M$28,0),0)","v":0},0]
[null,{"$f":"ListAVS!$B$75&\" KH [mm] \"","v":"Výška korpusu KH [mm] "},null,null,null,null,null,null,{"$f":"IF($H22=0,\" \",IF($H22<190,\" min. 190mm\",IF($H22>600,\" max. 600 mm\",\" \")))&IF(H28>0,IF(H22=0,\"● \"&ListAVS!$B$128,\" \"),\" \")","v":"  "},null,null,null,null,"K2B",{"$f":"IF($V$21=FALSE,IF($H$27>R22,IF($H$27<S22,1,0),0),0)","v":0},{"$f":"IF($V$21=TRUE,IF($H$27>V22,IF($H$27<W22,2,0),0),0)","v":0},null,219,450,null,null,329.99,670,null,{"$f":"CenAVS!A96","v":"Sada zdvihačů HK-S TIP-ON, světle šedé krytky"},{"$f":"CenAVS!B96","v":"20K2C00T06"},{"$f":"CenAVS!C96","v":"HGIG"},0,{"$f":"CenAVS!F96","v":868.65},0,{"$f":"IF(AND($U$16=2,$T$44=1),ROUNDUP(SUM($O$12:$P$12)*$M$17,0),0)","v":0},0,{"$f":"IF(AND($U$27=2,$T$44=1),ROUNDUP(SUM($O$23:$P$23)*$M$28,0),0)","v":0},0]
[null,{"$f":"ListAVS!$B$78&\" [kg] ** \"","v":"Hmotnost čela vč. 2x hmotnost úchytky [kg] ** "},null,null,null,null,null,null,{"$f":"IF($H28=0,\" \",IF(AND($H23=0, AF76=3, J4=0), $N$35, \" \"))&IF($M28>0,IF($H23>0,$N$37,\" \"),\" \")","v":"  "},null,null,null,null,"K2C",{"$f":"IF($V$21=FALSE,IF($H$27>R23,IF($H$27<S23,1,0),0),0)","v":0},{"$f":"IF($V$21=TRUE,IF($H$27>V23,IF($H$27<W23,1.5,0),0),0)","v":0},null,449.99,980,null,null,669.99,1470,null,{"$f":"CenAVS!A97","v":"Sada zdvihačů HK-S TIP-ON, tmavě šedé krytky"},{"$f":"CenAVS!B97","v":"20K2C00T06"},{"$f":"CenAVS!C97","v":"TGIG"},0,{"$f":"CenAVS!F97","v":891.62},0,{"$f":"IF(AND($U$16=2,$T$44=2),ROUNDUP(SUM($O$12:$P$12)*$M$17,0),0)","v":0},0,{"$f":"IF(AND($U$27=2,$T$44=2),ROUNDUP(SUM($O$23:$P$23)*$M$28,0),0)","v":0},0]
[null,{"$f":"ListAVS!$B$292","v":"Výpočet hmotnosti"},null,{"$f":"ListAVS!$B$80&\" TS [mm] \"","v":"Síla čela TS [mm] "},null,null,null,null,null,null,null,null,null,"K2E",{"$f":"IF($V$21=FALSE,IF($H$27>R24,IF($H$27<S24,1,0),0),0)","v":0},{"$f":"IF($V$21=TRUE,IF($H$27>V24,IF($H$27<W24,1.5,0),0),0)","v":0},null,979.99,2216,null,null,1469.99,3061,null,{"$f":"CenAVS!A98","v":"Sada zdvihačů HK-S TIP-ON, bílé krytky"},{"$f":"CenAVS!B98","v":"20K2C00T06"},{"$f":"CenAVS!C98","v":"SWIG"},0,{"$f":"CenAVS!F98","v":891.62},0,{"$f":"IF(AND($U$16=2,$T$44=3),ROUNDUP(SUM($O$12:$P$12)*$M$17,0),0)","v":0},0,{"$f":"IF(AND($U$27=2,$T$44=3),ROUNDUP(SUM($O$23:$P$23)*$M$28,0),0)","v":0},0]
[null,null,null,{"$f":"ListAVS!$B$83&\" [kg] \"","v":"Hmotnost úchytky [kg] "},null,null,null,null,{"$f":"IF(H28=0, \" \", IF(AND(H23=0, U27=1, H25=0), \" ● \"&ListAVS!$B$129,\" \"))","v":" "},null,null,null,null,null,null,null,null,null,null,null,null,null,null,null,{"$f":"CenAVS!A99","v":"Sada zdvihačů HK-S TIP-ON, světle šedé krytky"},{"$f":"CenAVS!B99","v":"20K2E00T06"},{"$f":"CenAVS!C99","v":"HGIG"},0,{"$f":"CenAVS!F99","v":868.65},0,{"$f":"IF(AND($U$16=2,$T$44=1),ROUNDUP(SUM($O$13:$P$13)*$M$17,0),0)","v":0},0,{"$f":"IF(AND($U$27=2,$T$44=1),ROUNDUP(SUM($O$24:$P$24)*$M$28,0),0)","v":0},0]
[null,null,null,{"$f":"ListAVS!$B$79&\" [kg] \"","v":"Vypočtená hmotnost čela [kg] "},null,null,null,{"$f":"$T$80","v":0},{"$f":"IF($H28>0,IF($H26>0,IF($H23=0,$N$37,\" \"),\" \"),\" \")","v":" "},null,null,null,null,null,null,null,null,null,null,null,{"$f":"IF(U27=1,$V$46,IF(U27=2,$V$47,$V$48))","v":"Standard"},null,null,null,{"$f":"CenAVS!A100","v":"Sada zdvihačů HK-S TIP-ON, tmavě šedé krytky"},{"$f":"CenAVS!B100","v":"20K2E00T06"},{"$f":"CenAVS!C100","v":"TGIG"},0,{"$f":"CenAVS!F100","v":891.62},0,{"$f":"IF(AND($U$16=2,$T$44=2),ROUNDUP(SUM($O$13:$P$13)*$M$17,0),0)","v":0},0,{"$f":"IF(AND($U$27=2,$T$44=2),ROUNDUP(SUM($O$24:$P$24)*$M$28,0),0)","v":0},0]
[null,null,null,{"$f":"ListAVS!$B$86&\" LF \"","v":"Ukazatel výkonnosti LF "},null,null,null,{"$f":"IF(H23>0,H22*H23,H22*H26)","v":0},{"$f":"IF(AND(H27>0, H27<220), $N$39, IF($H27>2215.5, $N$41, \" \"))","v":" "},null,null,null,null,null,null,null,null,null,null,null,1,null,null,null,{"$f":"CenAVS!A101","v":"Sada zdvihačů HK-S TIP-ON, bílé krytky"},{"$f":"CenAVS!B101","v":"20K2E00T06"},{"$f":"CenAVS!C101","v":"SWIG"},0,{"$f":"CenAVS!F101","v":891.62},0,{"$f":"IF(AND($U$16=2,$T$44=3),ROUNDUP(SUM($O$13:$P$13)*$M$17,0),0)","v":0},0,{"$f":"IF(AND($U$27=2,$T$44=3),ROUNDUP(SUM($O$24:$P$24)*$M$28,0),0)","v":0},0]
[null,{"$f":"ListAVS!$B$71","v":"Počet skříněk"},null,null,null,null,null,null,null,null,null,null,{"$f":"IF(OR($H21*$H22*$T28=0,$H22<190,$H22>600, H27<220, $H27>3322.5),0,IF($H27>2215.5,IF($V21=FALSE,0,$H28),$H28))","v":0},null,null,null,null,null,"hmot =",{"$f":"IF(H23>0,H23,H26)","v":0},{"$f":"IF(SUM(H23,H26)=0,0,IF(H23>0,1,2))","v":0},"zadaná / vypočtená",null,null,{"$f":"CenAVS!A102","v":0},{"$f":"CenAVS!B102","v":0},{"$f":"CenAVS!C102","v":0},0,{"$f":"CenAVS!F102","v":0},0,null,{"$f":"$AC28*AE28","v":0},null,0]
[null,{"$f":"IF(M28>0,IF(U28=0,\" \",IF(U28=1,$N$49,$N$50)),\" \")&IF(M28>0,IF(U28=0,\" \",IF(U28=1,$N$51,$N$52)),\" \")","v":"  "},null,null,null,null,null,null,null,null,null,null,null,null,null,null,null,null,null,null,null,null,null,null,{"$f":"CenAVS!A103","v":"Sada čel.kování HK-S pro úzké alurámečky"},{"$f":"CenAVS!B103","v":"20K4A00A02"},{"$f":"CenAVS!C103","v":"NI"},0,{"$f":"CenAVS!F103","v":198.15},0,null,{"$f":"$AC29*AE29","v":0},null,0]
[null,null,null,null,null,null,null,null,null,null,null,null,null,null,null,null,null,null,{"$f":"IF($T$30=FALSE,2,1)","v":2},false,null," - Zdroj",null,null,{"$f":"CenAVS!A166","v":"CLIP top přímá mont. podložka, ocel, 0 mm"},{"$f":"CenAVS!B166","v":"175H3100"},{"$f":"CenAVS!C166","v":"NI"},{"$f":"SUM(AE30,AG30)","v":0},{"$f":"CenAVS!F166","v":16.98},{"$f":"AB30*AC30","v":0},{"$f":"SUM(AE$9:AE$27)*2","v":0},{"$f":"$AC30*AE30","v":0},{"$f":"SUM(AG$9:AG$27)*2","v":0},{"$f":"$AC30*AG30","v":0}]
[null,null,null,null,null,null,null,null,null,null,null,null,null,null,null,null,null,null,null,null,null,null,null,null,{"$f":"CenAVS!A167","v":"CLIP top přímá mont. podložka, ocel, EXP, 0 mm"},{"$f":"CenAVS!B167","v":"177H3100E "},{"$f":"CenAVS!C167","v":"NI"},{"$f":"SUM(AE31,AG31)","v":0},{"$f":"CenAVS!F167","v":17.07},{"$f":"AB31*AC31","v":0},null,{"$f":"$AC31*AE31","v":0},null,{"$f":"$AC31*AG31","v":0}]
[]
[]
[null,null,{"$f":"\"** \"&ListAVS!$B$186","v":"** Pokud znáte hmotnost a nechcete využít výpočtu hmotnosti"}]
[null,null,{"$f":"\"*** \"&ListAVS!$B$403","v":"*** Vyberte typ alurámečku!"},null,null,null,null,null,null,null,null,null,null,{"$f":"\" \"&ListAVS!$B$116","v":" Zadejte hmotnost nebo vyplňte nahoře sílu skla"},null,null,null,null,null,null,null,null,null,null,{"$f":"CenAVS!A185","v":"TIP-ON, krátká verze, šedá"},{"$f":"CenAVS!B185","v":"956.1004"},{"$f":"CenAVS!C185","v":"PG"},0,{"$f":"CenAVS!F185","v":116.95},0,{"$f":"IF(AND($T$44<3,$U$16=2),$M$17,0)","v":0},{"$f":"$AC35*AE35","v":0},{"$f":"IF(AND($T$44<3,$U$27=2),$M$28,0)","v":0},0]
[null,null,{"$f":"\"      \"&ListAVS!$B$404","v":"      Více informací k výběru alurámečků v Nápovědě"},null,null,null,null,null,null,null,null,null,null,{"$f":"\" \"&ListAVS!$B$115","v":" Zadejte hmotnost nebo vyplňte všechny buňky"},null,null,null,null,null,null,null,null,null,null,{"$f":"CenAVS!A186","v":"TIP-ON, krátká verze, hedvábně bílá"},{"$f":"CenAVS!B186","v":"956.1004"},{"$f":"CenAVS!C186","v":"SW"},{"$f":"SUM(AE36,AG36)","v":0},{"$f":"CenAVS!F186","v":116.95},{"$f":"AB36*AC36","v":0},{"$f":"IF(AND($T$44=3,$U$16=2),$M$17,0)","v":0},{"$f":"$AC36*AE36","v":0},{"$f":"IF(AND($T$44=3,$U$27=2),$M$28,0)","v":0},{"$f":"$AC36*AG36","v":0}]
[null,null,null,null,null,null,null,null,null,null,null,null,null,{"$f":"\"◄ \"&ListAVS!$B$111","v":"◄ hodnota bude použita pro výpočet LF"},null,null,null,null,null,null,null,null,null,null,{"$f":"CenAVS!A187","v":"TIP-ON, krátká verze, karbon černá"},{"$f":"CenAVS!B187","v":"956.1004"},{"$f":"CenAVS!C187","v":"CS"},{"$f":"SUM(AE37,AG37)","v":0},{"$f":"CenAVS!F187","v":116.95},{"$f":"AB37*AC37","v":0},null,{"$f":"$AC37*AE37","v":0},null,{"$f":"$AC37*AG37","v":0}]
[null,null,null,null,null,null,null,null,null,null,null,null,null,{"$f":"\" * \"&ListAVS!$B$127","v":" * Doplňte hodnoty"}]
[null,null,null,null,null,null,null,null,null,null,null,null,null,{"$f":"\" min. 220! \"&ListAVS!$B$121","v":" min. 220! Upravte hmotnost nebo výšku"}]
[null,null,null,null,null,null,null,null,null,null,null,null,null,{"$f":"\" max. 3.060! \"&ListAVS!$B$121","v":" max. 3.060! Upravte hmotnost nebo výšku"}]
[null,null,null,null,null,null,null,null,null,null,null,null,null,{"$f":"\" max. 2.215! \"&ListAVS!$B$121","v":" max. 2.215! Upravte hmotnost nebo výšku"}]
[null,null,null,null,null,null,null,null,null,null,null,null,null,{"$f":"\"                       \"&ListAVS!$B$122","v":"                       nebo přidejte třetí zdvihač"}]
[null,{"$f":"IF($H$11>600,\"***\",IF($H$22>600,\"***\",\" \"))","v":" "}]
[null,null,null,null,null,null,null,null,null,null,null,null,null,1,null,1,null,{"$f":"HK!$N$26","v":2},null,{"$f":"MenuAVS!$P$28","v":1}]
[null,null,null,null,null,null,null,null,null,null,null,null,null,"záv.",null,"střed.",null,"čelní kov.",null,"kryt.",null,"provedení"]
[null,null,null,null,null,null,null,null,null,null,null,null,null,null,null,null,null,{"$f":"ListAVS!$B$142","v":"Expando"},null,{"$f":"ListAVS!$B$145","v":"Světle šedá (HGR)"},null,"Standard",null,null,null,null,null,null,{"$f":"ListAVS!$B$61&\" \"","v":"Cena celkem bez DPH "},{"$f":"SUM(AD9:AD43)","v":0},null,{"$f":"SUM(AF9:AF45)","v":0},null,{"$f":"SUM(AH9:AH45)","v":0}]
[null,null,null,null,null,null,null,null,null,null,null,null,null,null,null,null,null,{"$f":"ListAVS!$B$143","v":"na vruty"},null,{"$f":"ListAVS!$B$147","v":"Hedvábně bílá (SW)"},null,"TIP-ON"]
[null,null,null,null,null,null,null,null,null,null,null,null,null,null,null,null,null,null,null,{"$f":"ListAVS!$B$148","v":0}]
[null,null,null,null,null,null,null,null,null,null,null,null,null,{"$f":"ListAVS!B187&\". \"","v":"Pro určení typu zdvihače bude použita zadaná hmotnost. "}]
[null,null,null,null,null,null,null,null,null,null,null,null,null,{"$f":"ListAVS!B188&\". \"","v":"Pro určení typu zdvihače bude použita vypočtená hmotnost. "}]
[null,null,null,null,null,null,null,null,null,null,null,null,null,{"$f":"ListAVS!B189","v":"Chcete-li použít vypočtenou hmotnost, smažte zadanou hodnotu"}]
[null,null,null,null,null,null,null,null,null,null,null,null,null,{"$f":"ListAVS!B190","v":"Chcete-li použít zadanou hmotnost, zadejte ji do políčka"}]
[]
[]
[]
[]
[]
[]
[]
[null,null,null,null,null,null,null,null,null,null,null,null,null,{"$f":"ListAVS!$B$73","v":"Výpočet hmotnosti čel"}]
[null,null,null,null,null,null,null,null,null,null,null,null,null,null,null,{"$f":"ListAVS!$B$179&\"  \"","v":"Provedení čel  "},null,null,null,{"$f":"J4","v":0},{"$f":"IF(AF67=3,IF(T61=0,Y63,\" \"),IF(T61>0,Y64,\" \"))","v":" Zadejte sílu skla [mm]"},null,null,null,{"$f":"IF($AF$67=1,$AF$88,IF($AF$67=2,$AF$89,$AF$90&\" - \"&$Y$71&\"mm\"))","v":"Alurámečky s jiným sklem - 0mm"},null,null,null,null,{"$f":"MenuAVS!$Q$81","v":2500}]
[null,null,null,null,null,null,null,null,null,null,null,null,null,null,null,null,null,null,null,null,null,null,null,null,{"$f":"\" \"&ListAVS!$B$410","v":" Změnit hodnoty můžete v Úvodu plánování"}]
[null,null,null,null,null,null,null,null,null,null,null,null,null,null,null,null,null,null,null,null,null,null,null,null,{"$f":"\" \"&ListAVS!$B$245&\" [mm]\"","v":" Zadejte sílu skla [mm]"}]
[null,null,null,null,null,null,null,null,null,null,null,null,null,null,null,null,null,null,null,null,null,null,null,null,{"$f":"\" \"&ListAVS!$B$240&\" '\"&ListAVS!$B$95&\"'\"","v":" Hodnota platí jen pro volbu 'Alurámečky s jiným sklem'"}]
[]
[null,null,null,null,null,null,null,null,null,null,null,null,null,null,null,null,null,{"$f":"D9","v":" "},null,null,null,null,null,null,null,null,null,null,null,null,"váha spoj.","tl. skla","typ alu"]
[null,null,null,null,null,null,null,null,null,null,null,null,null,{"$f":"ListAVS!$B$74&\" KB [mm]       \"","v":"Šířka korpusu KB [mm]       "},null,null,null,null,null,{"$f":"H10","v":0},null,null,null,null,{"$f":"T67*T68*T69","v":0},null,null,null,null,{"$f":"IF($AG$67=1,$X$88,$X$89)","v":0.62},{"$f":"$X$90","v":0.61},3,{"$f":"$O$4","v":1}]
[null,null,null,null,null,null,null,null,null,null,null,null,null,{"$f":"ListAVS!$B$75&\" KH [mm]       \"","v":"Výška korpusu KH [mm]       "},null,null,null,null,null,{"$f":"H11","v":0},null,null,null,null,{"$f":"Y67/1000000000","v":0},1,null,null,null,"váha alu",{"$f":"SUM(T67*2,(T68-90)*2)*AD67/1000","v":-0.11159999999999999},"A plocha B"]
[null,null,null,null,null,null,null,null,null,null,null,null,null,{"$f":"ListAVS!$B$80&\" TS [mm] \"","v":"Síla čela TS [mm] "},null,null,null,null,null,null,null,null,null,null,{"$f":"MenuAVS!$C$31","v":760},{"$f":"ListAVS!$B$90&\" (\"&Y69&\" kg/m3)\"","v":"MDF (760 kg/m3)"},null,null,null,{"$f":"$AD$61*4/1000","v":10},{"$f":"IF($AG$67=1,AF69*AD69,AG69*AD69)","v":6.4000000000000001E-2},{"$f":"SUM(($T$67-80)*($T$68-80)/1000000)","v":6.4000000000000003E-3},{"$f":"SUM(($T$67-6)*($T$68-6)/1000000)","v":3.6000000000000001E-5},"4mm"]
[null,null,null,null,null,null,null,null,null,null,null,null,null,{"$f":"ListAVS!$B$83&\" [kg] \"","v":"Hmotnost úchytky [kg] "},null,null,null,null,null,{"$f":"H14","v":0},{"$f":"IF($U$16=2,\" \",IF(SUM(T67,T68)=0,\" \",IF(T70=0,\" ● \"&ListAVS!$B$129,\" \")))","v":" "},null,null,null,{"$f":"MenuAVS!$C$32","v":680},{"$f":"ListAVS!$B$91&\" (\"&Y70&\" kg/m3)\"","v":"Dřevotříska (680 kg/m3)"},null,null,null,{"$f":"$AD$61*5/1000","v":12.5},{"$f":"IF($AG$67=1,AF70*AD70,AG70*AD70)","v":0.08},{"$f":"SUM(($T$67-80)*($T$68-80)/1000000)","v":6.4000000000000003E-3},{"$f":"SUM(($T$67-6)*($T$68-6)/1000000)","v":3.6000000000000001E-5},"5mm"]
[null,null,null,null,null,null,null,null,null,null,null,null,null,{"$f":"ListAVS!$B$79&\" [kg] \"","v":"Vypočtená hmotnost čela [kg] "},null,null,null,null,null,{"$f":"IF(AD72=0,0,AD72+2*T70)","v":0},null,null,null,{"$f":"IF(T67*T68*T69=0,0,IF(Z68=1,Y68*Y69,IF(Z68=2,Y68*Y70,Y68*Y71)))","v":0},{"$f":"$T$61","v":0},{"$f":"ListAVS!$B$92","v":"Jiné - volitelná hustota"},null,null,null,{"$f":"$AD$61*$T$61/1000","v":0},{"$f":"IF($AG$67=1,AF71*AD71,AG71*AD71)","v":0},{"$f":"SUM(($T$67-80)*($T$68-80)/1000000)","v":6.4000000000000003E-3},{"$f":"SUM(($T$67-6)*($T$68-6)/1000000)","v":3.6000000000000001E-5},"jiné"]
[null,null,null,null,null,null,null,null,null,null,null,null,null,null,{"$f":"IF((U16=2)*AND(T71>0)*AND(T70>0),$Z$89&\" \"&$Z$90,IF((U16<>2)*AND(T71>0),IF(T70=0,$Z$88,\" \"),\" \"))","v":" "},null,null,null,null,null,null,null,null,null,null,null,null,null,null,{"$f":"IF(OR(AND(AF67=3, $T$61=0), T67*T68=0), 0, SUM(IF(AF67=1,AE69,IF(AF67=2,AE70,AE71)),AE68,AE67))","v":0}]
[]
[]
[null,null,null,null,null,null,null,null,null,null,null,null,null,null,null,null,null,{"$f":"D20","v":" "},null,null,null,null,null,null,null,null,null,null,null,null,"váha spoj.","tl. skla","typ alu"]
[null,null,null,null,null,null,null,null,null,null,null,null,null,{"$f":"ListAVS!$B$74&\" KB [mm]       \"","v":"Šířka korpusu KB [mm]       "},null,null,null,null,null,{"$f":"H21","v":0},null,null,null,null,{"$f":"T76*T77*T78","v":0},null,null,null,null,{"$f":"IF($AG$67=1,$X$88,$X$89)","v":0.62},{"$f":"$X$90","v":0.61},{"$f":"$AF$67","v":3},{"$f":"$AG$67","v":1}]
[null,null,null,null,null,null,null,null,null,null,null,null,null,{"$f":"ListAVS!$B$75&\" KH [mm]       \"","v":"Výška korpusu KH [mm]       "},null,null,null,null,null,{"$f":"H22","v":0},null,null,null,null,{"$f":"Y76/1000000000","v":0},{"$f":"Z68","v":1},null,null,null,"váha alu",{"$f":"SUM(T76*2,(T77-90)*2)*AD76/1000","v":-0.11159999999999999},"A plocha B"]
[null,null,null,null,null,null,null,null,null,null,null,null,null,{"$f":"ListAVS!$B$80&\" TS [mm] \"","v":"Síla čela TS [mm] "},null,null,null,null,null,null,null,null,null,null,{"$f":"$Y$69","v":760},{"$f":"$Z$69","v":"MDF (760 kg/m3)"},null,null,null,{"$f":"AD69","v":10},{"$f":"IF($AG$67=1,AF78*AD78,AG78*AD78)","v":6.4000000000000001E-2},{"$f":"SUM(($T$76-80)*($T$77-80)/1000000)","v":6.4000000000000003E-3},{"$f":"SUM(($T$76-6)*($T$77-6)/1000000)","v":3.6000000000000001E-5},"4mm"]
[null,null,null,null,null,null,null,null,null,null,null,null,null,{"$f":"ListAVS!$B$83&\" [kg] \"","v":"Hmotnost úchytky [kg] "},null,null,null,null,null,{"$f":"H25","v":0},{"$f":"IF($U$27=2,\" \",IF(SUM(T76,T77)=0,\" \",IF(T79=0,\" ● \"&ListAVS!$B$129,\" \")))","v":" "},null,null,null,{"$f":"$Y$70","v":680},{"$f":"$Z$70","v":"Dřevotříska (680 kg/m3)"},null,null,null,{"$f":"AD70","v":12.5},{"$f":"IF($AG$67=1,AF79*AD79,AG79*AD79)","v":0.08},{"$f":"SUM(($T$76-80)*($T$77-80)/1000000)","v":6.4000000000000003E-3},{"$f":"SUM(($T$76-6)*($T$77-6)/1000000)","v":3.6000000000000001E-5},"5mm"]
[null,null,null,null,null,null,null,null,null,null,null,null,null,{"$f":"ListAVS!$B$79&\" [kg] \"","v":"Vypočtená hmotnost čela [kg] "},null,null,null,null,null,{"$f":"IF(AD81=0,0,AD81+2*T79)","v":0},null,null,null,{"$f":"IF(T76*T77*T78=0,0,IF(Z77=1,Y77*Y78,IF(Z77=2,Y77*Y79,Y77*Y80)))","v":0},{"$f":"$Y$71","v":0},{"$f":"$Z$71","v":"Jiné - volitelná hustota"},null,null,null,{"$f":"AD71","v":0},{"$f":"IF($AG$67=1,AF80*AD80,AG80*AD80)","v":0},{"$f":"SUM(($T$76-80)*($T$77-80)/1000000)","v":6.4000000000000003E-3},{"$f":"SUM(($T$76-6)*($T$77-6)/1000000)","v":3.6000000000000001E-5},"jiné"]
[null,null,null,null,null,null,null,null,null,null,null,null,null,null,{"$f":"IF((U27=2)*AND(T80>0)*AND(T79>0),$Z$89&\" \"&$Z$90,IF((U27<>2)*AND(T80>0),IF(T79=0,$Z$88,\" \"),\" \"))","v":" "},null,null,null,null,null,null,null,null,null,null,null,null,null,null,{"$f":"IF(OR(AND(AF76=3, $T$61=0), T76*T77=0), 0, SUM(IF(AF76=1,AE78,IF(AF76=2,AE79,AE80)),AE77,AE76))","v":0}]
[]
[]
[]
[]
[]
[]
[null,null,null,null,null,null,null,null,null,null,null,null,null,null,null,null,null,null,null,null,null,null,{"$f":"ListAVS!$B$422&\"  \"","v":"s vloženým sklem  "},{"$f":"MenuAVS!$I$86","v":0.62},null,{"$f":"ListAVS!$B$102&\"!\"","v":"Není započtena hmotnost úchytky!"},null,null,null,null,null,{"$f":"ListAVS!$B$93","v":"Alurámečky s 4mm sklem"}]
[null,null,null,null,null,null,null,null,null,null,null,null,null,null,null,null,null,null,null,null,null,null,{"$f":"ListAVS!$B$423&\"  \"","v":"s naloženým nebo nalepeným sklem  "},{"$f":"MenuAVS!$I$87","v":0.63},null,{"$f":"ListAVS!B103","v":"Opravdu máte úchytku na TIP-ON?"},null,null,null,null,null,{"$f":"ListAVS!$B$94","v":"Alurámečky s 5mm sklem"}]
[null,null,null,null,null,null,null,null,null,null,null,null,null,null,null,null,null,null,null,null,null,null,{"$f":"ListAVS!$B$405&\" [kg/set] *  \"","v":"Hmotnost spojovacího materiálu [kg/set] *  "},{"$f":"MenuAVS!$I$88","v":0.61},null,{"$f":"ListAVS!B104&\"!\"","v":"Jestli ne, smažte hmotnost úchytky.!"},null,null,null,null,null,{"$f":"ListAVS!$B$95","v":"Alurámečky s jiným sklem"}]
[]
[]
[]
[]
[]
[]
[]
[]
[]
[null,"      AVENTOS HK-S"]
[]
[null,{"$f":"ListAVS!$B$302","v":"Potřebný zdvihač se určí pomocí ukazatele výkonnosti."}]
[null,{"$f":"ListAVS!$B$340","v":"Ukazatel výkonnosti závisí na hmotnosti čela (včetně dvojnásobné hmotnosti úchytky) a na výšce korpusu."}]
[]
[]
[null,null,null,{"$f":"ListAVS!$B$86&\" = \"","v":"Ukazatel výkonnosti = "},{"$f":"ListAVS!$B$341&\" [kg]\"","v":"výška korpusu (KH) [mm] x hmotnost čela včetně dvojnásobné hmotnosti úchytky [kg]"}]
[]
[]
[]
[]
[]
[null,{"$f":"ListAVS!$B$311","v":"Pokud znáte hmotnost čela, můžete ji zadat, jinak použijte \"Výpočet hmotnosti\"."}]
[null,{"$f":"ListAVS!$B$312","v":"V tabulce má přednost zadaná hodnota. Chcete-li použít vypočtenou hmotnost, smažte zadanou hodnotu."}]
[]
[]
[null,{"$f":"ListAVS!$B$305","v":"Chcete-li změnit barvu krytek, přejděte na \"Úvod plánování\""}]
[]
[null,{"$f":"ListAVS!$B$411","v":"Věnujte pozornost výběru alurámečků."}]
[null,{"$f":"ListAVS!$B$412","v":"Vyberte, který typ lépe odpovídá tvaru použitého alurámečku."}]
[null,{"$f":"ListAVS!$B$413","v":"Způsob osazení skla do rámečku výrazně ovlivňuje plochu skla a tím i hmotnost!"}]
[]
[null,null,{"$f":"\"  \"&ListAVS!$B$422&\"  \"","v":"  s vloženým sklem  "}]
[]
[null,null,{"$f":"\"  \"&ListAVS!$B$423&\"  \"","v":"  s naloženým nebo nalepeným sklem  "}]
[]
[]
[null,null,null,null,null,null,null,null,null,null,null,{"$f":"ListAVS!$B$167","v":"Zpět"}]

{"sheet":"HKSna","index":30,"n_rows":127,"n_cols":44,"rows_kept":127,"cut":false,"hidden":false,"merged":[[0,41,0,49],[3,10,4,11],[8,1,8,2],[11,1,11,6],[7,43,8,43],[8,17,8,18],[8,21,8,22],[4,5,4,9],[8,5,8,7],[1,1,1,3],[6,1,6,2],[6,6,6,7],[7,41,8,42],[9,1,9,6],[9,21,9,22],[9,41,9,42],[10,1,10,6],[10,41,10,42],[16,1,16,6],[12,1,14,2],[12,3,12,6],[13,3,13,6],[14,3,14,6],[12,41,12,42],[15,1,15,2],[15,3,15,6],[13,41,14,45],[11,41,11,42],[27,1,27,6],[15,41,16,45],[19,17,19,18],[19,21,19,22],[20,1,20,6],[20,21,20,22],[21,1,21,6],[22,1,22,6],[26,1,26,2],[26,3,26,6],[19,1,19,2],[19,5,19,7],[23,1,25,2],[23,3,23,6],[24,3,24,6],[25,3,25,6],[84,18,84,19],[98,0,139,0],[105,4,105,11],[78,13,78,18],[29,19,29,20],[65,17,65,19],[66,13,66,18],[67,13,67,18],[68,13,68,18],[69,13,69,18],[70,13,70,18],[74,17,74,19],[75,13,75,18],[76,13,76,18],[77,13,77,18],[79,13,79,18]]}
[]
[null,"AVENTOS HK-S",null,null,null,null,null,null,null,null,null,null,null,null,"rámeček",null,null,null,3,null,null,null,null,null,null,null,null,null,null,null,null,null,null,null,null,null,{"$f":"ListAVS!$B$152","v":"Jdi na"}]
[]
[null,{"$f":"ListAVS!$B$22&\" ***\"","v":"Úzký alurámeček ***"},null,null,null,{"$f":"ListAVS!$B$179&\"  \"","v":"Provedení čel  "},null,null,null,null,{"$f":"U61","v":" "},null,null,null,1,null,null,null,{"$f":"\" \"&ListAVS!$B$41&\" A \"","v":" Cena za korpus A "},null,null,null,null,null,null,null,null,null,null,null,null,null,null,null,null,null," Úvod plánování"]
[null,null,null,null,null,{"$f":"IF($AF$67<>3,$Y$62,\" \")&\"      \"","v":" Změnit hodnoty můžete v Úvodu plánování      "},null,null,null,null,null,null,null,null,"A = 1",null,null,null,{"$f":"\" \"&ListAVS!$B$41&\" B \"","v":" Cena za korpus B "},null,null,null,null,null,null,null,null,null,null,null,null,null,null,null,null,null,{"$f":"\" \"&ListAVS!$B$154","v":" Nápověda"}]
[null,null,null,null,null,null,null,null,null,null,null,null,null,null,"B = 2",null,null,null,{"$f":"\" \"&ListAVS!$B$61","v":" Cena celkem bez DPH"}]
[null,{"$f":"ListAVS!$B$51&\":   \"","v":"Cena kování:   "},null,null,null,null,{"$f":"IF(S2=1,$AF$46,IF($S$2=2,$AH$46,IF($S$2=3,$AD$46,0)))","v":0},null,null,null,null,null,null,null,null,null,null,null,null,null,null,null,null,null,{"$f":"$B$2","v":"AVENTOS HK-S"},{"$f":"B5","v":0},null,null,null,null,null,null,null,null,null,null,{"$f":"\" \"&ListAVS!$B$159","v":" Doplňky"}]
[null,null,null,null,null,null,null,null,null,null,null,null,null,null,null,null,null,null,null,null,null,null,null,null,{"$f":"ListAVS!B52","v":"Název"},{"$f":"ListAVS!$B$53","v":"Číslo artiklu"},{"$f":"ListAVS!B54","v":"Barva"},{"$f":"ListAVS!B56","v":"Ks"},{"$f":"ListAVS!B58","v":"Jednotková cena"},{"$f":"ListAVS!B59","v":"Celkem"},"A","Cena","B","Cena",null,null,null,null,null,null,null,{"$f":"\"  \"&ListAVS!$B$86&\" LF \"","v":"  Ukazatel výkonnosti LF "},null,{"$f":"ListAVS!$B$84","v":"Zdvihací mechanizmus"}]
[null,{"$f":"\"▼ \"&ListAVS!$B$317","v":"▼ Způsob otvírání"},null,{"$f":"IF($M$17>0, ListAVS!$B$37&\": \", \" \")","v":" "},{"$f":"IF(SUM(AE9:$AE$11)>0, \"B\", IF(SUM(AE$12:AE$14)>0, \"C\", IF(SUM(AE$15:AE$17)>0, \"E\", IF(SUM(AE$19:AE$21)>0, \"B T\", IF(SUM(AE$22:AE$24)>0, \"C T\", IF(SUM(AE$25:AE$27)>0, \"E T\",  \" \"))))))","v":" "},{"$f":"ListAVS!$B$64&\" A\"","v":"Korpus A"},null,null,null,null,null,null,null,null,null,null,null,"dva zdvihače",null,null,null,"tři zdvihače",null,null,{"$f":"CenAVS!A83","v":"Sada zdvihačů HK-S, světle šedé krytky"},{"$f":"CenAVS!B83","v":"20K2B00.06"},{"$f":"CenAVS!C83","v":"HGIG"},{"$f":"SUM(AE9,AG9)","v":0},{"$f":"CenAVS!F83","v":778.98},{"$f":"AB9*AC9","v":0},{"$f":"IF(AND($U$16=1,$T$44=1),ROUNDUP(SUM($O$11:$P$11)*$M$17,0),0)","v":0},{"$f":"$AC9*AE9","v":0},{"$f":"IF(AND($U$27=1,$T$44=1),ROUNDUP(SUM($O$22:$P$22)*$M$28,0),0)","v":0},{"$f":"$AC9*AG9","v":0},null,null,{"$f":"\" \"&ListAVS!$B$156","v":" Přehled korpusů"}]
[null,{"$f":"ListAVS!$B$74&\" KB [mm] \"","v":"Šířka korpusu KB [mm] "},null,null,null,null,null,null,{"$f":"IF($H10=0,\" \",IF($H10<220,\" min. 220mm\",IF($H10>1800,\" max. 1 800mm\",\" \")))&IF(H17>0,IF(H10=0,\"● \"&ListAVS!$B$128,\" \"),\" \")","v":"  "},null,null,null,null,"zdvih A","dva","tři",null,"min","max","š.max","š. min",false,null,null,{"$f":"CenAVS!A84","v":"Sada zdvihačů HK-S, tmavě šedé krytky"},{"$f":"CenAVS!B84","v":"20K2B00.06"},{"$f":"CenAVS!C84","v":"TGIG"},{"$f":"SUM(AE10,AG10)","v":0},{"$f":"CenAVS!F84","v":801.95},{"$f":"AB10*AC10","v":0},{"$f":"IF(AND($U$16=1,$T$44=2),ROUNDUP(SUM($O$11:$P$11)*$M$17,0),0)","v":0},0,{"$f":"IF(AND($U$27=1,$T$44=2),ROUNDUP(SUM($O$22:$P$22)*$M$28,0),0)","v":0},0,null,null,{"$f":"\" \"&ListAVS!$B$157","v":" Objednávka"},null,null,null,null,"  220 - 500",null,"20K2B00.02"]
[null,{"$f":"ListAVS!$B$75&\" KH [mm]  \"","v":"Výška korpusu KH [mm]  "},null,null,null,null,null,null,{"$f":"IF($H11=0,\" \",IF($H11<190,\" min. 190mm\",IF($H11>600,\" max. 600 mm\",\" \")))&IF(H17>0,IF(H11=0,\"● \"&ListAVS!$B$128,\" \"),\" \")","v":"  "},null,null,null,null,"K2B",{"$f":"IF($V$10=FALSE,IF($H$16>R11,IF($H$16<S11,1,0),0),0)","v":0},{"$f":"IF($V$10=TRUE,IF($H$16>V11,IF($H$16<W11,2,0),0),0)","v":0},null,219.99,450,null,null,329,670,null,{"$f":"CenAVS!A85","v":"Sada zdvihačů HK-S, bílé krytky"},{"$f":"CenAVS!B85","v":"20K2B00.06"},{"$f":"CenAVS!C85","v":"SWIG"},0,{"$f":"CenAVS!F85","v":801.95},0,{"$f":"IF(AND($U$16=1,$T$44=3),ROUNDUP(SUM($O$11:$P$11)*$M$17,0),0)","v":0},0,{"$f":"IF(AND($U$27=1,$T$44=3),ROUNDUP(SUM($O$22:$P$22)*$M$28,0),0)","v":0},0,null,null,null,null,null,null,null,"  400 - 1.000",null,"20K2C00.02"]
[null,{"$f":"ListAVS!$B$78&\" [kg] ** \"","v":"Hmotnost čela vč. 2x hmotnost úchytky [kg] ** "},null,null,null,null,null,null,{"$f":"IF($H17=0,\" \",IF(AND($H12=0, AF67=3, J4=0), $N$35, \" \"))&IF($M17>0,IF($H12>0,$N$37,\" \"),\" \")","v":"  "},null,null,null,null,"K2C",{"$f":"IF($V$10=FALSE,IF($H$16>R12,IF($H$16<S12,1,0),0),0)","v":0},{"$f":"IF($V$10=TRUE,IF($H$16>V12,IF($H$16<W12,1.5,0),0),0)","v":0},null,449.99,980,null,null,669,1470,null,{"$f":"CenAVS!A86","v":"Sada zdvihačů HK-S, světle šedé krytky"},{"$f":"CenAVS!B86","v":"20K2C00.06"},{"$f":"CenAVS!C86","v":"HGIG"},0,{"$f":"CenAVS!F86","v":855.57},0,{"$f":"IF(AND($U$16=1,$T$44=1),ROUNDUP(SUM($O$12:$P$12)*$M$17,0),0)","v":0},0,{"$f":"IF(AND($U$27=1,$T$44=1),ROUNDUP(SUM($O$23:$P$23)*$M$28,0),0)","v":0},0,null,null,null,null,null,null,null,"  960 - 2.215",null,"20K2E00.02"]
[null,{"$f":"ListAVS!$B$292","v":"Výpočet hmotnosti"},null,{"$f":"ListAVS!$B$80&\" TS [mm] \"","v":"Síla čela TS [mm] "},null,null,null,null,null,null,null,null,null,"K2E",{"$f":"IF($V$10=FALSE,IF($H$16>R13,IF($H$16<S13,1,0),0),0)","v":0},{"$f":"IF($V$10=TRUE,IF($H$16>V13,IF($H$16<W13,1.5,0),0),0)","v":0},null,979.99,2216,null,null,1469,3061,null,{"$f":"CenAVS!A87","v":"Sada zdvihačů HK-S, tmavě šedé krytky"},{"$f":"CenAVS!B87","v":"20K2C00.06"},{"$f":"CenAVS!C87","v":"TGIG"},0,{"$f":"CenAVS!F87","v":878.54},0,{"$f":"IF(AND($U$16=1,$T$44=2),ROUNDUP(SUM($O$12:$P$12)*$M$17,0),0)","v":0},0,{"$f":"IF(AND($U$27=1,$T$44=2),ROUNDUP(SUM($O$23:$P$23)*$M$28,0),0)","v":0},0]
[null,null,null,{"$f":"ListAVS!$B$83&\" [kg] \"","v":"Hmotnost úchytky [kg] "},null,null,null,null,{"$f":"IF(H17=0, \" \", IF(AND(H12=0, U16=1, H14=0), \" ● \"&ListAVS!$B$129,\" \"))","v":" "},null,null,null,null,null,null,null,null,null,null,null,null,null,null,null,{"$f":"CenAVS!A88","v":"Sada zdvihačů HK-S, bílé krytky"},{"$f":"CenAVS!B88","v":"20K2C00.06"},{"$f":"CenAVS!C88","v":"SWIG"},0,{"$f":"CenAVS!F88","v":878.54},0,{"$f":"IF(AND($U$16=1,$T$44=3),ROUNDUP(SUM($O$12:$P$12)*$M$17,0),0)","v":0},0,{"$f":"IF(AND($U$27=1,$T$44=3),ROUNDUP(SUM($O$23:$P$23)*$M$28,0),0)","v":0},0,null,null,null,null,null,null,null,{"$f":"ListAVS!$B$86&\" LF = \"&ListAVS!$B$75&\" KH [mm] x \"&ListAVS!$B$78&\" [kg]\"","v":"Ukazatel výkonnosti LF = Výška korpusu KH [mm] x Hmotnost čela vč. 2x hmotnost úchytky [kg]"}]
[null,null,null,{"$f":"ListAVS!$B$79&\" [kg] \"","v":"Vypočtená hmotnost čela [kg] "},null,null,null,{"$f":"$T$71","v":0},{"$f":"IF($H17>0,IF($H15>0,IF($H12=0,$N$37,\" \"),\" \"),\" \")","v":" "},null,null,null,null,null,null,null,null,null,null,null,{"$f":"IF(U16=1,$V$46,IF(U16=2,$V$47,$V$48))","v":"Standard"},null,null,null,{"$f":"CenAVS!A89","v":"Sada zdvihačů HK-S, světle šedé krytky"},{"$f":"CenAVS!B89","v":"20K2E00.06"},{"$f":"CenAVS!C89","v":"HGIG"},0,{"$f":"CenAVS!F89","v":855.57},0,{"$f":"IF(AND($U$16=1,$T$44=1),ROUNDUP(SUM($O$13:$P$13)*$M$17,0),0)","v":0},0,{"$f":"IF(AND($U$27=1,$T$44=1),ROUNDUP(SUM($O$24:$P$24)*$M$28,0),0)","v":0},0]
[null,null,null,{"$f":"ListAVS!$B$86&\" LF \"","v":"Ukazatel výkonnosti LF "},null,null,null,{"$f":"IF(H12>0,H11*H12,H11*H15)","v":0},{"$f":"IF(AND($H16>0, $H16<220), $N$39, IF($H16>3322.5, $N$40, IF($H16>2215.5, IF(V10=FALSE, $N$41, \" \"),\" \")))","v":" "},null,null,null,null,null,null,null,null,null,null,null,1,null,null,null,{"$f":"CenAVS!A90","v":"Sada zdvihačů HK-S, tmavě šedé krytky"},{"$f":"CenAVS!B90","v":"20K2E00.06"},{"$f":"CenAVS!C90","v":"TGIG"},0,{"$f":"CenAVS!F90","v":878.54},0,{"$f":"IF(AND($U$16=1,$T$44=2),ROUNDUP(SUM($O$13:$P$13)*$M$17,0),0)","v":0},0,{"$f":"IF(AND($U$27=1,$T$44=2),ROUNDUP(SUM($O$24:$P$24)*$M$28,0),0)","v":0},0,null,null,null,null,null,null,null,{"$f":"ListAVS!$B$354","v":"V případě využití třetího zdvihače můžete zvýšit ukazatel výkonnosti a tudíž hmotnost čílka o 50%."}]
[null,{"$f":"ListAVS!$B$71","v":"Počet skříněk"},null,null,null,null,null,null,null,null,null,null,{"$f":"IF(OR($H10*$H11*$T17=0,$H11<190,$H11>600, H16<220, $H16>3322.5),0,IF($H16>2215.5,IF($V10=FALSE,0,$H17),$H17))","v":0},null,null,null,null,null,"hmot =",{"$f":"IF(H12>0,H12,H15)","v":0},{"$f":"IF(SUM(H12,H15)=0,0,IF(H12>0,1,2))","v":0},"zadaná / vypočtená",null,null,{"$f":"CenAVS!A91","v":"Sada zdvihačů HK-S, bílé krytky"},{"$f":"CenAVS!B91","v":"20K2E00.06"},{"$f":"CenAVS!C91","v":"SWIG"},0,{"$f":"CenAVS!F91","v":878.54},0,{"$f":"IF(AND($U$16=1,$T$44=3),ROUNDUP(SUM($O$13:$P$13)*$M$17,0),0)","v":0},0,{"$f":"IF(AND($U$27=1,$T$44=3),ROUNDUP(SUM($O$24:$P$24)*$M$28,0),0)","v":0},0]
[null,{"$f":"IF(M17>0,IF(U17=0,\" \",IF(U17=1,$N$49,$N$50)),\" \")&IF(M17>0,IF(U17=0,\" \",IF(U17=1,$N$51,$N$52)),\" \")","v":"  "},null,null,null,null,null,null,null,null,null,null,null,null,null,null,null,null,null,null,null,null,null,null,{"$f":"CenAVS!A92","v":0},{"$f":"CenAVS!B92","v":0},{"$f":"CenAVS!C92","v":0},0,{"$f":"CenAVS!F92","v":0},0,null,0,null,0]
[null,null,null,null,null,null,null,null,null,null,null,null,null,null,null,null,null,null,null,null,null,null,null,null,{"$f":"CenAVS!A93","v":"Sada zdvihačů HK-S TIP-ON, světle šedé krytky"},{"$f":"CenAVS!B93","v":"20K2B00T06"},{"$f":"CenAVS!C93","v":"HGIG"},0,{"$f":"CenAVS!F93","v":785.52},0,{"$f":"IF(AND($U$16=2,$T$44=1),ROUNDUP(SUM($O$11:$P$11)*$M$17,0),0)","v":0},0,{"$f":"IF(AND($U$27=2,$T$44=1),ROUNDUP(SUM($O$22:$P$22)*$M$28,0),0)","v":0},0]
[null,{"$f":"\"▼ \"&ListAVS!$B$317","v":"▼ Způsob otvírání"},null,{"$f":"IF($M$28>0, ListAVS!$B$37&\": \", \" \")","v":" "},{"$f":"IF(SUM(AG$9:AG$11)>0, \"B\", IF(SUM(AG$12:AG$14)>0, \"C\", IF(SUM(AG$15:AG$17)>0, \"E\", IF(SUM(AG$19:AG$21)>0, \"B T\", IF(SUM(AG$22:AG$24)>0, \"C T\", IF(SUM(AG$25:AG$27)>0, \"E T\",  \" \"))))))","v":" "},{"$f":"ListAVS!$B$64&\" B\"","v":"Korpus B"},null,null,null,null,null,null,null,null,null,null,null,"dva zdvihače",null,null,null,"tři zdvihače",null,null,{"$f":"CenAVS!A94","v":"Sada zdvihačů HK-S TIP-ON, tmavě šedé krytky"},{"$f":"CenAVS!B94","v":"20K2B00T06"},{"$f":"CenAVS!C94","v":"TGIG"},0,{"$f":"CenAVS!F94","v":808.5},0,{"$f":"IF(AND($U$16=2,$T$44=2),ROUNDUP(SUM($O$11:$P$11)*$M$17,0),0)","v":0},0,{"$f":"IF(AND($U$27=2,$T$44=2),ROUNDUP(SUM($O$22:$P$22)*$M$28,0),0)","v":0},0]
[null,{"$f":"ListAVS!$B$74&\" KB [mm] \"","v":"Šířka korpusu KB [mm] "},null,null,null,null,null,null,{"$f":"IF($H21=0,\" \",IF($H21<220,\" min. 220mm\",IF($H21>1800,\" max. 1 800mm\",\" \")))&IF(H28>0,IF(H21=0,\"● \"&ListAVS!$B$128,\" \"),\" \")","v":"  "},null,null,null,null,"zdvih A","dva","tři",null,"min","max","š.max","š. min",false,null,null,{"$f":"CenAVS!A95","v":"Sada zdvihačů HK-S TIP-ON, bílé krytky"},{"$f":"CenAVS!B95","v":"20K2B00T06"},{"$f":"CenAVS!C95","v":"SWIG"},0,{"$f":"CenAVS!F95","v":808.5},0,{"$f":"IF(AND($U$16=2,$T$44=3),ROUNDUP(SUM($O$11:$P$11)*$M$17,0),0)","v":0},0,{"$f":"IF(AND($U$27=2,$T$44=3),ROUNDUP(SUM($O$22:$P$22)*$M$28,0),0)","v":0},0]
[null,{"$f":"ListAVS!$B$75&\" KH [mm] \"","v":"Výška korpusu KH [mm] "},null,null,null,null,null,null,{"$f":"IF($H22=0,\" \",IF($H22<190,\" min. 190mm\",IF($H22>600,\" max. 600 mm\",\" \")))&IF(H28>0,IF(H22=0,\"● \"&ListAVS!$B$128,\" \"),\" \")","v":"  "},null,null,null,null,"K2B",{"$f":"IF($V$21=FALSE,IF($H$27>R22,IF($H$27<S22,1,0),0),0)","v":0},{"$f":"IF($V$21=TRUE,IF($H$27>V22,IF($H$27<W22,2,0),0),0)","v":0},null,219.99,450,null,null,329,670,null,{"$f":"CenAVS!A96","v":"Sada zdvihačů HK-S TIP-ON, světle šedé krytky"},{"$f":"CenAVS!B96","v":"20K2C00T06"},{"$f":"CenAVS!C96","v":"HGIG"},0,{"$f":"CenAVS!F96","v":868.65},0,{"$f":"IF(AND($U$16=2,$T$44=1),ROUNDUP(SUM($O$12:$P$12)*$M$17,0),0)","v":0},0,{"$f":"IF(AND($U$27=2,$T$44=1),ROUNDUP(SUM($O$23:$P$23)*$M$28,0),0)","v":0},0]
[null,{"$f":"ListAVS!$B$78&\" [kg] ** \"","v":"Hmotnost čela vč. 2x hmotnost úchytky [kg] ** "},null,null,null,null,null,null,{"$f":"IF($H28=0,\" \",IF(AND($H23=0, AF76=3, J15=0), $N$35, \" \"))&IF($M28>0,IF($H23>0,$N$37,\" \"),\" \")","v":"  "},null,null,null,null,"K2C",{"$f":"IF($V$21=FALSE,IF($H$27>R23,IF($H$27<S23,1,0),0),0)","v":0},{"$f":"IF($V$21=TRUE,IF($H$27>V23,IF($H$27<W23,1.5,0),0),0)","v":0},null,449.99,980,null,null,669,1470,null,{"$f":"CenAVS!A97","v":"Sada zdvihačů HK-S TIP-ON, tmavě šedé krytky"},{"$f":"CenAVS!B97","v":"20K2C00T06"},{"$f":"CenAVS!C97","v":"TGIG"},0,{"$f":"CenAVS!F97","v":891.62},0,{"$f":"IF(AND($U$16=2,$T$44=2),ROUNDUP(SUM($O$12:$P$12)*$M$17,0),0)","v":0},0,{"$f":"IF(AND($U$27=2,$T$44=2),ROUNDUP(SUM($O$23:$P$23)*$M$28,0),0)","v":0},0]
[null,{"$f":"ListAVS!$B$292","v":"Výpočet hmotnosti"},null,{"$f":"ListAVS!$B$80&\" TS [mm] \"","v":"Síla čela TS [mm] "},null,null,null,null,null,null,null,null,null,"K2E",{"$f":"IF($V$21=FALSE,IF($H$27>R24,IF($H$27<S24,1,0),0),0)","v":0},{"$f":"IF($V$21=TRUE,IF($H$27>V24,IF($H$27<W24,1.5,0),0),0)","v":0},null,979.99,2216,null,null,1469,3061,null,{"$f":"CenAVS!A98","v":"Sada zdvihačů HK-S TIP-ON, bílé krytky"},{"$f":"CenAVS!B98","v":"20K2C00T06"},{"$f":"CenAVS!C98","v":"SWIG"},0,{"$f":"CenAVS!F98","v":891.62},0,{"$f":"IF(AND($U$16=2,$T$44=3),ROUNDUP(SUM($O$12:$P$12)*$M$17,0),0)","v":0},0,{"$f":"IF(AND($U$27=2,$T$44=3),ROUNDUP(SUM($O$23:$P$23)*$M$28,0),0)","v":0},0]
[null,null,null,{"$f":"ListAVS!$B$83&\" [kg] \"","v":"Hmotnost úchytky [kg] "},null,null,null,null,{"$f":"IF(H28=0, \" \", IF(AND(H23=0, U27=1, H25=0), \" ● \"&ListAVS!$B$129,\" \"))","v":" "},null,null,null,null,null,null,null,null,null,null,null,null,null,null,null,{"$f":"CenAVS!A99","v":"Sada zdvihačů HK-S TIP-ON, světle šedé krytky"},{"$f":"CenAVS!B99","v":"20K2E00T06"},{"$f":"CenAVS!C99","v":"HGIG"},0,{"$f":"CenAVS!F99","v":868.65},0,{"$f":"IF(AND($U$16=2,$T$44=1),ROUNDUP(SUM($O$13:$P$13)*$M$17,0),0)","v":0},0,{"$f":"IF(AND($U$27=2,$T$44=1),ROUNDUP(SUM($O$24:$P$24)*$M$28,0),0)","v":0},0]
[null,null,null,{"$f":"ListAVS!$B$79&\" [kg] \"","v":"Vypočtená hmotnost čela [kg] "},null,null,null,{"$f":"$T$80","v":0},{"$f":"IF($H28>0,IF($H26>0,IF($H23=0,$N$37,\" \"),\" \"),\" \")","v":" "},null,null,null,null,null,null,null,null,null,null,null,{"$f":"IF(U27=1,$V$46,IF(U27=2,$V$47,$V$48))","v":"Standard"},null,null,null,{"$f":"CenAVS!A100","v":"Sada zdvihačů HK-S TIP-ON, tmavě šedé krytky"},{"$f":"CenAVS!B100","v":"20K2E00T06"},{"$f":"CenAVS!C100","v":"TGIG"},0,{"$f":"CenAVS!F100","v":891.62},0,{"$f":"IF(AND($U$16=2,$T$44=2),ROUNDUP(SUM($O$13:$P$13)*$M$17,0),0)","v":0},0,{"$f":"IF(AND($U$27=2,$T$44=2),ROUNDUP(SUM($O$24:$P$24)*$M$28,0),0)","v":0},0]
[null,null,null,{"$f":"ListAVS!$B$86&\" LF \"","v":"Ukazatel výkonnosti LF "},null,null,null,{"$f":"IF(H23>0,H22*H23,H22*H26)","v":0},{"$f":"IF(AND($H27>0, $H27<220), $N$39, IF($H27>3322.5, $N$40, IF($H27>2215.5, IF(V21=FALSE, $N$41, \" \"),\" \")))","v":" "},null,null,null,null,null,null,null,null,null,null,null,1,null,null,null,{"$f":"CenAVS!A101","v":"Sada zdvihačů HK-S TIP-ON, bílé krytky"},{"$f":"CenAVS!B101","v":"20K2E00T06"},{"$f":"CenAVS!C101","v":"SWIG"},0,{"$f":"CenAVS!F101","v":891.62},0,{"$f":"IF(AND($U$16=2,$T$44=3),ROUNDUP(SUM($O$13:$P$13)*$M$17,0),0)","v":0},0,{"$f":"IF(AND($U$27=2,$T$44=3),ROUNDUP(SUM($O$24:$P$24)*$M$28,0),0)","v":0},0]
[null,{"$f":"ListAVS!$B$71","v":"Počet skříněk"},null,null,null,null,null,null,null,null,null,null,{"$f":"IF(OR($H21*$H22*$T28=0,$H22<190,$H22>600, H27<220, $H27>3322.5),0,IF($H27>2215.5,IF($V21=FALSE,0,$H28),$H28))","v":0},null,null,null,null,null,"hmot =",{"$f":"IF(H23>0,H23,H26)","v":0},{"$f":"IF(SUM(H23,H26)=0,0,IF(H23>0,1,2))","v":0},"zadaná / vypočtená",null,null,{"$f":"CenAVS!A102","v":0},{"$f":"CenAVS!B102","v":0},{"$f":"CenAVS!C102","v":0},0,{"$f":"CenAVS!F102","v":0},0,null,{"$f":"$AC28*AE28","v":0},null,0]
[null,{"$f":"IF(M28>0,IF(U28=0,\" \",IF(U28=1,$N$49,$N$50)),\" \")&IF(M28>0,IF(U28=0,\" \",IF(U28=1,$N$51,$N$52)),\" \")","v":"  "},null,null,null,null,null,null,null,null,null,null,null,null,null,null,null,null,null,null,null,null,null,null,{"$f":"CenAVS!A103","v":"Sada čel.kování HK-S pro úzké alurámečky"},{"$f":"CenAVS!B103","v":"20K4A00A02"},{"$f":"CenAVS!C103","v":"NI"},0,{"$f":"CenAVS!F103","v":198.15},0,{"$f":"SUM(AE$9:AE$27)","v":0},{"$f":"$AC29*AE29","v":0},{"$f":"SUM(AG$9:AG$27)","v":0},0]
[null,null,null,null,null,null,null,null,null,null,null,null,null,null,null,null,null,null,{"$f":"IF($T$30=FALSE,2,1)","v":2},false,null," - Zdroj",null,null,{"$f":"CenAVS!A166","v":"CLIP top přímá mont. podložka, ocel, 0 mm"},{"$f":"CenAVS!B166","v":"175H3100"},{"$f":"CenAVS!C166","v":"NI"},{"$f":"SUM(AE30,AG30)","v":0},{"$f":"CenAVS!F166","v":16.98},{"$f":"AB30*AC30","v":0},null,{"$f":"$AC30*AE30","v":0},null,{"$f":"$AC30*AG30","v":0}]
[null,null,null,null,null,null,null,null,null,null,null,null,null,null,null,null,null,null,null,null,null,null,null,null,{"$f":"CenAVS!A167","v":"CLIP top přímá mont. podložka, ocel, EXP, 0 mm"},{"$f":"CenAVS!B167","v":"177H3100E "},{"$f":"CenAVS!C167","v":"NI"},{"$f":"SUM(AE31,AG31)","v":0},{"$f":"CenAVS!F167","v":17.07},{"$f":"AB31*AC31","v":0},null,{"$f":"$AC31*AE31","v":0},null,{"$f":"$AC31*AG31","v":0}]
[]
[]
[null,null,{"$f":"\"** \"&ListAVS!$B$186","v":"** Pokud znáte hmotnost a nechcete využít výpočtu hmotnosti"}]
[null,null,{"$f":"\"*** \"&ListAVS!$B$403","v":"*** Vyberte typ alurámečku!"},null,null,null,null,null,null,null,null,null,null,{"$f":"\" \"&ListAVS!$B$116","v":" Zadejte hmotnost nebo vyplňte nahoře sílu skla"},null,null,null,null,null,null,null,null,null,null,{"$f":"CenAVS!A185","v":"TIP-ON, krátká verze, šedá"},{"$f":"CenAVS!B185","v":"956.1004"},{"$f":"CenAVS!C185","v":"PG"},0,{"$f":"CenAVS!F185","v":116.95},0,{"$f":"IF(AND($T$44<3,$U$16=2),$M$17,0)","v":0},{"$f":"$AC35*AE35","v":0},{"$f":"IF(AND($T$44<3,$U$27=2),$M$28,0)","v":0},0]
[null,null,{"$f":"\"      \"&ListAVS!$B$404","v":"      Více informací k výběru alurámečků v Nápovědě"},null,null,null,null,null,null,null,null,null,null,{"$f":"\" \"&ListAVS!$B$115","v":" Zadejte hmotnost nebo vyplňte všechny buňky"},null,null,null,null,null,null,null,null,null,null,{"$f":"CenAVS!A186","v":"TIP-ON, krátká verze, hedvábně bílá"},{"$f":"CenAVS!B186","v":"956.1004"},{"$f":"CenAVS!C186","v":"SW"},{"$f":"SUM(AE36,AG36)","v":0},{"$f":"CenAVS!F186","v":116.95},{"$f":"AB36*AC36","v":0},{"$f":"IF(AND($T$44=3,$U$16=2),$M$17,0)","v":0},{"$f":"$AC36*AE36","v":0},{"$f":"IF(AND($T$44=3,$U$27=2),$M$28,0)","v":0},{"$f":"$AC36*AG36","v":0}]
[null,null,null,null,null,null,null,null,null,null,null,null,null,{"$f":"\"◄ \"&ListAVS!$B$111","v":"◄ hodnota bude použita pro výpočet LF"},null,null,null,null,null,null,null,null,null,null,{"$f":"CenAVS!A187","v":"TIP-ON, krátká verze, karbon černá"},{"$f":"CenAVS!B187","v":"956.1004"},{"$f":"CenAVS!C187","v":"CS"},{"$f":"SUM(AE37,AG37)","v":0},{"$f":"CenAVS!F187","v":116.95},{"$f":"AB37*AC37","v":0},null,{"$f":"$AC37*AE37","v":0},null,{"$f":"$AC37*AG37","v":0}]
[null,null,null,null,null,null,null,null,null,null,null,null,null,{"$f":"\" * \"&ListAVS!$B$127","v":" * Doplňte hodnoty"}]
[null,null,null,null,null,null,null,null,null,null,null,null,null,{"$f":"\" min. 220! \"&ListAVS!$B$121","v":" min. 220! Upravte hmotnost nebo výšku"}]
[null,null,null,null,null,null,null,null,null,null,null,null,null,{"$f":"\" max. 3.060! \"&ListAVS!$B$121","v":" max. 3.060! Upravte hmotnost nebo výšku"}]
[null,null,null,null,null,null,null,null,null,null,null,null,null,{"$f":"\" max. 2.215! \"&ListAVS!$B$121","v":" max. 2.215! Upravte hmotnost nebo výšku"}]
[null,null,null,null,null,null,null,null,null,null,null,null,null,{"$f":"\"                       \"&ListAVS!$B$122","v":"                       nebo přidejte třetí zdvihač"}]
[null,{"$f":"IF($H$11>600,\"***\",IF($H$22>600,\"***\",\" \"))","v":" "}]
[null,null,null,null,null,null,null,null,null,null,null,null,null,1,null,1,null,{"$f":"HK!$N$26","v":2},null,{"$f":"MenuAVS!$P$28","v":1}]
[null,null,null,null,null,null,null,null,null,null,null,null,null,"záv.",null,"střed.",null,"čelní kov.",null,"kryt.",null,"provedení"]
[null,null,null,null,null,null,null,null,null,null,null,null,null,null,null,null,null,{"$f":"ListAVS!$B$142","v":"Expando"},null,{"$f":"ListAVS!$B$145","v":"Světle šedá (HGR)"},null,"Standard",null,null,null,null,null,null,{"$f":"ListAVS!$B$61&\" \"","v":"Cena celkem bez DPH "},{"$f":"SUM(AD9:AD43)","v":0},null,{"$f":"SUM(AF9:AF45)","v":0},null,{"$f":"SUM(AH9:AH45)","v":0}]
[null,null,null,null,null,null,null,null,null,null,null,null,null,null,null,null,null,{"$f":"ListAVS!$B$143","v":"na vruty"},null,{"$f":"ListAVS!$B$147","v":"Hedvábně bílá (SW)"},null,"TIP-ON"]
[null,null,null,null,null,null,null,null,null,null,null,null,null,null,null,null,null,null,null,{"$f":"ListAVS!$B$148","v":0}]
[null,null,null,null,null,null,null,null,null,null,null,null,null,{"$f":"ListAVS!B187&\". \"","v":"Pro určení typu zdvihače bude použita zadaná hmotnost. "}]
[null,null,null,null,null,null,null,null,null,null,null,null,null,{"$f":"ListAVS!B188&\". \"","v":"Pro určení typu zdvihače bude použita vypočtená hmotnost. "}]
[null,null,null,null,null,null,null,null,null,null,null,null,null,{"$f":"ListAVS!B189","v":"Chcete-li použít vypočtenou hmotnost, smažte zadanou hodnotu"}]
[null,null,null,null,null,null,null,null,null,null,null,null,null,{"$f":"ListAVS!B190","v":"Chcete-li použít zadanou hmotnost, zadejte ji do políčka"}]
[]
[]
[]
[]
[]
[]
[]
[null,null,null,null,null,null,null,null,null,null,null,null,null,{"$f":"ListAVS!$B$73","v":"Výpočet hmotnosti čel"}]
[null,null,null,null,null,null,null,null,null,null,null,null,null,null,null,{"$f":"ListAVS!$B$179&\"  \"","v":"Provedení čel  "},null,null,null,{"$f":"J4","v":0},{"$f":"IF(AF67=3,IF(T61=0,Y63,\" \"),IF(T61>0,Y64,\" \"))","v":" "},null,null,null,{"$f":"IF($AF$67=1,$AF$88,IF($AF$67=2,$AF$89,$AF$90&\" - \"&$Y$71&\"mm\"))","v":"Alurámečky s 4mm sklem"},null,null,null,null,{"$f":"MenuAVS!$Q$81","v":2500}]
[null,null,null,null,null,null,null,null,null,null,null,null,null,null,null,null,null,null,null,null,null,null,null,null,{"$f":"\" \"&ListAVS!$B$410","v":" Změnit hodnoty můžete v Úvodu plánování"}]
[null,null,null,null,null,null,null,null,null,null,null,null,null,null,null,null,null,null,null,null,null,null,null,null,{"$f":"\" \"&ListAVS!$B$245&\" [mm]\"","v":" Zadejte sílu skla [mm]"}]
[null,null,null,null,null,null,null,null,null,null,null,null,null,null,null,null,null,null,null,null,null,null,null,null,{"$f":"\" \"&ListAVS!$B$240&\" '\"&ListAVS!$B$95&\"'\"","v":" Hodnota platí jen pro volbu 'Alurámečky s jiným sklem'"}]
[]
[null,null,null,null,null,null,null,null,null,null,null,null,null,null,null,null,null,{"$f":"D9","v":" "},null,null,null,null,null,null,null,null,null,null,null,null,"váha spoj.","tl. skla","typ alu"]
[null,null,null,null,null,null,null,null,null,null,null,null,null,{"$f":"ListAVS!$B$74&\" KB [mm]       \"","v":"Šířka korpusu KB [mm]       "},null,null,null,null,null,{"$f":"H10","v":0},null,null,null,null,{"$f":"T67*T68*T69","v":0},null,null,null,null,{"$f":"IF($AG$67=1,$X$88,$X$89)","v":0.31},{"$f":"$X$90","v":0.46},1,{"$f":"$O$4","v":1}]
[null,null,null,null,null,null,null,null,null,null,null,null,null,{"$f":"ListAVS!$B$75&\" KH [mm]       \"","v":"Výška korpusu KH [mm]       "},null,null,null,null,null,{"$f":"H11","v":0},null,null,null,null,{"$f":"Y67/1000000000","v":0},1,null,null,null,"váha alu",{"$f":"SUM(T67*2,(T68-40)*2)*AD67/1000","v":-2.4799999999999999E-2},"A plocha B"]
[null,null,null,null,null,null,null,null,null,null,null,null,null,{"$f":"ListAVS!$B$80&\" TS [mm] \"","v":"Síla čela TS [mm] "},null,null,null,null,null,null,null,null,null,null,{"$f":"MenuAVS!$C$31","v":760},{"$f":"ListAVS!$B$90&\" (\"&Y69&\" kg/m3)\"","v":"MDF (760 kg/m3)"},null,null,null,{"$f":"$AD$61*4/1000","v":10},{"$f":"IF($AG$67=1,AF69*AD69,AG69*AD69)","v":8.9999999999999993E-3},{"$f":"SUM(($T$67-30)*($T$68-30)/1000000)","v":8.9999999999999998E-4},{"$f":"SUM(($T$67-6)*($T$68-6)/1000000)","v":3.6000000000000001E-5},"4mm"]
[null,null,null,null,null,null,null,null,null,null,null,null,null,{"$f":"ListAVS!$B$83&\" [kg] \"","v":"Hmotnost úchytky [kg] "},null,null,null,null,null,{"$f":"H14","v":0},{"$f":"IF($U$16=2,\" \",IF(SUM(T67,T68)=0,\" \",IF(T70=0,\" ● \"&ListAVS!$B$129,\" \")))","v":" "},null,null,null,{"$f":"MenuAVS!$C$32","v":680},{"$f":"ListAVS!$B$91&\" (\"&Y70&\" kg/m3)\"","v":"Dřevotříska (680 kg/m3)"},null,null,null,{"$f":"$AD$61*5/1000","v":12.5},{"$f":"IF($AG$67=1,AF70*AD70,AG70*AD70)","v":1.125E-2},{"$f":"SUM(($T$67-30)*($T$68-30)/1000000)","v":8.9999999999999998E-4},{"$f":"SUM(($T$67-6)*($T$68-6)/1000000)","v":3.6000000000000001E-5},"5mm"]
[null,null,null,null,null,null,null,null,null,null,null,null,null,{"$f":"ListAVS!$B$79&\" [kg] \"","v":"Vypočtená hmotnost čela [kg] "},null,null,null,null,null,{"$f":"IF(AD72=0,0,AD72+2*T70)","v":0},null,null,null,{"$f":"IF(T67*T68*T69=0,0,IF(Z68=1,Y68*Y69,IF(Z68=2,Y68*Y70,Y68*Y71)))","v":0},{"$f":"$T$61","v":0},{"$f":"ListAVS!$B$92","v":"Jiné - volitelná hustota"},null,null,null,{"$f":"$AD$61*$T$61/1000","v":0},{"$f":"IF($AG$67=1,AF71*AD71,AG71*AD71)","v":0},{"$f":"SUM(($T$67-30)*($T$68-30)/1000000)","v":8.9999999999999998E-4},{"$f":"SUM(($T$67-6)*($T$68-6)/1000000)","v":3.6000000000000001E-5},"jiné"]
[null,null,null,null,null,null,null,null,null,null,null,null,null,null,{"$f":"IF((U16=2)*AND(T71>0)*AND(T70>0),$Z$89&\" \"&$Z$90,IF((U16<>2)*AND(T71>0),IF(T70=0,$Z$88,\" \"),\" \"))","v":" "},null,null,null,null,null,null,null,null,null,null,null,null,null,null,{"$f":"IF(OR(AND(AF67=3, $T$61=0), T67*T68=0), 0, SUM(IF(AF67=1,AE69,IF(AF67=2,AE70,AE71)),AE68,AE67))","v":0}]
[]
[]
[null,null,null,null,null,null,null,null,null,null,null,null,null,null,null,null,null,{"$f":"D20","v":" "},null,null,null,null,null,null,null,null,null,null,null,null,"váha spoj.","tl. skla","typ alu"]
[null,null,null,null,null,null,null,null,null,null,null,null,null,{"$f":"ListAVS!$B$74&\" KB [mm]       \"","v":"Šířka korpusu KB [mm]       "},null,null,null,null,null,{"$f":"H21","v":0},null,null,null,null,{"$f":"T76*T77*T78","v":0},null,null,null,null,{"$f":"IF($AG$67=1,$X$88,$X$89)","v":0.31},{"$f":"$X$90","v":0.46},{"$f":"$AF$67","v":1},{"$f":"$AG$67","v":1}]
[null,null,null,null,null,null,null,null,null,null,null,null,null,{"$f":"ListAVS!$B$75&\" KH [mm]       \"","v":"Výška korpusu KH [mm]       "},null,null,null,null,null,{"$f":"H22","v":0},null,null,null,null,{"$f":"Y76/1000000000","v":0},{"$f":"Z68","v":1},null,null,null,"váha alu",{"$f":"SUM(T76*2,(T77-40)*2)*AD76/1000","v":-2.4799999999999999E-2},"A plocha B"]
[null,null,null,null,null,null,null,null,null,null,null,null,null,{"$f":"ListAVS!$B$80&\" TS [mm] \"","v":"Síla čela TS [mm] "},null,null,null,null,null,null,null,null,null,null,{"$f":"$Y$69","v":760},{"$f":"$Z$69","v":"MDF (760 kg/m3)"},null,null,null,{"$f":"AD69","v":10},{"$f":"IF($AG$67=1,AF78*AD78,AG78*AD78)","v":8.9999999999999993E-3},{"$f":"SUM(($T$76-30)*($T$77-30)/1000000)","v":8.9999999999999998E-4},{"$f":"SUM(($T$76-6)*($T$77-6)/1000000)","v":3.6000000000000001E-5},"4mm"]
[null,null,null,null,null,null,null,null,null,null,null,null,null,{"$f":"ListAVS!$B$83&\" [kg] \"","v":"Hmotnost úchytky [kg] "},null,null,null,null,null,{"$f":"H25","v":0},{"$f":"IF($U$27=2,\" \",IF(SUM(T76,T77)=0,\" \",IF(T79=0,\" ● \"&ListAVS!$B$129,\" \")))","v":" "},null,null,null,{"$f":"$Y$70","v":680},{"$f":"$Z$70","v":"Dřevotříska (680 kg/m3)"},null,null,null,{"$f":"AD70","v":12.5},{"$f":"IF($AG$67=1,AF79*AD79,AG79*AD79)","v":1.125E-2},{"$f":"SUM(($T$76-30)*($T$77-30)/1000000)","v":8.9999999999999998E-4},{"$f":"SUM(($T$76-6)*($T$77-6)/1000000)","v":3.6000000000000001E-5},"5mm"]
[null,null,null,null,null,null,null,null,null,null,null,null,null,{"$f":"ListAVS!$B$79&\" [kg] \"","v":"Vypočtená hmotnost čela [kg] "},null,null,null,null,null,{"$f":"IF(AD81=0,0,AD81+2*T79)","v":0},null,null,null,{"$f":"IF(T76*T77*T78=0,0,IF(Z77=1,Y77*Y78,IF(Z77=2,Y77*Y79,Y77*Y80)))","v":0},{"$f":"$Y$71","v":0},{"$f":"$Z$71","v":"Jiné - volitelná hustota"},null,null,null,{"$f":"AD71","v":0},{"$f":"IF($AG$67=1,AF80*AD80,AG80*AD80)","v":0},{"$f":"SUM(($T$76-30)*($T$77-30)/1000000)","v":8.9999999999999998E-4},{"$f":"SUM(($T$76-6)*($T$77-6)/1000000)","v":3.6000000000000001E-5},"jiné"]
[null,null,null,null,null,null,null,null,null,null,null,null,null,null,{"$f":"IF((U27=2)*AND(T80>0)*AND(T79>0),$Z$89&\" \"&$Z$90,IF((U27<>2)*AND(T80>0),IF(T79=0,$Z$88,\" \"),\" \"))","v":" "},null,null,null,null,null,null,null,null,null,null,null,null,null,null,{"$f":"IF(OR(AND(AF76=3, $T$61=0), T76*T77=0), 0, SUM(IF(AF76=1,AE78,IF(AF76=2,AE79,AE80)),AE77,AE76))","v":0}]
[]
[]
[]
[]
[]
[]
[null,null,null,null,null,null,null,null,null,null,null,null,null,null,null,null,null,null,null,null,null,null,{"$f":"ListAVS!$B$424&\"  \"","v":"s vloženým sklem  "},{"$f":"MenuAVS!$I$91","v":0.31},null,{"$f":"ListAVS!$B$102&\"!\"","v":"Není započtena hmotnost úchytky!"},null,null,null,null,null,{"$f":"ListAVS!$B$93","v":"Alurámečky s 4mm sklem"}]
[null,null,null,null,null,null,null,null,null,null,null,null,null,null,null,null,null,null,null,null,null,null,{"$f":"ListAVS!$B$425&\"  \"","v":"s naloženým nebo nalepeným sklem  "},{"$f":"MenuAVS!$I$92","v":0.32},null,{"$f":"ListAVS!B103","v":"Opravdu máte úchytku na TIP-ON?"},null,null,null,null,null,{"$f":"ListAVS!$B$94","v":"Alurámečky s 5mm sklem"}]
[null,null,null,null,null,null,null,null,null,null,null,null,null,null,null,null,null,null,null,null,null,null,{"$f":"ListAVS!$B$405&\" [kg/set] *  \"","v":"Hmotnost spojovacího materiálu [kg/set] *  "},{"$f":"MenuAVS!$I$93","v":0.46},null,{"$f":"ListAVS!B104&\"!\"","v":"Jestli ne, smažte hmotnost úchytky.!"},null,null,null,null,null,{"$f":"ListAVS!$B$95","v":"Alurámečky s jiným sklem"}]
[]
[]
[]
[]
[]
[]
[]
[]
[]
[null,"      AVENTOS HK-S"]
[]
[null,{"$f":"ListAVS!$B$302","v":"Potřebný zdvihač se určí pomocí ukazatele výkonnosti."}]
[null,{"$f":"ListAVS!$B$340","v":"Ukazatel výkonnosti závisí na hmotnosti čela (včetně dvojnásobné hmotnosti úchytky) a na výšce korpusu."}]
[]
[]
[null,null,null,{"$f":"ListAVS!$B$86&\" = \"","v":"Ukazatel výkonnosti = "},{"$f":"ListAVS!$B$341&\" [kg]\"","v":"výška korpusu (KH) [mm] x hmotnost čela včetně dvojnásobné hmotnosti úchytky [kg]"}]
[]
[]
[]
[]
[]
[null,{"$f":"ListAVS!$B$311","v":"Pokud znáte hmotnost čela, můžete ji zadat, jinak použijte \"Výpočet hmotnosti\"."}]
[null,{"$f":"ListAVS!$B$312","v":"V tabulce má přednost zadaná hodnota. Chcete-li použít vypočtenou hmotnost, smažte zadanou hodnotu."}]
[]
[]
[null,{"$f":"ListAVS!$B$305","v":"Chcete-li změnit barvu krytek, přejděte na \"Úvod plánování\""}]
[]
[null,{"$f":"ListAVS!$B$411","v":"Věnujte pozornost výběru alurámečků."}]
[null,{"$f":"ListAVS!$B$412","v":"Vyberte, který typ lépe odpovídá tvaru použitého alurámečku."}]
[null,{"$f":"ListAVS!$B$413","v":"Způsob osazení skla do rámečku výrazně ovlivňuje plochu skla a tím i hmotnost!"}]
[]
[null,null,{"$f":"\"  \"&ListAVS!$B$424&\"  \"","v":"  s vloženým sklem  "}]
[]
[null,null,{"$f":"\"  \"&ListAVS!$B$425&\"  \"","v":"  s naloženým nebo nalepeným sklem  "}]
[]
[]
[null,null,null,null,null,null,null,null,null,null,null,{"$f":"ListAVS!$B$167","v":"Zpět"}]

{"sheet":"HKSt","index":31,"n_rows":125,"n_cols":44,"rows_kept":125,"cut":false,"hidden":false,"merged":[[0,41,0,47],[3,10,4,11],[25,3,25,6],[6,1,6,2],[6,6,6,7],[9,1,9,6],[4,5,4,9],[8,1,8,2],[13,41,14,45],[15,41,16,45],[7,43,8,43],[9,41,9,42],[10,41,10,42],[11,41,11,42],[12,41,12,42],[1,1,1,3],[8,17,8,18],[8,21,8,22],[8,5,8,7],[7,41,8,42],[26,3,26,6],[19,5,19,7],[23,1,25,2],[23,3,23,6],[9,21,9,22],[10,1,10,6],[15,1,15,2],[15,3,15,6],[11,1,11,6],[12,1,14,2],[12,3,12,6],[13,3,13,6],[14,3,14,6],[19,21,19,22],[20,21,20,22],[24,3,24,6],[77,13,77,18],[78,13,78,18],[79,13,79,18],[40,1,44,11],[16,1,16,6],[27,1,27,6],[19,1,19,2],[19,17,19,18],[20,1,20,6],[21,1,21,6],[22,1,22,6],[26,1,26,2],[67,13,67,18],[68,13,68,18],[69,13,69,18],[70,13,70,18],[76,17,76,19],[29,19,29,20],[33,2,36,10],[61,15,61,19],[65,17,65,19],[66,13,66,18],[98,0,139,0],[105,4,105,11],[81,13,81,18],[86,18,86,19],[80,13,80,18]]}
[]
[null,"AVENTOS HK-S",null,null,null,null,null,null,null,null,null,null,null,null,null,null,null,null,3,null,null,null,null,null,null,null,null,null,null,null,null,null,null,null,null,null,{"$f":"ListAVS!$B$152","v":"Jdi na"}]
[]
[null,{"$f":"ListAVS!$B$23&\" ***\"","v":"Tenké materiály ***"},null,null,null,{"$f":"ListAVS!$B$26&\":  \"","v":"Materiál :  "},null,null,null,null,{"$f":"IF($Z$63=8,IF(J4=0,$Y$59,\" \"),IF(J4>0,$Y$60,\" \"))","v":" "},null,null,null,null,null,null,null,{"$f":"\" \"&ListAVS!$B$41&\" A \"","v":" Cena za korpus A "},null,null,null,null,null,null,null,null,null,null,null,null,null,null,null,null,null," Úvod plánování"]
[null,null,null,null,null,{"$f":"IF($Z$64<>3,$Y$58,\" \")&\"      \"","v":" Změnit hodnoty můžete v Úvodu plánování      "},null,null,null,null,null,null,null,null,null,null,null,null,{"$f":"\" \"&ListAVS!$B$41&\" B \"","v":" Cena za korpus B "},null,null,null,null,null,null,null,null,null,null,null,null,null,null,null,null,null,{"$f":"\" \"&ListAVS!$B$154","v":" Nápověda"}]
[null,null,null,null,null,null,null,null,null,null,null,null,null,null,null,null,null,null,{"$f":"\" \"&ListAVS!$B$61","v":" Cena celkem bez DPH"}]
[null,{"$f":"ListAVS!$B$51&\":   \"","v":"Cena kování:   "},null,null,null,null,{"$f":"IF(S2=1,$AF$46,IF($S$2=2,$AH$46,IF($S$2=3,$AD$46,0)))","v":0},null,null,null,null,null,null,null,null,null,null,null,null,null,null,null,null,null,{"$f":"$B$2","v":"AVENTOS HK-S"},{"$f":"B5","v":0},null,null,null,null,null,null,null,null,null,null,{"$f":"\" \"&ListAVS!$B$159","v":" Doplňky"}]
[null,null,null,null,null,null,null,null,null,null,null,null,null,null,null,null,null,null,null,null,null,null,null,null,{"$f":"ListAVS!B52","v":"Název"},{"$f":"ListAVS!$B$53","v":"Číslo artiklu"},{"$f":"ListAVS!B54","v":"Barva"},{"$f":"ListAVS!B56","v":"Ks"},{"$f":"ListAVS!B58","v":"Jednotková cena"},{"$f":"ListAVS!B59","v":"Celkem"},"A","Cena","B","Cena",null,null,null,null,null,null,null,{"$f":"\"  \"&ListAVS!$B$86&\" LF \"","v":"  Ukazatel výkonnosti LF "},null,{"$f":"ListAVS!$B$84","v":"Zdvihací mechanizmus"}]
[null,{"$f":"\"▼ \"&ListAVS!$B$317","v":"▼ Způsob otvírání"},null,{"$f":"IF($M$17>0, ListAVS!$B$37&\": \", \" \")","v":" "},{"$f":"IF(SUM(AE9:$AE$11)>0, \"B\", IF(SUM(AE$12:AE$14)>0, \"C\", IF(SUM(AE$15:AE$17)>0, \"E\", IF(SUM(AE$19:AE$21)>0, \"B T\", IF(SUM(AE$22:AE$24)>0, \"C T\", IF(SUM(AE$25:AE$27)>0, \"E T\",  \" \"))))))","v":" "},{"$f":"ListAVS!$B$64&\" A\"","v":"Korpus A"},null,null,null,null,null,null,null,null,null,null,null,"dva zdvihače",null,null,null,"tři zdvihače",null,null,{"$f":"CenAVS!A83","v":"Sada zdvihačů HK-S, světle šedé krytky"},{"$f":"CenAVS!B83","v":"20K2B00.06"},{"$f":"CenAVS!C83","v":"HGIG"},{"$f":"SUM(AE9,AG9)","v":0},{"$f":"CenAVS!F83","v":778.98},{"$f":"AB9*AC9","v":0},{"$f":"IF(AND($U$16=1,$T$44=1),ROUNDUP(SUM($O$11:$P$11)*$M$17,0),0)","v":0},{"$f":"$AC9*AE9","v":0},{"$f":"IF(AND($U$27=1,$T$44=1),ROUNDUP(SUM($O$22:$P$22)*$M$28,0),0)","v":0},{"$f":"$AC9*AG9","v":0},null,null,{"$f":"\" \"&ListAVS!$B$156","v":" Přehled korpusů"}]
[null,{"$f":"ListAVS!$B$74&\" KB [mm] \"","v":"Šířka korpusu KB [mm] "},null,null,null,null,null,null,{"$f":"IF($H10=0,\" \",IF($H10<220,\" min. 220mm\",IF($H10>1800,\" max. 1 800mm\",\" \")))&IF(H17>0,IF(H10=0,\"● \"&ListAVS!$B$128,\" \"),\" \")","v":"  "},null,null,null,null,"zdvih A","dva","tři",null,"min","max","š.max","š. min",false,null,null,{"$f":"CenAVS!A84","v":"Sada zdvihačů HK-S, tmavě šedé krytky"},{"$f":"CenAVS!B84","v":"20K2B00.06"},{"$f":"CenAVS!C84","v":"TGIG"},{"$f":"SUM(AE10,AG10)","v":0},{"$f":"CenAVS!F84","v":801.95},{"$f":"AB10*AC10","v":0},{"$f":"IF(AND($U$16=1,$T$44=2),ROUNDUP(SUM($O$11:$P$11)*$M$17,0),0)","v":0},0,{"$f":"IF(AND($U$27=1,$T$44=2),ROUNDUP(SUM($O$22:$P$22)*$M$28,0),0)","v":0},0,null,null,{"$f":"\" \"&ListAVS!$B$157","v":" Objednávka"},null,null,null,null,"  220 - 500",null,"20K2B00.02"]
[null,{"$f":"ListAVS!$B$75&\" KH [mm]  \"","v":"Výška korpusu KH [mm]  "},null,null,null,null,null,null,{"$f":"IF($H11=0,\" \",IF($H11<190,\" min. 190mm\",IF($H11>600,\" max. 600 mm\",\" \")))&IF(H17>0,IF(H11=0,\"● \"&ListAVS!$B$128,\" \"),\" \")","v":"  "},null,null,null,null,"K2B",{"$f":"IF($V$10=FALSE,IF($H$16>R11,IF($H$16<S11,1,0),0),0)","v":0},{"$f":"IF($V$10=TRUE,IF($H$16>V11,IF($H$16<W11,2,0),0),0)","v":0},null,219.99,450,null,null,329.99,670,null,{"$f":"CenAVS!A85","v":"Sada zdvihačů HK-S, bílé krytky"},{"$f":"CenAVS!B85","v":"20K2B00.06"},{"$f":"CenAVS!C85","v":"SWIG"},0,{"$f":"CenAVS!F85","v":801.95},0,{"$f":"IF(AND($U$16=1,$T$44=3),ROUNDUP(SUM($O$11:$P$11)*$M$17,0),0)","v":0},0,{"$f":"IF(AND($U$27=1,$T$44=3),ROUNDUP(SUM($O$22:$P$22)*$M$28,0),0)","v":0},0,null,null,null,null,null,null,null,"  400 - 1.000",null,"20K2C00.02"]
[null,{"$f":"ListAVS!$B$78&\" [kg] ** \"","v":"Hmotnost čela vč. 2x hmotnost úchytky [kg] ** "},null,null,null,null,null,null,{"$f":"IF($H17=0,\" \",IF(SUM($H12,$H15)=0,$N$36,\" \"))&IF($M17>0,IF($H12>0,$N$37,\" \"),\" \")","v":"  "},null,null,null,null,"K2C",{"$f":"IF($V$10=FALSE,IF($H$16>R12,IF($H$16<S12,1,0),0),0)","v":0},{"$f":"IF($V$10=TRUE,IF($H$16>V12,IF($H$16<W12,1.5,0),0),0)","v":0},null,449.99,980,null,null,669.99,1470,null,{"$f":"CenAVS!A86","v":"Sada zdvihačů HK-S, světle šedé krytky"},{"$f":"CenAVS!B86","v":"20K2C00.06"},{"$f":"CenAVS!C86","v":"HGIG"},0,{"$f":"CenAVS!F86","v":855.57},0,{"$f":"IF(AND($U$16=1,$T$44=1),ROUNDUP(SUM($O$12:$P$12)*$M$17,0),0)","v":0},0,{"$f":"IF(AND($U$27=1,$T$44=1),ROUNDUP(SUM($O$23:$P$23)*$M$28,0),0)","v":0},0,null,null,null,null,null,null,null,"  960 - 2.215",null,"20K2E00.02"]
[null,{"$f":"ListAVS!$B$292","v":"Výpočet hmotnosti"},null,{"$f":"ListAVS!$B$80&\" TS [mm] \"","v":"Síla čela TS [mm] "},null,null,null,null,{"$f":"IF(H17=0,\" \",IF(AND(H12=0, H13=0),\" ● \"&ListAVS!$B$128,\" \"))&IF(H17=0,\" \",IF(AND(H12=0, H13<8), \" min. 8 mm\", \" \"))","v":"  "},null,null,null,null,"K2E",{"$f":"IF($V$10=FALSE,IF($H$16>R13,IF($H$16<S13,1,0),0),0)","v":0},{"$f":"IF($V$10=TRUE,IF($H$16>V13,IF($H$16<W13,1.5,0),0),0)","v":0},null,979.99,2216,null,null,1469.99,3323,null,{"$f":"CenAVS!A87","v":"Sada zdvihačů HK-S, tmavě šedé krytky"},{"$f":"CenAVS!B87","v":"20K2C00.06"},{"$f":"CenAVS!C87","v":"TGIG"},0,{"$f":"CenAVS!F87","v":878.54},0,{"$f":"IF(AND($U$16=1,$T$44=2),ROUNDUP(SUM($O$12:$P$12)*$M$17,0),0)","v":0},0,{"$f":"IF(AND($U$27=1,$T$44=2),ROUNDUP(SUM($O$23:$P$23)*$M$28,0),0)","v":0},0]
[null,null,null,{"$f":"ListAVS!$B$83&\" [kg] \"","v":"Hmotnost úchytky [kg] "},null,null,null,null,{"$f":"IF(H17=0, \" \", IF(AND(H12=0, U16=1, H14=0), \" ● \"&ListAVS!$B$129,\" \"))","v":" "},null,null,null,null,null,null,null,null,null,null,null,null,null,null,null,{"$f":"CenAVS!A88","v":"Sada zdvihačů HK-S, bílé krytky"},{"$f":"CenAVS!B88","v":"20K2C00.06"},{"$f":"CenAVS!C88","v":"SWIG"},0,{"$f":"CenAVS!F88","v":878.54},0,{"$f":"IF(AND($U$16=1,$T$44=3),ROUNDUP(SUM($O$12:$P$12)*$M$17,0),0)","v":0},0,{"$f":"IF(AND($U$27=1,$T$44=3),ROUNDUP(SUM($O$23:$P$23)*$M$28,0),0)","v":0},0,null,null,null,null,null,null,null,{"$f":"ListAVS!$B$86&\" LF = \"&ListAVS!$B$75&\" KH [mm] x \"&ListAVS!$B$78&\" [kg]\"","v":"Ukazatel výkonnosti LF = Výška korpusu KH [mm] x Hmotnost čela vč. 2x hmotnost úchytky [kg]"}]
[null,null,null,{"$f":"ListAVS!$B$79&\" [kg] \"","v":"Vypočtená hmotnost čela [kg] "},null,null,null,{"$f":"$T$71","v":0},{"$f":"IF(AND($H17>0,$H15>0,$H12=0,$M17>0), $N$37,\" \")&IF(AND(H17>0, H12=0, Z63=8, $J$4=0), $N$35, \" \")","v":"  "},null,null,null,null,null,null,null,null,null,null,null,{"$f":"IF(U16=1,$V$46,IF(U16=2,$V$47,$V$48))","v":"Standard"},null,null,null,{"$f":"CenAVS!A89","v":"Sada zdvihačů HK-S, světle šedé krytky"},{"$f":"CenAVS!B89","v":"20K2E00.06"},{"$f":"CenAVS!C89","v":"HGIG"},0,{"$f":"CenAVS!F89","v":855.57},0,{"$f":"IF(AND($U$16=1,$T$44=1),ROUNDUP(SUM($O$13:$P$13)*$M$17,0),0)","v":0},0,{"$f":"IF(AND($U$27=1,$T$44=1),ROUNDUP(SUM($O$24:$P$24)*$M$28,0),0)","v":0},0]
[null,{"$f":"ListAVS!$B$87&\" *      \"","v":"Třetí zdvihač *      "},null,{"$f":"ListAVS!$B$86&\" LF \"","v":"Ukazatel výkonnosti LF "},null,null,null,{"$f":"IF(H12>0,H11*H12,H11*H15)","v":0},{"$f":"IF(AND($H16>0, $H16<220), $N$39, IF($H16>3322.5, $N$40, IF($H16>2215.5, IF(V10=FALSE, $N$41, \" \"),\" \")))","v":" "},null,null,null,null,null,null,null,null,null,null,null,1,null,null,null,{"$f":"CenAVS!A90","v":"Sada zdvihačů HK-S, tmavě šedé krytky"},{"$f":"CenAVS!B90","v":"20K2E00.06"},{"$f":"CenAVS!C90","v":"TGIG"},0,{"$f":"CenAVS!F90","v":878.54},0,{"$f":"IF(AND($U$16=1,$T$44=2),ROUNDUP(SUM($O$13:$P$13)*$M$17,0),0)","v":0},0,{"$f":"IF(AND($U$27=1,$T$44=2),ROUNDUP(SUM($O$24:$P$24)*$M$28,0),0)","v":0},0,null,null,null,null,null,null,null,{"$f":"ListAVS!$B$354","v":"V případě využití třetího zdvihače můžete zvýšit ukazatel výkonnosti a tudíž hmotnost čílka o 50%."}]
[null,{"$f":"ListAVS!$B$71&\"  \"","v":"Počet skříněk  "},null,null,null,null,null,null,{"$f":"IF($H16>3322.5,\" \",IF($H16>2215.5,IF(V10=FALSE,$N$42,\" \"),\" \"))","v":" "},null,null,null,{"$f":"IF($H10*$H11*$T17=0,0,IF($H11<190,0,IF(H16<220,0,IF($H16>3322,0,IF(AND($H12=0,$H13<8),0,IF(H16>2215,IF(V10=FALSE,0,$H17),$H17))))))","v":0},null,null,null,null,null,"hmot =",{"$f":"IF(H12>0,H12,H15)","v":0},{"$f":"IF(SUM(H12,H15)=0,0,IF(H12>0,1,2))","v":0},"zadaná / vypočtená",null,null,{"$f":"CenAVS!A91","v":"Sada zdvihačů HK-S, bílé krytky"},{"$f":"CenAVS!B91","v":"20K2E00.06"},{"$f":"CenAVS!C91","v":"SWIG"},0,{"$f":"CenAVS!F91","v":878.54},0,{"$f":"IF(AND($U$16=1,$T$44=3),ROUNDUP(SUM($O$13:$P$13)*$M$17,0),0)","v":0},0,{"$f":"IF(AND($U$27=1,$T$44=3),ROUNDUP(SUM($O$24:$P$24)*$M$28,0),0)","v":0},0]
[null,{"$f":"IF(M17>0,IF(U17=0,\" \",IF(U17=1,$N$49,$N$50)),\" \")&IF(M17>0,IF(U17=0,\" \",IF(U17=1,$N$51,$N$52)),\" \")","v":"  "},null,null,null,null,null,null,null,null,null,null,null,null,null,null,null,null,null,null,null,null,null,null,{"$f":"CenAVS!A92","v":0},{"$f":"CenAVS!B92","v":0},{"$f":"CenAVS!C92","v":0},0,{"$f":"CenAVS!F92","v":0},0,null,0,null,0]
[null,null,null,null,null,null,null,null,null,null,null,null,null,null,null,null,null,null,null,null,null,null,null,null,{"$f":"CenAVS!A93","v":"Sada zdvihačů HK-S TIP-ON, světle šedé krytky"},{"$f":"CenAVS!B93","v":"20K2B00T06"},{"$f":"CenAVS!C93","v":"HGIG"},0,{"$f":"CenAVS!F93","v":785.52},0,{"$f":"IF(AND($U$16=2,$T$44=1),ROUNDUP(SUM($O$11:$P$11)*$M$17,0),0)","v":0},0,{"$f":"IF(AND($U$27=2,$T$44=1),ROUNDUP(SUM($O$22:$P$22)*$M$28,0),0)","v":0},0]
[null,{"$f":"\"▼ \"&ListAVS!$B$317","v":"▼ Způsob otvírání"},null,{"$f":"IF($M$28>0, ListAVS!$B$37&\": \", \" \")","v":" "},{"$f":"IF(SUM(AG$9:AG$11)>0, \"B\", IF(SUM(AG$12:AG$14)>0, \"C\", IF(SUM(AG$15:AG$17)>0, \"E\", IF(SUM(AG$19:AG$21)>0, \"B T\", IF(SUM(AG$22:AG$24)>0, \"C T\", IF(SUM(AG$25:AG$27)>0, \"E T\",  \" \"))))))","v":" "},{"$f":"ListAVS!$B$64&\" B\"","v":"Korpus B"},null,null,null,null,null,null,null,null,null,null,null,"dva zdvihače",null,null,null,"tři zdvihače",null,null,{"$f":"CenAVS!A94","v":"Sada zdvihačů HK-S TIP-ON, tmavě šedé krytky"},{"$f":"CenAVS!B94","v":"20K2B00T06"},{"$f":"CenAVS!C94","v":"TGIG"},0,{"$f":"CenAVS!F94","v":808.5},0,{"$f":"IF(AND($U$16=2,$T$44=2),ROUNDUP(SUM($O$11:$P$11)*$M$17,0),0)","v":0},0,{"$f":"IF(AND($U$27=2,$T$44=2),ROUNDUP(SUM($O$22:$P$22)*$M$28,0),0)","v":0},0]
[null,{"$f":"ListAVS!$B$74&\" KB [mm] \"","v":"Šířka korpusu KB [mm] "},null,null,null,null,null,null,{"$f":"IF($H21=0,\" \",IF($H21<220,\" min. 220mm\",IF($H21>1800,\" max. 1 800mm\",\" \")))&IF(H28>0,IF(H21=0,\"● \"&ListAVS!$B$128,\" \"),\" \")","v":"  "},null,null,null,null,"zdvih A","dva","tři",null,"min","max","š.max","š. min",false,null,null,{"$f":"CenAVS!A95","v":"Sada zdvihačů HK-S TIP-ON, bílé krytky"},{"$f":"CenAVS!B95","v":"20K2B00T06"},{"$f":"CenAVS!C95","v":"SWIG"},0,{"$f":"CenAVS!F95","v":808.5},0,{"$f":"IF(AND($U$16=2,$T$44=3),ROUNDUP(SUM($O$11:$P$11)*$M$17,0),0)","v":0},0,{"$f":"IF(AND($U$27=2,$T$44=3),ROUNDUP(SUM($O$22:$P$22)*$M$28,0),0)","v":0},0]
[null,{"$f":"ListAVS!$B$75&\" KH [mm] \"","v":"Výška korpusu KH [mm] "},null,null,null,null,null,null,{"$f":"IF($H22=0,\" \",IF($H22<190,\" min. 190mm\",IF($H22>600,\" max. 600 mm\",\" \")))&IF(H28>0,IF(H22=0,\"● \"&ListAVS!$B$128,\" \"),\" \")","v":"  "},null,null,null,null,"K2B",{"$f":"IF($V$21=FALSE,IF($H$27>R22,IF($H$27<S22,1,0),0),0)","v":0},{"$f":"IF($V$21=TRUE,IF($H$27>V22,IF($H$27<W22,2,0),0),0)","v":0},null,219.99,450,null,null,329.99,670,null,{"$f":"CenAVS!A96","v":"Sada zdvihačů HK-S TIP-ON, světle šedé krytky"},{"$f":"CenAVS!B96","v":"20K2C00T06"},{"$f":"CenAVS!C96","v":"HGIG"},0,{"$f":"CenAVS!F96","v":868.65},0,{"$f":"IF(AND($U$16=2,$T$44=1),ROUNDUP(SUM($O$12:$P$12)*$M$17,0),0)","v":0},0,{"$f":"IF(AND($U$27=2,$T$44=1),ROUNDUP(SUM($O$23:$P$23)*$M$28,0),0)","v":0},0]
[null,{"$f":"ListAVS!$B$78&\" [kg] ** \"","v":"Hmotnost čela vč. 2x hmotnost úchytky [kg] ** "},null,null,null,null,null,null,{"$f":"IF($H28=0,\" \",IF(SUM($H23,$H26)=0,$N$36,\" \"))&IF($M28>0,IF($H23>0,$N$37,\" \"),\" \")","v":"  "},null,null,null,null,"K2C",{"$f":"IF($V$21=FALSE,IF($H$27>R23,IF($H$27<S23,1,0),0),0)","v":0},{"$f":"IF($V$21=TRUE,IF($H$27>V23,IF($H$27<W23,1.5,0),0),0)","v":0},null,449.99,980,null,null,669.99,1470,null,{"$f":"CenAVS!A97","v":"Sada zdvihačů HK-S TIP-ON, tmavě šedé krytky"},{"$f":"CenAVS!B97","v":"20K2C00T06"},{"$f":"CenAVS!C97","v":"TGIG"},0,{"$f":"CenAVS!F97","v":891.62},0,{"$f":"IF(AND($U$16=2,$T$44=2),ROUNDUP(SUM($O$12:$P$12)*$M$17,0),0)","v":0},0,{"$f":"IF(AND($U$27=2,$T$44=2),ROUNDUP(SUM($O$23:$P$23)*$M$28,0),0)","v":0},0]
[null,{"$f":"ListAVS!$B$292","v":"Výpočet hmotnosti"},null,{"$f":"ListAVS!$B$80&\" TS [mm] \"","v":"Síla čela TS [mm] "},null,null,null,null,{"$f":"IF(H28=0,\" \",IF(AND(H23=0, H24=0),\" ● \"&ListAVS!$B$128,\" \"))&IF(H28=0,\" \",IF(AND(H23=0, H24<8), \" min. 8 mm\", \" \"))","v":"  "},null,null,null,null,"K2E",{"$f":"IF($V$21=FALSE,IF($H$27>R24,IF($H$27<S24,1,0),0),0)","v":0},{"$f":"IF($V$21=TRUE,IF($H$27>V24,IF($H$27<W24,1.5,0),0),0)","v":0},null,979.99,2216,null,null,1469.99,3323,null,{"$f":"CenAVS!A98","v":"Sada zdvihačů HK-S TIP-ON, bílé krytky"},{"$f":"CenAVS!B98","v":"20K2C00T06"},{"$f":"CenAVS!C98","v":"SWIG"},0,{"$f":"CenAVS!F98","v":891.62},0,{"$f":"IF(AND($U$16=2,$T$44=3),ROUNDUP(SUM($O$12:$P$12)*$M$17,0),0)","v":0},0,{"$f":"IF(AND($U$27=2,$T$44=3),ROUNDUP(SUM($O$23:$P$23)*$M$28,0),0)","v":0},0]
[null,null,null,{"$f":"ListAVS!$B$83&\" [kg] \"","v":"Hmotnost úchytky [kg] "},null,null,null,null,{"$f":"IF(H28=0, \" \", IF(AND(H23=0, U27=1, H25=0), \" ● \"&ListAVS!$B$129,\" \"))","v":" "},null,null,null,null,null,null,null,null,null,null,null,null,null,null,null,{"$f":"CenAVS!A99","v":"Sada zdvihačů HK-S TIP-ON, světle šedé krytky"},{"$f":"CenAVS!B99","v":"20K2E00T06"},{"$f":"CenAVS!C99","v":"HGIG"},0,{"$f":"CenAVS!F99","v":868.65},0,{"$f":"IF(AND($U$16=2,$T$44=1),ROUNDUP(SUM($O$13:$P$13)*$M$17,0),0)","v":0},0,{"$f":"IF(AND($U$27=2,$T$44=1),ROUNDUP(SUM($O$24:$P$24)*$M$28,0),0)","v":0},0]
[null,null,null,{"$f":"ListAVS!$B$79&\" [kg] \"","v":"Vypočtená hmotnost čela [kg] "},null,null,null,{"$f":"$T$82","v":0},{"$f":"IF(AND($H28>0,$H26>0,$H23=0,$M28>0), $N$37,\" \")&IF(AND(H28>0, H23=0, Z74=8, $J$4=0), $N$35, \" \")","v":"  "},null,null,null,null,null,null,null,null,null,null,null,{"$f":"IF(U27=1,$V$46,IF(U27=2,$V$47,$V$48))","v":"Standard"},null,null,null,{"$f":"CenAVS!A100","v":"Sada zdvihačů HK-S TIP-ON, tmavě šedé krytky"},{"$f":"CenAVS!B100","v":"20K2E00T06"},{"$f":"CenAVS!C100","v":"TGIG"},0,{"$f":"CenAVS!F100","v":891.62},0,{"$f":"IF(AND($U$16=2,$T$44=2),ROUNDUP(SUM($O$13:$P$13)*$M$17,0),0)","v":0},0,{"$f":"IF(AND($U$27=2,$T$44=2),ROUNDUP(SUM($O$24:$P$24)*$M$28,0),0)","v":0},0]
[null,{"$f":"ListAVS!$B$87&\" *      \"","v":"Třetí zdvihač *      "},null,{"$f":"ListAVS!$B$86&\" LF \"","v":"Ukazatel výkonnosti LF "},null,null,null,{"$f":"IF(H23>0,H22*H23,H22*H26)","v":0},{"$f":"IF(AND($H27>0, $H27<220), $N$39, IF($H27>3322.5, $N$40, IF($H27>2215.5, IF(V21=FALSE, $N$41, \" \"),\" \")))","v":" "},null,null,null,null,null,null,null,null,null,null,null,1,null,null,null,{"$f":"CenAVS!A101","v":"Sada zdvihačů HK-S TIP-ON, bílé krytky"},{"$f":"CenAVS!B101","v":"20K2E00T06"},{"$f":"CenAVS!C101","v":"SWIG"},0,{"$f":"CenAVS!F101","v":891.62},0,{"$f":"IF(AND($U$16=2,$T$44=3),ROUNDUP(SUM($O$13:$P$13)*$M$17,0),0)","v":0},0,{"$f":"IF(AND($U$27=2,$T$44=3),ROUNDUP(SUM($O$24:$P$24)*$M$28,0),0)","v":0},0]
[null,{"$f":"ListAVS!$B$71&\"  \"","v":"Počet skříněk  "},null,null,null,null,null,null,{"$f":"IF($H27>3322.5,\" \",IF($H27>2215.5,IF(V21=FALSE,$N$42,\" \"),\" \"))","v":" "},null,null,null,{"$f":"IF($H21*$H22*$T28=0,0,IF($H22<190,0,IF(H27<220,0,IF($H27>3322,0,IF(AND($H23=0,$H24<8),0,IF(H27>2215,IF(V21=FALSE,0,$H28),$H28))))))","v":0},null,null,null,null,null,"hmot =",{"$f":"IF(H23>0,H23,H26)","v":0},{"$f":"IF(SUM(H23,H26)=0,0,IF(H23>0,1,2))","v":0},"zadaná / vypočtená",null,null,{"$f":"CenAVS!A102","v":0},{"$f":"CenAVS!B102","v":0},{"$f":"CenAVS!C102","v":0},0,{"$f":"CenAVS!F102","v":0},0,null,{"$f":"$AC28*AE28","v":0},null,0]
[null,{"$f":"IF(M28>0,IF(U28=0,\" \",IF(U28=1,$N$49,$N$50)),\" \")&IF(M28>0,IF(U28=0,\" \",IF(U28=1,$N$51,$N$52)),\" \")","v":"  "},null,null,null,null,null,null,null,null,null,null,null,null,null,null,null,null,null,null,null,null,null,null,{"$f":"CenAVS!A103","v":"Sada čel.kování HK-S pro úzké alurámečky"},{"$f":"CenAVS!B103","v":"20K4A00A02"},{"$f":"CenAVS!C103","v":"NI"},0,{"$f":"CenAVS!F103","v":198.15},0,null,{"$f":"$AC29*AE29","v":0},null,0]
[null,null,null,null,null,null,null,null,null,null,null,null,null,null,null,null,null,null,{"$f":"IF($T$30=FALSE,2,1)","v":2},false,null," - Zdroj",null,null,{"$f":"CenAVS!A166","v":"CLIP top přímá mont. podložka, ocel, 0 mm"},{"$f":"CenAVS!B166","v":"175H3100"},{"$f":"CenAVS!C166","v":"NI"},{"$f":"SUM(AE30,AG30)","v":0},{"$f":"CenAVS!F166","v":16.98},{"$f":"AB30*AC30","v":0},{"$f":"SUM(AE$9:AE$27)*2","v":0},{"$f":"$AC30*AE30","v":0},{"$f":"SUM(AG$9:AG$27)*2","v":0},{"$f":"$AC30*AG30","v":0}]
[null,null,null,null,null,null,null,null,null,null,null,null,null,null,null,null,null,null,null,null,null,null,null,null,{"$f":"CenAVS!A167","v":"CLIP top přímá mont. podložka, ocel, EXP, 0 mm"},{"$f":"CenAVS!B167","v":"177H3100E "},{"$f":"CenAVS!C167","v":"NI"},{"$f":"SUM(AE31,AG31)","v":0},{"$f":"CenAVS!F167","v":17.07},{"$f":"AB31*AC31","v":0},null,{"$f":"$AC31*AE31","v":0},null,{"$f":"$AC31*AG31","v":0}]
[null,null,{"$f":"IF(OR($V$10=TRUE, $V$21=TRUE), ListAVS!$D$182, \" \")","v":" "},null,null,null,null,null,null,null,null,null,null,null,null,null,null,null,null,null,null,null,null,null,{"$f":"CenAVS!A158","v":"EXPANDO T, samostatná hmoždinka"},{"$f":"CenAVS!B158","v":"70T4532T"},{"$f":"CenAVS!C158","v":"DGR"},{"$f":"SUM(AE32,AG32)","v":0},{"$f":"CenAVS!F158","v":63.33},{"$f":"AB32*AC32","v":0},{"$f":"AE30*2","v":0},{"$f":"$AC32*AE32","v":0},{"$f":"AG30*2","v":0},{"$f":"$AC32*AG32","v":0}]
[]
[null," *",{"$f":"ListAVS!$B$230&\" \"&ListAVS!$B$231","v":"U širokých korpusů doporučujeme nainstalovat třetí zdvihač na střed korpusu. Důvodem je prohýbání čela v otevřené pozici. Také faktor výkonnosti LF a váha dveří mohou být o 50% navýšeny."}]
[null,null,null,null,null,null,null,null,null,null,null,null,null,{"$f":"\" \"&ListAVS!$B$117","v":" Vyplňte nahoře objemovou hmotnost "},null,null,null,null,null,null,null,null,null,null,{"$f":"CenAVS!A185","v":"TIP-ON, krátká verze, šedá"},{"$f":"CenAVS!B185","v":"956.1004"},{"$f":"CenAVS!C185","v":"PG"},0,{"$f":"CenAVS!F185","v":116.95},0,{"$f":"IF(AND($T$44<3,$U$16=2),$M$17,0)","v":0},{"$f":"$AC35*AE35","v":0},{"$f":"IF(AND($T$44<3,$U$27=2),$M$28,0)","v":0},0]
[null,null,null,null,null,null,null,null,null,null,null,null,null,{"$f":"\" \"&ListAVS!$B$115","v":" Zadejte hmotnost nebo vyplňte všechny buňky"},null,null,null,null,null,null,null,null,null,null,{"$f":"CenAVS!A186","v":"TIP-ON, krátká verze, hedvábně bílá"},{"$f":"CenAVS!B186","v":"956.1004"},{"$f":"CenAVS!C186","v":"SW"},{"$f":"SUM(AE36,AG36)","v":0},{"$f":"CenAVS!F186","v":116.95},{"$f":"AB36*AC36","v":0},{"$f":"IF(AND($T$44=3,$U$16=2),$M$17,0)","v":0},{"$f":"$AC36*AE36","v":0},{"$f":"IF(AND($T$44=3,$U$27=2),$M$28,0)","v":0},{"$f":"$AC36*AG36","v":0}]
[null,null,null,null,null,null,null,null,null,null,null,null,null,{"$f":"\"◄ \"&ListAVS!$B$111","v":"◄ hodnota bude použita pro výpočet LF"},null,null,null,null,null,null,null,null,null,null,{"$f":"CenAVS!A187","v":"TIP-ON, krátká verze, karbon černá"},{"$f":"CenAVS!B187","v":"956.1004"},{"$f":"CenAVS!C187","v":"CS"},{"$f":"SUM(AE37,AG37)","v":0},{"$f":"CenAVS!F187","v":116.95},{"$f":"AB37*AC37","v":0},null,{"$f":"$AC37*AE37","v":0},null,{"$f":"$AC37*AG37","v":0}]
[null," **",{"$f":"ListAVS!$B$186","v":"Pokud znáte hmotnost a nechcete využít výpočtu hmotnosti"},null,null,null,null,null,null,null,null,null,null,{"$f":"\" * \"&ListAVS!$B$127","v":" * Doplňte hodnoty"}]
[null,"***",{"$f":"ListAVS!$B$25","v":"materiály tloušťky od 8 do 14 mm"},null,null,null,null,null,null,null,null,null,null,{"$f":"\" min. 220! \"&ListAVS!$B$121","v":" min. 220! Upravte hmotnost nebo výšku"}]
[null,null,null,null,null,null,null,null,null,null,null,null,null,{"$f":"\" max. 3.322! \"&ListAVS!$B$121","v":" max. 3.322! Upravte hmotnost nebo výšku"}]
[null,{"$f":"ListAVS!$B$420","v":"Mějte prosím na paměti, že použitelných materiálů je celá řada. Vzhledem k různé objemové hmotnosti nelze zaručit, že všechny materiály budou použitelné pro každou velikost skříňky. Obzvláště u lehčích materiálů nemusí hmotnost čela dosáhnout minimální hodnoty pro daný rozměr. Pokud se po správném zadání všech parametrů nezobrazí v Soupisu kování žádné hodnoty, je pravděpodobné, že váha čela je pod minimální hodnotou. V tom případě nelze výklop realizovat."},null,null,null,null,null,null,null,null,null,null,null,{"$f":"\" max. 2.215! \"&ListAVS!$B$121","v":" max. 2.215! Upravte hmotnost nebo výšku"}]
[null,null,null,null,null,null,null,null,null,null,null,null,null,{"$f":"\"                       \"&ListAVS!$B$122","v":"                       nebo přidejte třetí zdvihač"}]
[]
[null,null,null,null,null,null,null,null,null,null,null,null,null,1,null,1,null,null,null,{"$f":"MenuAVS!$U$28","v":1}]
[null,null,null,null,null,null,null,null,null,null,null,null,null,"záv.",null,"střed.",null,null,null,"kryt.",null,"provedení"]
[null,null,null,null,null,null,null,null,null,null,null,null,null,null,null,null,null,null,null,{"$f":"ListAVS!$B$145","v":"Světle šedá (HGR)"},null,"Standard",null,null,null,null,null,null,{"$f":"ListAVS!$B$61&\" \"","v":"Cena celkem bez DPH "},{"$f":"SUM(AD9:AD43)","v":0},null,{"$f":"SUM(AF9:AF45)","v":0},null,{"$f":"SUM(AH9:AH45)","v":0}]
[null,null,null,null,null,null,null,null,null,null,null,null,null,null,null,null,null,null,null,{"$f":"ListAVS!$B$146","v":"Tmavě šedá (TGR)"},null,"TIP-ON"]
[null,null,null,null,null,null,null,null,null,null,null,null,null,null,null,null,null,null,null,{"$f":"ListAVS!$B$147","v":"Hedvábně bílá (SW)"}]
[null,null,null,null,null,null,null,null,null,null,null,null,null,{"$f":"ListAVS!B187&\". \"","v":"Pro určení typu zdvihače bude použita zadaná hmotnost. "}]
[null,null,null,null,null,null,null,null,null,null,null,null,null,{"$f":"ListAVS!B188&\". \"","v":"Pro určení typu zdvihače bude použita vypočtená hmotnost. "}]
[null,null,null,null,null,null,null,null,null,null,null,null,null,{"$f":"ListAVS!B189","v":"Chcete-li použít vypočtenou hmotnost, smažte zadanou hodnotu"}]
[null,null,null,null,null,null,null,null,null,null,null,null,null,{"$f":"ListAVS!B190","v":"Chcete-li použít zadanou hmotnost, zadejte ji do políčka"}]
[]
[]
[]
[]
[null,null,null,null,null,null,null,null,null,null,null,null,null,null,null,null,null,null,null,null,null,null,null,null,{"$f":"IF($Z$63=1,$Z$64,IF($Z$63=2,$Z$65,IF($Z$63=3,$Z$66,IF($Z$63=4,$Z$67,IF($Z$63=5,$Z$68,IF($Z$63=6,$Z$69,IF($Z$63=7,$Z$70,$Z$71&\" \"&$Y$71&\"kg/m3\")))))))&\" A~\"&$T$69&\"/ B~\"&$T$80&\"mm\"","v":"Kompakt (1350 kg/m3) A~0/ B~0mm"}]
[null,null,null,null,null,null,null,null,null,null,null,null,null,null,null,null,null,null,null,null,null,null,null,null,{"$f":"\" \"&ListAVS!$B$410","v":" Změnit hodnoty můžete v Úvodu plánování"}]
[null,null,null,null,null,null,null,null,null,null,null,null,null,null,null,null,null,null,null,null,null,null,null,null,{"$f":"\" \"&ListAVS!$B$244&\" [kg/m3]\"","v":" Zadejte objemovou hmotnost  [kg/m3]"}]
[null,null,null,null,null,null,null,null,null,null,null,null,null,{"$f":"ListAVS!$B$73","v":"Výpočet hmotnosti čel"},null,null,null,null,null,null,null,null,null,null,{"$f":"\" \"&ListAVS!$B$240&\" '\"&ListAVS!$B$92&\"'\"","v":" Hodnota platí jen pro volbu 'Jiné - volitelná hustota'"}]
[null,null,null,null,null,null,null,null,null,null,null,null,null,null,null,{"$f":"ListAVS!$B$26&\"           \"","v":"Materiál            "},null,null,null,{"$f":"J4","v":0},{"$f":"IF(Z64=3,IF(T61=0,Y59,\" \"),IF(T61>0,Y60,\" \"))","v":" "}]
[null,null,null,null,null,null,null,null,null,null,null,null,null,null,null,{"$f":"IF($Z$64<>3,$Y$58,\" \")&\"      \"","v":" Změnit hodnoty můžete v Úvodu plánování      "},null,null,null,null,null,null,null,null,null,null,{"$f":"IF(OR(T69<8, T69>14), 0, 1)","v":0}]
[null,null,null,null,null,null,null,null,null,null,null,null,null,null,null,null,null,null,null,null,null,null,null,null,{"$f":"IF(AA$62=1, T67*T68*T69/1000000000, 0)","v":0},3,"↑Síla čela 1=ok, 0=fail"]
[null,null,null,null,null,null,null,null,null,null,null,null,null,null,null,null,null,null,null,null,null,null,null,null,{"$f":"MenuAVS!$C31","v":760},{"$f":"ListAVS!$B$90&\" (\"&Y64&\" kg/m3)\"","v":"MDF (760 kg/m3)"}]
[null,null,null,null,null,null,null,null,null,null,null,null,null,null,null,null,null,null,null,null,null,null,null,null,{"$f":"MenuAVS!$C32","v":680},{"$f":"ListAVS!$B$91&\" (\"&Y65&\" kg/m3)\"","v":"Dřevotříska (680 kg/m3)"}]
[null,null,null,null,null,null,null,null,null,null,null,null,null,null,null,null,null,{"$f":"D9","v":" "},null,null,null,null,null,null,{"$f":"MenuAVS!$F31","v":1350},{"$f":"ListAVS!$B$96&\" (\"&Y66&\" kg/m3)\"","v":"Kompakt (1350 kg/m3)"}]
[null,null,null,null,null,null,null,null,null,null,null,null,null,{"$f":"ListAVS!$B$74&\" KB [mm]       \"","v":"Šířka korpusu KB [mm]       "},null,null,null,null,null,{"$f":"H10","v":0},null,null,null,null,{"$f":"MenuAVS!$F32","v":1700},{"$f":"ListAVS!$B$97&\" (\"&Y67&\" kg/m3)\"","v":"Kompozit (1700 kg/m3)"}]
[null,null,null,null,null,null,null,null,null,null,null,null,null,{"$f":"ListAVS!$B$75&\" KH [mm]       \"","v":"Výška korpusu KH [mm]       "},null,null,null,null,null,{"$f":"H11","v":0},null,null,null,null,{"$f":"MenuAVS!$F33","v":2600},{"$f":"ListAVS!$B$98&\" (\"&Y68&\" kg/m3)\"","v":"Kámen (2600 kg/m3)"}]
[null,null,null,null,null,null,null,null,null,null,null,null,null,{"$f":"ListAVS!$B$80&\" TS [mm] \"","v":"Síla čela TS [mm] "},null,null,null,null,null,{"$f":"H13","v":0},{"$f":"IF(SUM(T67,T68)=0,\" \",IF(T69=0,\" ● \"&ListAVS!$B$128, IF(T69<8,\" min 8 mm!\",IF(T69>14,\" max. 14 mm!\",\" \"))))","v":" "},null,null,null,{"$f":"MenuAVS!$I31","v":2400},{"$f":"ListAVS!$B$99&\" (\"&Y69&\" kg/m3)\"","v":"Keramika (2400 kg/m3)"}]
[null,null,null,null,null,null,null,null,null,null,null,null,null,{"$f":"ListAVS!$B$83&\" [kg] \"","v":"Hmotnost úchytky [kg] "},null,null,null,null,null,{"$f":"H14","v":0},{"$f":"IF($U$16=2,\" \",IF(SUM(T67,T68)=0,\" \",IF(T70=0,\" ● \"&ListAVS!$B$129,\" \")))","v":" "},null,null,null,{"$f":"MenuAVS!$I32","v":2300},{"$f":"ListAVS!$B$100&\" (\"&Y70&\" kg/m3)\"","v":"Beton (2300 kg/m3)"}]
[null,null,null,null,null,null,null,null,null,null,null,null,null,{"$f":"ListAVS!$B$79&\" [kg] \"","v":"Vypočtená hmotnost čela [kg] "},null,null,null,null,null,{"$f":"IF(X71=0,0,X71+2*T70)","v":0},null,null,null,{"$f":"IF(T67*T68*T69=0,0,IF(Z63=1,Y63*Y64,IF(Z63=2,Y63*Y65, IF(Z63=3,Y63*Y66, IF(Z63=4, Y63*Y67, IF(Z63=5, Y63*Y68, IF(Z63=6, Y63*Y69, IF(Z63=7, Y63*Y70, Y63*Y71))))))))","v":0},{"$f":"$T$61","v":0},{"$f":"ListAVS!$B$92","v":"Jiné - volitelná hustota"}]
[null,null,null,null,null,null,null,null,null,null,null,null,null,null,{"$f":"IF((U16=2)*AND(T71>0)*AND(T70>0),$Z$87&\" \"&$Z$88,IF((U16<>2)*AND(T71>0),IF(T70=0,$Z$86,\" \"),\" \"))","v":" "}]
[null,null,null,null,null,null,null,null,null,null,null,null,null,null,null,null,null,null,null,null,null,null,null,null,null,null,{"$f":"IF(OR(T80<8, T80>14), 0, 1)","v":0}]
[null,null,null,null,null,null,null,null,null,null,null,null,null,null,null,null,null,null,null,null,null,null,null,null,{"$f":"IF(AA$73=1, T78*T79*T80/1000000000, 0)","v":0},{"$f":"Z63","v":3},"↑Síla čela 1=ok, 0=fail"]
[null,null,null,null,null,null,null,null,null,null,null,null,null,null,null,null,null,null,null,null,null,null,null,null,{"$f":"$Y$64","v":760},{"$f":"$Z$64","v":"MDF (760 kg/m3)"}]
[null,null,null,null,null,null,null,null,null,null,null,null,null,null,null,null,null,null,null,null,null,null,null,null,{"$f":"$Y$65","v":680},{"$f":"$Z$65","v":"Dřevotříska (680 kg/m3)"}]
[null,null,null,null,null,null,null,null,null,null,null,null,null,null,null,null,null,{"$f":"D20","v":" "},null,null,null,null,null,null,{"$f":"$Y$66","v":1350},{"$f":"$Z$66","v":"Kompakt (1350 kg/m3)"}]
[null,null,null,null,null,null,null,null,null,null,null,null,null,{"$f":"ListAVS!$B$74&\" KB [mm]       \"","v":"Šířka korpusu KB [mm]       "},null,null,null,null,null,{"$f":"H21","v":0},null,null,null,null,{"$f":"$Y$67","v":1700},{"$f":"$Z$67","v":"Kompozit (1700 kg/m3)"}]
[null,null,null,null,null,null,null,null,null,null,null,null,null,{"$f":"ListAVS!$B$75&\" KH [mm]       \"","v":"Výška korpusu KH [mm]       "},null,null,null,null,null,{"$f":"H22","v":0},null,null,null,null,{"$f":"$Y$68","v":2600},{"$f":"$Z$68","v":"Kámen (2600 kg/m3)"}]
[null,null,null,null,null,null,null,null,null,null,null,null,null,{"$f":"ListAVS!$B$80&\" TS [mm] \"","v":"Síla čela TS [mm] "},null,null,null,null,null,{"$f":"H24","v":0},{"$f":"IF(SUM(T78,T79)=0,\" \",IF(T80=0,\" ● \"&ListAVS!$B$128, IF(T80<8,\" min 8 mm!\",IF(T80>14,\" max. 14 mm!\",\" \"))))","v":" "},null,null,null,{"$f":"$Y$69","v":2400},{"$f":"$Z$69","v":"Keramika (2400 kg/m3)"}]
[null,null,null,null,null,null,null,null,null,null,null,null,null,{"$f":"ListAVS!$B$83&\" [kg] \"","v":"Hmotnost úchytky [kg] "},null,null,null,null,null,{"$f":"H25","v":0},{"$f":"IF($U$27=2,\" \",IF(SUM(T78,T79)=0,\" \",IF(T81=0,\" ● \"&ListAVS!$B$129,\" \")))","v":" "},null,null,null,{"$f":"$Y$70","v":2300},{"$f":"$Z$70","v":"Beton (2300 kg/m3)"}]
[null,null,null,null,null,null,null,null,null,null,null,null,null,{"$f":"ListAVS!$B$79&\" [kg] \"","v":"Vypočtená hmotnost čela [kg] "},null,null,null,null,null,{"$f":"IF(X82=0,0,X82+2*T81)","v":0},null,null,null,{"$f":"IF(T78*T79*T80=0,0,IF(Z74=1,Y74*Y75,IF(Z74=2,Y74*Y76, IF(Z74=3,Y74*Y77, IF(Z74=4, Y74*Y78, IF(Z74=5, Y74*Y79, IF(Z74=6, Y74*Y80, IF(Z74=7, Y74*Y81, Y74*Y82))))))))","v":0},{"$f":"$Y$71","v":0},{"$f":"$Z$71","v":"Jiné - volitelná hustota"}]
[null,null,null,null,null,null,null,null,null,null,null,null,null,null,{"$f":"IF((U27=2)*AND(T82>0)*AND(T81>0),$Z$87&\" \"&$Z$88,IF((U27<>2)*AND(T82>0),IF(T81=0,$Z$86,\" \"),\" \"))","v":" "}]
[]
[]
[null,null,null,null,null,null,null,null,null,null,null,null,null,null,null,null,null,null,null,null,null,null,null,null,null,{"$f":"ListAVS!$B$102&\"!\"","v":"Není započtena hmotnost úchytky!"}]
[null,null,null,null,null,null,null,null,null,null,null,null,null,null,null,null,null,null,null,null,null,null,null,null,null,{"$f":"ListAVS!B103","v":"Opravdu máte úchytku na TIP-ON?"}]
[null,null,null,null,null,null,null,null,null,null,null,null,null,null,null,null,null,null,null,null,null,null,null,null,null,{"$f":"ListAVS!B104&\"!\"","v":"Jestli ne, smažte hmotnost úchytky.!"}]
[]
[]
[]
[]
[]
[]
[]
[]
[]
[]
[]
[null,"      AVENTOS HK-S"]
[]
[null,{"$f":"ListAVS!$B$302","v":"Potřebný zdvihač se určí pomocí ukazatele výkonnosti."}]
[null,{"$f":"ListAVS!$B$340","v":"Ukazatel výkonnosti závisí na hmotnosti čela (včetně dvojnásobné hmotnosti úchytky) a na výšce korpusu."}]
[]
[]
[null,null,null,{"$f":"ListAVS!$B$86&\" = \"","v":"Ukazatel výkonnosti = "},{"$f":"ListAVS!$B$341&\" [kg]\"","v":"výška korpusu (KH) [mm] x hmotnost čela včetně dvojnásobné hmotnosti úchytky [kg]"}]
[]
[null,{"$f":"ListAVS!$B$354","v":"V případě využití třetího zdvihače můžete zvýšit ukazatel výkonnosti a tudíž hmotnost čílka o 50%."}]
[null,{"$f":"\"(\"&ListAVS!$B$355&\")\"","v":"(Platí jen pro zdvihač 20K2E00)"}]
[null,{"$f":"ListAVS!$B$182","v":"Přídavný třetí zdvihač může být použit pouze s plným čelem!"}]
[]
[null,{"$f":"ListAVS!$B$311","v":"Pokud znáte hmotnost čela, můžete ji zadat, jinak použijte \"Výpočet hmotnosti\"."}]
[null,{"$f":"ListAVS!$B$312","v":"V tabulce má přednost zadaná hodnota. Chcete-li použít vypočtenou hmotnost, smažte zadanou hodnotu."}]
[]
[]
[null,{"$f":"ListAVS!$B$305","v":"Chcete-li změnit barvu krytek, přejděte na \"Úvod plánování\""}]
[]
[]
[]
[]
[]
[]
[]
[]
[null,null,null,null,null,null,null,null,null,null,null,{"$f":"ListAVS!$B$167","v":"Zpět"}]

{"sheet":"HKXSw","index":32,"n_rows":122,"n_cols":44,"rows_kept":122,"cut":false,"hidden":false,"merged":[[0,46,0,54],[1,1,1,3],[7,43,8,43],[8,17,8,18],[8,21,8,22],[8,5,8,8],[8,1,8,2],[4,5,4,9],[3,10,4,11],[6,1,6,3],[6,7,6,8],[7,41,8,42],[13,41,14,42],[16,1,16,7],[15,41,15,42],[9,1,9,7],[9,21,9,22],[9,41,9,42],[10,1,10,7],[10,41,10,42],[11,1,11,7],[11,41,11,42],[15,1,15,3],[15,4,15,7],[12,1,14,2],[12,3,12,7],[13,3,13,7],[14,3,14,7],[19,5,19,8],[19,1,19,2],[16,41,16,42],[19,17,19,18],[19,21,19,22],[17,41,17,42],[30,19,30,20],[41,12,42,12],[44,12,45,12],[21,1,21,7],[19,41,20,45],[22,1,22,7],[22,41,23,45],[26,1,26,3],[26,4,26,7],[27,1,27,7],[23,1,25,2],[23,3,23,7],[24,3,24,7],[25,3,25,7],[20,1,20,7],[20,21,20,22],[65,16,65,20],[69,18,69,20],[70,13,70,19],[71,13,71,19],[80,13,80,19],[73,13,73,19],[74,13,74,19],[78,18,78,20],[79,13,79,19],[72,13,72,19],[98,0,139,0],[105,4,105,11],[81,13,81,19],[82,13,82,19],[83,13,83,19]]}
[]
[null,"AVENTOS HK-XS",null,null,null,null,null,null,null,null,null,null,null,null,null,null,null,null,3,null,null,null,null,null,null,null,null,null,null,null,null,null,null,null,null,null,null,null,{"$f":"ListAVS!$B$152","v":"Jdi na"}]
[]
[null,{"$f":"ListAVS!$B$17","v":"Dřevěné čelo"},null,null,null,{"$f":"ListAVS!$B$179&\"  \"","v":"Provedení čel  "},null,null,null,null,{"$f":"IF($AA$72=3,IF(J4=0,$Z$67,\" \"),IF(J4>0,$Z$68,\" \"))","v":" "},null,null,null,null,null,null,null,{"$f":"\" \"&ListAVS!$B$41&\" A \"","v":" Cena za korpus A "},null,null,null,null,null,null,null,null,null,null,null,null,null,null,null,null,null,null,null," Úvod plánování"]
[null,null,null,null,null,{"$f":"IF($AA$72<>3,$Z$66,\" \")&\"      \"","v":" Změnit hodnoty můžete v Úvodu plánování      "},null,null,null,null,null,null,null,null,null,null,null,null,{"$f":"\" \"&ListAVS!$B$41&\" B \"","v":" Cena za korpus B "},null,null,null,null,null,null,null,null,null,null,null,null,null,null,null,null,null,null,null,{"$f":"\" \"&ListAVS!$B$154","v":" Nápověda"}]
[null,null,null,null,null,null,null,null,null,null,null,null,null,null,null,null,null,null,{"$f":"\" \"&ListAVS!$B$61","v":" Cena celkem bez DPH"}]
[null,{"$f":"ListAVS!$B$51&\":   \"","v":"Cena kování:   "},null,null,null,null,null,{"$f":"IF($S$2=1, $AH$50, IF($S$2=2, $AJ$50, IF($S$2=3, $AF$50,0)))","v":0},null,null,null,null,null,null,null,null,null,null,null,null,null,null,null,null,null,null,{"$f":"$B$2","v":"AVENTOS HK-XS"},{"$f":"D5","v":0},null,null,null,null,null,null,null,null,null,null,{"$f":"\" \"&ListAVS!$B$159","v":" Doplňky"}]
[null,null,null,null,null,null,null,null,null,null,null,null,null,null,null,null,null,null,null,null,null,null,null,null,null,null,{"$f":"ListAVS!D52","v":0},{"$f":"ListAVS!$B$53","v":"Číslo artiklu"},{"$f":"ListAVS!D54","v":0},{"$f":"ListAVS!D56","v":0},{"$f":"ListAVS!D58","v":0},{"$f":"ListAVS!D59","v":0},"A","Cena","B","Cena",null,null,null,null,null,{"$f":"\"  \"&ListAVS!$B$86&\" LF \"","v":"  Ukazatel výkonnosti LF "},null,{"$f":"ListAVS!$B$84","v":"Zdvihací mechanizmus"}]
[null,{"$f":"\"▼ \"&ListAVS!$B$317","v":"▼ Způsob otvírání"},null,{"$f":"IF($M$17>0, ListAVS!$B$37&\": \", \" \")","v":" "},{"$f":"IF($AG$9>0,\"11\",IF($AG$10>0,\"13\",IF($AG$11>0,\"15\",IF($AG$15>0,\"11T\",IF($AG$16>0,\"13T\", IF($AG$17>0, \"15T\", \" \"))))))","v":" "},{"$f":"ListAVS!$B$64&\" A\"","v":"Korpus A"},null,null,null,null,null,null,null,null,null,null,null,"jeden zdvihač",null,null,null,"dva zdvihače",null,null,"Závěsy",null,{"$f":"CenAVS!A108","v":"Symetrický zdvihací mechanizmus HK-XS"},{"$f":"CenAVS!B108","v":"20K1101"},{"$f":"CenAVS!C108","v":"NI"},{"$f":"SUM(AG9,AI9)","v":0},{"$f":"CenAVS!F108","v":294.25},{"$f":"AD9*AE9","v":0},{"$f":"IF($U$16=1,SUM($O$11:$P$11)*$M$17,0)","v":0},{"$f":"$AE9*AG9","v":0},{"$f":"IF($U$27=1,SUM($O$22:$P$22)*$M$28,0)","v":0},{"$f":"$AE9*AI9","v":0},null,null,{"$f":"\" \"&ListAVS!$B$156","v":" Přehled korpusů"}]
[null,{"$f":"ListAVS!$B$74&\" KB [mm] \"","v":"Šířka korpusu KB [mm] "},null,null,null,null,null,null,null,{"$f":"IF($I10=0,\" \",IF($I10<220,\" min. 220mm\",IF($I10>1800,\" max. 1 800mm\",\" \")))&IF(I17>0,IF(I10=0,\"● \"&ListAVS!$B$128,\" \"),\" \")","v":"  "},null,null,null,"zdvih A","jeden","dva",null,"min","max","š.max","š. min",false,null,null,null,null,{"$f":"CenAVS!A109","v":"Symetrický zdvihací mechanizmus HK-XS"},{"$f":"CenAVS!B109","v":"20K1301"},{"$f":"CenAVS!C109","v":"NI"},{"$f":"SUM(AG10,AI10)","v":0},{"$f":"CenAVS!F109","v":294.25},{"$f":"AD10*AE10","v":0},{"$f":"IF($U$16=1,SUM($O$12:$P$12)*$M$17,0)","v":0},{"$f":"$AE10*AG10","v":0},{"$f":"IF($U$27=1,SUM($O$23:$P$23)*$M$28,0)","v":0},{"$f":"$AE10*AI10","v":0},null,null,{"$f":"\" \"&ListAVS!$B$157","v":" Objednávka"},null,null,"  200 - 1000",null,"20K1101"]
[null,{"$f":"ListAVS!$B$75&\" KH [mm]  \"","v":"Výška korpusu KH [mm]  "},null,null,null,null,null,null,null,{"$f":"IF($I11=0,\" \",IF($I11<236,\" min. 236mm\",IF($I11>600,\" max. 600 mm\",\" \")))&IF(I17>0,IF(I11=0,\"● \"&ListAVS!$B$128,\" \"),\" \")","v":"  "},null,null,null,"K1101",{"$f":"IF($V$10=FALSE,IF($I$16>R11,IF($I$16<S11,1,0),0),0)","v":0},{"$f":"IF($V$10=TRUE,IF($I$16>V11,IF($I$16<W11,2,0),0),0)","v":0},null,{"$f":"IF(U16=1,199.99,179.99)","v":199.99},{"$f":"IF(U16=1,750,650)","v":750},null,null,{"$f":"IF(U16=1,399.99,359.99)","v":399.99},{"$f":"IF(U16=1,1500,1300)","v":1500},null,{"$f":"IF(OR(I10>1199,I16>2699),4,IF(OR(I10>899,I16>1799),3,2))","v":2},null,{"$f":"CenAVS!A110","v":"Symetrický zdvihací mechanizmus HK-XS"},{"$f":"CenAVS!B110","v":"20K1501"},{"$f":"CenAVS!C110","v":"NI"},0,{"$f":"CenAVS!F110","v":294.25},0,{"$f":"IF($U$16=1,SUM($O$13:$P$13)*$M$17,0)","v":0},0,{"$f":"IF($U$27=1,SUM($O$24:$P$24)*$M$28,0)","v":0},0,null,null,null,null,null,"  500 - 1500",null,"20K1301"]
[null,{"$f":"ListAVS!$B$78&\" [kg] ** \"","v":"Hmotnost čela vč. 2x hmotnost úchytky [kg] ** "},null,null,null,null,null,null,null,{"$f":"IF($I17=0,\" \",IF(SUM($I12,$I15)=0,$N$38,\" \"))&IF($M17>0,IF($I12>0,$N$39,\" \"),\" \")","v":"  "},null,null,null,"K1201",{"$f":"IF($V$10=FALSE,IF($I$16>R12,IF($I$16<S12,1,0),0),0)","v":0},{"$f":"IF($V$10=TRUE,IF($I$16>V12,IF($I$16<W12,2,0),0),0)","v":0},null,{"$f":"IF(U16=1,749.99,649)","v":749.99},{"$f":"IF(U16=1,1150,1000)","v":1150},null,null,{"$f":"IF(U16=1,1499.99,1299.99)","v":1499.99},{"$f":"IF(U16=1,2300,2000)","v":2300},null,null,null,null,null,null,null,null,null,null,null,null,null,null,null,null,null,null,"  800 - 1800",null,"20K1501"]
[null,{"$f":"ListAVS!$B$292","v":"Výpočet hmotnosti"},null,{"$f":"ListAVS!$B$80&\" TS [mm] \"","v":"Síla čela TS [mm] "},null,null,null,null,null,{"$f":"IF(I17=0,\" \",IF(AND(I12=0, I13=0),\" ● \"&ListAVS!$B$128,\" \"))&IF(I17=0,\" \",IF(AND(I12=0, I13<14), \" min. 14 mm\", \" \"))","v":"  "},null,null,null,"K1301",{"$f":"IF($V$10=FALSE,IF($I$16>R13,IF($I$16<S13,1,0),0),0)","v":0},{"$f":"IF($V$10=TRUE,IF($I$16>V13,IF($I$16<W13,2,0),0),0)","v":0},null,{"$f":"IF(U16=1,1149.99,999.99)","v":1149.99},{"$f":"IF(U16=1,1801,1601)","v":1801},null,null,{"$f":"IF(U16=1,2299.99,1999.99)","v":2299.9899999999998},{"$f":"IF(U16=1,3601,3201)","v":3601}]
[null,null,null,{"$f":"ListAVS!$B$83&\" [kg] \"","v":"Hmotnost úchytky [kg] "},null,null,null,null,null,{"$f":"IF(I17=0, \" \", IF(AND(I12=0, U16=1, I14=0), \" ● \"&ListAVS!$B$129,\" \"))","v":" "},null,null,null,null,null,null,null,null,null,null,null,null,null,null,null,null,null,null,null,null,null,null,null,null,null,null,null,null,null,null,null,{"$f":"\"  \"&ListAVS!$B$86&\" LF \"","v":"  Ukazatel výkonnosti LF "},null,"TIP-ON"]
[null,null,null,{"$f":"ListAVS!$B$79&\" [kg] \"","v":"Vypočtená hmotnost čela [kg] "},null,null,null,null,{"$f":"$U$75","v":0},{"$f":"IF(AND($I17>0,$I15>0,$I12=0,$M17>0), $N$39,\" \")&IF(AND(I17>0, I12=0, AA72=3, $J$4=0), $N$37, \" \")","v":"  "},null,null,null,null,null,null,null,null,null,null,{"$f":"IF(U16=1,$V$51,IF(U16=2,$V$52,$V$53))","v":"Standard"},null,null,null,null,null,{"$f":"CenAVS!A112","v":"Sym. zdvihací mechanizmus HK-XS, TIP-ON"},{"$f":"CenAVS!B112","v":"20K1101T"},{"$f":"CenAVS!C112","v":"NI"},0,{"$f":"CenAVS!F112","v":316.58999999999997},0,{"$f":"IF($U$16=2,SUM($O$11:$P$11)*$M$17,0)","v":0},0,{"$f":"IF($U$27=2,SUM($O$22:$P$22)*$M$28,0)","v":0},0,null,null,null,null,null,null,null,{"$f":"ListAVS!$B$84","v":"Zdvihací mechanizmus"}]
[null,{"$f":"ListAVS!$B$88&\" *      \"","v":"Druhý zdvihač *      "},null,null,{"$f":"ListAVS!$B$86&\" LF \"","v":"Ukazatel výkonnosti LF "},null,null,null,{"$f":"IF(I12>0,I11*I12,I11*I15)","v":0},{"$f":"IF(U16=1,IF($I16>3600,$N$42,IF($I16>1800.5,IF(V10=FALSE,$N$43,\" \"),\" \")),IF($I16>3200,$N$42,IF($I16>1600.5,IF(V10=FALSE,$N$43,\" \"),\" \")))","v":" "},null,null,null,null,null,null,null,null,null,null,1,null,null,null,null,null,{"$f":"CenAVS!A113","v":"Sym. zdvihací mechanizmus HK-XS, TIP-ON"},{"$f":"CenAVS!B113","v":"20K1301T"},{"$f":"CenAVS!C113","v":"NI"},0,{"$f":"CenAVS!F113","v":316.58999999999997},0,{"$f":"IF($U$16=2,SUM($O$12:$P$12)*$M$17,0)","v":0},0,{"$f":"IF($U$27=2,SUM($O$23:$P$23)*$M$28,0)","v":0},0,null,null,null,null,null,"  180 - 800",null,"20K1101T"]
[null,{"$f":"ListAVS!$B$71&\" \"","v":"Počet skříněk "},null,null,null,null,null,null,null,null,null,null,{"$f":"IF(OR($I10*$I11*$T17=0,$I11<236,$I11>600, AND(I12=0, I13<14), SUM(O11:P14)=0),0,IF($I16>1800,IF($V10=FALSE,0,$I17),$I17))","v":0},null,null,null,null,null,"hmot =",{"$f":"IF(I12>0,I12,I15)","v":0},{"$f":"IF(SUM(I12,I15)=0,0,IF(I12>0,1,2))","v":0},"zadaná / vypočtená",null,null,null,null,{"$f":"CenAVS!A114","v":"Sym. zdvihací mechanizmus HK-XS, TIP-ON"},{"$f":"CenAVS!B114","v":"20K1501T"},{"$f":"CenAVS!C114","v":"NI"},0,{"$f":"CenAVS!F114","v":316.58999999999997},0,{"$f":"IF($U$16=2,SUM($O$13:$P$13)*$M$17,0)","v":0},0,{"$f":"IF($U$27=2,SUM($O$24:$P$24)*$M$28,0)","v":0},0,null,null,null,null,null,"  500 - 1200",null,"20K1301T"]
[null,{"$f":"IF(M17>0,IF(U17=0,\" \",IF(U17=1,$N$54,$N$55)),\" \")&IF(M17>0,IF(U17=0,\" \",IF(U17=1,$N$56,$N$57)),\" \")","v":"  "},null,null,null,null,null,null,null,null,null,null,null,null,null,null,null,null,null,null,null,null,null,null,null,null,null,null,null,null,null,null,null,null,null,null,null,null,null,null,null,"  800 - 1600",null,"20K1501T"]
[null,null,null,null,null,null,null,null,null,null,null,null,null,null,null,null,null,null,null,null,null,null,null,null,null,null,{"$f":"CenAVS!A116","v":"Boční čep HK-XS na korpus"},{"$f":"CenAVS!B116","v":"20K5101"},{"$f":"CenAVS!C116","v":"NI"},0,{"$f":"CenAVS!F116","v":18.63},0,{"$f":"IF($P$49=2,SUM(AG$9:AG$17),0)","v":0},0,{"$f":"IF($P$49=2,SUM(AI$9:AI$17),0)","v":0},0]
[null,{"$f":"\"▼ \"&ListAVS!$B$317","v":"▼ Způsob otvírání"},null,{"$f":"IF($M$28>0, ListAVS!$B$37&\": \", \" \")","v":" "},{"$f":"IF($AI$9>0,\"11\",IF($AI$10>0,\"13\",IF($AI$11>0,\"15\",IF($AI$15>0,\"11T\",IF($AI$16>0,\"13T\", IF($AI$17>0, \"15T\", \" \"))))))","v":" "},{"$f":"ListAVS!$B$64&\" B\"","v":"Korpus B"},null,null,null,null,null,null,null,null,null,null,null,"jeden zdvihač",null,null,null,"dva zdvihače",null,null,"Závěsy",null,{"$f":"CenAVS!A117","v":"Boční čep HK-XS na korpus, EXPANDO"},{"$f":"CenAVS!B117","v":"20K51E1"},{"$f":"CenAVS!C117","v":"NI"},0,{"$f":"CenAVS!F117","v":25.16},0,{"$f":"IF($P$49=1,SUM(AG$9:AG$17),0)","v":0},0,{"$f":"IF($P$49=1,SUM(AI$9:AI$17),0)","v":0},0,null,null,null,null,null,{"$f":"ListAVS!$B$86&\" LF = \"&ListAVS!$B$75&\" KH [mm] x \"&ListAVS!$B$78&\" [kg]\"","v":"Ukazatel výkonnosti LF = Výška korpusu KH [mm] x Hmotnost čela vč. 2x hmotnost úchytky [kg]"}]
[null,{"$f":"ListAVS!$B$74&\" KB [mm] \"","v":"Šířka korpusu KB [mm] "},null,null,null,null,null,null,null,{"$f":"IF($I21=0,\" \",IF($I21<220,\" min. 220mm\",IF($I21>1800,\" max. 1 800mm\",\" \")))&IF(I28>0,IF(I21=0,\"● \"&ListAVS!$B$128,\" \"),\" \")","v":"  "},null,null,null,"zdvih B","jeden","dva",null,"min","max","š.max","š. min",false]
[null,{"$f":"ListAVS!$B$75&\" KH [mm] \"","v":"Výška korpusu KH [mm] "},null,null,null,null,null,null,null,{"$f":"IF($I22=0,\" \",IF($I22<236,\" min. 236 mm\",IF($I22>600,\" max. 600 mm\",\" \")))&IF(I28>0,IF(I22=0,\"● \"&ListAVS!$B$128,\" \"),\" \")","v":"  "},null,null,null,"K1101",{"$f":"IF($V$21=FALSE,IF($I$27>R22,IF($I$27<S22,1,0),0),0)","v":0},{"$f":"IF($V$21=TRUE,IF($I$27>V22,IF($I$27<W22,2,0),0),0)","v":0},null,{"$f":"IF(U27=1,199.99,179.99)","v":199.99},{"$f":"IF(U27=1,750,650)","v":750},null,null,{"$f":"IF(U27=1, 399.99, 359.99)","v":399.99},{"$f":"IF(U27=1,1500,1300)","v":1500},null,{"$f":"IF(OR(I21>1199,I27>2699),4,IF(OR(I21>899,I27>1799),3,2))","v":2},null,{"$f":"CenAVS!A119","v":"Čelní kování HK-XS"},{"$f":"CenAVS!B119","v":"20K4101"},{"$f":"CenAVS!C119","v":"NI"},0,{"$f":"CenAVS!F119","v":12.67},0,{"$f":"IF($Q$49=2,SUM(AG$9:AG$17),0)","v":0},0,{"$f":"IF($Q$49=2,SUM(AI$9:AI$17),0)","v":0},0]
[null,{"$f":"ListAVS!$B$78&\" [kg] ** \"","v":"Hmotnost čela vč. 2x hmotnost úchytky [kg] ** "},null,null,null,null,null,null,null,{"$f":"IF($I28=0,\" \",IF(SUM($I23,$I26)=0,$N$38,\" \"))&IF($M28>0,IF($I23>0,$N$39,\" \"),\" \")","v":"  "},null,null,null,"K1201",{"$f":"IF($V$21=FALSE,IF($I$27>R23,IF($I$27<S23,1,0),0),0)","v":0},{"$f":"IF($V$21=TRUE,IF($I$27>V23,IF($I$27<W23,2,0),0),0)","v":0},null,{"$f":"IF(U27=1,749.99, 649.99)","v":749.99},{"$f":"IF(U27=1,1150,1000)","v":1150},null,null,{"$f":"IF(U27=1,1499.99,1299.99)","v":1499.99},{"$f":"IF(U27=1,2300,2000)","v":2300},null,null,null,{"$f":"CenAVS!A120","v":"Čelní kování HK-XS, EXPANDO"},{"$f":"CenAVS!B120","v":"20K41E1"},{"$f":"CenAVS!C120","v":"NI"},0,{"$f":"CenAVS!F120","v":19.190000000000001},0,{"$f":"IF($Q$49=1,SUM(AG$9:AG$17),0)","v":0},0,{"$f":"IF($Q$49=1,SUM(AI$9:AI$17),0)","v":0},0,null,null,null,null,null,{"$f":"ListAVS!$B$353","v":"V případě použití po obou stranách se faktor výkonnosti zdvojnásobí."}]
[null,{"$f":"ListAVS!$B$292","v":"Výpočet hmotnosti"},null,{"$f":"ListAVS!$B$80&\" TS [mm] \"","v":"Síla čela TS [mm] "},null,null,null,null,null,{"$f":"IF(I28=0,\" \",IF(AND(I23=0, I24=0),\" ● \"&ListAVS!$B$128,\" \"))&IF(I28=0,\" \",IF(AND(I23=0, I24<14), \" min. 14 mm\", \" \"))","v":"  "},null,null,null,"K1301",{"$f":"IF($V$21=FALSE,IF($I$27>R24,IF($I$27<S24,1,0),0),0)","v":0},{"$f":"IF($V$21=TRUE,IF($I$27>V24,IF($I$27<W24,2,0),0),0)","v":0},null,{"$f":"IF(U27=1,1149.99, 999.99)","v":1149.99},{"$f":"IF(U27=1,1801,1601)","v":1801},null,null,{"$f":"IF(U27=1,2299.99, 1999.99)","v":2299.9899999999998},{"$f":"IF(U27=1,3601,3201)","v":3601}]
[null,null,null,{"$f":"ListAVS!$B$83&\" [kg] \"","v":"Hmotnost úchytky [kg] "},null,null,null,null,null,{"$f":"IF(I28=0, \" \", IF(AND(I23=0, U27=1, I25=0), \" ● \"&ListAVS!$B$129,\" \"))","v":" "}]
[null,null,null,{"$f":"ListAVS!$B$79&\" [kg] \"","v":"Vypočtená hmotnost čela [kg] "},null,null,null,null,{"$f":"$U$84","v":0},{"$f":"IF(AND($I28>0,$I26>0,$I23=0,$M28>0), $N$39,\" \")&IF(AND(I28>0, I23=0, AA72=3, $J$4=0), $N$37, \" \")","v":"  "},null,null,null,null,null,null,null,null,null,null,{"$f":"IF(U27=1,$V$51,IF(U27=2,$V$52,$V$53))","v":"Standard"},null,null,null,null,null,{"$f":"CenAVS!A121","v":"Čelní kování HK-XS pro úzké alurámečky"},{"$f":"CenAVS!B121","v":"20K4101A"},{"$f":"CenAVS!C121","v":"NI"},0,{"$f":"CenAVS!F121","v":85.33},0,null,0,null,0]
[null,{"$f":"ListAVS!$B$88&\" *      \"","v":"Druhý zdvihač *      "},null,null,{"$f":"ListAVS!$B$86&\" LF \"","v":"Ukazatel výkonnosti LF "},null,null,null,{"$f":"IF(I23>0,I22*I23,I22*I26)","v":0},{"$f":"IF(U27=1,IF($I27>3600,$N$42,IF($I27>1800.5,IF(V21=FALSE,$N$43,\" \"),\" \")),IF($I27>3200,$N$42,IF($I27>1600.5,IF(V21=FALSE,$N$43,\" \"),\" \")))","v":" "},null,null,null,null,null,null,null,null,null,null,1]
[null,{"$f":"ListAVS!$B$71&\" \"","v":"Počet skříněk "},null,null,null,null,null,null,null,null,null,null,{"$f":"IF(OR($I21*$I22*$T28=0,$I22<236,$I22>600, AND(I23=0, I24<14), SUM(O22:P25)=0),0,IF($I27>1800,IF($V21=FALSE,0,$I28),$I28))","v":0},null,null,null,null,null,"hmot =",{"$f":"IF(I23>0,I23,I26)","v":0},{"$f":"IF(SUM(I23,I26)=0,0,IF(I23>0,1,2))","v":0},"zadaná / vypočtená",null,null,null,null,{"$f":"CenAVS!A148","v":"CLIP top BLUMOTION, 110°, naložený"},{"$f":"CenAVS!B148","v":" 71B3550"},{"$f":"CenAVS!C148","v":"NI"},0,{"$f":"CenAVS!F148","v":106.31},0,{"$f":"IF(AND($U$16=1, $N$49=2), SUM($Y$11)*$M$17, 0)","v":0},0,{"$f":"IF(AND($U$27=1, $N$49=2), SUM($Y$22)*$M$28, 0)","v":0},0]
[null,{"$f":"IF(M28>0,IF(U28=0,\" \",IF(U28=1,$N$54,$N$55)),\" \")&IF(M28>0,IF(U28=0,\" \",IF(U28=1,$N$56,$N$57)),\" \")","v":"  "},null,null,null,null,null,null,null,null,null,null,null,null,null,null,null,null,null,null,null,null,null,null,null,null,{"$f":"CenAVS!A149","v":"CLIP top BLUMOTION, 110°, nalož. EXPANDO"},{"$f":"CenAVS!B149","v":" 71B358E"},{"$f":"CenAVS!C149","v":"NI"},0,{"$f":"CenAVS!F149","v":97.81},0,{"$f":"IF(AND($U$16=1, $N$49=1), SUM($Y$11)*$M$17, 0)","v":0},0,{"$f":"IF(AND($U$27=1, $N$49=1), SUM($Y$22)*$M$28, 0)","v":0},0]
[null,null,null,null,null,null,null,null,null,null,null,null,null,null,null,null,null,null,null,null,null,null,null,null,null,null,{"$f":"CenAVS!A150","v":"CLIP top závěs 110°, bez pružiny, naložený"},{"$f":"CenAVS!B150","v":" 70T3550.TL"},{"$f":"CenAVS!C150","v":"NI"},0,{"$f":"CenAVS!F150","v":50.28},0,{"$f":"IF(AND($U$16=2, $N$49=2), SUM($Y$11)*$M$17, 0)","v":0},0,{"$f":"IF(AND($U$27=2, $N$49=2), SUM($Y$22)*$M$28, 0)","v":0},0]
[null,null,null,null,null,null,null,null,null,null,null,null,null,null,null,null,null,null,{"$f":"IF($T$31=FALSE,2,1)","v":2},false,null," - Zdroj",null,null,null,null,{"$f":"CenAVS!A151","v":"CLIP top závěs 110°, bez pružiny, nalož. EXPANDO"},{"$f":"CenAVS!B151","v":" 70T358E.TL"},{"$f":"CenAVS!C151","v":"NI"},0,{"$f":"CenAVS!F151","v":50.44},0,{"$f":"IF(AND($U$16=2, $N$49=1), SUM($Y$11)*$M$17, 0)","v":0},0,{"$f":"IF(AND($U$27=2, $N$49=1), SUM($Y$22)*$M$28, 0)","v":0},0]
[null,null,null,null,null,null,null,null,null,null,null,null,null,null,null,null,null,null,null,null,null,null,null,null,null,null,{"$f":"CenAVS!A152","v":"CLIP top BLUMOTION, závěs pro tenká dvířka"},{"$f":"CenAVS!B152","v":" 71B453T"},{"$f":"CenAVS!C152","v":"NI"},{"$f":"SUM(AG32,AI32)","v":0},{"$f":"CenAVS!F152","v":375.38},{"$f":"AD32*AE32","v":0},null,0,null,0]
[null,null,null,null,null,null,null,null,null,null,null,null,null,null,null,null,null,null,null,null,null,null,null,null,null,null,{"$f":"CenAVS!A153","v":"CLIP top závěs pro tenká dvířka, bez pružiny"},{"$f":"CenAVS!B153","v":" 70T453T.TL"},{"$f":"CenAVS!C153","v":"NI"},0,{"$f":"CenAVS!F153","v":321.95999999999998},0,null,0,null,0]
[null," *",{"$f":"ListAVS!$B$353","v":"V případě použití po obou stranách se faktor výkonnosti zdvojnásobí."},null,null,null,null,null,null,null,null,null,null,null,null,null,null,null,null,null,null,null,null,null,null,null,{"$f":"CenAVS!A154","v":"CLIP top BLUMOTION, závěs pro úzké alu, naložený"},{"$f":"CenAVS!B154","v":" 71B950A"},{"$f":"CenAVS!C154","v":"NI"},0,{"$f":"CenAVS!F154","v":180.71},0,null,{"$f":"$AE34*AG34","v":0},null,{"$f":"$AE34*AI34","v":0}]
[null,null,null,null,null,null,null,null,null,null,null,null,null,null,null,null,null,null,null,null,null,null,null,null,null,null,{"$f":"CenAVS!A22","v":"Závěs CLIP top pro alurámečky"},{"$f":"CenAVS!B22","v":"72T550A.TL"},{"$f":"CenAVS!C22","v":"NI"},0,{"$f":"CenAVS!F22","v":77.180000000000007},0,null,{"$f":"$AE35*AG35","v":0},null,{"$f":"$AE35*AI35","v":0}]
[null," **",{"$f":"ListAVS!$B$186","v":"Pokud znáte hmotnost a nechcete využít výpočtu hmotnosti"},null,null,null,null,null,null,null,null,null,null,null,null,null,null,null,null,null,null,null,null,null,null,null,{"$f":"CenAVS!A123","v":"Samořezný vrut do alurámečků"},{"$f":"CenAVS!B123","v":"660.0950"},{"$f":"CenAVS!C123","v":"NI"},0,{"$f":"CenAVS!F123","v":1.7},0,null,{"$f":"$AE36*AG36","v":0},null,{"$f":"$AE36*AI36","v":0}]
[null,null,null,null,null,null,null,null,null,null,null,null,null,{"$f":"\" \"&ListAVS!$B$117","v":" Vyplňte nahoře objemovou hmotnost "},null,null,null,null,null,null,null,null,null,null,null,null,{"$f":"CenAVS!A158","v":"EXPANDO T, samostatná hmoždinka"},{"$f":"CenAVS!B158","v":"70T4532T"},{"$f":"CenAVS!C158","v":"DGR"},0,{"$f":"CenAVS!F158","v":63.33},0,null,{"$f":"$AE37*AG37","v":0},null,{"$f":"$AE37*AI37","v":0}]
[null,null,null,null,null,null,null,null,null,null,null,null,null,{"$f":"\" \"&ListAVS!$B$115","v":" Zadejte hmotnost nebo vyplňte všechny buňky"}]
[null,null,null,null,null,null,null,null,null,null,null,null,null,{"$f":"\"◄ \"&ListAVS!$B$111","v":"◄ hodnota bude použita pro výpočet LF"},null,null,null,null,null,null,null,null,null,null,null,null,{"$f":"CenAVS!A166","v":"CLIP top přímá mont. podložka, ocel, 0 mm"},{"$f":"CenAVS!B166","v":"175H3100"},{"$f":"CenAVS!C166","v":"NI"},{"$f":"SUM(AG39,AI39)","v":0},{"$f":"CenAVS!F166","v":16.98},{"$f":"AD39*AE39","v":0},{"$f":"IF($O$49=2, $Y$11*$M$17, 0)","v":0},{"$f":"$AE39*AG39","v":0},{"$f":"IF($O$49=2, $Y$22*$M$28, 0)","v":0},{"$f":"$AE39*AI39","v":0}]
[null,null,null,null,null,null,null,null,null,null,null,null,null,{"$f":"\" * \"&ListAVS!$B$127","v":" * Doplňte hodnoty"},null,null,null,null,null,null,null,null,null,null,null,null,{"$f":"CenAVS!A167","v":"CLIP top přímá mont. podložka, ocel, EXP, 0 mm"},{"$f":"CenAVS!B167","v":"177H3100E "},{"$f":"CenAVS!C167","v":"NI"},{"$f":"SUM(AG40,AI40)","v":0},{"$f":"CenAVS!F167","v":17.07},{"$f":"AD40*AE40","v":0},{"$f":"IF($O$49=1, $Y$11*$M$17, 0)","v":0},{"$f":"$AE40*AG40","v":0},{"$f":"IF($O$49=1, $Y$22*$M$28, 0)","v":0},{"$f":"$AE40*AI40","v":0}]
[]
[null,null,null,null,null,null,null,null,null,null,null,null,"korpus   A",{"$f":"IF($U$16=1,\" max. 3.600! \"&ListAVS!$B$121,\" max. 3.200! \"&ListAVS!$B$121)","v":" max. 3.600! Upravte hmotnost nebo výšku"},null,null,null,null,null,null,null,null,null,null,null,null,{"$f":"CenAVS!A185","v":"TIP-ON, krátká verze, šedá"},{"$f":"CenAVS!B185","v":"956.1004"},{"$f":"CenAVS!C185","v":"PG"},{"$f":"SUM(AG42,AI42)","v":0},{"$f":"CenAVS!F185","v":116.95},{"$f":"AD42*AE42","v":0},{"$f":"IF(AND($T$49<3, $U$16=2), $M$17, 0)","v":0},{"$f":"$AE42*AG42","v":0},{"$f":"IF(AND($T$49<3, $U$27=2), $M$28, 0)","v":0},{"$f":"$AE42*AI42","v":0}]
[null,{"$f":"IF($I$11>600,\"***\",IF($I$22>600,\"***\",\" \"))","v":" "},null,null,null,null,null,null,null,null,null,null,null,{"$f":"IF($U$16=1,\" max. 1.800! \"&ListAVS!$B$131,\" max. 1.600! \"&ListAVS!$B$131)","v":" max. 1.800! Přidejte druhý zdvihač"},null,null,null,null,null,null,null,null,null,null,null,null,{"$f":"CenAVS!A186","v":"TIP-ON, krátká verze, hedvábně bílá"},{"$f":"CenAVS!B186","v":"956.1004"},{"$f":"CenAVS!C186","v":"SW"},{"$f":"SUM(AG43,AI43)","v":0},{"$f":"CenAVS!F186","v":116.95},{"$f":"AD43*AE43","v":0},{"$f":"IF(AND($T$49=3, $U$16=2), $M$17, 0)","v":0},{"$f":"$AE43*AG43","v":0},{"$f":"IF(AND($T$49=3, $U$27=2), $M$28, 0)","v":0},{"$f":"$AE43*AI43","v":0}]
[null,null,null,null,null,null,null,null,null,null,null,null,null,null,null,null,null,null,null,null,null,null,null,null,null,null,{"$f":"CenAVS!A187","v":"TIP-ON, krátká verze, karbon černá"},{"$f":"CenAVS!B187","v":"956.1004"},{"$f":"CenAVS!C187","v":"CS"},{"$f":"SUM(AG44,AI44)","v":0},{"$f":"CenAVS!F187","v":116.95},{"$f":"AD44*AE44","v":0},null,{"$f":"$AE44*AG44","v":0},null,{"$f":"$AE44*AI44","v":0}]
[null,null,null,null,null,null,null,null,null,null,null,null,"korpus   B",{"$f":"IF($U$27=1,\" max. 3.600! \"&ListAVS!$B$121,\" max. 3.200! \"&ListAVS!$B$121)","v":" max. 3.600! Upravte hmotnost nebo výšku"}]
[null,null,null,null,null,null,null,null,null,null,null,null,null,{"$f":"IF($U$27=1,\" max. 1.800! \"&ListAVS!$B$131,\" max. 1.600! \"&ListAVS!$B$131)","v":" max. 1.800! Přidejte druhý zdvihač"}]
[]
[]
[null,null,null,null,null,null,null,null,null,null,null,null,null,{"$f":"HKXS!$P$26","v":1},{"$f":"HKXS!Q26","v":1},{"$f":"HKXS!$O$26","v":1},{"$f":"HKXS!$N$26","v":1},null,null,{"$f":"MenuAVS!$P$28","v":1}]
[null,null,null,null,null,null,null,null,null,null,null,null,null,"záv.","podl","čep","čelní kov.",null,null,"barva",null,"provedení",null,null,null,null,null,null,null,null,{"$f":"ListAVS!$B$61&\" \"","v":"Cena celkem bez DPH "},{"$f":"SUM(AF9:AF47)","v":0},null,{"$f":"SUM(AH9:AH49)","v":0},null,{"$f":"SUM(AJ9:AJ49)","v":0}]
[null,null,null,null,null,null,null,null,null,null,null,null,null,null,"1 =",{"$f":"ListAVS!$B$142","v":"Expando"},null,null,null,{"$f":"ListAVS!$B$145","v":"Světle šedá (HGR)"},null,"Standard"]
[null,null,null,null,null,null,null,null,null,null,null,null,null,null,"2 =",{"$f":"ListAVS!$B$143","v":"na vruty"},null,null,null,{"$f":"ListAVS!$B$147","v":"Hedvábně bílá (SW)"},null,"TIP-ON"]
[]
[null,null,null,null,null,null,null,null,null,null,null,null,null,{"$f":"ListAVS!B187&\". \"","v":"Pro určení typu zdvihače bude použita zadaná hmotnost. "}]
[null,null,null,null,null,null,null,null,null,null,null,null,null,{"$f":"ListAVS!B188&\". \"","v":"Pro určení typu zdvihače bude použita vypočtená hmotnost. "}]
[null,null,null,null,null,null,null,null,null,null,null,null,null,{"$f":"ListAVS!B189","v":"Chcete-li použít vypočtenou hmotnost, smažte zadanou hodnotu"}]
[null,null,null,null,null,null,null,null,null,null,null,null,null,{"$f":"ListAVS!B190","v":"Chcete-li použít zadanou hmotnost, zadejte ji do políčka"}]
[]
[]
[]
[]
[]
[]
[null,null,null,null,null,null,null,null,null,null,null,null,null,{"$f":"ListAVS!$B$73","v":"Výpočet hmotnosti čel"}]
[null,null,null,null,null,null,null,null,null,null,null,null,null,null,null,null,{"$f":"ListAVS!$B$179&\"  \"","v":"Provedení čel  "},null,null,null,{"$f":"J4","v":0},{"$f":"IF(AA72=3,IF(U65=0,Z67,\" \"),IF(U65>0,Z68,\" \"))","v":" "},null,null,null,{"$f":"IF($AA$72=1,$AA$73,IF($AA$72=2,$AA$74,$AA$75&\" \"&$Z$75&\"kg/m3\"))&\" A~\"&$U$73&\"/ B~\"&$U$82&\"mm\"","v":"MDF (760 kg/m3) A~0/ B~0mm"}]
[null,null,null,null,null,null,null,null,null,null,null,null,null,null,null,null,{"$f":"IF($AA$72<>3,$Z$66,\" \")&\"      \"","v":" Změnit hodnoty můžete v Úvodu plánování      "},null,null,null,null,null,null,null,null,{"$f":"\" \"&ListAVS!$B$410","v":" Změnit hodnoty můžete v Úvodu plánování"}]
[null,null,null,null,null,null,null,null,null,null,null,null,null,null,null,null,null,null,null,null,null,null,null,null,null,{"$f":"\" \"&ListAVS!$B$244&\" [kg/m3]\"","v":" Zadejte objemovou hmotnost  [kg/m3]"}]
[null,null,null,null,null,null,null,null,null,null,null,null,null,null,null,null,null,null,null,null,null,null,null,null,null,{"$f":"\" \"&ListAVS!$B$240&\" '\"&ListAVS!$B$92&\"'\"","v":" Hodnota platí jen pro volbu 'Jiné - volitelná hustota'"}]
[]
[null,null,null,null,null,null,null,null,null,null,null,null,null,null,null,null,null,null,{"$f":"E9","v":" "}]
[null,null,null,null,null,null,null,null,null,null,null,null,null,{"$f":"ListAVS!$B$74&\" KB [mm]       \"","v":"Šířka korpusu KB [mm]       "},null,null,null,null,null,null,{"$f":"I10","v":0},null,null,null,null,{"$f":"U71*U72*U73","v":0},null,null,null,null,3.51,"alu"]
[null,null,null,null,null,null,null,null,null,null,null,null,null,{"$f":"ListAVS!$B$75&\" KH [mm]       \"","v":"Výška korpusu KH [mm]       "},null,null,null,null,null,null,{"$f":"I11","v":0},null,null,null,null,{"$f":"Z71/1000000000","v":0},1,null,null,null,"váha alu",{"$f":"SUM(U71*2,U72*2)*AE71/10000","v":0},3]
[null,null,null,null,null,null,null,null,null,null,null,null,null,{"$f":"ListAVS!$B$80&\" TS [mm] \"","v":"Síla čela TS [mm] "},null,null,null,null,null,null,{"$f":"I13","v":0},{"$f":"IF(SUM(U71,U72)=0,\" \",IF(U73=0,\" ● \"&ListAVS!$B$128,\" \"))","v":" "},null,null,null,{"$f":"MenuAVS!$C$31","v":760},{"$f":"ListAVS!$B$90&\" (\"&Z73&\" kg/m3)\"","v":"MDF (760 kg/m3)"},null,null,null,10,{"$f":"SUM($U$71*$U$72*$AE73)/1000000","v":0},{"$f":"ListAVS!$B$93","v":"Alurámečky s 4mm sklem"}]
[null,null,null,null,null,null,null,null,null,null,null,null,null,{"$f":"ListAVS!$B$83&\" [kg] \"","v":"Hmotnost úchytky [kg] "},null,null,null,null,null,null,{"$f":"I14","v":0},{"$f":"IF($U$16=2,\" \",IF(SUM(U71,U72)=0,\" \",IF(U74=0,\" ● \"&ListAVS!$B$129,\" \")))","v":" "},null,null,null,{"$f":"MenuAVS!$C$32","v":680},{"$f":"ListAVS!$B$91&\" (\"&Z74&\" kg/m3)\"","v":"Dřevotříska (680 kg/m3)"},null,null,null,15,{"$f":"SUM($U$71*$U$72*$AE74)/1000000","v":0},{"$f":"ListAVS!$B$94","v":"Alurámečky s 5mm sklem"}]
[null,null,null,null,null,null,null,null,null,null,null,null,null,{"$f":"ListAVS!$B$79&\" [kg] \"","v":"Vypočtená hmotnost čela [kg] "},null,null,null,null,null,null,{"$f":"IF(Y75=0,0,Y75+2*U74)","v":0},null,null,null,{"$f":"IF(U71*U72*U73=0,0,IF(AA72=1,Z72*Z73,IF(AA72=2,Z72*Z74,Z72*Z75)))","v":0},{"$f":"$U$65","v":0},{"$f":"ListAVS!$B$92","v":"Jiné - volitelná hustota"},null,null,null,{"$f":"2.5*$U$65","v":0},{"$f":"SUM($U$71*$U$72*$AE75)/1000000","v":0},{"$f":"ListAVS!$B$95","v":"Alurámečky s jiným sklem"}]
[null,null,null,null,null,null,null,null,null,null,null,null,null,null,null,{"$f":"IF((U16=2)*AND(U75>0)*AND(U74>0),$Z$93&\" \"&$Z$94,IF((U16<>2)*AND(U75>0),IF(U74=0,$Z$92,\" \"),\" \"))","v":" "},null,null,null,null,null,null,null,null,null,null,null,null,null,null,{"$f":"IF(AG72=1,AF73,IF(AG72=2,AF74,AF75))","v":0}]
[]
[]
[null,null,null,null,null,null,null,null,null,null,null,null,null,null,null,null,null,null,{"$f":"E20","v":" "}]
[null,null,null,null,null,null,null,null,null,null,null,null,null,{"$f":"ListAVS!$B$74&\" KB [mm]       \"","v":"Šířka korpusu KB [mm]       "},null,null,null,null,null,null,{"$f":"I21","v":0},null,null,null,null,{"$f":"U80*U81*U82","v":0},null,null,null,null,{"$f":"AE71","v":3.51},"alu"]
[null,null,null,null,null,null,null,null,null,null,null,null,null,{"$f":"ListAVS!$B$75&\" KH [mm]       \"","v":"Výška korpusu KH [mm]       "},null,null,null,null,null,null,{"$f":"I22","v":0},null,null,null,null,{"$f":"Z80/1000000000","v":0},{"$f":"AA72","v":1},null,null,null,"váha alu",{"$f":"SUM(U80*2,U81*2)*AE80/10000","v":0},{"$f":"AG72","v":3}]
[null,null,null,null,null,null,null,null,null,null,null,null,null,{"$f":"ListAVS!$B$80&\" TS [mm] \"","v":"Síla čela TS [mm] "},null,null,null,null,null,null,{"$f":"I24","v":0},{"$f":"IF(SUM(U80,U81)=0,\" \",IF(U82=0,\" ● \"&ListAVS!$B$128,\" \"))","v":" "},null,null,null,{"$f":"$Z$73","v":760},{"$f":"$AA$73","v":"MDF (760 kg/m3)"},null,null,null,{"$f":"AE73","v":10},{"$f":"SUM($U$80*$U$81*$AE82)/1000000","v":0},{"$f":"ListAVS!$B$93","v":"Alurámečky s 4mm sklem"}]
[null,null,null,null,null,null,null,null,null,null,null,null,null,{"$f":"ListAVS!$B$83&\" [kg] \"","v":"Hmotnost úchytky [kg] "},null,null,null,null,null,null,{"$f":"I25","v":0},{"$f":"IF($U$27=2,\" \",IF(SUM(U80,U81)=0,\" \",IF(U83=0,\" ● \"&ListAVS!$B$129,\" \")))","v":" "},null,null,null,{"$f":"$Z$74","v":680},{"$f":"$AA$74","v":"Dřevotříska (680 kg/m3)"},null,null,null,{"$f":"AE74","v":15},{"$f":"SUM($U$80*$U$81*$AE83)/1000000","v":0},{"$f":"ListAVS!$B$94","v":"Alurámečky s 5mm sklem"}]
[null,null,null,null,null,null,null,null,null,null,null,null,null,{"$f":"ListAVS!$B$79&\" [kg] \"","v":"Vypočtená hmotnost čela [kg] "},null,null,null,null,null,null,{"$f":"IF(Y84=0,0,Y84+2*U83)","v":0},null,null,null,{"$f":"IF(U80*U81*U82=0,0,IF(AA81=1,Z81*Z82,IF(AA81=2,Z81*Z83,Z81*Z84)))","v":0},{"$f":"$Z$75","v":0},{"$f":"$AA$75","v":"Jiné - volitelná hustota"},null,null,null,{"$f":"AE75","v":0},{"$f":"SUM($U$80*$U$81*$AE84)/1000000","v":0},{"$f":"ListAVS!$B$95","v":"Alurámečky s jiným sklem"}]
[null,null,null,null,null,null,null,null,null,null,null,null,null,null,null,{"$f":"IF((U27=2)*AND(U84>0)*AND(U83>0),$Z$93&\" \"&$Z$94,IF((U27<>2)*AND(U84>0),IF(U83=0,$Z$92,\" \"),\" \"))","v":" "},null,null,null,null,null,null,null,null,null,null,null,null,null,null,{"$f":"IF(AG81=1,AF82,IF(AG81=2,AF83,AF84))","v":0}]
[]
[]
[]
[]
[]
[]
[null,null,null,null,null,null,null,null,null,null,null,null,null,null,null,null,null,null,null,null,null,null,null,null,null,{"$f":"ListAVS!$B$102&\"!\"","v":"Není započtena hmotnost úchytky!"}]
[null,null,null,null,null,null,null,null,null,null,null,null,null,null,null,null,null,null,null,null,null,null,null,null,null,{"$f":"ListAVS!B103","v":"Opravdu máte úchytku na TIP-ON?"}]
[null,null,null,null,null,null,null,null,null,null,null,null,null,null,null,null,null,null,null,null,null,null,null,null,null,{"$f":"ListAVS!B104&\"!\"","v":"Jestli ne, smažte hmotnost úchytky.!"}]
[]
[]
[]
[]
[]
[null,"      AVENTOS HK-XS"]
[]
[null,{"$f":"ListAVS!$B$302","v":"Potřebný zdvihač se určí pomocí ukazatele výkonnosti."}]
[null,{"$f":"ListAVS!$B$340","v":"Ukazatel výkonnosti závisí na hmotnosti čela (včetně dvojnásobné hmotnosti úchytky) a na výšce korpusu."}]
[]
[]
[null,null,null,{"$f":"ListAVS!$B$86&\" = \"","v":"Ukazatel výkonnosti = "},{"$f":"ListAVS!$B$341&\" [kg]\"","v":"výška korpusu (KH) [mm] x hmotnost čela včetně dvojnásobné hmotnosti úchytky [kg]"}]
[]
[null,{"$f":"ListAVS!$B$354","v":"V případě využití třetího zdvihače můžete zvýšit ukazatel výkonnosti a tudíž hmotnost čílka o 50%."}]
[null,{"$f":"\"(\"&ListAVS!$B$355&\")\"","v":"(Platí jen pro zdvihač 20K2E00)"}]
[null,{"$f":"ListAVS!$B$182","v":"Přídavný třetí zdvihač může být použit pouze s plným čelem!"}]
[]
[null,{"$f":"ListAVS!$B$311","v":"Pokud znáte hmotnost čela, můžete ji zadat, jinak použijte \"Výpočet hmotnosti\"."}]
[null,{"$f":"ListAVS!$B$312","v":"V tabulce má přednost zadaná hodnota. Chcete-li použít vypočtenou hmotnost, smažte zadanou hodnotu."}]
[]
[]
[null,{"$f":"ListAVS!$B$305","v":"Chcete-li změnit barvu krytek, přejděte na \"Úvod plánování\""}]
[]
[]
[]
[]
[]
[null,null,null,null,null,null,null,null,null,null,null,{"$f":"ListAVS!$B$167","v":"Zpět"}]

{"sheet":"HKXSwa","index":33,"n_rows":129,"n_cols":44,"rows_kept":129,"cut":false,"hidden":false,"merged":[[16,41,16,42],[17,41,17,42],[19,41,20,45],[9,41,9,42],[10,41,10,42],[11,41,11,42],[13,41,14,42],[15,41,15,42],[0,46,0,54],[8,5,8,8],[4,5,4,9],[3,10,4,11],[6,1,6,3],[6,7,6,8],[7,41,8,42],[7,43,8,43],[1,1,1,3],[16,1,16,7],[8,1,8,2],[8,17,8,18],[8,21,8,22],[9,1,9,7],[9,21,9,22],[10,1,10,7],[11,1,11,7],[15,1,15,3],[15,4,15,7],[12,1,14,2],[12,3,12,7],[13,3,13,7],[14,3,14,7],[19,1,19,2],[19,5,19,8],[19,17,19,18],[19,21,19,22],[21,1,21,7],[22,1,22,7],[20,1,20,7],[20,21,20,22],[22,41,23,45],[70,13,70,19],[83,13,83,19],[26,1,26,3],[26,4,26,7],[27,1,27,7],[23,1,25,2],[23,3,23,7],[24,3,24,7],[25,3,25,7],[30,19,30,20],[98,0,146,0],[105,4,105,11],[41,12,42,12],[44,12,45,12],[88,19,88,20],[72,13,72,19],[73,13,73,19],[74,13,74,19],[78,18,78,20],[79,13,79,19],[71,13,71,19],[80,13,80,19],[81,13,81,19],[82,13,82,19],[65,16,65,20],[69,18,69,20]]}
[]
[null,"AVENTOS HK-XS",null,null,null,null,null,null,null,null,null,null,null,null,"rámeček",null,null,null,3,null,null,null,null,null,null,null,null,null,null,null,null,null,null,null,null,null,null,null,{"$f":"ListAVS!$B$152","v":"Jdi na"}]
[]
[null,{"$f":"ListAVS!$B$20&\" ***\"","v":"Široký alurámeček ***"},null,null,null,{"$f":"ListAVS!$B$179&\"  \"","v":"Provedení čel  "},null,null,null,null,{"$f":"V65","v":" "},null,null,null,1,null,null,null,{"$f":"\" \"&ListAVS!$B$41&\" A \"","v":" Cena za korpus A "},null,null,null,null,null,null,null,null,null,null,null,null,null,null,null,null,null,null,null," Úvod plánování"]
[null,null,null,null,null,{"$f":"IF($AG$71<>3,$Z$66,\" \")&\"      \"","v":" Změnit hodnoty můžete v Úvodu plánování      "},null,null,null,null,null,null,null,null,"A = 1",null,null,null,{"$f":"\" \"&ListAVS!$B$41&\" B \"","v":" Cena za korpus B "},null,null,null,null,null,null,null,null,null,null,null,null,null,null,null,null,null,null,null,{"$f":"\" \"&ListAVS!$B$154","v":" Nápověda"}]
[null,null,null,null,null,null,null,null,null,null,null,null,null,null,"B = 2",null,null,null,{"$f":"\" \"&ListAVS!$B$61","v":" Cena celkem bez DPH"}]
[null,{"$f":"ListAVS!$B$51&\":   \"","v":"Cena kování:   "},null,null,null,null,null,{"$f":"IF($S$2=1, $AH$50, IF($S$2=2, $AJ$50, IF($S$2=3, $AF$50,0)))","v":0},null,null,null,null,null,null,null,null,null,null,null,null,null,null,null,null,null,null,{"$f":"$B$2","v":"AVENTOS HK-XS"},{"$f":"D5","v":0},null,null,null,null,null,null,null,null,null,null,{"$f":"\" \"&ListAVS!$B$159","v":" Doplňky"}]
[null,null,null,null,null,null,null,null,null,null,null,null,null,null,null,null,null,null,null,null,null,null,null,null,null,null,{"$f":"ListAVS!D52","v":0},{"$f":"ListAVS!$B$53","v":"Číslo artiklu"},{"$f":"ListAVS!D54","v":0},{"$f":"ListAVS!D56","v":0},{"$f":"ListAVS!D58","v":0},{"$f":"ListAVS!D59","v":0},"A","Cena","B","Cena",null,null,null,null,null,{"$f":"\"  \"&ListAVS!$B$86&\" LF \"","v":"  Ukazatel výkonnosti LF "},null,{"$f":"ListAVS!$B$84","v":"Zdvihací mechanizmus"}]
[null,{"$f":"\"▼ \"&ListAVS!$B$317","v":"▼ Způsob otvírání"},null,{"$f":"IF($M$17>0, ListAVS!$B$37&\": \", \" \")","v":" "},{"$f":"IF($AG$9>0,\"11\",IF($AG$10>0,\"13\",IF($AG$11>0,\"15\",IF($AG$15>0,\"11T\",IF($AG$16>0,\"13T\", IF($AG$17>0, \"15T\", \" \"))))))","v":" "},{"$f":"ListAVS!$B$64&\" A\"","v":"Korpus A"},null,null,null,null,null,null,null,null,null,null,null,"jeden zdvihač",null,null,null,"dva zdvihače",null,null,"Závěsy",null,{"$f":"CenAVS!A108","v":"Symetrický zdvihací mechanizmus HK-XS"},{"$f":"CenAVS!B108","v":"20K1101"},{"$f":"CenAVS!C108","v":"NI"},{"$f":"SUM(AG9,AI9)","v":0},{"$f":"CenAVS!F108","v":294.25},{"$f":"AD9*AE9","v":0},{"$f":"IF($U$16=1,SUM($O$11:$P$11)*$M$17,0)","v":0},{"$f":"$AE9*AG9","v":0},{"$f":"IF($U$27=1,SUM($O$22:$P$22)*$M$28,0)","v":0},{"$f":"$AE9*AI9","v":0},null,null,{"$f":"\" \"&ListAVS!$B$156","v":" Přehled korpusů"}]
[null,{"$f":"ListAVS!$B$74&\" KB [mm] \"","v":"Šířka korpusu KB [mm] "},null,null,null,null,null,null,null,{"$f":"IF($I10=0,\" \",IF($I10<220,\" min. 220mm\",IF($I10>1800,\" max. 1 800mm\",\" \")))&IF(I17>0,IF(I10=0,\"● \"&ListAVS!$B$128,\" \"),\" \")","v":"  "},null,null,null,"zdvih A","jeden","dva",null,"min","max","š.max","š. min",false,null,null,null,null,{"$f":"CenAVS!A109","v":"Symetrický zdvihací mechanizmus HK-XS"},{"$f":"CenAVS!B109","v":"20K1301"},{"$f":"CenAVS!C109","v":"NI"},0,{"$f":"CenAVS!F109","v":294.25},{"$f":"AD10*AE10","v":0},{"$f":"IF($U$16=1,SUM($O$12:$P$12)*$M$17,0)","v":0},{"$f":"$AE10*AG10","v":0},{"$f":"IF($U$27=1,SUM($O$23:$P$23)*$M$28,0)","v":0},{"$f":"$AE10*AI10","v":0},null,null,{"$f":"\" \"&ListAVS!$B$157","v":" Objednávka"},null,null,"  200 - 1000",null,"20K1101"]
[null,{"$f":"ListAVS!$B$75&\" KH [mm]  \"","v":"Výška korpusu KH [mm]  "},null,null,null,null,null,null,null,{"$f":"IF($I11=0,\" \",IF($I11<236,\" min. 236mm\",IF($I11>600,\" max. 600 mm\",\" \")))&IF(I17>0,IF(I11=0,\"● \"&ListAVS!$B$128,\" \"),\" \")","v":"  "},null,null,null,"K1101",{"$f":"IF($V$10=FALSE,IF($I$16>R11,IF($I$16<S11,1,0),0),0)","v":0},{"$f":"IF($V$10=TRUE,IF($I$16>V11,IF($I$16<W11,2,0),0),0)","v":0},null,{"$f":"IF(U16=1,199.99,179.99)","v":199.99},{"$f":"IF(U16=1,750,650)","v":750},null,null,{"$f":"IF(U16=1,399.99,359.99)","v":399.99},{"$f":"IF(U16=1,1500,1300)","v":1500},null,{"$f":"IF(OR(I10>1199,I16>2699),4,IF(OR(I10>899,I16>1799),3,2))","v":2},null,{"$f":"CenAVS!A110","v":"Symetrický zdvihací mechanizmus HK-XS"},{"$f":"CenAVS!B110","v":"20K1501"},{"$f":"CenAVS!C110","v":"NI"},0,{"$f":"CenAVS!F110","v":294.25},0,{"$f":"IF($U$16=1,SUM($O$13:$P$13)*$M$17,0)","v":0},0,{"$f":"IF($U$27=1,SUM($O$24:$P$24)*$M$28,0)","v":0},0,null,null,null,null,null,"  500 - 1500",null,"20K1301"]
[null,{"$f":"ListAVS!$B$78&\" [kg] ** \"","v":"Hmotnost čela vč. 2x hmotnost úchytky [kg] ** "},null,null,null,null,null,null,null,{"$f":"IF($I17=0,\" \",IF(AND($I12=0, AG71=3, $J$4=0), $N$37, \" \"))&IF($M17>0,IF($I12>0,$N$39,\" \"),\" \")","v":"  "},null,null,null,"K1201",{"$f":"IF($V$10=FALSE,IF($I$16>R12,IF($I$16<S12,1,0),0),0)","v":0},{"$f":"IF($V$10=TRUE,IF($I$16>V12,IF($I$16<W12,2,0),0),0)","v":0},null,{"$f":"IF(U16=1,749.99,649)","v":749.99},{"$f":"IF(U16=1,1150,1000)","v":1150},null,null,{"$f":"IF(U16=1,1499.99,1299.99)","v":1499.99},{"$f":"IF(U16=1,2300,2000)","v":2300},null,null,null,null,null,null,null,null,null,null,null,null,null,null,null,null,null,null,"  800 - 1800",null,"20K1501"]
[null,{"$f":"ListAVS!$B$292","v":"Výpočet hmotnosti"},null,{"$f":"ListAVS!$B$80&\" TS [mm] \"","v":"Síla čela TS [mm] "},null,null,null,null,null,null,null,null,null,"K1301",{"$f":"IF($V$10=FALSE,IF($I$16>R13,IF($I$16<S13,1,0),0),0)","v":0},{"$f":"IF($V$10=TRUE,IF($I$16>V13,IF($I$16<W13,2,0),0),0)","v":0},null,{"$f":"IF(U16=1,1149.99,999.99)","v":1149.99},{"$f":"IF(U16=1,1801,1601)","v":1801},null,null,{"$f":"IF(U16=1,2299.99,1999.99)","v":2299.9899999999998},{"$f":"IF(U16=1,3601,3201)","v":3601}]
[null,null,null,{"$f":"ListAVS!$B$83&\" [kg] \"","v":"Hmotnost úchytky [kg] "},null,null,null,null,null,{"$f":"IF(I17=0, \" \", IF(AND(I12=0, U16=1, I14=0), \" ● \"&ListAVS!$B$129,\" \"))","v":" "},null,null,null,null,null,null,null,null,null,null,null,null,null,null,null,null,null,null,null,null,null,null,null,null,null,null,null,null,null,null,null,{"$f":"\"  \"&ListAVS!$B$86&\" LF \"","v":"  Ukazatel výkonnosti LF "},null,"TIP-ON"]
[null,null,null,{"$f":"ListAVS!$B$79&\" [kg] \"","v":"Vypočtená hmotnost čela [kg] "},null,null,null,null,{"$f":"$U$75","v":0},{"$f":"IF(AND($I17>0,$I15>0,$I12=0,$M17>0), $N$39,\" \")&IF(AND(I17>0, I12=0, AB72=3, $J$4=0), $N$37, \" \")","v":"  "},null,null,null,null,null,null,null,null,null,null,{"$f":"IF(U16=1,$V$51,IF(U16=2,$V$52,$V$53))","v":"Standard"},null,null,null,null,null,{"$f":"CenAVS!A112","v":"Sym. zdvihací mechanizmus HK-XS, TIP-ON"},{"$f":"CenAVS!B112","v":"20K1101T"},{"$f":"CenAVS!C112","v":"NI"},0,{"$f":"CenAVS!F112","v":316.58999999999997},0,{"$f":"IF($U$16=2,SUM($O$11:$P$11)*$M$17,0)","v":0},0,{"$f":"IF($U$27=2,SUM($O$22:$P$22)*$M$28,0)","v":0},0,null,null,null,null,null,null,null,{"$f":"ListAVS!$B$84","v":"Zdvihací mechanizmus"}]
[null,{"$f":"ListAVS!$B$88&\" *      \"","v":"Druhý zdvihač *      "},null,null,{"$f":"ListAVS!$B$86&\" LF \"","v":"Ukazatel výkonnosti LF "},null,null,null,{"$f":"IF(I12>0,I11*I12,I11*I15)","v":0},{"$f":"IF(U16=1,IF($I16>3600,$N$42,IF($I16>1800.5,IF(V10=FALSE,$N$43,\" \"),\" \")),IF($I16>3200,$N$42,IF($I16>1600.5,IF(V10=FALSE,$N$43,\" \"),\" \")))","v":" "},null,null,null,null,null,null,null,null,null,null,1,null,null,null,null,null,{"$f":"CenAVS!A113","v":"Sym. zdvihací mechanizmus HK-XS, TIP-ON"},{"$f":"CenAVS!B113","v":"20K1301T"},{"$f":"CenAVS!C113","v":"NI"},0,{"$f":"CenAVS!F113","v":316.58999999999997},0,{"$f":"IF($U$16=2,SUM($O$12:$P$12)*$M$17,0)","v":0},0,{"$f":"IF($U$27=2,SUM($O$23:$P$23)*$M$28,0)","v":0},0,null,null,null,null,null,"  180 - 800",null,"20K1101T"]
[null,{"$f":"ListAVS!$B$71&\" \"","v":"Počet skříněk "},null,null,null,null,null,null,null,null,null,null,{"$f":"IF(OR($I10*$I11*$T17=0,$I11<236,$I11>600,SUM(O11:P14)=0),0,IF($I16>1800,IF($V10=FALSE,0,$I17),$I17))","v":0},null,null,null,null,null,"hmot =",{"$f":"IF(I12>0,I12,I15)","v":0},{"$f":"IF(SUM(I12,I15)=0,0,IF(I12>0,1,2))","v":0},"zadaná / vypočtená",null,null,null,null,{"$f":"CenAVS!A114","v":"Sym. zdvihací mechanizmus HK-XS, TIP-ON"},{"$f":"CenAVS!B114","v":"20K1501T"},{"$f":"CenAVS!C114","v":"NI"},0,{"$f":"CenAVS!F114","v":316.58999999999997},0,{"$f":"IF($U$16=2,SUM($O$13:$P$13)*$M$17,0)","v":0},0,{"$f":"IF($U$27=2,SUM($O$24:$P$24)*$M$28,0)","v":0},0,null,null,null,null,null,"  500 - 1200",null,"20K1301T"]
[null,{"$f":"IF(M17>0,IF(U17=0,\" \",IF(U17=1,$N$54,$N$55)),\" \")&IF(M17>0,IF(U17=0,\" \",IF(U17=1,$N$56,$N$57)),\" \")","v":"  "},null,null,null,null,null,null,null,null,null,null,null,null,null,null,null,null,null,null,null,null,null,null,null,null,null,null,null,null,null,null,null,null,null,null,null,null,null,null,null,"  800 - 1600",null,"20K1501T"]
[null,null,null,null,null,null,null,null,null,null,null,null,null,null,null,null,null,null,null,null,null,null,null,null,null,null,{"$f":"CenAVS!A116","v":"Boční čep HK-XS na korpus"},{"$f":"CenAVS!B116","v":"20K5101"},{"$f":"CenAVS!C116","v":"NI"},0,{"$f":"CenAVS!F116","v":18.63},0,{"$f":"IF($P$49=2,SUM(AG$9:AG$17),0)","v":0},0,{"$f":"IF($P$49=2,SUM(AI$9:AI$17),0)","v":0},0]
[null,{"$f":"\"▼ \"&ListAVS!$B$317","v":"▼ Způsob otvírání"},null,{"$f":"IF($M$28>0, ListAVS!$B$37&\": \", \" \")","v":" "},{"$f":"IF($AI$9>0,\"11\",IF($AI$10>0,\"13\",IF($AI$11>0,\"15\",IF($AI$15>0,\"11T\",IF($AI$16>0,\"13T\", IF($AI$17>0, \"15T\", \" \"))))))","v":" "},{"$f":"ListAVS!$B$64&\" B\"","v":"Korpus B"},null,null,null,null,null,null,null,null,null,null,null,"jeden zdvihač",null,null,null,"dva zdvihače",null,null,"Závěsy",null,{"$f":"CenAVS!A117","v":"Boční čep HK-XS na korpus, EXPANDO"},{"$f":"CenAVS!B117","v":"20K51E1"},{"$f":"CenAVS!C117","v":"NI"},0,{"$f":"CenAVS!F117","v":25.16},0,{"$f":"IF($P$49=1,SUM(AG$9:AG$17),0)","v":0},0,{"$f":"IF($P$49=1,SUM(AI$9:AI$17),0)","v":0},0,null,null,null,null,null,{"$f":"ListAVS!$B$86&\" LF = \"&ListAVS!$B$75&\" KH [mm] x \"&ListAVS!$B$78&\" [kg]\"","v":"Ukazatel výkonnosti LF = Výška korpusu KH [mm] x Hmotnost čela vč. 2x hmotnost úchytky [kg]"}]
[null,{"$f":"ListAVS!$B$74&\" KB [mm] \"","v":"Šířka korpusu KB [mm] "},null,null,null,null,null,null,null,{"$f":"IF($I21=0,\" \",IF($I21<220,\" min. 220mm\",IF($I21>1800,\" max. 1 800mm\",\" \")))&IF(I28>0,IF(I21=0,\"● \"&ListAVS!$B$128,\" \"),\" \")","v":"  "},null,null,null,"zdvih B","jeden","dva",null,"min","max","š.max","š. min",false]
[null,{"$f":"ListAVS!$B$75&\" KH [mm] \"","v":"Výška korpusu KH [mm] "},null,null,null,null,null,null,null,{"$f":"IF($I22=0,\" \",IF($I22<236,\" min. 236mm\",IF($I22>600,\" max. 600 mm\",\" \")))&IF(I28>0,IF(I22=0,\"● \"&ListAVS!$B$128,\" \"),\" \")","v":"  "},null,null,null,"K1101",{"$f":"IF($V$21=FALSE,IF($I$27>R22,IF($I$27<S22,1,0),0),0)","v":0},{"$f":"IF($V$21=TRUE,IF($I$27>V22,IF($I$27<W22,2,0),0),0)","v":0},null,{"$f":"IF(U27=1,199.99,179.99)","v":199.99},{"$f":"IF(U27=1,750,650)","v":750},null,null,{"$f":"IF(U27=1, 399.99, 359.99)","v":399.99},{"$f":"IF(U27=1,1500,1300)","v":1500},null,{"$f":"IF(OR(I21>1199,I27>2699),4,IF(OR(I21>899,I27>1799),3,2))","v":2},null,{"$f":"CenAVS!A119","v":"Čelní kování HK-XS"},{"$f":"CenAVS!B119","v":"20K4101"},{"$f":"CenAVS!C119","v":"NI"},0,{"$f":"CenAVS!F119","v":12.67},0,{"$f":"SUM(AG$9:AG$17)","v":0},0,{"$f":"SUM(AI$9:AI$17)","v":0},0]
[null,{"$f":"ListAVS!$B$78&\" [kg] ** \"","v":"Hmotnost čela vč. 2x hmotnost úchytky [kg] ** "},null,null,null,null,null,null,null,{"$f":"IF($I28=0,\" \",IF(AND($I23=0, AG80=3, $J$4=0), $N$37, \" \"))&IF($M28>0,IF($I23>0,$N$39,\" \"),\" \")","v":"  "},null,null,null,"K1201",{"$f":"IF($V$21=FALSE,IF($I$27>R23,IF($I$27<S23,1,0),0),0)","v":0},{"$f":"IF($V$21=TRUE,IF($I$27>V23,IF($I$27<W23,2,0),0),0)","v":0},null,{"$f":"IF(U27=1,749.99, 649.99)","v":749.99},{"$f":"IF(U27=1,1150,1000)","v":1150},null,null,{"$f":"IF(U27=1,1499.99,1299.99)","v":1499.99},{"$f":"IF(U27=1,2300,2000)","v":2300},null,null,null,{"$f":"CenAVS!A120","v":"Čelní kování HK-XS, EXPANDO"},{"$f":"CenAVS!B120","v":"20K41E1"},{"$f":"CenAVS!C120","v":"NI"},0,{"$f":"CenAVS!F120","v":19.190000000000001},0,null,0,null,0,null,null,null,null,null,{"$f":"ListAVS!$B$353","v":"V případě použití po obou stranách se faktor výkonnosti zdvojnásobí."}]
[null,{"$f":"ListAVS!$B$292","v":"Výpočet hmotnosti"},null,{"$f":"ListAVS!$B$80&\" TS [mm] \"","v":"Síla čela TS [mm] "},null,null,null,null,null,null,null,null,null,"K1301",{"$f":"IF($V$21=FALSE,IF($I$27>R24,IF($I$27<S24,1,0),0),0)","v":0},{"$f":"IF($V$21=TRUE,IF($I$27>V24,IF($I$27<W24,2,0),0),0)","v":0},null,{"$f":"IF(U27=1,1149.99, 999.99)","v":1149.99},{"$f":"IF(U27=1,1801,1601)","v":1801},null,null,{"$f":"IF(U27=1,2299.99, 1999.99)","v":2299.9899999999998},{"$f":"IF(U27=1,3601,3201)","v":3601}]
[null,null,null,{"$f":"ListAVS!$B$83&\" [kg] \"","v":"Hmotnost úchytky [kg] "},null,null,null,null,null,{"$f":"IF(I28=0, \" \", IF(AND(I23=0, U27=1, I25=0), \" ● \"&ListAVS!$B$129,\" \"))","v":" "}]
[null,null,null,{"$f":"ListAVS!$B$79&\" [kg] \"","v":"Vypočtená hmotnost čela [kg] "},null,null,null,null,{"$f":"$U$84","v":0},{"$f":"IF(AND($I28>0,$I26>0,$I23=0,$M28>0), $N$39,\" \")&IF(AND(I28>0, I23=0, AB72=3, $J$4=0), $N$37, \" \")","v":"  "},null,null,null,null,null,null,null,null,null,null,{"$f":"IF(U27=1,$V$51,IF(U27=2,$V$52,$V$53))","v":"Standard"},null,null,null,null,null,{"$f":"CenAVS!A121","v":"Čelní kování HK-XS pro úzké alurámečky"},{"$f":"CenAVS!B121","v":"20K4101A"},{"$f":"CenAVS!C121","v":"NI"},0,{"$f":"CenAVS!F121","v":85.33},0,null,0,null,0]
[null,{"$f":"ListAVS!$B$88&\" *      \"","v":"Druhý zdvihač *      "},null,null,{"$f":"ListAVS!$B$86&\" LF \"","v":"Ukazatel výkonnosti LF "},null,null,null,{"$f":"IF(I23>0,I22*I23,I22*I26)","v":0},{"$f":"IF(U27=1,IF($I27>3600,$N$42,IF($I27>1800.5,IF(V21=FALSE,$N$43,\" \"),\" \")),IF($I27>3200,$N$42,IF($I27>1600.5,IF(V21=FALSE,$N$43,\" \"),\" \")))","v":" "},null,null,null,null,null,null,null,null,null,null,1]
[null,{"$f":"ListAVS!$B$71&\" \"","v":"Počet skříněk "},null,null,null,null,null,null,null,null,null,null,{"$f":"IF(OR($I21*$I22*$T28=0,$I22<236,$I22>600,SUM(O22:P25)=0),0,IF($I27>1800,IF($V21=FALSE,0,$I28),$I28))","v":0},null,null,null,null,null,"hmot =",{"$f":"IF(I23>0,I23,I26)","v":0},{"$f":"IF(SUM(I23,I26)=0,0,IF(I23>0,1,2))","v":0},"zadaná / vypočtená",null,null,null,null,{"$f":"CenAVS!A148","v":"CLIP top BLUMOTION, 110°, naložený"},{"$f":"CenAVS!B148","v":" 71B3550"},{"$f":"CenAVS!C148","v":"NI"},0,{"$f":"CenAVS!F148","v":106.31},0,{"$f":"IF($U$16=1, SUM($Y$11)*$M$17, 0)","v":0},0,{"$f":"IF($U$27=1, SUM($Y$22)*$M$28, 0)","v":0},0]
[null,{"$f":"IF(M28>0,IF(U28=0,\" \",IF(U28=1,$N$54,$N$55)),\" \")&IF(M28>0,IF(U28=0,\" \",IF(U28=1,$N$56,$N$57)),\" \")","v":"  "},null,null,null,null,null,null,null,null,null,null,null,null,null,null,null,null,null,null,null,null,null,null,null,null,{"$f":"CenAVS!A149","v":"CLIP top BLUMOTION, 110°, nalož. EXPANDO"},{"$f":"CenAVS!B149","v":" 71B358E"},{"$f":"CenAVS!C149","v":"NI"},0,{"$f":"CenAVS!F149","v":97.81},0,null,0,null,0]
[null,null,null,null,null,null,null,null,null,null,null,null,null,null,null,null,null,null,null,null,null,null,null,null,null,null,{"$f":"CenAVS!A150","v":"CLIP top závěs 110°, bez pružiny, naložený"},{"$f":"CenAVS!B150","v":" 70T3550.TL"},{"$f":"CenAVS!C150","v":"NI"},0,{"$f":"CenAVS!F150","v":50.28},0,{"$f":"IF($U$16=2, SUM($Y$11)*$M$17, 0)","v":0},0,{"$f":"IF($U$27=2, SUM($Y$22)*$M$28, 0)","v":0},0]
[null,null,null,null,null,null,null,null,null,null,null,null,null,null,null,null,null,null,{"$f":"IF($T$31=FALSE,2,1)","v":2},false,null," - Zdroj",null,null,null,null,{"$f":"CenAVS!A151","v":"CLIP top závěs 110°, bez pružiny, nalož. EXPANDO"},{"$f":"CenAVS!B151","v":" 70T358E.TL"},{"$f":"CenAVS!C151","v":"NI"},0,{"$f":"CenAVS!F151","v":50.44},0,null,0,null,0]
[null,null,null,null,null,null,null,null,null,null,null,null,null,null,null,null,null,null,null,null,null,null,null,null,null,null,{"$f":"CenAVS!A152","v":"CLIP top BLUMOTION, závěs pro tenká dvířka"},{"$f":"CenAVS!B152","v":" 71B453T"},{"$f":"CenAVS!C152","v":"NI"},0,{"$f":"CenAVS!F152","v":375.38},0,null,0,null,0]
[null,null,null,null,null,null,null,null,null,null,null,null,null,null,null,null,null,null,null,null,null,null,null,null,null,null,{"$f":"CenAVS!A153","v":"CLIP top závěs pro tenká dvířka, bez pružiny"},{"$f":"CenAVS!B153","v":" 70T453T.TL"},{"$f":"CenAVS!C153","v":"NI"},0,{"$f":"CenAVS!F153","v":321.95999999999998},0,null,0,null,0]
[null,null,{"$f":"\"* \"&ListAVS!$B$353","v":"* V případě použití po obou stranách se faktor výkonnosti zdvojnásobí."},null,null,null,null,null,null,null,null,null,null,null,null,null,null,null,null,null,null,null,null,null,null,null,{"$f":"CenAVS!A154","v":"CLIP top BLUMOTION, závěs pro úzké alu, naložený"},{"$f":"CenAVS!B154","v":" 71B950A"},{"$f":"CenAVS!C154","v":"NI"},{"$f":"SUM(AG34,AI34)","v":0},{"$f":"CenAVS!F154","v":180.71},{"$f":"AD34*AE34","v":0},null,{"$f":"$AE34*AG34","v":0},null,{"$f":"$AE34*AI34","v":0}]
[null,null,{"$f":"\"** \"&ListAVS!$B$186","v":"** Pokud znáte hmotnost a nechcete využít výpočtu hmotnosti"},null,null,null,null,null,null,null,null,null,null,null,null,null,null,null,null,null,null,null,null,null,null,null,{"$f":"CenAVS!A22","v":"Závěs CLIP top pro alurámečky"},{"$f":"CenAVS!B22","v":"72T550A.TL"},{"$f":"CenAVS!C22","v":"NI"},{"$f":"SUM(AG35,AI35)","v":0},{"$f":"CenAVS!F22","v":77.180000000000007},{"$f":"AD35*AE35","v":0},null,{"$f":"$AE35*AG35","v":0},null,{"$f":"$AE35*AI35","v":0}]
[null,null,{"$f":"\"*** \"&ListAVS!$B$403","v":"*** Vyberte typ alurámečku!"},null,null,null,null,null,null,null,null,null,null,null,null,null,null,null,null,null,null,null,null,null,null,null,{"$f":"CenAVS!A123","v":"Samořezný vrut do alurámečků"},{"$f":"CenAVS!B123","v":"660.0950"},{"$f":"CenAVS!C123","v":"NI"},{"$f":"SUM(AG36,AI36)","v":0},{"$f":"CenAVS!F123","v":1.7},{"$f":"AD36*AE36","v":0},{"$f":"SUM(AG22, AG28, AG30)*2","v":0},{"$f":"$AE36*AG36","v":0},{"$f":"SUM(AI22, AI28, AI30)*2","v":0},{"$f":"$AE36*AI36","v":0}]
[null,null,{"$f":"\"      \"&ListAVS!$B$404","v":"      Více informací k výběru alurámečků v Nápovědě"},null,null,null,null,null,null,null,null,null,null,{"$f":"\" \"&ListAVS!$B$116","v":" Zadejte hmotnost nebo vyplňte nahoře sílu skla"},null,null,null,null,null,null,null,null,null,null,null,null,{"$f":"CenAVS!A158","v":"EXPANDO T, samostatná hmoždinka"},{"$f":"CenAVS!B158","v":"70T4532T"},{"$f":"CenAVS!C158","v":"DGR"},{"$f":"SUM(AG37,AI37)","v":0},{"$f":"CenAVS!F158","v":63.33},{"$f":"AD37*AE37","v":0},null,{"$f":"$AE37*AG37","v":0},null,{"$f":"$AE37*AI37","v":0}]
[null,null,null,null,null,null,null,null,null,null,null,null,null,{"$f":"\" \"&ListAVS!$B$115","v":" Zadejte hmotnost nebo vyplňte všechny buňky"}]
[null,null,null,null,null,null,null,null,null,null,null,null,null,{"$f":"\"◄ \"&ListAVS!$B$111","v":"◄ hodnota bude použita pro výpočet LF"},null,null,null,null,null,null,null,null,null,null,null,null,{"$f":"CenAVS!A166","v":"CLIP top přímá mont. podložka, ocel, 0 mm"},{"$f":"CenAVS!B166","v":"175H3100"},{"$f":"CenAVS!C166","v":"NI"},{"$f":"SUM(AG39,AI39)","v":0},{"$f":"CenAVS!F166","v":16.98},{"$f":"AD39*AE39","v":0},{"$f":"IF($O$49=2, $Y$11*$M$17, 0)","v":0},{"$f":"$AE39*AG39","v":0},{"$f":"IF($O$49=2, $Y$22*$M$28, 0)","v":0},{"$f":"$AE39*AI39","v":0}]
[null,null,null,null,null,null,null,null,null,null,null,null,null,{"$f":"\" * \"&ListAVS!$B$127","v":" * Doplňte hodnoty"},null,null,null,null,null,null,null,null,null,null,null,null,{"$f":"CenAVS!A167","v":"CLIP top přímá mont. podložka, ocel, EXP, 0 mm"},{"$f":"CenAVS!B167","v":"177H3100E "},{"$f":"CenAVS!C167","v":"NI"},{"$f":"SUM(AG40,AI40)","v":0},{"$f":"CenAVS!F167","v":17.07},{"$f":"AD40*AE40","v":0},{"$f":"IF($O$49=1, $Y$11*$M$17, 0)","v":0},{"$f":"$AE40*AG40","v":0},{"$f":"IF($O$49=1, $Y$22*$M$28, 0)","v":0},{"$f":"$AE40*AI40","v":0}]
[]
[null,null,null,null,null,null,null,null,null,null,null,null,"korpus   A",{"$f":"IF(U16=1,\" max. 3.600! \"&ListAVS!$B$121,\" max. 3.200! \"&ListAVS!$B$121)","v":" max. 3.600! Upravte hmotnost nebo výšku"},null,null,null,null,null,null,null,null,null,null,null,null,{"$f":"CenAVS!A185","v":"TIP-ON, krátká verze, šedá"},{"$f":"CenAVS!B185","v":"956.1004"},{"$f":"CenAVS!C185","v":"PG"},{"$f":"SUM(AG42,AI42)","v":0},{"$f":"CenAVS!F185","v":116.95},{"$f":"AD42*AE42","v":0},{"$f":"IF(AND($T$49<3, $U$16=2), $M$17, 0)","v":0},{"$f":"$AE42*AG42","v":0},{"$f":"IF(AND($T$49<3, $U$27=2), $M$28, 0)","v":0},{"$f":"$AE42*AI42","v":0}]
[null,{"$f":"IF($I$11>600,\"***\",IF($I$22>600,\"***\",\" \"))","v":" "},null,null,null,null,null,null,null,null,null,null,null,{"$f":"IF(U16=1,\" max. 1.800! \"&ListAVS!$B$131,\" max. 1.600! \"&ListAVS!$B$131)","v":" max. 1.800! Přidejte druhý zdvihač"},null,null,null,null,null,null,null,null,null,null,null,null,{"$f":"CenAVS!A186","v":"TIP-ON, krátká verze, hedvábně bílá"},{"$f":"CenAVS!B186","v":"956.1004"},{"$f":"CenAVS!C186","v":"SW"},{"$f":"SUM(AG43,AI43)","v":0},{"$f":"CenAVS!F186","v":116.95},{"$f":"AD43*AE43","v":0},{"$f":"IF(AND($T$49=3, $U$16=2), $M$17, 0)","v":0},{"$f":"$AE43*AG43","v":0},{"$f":"IF(AND($T$49=3, $U$27=2), $M$28, 0)","v":0},{"$f":"$AE43*AI43","v":0}]
[null,null,null,null,null,null,null,null,null,null,null,null,null,null,null,null,null,null,null,null,null,null,null,null,null,null,{"$f":"CenAVS!A187","v":"TIP-ON, krátká verze, karbon černá"},{"$f":"CenAVS!B187","v":"956.1004"},{"$f":"CenAVS!C187","v":"CS"},{"$f":"SUM(AG44,AI44)","v":0},{"$f":"CenAVS!F187","v":116.95},{"$f":"AD44*AE44","v":0},null,{"$f":"$AE44*AG44","v":0},null,{"$f":"$AE44*AI44","v":0}]
[null,null,null,null,null,null,null,null,null,null,null,null,"korpus   B",{"$f":"IF(U27=1,\" max. 3.600! \"&ListAVS!$B$121,\" max. 3.200! \"&ListAVS!$B$121)","v":" max. 3.600! Upravte hmotnost nebo výšku"}]
[null,null,null,null,null,null,null,null,null,null,null,null,null,{"$f":"IF(U27=1,\" max. 1.800! \"&ListAVS!$B$131,\" max. 1.600! \"&ListAVS!$B$131)","v":" max. 1.800! Přidejte druhý zdvihač"}]
[]
[]
[null,null,null,null,null,null,null,null,null,null,null,null,null,2,{"$f":"HKXS!Q26","v":1},{"$f":"HKXS!$O$26","v":1},2,null,null,{"$f":"MenuAVS!$P$28","v":1}]
[null,null,null,null,null,null,null,null,null,null,null,null,null,"záv.","podl","čep","čelní kov.",null,null,"barva",null,"provedení",null,null,null,null,null,null,null,null,{"$f":"ListAVS!$B$61&\" \"","v":"Cena celkem bez DPH "},{"$f":"SUM(AF9:AF47)","v":0},null,{"$f":"SUM(AH9:AH49)","v":0},null,{"$f":"SUM(AJ9:AJ49)","v":0}]
[null,null,null,null,null,null,null,null,null,null,null,null,null,null,"1 =",{"$f":"ListAVS!$B$142","v":"Expando"},null,null,null,{"$f":"ListAVS!$B$145","v":"Světle šedá (HGR)"},null,"Standard"]
[null,null,null,null,null,null,null,null,null,null,null,null,null,null,"2 =",{"$f":"ListAVS!$B$143","v":"na vruty"},null,null,null,{"$f":"ListAVS!$B$147","v":"Hedvábně bílá (SW)"},null,"TIP-ON"]
[]
[null,null,null,null,null,null,null,null,null,null,null,null,null,{"$f":"ListAVS!B187&\". \"","v":"Pro určení typu zdvihače bude použita zadaná hmotnost. "}]
[null,null,null,null,null,null,null,null,null,null,null,null,null,{"$f":"ListAVS!B188&\". \"","v":"Pro určení typu zdvihače bude použita vypočtená hmotnost. "}]
[null,null,null,null,null,null,null,null,null,null,null,null,null,{"$f":"ListAVS!B189","v":"Chcete-li použít vypočtenou hmotnost, smažte zadanou hodnotu"}]
[null,null,null,null,null,null,null,null,null,null,null,null,null,{"$f":"ListAVS!B190","v":"Chcete-li použít zadanou hmotnost, zadejte ji do políčka"}]
[]
[]
[]
[]
[]
[]
[null,null,null,null,null,null,null,null,null,null,null,null,null,{"$f":"ListAVS!$B$73","v":"Výpočet hmotnosti čel"}]
[null,null,null,null,null,null,null,null,null,null,null,null,null,null,null,null,{"$f":"ListAVS!$B$179&\"  \"","v":"Provedení čel  "},null,null,null,{"$f":"J4","v":0},{"$f":"IF(AG71=3,IF(U65=0,Z67,\" \"),IF(U65>0,Z68,\" \"))","v":" "},null,null,null,{"$f":"IF($AG$71=1,$AG$92,IF($AG$71=2,$AG$93,$AG$94&\" - \"&$Z$75&\"mm\"))","v":"Alurámečky s 4mm sklem"},null,null,null,null,{"$f":"MenuAVS!$Q$81","v":2500}]
[null,null,null,null,null,null,null,null,null,null,null,null,null,null,null,null,{"$f":"IF($AB$72<>3,$AA$66,\" \")&\"      \"","v":"      "},null,null,null,null,null,null,null,null,{"$f":"\" \"&ListAVS!$B$410","v":" Změnit hodnoty můžete v Úvodu plánování"}]
[null,null,null,null,null,null,null,null,null,null,null,null,null,null,null,null,null,null,null,null,null,null,null,null,null,{"$f":"\" \"&ListAVS!$B$245&\" [mm]\"","v":" Zadejte sílu skla [mm]"}]
[null,null,null,null,null,null,null,null,null,null,null,null,null,null,null,null,null,null,null,null,null,null,null,null,null,{"$f":"\" \"&ListAVS!$B$240&\" '\"&ListAVS!$B$95&\"'\"","v":" Hodnota platí jen pro volbu 'Alurámečky s jiným sklem'"}]
[]
[null,null,null,null,null,null,null,null,null,null,null,null,null,null,null,null,null,null,{"$f":"E9","v":" "},null,null,null,null,null,null,null,null,null,null,null,null,"váha spoj.","tl. skla","typ alu"]
[null,null,null,null,null,null,null,null,null,null,null,null,null,{"$f":"ListAVS!$B$74&\" KB [mm]       \"","v":"Šířka korpusu KB [mm]       "},null,null,null,null,null,null,{"$f":"I10","v":0},null,null,null,null,{"$f":"U71*U72*U73","v":0},null,null,null,null,{"$f":"IF($AH$71=1,$Y$92,$Y$93)","v":0.62},{"$f":"$Y$94","v":0.61},1,{"$f":"$O$4","v":1}]
[null,null,null,null,null,null,null,null,null,null,null,null,null,{"$f":"ListAVS!$B$75&\" KH [mm]       \"","v":"Výška korpusu KH [mm]       "},null,null,null,null,null,null,{"$f":"I11","v":0},null,null,null,null,{"$f":"Z71/1000000000","v":0},0,null,null,null,"váha alu ->",{"$f":"SUM(U71*2,(U72-90)*2)*AE71/1000","v":-0.11159999999999999},"A plocha B"]
[null,null,null,null,null,null,null,null,null,null,null,null,null,null,null,null,null,null,null,null,null,null,null,null,null,{"$f":"MenuAVS!$C$31","v":760},{"$f":"ListAVS!$B$90&\" (\"&Z73&\" kg/m3)\"","v":"MDF (760 kg/m3)"},null,null,null,{"$f":"$AE$65*4/1000","v":10},{"$f":"IF($AH$71=1,AG73*AE73,AH73*AE73)","v":6.4000000000000001E-2},{"$f":"SUM(($U$71-80)*($U$72-80)/1000000)","v":6.4000000000000003E-3},{"$f":"SUM(($U$71-6)*($U$72-6)/1000000)","v":3.6000000000000001E-5},"4mm"]
[null,null,null,null,null,null,null,null,null,null,null,null,null,{"$f":"ListAVS!$B$83&\" [kg] \"","v":"Hmotnost úchytky [kg] "},null,null,null,null,null,null,{"$f":"I14","v":0},{"$f":"IF($U$16=2,\" \",IF(SUM(U71,U72)=0,\" \",IF(U74=0,\" ● \"&ListAVS!$B$129,\" \")))","v":" "},null,null,null,{"$f":"MenuAVS!$C$32","v":680},{"$f":"ListAVS!$B$91&\" (\"&Z74&\" kg/m3)\"","v":"Dřevotříska (680 kg/m3)"},null,null,null,{"$f":"$AE$65*5/1000","v":12.5},{"$f":"IF($AH$71=1,AG74*AE74,AH74*AE74)","v":0.08},{"$f":"SUM(($U$71-80)*($U$72-80)/1000000)","v":6.4000000000000003E-3},{"$f":"SUM(($U$71-6)*($U$72-6)/1000000)","v":3.6000000000000001E-5},"5mm"]
[null,null,null,null,null,null,null,null,null,null,null,null,null,{"$f":"ListAVS!$B$79&\" [kg] \"","v":"Vypočtená hmotnost čela [kg] "},null,null,null,null,null,null,{"$f":"IF(AE76=0,0,AE76+2*U74)","v":0},null,null,null,{"$f":"IF(U71*U72*U73=0,0,IF(AA72=1,Z72*Z73,IF(AA72=2,Z72*Z74,Z72*Z75)))","v":0},{"$f":"$U$65","v":0},{"$f":"ListAVS!$B$92","v":"Jiné - volitelná hustota"},null,null,null,{"$f":"$AE$65*$U$65/1000","v":0},{"$f":"IF($AH$71=1,AG75*AE75,AH75*AE75)","v":0},{"$f":"SUM(($U$71-80)*($U$72-80)/1000000)","v":6.4000000000000003E-3},{"$f":"SUM(($U$71-6)*($U$72-6)/1000000)","v":3.6000000000000001E-5},"jiné"]
[null,null,null,null,null,null,null,null,null,null,null,null,null,null,null,{"$f":"IF((U16=2)*AND(U75>0)*AND(U74>0),$AB$93&\" \"&$AB$94,IF((U16<>2)*AND(U75>0),IF(U74=0,$AB$92,\" \"),\" \"))","v":" "},null,null,null,null,null,null,null,null,null,null,null,null,null,null,{"$f":"IF(OR(AND(AG71=3, $U$65=0), U71*U72=0), 0, SUM(IF(AG71=1,AF73,IF(AG71=2,AF74,AF75)),AF72,AF71))","v":0}]
[]
[]
[null,null,null,null,null,null,null,null,null,null,null,null,null,null,null,null,null,null,{"$f":"E20","v":" "},null,null,null,null,null,null,null,null,null,null,null,null,"váha spoj.","tl. skla","typ alu"]
[null,null,null,null,null,null,null,null,null,null,null,null,null,{"$f":"ListAVS!$B$74&\" KB [mm]       \"","v":"Šířka korpusu KB [mm]       "},null,null,null,null,null,null,{"$f":"I21","v":0},null,null,null,null,{"$f":"U80*U81*U82","v":0},null,null,null,null,{"$f":"IF($AH$71=1,$Y$92,$Y$93)","v":0.62},{"$f":"$Y$94","v":0.61},{"$f":"$AG$71","v":1},{"$f":"$AH$71","v":1}]
[null,null,null,null,null,null,null,null,null,null,null,null,null,{"$f":"ListAVS!$B$75&\" KH [mm]       \"","v":"Výška korpusu KH [mm]       "},null,null,null,null,null,null,{"$f":"I22","v":0},null,null,null,null,{"$f":"Z80/1000000000","v":0},{"$f":"AA72","v":0},null,null,null,"váha alu ->",{"$f":"SUM(U80*2,(U81-90)*2)*AE80/1000","v":-0.11159999999999999},"A plocha B"]
[null,null,null,null,null,null,null,null,null,null,null,null,null,null,null,null,null,null,null,null,null,null,null,null,null,{"$f":"$Z$73","v":760},{"$f":"$AA$73","v":"MDF (760 kg/m3)"},null,null,null,{"$f":"AE73","v":10},{"$f":"IF($AH$71=1,AG82*AE82,AH82*AE82)","v":6.4000000000000001E-2},{"$f":"SUM(($U$80-80)*($U$81-80)/1000000)","v":6.4000000000000003E-3},{"$f":"SUM(($U$80-6)*($U$81-6)/1000000)","v":3.6000000000000001E-5},"4mm"]
[null,null,null,null,null,null,null,null,null,null,null,null,null,{"$f":"ListAVS!$B$83&\" [kg] \"","v":"Hmotnost úchytky [kg] "},null,null,null,null,null,null,{"$f":"I25","v":0},{"$f":"IF($U$27=2,\" \",IF(SUM(U80,U81)=0,\" \",IF(U83=0,\" ● \"&ListAVS!$B$129,\" \")))","v":" "},null,null,null,{"$f":"$Z$74","v":680},{"$f":"$AA$74","v":"Dřevotříska (680 kg/m3)"},null,null,null,{"$f":"AE74","v":12.5},{"$f":"IF($AH$71=1,AG83*AE83,AH83*AE83)","v":0.08},{"$f":"SUM(($U$80-80)*($U$81-80)/1000000)","v":6.4000000000000003E-3},{"$f":"SUM(($U$80-6)*($U$81-6)/1000000)","v":3.6000000000000001E-5},"5mm"]
[null,null,null,null,null,null,null,null,null,null,null,null,null,{"$f":"ListAVS!$B$79&\" [kg] \"","v":"Vypočtená hmotnost čela [kg] "},null,null,null,null,null,null,{"$f":"IF(AE85=0,0,AE85+2*U83)","v":0},null,null,null,{"$f":"IF(U80*U81*U82=0,0,IF(AA81=1,Z81*Z82,IF(AA81=2,Z81*Z83,Z81*Z84)))","v":0},{"$f":"$Z$75","v":0},{"$f":"$AA$75","v":"Jiné - volitelná hustota"},null,null,null,{"$f":"AE75","v":0},{"$f":"IF($AH$71=1,AG84*AE84,AH84*AE84)","v":0},{"$f":"SUM(($U$80-80)*($U$81-80)/1000000)","v":6.4000000000000003E-3},{"$f":"SUM(($U$80-6)*($U$81-6)/1000000)","v":3.6000000000000001E-5},"jiné"]
[null,null,null,null,null,null,null,null,null,null,null,null,null,null,null,{"$f":"IF((U27=2)*AND(U84>0)*AND(U83>0),$AB$93&\" \"&$AB$94,IF((U27<>2)*AND(U84>0),IF(U83=0,$AB$92,\" \"),\" \"))","v":" "},null,null,null,null,null,null,null,null,null,null,null,null,null,null,{"$f":"IF(OR(AND(AG80=3, $U$65=0), U80*U81=0), 0, SUM(IF(AG80=1,AF82,IF(AG80=2,AF83,AF84)),AF81,AF80))","v":0}]
[]
[]
[]
[]
[]
[]
[null,null,null,null,null,null,null,null,null,null,null,null,null,null,null,null,null,null,null,null,null,null,null,{"$f":"ListAVS!$B$422&\"  \"","v":"s vloženým sklem  "},{"$f":"MenuAVS!$I$86","v":0.62},null,null,{"$f":"ListAVS!$B$102&\"!\"","v":"Není započtena hmotnost úchytky!"},null,null,null,null,{"$f":"ListAVS!$B$93","v":"Alurámečky s 4mm sklem"}]
[null,null,null,null,null,null,null,null,null,null,null,null,null,null,null,null,null,null,null,null,null,null,null,{"$f":"ListAVS!$B$423&\"  \"","v":"s naloženým nebo nalepeným sklem  "},{"$f":"MenuAVS!$I$87","v":0.63},null,null,{"$f":"ListAVS!B103","v":"Opravdu máte úchytku na TIP-ON?"},null,null,null,null,{"$f":"ListAVS!$B$94","v":"Alurámečky s 5mm sklem"}]
[null,null,null,null,null,null,null,null,null,null,null,null,null,null,null,null,null,null,null,null,null,null,null,{"$f":"ListAVS!$B$405&\" [kg/set] *  \"","v":"Hmotnost spojovacího materiálu [kg/set] *  "},{"$f":"MenuAVS!$I$88","v":0.61},null,null,{"$f":"ListAVS!B104&\"!\"","v":"Jestli ne, smažte hmotnost úchytky.!"},null,null,null,null,{"$f":"ListAVS!$B$95","v":"Alurámečky s jiným sklem"}]
[]
[]
[]
[]
[]
[null,"      AVENTOS HK-XS"]
[]
[null,{"$f":"ListAVS!$B$302","v":"Potřebný zdvihač se určí pomocí ukazatele výkonnosti."}]
[null,{"$f":"ListAVS!$B$340","v":"Ukazatel výkonnosti závisí na hmotnosti čela (včetně dvojnásobné hmotnosti úchytky) a na výšce korpusu."}]
[]
[]
[null,null,null,{"$f":"ListAVS!$B$86&\" = \"","v":"Ukazatel výkonnosti = "},{"$f":"ListAVS!$B$341&\" [kg]\"","v":"výška korpusu (KH) [mm] x hmotnost čela včetně dvojnásobné hmotnosti úchytky [kg]"}]
[]
[null,{"$f":"ListAVS!$B$354","v":"V případě využití třetího zdvihače můžete zvýšit ukazatel výkonnosti a tudíž hmotnost čílka o 50%."}]
[null,{"$f":"\"(\"&ListAVS!$B$355&\")\"","v":"(Platí jen pro zdvihač 20K2E00)"}]
[null,{"$f":"ListAVS!$B$182","v":"Přídavný třetí zdvihač může být použit pouze s plným čelem!"}]
[]
[null,{"$f":"ListAVS!$B$311","v":"Pokud znáte hmotnost čela, můžete ji zadat, jinak použijte \"Výpočet hmotnosti\"."}]
[null,{"$f":"ListAVS!$B$312","v":"V tabulce má přednost zadaná hodnota. Chcete-li použít vypočtenou hmotnost, smažte zadanou hodnotu."}]
[]
[null,{"$f":"ListAVS!$B$305","v":"Chcete-li změnit barvu krytek, přejděte na \"Úvod plánování\""}]
[]
[]
[]
[]
[null,{"$f":"ListAVS!$B$411","v":"Věnujte pozornost výběru alurámečků."}]
[null,{"$f":"ListAVS!$B$412","v":"Vyberte, který typ lépe odpovídá tvaru použitého alurámečku."}]
[null,{"$f":"ListAVS!$B$413","v":"Způsob osazení skla do rámečku výrazně ovlivňuje plochu skla a tím i hmotnost!"}]
[]
[]
[null,null,{"$f":"\"  \"&ListAVS!$B$422&\"  \"","v":"  s vloženým sklem  "}]
[]
[null,null,{"$f":"\"  \"&ListAVS!$B$423&\"  \"","v":"  s naloženým nebo nalepeným sklem  "}]
[]
[null,null,null,null,null,null,null,null,null,null,null,{"$f":"ListAVS!$B$167","v":"Zpět"}]

{"sheet":"HKXSna","index":34,"n_rows":127,"n_cols":44,"rows_kept":127,"cut":false,"hidden":false,"merged":[[1,1,1,3],[16,41,16,42],[17,41,17,42],[19,41,20,45],[22,41,23,45],[9,41,9,42],[10,41,10,42],[11,41,11,42],[13,41,14,42],[15,41,15,42],[9,1,9,7],[9,21,9,22],[10,1,10,7],[11,1,11,7],[6,1,6,3],[8,1,8,2],[0,46,0,54],[4,5,4,9],[3,10,4,11],[6,7,6,8],[7,41,8,42],[7,43,8,43],[8,5,8,8],[8,17,8,18],[8,21,8,22],[12,1,14,2],[12,3,12,7],[13,3,13,7],[21,1,21,7],[22,1,22,7],[20,1,20,7],[14,3,14,7],[16,1,16,7],[15,1,15,3],[15,4,15,7],[20,21,20,22],[19,1,19,2],[19,5,19,8],[19,17,19,18],[19,21,19,22],[23,1,25,2],[23,3,23,7],[24,3,24,7],[25,3,25,7],[70,13,70,19],[65,16,65,20],[69,18,69,20],[26,1,26,3],[26,4,26,7],[27,1,27,7],[98,0,139,0],[30,19,30,20],[41,12,42,12],[44,12,45,12],[88,19,88,20],[72,13,72,19],[73,13,73,19],[74,13,74,19],[78,18,78,20],[79,13,79,19],[71,13,71,19],[80,13,80,19],[81,13,81,19],[82,13,82,19],[83,13,83,19],[105,4,105,11]]}
[]
[null,"AVENTOS HK-XS",null,null,null,null,null,null,null,null,null,null,null,null,"rámeček",null,null,null,3,null,null,null,null,null,null,null,null,null,null,null,null,null,null,null,null,null,null,null,{"$f":"ListAVS!$B$152","v":"Jdi na"}]
[]
[null,{"$f":"ListAVS!$B$22&\" ***\"","v":"Úzký alurámeček ***"},null,null,null,{"$f":"ListAVS!$B$179&\"  \"","v":"Provedení čel  "},null,null,null,null,{"$f":"V65","v":" "},null,null,null,1,null,null,null,{"$f":"\" \"&ListAVS!$B$41&\" A \"","v":" Cena za korpus A "},null,null,null,null,null,null,null,null,null,null,null,null,null,null,null,null,null,null,null," Úvod plánování"]
[null,null,null,null,null,{"$f":"IF($AG$71<>3,$Z$66,\" \")&\"      \"","v":" Změnit hodnoty můžete v Úvodu plánování      "},null,null,null,null,null,null,null,null,"A = 1",null,null,null,{"$f":"\" \"&ListAVS!$B$41&\" B \"","v":" Cena za korpus B "},null,null,null,null,null,null,null,null,null,null,null,null,null,null,null,null,null,null,null,{"$f":"\" \"&ListAVS!$B$154","v":" Nápověda"}]
[null,null,null,null,null,null,null,null,null,null,null,null,null,null,"B = 2",null,null,null,{"$f":"\" \"&ListAVS!$B$61","v":" Cena celkem bez DPH"}]
[null,{"$f":"ListAVS!$B$51&\":   \"","v":"Cena kování:   "},null,null,null,null,null,{"$f":"IF($S$2=1, $AH$50, IF($S$2=2, $AJ$50, IF($S$2=3, $AF$50,0)))","v":0},null,null,null,null,null,null,null,null,null,null,null,null,null,null,null,null,null,null,{"$f":"$B$2","v":"AVENTOS HK-XS"},{"$f":"D5","v":0},null,null,null,null,null,null,null,null,null,null,{"$f":"\" \"&ListAVS!$B$159","v":" Doplňky"}]
[null,null,null,null,null,null,null,null,null,null,null,null,null,null,null,null,null,null,null,null,null,null,null,null,null,null,{"$f":"ListAVS!D52","v":0},{"$f":"ListAVS!$B$53","v":"Číslo artiklu"},{"$f":"ListAVS!D54","v":0},{"$f":"ListAVS!D56","v":0},{"$f":"ListAVS!D58","v":0},{"$f":"ListAVS!D59","v":0},"A","Cena","B","Cena",null,null,null,null,null,{"$f":"\"  \"&ListAVS!$B$86&\" LF \"","v":"  Ukazatel výkonnosti LF "},null,{"$f":"ListAVS!$B$84","v":"Zdvihací mechanizmus"}]
[null,{"$f":"\"▼ \"&ListAVS!$B$317","v":"▼ Způsob otvírání"},null,{"$f":"IF($M$17>0, ListAVS!$B$37&\": \", \" \")","v":" "},{"$f":"IF($AG$9>0,\"11\",IF($AG$10>0,\"13\",IF($AG$11>0,\"15\",IF($AG$15>0,\"11T\",IF($AG$16>0,\"13T\", IF($AG$17>0, \"15T\", \" \"))))))","v":" "},{"$f":"ListAVS!$B$64&\" A\"","v":"Korpus A"},null,null,null,null,null,null,null,null,null,null,null,"jeden zdvihač",null,null,null,"dva zdvihače",null,null,"Závěsy",null,{"$f":"CenAVS!A108","v":"Symetrický zdvihací mechanizmus HK-XS"},{"$f":"CenAVS!B108","v":"20K1101"},{"$f":"CenAVS!C108","v":"NI"},{"$f":"SUM(AG9,AI9)","v":0},{"$f":"CenAVS!F108","v":294.25},{"$f":"AD9*AE9","v":0},{"$f":"IF($U$16=1,SUM($O$11:$P$11)*$M$17,0)","v":0},{"$f":"$AE9*AG9","v":0},{"$f":"IF($U$27=1,SUM($O$22:$P$22)*$M$28,0)","v":0},{"$f":"$AE9*AI9","v":0},null,null,{"$f":"\" \"&ListAVS!$B$156","v":" Přehled korpusů"}]
[null,{"$f":"ListAVS!$B$74&\" KB [mm] \"","v":"Šířka korpusu KB [mm] "},null,null,null,null,null,null,null,{"$f":"IF($I10=0,\" \",IF($I10<220,\" min. 220mm\",IF($I10>1800,\" max. 1 800mm\",\" \")))&IF(I17>0,IF(I10=0,\"● \"&ListAVS!$B$128,\" \"),\" \")","v":"  "},null,null,null,"zdvih A","jeden","dva",null,"min","max","š.max","š. min",false,null,null,null,null,{"$f":"CenAVS!A109","v":"Symetrický zdvihací mechanizmus HK-XS"},{"$f":"CenAVS!B109","v":"20K1301"},{"$f":"CenAVS!C109","v":"NI"},0,{"$f":"CenAVS!F109","v":294.25},{"$f":"AD10*AE10","v":0},{"$f":"IF($U$16=1,SUM($O$12:$P$12)*$M$17,0)","v":0},{"$f":"$AE10*AG10","v":0},{"$f":"IF($U$27=1,SUM($O$23:$P$23)*$M$28,0)","v":0},{"$f":"$AE10*AI10","v":0},null,null,{"$f":"\" \"&ListAVS!$B$157","v":" Objednávka"},null,null,"  200 - 1000",null,"20K1101"]
[null,{"$f":"ListAVS!$B$75&\" KH [mm]  \"","v":"Výška korpusu KH [mm]  "},null,null,null,null,null,null,null,{"$f":"IF($I11=0,\" \",IF($I11<236,\" min. 236mm\",IF($I11>600,\" max. 600 mm\",\" \")))&IF(I17>0,IF(I11=0,\"● \"&ListAVS!$B$128,\" \"),\" \")","v":"  "},null,null,null,"K1101",{"$f":"IF($V$10=FALSE,IF($I$16>R11,IF($I$16<S11,1,0),0),0)","v":0},{"$f":"IF($V$10=TRUE,IF($I$16>V11,IF($I$16<W11,2,0),0),0)","v":0},null,{"$f":"IF(U16=1,199.99,179.99)","v":199.99},{"$f":"IF(U16=1,750,650)","v":750},null,null,{"$f":"IF(U16=1,399.99,359.99)","v":399.99},{"$f":"IF(U16=1,1500,1300)","v":1500},null,{"$f":"IF(OR(I10>1199,I16>2699),4,IF(OR(I10>899,I16>1799),3,2))","v":2},null,{"$f":"CenAVS!A110","v":"Symetrický zdvihací mechanizmus HK-XS"},{"$f":"CenAVS!B110","v":"20K1501"},{"$f":"CenAVS!C110","v":"NI"},0,{"$f":"CenAVS!F110","v":294.25},0,{"$f":"IF($U$16=1,SUM($O$13:$P$13)*$M$17,0)","v":0},0,{"$f":"IF($U$27=1,SUM($O$24:$P$24)*$M$28,0)","v":0},0,null,null,null,null,null,"  500 - 1500",null,"20K1301"]
[null,{"$f":"ListAVS!$B$78&\" [kg] ** \"","v":"Hmotnost čela vč. 2x hmotnost úchytky [kg] ** "},null,null,null,null,null,null,null,{"$f":"IF($I17=0,\" \",IF(AND($I12=0, AG71=3, $J$4=0), $N$37, \" \"))&IF($M17>0,IF($I12>0,$N$39,\" \"),\" \")","v":"  "},null,null,null,"K1201",{"$f":"IF($V$10=FALSE,IF($I$16>R12,IF($I$16<S12,1,0),0),0)","v":0},{"$f":"IF($V$10=TRUE,IF($I$16>V12,IF($I$16<W12,2,0),0),0)","v":0},null,{"$f":"IF(U16=1,749.99,649)","v":749.99},{"$f":"IF(U16=1,1150,1000)","v":1150},null,null,{"$f":"IF(U16=1,1499.99,1299.99)","v":1499.99},{"$f":"IF(U16=1,2300,2000)","v":2300},null,null,null,null,null,null,null,null,null,null,null,null,null,null,null,null,null,null,"  800 - 1800",null,"20K1501"]
[null,{"$f":"ListAVS!$B$292","v":"Výpočet hmotnosti"},null,{"$f":"ListAVS!$B$80&\" TS [mm] \"","v":"Síla čela TS [mm] "},null,null,null,null,null,null,null,null,null,"K1301",{"$f":"IF($V$10=FALSE,IF($I$16>R13,IF($I$16<S13,1,0),0),0)","v":0},{"$f":"IF($V$10=TRUE,IF($I$16>V13,IF($I$16<W13,2,0),0),0)","v":0},null,{"$f":"IF(U16=1,1149.99,999.99)","v":1149.99},{"$f":"IF(U16=1,1801,1601)","v":1801},null,null,{"$f":"IF(U16=1,2299.99,1999.99)","v":2299.9899999999998},{"$f":"IF(U16=1,3601,3201)","v":3601}]
[null,null,null,{"$f":"ListAVS!$B$83&\" [kg] \"","v":"Hmotnost úchytky [kg] "},null,null,null,null,null,{"$f":"IF(I17=0, \" \", IF(AND(I12=0, U16=1, I14=0), \" ● \"&ListAVS!$B$129,\" \"))","v":" "},null,null,null,null,null,null,null,null,null,null,null,null,null,null,null,null,null,null,null,null,null,null,null,null,null,null,null,null,null,null,null,{"$f":"\"  \"&ListAVS!$B$86&\" LF \"","v":"  Ukazatel výkonnosti LF "},null,"TIP-ON"]
[null,null,null,{"$f":"ListAVS!$B$79&\" [kg] \"","v":"Vypočtená hmotnost čela [kg] "},null,null,null,null,{"$f":"$U$75","v":0},{"$f":"IF(AND($I17>0,$I15>0,$I12=0,$M17>0), $N$39,\" \")&IF(AND(I17>0, I12=0, AB72=3, $J$4=0), $N$37, \" \")","v":"  "},null,null,null,null,null,null,null,null,null,null,{"$f":"IF(U16=1,$V$51,IF(U16=2,$V$52,$V$53))","v":"Standard"},null,null,null,null,null,{"$f":"CenAVS!A112","v":"Sym. zdvihací mechanizmus HK-XS, TIP-ON"},{"$f":"CenAVS!B112","v":"20K1101T"},{"$f":"CenAVS!C112","v":"NI"},0,{"$f":"CenAVS!F112","v":316.58999999999997},0,{"$f":"IF($U$16=2,SUM($O$11:$P$11)*$M$17,0)","v":0},0,{"$f":"IF($U$27=2,SUM($O$22:$P$22)*$M$28,0)","v":0},0,null,null,null,null,null,null,null,{"$f":"ListAVS!$B$84","v":"Zdvihací mechanizmus"}]
[null,{"$f":"ListAVS!$B$88&\" *      \"","v":"Druhý zdvihač *      "},null,null,{"$f":"ListAVS!$B$86&\" LF \"","v":"Ukazatel výkonnosti LF "},null,null,null,{"$f":"IF(I12>0,I11*I12,I11*I15)","v":0},{"$f":"IF(U16=1,IF($I16>3600,$N$42,IF($I16>1800.5,IF(V10=FALSE,$N$43,\" \"),\" \")),IF($I16>3200,$N$42,IF($I16>1600.5,IF(V10=FALSE,$N$43,\" \"),\" \")))","v":" "},null,null,null,null,null,null,null,null,null,null,1,null,null,null,null,null,{"$f":"CenAVS!A113","v":"Sym. zdvihací mechanizmus HK-XS, TIP-ON"},{"$f":"CenAVS!B113","v":"20K1301T"},{"$f":"CenAVS!C113","v":"NI"},0,{"$f":"CenAVS!F113","v":316.58999999999997},0,{"$f":"IF($U$16=2,SUM($O$12:$P$12)*$M$17,0)","v":0},0,{"$f":"IF($U$27=2,SUM($O$23:$P$23)*$M$28,0)","v":0},0,null,null,null,null,null,"  180 - 800",null,"20K1101T"]
[null,{"$f":"ListAVS!$B$71&\" \"","v":"Počet skříněk "},null,null,null,null,null,null,null,null,null,null,{"$f":"IF(OR($I10*$I11*$T17=0,$I11<236,$I11>600,SUM(O11:P14)=0),0,IF($I16>1800,IF($V10=FALSE,0,$I17),$I17))","v":0},null,null,null,null,null,"hmot =",{"$f":"IF(I12>0,I12,I15)","v":0},{"$f":"IF(SUM(I12,I15)=0,0,IF(I12>0,1,2))","v":0},"zadaná / vypočtená",null,null,null,null,{"$f":"CenAVS!A114","v":"Sym. zdvihací mechanizmus HK-XS, TIP-ON"},{"$f":"CenAVS!B114","v":"20K1501T"},{"$f":"CenAVS!C114","v":"NI"},0,{"$f":"CenAVS!F114","v":316.58999999999997},0,{"$f":"IF($U$16=2,SUM($O$13:$P$13)*$M$17,0)","v":0},0,{"$f":"IF($U$27=2,SUM($O$24:$P$24)*$M$28,0)","v":0},0,null,null,null,null,null,"  500 - 1200",null,"20K1301T"]
[null,{"$f":"IF(M17>0,IF(U17=0,\" \",IF(U17=1,$N$54,$N$55)),\" \")&IF(M17>0,IF(U17=0,\" \",IF(U17=1,$N$56,$N$57)),\" \")","v":"  "},null,null,null,null,null,null,null,null,null,null,null,null,null,null,null,null,null,null,null,null,null,null,null,null,null,null,null,null,null,null,null,null,null,null,null,null,null,null,null,"  800 - 1600",null,"20K1501T"]
[null,null,null,null,null,null,null,null,null,null,null,null,null,null,null,null,null,null,null,null,null,null,null,null,null,null,{"$f":"CenAVS!A116","v":"Boční čep HK-XS na korpus"},{"$f":"CenAVS!B116","v":"20K5101"},{"$f":"CenAVS!C116","v":"NI"},0,{"$f":"CenAVS!F116","v":18.63},0,{"$f":"IF($P$49=2,SUM(AG$9:AG$17),0)","v":0},0,{"$f":"IF($P$49=2,SUM(AI$9:AI$17),0)","v":0},0]
[null,{"$f":"\"▼ \"&ListAVS!$B$317","v":"▼ Způsob otvírání"},null,{"$f":"IF($M$28>0, ListAVS!$B$37&\": \", \" \")","v":" "},{"$f":"IF($AI$9>0,\"11\",IF($AI$10>0,\"13\",IF($AI$11>0,\"15\",IF($AI$15>0,\"11T\",IF($AI$16>0,\"13T\", IF($AI$17>0, \"15T\", \" \"))))))","v":" "},{"$f":"ListAVS!$B$64&\" B\"","v":"Korpus B"},null,null,null,null,null,null,null,null,null,null,null,"jeden zdvihač",null,null,null,"dva zdvihače",null,null,"Závěsy",null,{"$f":"CenAVS!A117","v":"Boční čep HK-XS na korpus, EXPANDO"},{"$f":"CenAVS!B117","v":"20K51E1"},{"$f":"CenAVS!C117","v":"NI"},0,{"$f":"CenAVS!F117","v":25.16},0,{"$f":"IF($P$49=1,SUM(AG$9:AG$17),0)","v":0},0,{"$f":"IF($P$49=1,SUM(AI$9:AI$17),0)","v":0},0,null,null,null,null,null,{"$f":"ListAVS!$B$86&\" LF = \"&ListAVS!$B$75&\" KH [mm] x \"&ListAVS!$B$78&\" [kg]\"","v":"Ukazatel výkonnosti LF = Výška korpusu KH [mm] x Hmotnost čela vč. 2x hmotnost úchytky [kg]"}]
[null,{"$f":"ListAVS!$B$74&\" KB [mm] \"","v":"Šířka korpusu KB [mm] "},null,null,null,null,null,null,null,{"$f":"IF($I21=0,\" \",IF($I21<220,\" min. 220mm\",IF($I21>1800,\" max. 1 800mm\",\" \")))&IF(I28>0,IF(I21=0,\"● \"&ListAVS!$B$128,\" \"),\" \")","v":"  "},null,null,null,"zdvih B","jeden","dva",null,"min","max","š.max","š. min",false]
[null,{"$f":"ListAVS!$B$75&\" KH [mm] \"","v":"Výška korpusu KH [mm] "},null,null,null,null,null,null,null,{"$f":"IF($I22=0,\" \",IF($I22<236,\" min. 236mm\",IF($I22>600,\" max. 600 mm\",\" \")))&IF(I28>0,IF(I22=0,\"● \"&ListAVS!$B$128,\" \"),\" \")","v":"  "},null,null,null,"K1101",{"$f":"IF($V$21=FALSE,IF($I$27>R22,IF($I$27<S22,1,0),0),0)","v":0},{"$f":"IF($V$21=TRUE,IF($I$27>V22,IF($I$27<W22,2,0),0),0)","v":0},null,{"$f":"IF(U27=1,199.99,179.99)","v":199.99},{"$f":"IF(U27=1,750,650)","v":750},null,null,{"$f":"IF(U27=1, 399.99, 359.99)","v":399.99},{"$f":"IF(U27=1,1500,1300)","v":1500},null,{"$f":"IF(OR(I21>1199,I27>2699),4,IF(OR(I21>899,I27>1799),3,2))","v":2},null,{"$f":"CenAVS!A119","v":"Čelní kování HK-XS"},{"$f":"CenAVS!B119","v":"20K4101"},{"$f":"CenAVS!C119","v":"NI"},0,{"$f":"CenAVS!F119","v":12.67},0,null,0,null,0]
[null,{"$f":"ListAVS!$B$78&\" [kg] ** \"","v":"Hmotnost čela vč. 2x hmotnost úchytky [kg] ** "},null,null,null,null,null,null,null,{"$f":"IF($I28=0,\" \",IF(AND($I23=0, AG80=3, $J$4=0), $N$37, \" \"))&IF($M28>0,IF($I23>0,$N$39,\" \"),\" \")","v":"  "},null,null,null,"K1201",{"$f":"IF($V$21=FALSE,IF($I$27>R23,IF($I$27<S23,1,0),0),0)","v":0},{"$f":"IF($V$21=TRUE,IF($I$27>V23,IF($I$27<W23,2,0),0),0)","v":0},null,{"$f":"IF(U27=1,749.99, 649.99)","v":749.99},{"$f":"IF(U27=1,1150,1000)","v":1150},null,null,{"$f":"IF(U27=1,1499.99,1299.99)","v":1499.99},{"$f":"IF(U27=1,2300,2000)","v":2300},null,null,null,{"$f":"CenAVS!A120","v":"Čelní kování HK-XS, EXPANDO"},{"$f":"CenAVS!B120","v":"20K41E1"},{"$f":"CenAVS!C120","v":"NI"},0,{"$f":"CenAVS!F120","v":19.190000000000001},0,null,0,null,0,null,null,null,null,null,{"$f":"ListAVS!$B$353","v":"V případě použití po obou stranách se faktor výkonnosti zdvojnásobí."}]
[null,{"$f":"ListAVS!$B$292","v":"Výpočet hmotnosti"},null,{"$f":"ListAVS!$B$80&\" TS [mm] \"","v":"Síla čela TS [mm] "},null,null,null,null,null,null,null,null,null,"K1301",{"$f":"IF($V$21=FALSE,IF($I$27>R24,IF($I$27<S24,1,0),0),0)","v":0},{"$f":"IF($V$21=TRUE,IF($I$27>V24,IF($I$27<W24,2,0),0),0)","v":0},null,{"$f":"IF(U27=1,1149.99, 999.99)","v":1149.99},{"$f":"IF(U27=1,1801,1601)","v":1801},null,null,{"$f":"IF(U27=1,2299.99, 1999.99)","v":2299.9899999999998},{"$f":"IF(U27=1,3601,3201)","v":3601}]
[null,null,null,{"$f":"ListAVS!$B$83&\" [kg] \"","v":"Hmotnost úchytky [kg] "},null,null,null,null,null,{"$f":"IF(I28=0, \" \", IF(AND(I23=0, U27=1, I25=0), \" ● \"&ListAVS!$B$129,\" \"))","v":" "}]
[null,null,null,{"$f":"ListAVS!$B$79&\" [kg] \"","v":"Vypočtená hmotnost čela [kg] "},null,null,null,null,{"$f":"$U$84","v":0},{"$f":"IF(AND($I28>0,$I26>0,$I23=0,$M28>0), $N$39,\" \")&IF(AND(I28>0, I23=0, AB72=3, $J$4=0), $N$37, \" \")","v":"  "},null,null,null,null,null,null,null,null,null,null,{"$f":"IF(U27=1,$V$51,IF(U27=2,$V$52,$V$53))","v":"Standard"},null,null,null,null,null,{"$f":"CenAVS!A121","v":"Čelní kování HK-XS pro úzké alurámečky"},{"$f":"CenAVS!B121","v":"20K4101A"},{"$f":"CenAVS!C121","v":"NI"},0,{"$f":"CenAVS!F121","v":85.33},0,{"$f":"SUM(AG$9:AG$17)","v":0},0,{"$f":"SUM(AI$9:AI$17)","v":0},0]
[null,{"$f":"ListAVS!$B$88&\" *      \"","v":"Druhý zdvihač *      "},null,null,{"$f":"ListAVS!$B$86&\" LF \"","v":"Ukazatel výkonnosti LF "},null,null,null,{"$f":"IF(I23>0,I22*I23,I22*I26)","v":0},{"$f":"IF(U27=1,IF($I27>3600,$N$42,IF($I27>1800.5,IF(V21=FALSE,$N$43,\" \"),\" \")),IF($I27>3200,$N$42,IF($I27>1600.5,IF(V21=FALSE,$N$43,\" \"),\" \")))","v":" "},null,null,null,null,null,null,null,null,null,null,1]
[null,{"$f":"ListAVS!$B$71&\" \"","v":"Počet skříněk "},null,null,null,null,null,null,null,null,null,null,{"$f":"IF(OR($I21*$I22*$T28=0,$I22<236,$I22>600,SUM(O22:P25)=0),0,IF($I27>1800,IF($V21=FALSE,0,$I28),$I28))","v":0},null,null,null,null,null,"hmot =",{"$f":"IF(I23>0,I23,I26)","v":0},{"$f":"IF(SUM(I23,I26)=0,0,IF(I23>0,1,2))","v":0},"zadaná / vypočtená",null,null,null,null,{"$f":"CenAVS!A148","v":"CLIP top BLUMOTION, 110°, naložený"},{"$f":"CenAVS!B148","v":" 71B3550"},{"$f":"CenAVS!C148","v":"NI"},0,{"$f":"CenAVS!F148","v":106.31},0,null,0,null,0]
[null,{"$f":"IF(M28>0,IF(U28=0,\" \",IF(U28=1,$N$54,$N$55)),\" \")&IF(M28>0,IF(U28=0,\" \",IF(U28=1,$N$56,$N$57)),\" \")","v":"  "},null,null,null,null,null,null,null,null,null,null,null,null,null,null,null,null,null,null,null,null,null,null,null,null,{"$f":"CenAVS!A149","v":"CLIP top BLUMOTION, 110°, nalož. EXPANDO"},{"$f":"CenAVS!B149","v":" 71B358E"},{"$f":"CenAVS!C149","v":"NI"},0,{"$f":"CenAVS!F149","v":97.81},0,null,0,null,0]
[null,null,null,null,null,null,null,null,null,null,null,null,null,null,null,null,null,null,null,null,null,null,null,null,null,null,{"$f":"CenAVS!A150","v":"CLIP top závěs 110°, bez pružiny, naložený"},{"$f":"CenAVS!B150","v":" 70T3550.TL"},{"$f":"CenAVS!C150","v":"NI"},0,{"$f":"CenAVS!F150","v":50.28},0,null,0,null,0]
[null,null,null,null,null,null,null,null,null,null,null,null,null,null,null,null,null,null,{"$f":"IF($T$31=FALSE,2,1)","v":2},false,null," - Zdroj",null,null,null,null,{"$f":"CenAVS!A151","v":"CLIP top závěs 110°, bez pružiny, nalož. EXPANDO"},{"$f":"CenAVS!B151","v":" 70T358E.TL"},{"$f":"CenAVS!C151","v":"NI"},0,{"$f":"CenAVS!F151","v":50.44},0,null,0,null,0]
[null,null,null,null,null,null,null,null,null,null,null,null,null,null,null,null,null,null,null,null,null,null,null,null,null,null,{"$f":"CenAVS!A152","v":"CLIP top BLUMOTION, závěs pro tenká dvířka"},{"$f":"CenAVS!B152","v":" 71B453T"},{"$f":"CenAVS!C152","v":"NI"},0,{"$f":"CenAVS!F152","v":375.38},0,null,0,null,0]
[null,null,null,null,null,null,null,null,null,null,null,null,null,null,null,null,null,null,null,null,null,null,null,null,null,null,{"$f":"CenAVS!A153","v":"CLIP top závěs pro tenká dvířka, bez pružiny"},{"$f":"CenAVS!B153","v":" 70T453T.TL"},{"$f":"CenAVS!C153","v":"NI"},0,{"$f":"CenAVS!F153","v":321.95999999999998},0,null,0,null,0]
[null,null,{"$f":"\"* \"&ListAVS!$B$353","v":"* V případě použití po obou stranách se faktor výkonnosti zdvojnásobí."},null,null,null,null,null,null,null,null,null,null,null,null,null,null,null,null,null,null,null,null,null,null,null,{"$f":"CenAVS!A154","v":"CLIP top BLUMOTION, závěs pro úzké alu, naložený"},{"$f":"CenAVS!B154","v":" 71B950A"},{"$f":"CenAVS!C154","v":"NI"},{"$f":"SUM(AG34,AI34)","v":0},{"$f":"CenAVS!F154","v":180.71},{"$f":"AD34*AE34","v":0},{"$f":"IF($U$16=1, SUM($Y$11)*$M$17, 0)","v":0},{"$f":"$AE34*AG34","v":0},{"$f":"IF($U$27=1, SUM($Y$22)*$M$28, 0)","v":0},{"$f":"$AE34*AI34","v":0}]
[null,null,{"$f":"\"** \"&ListAVS!$B$186","v":"** Pokud znáte hmotnost a nechcete využít výpočtu hmotnosti"},null,null,null,null,null,null,null,null,null,null,null,null,null,null,null,null,null,null,null,null,null,null,null,{"$f":"CenAVS!A22","v":"Závěs CLIP top pro alurámečky"},{"$f":"CenAVS!B22","v":"72T550A.TL"},{"$f":"CenAVS!C22","v":"NI"},{"$f":"SUM(AG35,AI35)","v":0},{"$f":"CenAVS!F22","v":77.180000000000007},{"$f":"AD35*AE35","v":0},{"$f":"IF($U$16=2, SUM($Y$11)*$M$17, 0)","v":0},{"$f":"$AE35*AG35","v":0},{"$f":"IF($U$27=2, SUM($Y$22)*$M$28, 0)","v":0},{"$f":"$AE35*AI35","v":0}]
[null,null,{"$f":"\"*** \"&ListAVS!$B$403","v":"*** Vyberte typ alurámečku!"},null,null,null,null,null,null,null,null,null,null,null,null,null,null,null,null,null,null,null,null,null,null,null,{"$f":"CenAVS!A123","v":"Samořezný vrut do alurámečků"},{"$f":"CenAVS!B123","v":"660.0950"},{"$f":"CenAVS!C123","v":"NI"},{"$f":"SUM(AG36,AI36)","v":0},{"$f":"CenAVS!F123","v":1.7},{"$f":"AD36*AE36","v":0},null,{"$f":"$AE36*AG36","v":0},null,{"$f":"$AE36*AI36","v":0}]
[null,null,{"$f":"\"      \"&ListAVS!$B$404","v":"      Více informací k výběru alurámečků v Nápovědě"},null,null,null,null,null,null,null,null,null,null,{"$f":"\" \"&ListAVS!$B$116","v":" Zadejte hmotnost nebo vyplňte nahoře sílu skla"},null,null,null,null,null,null,null,null,null,null,null,null,{"$f":"CenAVS!A158","v":"EXPANDO T, samostatná hmoždinka"},{"$f":"CenAVS!B158","v":"70T4532T"},{"$f":"CenAVS!C158","v":"DGR"},{"$f":"SUM(AG37,AI37)","v":0},{"$f":"CenAVS!F158","v":63.33},{"$f":"AD37*AE37","v":0},null,{"$f":"$AE37*AG37","v":0},null,{"$f":"$AE37*AI37","v":0}]
[null,null,null,null,null,null,null,null,null,null,null,null,null,{"$f":"\" \"&ListAVS!$B$115","v":" Zadejte hmotnost nebo vyplňte všechny buňky"}]
[null,null,null,null,null,null,null,null,null,null,null,null,null,{"$f":"\"◄ \"&ListAVS!$B$111","v":"◄ hodnota bude použita pro výpočet LF"},null,null,null,null,null,null,null,null,null,null,null,null,{"$f":"CenAVS!A166","v":"CLIP top přímá mont. podložka, ocel, 0 mm"},{"$f":"CenAVS!B166","v":"175H3100"},{"$f":"CenAVS!C166","v":"NI"},{"$f":"SUM(AG39,AI39)","v":0},{"$f":"CenAVS!F166","v":16.98},{"$f":"AD39*AE39","v":0},{"$f":"IF($O$49=2, $Y$11*$M$17, 0)","v":0},{"$f":"$AE39*AG39","v":0},{"$f":"IF($O$49=2, $Y$22*$M$28, 0)","v":0},{"$f":"$AE39*AI39","v":0}]
[null,null,null,null,null,null,null,null,null,null,null,null,null,{"$f":"\" * \"&ListAVS!$B$127","v":" * Doplňte hodnoty"},null,null,null,null,null,null,null,null,null,null,null,null,{"$f":"CenAVS!A167","v":"CLIP top přímá mont. podložka, ocel, EXP, 0 mm"},{"$f":"CenAVS!B167","v":"177H3100E "},{"$f":"CenAVS!C167","v":"NI"},{"$f":"SUM(AG40,AI40)","v":0},{"$f":"CenAVS!F167","v":17.07},{"$f":"AD40*AE40","v":0},{"$f":"IF($O$49=1, $Y$11*$M$17, 0)","v":0},{"$f":"$AE40*AG40","v":0},{"$f":"IF($O$49=1, $Y$22*$M$28, 0)","v":0},{"$f":"$AE40*AI40","v":0}]
[]
[null,null,null,null,null,null,null,null,null,null,null,null,"korpus   A",{"$f":"IF(U16=1,\" max. 3.600! \"&ListAVS!$B$121,\" max. 3.200! \"&ListAVS!$B$121)","v":" max. 3.600! Upravte hmotnost nebo výšku"},null,null,null,null,null,null,null,null,null,null,null,null,{"$f":"CenAVS!A185","v":"TIP-ON, krátká verze, šedá"},{"$f":"CenAVS!B185","v":"956.1004"},{"$f":"CenAVS!C185","v":"PG"},{"$f":"SUM(AG42,AI42)","v":0},{"$f":"CenAVS!F185","v":116.95},{"$f":"AD42*AE42","v":0},{"$f":"IF(AND($T$49<3, $U$16=2), $M$17, 0)","v":0},{"$f":"$AE42*AG42","v":0},{"$f":"IF(AND($T$49<3, $U$27=2), $M$28, 0)","v":0},{"$f":"$AE42*AI42","v":0}]
[null,{"$f":"IF($I$11>600,\"***\",IF($I$22>600,\"***\",\" \"))","v":" "},null,null,null,null,null,null,null,null,null,null,null,{"$f":"IF(U16=1,\" max. 1.800! \"&ListAVS!$B$131,\" max. 1.600! \"&ListAVS!$B$131)","v":" max. 1.800! Přidejte druhý zdvihač"},null,null,null,null,null,null,null,null,null,null,null,null,{"$f":"CenAVS!A186","v":"TIP-ON, krátká verze, hedvábně bílá"},{"$f":"CenAVS!B186","v":"956.1004"},{"$f":"CenAVS!C186","v":"SW"},{"$f":"SUM(AG43,AI43)","v":0},{"$f":"CenAVS!F186","v":116.95},{"$f":"AD43*AE43","v":0},{"$f":"IF(AND($T$49=3, $U$16=2), $M$17, 0)","v":0},{"$f":"$AE43*AG43","v":0},{"$f":"IF(AND($T$49=3, $U$27=2), $M$28, 0)","v":0},{"$f":"$AE43*AI43","v":0}]
[null,null,null,null,null,null,null,null,null,null,null,null,null,null,null,null,null,null,null,null,null,null,null,null,null,null,{"$f":"CenAVS!A187","v":"TIP-ON, krátká verze, karbon černá"},{"$f":"CenAVS!B187","v":"956.1004"},{"$f":"CenAVS!C187","v":"CS"},{"$f":"SUM(AG44,AI44)","v":0},{"$f":"CenAVS!F187","v":116.95},{"$f":"AD44*AE44","v":0},null,{"$f":"$AE44*AG44","v":0},null,{"$f":"$AE44*AI44","v":0}]
[null,null,null,null,null,null,null,null,null,null,null,null,"korpus   B",{"$f":"IF(U27=1,\" max. 3.600! \"&ListAVS!$B$121,\" max. 3.200! \"&ListAVS!$B$121)","v":" max. 3.600! Upravte hmotnost nebo výšku"}]
[null,null,null,null,null,null,null,null,null,null,null,null,null,{"$f":"IF(U27=1,\" max. 1.800! \"&ListAVS!$B$131,\" max. 1.600! \"&ListAVS!$B$131)","v":" max. 1.800! Přidejte druhý zdvihač"}]
[]
[]
[null,null,null,null,null,null,null,null,null,null,null,null,null,2,{"$f":"HKXS!Q26","v":1},{"$f":"HKXS!$O$26","v":1},2,null,null,{"$f":"MenuAVS!$P$28","v":1}]
[null,null,null,null,null,null,null,null,null,null,null,null,null,"záv.","podl","čep","čelní kov.",null,null,"barva",null,"provedení",null,null,null,null,null,null,null,null,{"$f":"ListAVS!$B$61&\" \"","v":"Cena celkem bez DPH "},{"$f":"SUM(AF9:AF47)","v":0},null,{"$f":"SUM(AH9:AH49)","v":0},null,{"$f":"SUM(AJ9:AJ49)","v":0}]
[null,null,null,null,null,null,null,null,null,null,null,null,null,null,"1 =",{"$f":"ListAVS!$B$142","v":"Expando"},null,null,null,{"$f":"ListAVS!$B$145","v":"Světle šedá (HGR)"},null,"Standard"]
[null,null,null,null,null,null,null,null,null,null,null,null,null,null,"2 =",{"$f":"ListAVS!$B$143","v":"na vruty"},null,null,null,{"$f":"ListAVS!$B$147","v":"Hedvábně bílá (SW)"},null,"TIP-ON"]
[]
[null,null,null,null,null,null,null,null,null,null,null,null,null,{"$f":"ListAVS!B187&\". \"","v":"Pro určení typu zdvihače bude použita zadaná hmotnost. "}]
[null,null,null,null,null,null,null,null,null,null,null,null,null,{"$f":"ListAVS!B188&\". \"","v":"Pro určení typu zdvihače bude použita vypočtená hmotnost. "}]
[null,null,null,null,null,null,null,null,null,null,null,null,null,{"$f":"ListAVS!B189","v":"Chcete-li použít vypočtenou hmotnost, smažte zadanou hodnotu"}]
[null,null,null,null,null,null,null,null,null,null,null,null,null,{"$f":"ListAVS!B190","v":"Chcete-li použít zadanou hmotnost, zadejte ji do políčka"}]
[]
[]
[]
[]
[]
[]
[null,null,null,null,null,null,null,null,null,null,null,null,null,{"$f":"ListAVS!$B$73","v":"Výpočet hmotnosti čel"}]
[null,null,null,null,null,null,null,null,null,null,null,null,null,null,null,null,{"$f":"ListAVS!$B$179&\"  \"","v":"Provedení čel  "},null,null,null,{"$f":"J4","v":0},{"$f":"IF(AG71=3,IF(U65=0,Z67,\" \"),IF(U65>0,Z68,\" \"))","v":" "},null,null,null,{"$f":"IF($AG$71=1,$AG$92,IF($AG$71=2,$AG$93,$AG$94&\" - \"&$Z$75&\"mm\"))","v":"Alurámečky s 4mm sklem"},null,null,null,null,{"$f":"MenuAVS!$Q$81","v":2500}]
[null,null,null,null,null,null,null,null,null,null,null,null,null,null,null,null,{"$f":"IF($AB$72<>3,$AA$66,\" \")&\"      \"","v":"      "},null,null,null,null,null,null,null,null,{"$f":"\" \"&ListAVS!$B$410","v":" Změnit hodnoty můžete v Úvodu plánování"}]
[null,null,null,null,null,null,null,null,null,null,null,null,null,null,null,null,null,null,null,null,null,null,null,null,null,{"$f":"\" \"&ListAVS!$B$245&\" [mm]\"","v":" Zadejte sílu skla [mm]"}]
[null,null,null,null,null,null,null,null,null,null,null,null,null,null,null,null,null,null,null,null,null,null,null,null,null,{"$f":"\" \"&ListAVS!$B$240&\" '\"&ListAVS!$B$95&\"'\"","v":" Hodnota platí jen pro volbu 'Alurámečky s jiným sklem'"}]
[]
[null,null,null,null,null,null,null,null,null,null,null,null,null,null,null,null,null,null,{"$f":"E9","v":" "},null,null,null,null,null,null,null,null,null,null,null,null,"váha spoj.","tl. skla","typ alu"]
[null,null,null,null,null,null,null,null,null,null,null,null,null,{"$f":"ListAVS!$B$74&\" KB [mm]       \"","v":"Šířka korpusu KB [mm]       "},null,null,null,null,null,null,{"$f":"I10","v":0},null,null,null,null,{"$f":"U71*U72*U73","v":0},null,null,null,null,{"$f":"IF($AH$71=1,$Y$92,$Y$93)","v":0.31},{"$f":"$Y$94","v":0.46},1,{"$f":"$O$4","v":1}]
[null,null,null,null,null,null,null,null,null,null,null,null,null,{"$f":"ListAVS!$B$75&\" KH [mm]       \"","v":"Výška korpusu KH [mm]       "},null,null,null,null,null,null,{"$f":"I11","v":0},null,null,null,null,{"$f":"Z71/1000000000","v":0},0,null,null,null,"váha alu ->",{"$f":"SUM(U71*2,(U72-40)*2)*AE71/1000","v":-2.4799999999999999E-2},"A plocha B"]
[null,null,null,null,null,null,null,null,null,null,null,null,null,null,null,null,null,null,null,null,null,null,null,null,null,{"$f":"MenuAVS!$C$31","v":760},{"$f":"ListAVS!$B$90&\" (\"&Z73&\" kg/m3)\"","v":"MDF (760 kg/m3)"},null,null,null,{"$f":"$AE$65*4/1000","v":10},{"$f":"IF($AH$71=1,AG73*AE73,AH73*AE73)","v":8.9999999999999993E-3},{"$f":"SUM(($U$71-30)*($U$72-30)/1000000)","v":8.9999999999999998E-4},{"$f":"SUM(($U$71-6)*($U$72-6)/1000000)","v":3.6000000000000001E-5},"4mm"]
[null,null,null,null,null,null,null,null,null,null,null,null,null,{"$f":"ListAVS!$B$83&\" [kg] \"","v":"Hmotnost úchytky [kg] "},null,null,null,null,null,null,{"$f":"I14","v":0},{"$f":"IF($U$16=2,\" \",IF(SUM(U71,U72)=0,\" \",IF(U74=0,\" ● \"&ListAVS!$B$129,\" \")))","v":" "},null,null,null,{"$f":"MenuAVS!$C$32","v":680},{"$f":"ListAVS!$B$91&\" (\"&Z74&\" kg/m3)\"","v":"Dřevotříska (680 kg/m3)"},null,null,null,{"$f":"$AE$65*5/1000","v":12.5},{"$f":"IF($AH$71=1,AG74*AE74,AH74*AE74)","v":1.125E-2},{"$f":"SUM(($U$71-30)*($U$72-30)/1000000)","v":8.9999999999999998E-4},{"$f":"SUM(($U$71-6)*($U$72-6)/1000000)","v":3.6000000000000001E-5},"5mm"]
[null,null,null,null,null,null,null,null,null,null,null,null,null,{"$f":"ListAVS!$B$79&\" [kg] \"","v":"Vypočtená hmotnost čela [kg] "},null,null,null,null,null,null,{"$f":"IF(AE76=0,0,AE76+2*U74)","v":0},null,null,null,{"$f":"IF(U71*U72*U73=0,0,IF(AA72=1,Z72*Z73,IF(AA72=2,Z72*Z74,Z72*Z75)))","v":0},{"$f":"$U$65","v":0},{"$f":"ListAVS!$B$92","v":"Jiné - volitelná hustota"},null,null,null,{"$f":"$AE$65*$U$65/1000","v":0},{"$f":"IF($AH$71=1,AG75*AE75,AH75*AE75)","v":0},{"$f":"SUM(($U$71-30)*($U$72-30)/1000000)","v":8.9999999999999998E-4},{"$f":"SUM(($U$71-6)*($U$72-6)/1000000)","v":3.6000000000000001E-5},"jiné"]
[null,null,null,null,null,null,null,null,null,null,null,null,null,null,null,{"$f":"IF((U16=2)*AND(U75>0)*AND(U74>0),$AB$93&\" \"&$AB$94,IF((U16<>2)*AND(U75>0),IF(U74=0,$AB$92,\" \"),\" \"))","v":" "},null,null,null,null,null,null,null,null,null,null,null,null,null,null,{"$f":"IF(OR(AND(AG71=3, $U$65=0), U71*U72=0), 0, SUM(IF(AG71=1,AF73,IF(AG71=2,AF74,AF75)),AF72,AF71))","v":0}]
[]
[]
[null,null,null,null,null,null,null,null,null,null,null,null,null,null,null,null,null,null,{"$f":"E20","v":" "},null,null,null,null,null,null,null,null,null,null,null,null,"váha spoj.","tl. skla","typ alu"]
[null,null,null,null,null,null,null,null,null,null,null,null,null,{"$f":"ListAVS!$B$74&\" KB [mm]       \"","v":"Šířka korpusu KB [mm]       "},null,null,null,null,null,null,{"$f":"I21","v":0},null,null,null,null,{"$f":"U80*U81*U82","v":0},null,null,null,null,{"$f":"IF($AH$71=1,$Y$92,$Y$93)","v":0.31},{"$f":"$Y$94","v":0.46},{"$f":"$AG$71","v":1},{"$f":"$AH$71","v":1}]
[null,null,null,null,null,null,null,null,null,null,null,null,null,{"$f":"ListAVS!$B$75&\" KH [mm]       \"","v":"Výška korpusu KH [mm]       "},null,null,null,null,null,null,{"$f":"I22","v":0},null,null,null,null,{"$f":"Z80/1000000000","v":0},{"$f":"AA72","v":0},null,null,null,"váha alu ->",{"$f":"SUM(U80*2,(U81-40)*2)*AE80/1000","v":-2.4799999999999999E-2},"A plocha B"]
[null,null,null,null,null,null,null,null,null,null,null,null,null,null,null,null,null,null,null,null,null,null,null,null,null,{"$f":"$Z$73","v":760},{"$f":"$AA$73","v":"MDF (760 kg/m3)"},null,null,null,{"$f":"AE73","v":10},{"$f":"IF($AH$71=1,AG82*AE82,AH82*AE82)","v":8.9999999999999993E-3},{"$f":"SUM(($U$80-30)*($U$81-30)/1000000)","v":8.9999999999999998E-4},{"$f":"SUM(($U$81-6)*($U$80-6)/1000000)","v":3.6000000000000001E-5},"4mm"]
[null,null,null,null,null,null,null,null,null,null,null,null,null,{"$f":"ListAVS!$B$83&\" [kg] \"","v":"Hmotnost úchytky [kg] "},null,null,null,null,null,null,{"$f":"I25","v":0},{"$f":"IF($U$27=2,\" \",IF(SUM(U80,U81)=0,\" \",IF(U83=0,\" ● \"&ListAVS!$B$129,\" \")))","v":" "},null,null,null,{"$f":"$Z$74","v":680},{"$f":"$AA$74","v":"Dřevotříska (680 kg/m3)"},null,null,null,{"$f":"AE74","v":12.5},{"$f":"IF($AH$71=1,AG83*AE83,AH83*AE83)","v":1.125E-2},{"$f":"SUM(($U$80-30)*($U$81-30)/1000000)","v":8.9999999999999998E-4},{"$f":"SUM(($U$81-6)*($U$80-6)/1000000)","v":3.6000000000000001E-5},"5mm"]
[null,null,null,null,null,null,null,null,null,null,null,null,null,{"$f":"ListAVS!$B$79&\" [kg] \"","v":"Vypočtená hmotnost čela [kg] "},null,null,null,null,null,null,{"$f":"IF(AE85=0,0,AE85+2*U83)","v":0},null,null,null,{"$f":"IF(U80*U81*U82=0,0,IF(AA81=1,Z81*Z82,IF(AA81=2,Z81*Z83,Z81*Z84)))","v":0},{"$f":"$Z$75","v":0},{"$f":"$AA$75","v":"Jiné - volitelná hustota"},null,null,null,{"$f":"AE75","v":0},{"$f":"IF($AH$71=1,AG84*AE84,AH84*AE84)","v":0},{"$f":"SUM(($U$80-30)*($U$81-30)/1000000)","v":8.9999999999999998E-4},{"$f":"SUM(($U$81-6)*($U$80-6)/1000000)","v":3.6000000000000001E-5},"jiné"]
[null,null,null,null,null,null,null,null,null,null,null,null,null,null,null,{"$f":"IF((U27=2)*AND(U84>0)*AND(U83>0),$AB$93&\" \"&$AB$94,IF((U27<>2)*AND(U84>0),IF(U83=0,$AB$92,\" \"),\" \"))","v":" "},null,null,null,null,null,null,null,null,null,null,null,null,null,null,{"$f":"IF(OR(AND(AG80=3, $U$65=0), U80*U81=0), 0, SUM(IF(AG80=1,AF82,IF(AG80=2,AF83,AF84)),AF81,AF80))","v":0}]
[]
[]
[]
[]
[]
[]
[null,null,null,null,null,null,null,null,null,null,null,null,null,null,null,null,null,null,null,null,null,null,null,{"$f":"ListAVS!$B$424&\"  \"","v":"s vloženým sklem  "},{"$f":"MenuAVS!$I$91","v":0.31},null,null,{"$f":"ListAVS!$B$102&\"!\"","v":"Není započtena hmotnost úchytky!"},null,null,null,null,{"$f":"ListAVS!$B$93","v":"Alurámečky s 4mm sklem"}]
[null,null,null,null,null,null,null,null,null,null,null,null,null,null,null,null,null,null,null,null,null,null,null,{"$f":"ListAVS!$B$425&\"  \"","v":"s naloženým nebo nalepeným sklem  "},{"$f":"MenuAVS!$I$92","v":0.32},null,null,{"$f":"ListAVS!B103","v":"Opravdu máte úchytku na TIP-ON?"},null,null,null,null,{"$f":"ListAVS!$B$94","v":"Alurámečky s 5mm sklem"}]
[null,null,null,null,null,null,null,null,null,null,null,null,null,null,null,null,null,null,null,null,null,null,null,{"$f":"ListAVS!$B$405&\" [kg/set] *  \"","v":"Hmotnost spojovacího materiálu [kg/set] *  "},{"$f":"MenuAVS!$I$93","v":0.46},null,null,{"$f":"ListAVS!B104&\"!\"","v":"Jestli ne, smažte hmotnost úchytky.!"},null,null,null,null,{"$f":"ListAVS!$B$95","v":"Alurámečky s jiným sklem"}]
[]
[]
[]
[]
[]
[null,"      AVENTOS HK-S"]
[]
[null,{"$f":"ListAVS!$B$302","v":"Potřebný zdvihač se určí pomocí ukazatele výkonnosti."}]
[null,{"$f":"ListAVS!$B$340","v":"Ukazatel výkonnosti závisí na hmotnosti čela (včetně dvojnásobné hmotnosti úchytky) a na výšce korpusu."}]
[]
[]
[null,null,null,{"$f":"ListAVS!$B$86&\" = \"","v":"Ukazatel výkonnosti = "},{"$f":"ListAVS!$B$341&\" [kg]\"","v":"výška korpusu (KH) [mm] x hmotnost čela včetně dvojnásobné hmotnosti úchytky [kg]"}]
[]
[null,{"$f":"ListAVS!$B$354","v":"V případě využití třetího zdvihače můžete zvýšit ukazatel výkonnosti a tudíž hmotnost čílka o 50%."}]
[null,{"$f":"\"(\"&ListAVS!$B$355&\")\"","v":"(Platí jen pro zdvihač 20K2E00)"}]
[null,{"$f":"ListAVS!$B$182","v":"Přídavný třetí zdvihač může být použit pouze s plným čelem!"}]
[]
[null,{"$f":"ListAVS!$B$311","v":"Pokud znáte hmotnost čela, můžete ji zadat, jinak použijte \"Výpočet hmotnosti\"."}]
[null,{"$f":"ListAVS!$B$312","v":"V tabulce má přednost zadaná hodnota. Chcete-li použít vypočtenou hmotnost, smažte zadanou hodnotu."}]
[]
[]
[null,{"$f":"ListAVS!$B$305","v":"Chcete-li změnit barvu krytek, přejděte na \"Úvod plánování\""}]
[]
[]
[null,{"$f":"ListAVS!$B$411","v":"Věnujte pozornost výběru alurámečků."}]
[null,{"$f":"ListAVS!$B$412","v":"Vyberte, který typ lépe odpovídá tvaru použitého alurámečku."}]
[null,{"$f":"ListAVS!$B$413","v":"Způsob osazení skla do rámečku výrazně ovlivňuje plochu skla a tím i hmotnost!"}]
[]
[null,null,{"$f":"\"  \"&ListAVS!$B$424&\"  \"","v":"  s vloženým sklem  "}]
[]
[null,null,{"$f":"\"  \"&ListAVS!$B$425&\"  \"","v":"  s naloženým nebo nalepeným sklem  "}]
[]
[null,null,null,null,null,null,null,null,null,null,null,{"$f":"ListAVS!$B$167","v":"Zpět"}]

{"sheet":"HKXSt","index":35,"n_rows":122,"n_cols":44,"rows_kept":122,"cut":false,"hidden":false,"merged":[[17,41,17,42],[19,41,20,45],[10,41,10,42],[11,41,11,42],[13,41,14,42],[15,41,15,42],[16,41,16,42],[10,1,10,7],[11,1,11,7],[4,5,4,9],[3,10,4,11],[8,17,8,18],[6,7,6,8],[6,1,6,3],[0,47,0,55],[1,1,1,3],[8,21,8,22],[9,21,9,22],[9,1,9,7],[8,1,8,2],[8,5,8,8],[7,41,8,42],[7,43,8,43],[9,41,9,42],[20,21,20,22],[19,17,19,18],[19,21,19,22],[79,13,79,18],[81,13,81,18],[30,20,30,21],[63,15,63,19],[82,13,82,18],[83,13,83,18],[67,17,67,19],[68,13,68,18],[69,13,69,18],[80,13,80,18],[71,13,71,18],[72,13,72,18],[78,17,78,19],[70,13,70,18],[22,41,23,45],[21,1,21,7],[22,1,22,7],[26,4,26,7],[26,1,26,3],[27,1,27,7],[38,1,42,11],[41,12,42,12],[44,12,45,12],[98,0,139,0],[105,4,105,11],[12,1,14,2],[23,1,25,2],[12,3,12,7],[13,3,13,7],[14,3,14,7],[23,3,23,7],[24,3,24,7],[25,3,25,7],[19,1,19,2],[20,1,20,7],[15,4,15,7],[15,1,15,3],[16,1,16,7],[19,5,19,8]]}
[]
[null,"AVENTOS HK-XS",null,null,null,null,null,null,null,null,null,null,null,null,null,null,null,null,3,null,null,null,null,null,null,null,null,null,null,null,null,null,null,null,null,null,null,null,{"$f":"ListAVS!$B$152","v":"Jdi na"}]
[]
[null,{"$f":"ListAVS!$B$23&\" ***\"","v":"Tenké materiály ***"},null,null,null,{"$f":"ListAVS!$B$26&\":  \"","v":"Materiál :  "},null,null,null,null,{"$f":"IF($AA$65=8,IF(J4=0,$Z$61,\" \"),IF(J4>0,$Z$62,\" \"))","v":" "},null,null,null,null,null,null,null,{"$f":"\" \"&ListAVS!$B$41&\" A \"","v":" Cena za korpus A "},null,null,null,null,null,null,null,null,null,null,null,null,null,null,null,null,null,null,null," Úvod plánování"]
[null,null,null,null,null,{"$f":"IF($AA$66<>3,$Z$60,\" \")&\"      \"","v":" Změnit hodnoty můžete v Úvodu plánování      "},null,null,null,null,null,null,null,null,null,null,null,null,{"$f":"\" \"&ListAVS!$B$41&\" B \"","v":" Cena za korpus B "},null,null,null,null,null,null,null,null,null,null,null,null,null,null,null,null,null,null,null,{"$f":"\" \"&ListAVS!$B$154","v":" Nápověda"}]
[null,null,null,null,null,null,null,null,null,null,null,null,null,null,null,null,null,null,{"$f":"\" \"&ListAVS!$B$61","v":" Cena celkem bez DPH"}]
[null,{"$f":"ListAVS!$B$51&\":   \"","v":"Cena kování:   "},null,null,null,null,null,{"$f":"IF($S$2=1, $AH$50, IF($S$2=2, $AJ$50, IF($S$2=3, $AF$50,0)))","v":0},null,null,null,null,null,null,null,null,null,null,null,null,null,null,null,null,null,null,{"$f":"$B$2","v":"AVENTOS HK-XS"},{"$f":"D5","v":0},null,null,null,null,null,null,null,null,null,null,{"$f":"\" \"&ListAVS!$B$159","v":" Doplňky"}]
[null,null,null,null,null,null,null,null,null,null,null,null,null,null,null,null,null,null,null,null,null,null,null,null,null,null,{"$f":"ListAVS!D52","v":0},{"$f":"ListAVS!$B$53","v":"Číslo artiklu"},{"$f":"ListAVS!D54","v":0},{"$f":"ListAVS!D56","v":0},{"$f":"ListAVS!D58","v":0},{"$f":"ListAVS!D59","v":0},"A","Cena","B","Cena",null,null,null,null,null,{"$f":"\"  \"&ListAVS!$B$86&\" LF \"","v":"  Ukazatel výkonnosti LF "},null,{"$f":"ListAVS!$B$84","v":"Zdvihací mechanizmus"}]
[null,{"$f":"\"▼ \"&ListAVS!$B$317","v":"▼ Způsob otvírání"},null,{"$f":"IF($M$17>0, ListAVS!$B$37&\": \", \" \")","v":" "},{"$f":"IF($AG$9>0,\"11\",IF($AG$10>0,\"13\",IF($AG$11>0,\"15\",IF($AG$15>0,\"11T\",IF($AG$16>0,\"13T\", IF($AG$17>0, \"15T\", \" \"))))))","v":" "},{"$f":"ListAVS!$B$64&\" A\"","v":"Korpus A"},null,null,null,null,null,null,null,null,null,null,null,"jeden zdvihač",null,null,null,"dva zdvihače",null,null,"Závěsy",null,{"$f":"CenAVS!A108","v":"Symetrický zdvihací mechanizmus HK-XS"},{"$f":"CenAVS!B108","v":"20K1101"},{"$f":"CenAVS!C108","v":"NI"},{"$f":"SUM(AG9,AI9)","v":0},{"$f":"CenAVS!F108","v":294.25},{"$f":"AD9*AE9","v":0},{"$f":"IF($U$16=1,SUM($O$11:$P$11)*$M$17,0)","v":0},{"$f":"$AE9*AG9","v":0},{"$f":"IF($U$27=1,SUM($O$22:$P$22)*$M$28,0)","v":0},{"$f":"$AE9*AI9","v":0},null,null,{"$f":"\" \"&ListAVS!$B$156","v":" Přehled korpusů"}]
[null,{"$f":"ListAVS!$B$74&\" KB [mm] \"","v":"Šířka korpusu KB [mm] "},null,null,null,null,null,null,null,{"$f":"IF($I10=0,\" \",IF($I10<220,\" min. 220mm\",IF($I10>1800,\" max. 1 800mm\",\" \")))&IF(I17>0,IF(I10=0,\"● \"&ListAVS!$B$128,\" \"),\" \")","v":"  "},null,null,null,"zdvih A","jeden","dva",null,"min","max","š.max","š. min",false,null,null,null,null,{"$f":"CenAVS!A109","v":"Symetrický zdvihací mechanizmus HK-XS"},{"$f":"CenAVS!B109","v":"20K1301"},{"$f":"CenAVS!C109","v":"NI"},0,{"$f":"CenAVS!F109","v":294.25},{"$f":"AD10*AE10","v":0},{"$f":"IF($U$16=1,SUM($O$12:$P$12)*$M$17,0)","v":0},{"$f":"$AE10*AG10","v":0},{"$f":"IF($U$27=1,SUM($O$23:$P$23)*$M$28,0)","v":0},{"$f":"$AE10*AI10","v":0},null,null,{"$f":"\" \"&ListAVS!$B$157","v":" Objednávka"},null,null,"  200 - 1000",null,"20K1101"]
[null,{"$f":"ListAVS!$B$75&\" KH [mm]  \"","v":"Výška korpusu KH [mm]  "},null,null,null,null,null,null,null,{"$f":"IF($I11=0,\" \",IF($I11<236,\" min. 236mm\",IF($I11>600,\" max. 600 mm\",\" \")))&IF(I17>0,IF(I11=0,\"● \"&ListAVS!$B$128,\" \"),\" \")","v":"  "},null,null,null,"K1101",{"$f":"IF($V$10=FALSE,IF($I$16>R11,IF($I$16<S11,1,0),0),0)","v":0},{"$f":"IF($V$10=TRUE,IF($I$16>V11,IF($I$16<W11,2,0),0),0)","v":0},null,{"$f":"IF(U16=1,199.99,179.99)","v":199.99},{"$f":"IF(U16=1,750,650)","v":750},null,null,{"$f":"IF(U16=1,399.99,359.99)","v":399.99},{"$f":"IF(U16=1,1500,1300)","v":1500},null,{"$f":"IF(OR(I10>1199,I16>2699),4,IF(OR(I10>899,I16>1799),3,2))","v":2},null,{"$f":"CenAVS!A110","v":"Symetrický zdvihací mechanizmus HK-XS"},{"$f":"CenAVS!B110","v":"20K1501"},{"$f":"CenAVS!C110","v":"NI"},0,{"$f":"CenAVS!F110","v":294.25},0,{"$f":"IF($U$16=1,SUM($O$13:$P$13)*$M$17,0)","v":0},{"$f":"$AE11*AG11","v":0},{"$f":"IF($U$27=1,SUM($O$24:$P$24)*$M$28,0)","v":0},{"$f":"$AE11*AI11","v":0},null,null,null,null,null,"  500 - 1500",null,"20K1301"]
[null,{"$f":"ListAVS!$B$78&\" [kg] ** \"","v":"Hmotnost čela vč. 2x hmotnost úchytky [kg] ** "},null,null,null,null,null,null,null,{"$f":"IF($I17=0,\" \",IF(SUM($I12,$I15)=0,$N$38,\" \"))&IF($M17>0,IF($I12>0,$N$39,\" \"),\" \")","v":"  "},null,null,null,"K1201",{"$f":"IF($V$10=FALSE,IF($I$16>R12,IF($I$16<S12,1,0),0),0)","v":0},{"$f":"IF($V$10=TRUE,IF($I$16>V12,IF($I$16<W12,2,0),0),0)","v":0},null,{"$f":"IF(U16=1,749.99,649)","v":749.99},{"$f":"IF(U16=1,1150,1000)","v":1150},null,null,{"$f":"IF(U16=1,1499.99,1299.99)","v":1499.99},{"$f":"IF(U16=1,2300,2000)","v":2300},null,null,null,null,null,null,null,null,null,null,null,null,null,null,null,null,null,null,"  800 - 1800",null,"20K1501"]
[null,{"$f":"ListAVS!$B$292","v":"Výpočet hmotnosti"},null,{"$f":"ListAVS!$B$80&\" TS [mm] \"","v":"Síla čela TS [mm] "},null,null,null,null,null,{"$f":"IF(I17=0,\" \",IF(AND(I12=0, I13=0),\" ● \"&ListAVS!$B$128,\" \"))&IF(I17=0,\" \",IF(AND(I12=0, I13<8), \" min. 8 mm\", \" \"))","v":"  "},null,null,null,"K1301",{"$f":"IF($V$10=FALSE,IF($I$16>R13,IF($I$16<S13,1,0),0),0)","v":0},{"$f":"IF($V$10=TRUE,IF($I$16>V13,IF($I$16<W13,2,0),0),0)","v":0},null,{"$f":"IF(U16=1,1149.99,999.99)","v":1149.99},{"$f":"IF(U16=1,1801,1601)","v":1801},null,null,{"$f":"IF(U16=1,2299.99,1999.99)","v":2299.9899999999998},{"$f":"IF(U16=1,3601,3201)","v":3601}]
[null,null,null,{"$f":"ListAVS!$B$83&\" [kg] \"","v":"Hmotnost úchytky [kg] "},null,null,null,null,null,{"$f":"IF(I17=0, \" \", IF(AND(I12=0, U16=1, I14=0), \" ● \"&ListAVS!$B$129,\" \"))","v":" "},null,null,null,null,null,null,null,null,null,null,null,null,null,null,null,null,null,null,null,null,null,null,null,null,null,null,null,null,null,null,null,{"$f":"\"  \"&ListAVS!$B$86&\" LF \"","v":"  Ukazatel výkonnosti LF "},null,"TIP-ON"]
[null,null,null,{"$f":"ListAVS!$B$79&\" [kg] \"","v":"Vypočtená hmotnost čela [kg] "},null,null,null,null,{"$f":"$T$73","v":0},{"$f":"IF(AND($I17>0,$I15>0,$I12=0,$M17>0), $N$39,\" \")&IF(AND(I17>0, I12=0, AB68=3, $J$4=0), $N$37, \" \")","v":"  "},null,null,null,null,null,null,null,null,null,null,{"$f":"IF(U16=1,$V$51,IF(U16=2,$V$52,$V$53))","v":"Standard"},null,null,null,null,null,{"$f":"CenAVS!A112","v":"Sym. zdvihací mechanizmus HK-XS, TIP-ON"},{"$f":"CenAVS!B112","v":"20K1101T"},{"$f":"CenAVS!C112","v":"NI"},0,{"$f":"CenAVS!F112","v":316.58999999999997},0,{"$f":"IF($U$16=2,SUM($O$11:$P$11)*$M$17,0)","v":0},{"$f":"$AE15*AG15","v":0},{"$f":"IF($U$27=2,SUM($O$22:$P$22)*$M$28,0)","v":0},{"$f":"$AE15*AI15","v":0},null,null,null,null,null,null,null,{"$f":"ListAVS!$B$84","v":"Zdvihací mechanizmus"}]
[null,{"$f":"ListAVS!$B$88&\" *      \"","v":"Druhý zdvihač *      "},null,null,{"$f":"ListAVS!$B$86&\" LF \"","v":"Ukazatel výkonnosti LF "},null,null,null,{"$f":"IF(I12>0,I11*I12,I11*I15)","v":0},{"$f":"IF(U16=1,IF($I16>3600,$N$42,IF($I16>1800.5,IF(V10=FALSE,$N$43,\" \"),\" \")),IF($I16>3200,$N$42,IF($I16>1600.5,IF(V10=FALSE,$N$43,\" \"),\" \")))","v":" "},null,null,null,null,null,null,null,null,null,null,1,null,null,null,null,null,{"$f":"CenAVS!A113","v":"Sym. zdvihací mechanizmus HK-XS, TIP-ON"},{"$f":"CenAVS!B113","v":"20K1301T"},{"$f":"CenAVS!C113","v":"NI"},0,{"$f":"CenAVS!F113","v":316.58999999999997},0,{"$f":"IF($U$16=2,SUM($O$12:$P$12)*$M$17,0)","v":0},{"$f":"$AE16*AG16","v":0},{"$f":"IF($U$27=2,SUM($O$23:$P$23)*$M$28,0)","v":0},{"$f":"$AE16*AI16","v":0},null,null,null,null,null,"  180 - 800",null,"20K1101T"]
[null,{"$f":"ListAVS!$B$71&\" \"","v":"Počet skříněk "},null,null,null,null,null,null,null,null,null,null,{"$f":"IF(OR($I10*$I11*$T17=0,$I11<236,$I11>600, AND(I12=0,I13<8), SUM(O11:P14)=0),0,IF($I16>1800,IF($V10=FALSE,0,$I17),$I17))","v":0},null,null,null,null,null,"hmot =",{"$f":"IF(I12>0,I12,I15)","v":0},{"$f":"IF(SUM(I12,I15)=0,0,IF(I12>0,1,2))","v":0},"zadaná / vypočtená",null,null,null,null,{"$f":"CenAVS!A114","v":"Sym. zdvihací mechanizmus HK-XS, TIP-ON"},{"$f":"CenAVS!B114","v":"20K1501T"},{"$f":"CenAVS!C114","v":"NI"},0,{"$f":"CenAVS!F114","v":316.58999999999997},0,{"$f":"IF($U$16=2,SUM($O$13:$P$13)*$M$17,0)","v":0},{"$f":"$AE17*AG17","v":0},{"$f":"IF($U$27=2,SUM($O$24:$P$24)*$M$28,0)","v":0},{"$f":"$AE17*AI17","v":0},null,null,null,null,null,"  500 - 1200",null,"20K1301T"]
[null,{"$f":"IF(I17>0,IF(U17=0,\" \",IF(U17=1,$N$54,$N$55)),\" \")&IF(I17>0,IF(U17=0,\" \",IF(U17=1,$N$56,$N$57)),\" \")","v":"  "},null,null,null,null,null,null,null,null,null,null,null,null,null,null,null,null,null,null,null,null,null,null,null,null,null,null,null,null,null,null,null,null,null,null,null,null,null,null,null,"  800 - 1600",null,"20K1501T"]
[null,null,null,null,null,null,null,null,null,null,null,null,null,null,null,null,null,null,null,null,null,null,null,null,null,null,{"$f":"CenAVS!A116","v":"Boční čep HK-XS na korpus"},{"$f":"CenAVS!B116","v":"20K5101"},{"$f":"CenAVS!C116","v":"NI"},0,{"$f":"CenAVS!F116","v":18.63},0,{"$f":"IF($P$49=2,SUM(AG$9:AG$17),0)","v":0},{"$f":"$AE19*AG19","v":0},{"$f":"IF($P$49=2,SUM(AI$9:AI$17),0)","v":0},{"$f":"$AE19*AI19","v":0}]
[null,{"$f":"\"▼ \"&ListAVS!$B$317","v":"▼ Způsob otvírání"},null,{"$f":"IF($M$28>0, ListAVS!$B$37&\": \", \" \")","v":" "},{"$f":"IF($AI$9>0,\"11\",IF($AI$10>0,\"13\",IF($AI$11>0,\"15\",IF($AI$15>0,\"11T\",IF($AI$16>0,\"13T\", IF($AI$17>0, \"15T\", \" \"))))))","v":" "},{"$f":"ListAVS!$B$64&\" B\"","v":"Korpus B"},null,null,null,null,null,null,null,null,null,null,null,"jeden zdvihač",null,null,null,"dva zdvihače",null,null,"Závěsy",null,{"$f":"CenAVS!A117","v":"Boční čep HK-XS na korpus, EXPANDO"},{"$f":"CenAVS!B117","v":"20K51E1"},{"$f":"CenAVS!C117","v":"NI"},0,{"$f":"CenAVS!F117","v":25.16},0,{"$f":"IF($P$49=1,SUM(AG$9:AG$17),0)","v":0},{"$f":"$AE20*AG20","v":0},{"$f":"IF($P$49=1,SUM(AI$9:AI$17),0)","v":0},{"$f":"$AE20*AI20","v":0},null,null,null,null,null,{"$f":"ListAVS!$B$86&\" LF = \"&ListAVS!$B$75&\" KH [mm] x \"&ListAVS!$B$78&\" [kg]\"","v":"Ukazatel výkonnosti LF = Výška korpusu KH [mm] x Hmotnost čela vč. 2x hmotnost úchytky [kg]"}]
[null,{"$f":"ListAVS!$B$74&\" KB [mm] \"","v":"Šířka korpusu KB [mm] "},null,null,null,null,null,null,null,{"$f":"IF($I21=0,\" \",IF($I21<220,\" min. 220mm\",IF($I21>1800,\" max. 1 800mm\",\" \")))&IF(I28>0,IF(I21=0,\"● \"&ListAVS!$B$128,\" \"),\" \")","v":"  "},null,null,null,"zdvih B","jeden","dva",null,"min","max","š.max","š. min",false]
[null,{"$f":"ListAVS!$B$75&\" KH [mm] \"","v":"Výška korpusu KH [mm] "},null,null,null,null,null,null,null,{"$f":"IF($I22=0,\" \",IF($I22<236,\" min. 236 mm\",IF($I22>600,\" max. 600 mm\",\" \")))&IF(I28>0,IF(I22=0,\"● \"&ListAVS!$B$128,\" \"),\" \")","v":"  "},null,null,null,"K1101",{"$f":"IF($V$21=FALSE,IF($I$27>R22,IF($I$27<S22,1,0),0),0)","v":0},{"$f":"IF($V$21=TRUE,IF($I$27>V22,IF($I$27<W22,2,0),0),0)","v":0},null,{"$f":"IF(U27=1,199.99,179.99)","v":199.99},{"$f":"IF(U27=1,750,650)","v":750},null,null,{"$f":"IF(U27=1, 399.99, 359.99)","v":399.99},{"$f":"IF(U27=1,1500,1300)","v":1500},null,{"$f":"IF(OR(I21>1199,I27>2699),4,IF(OR(I21>899,I27>1799),3,2))","v":2},null,{"$f":"CenAVS!A119","v":"Čelní kování HK-XS"},{"$f":"CenAVS!B119","v":"20K4101"},{"$f":"CenAVS!C119","v":"NI"},0,{"$f":"CenAVS!F119","v":12.67},0,{"$f":"SUM(AG$9:AG$17)","v":0},{"$f":"$AE22*AG22","v":0},{"$f":"SUM(AI$9:AI$17)","v":0},{"$f":"$AE22*AI22","v":0}]
[null,{"$f":"ListAVS!$B$78&\" [kg] ** \"","v":"Hmotnost čela vč. 2x hmotnost úchytky [kg] ** "},null,null,null,null,null,null,null,{"$f":"IF($I28=0,\" \",IF(SUM($I23,$I26)=0,$N$38,\" \"))&IF($M28>0,IF($I23>0,$N$39,\" \"),\" \")","v":"  "},null,null,null,"K1201",{"$f":"IF($V$21=FALSE,IF($I$27>R23,IF($I$27<S23,1,0),0),0)","v":0},{"$f":"IF($V$21=TRUE,IF($I$27>V23,IF($I$27<W23,2,0),0),0)","v":0},null,{"$f":"IF(U27=1,749.99, 649.99)","v":749.99},{"$f":"IF(U27=1,1150,1000)","v":1150},null,null,{"$f":"IF(U27=1,1499.99,1299.99)","v":1499.99},{"$f":"IF(U27=1,2300,2000)","v":2300},null,null,null,{"$f":"CenAVS!A120","v":"Čelní kování HK-XS, EXPANDO"},{"$f":"CenAVS!B120","v":"20K41E1"},{"$f":"CenAVS!C120","v":"NI"},0,{"$f":"CenAVS!F120","v":19.190000000000001},0,null,{"$f":"$AE23*AG23","v":0},null,{"$f":"$AE23*AI23","v":0},null,null,null,null,null,{"$f":"ListAVS!$B$353","v":"V případě použití po obou stranách se faktor výkonnosti zdvojnásobí."}]
[null,{"$f":"ListAVS!$B$292","v":"Výpočet hmotnosti"},null,{"$f":"ListAVS!$B$80&\" TS [mm] \"","v":"Síla čela TS [mm] "},null,null,null,null,null,{"$f":"IF(I28=0,\" \",IF(AND(I23=0, I24=0),\" ● \"&ListAVS!$B$128,\" \"))&IF(I28=0,\" \",IF(AND(I23=0, I24<8), \" min. 8 mm\", \" \"))","v":"  "},null,null,null,"K1301",{"$f":"IF($V$21=FALSE,IF($I$27>R24,IF($I$27<S24,1,0),0),0)","v":0},{"$f":"IF($V$21=TRUE,IF($I$27>V24,IF($I$27<W24,2,0),0),0)","v":0},null,{"$f":"IF(U27=1,1149.99, 999.99)","v":1149.99},{"$f":"IF(U27=1,1801,1601)","v":1801},null,null,{"$f":"IF(U27=1,2299.99, 1999.99)","v":2299.9899999999998},{"$f":"IF(U27=1,3601,3201)","v":3601}]
[null,null,null,{"$f":"ListAVS!$B$83&\" [kg] \"","v":"Hmotnost úchytky [kg] "},null,null,null,null,null,{"$f":"IF(I28=0, \" \", IF(AND(I23=0, U27=1, I25=0), \" ● \"&ListAVS!$B$129,\" \"))","v":" "}]
[null,null,null,{"$f":"ListAVS!$B$79&\" [kg] \"","v":"Vypočtená hmotnost čela [kg] "},null,null,null,null,{"$f":"$T$84","v":0},{"$f":"IF(AND($I28>0,$I26>0,$I23=0,$M28>0), $N$39,\" \")&IF(AND(I28>0, I23=0, AB68=3, $J$4=0), $N$37, \" \")","v":"  "},null,null,null,null,null,null,null,null,null,null,{"$f":"IF(U27=1,$V$51,IF(U27=2,$V$52,$V$53))","v":"Standard"},null,null,null,null,null,{"$f":"CenAVS!A121","v":"Čelní kování HK-XS pro úzké alurámečky"},{"$f":"CenAVS!B121","v":"20K4101A"},{"$f":"CenAVS!C121","v":"NI"},0,{"$f":"CenAVS!F121","v":85.33},0,null,{"$f":"$AE26*AG26","v":0},null,{"$f":"$AE26*AI26","v":0}]
[null,{"$f":"ListAVS!$B$88&\" *      \"","v":"Druhý zdvihač *      "},null,null,{"$f":"ListAVS!$B$86&\" LF \"","v":"Ukazatel výkonnosti LF "},null,null,null,{"$f":"IF(I23>0,I22*I23,I22*I26)","v":0},{"$f":"IF(U27=1,IF($I27>3600,$N$42,IF($I27>1800.5,IF(V21=FALSE,$N$43,\" \"),\" \")),IF($I27>3200,$N$42,IF($I27>1600.5,IF(V21=FALSE,$N$43,\" \"),\" \")))","v":" "},null,null,null,null,null,null,null,null,null,null,1]
[null,{"$f":"ListAVS!$B$71&\" \"","v":"Počet skříněk "},null,null,null,null,null,null,null,null,null,null,{"$f":"IF(OR($I21*$I22*$T28=0,$I22<236,$I22>600, AND(I23=0, I24<8), SUM(O22:P25)=0),0,IF($I27>1800,IF($V21=FALSE,0,$I28),$I28))","v":0},null,null,null,null,null,"hmot =",{"$f":"IF(I23>0,I23,I26)","v":0},{"$f":"IF(SUM(I23,I26)=0,0,IF(I23>0,1,2))","v":0},"zadaná / vypočtená",null,null,null,null,{"$f":"CenAVS!A148","v":"CLIP top BLUMOTION, 110°, naložený"},{"$f":"CenAVS!B148","v":" 71B3550"},{"$f":"CenAVS!C148","v":"NI"},0,{"$f":"CenAVS!F148","v":106.31},0,null,{"$f":"$AE28*AG28","v":0},null,{"$f":"$AE28*AI28","v":0}]
[null,{"$f":"IF(I28>0,IF(U28=0,\" \",IF(U28=1,$N$54,$N$55)),\" \")&IF(I28>0,IF(U28=0,\" \",IF(U28=1,$N$56,$N$57)),\" \")","v":"  "},null,null,null,null,null,null,null,null,null,null,null,null,null,null,null,null,null,null,null,null,null,null,null,null,{"$f":"CenAVS!A149","v":"CLIP top BLUMOTION, 110°, nalož. EXPANDO"},{"$f":"CenAVS!B149","v":" 71B358E"},{"$f":"CenAVS!C149","v":"NI"},0,{"$f":"CenAVS!F149","v":97.81},0,null,0,null,0]
[null,null,null,null,null,null,null,null,null,null,null,null,null,null,null,null,null,null,null,null,null,null,null,null,null,null,{"$f":"CenAVS!A150","v":"CLIP top závěs 110°, bez pružiny, naložený"},{"$f":"CenAVS!B150","v":" 70T3550.TL"},{"$f":"CenAVS!C150","v":"NI"},0,{"$f":"CenAVS!F150","v":50.28},0,null,0,null,0]
[null,null,null,null,null,null,null,null,null,null,null,null,null,null,null,null,null,null,null,{"$f":"IF($U$31=FALSE,2,1)","v":2},false,null," - Zdroj",null,null,null,{"$f":"CenAVS!A151","v":"CLIP top závěs 110°, bez pružiny, nalož. EXPANDO"},{"$f":"CenAVS!B151","v":" 70T358E.TL"},{"$f":"CenAVS!C151","v":"NI"},0,{"$f":"CenAVS!F151","v":50.44},0,null,0,null,0]
[null,null,null,null,null,null,null,null,null,null,null,null,null,null,null,null,null,null,null,null,null,null,null,null,null,null,{"$f":"CenAVS!A152","v":"CLIP top BLUMOTION, závěs pro tenká dvířka"},{"$f":"CenAVS!B152","v":" 71B453T"},{"$f":"CenAVS!C152","v":"NI"},0,{"$f":"CenAVS!F152","v":375.38},0,{"$f":"IF($U$16=1, SUM($Y$11)*$M$17, 0)","v":0},0,{"$f":"IF($U$27=1, SUM($Y$22)*$M$28, 0)","v":0},0]
[null,null,null,null,null,null,null,null,null,null,null,null,null,null,null,null,null,null,null,null,null,null,null,null,null,null,{"$f":"CenAVS!A153","v":"CLIP top závěs pro tenká dvířka, bez pružiny"},{"$f":"CenAVS!B153","v":" 70T453T.TL"},{"$f":"CenAVS!C153","v":"NI"},0,{"$f":"CenAVS!F153","v":321.95999999999998},0,{"$f":"IF($U$16=2, SUM($Y$11)*$M$17, 0)","v":0},0,{"$f":"IF($U$27=2, SUM($Y$22)*$M$28, 0)","v":0},0]
[null," *",{"$f":"ListAVS!$B$353","v":"V případě použití po obou stranách se faktor výkonnosti zdvojnásobí."},null,null,null,null,null,null,null,null,null,null,null,null,null,null,null,null,null,null,null,null,null,null,null,{"$f":"CenAVS!A154","v":"CLIP top BLUMOTION, závěs pro úzké alu, naložený"},{"$f":"CenAVS!B154","v":" 71B950A"},{"$f":"CenAVS!C154","v":"NI"},{"$f":"SUM(AG34,AI34)","v":0},{"$f":"CenAVS!F154","v":180.71},{"$f":"AD34*AE34","v":0},null,0,null,0]
[null,null,null,null,null,null,null,null,null,null,null,null,null,null,null,null,null,null,null,null,null,null,null,null,null,null,{"$f":"CenAVS!A22","v":"Závěs CLIP top pro alurámečky"},{"$f":"CenAVS!B22","v":"72T550A.TL"},{"$f":"CenAVS!C22","v":"NI"},{"$f":"SUM(AG35,AI35)","v":0},{"$f":"CenAVS!F22","v":77.180000000000007},{"$f":"AD35*AE35","v":0},null,0,null,0]
[null," **",{"$f":"ListAVS!$B$186","v":"Pokud znáte hmotnost a nechcete využít výpočtu hmotnosti"},null,null,null,null,null,null,null,null,null,null,null,null,null,null,null,null,null,null,null,null,null,null,null,{"$f":"CenAVS!A123","v":"Samořezný vrut do alurámečků"},{"$f":"CenAVS!B123","v":"660.0950"},{"$f":"CenAVS!C123","v":"NI"},{"$f":"SUM(AG36,AI36)","v":0},{"$f":"CenAVS!F123","v":1.7},{"$f":"AD36*AE36","v":0},null,0,null,0]
[null,"***",{"$f":"ListAVS!$B$25","v":"materiály tloušťky od 8 do 14 mm"},null,null,null,null,null,null,null,null,null,null,{"$f":"\" \"&ListAVS!$B$117","v":" Vyplňte nahoře objemovou hmotnost "},null,null,null,null,null,null,null,null,null,null,null,null,{"$f":"CenAVS!A158","v":"EXPANDO T, samostatná hmoždinka"},{"$f":"CenAVS!B158","v":"70T4532T"},{"$f":"CenAVS!C158","v":"DGR"},{"$f":"SUM(AG37,AI37)","v":0},{"$f":"CenAVS!F158","v":63.33},{"$f":"AD37*AE37","v":0},{"$f":"AG$22*2","v":0},0,{"$f":"AI$22*2","v":0},0]
[null,null,null,null,null,null,null,null,null,null,null,null,null,{"$f":"\" \"&ListAVS!$B$115","v":" Zadejte hmotnost nebo vyplňte všechny buňky"}]
[null,{"$f":"ListAVS!$B$420","v":"Mějte prosím na paměti, že použitelných materiálů je celá řada. Vzhledem k různé objemové hmotnosti nelze zaručit, že všechny materiály budou použitelné pro každou velikost skříňky. Obzvláště u lehčích materiálů nemusí hmotnost čela dosáhnout minimální hodnoty pro daný rozměr. Pokud se po správném zadání všech parametrů nezobrazí v Soupisu kování žádné hodnoty, je pravděpodobné, že váha čela je pod minimální hodnotou. V tom případě nelze výklop realizovat."},null,null,null,null,null,null,null,null,null,null,null,{"$f":"\"◄ \"&ListAVS!$B$111","v":"◄ hodnota bude použita pro výpočet LF"},null,null,null,null,null,null,null,null,null,null,null,null,{"$f":"CenAVS!A166","v":"CLIP top přímá mont. podložka, ocel, 0 mm"},{"$f":"CenAVS!B166","v":"175H3100"},{"$f":"CenAVS!C166","v":"NI"},{"$f":"SUM(AG39,AI39)","v":0},{"$f":"CenAVS!F166","v":16.98},{"$f":"AD39*AE39","v":0},{"$f":"IF($O$49=2, $Y$11*$M$17, 0)","v":0},{"$f":"$AE39*AG39","v":0},{"$f":"IF($O$49=2, $Y$22*$M$28, 0)","v":0},{"$f":"$AE39*AI39","v":0}]
[null,null,null,null,null,null,null,null,null,null,null,null,null,{"$f":"\" * \"&ListAVS!$B$127","v":" * Doplňte hodnoty"},null,null,null,null,null,null,null,null,null,null,null,null,{"$f":"CenAVS!A167","v":"CLIP top přímá mont. podložka, ocel, EXP, 0 mm"},{"$f":"CenAVS!B167","v":"177H3100E "},{"$f":"CenAVS!C167","v":"NI"},{"$f":"SUM(AG40,AI40)","v":0},{"$f":"CenAVS!F167","v":17.07},{"$f":"AD40*AE40","v":0},{"$f":"IF($O$49=1, $Y$11*$M$17, 0)","v":0},{"$f":"$AE40*AG40","v":0},{"$f":"IF($O$49=1, $Y$22*$M$28, 0)","v":0},{"$f":"$AE40*AI40","v":0}]
[]
[null,null,null,null,null,null,null,null,null,null,null,null,"korpus   A",{"$f":"IF(U16=1,\" max. 3.600! \"&ListAVS!$B$121,\" max. 3.200! \"&ListAVS!$B$121)","v":" max. 3.600! Upravte hmotnost nebo výšku"},null,null,null,null,null,null,null,null,null,null,null,null,{"$f":"CenAVS!A185","v":"TIP-ON, krátká verze, šedá"},{"$f":"CenAVS!B185","v":"956.1004"},{"$f":"CenAVS!C185","v":"PG"},{"$f":"SUM(AG42,AI42)","v":0},{"$f":"CenAVS!F185","v":116.95},{"$f":"AD42*AE42","v":0},{"$f":"IF(AND($T$49<3, $U$16=2), $M$17, 0)","v":0},{"$f":"$AE42*AG42","v":0},{"$f":"IF(AND($T$49<3, $U$27=2), $M$28, 0)","v":0},{"$f":"$AE42*AI42","v":0}]
[null,null,null,null,null,null,null,null,null,null,null,null,null,{"$f":"IF(U16=1,\" max. 1.800! \"&ListAVS!$B$131,\" max. 1.600! \"&ListAVS!$B$131)","v":" max. 1.800! Přidejte druhý zdvihač"},null,null,null,null,null,null,null,null,null,null,null,null,{"$f":"CenAVS!A186","v":"TIP-ON, krátká verze, hedvábně bílá"},{"$f":"CenAVS!B186","v":"956.1004"},{"$f":"CenAVS!C186","v":"SW"},{"$f":"SUM(AG43,AI43)","v":0},{"$f":"CenAVS!F186","v":116.95},{"$f":"AD43*AE43","v":0},{"$f":"IF(AND($T$49=3, $U$16=2), $M$17, 0)","v":0},{"$f":"$AE43*AG43","v":0},{"$f":"IF(AND($T$49=3, $U$27=2), $M$28, 0)","v":0},{"$f":"$AE43*AI43","v":0}]
[null,null,null,null,null,null,null,null,null,null,null,null,null,null,null,null,null,null,null,null,null,null,null,null,null,null,{"$f":"CenAVS!A187","v":"TIP-ON, krátká verze, karbon černá"},{"$f":"CenAVS!B187","v":"956.1004"},{"$f":"CenAVS!C187","v":"CS"},{"$f":"SUM(AG44,AI44)","v":0},{"$f":"CenAVS!F187","v":116.95},{"$f":"AD44*AE44","v":0},null,{"$f":"$AE44*AG44","v":0},null,{"$f":"$AE44*AI44","v":0}]
[null,null,null,null,null,null,null,null,null,null,null,null,"korpus   B",{"$f":"IF(U27=1,\" max. 3.600! \"&ListAVS!$B$121,\" max. 3.200! \"&ListAVS!$B$121)","v":" max. 3.600! Upravte hmotnost nebo výšku"}]
[null,null,null,null,null,null,null,null,null,null,null,null,null,{"$f":"IF(U27=1,\" max. 1.800! \"&ListAVS!$B$131,\" max. 1.600! \"&ListAVS!$B$131)","v":" max. 1.800! Přidejte druhý zdvihač"}]
[]
[]
[null,null,null,null,null,null,null,null,null,null,null,null,null,null,{"$f":"HKXS!Q26","v":1},{"$f":"HKXS!$O$26","v":1},null,null,null,{"$f":"MenuAVS!$U$28","v":1}]
[null,null,null,null,null,null,null,null,null,null,null,null,null,"záv.","podl","čep","čelní kov.",null,null,"barva",null,"provedení",null,null,null,null,null,null,null,null,{"$f":"ListAVS!$B$61&\" \"","v":"Cena celkem bez DPH "},{"$f":"SUM(AF9:AF47)","v":0},null,{"$f":"SUM(AH9:AH49)","v":0},null,{"$f":"SUM(AJ9:AJ49)","v":0}]
[null,null,null,null,null,null,null,null,null,null,null,null,null,null,"1 =",{"$f":"ListAVS!$D$142","v":0},null,null,null,{"$f":"ListAVS!$B$145","v":"Světle šedá (HGR)"},null,"Standard"]
[null,null,null,null,null,null,null,null,null,null,null,null,null,null,"2 =",{"$f":"ListAVS!$B$143","v":"na vruty"},null,null,null,{"$f":"ListAVS!$B$147","v":"Hedvábně bílá (SW)"},null,"TIP-ON"]
[]
[null,null,null,null,null,null,null,null,null,null,null,null,null,{"$f":"ListAVS!B187&\". \"","v":"Pro určení typu zdvihače bude použita zadaná hmotnost. "}]
[null,null,null,null,null,null,null,null,null,null,null,null,null,{"$f":"ListAVS!B188&\". \"","v":"Pro určení typu zdvihače bude použita vypočtená hmotnost. "}]
[null,null,null,null,null,null,null,null,null,null,null,null,null,{"$f":"ListAVS!B189","v":"Chcete-li použít vypočtenou hmotnost, smažte zadanou hodnotu"}]
[null,null,null,null,null,null,null,null,null,null,null,null,null,{"$f":"ListAVS!B190","v":"Chcete-li použít zadanou hmotnost, zadejte ji do políčka"}]
[]
[null,null,null,null,null,null,null,null,null,null,null,null,null,null,null,null,null,null,null,null,null,null,null,null,null,{"$f":"IF($AA$65=1,$AA$66,IF($AA$65=2,$AA$67,IF($AA$65=3,$AA$68,IF($AA$65=4,$AA$69,IF($AA$65=5,$AA$70,IF($AA$65=6,$AA$71,IF($AA$65=7,$AA$72,$AA$73&\" \"&$Z$73&\"kg/m3\")))))))&\" A~\"&$T$71&\"/ B~\"&$T$82&\"mm\"","v":"Kompakt (1350 kg/m3) A~0/ B~0mm"}]
[null,null,null,null,null,null,null,null,null,null,null,null,null,null,null,null,null,null,null,null,null,null,null,null,null,{"$f":"\" \"&ListAVS!$B$410","v":" Změnit hodnoty můžete v Úvodu plánování"}]
[null,null,null,null,null,null,null,null,null,null,null,null,null,null,null,null,null,null,null,null,null,null,null,null,null,{"$f":"\" \"&ListAVS!$B$244&\" [kg/m3]\"","v":" Zadejte objemovou hmotnost  [kg/m3]"}]
[null,null,null,null,null,null,null,null,null,null,null,null,null,{"$f":"ListAVS!$B$73","v":"Výpočet hmotnosti čel"},null,null,null,null,null,null,null,null,null,null,null,{"$f":"\" \"&ListAVS!$B$240&\" '\"&ListAVS!$B$92&\"'\"","v":" Hodnota platí jen pro volbu 'Jiné - volitelná hustota'"}]
[null,null,null,null,null,null,null,null,null,null,null,null,null,null,null,{"$f":"ListAVS!$B$26&\":  \"","v":"Materiál :  "},null,null,null,{"$f":"J4","v":0},{"$f":"IF(AA66=3,IF(T63=0,Z61,\" \"),IF(T63>0,Z62,\" \"))","v":" "}]
[null,null,null,null,null,null,null,null,null,null,null,null,null,null,null,{"$f":"IF($AA$66<>3,$Z$60,\" \")&\"      \"","v":" Změnit hodnoty můžete v Úvodu plánování      "},null,null,null,null,null,null,null,null,null,null,null,{"$f":"IF(OR(T71<8, T71>14), 0, 1)","v":0}]
[null,null,null,null,null,null,null,null,null,null,null,null,null,null,null,null,null,null,null,null,null,null,null,null,null,{"$f":"IF(AB$64=1, T69*T70*T71/1000000000, 0)","v":0},3,"↑Síla čela 1=ok, 0=fail"]
[null,null,null,null,null,null,null,null,null,null,null,null,null,null,null,null,null,null,null,null,null,null,null,null,null,{"$f":"MenuAVS!$C31","v":760},{"$f":"ListAVS!$B$90&\" (\"&Z66&\" kg/m3)\"","v":"MDF (760 kg/m3)"}]
[null,null,null,null,null,null,null,null,null,null,null,null,null,null,null,null,null,null,null,null,null,null,null,null,null,{"$f":"MenuAVS!$C32","v":680},{"$f":"ListAVS!$B$91&\" (\"&Z67&\" kg/m3)\"","v":"Dřevotříska (680 kg/m3)"}]
[null,null,null,null,null,null,null,null,null,null,null,null,null,null,null,null,null,{"$f":"E9","v":" "},null,null,null,null,null,null,null,{"$f":"MenuAVS!$F31","v":1350},{"$f":"ListAVS!$B$96&\" (\"&Z68&\" kg/m3)\"","v":"Kompakt (1350 kg/m3)"}]
[null,null,null,null,null,null,null,null,null,null,null,null,null,{"$f":"ListAVS!$B$74&\" KB [mm]       \"","v":"Šířka korpusu KB [mm]       "},null,null,null,null,null,{"$f":"I10","v":0},null,null,null,null,null,{"$f":"MenuAVS!$F32","v":1700},{"$f":"ListAVS!$B$97&\" (\"&Z69&\" kg/m3)\"","v":"Kompozit (1700 kg/m3)"}]
[null,null,null,null,null,null,null,null,null,null,null,null,null,{"$f":"ListAVS!$B$75&\" KH [mm]       \"","v":"Výška korpusu KH [mm]       "},null,null,null,null,null,{"$f":"I11","v":0},null,null,null,null,null,{"$f":"MenuAVS!$F33","v":2600},{"$f":"ListAVS!$B$98&\" (\"&Z70&\" kg/m3)\"","v":"Kámen (2600 kg/m3)"}]
[null,null,null,null,null,null,null,null,null,null,null,null,null,{"$f":"ListAVS!$B$80&\" TS [mm] \"","v":"Síla čela TS [mm] "},null,null,null,null,null,{"$f":"I13","v":0},{"$f":"IF(SUM(T69,T70)=0,\" \",IF(T71=0,\" ● \"&ListAVS!$B$128, IF(T71<8,\" min 8 mm!\",IF(T71>14,\" max. 14 mm!\",\" \"))))","v":" "},null,null,null,null,{"$f":"MenuAVS!$I31","v":2400},{"$f":"ListAVS!$B$99&\" (\"&Z71&\" kg/m3)\"","v":"Keramika (2400 kg/m3)"}]
[null,null,null,null,null,null,null,null,null,null,null,null,null,{"$f":"ListAVS!$B$83&\" [kg] \"","v":"Hmotnost úchytky [kg] "},null,null,null,null,null,{"$f":"I14","v":0},{"$f":"IF($U$16=2,\" \",IF(SUM(T69,T70)=0,\" \",IF(T72=0,\" ● \"&ListAVS!$B$129,\" \")))","v":" "},null,null,null,null,{"$f":"MenuAVS!$I32","v":2300},{"$f":"ListAVS!$B$100&\" (\"&Z72&\" kg/m3)\"","v":"Beton (2300 kg/m3)"}]
[null,null,null,null,null,null,null,null,null,null,null,null,null,{"$f":"ListAVS!$B$79&\" [kg] \"","v":"Vypočtená hmotnost čela [kg] "},null,null,null,null,null,{"$f":"IF(Y73=0,0,Y73+2*T72)","v":0},null,null,null,null,{"$f":"IF(T69*T70*T71=0,0,IF(AA65=1,Z65*Z66,IF(AA65=2,Z65*Z67, IF(AA65=3,Z65*Z68, IF(AA65=4, Z65*Z69, IF(AA65=5, Z65*Z70, IF(AA65=6, Z65*Z71, IF(AA65=7, Z65*Z72, Z65*Z73))))))))","v":0},{"$f":"$T$63","v":0},{"$f":"ListAVS!$B$92","v":"Jiné - volitelná hustota"}]
[]
[null,null,null,null,null,null,null,null,null,null,null,null,null,null,null,null,null,null,null,null,null,null,null,null,null,null,null,{"$f":"IF(OR(T82<8, T82>14), 0, 1)","v":0}]
[null,null,null,null,null,null,null,null,null,null,null,null,null,null,null,null,null,null,null,null,null,null,null,null,null,{"$f":"IF(AB$75=1, T80*T81*T82/1000000000, 0)","v":0},{"$f":"AA65","v":3},"↑Síla čela 1=ok, 0=fail"]
[null,null,null,null,null,null,null,null,null,null,null,null,null,null,null,null,null,null,null,null,null,null,null,null,null,{"$f":"$Z$66","v":760},{"$f":"$AA$66","v":"MDF (760 kg/m3)"}]
[null,null,null,null,null,null,null,null,null,null,null,null,null,null,null,null,null,null,null,null,null,null,null,null,null,{"$f":"$Z$67","v":680},{"$f":"$AA$67","v":"Dřevotříska (680 kg/m3)"}]
[null,null,null,null,null,null,null,null,null,null,null,null,null,null,null,null,null,{"$f":"E20","v":" "},null,null,null,null,null,null,null,{"$f":"$Z$68","v":1350},{"$f":"$AA$68","v":"Kompakt (1350 kg/m3)"}]
[null,null,null,null,null,null,null,null,null,null,null,null,null,{"$f":"ListAVS!$B$74&\" KB [mm]       \"","v":"Šířka korpusu KB [mm]       "},null,null,null,null,null,{"$f":"I21","v":0},null,null,null,null,null,{"$f":"$Z$69","v":1700},{"$f":"$AA$69","v":"Kompozit (1700 kg/m3)"}]
[null,null,null,null,null,null,null,null,null,null,null,null,null,{"$f":"ListAVS!$B$75&\" KH [mm]       \"","v":"Výška korpusu KH [mm]       "},null,null,null,null,null,{"$f":"I22","v":0},null,null,null,null,null,{"$f":"$Z$70","v":2600},{"$f":"$AA$70","v":"Kámen (2600 kg/m3)"}]
[null,null,null,null,null,null,null,null,null,null,null,null,null,{"$f":"ListAVS!$B$80&\" TS [mm] \"","v":"Síla čela TS [mm] "},null,null,null,null,null,{"$f":"I24","v":0},{"$f":"IF(SUM(T80,T81)=0,\" \",IF(T82=0,\" ● \"&ListAVS!$B$128, IF(T82<8,\" min 8 mm!\",IF(T82>14,\" max. 14 mm!\",\" \"))))","v":" "},null,null,null,null,{"$f":"$Z$71","v":2400},{"$f":"$AA$71","v":"Keramika (2400 kg/m3)"}]
[null,null,null,null,null,null,null,null,null,null,null,null,null,{"$f":"ListAVS!$B$83&\" [kg] \"","v":"Hmotnost úchytky [kg] "},null,null,null,null,null,{"$f":"I25","v":0},{"$f":"IF($U$27=2,\" \",IF(SUM(T80,T81)=0,\" \",IF(T83=0,\" ● \"&ListAVS!$B$129,\" \")))","v":" "},null,null,null,null,{"$f":"$Z$72","v":2300},{"$f":"$AA$72","v":"Beton (2300 kg/m3)"}]
[null,null,null,null,null,null,null,null,null,null,null,null,null,{"$f":"ListAVS!$B$79&\" [kg] \"","v":"Vypočtená hmotnost čela [kg] "},null,null,null,null,null,{"$f":"IF(Y84=0,0,Y84+2*T83)","v":0},null,null,null,null,{"$f":"IF(T80*T81*T82=0,0,IF(AA76=1,Z76*Z77,IF(AA76=2,Z76*Z78, IF(AA76=3,Z76*Z79, IF(AA76=4, Z76*Z80, IF(AA76=5, Z76*Z81, IF(AA76=6, Z76*Z82, IF(AA76=7, Z76*Z83, Z76*Z84))))))))","v":0},{"$f":"$Z$73","v":0},{"$f":"$AA$73","v":"Jiné - volitelná hustota"}]
[]
[]
[]
[]
[]
[null,null,null,null,null,null,null,null,null,null,null,null,null,null,null,null,null,null,null,null,null,null,null,null,null,null,{"$f":"ListAVS!$B$102&\"!\"","v":"Není započtena hmotnost úchytky!"}]
[null,null,null,null,null,null,null,null,null,null,null,null,null,null,null,null,null,null,null,null,null,null,null,null,null,null,{"$f":"ListAVS!B103","v":"Opravdu máte úchytku na TIP-ON?"}]
[null,null,null,null,null,null,null,null,null,null,null,null,null,null,null,null,null,null,null,null,null,null,null,null,null,null,{"$f":"ListAVS!B104&\"!\"","v":"Jestli ne, smažte hmotnost úchytky.!"}]
[]
[]
[]
[]
[]
[]
[]
[null,"      AVENTOS HK-XS"]
[]
[null,{"$f":"ListAVS!$B$302","v":"Potřebný zdvihač se určí pomocí ukazatele výkonnosti."}]
[null,{"$f":"ListAVS!$B$340","v":"Ukazatel výkonnosti závisí na hmotnosti čela (včetně dvojnásobné hmotnosti úchytky) a na výšce korpusu."}]
[]
[]
[null,null,null,{"$f":"ListAVS!$B$86&\" = \"","v":"Ukazatel výkonnosti = "},{"$f":"ListAVS!$B$341&\" [kg]\"","v":"výška korpusu (KH) [mm] x hmotnost čela včetně dvojnásobné hmotnosti úchytky [kg]"}]
[]
[null,{"$f":"ListAVS!$B$354","v":"V případě využití třetího zdvihače můžete zvýšit ukazatel výkonnosti a tudíž hmotnost čílka o 50%."}]
[null,{"$f":"\"(\"&ListAVS!$B$355&\")\"","v":"(Platí jen pro zdvihač 20K2E00)"}]
[null,{"$f":"ListAVS!$B$182","v":"Přídavný třetí zdvihač může být použit pouze s plným čelem!"}]
[]
[null,{"$f":"ListAVS!$B$311","v":"Pokud znáte hmotnost čela, můžete ji zadat, jinak použijte \"Výpočet hmotnosti\"."}]
[null,{"$f":"ListAVS!$B$312","v":"V tabulce má přednost zadaná hodnota. Chcete-li použít vypočtenou hmotnost, smažte zadanou hodnotu."}]
[]
[]
[null,{"$f":"ListAVS!$B$305","v":"Chcete-li změnit barvu krytek, přejděte na \"Úvod plánování\""}]
[]
[]
[]
[]
[]
[null,null,null,null,null,null,null,null,null,null,null,{"$f":"ListAVS!$B$167","v":"Zpět"}]

{"sheet":"HKiw","index":36,"n_rows":121,"n_cols":45,"rows_kept":121,"cut":false,"hidden":false,"merged":[[89,13,89,18],[90,13,90,18],[95,18,95,19],[98,0,139,0],[105,4,105,11],[88,13,88,18],[42,2,44,10],[70,15,70,19],[74,17,74,19],[75,13,75,18],[76,13,76,18],[77,13,77,18],[78,13,78,18],[79,13,79,18],[85,17,85,19],[86,13,86,18],[87,13,87,18],[36,2,39,10],[20,1,20,6],[20,21,20,22],[21,1,21,6],[22,1,22,6],[23,1,25,2],[23,3,23,6],[24,3,24,6],[25,3,25,6],[26,1,26,2],[26,3,26,6],[27,1,27,6],[29,19,29,20],[16,1,16,6],[16,42,17,46],[19,1,19,2],[19,5,19,7],[19,17,19,18],[19,21,19,22],[12,1,14,2],[12,3,12,6],[12,42,12,43],[13,3,13,6],[14,3,14,6],[14,42,15,46],[15,1,15,2],[15,3,15,6],[0,42,0,50],[1,1,1,3],[7,44,8,44],[8,1,8,2],[8,5,8,7],[8,17,8,18],[8,21,8,22],[11,1,11,6],[11,42,11,43],[3,10,4,11],[4,5,4,9],[6,1,6,2],[6,6,6,7],[7,42,8,43],[9,1,9,6],[9,21,9,22],[9,42,9,43],[10,1,10,6],[10,42,10,43]]}
[]
[null,"AVENTOS HKi",null,null,null,null,null,null,null,null,null,null,null,null,null,null,null,null,3,null,null,null,null,null,null,null,null,null,null,null,null,null,null,null,null,null,null,null,null,{"$f":"ListAVS!$B$152","v":"Jdi na"}]
[]
[null,{"$f":"ListAVS!$B$17","v":"Dřevěné čelo"},null,null,null,{"$f":"ListAVS!$B$179&\"  \"","v":"Provedení čel  "},null,null,null,null,{"$f":"IF($Z$77=3,IF(J4=0,$Y$72,\" \"),IF(J4>0,$Y$73,\" \"))","v":" "},null,null,null,null,null,null,null,{"$f":"\" \"&ListAVS!$B$41&\" A \"","v":" Cena za korpus A "},null,null,null,null,null,null,null,null,null,null,null,null,null,null,null,null,null,null,null,null," Úvod plánování"]
[null,null,null,null,null,{"$f":"IF($Z$77<>3,$Y$71,\" \")&\"      \"","v":" Změnit hodnoty můžete v Úvodu plánování      "},null,null,null,null,null,null,null,null,null,null,null,null,{"$f":"\" \"&ListAVS!$B$41&\" B \"","v":" Cena za korpus B "},null,null,null,null,null,null,null,null,null,null,null,null,null,null,null,null,null,null,null,null,{"$f":"\" \"&ListAVS!$B$154","v":" Nápověda"}]
[null,null,null,null,null,null,null,null,null,null,null,null,null,null,null,null,null,null,{"$f":"\" \"&ListAVS!$B$61","v":" Cena celkem bez DPH"}]
[null,{"$f":"ListAVS!$B$51&\":   \"","v":"Cena kování:   "},null,null,null,null,{"$f":"IF(S2=1,$AF$48,IF($S$2=2,$AH$48,IF($S$2=3,$AD$48,0)))","v":0},null,null,null,null,{"$f":"IF($R$44=1, ListAVS!$B$429, ListAVS!$B$430)","v":"plně integrovaný"},null,null,null,null,null,null,null,null,null,null,null,null,{"$f":"$B$2","v":"AVENTOS HKi"},{"$f":"B5","v":0},null,null,null,null,null,null,null,null,null,null,null,null,null,{"$f":"\" \"&ListAVS!$B$159","v":" Doplňky"}]
[null,null,null,null,null,null,null,{"$f":"IF(AND(OR($U$16=2, $U$27=2), $AD$48>0), $N$34, \" \")","v":" "},null,null,null,null,null,null,null,null,null,null,null,null,null,null,null,null,{"$f":"ListAVS!B52","v":"Název"},{"$f":"ListAVS!$B$53","v":"Číslo artiklu"},{"$f":"ListAVS!B54","v":"Barva"},{"$f":"ListAVS!B56","v":"Ks"},{"$f":"ListAVS!B58","v":"Jednotková cena"},{"$f":"ListAVS!B59","v":"Celkem"},"A","Cena","B","Cena",null,null,null,null,null,null,null,null,{"$f":"\"  \"&ListAVS!$B$86&\" LF \"","v":"  Ukazatel výkonnosti LF "},null,{"$f":"ListAVS!$B$84","v":"Zdvihací mechanizmus"}]
[null,{"$f":"\"▼ \"&ListAVS!$B$317","v":"▼ Způsob otvírání"},null,{"$f":"IF($M$17>0, ListAVS!$B$37&\": \", \" \")","v":" "},{"$f":"IF($AE$9>0,\"23\",IF($AE$10>0,\"25\",IF($AE$11>0,\"27\",IF($AE$12>0,\"28\",IF($AE$14>0,\"23T\",IF($AE$15>0,\"25T\",IF($AE$16>0,\"27T\",IF($AE$17>0,\"28T\",\" \"))))))))","v":" "},{"$f":"ListAVS!$B$64&\" A\"","v":"Korpus A"},null,null,null,null,null,null,null,null,null,null,null,"dva zdvihače",null,2000,{"$f":"T9-1","v":1999},"tři zdvihače",null,null,{"$f":"CenAVS!A125","v":"Sada zdvihačů HKi, LF 420–1610"},{"$f":"CenAVS!B125","v":"24K2300"},{"$f":"CenAVS!C125","v":"OS"},{"$f":"SUM(AE9,AG9)","v":0},{"$f":"CenAVS!F125","v":8016.43},{"$f":"AB9*AC9","v":0},{"$f":"IF(U$16=1, ROUNDUP(SUM(O11:P11)*$M$17,0),0)","v":0},{"$f":"$AC9*AE9","v":0},{"$f":"IF($U$27=1, ROUNDUP(SUM(O22:P22)*$M$28,0),0)","v":0},{"$f":"$AC9*AG9","v":0},null,null,null,null,null,{"$f":"\" \"&ListAVS!$B$156","v":" Přehled korpusů"}]
[null,{"$f":"ListAVS!$B$74&\" KB [mm] \"","v":"Šířka korpusu KB [mm] "},null,null,null,null,null,null,{"$f":"IF($H10=0,\" \",IF($H10<220,\" min. 220mm\",\" \"))&IF(H17>0,IF(H10=0,\"● \"&ListAVS!$B$128,\" \"),\" \")","v":"  "},null,null,null,null,"zdvih A","dva","tři",null,"min","max","š.max","š. min",false,null,null,{"$f":"CenAVS!A126","v":"Sada zdvihačů HKi, LF 930–2800"},{"$f":"CenAVS!B126","v":"24K2500"},{"$f":"CenAVS!C126","v":"OS"},{"$f":"SUM(AE10,AG10)","v":0},{"$f":"CenAVS!F126","v":8016.43},{"$f":"AB10*AC10","v":0},{"$f":"IF(U$16=1, ROUNDUP(SUM(O12:P12)*$M$17,0),0)","v":0},0,{"$f":"IF($U$27=1, ROUNDUP(SUM(O23:P23)*$M$28,0),0)","v":0},0,null,null,null,null,null,{"$f":"\" \"&ListAVS!$B$157","v":" Objednávka"},null,null,"  420 - 1610",null,"24K2300"]
[null,{"$f":"ListAVS!$B$75&\" KH [mm]  \"","v":"Výška korpusu KH [mm]  "},null,null,null,null,null,null,{"$f":"IF($H11=0,\" \",IF($H11<170,\" min. 170mm\",IF($H11>600,\" max. 600 mm!\",\" \")))&IF(H17>0,IF(H11=0,\"● \"&ListAVS!$B$128,\" \"),\" \")","v":"  "},null,null,null,null,"K23",{"$f":"IF($V$10=FALSE,IF($H$16>R11,IF($H$16<S11,1,0),0),0)","v":0},{"$f":"IF($V$10=TRUE,IF($H$16>V11,IF($H$16<W11,1.5,0),0),0)","v":0},null,420,1160,null,null,{"$f":"R11*1.5","v":630},{"$f":"S11*1.5","v":1740},null,{"$f":"CenAVS!A127","v":"Sada zdvihačů HKi, LF 1730–5200"},{"$f":"CenAVS!B127","v":"24K2700"},{"$f":"CenAVS!C127","v":"OS"},0,{"$f":"CenAVS!F127","v":8155.85},0,{"$f":"IF(U$16=1, ROUNDUP(SUM(O13:P13)*$M$17,0),0)","v":0},0,{"$f":"IF($U$27=1, ROUNDUP(SUM(O24:P24)*$M$28,0),0)","v":0},0,null,null,null,null,null,null,null,null,"  930 - 2800",null,"24K2500"]
[null,{"$f":"ListAVS!$B$78&\" [kg] ** \"","v":"Hmotnost čela vč. 2x hmotnost úchytky [kg] ** "},null,null,null,null,null,null,{"$f":"IF($H17=0,\" \",IF(SUM($H12,$H15)=0,$N$36,\" \"))&IF($H17>0,IF($H12>0,$N$37,\" \"),\" \")","v":"  "},null,null,null,null,"K25",{"$f":"IF($V$10=FALSE,IF($H$16>R12,IF($H$16<S12,1,0),0),0)","v":0},{"$f":"IF($V$10=TRUE,IF($H$16>V12,IF($H$16<W12,1.5,0),0),0)","v":0},null,1159.99,2265,null,null,1739.99,3398,null,{"$f":"CenAVS!A128","v":"Sada zdvihačů HKi, LF 2600–7800"},{"$f":"CenAVS!B128","v":"24K2800"},{"$f":"CenAVS!C128","v":"OS"},0,{"$f":"CenAVS!F128","v":8504.39},0,{"$f":"IF(U$16=1, ROUNDUP(SUM(O14:P14)*$M$17,0),0)","v":0},0,{"$f":"IF($U$27=1, ROUNDUP(SUM(O25:P25)*$M$28,0),0)","v":0},0,null,null,null,null,null,null,null,null,"  1730 - 5200",null,"24K2700"]
[null,{"$f":"ListAVS!$B$292","v":"Výpočet hmotnosti"},null,{"$f":"ListAVS!$B$80&\" TS [mm] \"","v":"Síla čela TS [mm] "},null,null,null,null,{"$f":"IF(H17=0,\" \",IF(AND(H12=0, H13=0),\" ● \"&ListAVS!$B$128,\" \"))&IF(H17=0,\" \",IF(AND(H12=0, H13<14), \" min. 14 mm\", \" \"))","v":"  "},null,null,null,null,"K27",{"$f":"IF($V$10=FALSE,IF($H$16>R13,IF($H$16<S13,1,0),0),0)","v":0},{"$f":"IF($V$10=TRUE,IF($H$16>V13,IF($H$16<W13,1.5,0),0),0)","v":0},null,2264.9899999999998,3470,null,null,3397.99,{"$f":"S13*1.5","v":5205},null,null,null,null,null,null,null,null,null,null,null,null,null,null,null,null,null,null,null,"  2600 - 7800",null,"24K2800"]
[null,null,null,{"$f":"ListAVS!$B$83&\" [kg] \"","v":"Hmotnost úchytky [kg] "},null,null,null,null,{"$f":"IF(H17=0, \" \", IF(AND(H12=0, U16=1, H14=0), \" ● \"&ListAVS!$B$129,\" \"))","v":" "},null,null,null,null,"K28",{"$f":"IF($V$10=FALSE,IF($H$16>R14,IF($H$16<S14,1,0),0),0)","v":0},{"$f":"IF($V$10=TRUE,IF($H$16>V14,IF($H$16<W14,1.5,0),0),0)","v":0},null,3469.99,7800,null,null,5204.99,{"$f":"S14*1.5","v":11700},null,{"$f":"CenAVS!A130","v":"Sada zdvihačů HKi pro TIP-ON, LF 420–1610"},{"$f":"CenAVS!B130","v":"24K2300T"},{"$f":"CenAVS!C130","v":"OS"},0,{"$f":"CenAVS!F130","v":8123.98},0,{"$f":"IF($U$16=2, ROUNDUP(SUM(O11:P11)*$M$17,0),0)","v":0},0,{"$f":"IF($U$27=2, ROUNDUP(SUM(O22:P22)*$M$28,0),0)","v":0},0]
[null,null,null,{"$f":"ListAVS!$B$79&\" [kg] \"","v":"Vypočtená hmotnost čela [kg] "},null,null,null,{"$f":"$T$80","v":0},{"$f":"IF(AND($H17>0,$H15>0,$H12=0,$M17>0), $N$37,\" \")&IF(AND(H17>0, H12=0, Z77=3, $J$4=0), $N$35, \" \")","v":"  "},null,null,null,null,null,null,null,null,null,null,null,{"$f":"IF(U16=1,$V$46, $V$47)","v":"Standard"},null,null,null,{"$f":"CenAVS!A131","v":"Sada zdvihačů HKi pro TIP-ON, LF 930–2800"},{"$f":"CenAVS!B131","v":"24K2500T"},{"$f":"CenAVS!C131","v":"OS"},0,{"$f":"CenAVS!F131","v":8123.98},0,{"$f":"IF($U$16=2, ROUNDUP(SUM(O12:P12)*$M$17,0),0)","v":0},0,{"$f":"IF($U$27=2, ROUNDUP(SUM(O23:P23)*$M$28,0),0)","v":0},0,null,null,null,null,null,null,null,null,{"$f":"ListAVS!$B$86&\" LF = \"&ListAVS!$B$75&\" KH [mm] x \"&ListAVS!$B$78&\" [kg]\"","v":"Ukazatel výkonnosti LF = Výška korpusu KH [mm] x Hmotnost čela vč. 2x hmotnost úchytky [kg]"}]
[null,{"$f":"ListAVS!$B$87&\" *      \"","v":"Třetí zdvihač *      "},null,{"$f":"ListAVS!$B$86&\" LF \"","v":"Ukazatel výkonnosti LF "},null,null,null,{"$f":"IF(H12>0,H11*H12,H11*H15)","v":0},{"$f":"IF(H17=0,\" \",IF($H16<420,$N$39,IF($H16>13500,$N$40,IF($H16>9000,IF(V10=FALSE,$N$41,\" \"),\" \"))))","v":" "},null,null,null,null,null,null,null,null,null,null,null,1,null,null,null,{"$f":"CenAVS!A132","v":"Sada zdvihačů HKi pro TIP-ON, LF 1730–5200"},{"$f":"CenAVS!B132","v":"24K2700T"},{"$f":"CenAVS!C132","v":"OS"},0,{"$f":"CenAVS!F132","v":8356.6},0,{"$f":"IF($U$16=2, ROUNDUP(SUM(O13:P13)*$M$17,0),0)","v":0},0,{"$f":"IF($U$27=2, ROUNDUP(SUM(O24:P24)*$M$28,0),0)","v":0},0]
[null,{"$f":"ListAVS!$B$71&\" \"","v":"Počet skříněk "},null,null,null,null,null,null,{"$f":"IF($H16>13500,\" \",IF($H16>9000,IF(V10=FALSE,$N$42,\" \"),\" \"))","v":" "},null,null,null,{"$f":"IF($H10*$H11*$T17=0,0,IF(OR($H11<170,H11>600),0,IF(H16<420,0,IF($H16>13500,0,IF(AND($H12=0,$H13<14),0,IF(H16>9000,IF(V10=FALSE,0,$H17),$H17))))))","v":0},null,null,null,null,null,"hmot =",{"$f":"IF(H12>0,H12,H15)","v":0},{"$f":"IF(SUM(H12,H15)=0,0,IF(H12>0,1,2))","v":0},"zadaná / vypočtená",null,null,{"$f":"CenAVS!A133","v":"Sada zdvihačů HKi pro TIP-ON, LF 2600–7800"},{"$f":"CenAVS!B133","v":"24K2800T"},{"$f":"CenAVS!C133","v":"OS"},0,{"$f":"CenAVS!F133","v":8705.1299999999992},0,{"$f":"IF($U$16=2, ROUNDUP(SUM(O14:P14)*$M$17,0),0)","v":0},0,{"$f":"IF($U$27=2, ROUNDUP(SUM(O25:P25)*$M$28,0),0)","v":0},0,null,null,null,null,null,null,null,null,{"$f":"ListAVS!$B$354","v":"V případě využití třetího zdvihače můžete zvýšit ukazatel výkonnosti a tudíž hmotnost čílka o 50%."}]
[null,{"$f":"IF(H17>0,IF(OR(U17=0,M17=0), \" \",IF(U17=1, $N$49, $N$50)),\" \")&IF(H17>0,IF(OR(U17=0, M17=0), \" \",IF(U17=1, $N$51, $N$52)),\" \")","v":"  "}]
[null,null,null,null,null,null,null,null,null,null,null,null,null,null,null,null,null,null,null,null,null,null,null,null,{"$f":"CenAVS!A135","v":"Symetrické čelní kování Hki, EXPANDO"},{"$f":"CenAVS!B135","v":"24K42E1"},{"$f":"CenAVS!C135","v":"OS"},0,{"$f":"CenAVS!F135","v":209.13},0,{"$f":"SUM($AE$9:$AE$17)*2","v":0},0,{"$f":"SUM($AG$9:$AG$17)*2","v":0},0]
[null,{"$f":"\"▼ \"&ListAVS!$B$317","v":"▼ Způsob otvírání"},null,{"$f":"IF($M$28>0, ListAVS!$B$37&\": \", \" \")","v":" "},{"$f":"IF($AG$9>0,\"23\",IF($AG$10>0,\"25\",IF($AG$11>0,\"27\",IF($AG$12>0,\"28\",IF($AG$14>0,\"23T\",IF($AG$15>0,\"25T\",IF($AG$16>0,\"27T\",IF($AG$17>0,\"28T\",\" \"))))))))","v":" "},{"$f":"ListAVS!$B$64&\" B\"","v":"Korpus B"},null,null,null,null,null,null,null,null,null,null,null,"dva zdvihače",null,null,null,"tři zdvihače",null,null,{"$f":"CenAVS!A136","v":"Symetrické čelní kování Hki, pro alurámečky"},{"$f":"CenAVS!B136","v":"24K4201A"},{"$f":"CenAVS!C136","v":"OS"},0,{"$f":"CenAVS!F136","v":230.04},0,null,0,null,0]
[null,{"$f":"ListAVS!$B$74&\" KB [mm] \"","v":"Šířka korpusu KB [mm] "},null,null,null,null,null,null,{"$f":"IF($H21=0,\" \",IF($H21<220,\" min. 220mm\",IF($H21>1800,\" max. 1 800mm\",\" \")))&IF(H28>0,IF(H21=0,\"● \"&ListAVS!$B$128,\" \"),\" \")","v":"  "},null,null,null,null,"zdvih B","dva","tři",null,"min","max",null,null,false]
[null,{"$f":"ListAVS!$B$75&\" KH [mm] \"","v":"Výška korpusu KH [mm] "},null,null,null,null,null,null,{"$f":"IF($H22=0,\" \",IF($H22<170,\" min. 170mm\",IF($H22>600,\" max. 600 mm!\",\" \")))&IF(H28>0,IF(H22=0,\"● \"&ListAVS!$B$128,\" \"),\" \")","v":"  "},null,null,null,null,"K23",{"$f":"IF($V$21=FALSE,IF($H$27>R22,IF($H$27<S22,1,0),0),0)","v":0},{"$f":"IF($V$21=TRUE,IF($H$27>V22,IF($H$27<W22,1.5,0),0),0)","v":0},null,420,1160,null,null,{"$f":"R22*1.5","v":630},{"$f":"S22*1.5","v":1740},null,{"$f":"CenAVS!A138","v":"Sada krytek HKi, hedvábně bílá"},{"$f":"CenAVS!B138","v":"24K8000"},{"$f":"CenAVS!C138","v":"SW"},0,{"$f":"CenAVS!F138","v":689.28},0,{"$f":"IF(AND($R$44=2, $T$44=3),SUM($AE$9:$AE$17),0)","v":0},0,{"$f":"IF(AND($R$44=2, $T$44=3),SUM($AG$9:$AG$17),0)","v":0},0]
[null,{"$f":"ListAVS!$B$78&\" [kg] ** \"","v":"Hmotnost čela vč. 2x hmotnost úchytky [kg] ** "},null,null,null,null,null,null,{"$f":"IF($H28=0,\" \",IF(SUM($H23,$H26)=0,$N$36,\" \"))&IF($H28>0,IF($H23>0,$N$37,\" \"),\" \")","v":"  "},null,null,null,null,"K25",{"$f":"IF($V$21=FALSE,IF($H$27>R23,IF($H$27<S23,1,0),0),0)","v":0},{"$f":"IF($V$21=TRUE,IF($H$27>V23,IF($H$27<W23,1.5,0),0),0)","v":0},null,1159.99,2265,null,null,1739.99,3398,null,{"$f":"CenAVS!A139","v":"Sada krytek HKi, světle šedá"},{"$f":"CenAVS!B139","v":"24K8000"},{"$f":"CenAVS!C139","v":"HGR"},0,{"$f":"CenAVS!F139","v":669.2},0,{"$f":"IF(AND($R$44=2, $T$44=1),SUM($AE$9:$AE$17),0)","v":0},0,{"$f":"IF(AND($R$44=2, $T$44=1),SUM($AG$9:$AG$17),0)","v":0},0]
[null,{"$f":"ListAVS!$B$292","v":"Výpočet hmotnosti"},null,{"$f":"ListAVS!$B$80&\" TS [mm] \"","v":"Síla čela TS [mm] "},null,null,null,null,{"$f":"IF(H28=0,\" \",IF(AND(H23=0, H24=0),\" ● \"&ListAVS!$B$128,\" \"))&IF(H28=0,\" \",IF(AND(H23=0, H24<14), \" min. 14 mm\", \" \"))","v":"  "},null,null,null,null,"K27",{"$f":"IF($V$21=FALSE,IF($H$27>R24,IF($H$27<S24,1,0),0),0)","v":0},{"$f":"IF($V$21=TRUE,IF($H$27>V24,IF($H$27<W24,1.5,0),0),0)","v":0},null,2264.9899999999998,3470,null,null,3397.99,{"$f":"S24*1.5","v":5205},null,{"$f":"CenAVS!A140","v":"Sada krytek HKi, tmavě šedá"},{"$f":"CenAVS!B140","v":"24K8000"},{"$f":"CenAVS!C140","v":"TGR"},0,{"$f":"CenAVS!F140","v":689.28},0,{"$f":"IF(AND($R$44=2, $T$44=2),SUM($AE$9:$AE$17),0)","v":0},0,{"$f":"IF(AND($R$44=2, $T$44=2),SUM($AG$9:$AG$17),0)","v":0},0]
[null,null,null,{"$f":"ListAVS!$B$83&\" [kg] \"","v":"Hmotnost úchytky [kg] "},null,null,null,null,{"$f":"IF(H28=0, \" \", IF(AND(H23=0, U27=1, H25=0), \" ● \"&ListAVS!$B$129,\" \"))","v":" "},null,null,null,null,"K28",{"$f":"IF($V$21=FALSE,IF($H$27>R25,IF($H$27<S25,1,0),0),0)","v":0},{"$f":"IF($V$21=TRUE,IF($H$27>V25,IF($H$27<W25,1.5,0),0),0)","v":0},null,3469.99,7800,null,null,5204.99,{"$f":"S25*1.5","v":11700}]
[null,null,null,{"$f":"ListAVS!$B$79&\" [kg] \"","v":"Vypočtená hmotnost čela [kg] "},null,null,null,{"$f":"$T$91","v":0},{"$f":"IF(AND($H28>0,$H26>0,$H23=0,$M28>0), $N$37,\" \")&IF(AND(H28>0, H23=0, Z88=3, $J$4=0), $N$35, \" \")","v":"  "},null,null,null,null,null,null,null,null,null,null,null,{"$f":"IF(U27=1,$V$46,$V$47)","v":"Standard"},null,null,null,{"$f":"CenAVS!A144","v":"Sada předfrézovaných surových desek pro HKi"},{"$f":"CenAVS!B144","v":"24K7100"},{"$f":"CenAVS!C144","v":"NA"},{"$f":"J32","v":0},{"$f":"CenAVS!F144","v":2867.4},0,null,0,null,0]
[null,{"$f":"ListAVS!$B$87&\" *      \"","v":"Třetí zdvihač *      "},null,{"$f":"ListAVS!$B$86&\" LF \"","v":"Ukazatel výkonnosti LF "},null,null,null,{"$f":"IF(H23>0,H22*H23,H22*H26)","v":0},{"$f":"IF(H28=0,\" \",IF($H27<420,$N$39,IF($H27>13500,$N$40,IF($H27>9000,IF(V21=FALSE,$N$41,\" \"),\" \"))))","v":" "},null,null,null,null,null,null,null,null,null,null,null,1,null,null,null,{"$f":"CenAVS!A145","v":"Distanční díl pro HKi"},{"$f":"CenAVS!B145","v":"M45.1010"},{"$f":"CenAVS!C145","v":"NA"},{"$f":"J33","v":0},{"$f":"CenAVS!F145","v":858.54},0,null,0,null,0]
[null,{"$f":"ListAVS!$B$71&\" \"","v":"Počet skříněk "},null,null,null,null,null,null,{"$f":"IF($H27>13500,\" \",IF($H27>9000,IF(V21=FALSE,$N$42,\" \"),\" \"))","v":" "},null,null,null,{"$f":"IF($H21*$H22*$T28=0,0,IF(OR($H22<170,H22>600),0,IF(H27<420,0,IF($H27>13500,0,IF(AND($H23=0,$H24<14),0,IF(H27>9000,IF(V21=FALSE,0,$H28),$H28))))))","v":0},null,null,null,null,null,"hmot =",{"$f":"IF(H23>0,H23,H26)","v":0},{"$f":"IF(SUM(H23,H26)=0,0,IF(H23>0,1,2))","v":0},"zadaná / vypočtená",null,null,{"$f":"CenAVS!A146","v":0},{"$f":"CenAVS!B146","v":0},{"$f":"CenAVS!C146","v":0},{"$f":"SUM(AE28,AG28)","v":0},{"$f":"CenAVS!F146","v":0},0,null,0,null,0]
[null,{"$f":"IF(H28>0,IF(OR(U28=0,M28=0), \" \",IF(U28=1, $N$49, $N$50)),\" \")&IF(H28>0,IF(OR(U28=0, M28=0), \" \",IF(U28=1, $N$51, $N$52)),\" \")","v":"  "},null,null,null,null,null,null,null,null,null,null,null,null,null,null,null,null,null,null,null,null,null,null,{"$f":"CenAVS!A147","v":0},{"$f":"CenAVS!B147","v":0},{"$f":"CenAVS!C147","v":0},0,{"$f":"CenAVS!F147","v":0},0,null,0,null,0]
[null,null,null,null,null,null,null,null,null,null,null,null,null,null,null,null,null,null,{"$f":"IF($T$30=FALSE,2,1)","v":2},false,null," - Zdroj",null,null,null,null,null,null,null,0,null,0,null,0]
[null,null,null,null,null,null,null,null,null,null,null,null,null,null,null,null,null,null,null,null,null,null,null,null,null,null,null,null,null,0,null,0,null,0]
[null,{"$f":"ListAVS!B343&\" \"\"\"&ListAVS!B159&\"\"\"\"","v":"Pro objednání sady předfrézovaných boků použijte \"Doplňky\""},null,null,null,null,null,null,null,null,null,null,null,null,null,null,null,null,null,null,null,null,null,null,null,null,null,null,null,{"$f":"AB32*AC32","v":0},null,0,null,0]
[null,null,null,null,null,null,null,null,null,null,null,null,null,null,null,null,null,null,null,null,null,null,null,null,null,null,null,null,null,0,null,0,null,0]
[null,null,null,null,null,null,null,null,null,null,null,null,null,{"$f":"ListAVS!B176","v":"Cena bez napájecího zdroje!"},null,null,null,null,null,null,null,null,null,null,null,null,null,null,null,0,null,0,null,0]
[null,null,{"$f":"IF(OR($V$10=TRUE, $V$21=TRUE), ListAVS!$B$182, \" \")","v":" "},null,null,null,null,null,null,null,null,null,null,{"$f":"\" \"&ListAVS!$B$117","v":" Vyplňte nahoře objemovou hmotnost "},null,null,null,null,null,null,null,null,null,null,null,null,null,null,null,0,null,0,null,0]
[null,null,null,null,null,null,null,null,null,null,null,null,null,{"$f":"\" \"&ListAVS!$B$115","v":" Zadejte hmotnost nebo vyplňte všechny buňky"},null,null,null,null,null,null,null,null,null,null,null,null,null,null,null,0,null,0,null,0]
[null," *",{"$f":"ListAVS!$B$230&\" \"&ListAVS!$B$231","v":"U širokých korpusů doporučujeme nainstalovat třetí zdvihač na střed korpusu. Důvodem je prohýbání čela v otevřené pozici. Také faktor výkonnosti LF a váha dveří mohou být o 50% navýšeny."},null,null,null,null,null,null,null,null,null,null,{"$f":"\"◄ \"&ListAVS!$B$111","v":"◄ hodnota bude použita pro výpočet LF"},null,null,null,null,null,null,null,null,null,null,null,null,null,null,null,0,null,0,null,0]
[null,null,null,null,null,null,null,null,null,null,null,null,null,{"$f":"\" * \"&ListAVS!$B$127","v":" * Doplňte hodnoty"},null,null,null,null,null,null,null,null,null,null,{"$f":"CenAVS!A185","v":"TIP-ON, krátká verze, šedá"},{"$f":"CenAVS!B185","v":"956.1004"},{"$f":"CenAVS!C185","v":"PG"},{"$f":"SUM(AE38,AG38)","v":0},{"$f":"CenAVS!F185","v":116.95},0,{"$f":"IF(AND($T$44=1,$U$16=2), $M$17,0)","v":0},0,{"$f":"IF(AND($T$44=1,$U$27=2), $M$28,0)","v":0},0]
[null,null,null,null,null,null,null,null,null,null,null,null,null,{"$f":"\" min. 420! \"&ListAVS!$B$121","v":" min. 420! Upravte hmotnost nebo výšku"},null,null,null,null,null,null,null,null,null,null,{"$f":"CenAVS!A186","v":"TIP-ON, krátká verze, hedvábně bílá"},{"$f":"CenAVS!B186","v":"956.1004"},{"$f":"CenAVS!C186","v":"SW"},0,{"$f":"CenAVS!F186","v":116.95},0,{"$f":"IF(AND($T$44=3,$U$16=2), $M$17,0)","v":0},0,{"$f":"IF(AND($T$44=3,$U$27=2), $M$28,0)","v":0},0]
[null,null,null,null,null,null,null,null,null,null,null,null,null,{"$f":"\" max. 13.500! \"&ListAVS!$B$121","v":" max. 13.500! Upravte hmotnost nebo výšku"},null,null,null,null,null,null,null,null,null,null,{"$f":"CenAVS!A187","v":"TIP-ON, krátká verze, karbon černá"},{"$f":"CenAVS!B187","v":"956.1004"},{"$f":"CenAVS!C187","v":"CS"},0,{"$f":"CenAVS!F187","v":116.95},0,{"$f":"IF(AND($T$44=2,$U$16=2), $M$17,0)","v":0},0,{"$f":"IF(AND($T$44=2,$U$27=2), $M$28,0)","v":0},0]
[null," **",{"$f":"ListAVS!$B$186","v":"Pokud znáte hmotnost a nechcete využít výpočtu hmotnosti"},null,null,null,null,null,null,null,null,null,null,{"$f":"\" max. 9 000! \"&ListAVS!$B$121","v":" max. 9 000! Upravte hmotnost nebo výšku"},null,null,null,null,null,null,null,null,null,null,{"$f":"CenAVS!A188","v":"TIP-ON, dlouhá verze, šedá"},{"$f":"CenAVS!B188","v":"956A1004"},{"$f":"CenAVS!C188","v":"PG"},0,{"$f":"CenAVS!F188","v":146.75},0,null,0,null,0]
[null,null,null,null,null,null,null,null,null,null,null,null,null,{"$f":"\"                       \"&ListAVS!$B$122","v":"                       nebo přidejte třetí zdvihač"},null,null,null,null,null,null,null,null,null,null,{"$f":"CenAVS!A189","v":"TIP-ON, dlouhá verze, hedvábně bílá"},{"$f":"CenAVS!B189","v":"956A1004"},{"$f":"CenAVS!C189","v":"WA"},0,{"$f":"CenAVS!F189","v":146.75},0,null,0,null,0]
[null,null,null,null,null,null,null,null,null,null,null,null,null,null,null,null,null,null,null,null,null,null,null,null,{"$f":"CenAVS!A190","v":"TIP-ON, dlouhá verze, karbon černá"},{"$f":"CenAVS!B190","v":"956A1004"},{"$f":"CenAVS!C190","v":"CS"},0,{"$f":"CenAVS!F190","v":146.75},0,null,0,null,0]
[null,null,null,null,null,null,null,null,null,null,null,null,null,{"$f":"HK!$P$26","v":1},null,1,null,{"$f":"HKi!$N$26","v":1},null,{"$f":"MenuAVS!$P$28","v":1},null,1]
[null,null,null,null,null,null,null,null,null,null,null,null,null,"zdvihač",null,"střed.",null,"provedení",null,"kryt.",null,"provedení"]
[null,null,null,null,null,null,null,null,null,null,null,null,null,"vruty",null,null,null,"plně integrovaný",null,{"$f":"ListAVS!$B$145","v":"Světle šedá (HGR)"},null,"Standard"]
[null,null,null,null,null,null,null,null,null,null,null,null,null,"šrouby",null,null,null,"s krytkou",null,{"$f":"ListAVS!$B$146","v":"Tmavě šedá (TGR)"},null,"TIP-ON"]
[null,null,null,null,null,null,null,null,null,null,null,null,null,null,null,null,null,null,null,{"$f":"ListAVS!$B$147","v":"Hedvábně bílá (SW)"},null,null,null,null,null,null,null,null,{"$f":"ListAVS!$B$61&\" \"","v":"Cena celkem bez DPH "},{"$f":"SUM(AD9:AD46)","v":0},null,{"$f":"SUM(AF9:AF47)","v":0},null,{"$f":"SUM(AH9:AH47)","v":0}]
[null,null,null,null,null,null,null,null,null,null,null,null,null,{"$f":"ListAVS!B187&\". \"","v":"Pro určení typu zdvihače bude použita zadaná hmotnost. "}]
[null,null,null,null,null,null,null,null,null,null,null,null,null,{"$f":"ListAVS!B188&\". \"","v":"Pro určení typu zdvihače bude použita vypočtená hmotnost. "}]
[null,null,null,null,null,null,null,null,null,null,null,null,null,{"$f":"ListAVS!B189","v":"Chcete-li použít vypočtenou hmotnost, smažte zadanou hodnotu"}]
[null,null,null,null,null,null,null,null,null,null,null,null,null,{"$f":"ListAVS!B190","v":"Chcete-li použít zadanou hmotnost, zadejte ji do políčka"}]
[]
[]
[]
[]
[]
[]
[]
[]
[]
[]
[]
[]
[]
[]
[]
[]
[null,null,null,null,null,null,null,null,null,null,null,null,null,{"$f":"ListAVS!$B$73","v":"Výpočet hmotnosti čel"}]
[null,null,null,null,null,null,null,null,null,null,null,null,null,null,null,{"$f":"ListAVS!$B$179&\"  \"","v":"Provedení čel  "},null,null,null,{"$f":"J4","v":0},{"$f":"IF(Z77=3,IF(T70=0,Y72,\" \"),IF(T70>0,Y73,\" \"))","v":" "},null,null,null,{"$f":"IF($Z$77=1,$Z$78,IF($Z$77=2,$Z$79,$Z$80&\" \"&$Y$80&\"kg/m3\"))&\" A~\"&$T$78&\"/ B~\"&$T$89&\"mm\"","v":"MDF (760 kg/m3) A~0/ B~0mm"}]
[null,null,null,null,null,null,null,null,null,null,null,null,null,null,null,{"$f":"IF($Z$77<>3,$Y$71,\" \")&\"      \"","v":" Změnit hodnoty můžete v Úvodu plánování      "},null,null,null,null,null,null,null,null,{"$f":"\" \"&ListAVS!$B$410","v":" Změnit hodnoty můžete v Úvodu plánování"}]
[null,null,null,null,null,null,null,null,null,null,null,null,null,null,null,null,null,null,null,null,null,null,null,null,{"$f":"\" \"&ListAVS!$B$244&\" [kg/m3]\"","v":" Zadejte objemovou hmotnost  [kg/m3]"}]
[null,null,null,null,null,null,null,null,null,null,null,null,null,null,null,null,null,null,null,null,null,null,null,null,{"$f":"\" \"&ListAVS!$B$240&\" '\"&ListAVS!$B$92&\"'\"","v":" Hodnota platí jen pro volbu 'Jiné - volitelná hustota'"}]
[]
[null,null,null,null,null,null,null,null,null,null,null,null,null,null,null,null,null,{"$f":"D9","v":" "}]
[null,null,null,null,null,null,null,null,null,null,null,null,null,{"$f":"ListAVS!$B$74&\" KB [mm]       \"","v":"Šířka korpusu KB [mm]       "},null,null,null,null,null,{"$f":"H10","v":0},null,null,null,null,{"$f":"T76*T77*T78","v":0},null,null,null,null,3.51,"alu"]
[null,null,null,null,null,null,null,null,null,null,null,null,null,{"$f":"ListAVS!$B$75&\" KH [mm]       \"","v":"Výška korpusu KH [mm]       "},null,null,null,null,null,{"$f":"H11","v":0},null,null,null,null,{"$f":"Y76/1000000000","v":0},1,null,null,null,"váha alu",{"$f":"SUM(T76*2,T77*2)*AD76/10000","v":0},3]
[null,null,null,null,null,null,null,null,null,null,null,null,null,{"$f":"ListAVS!$B$80&\" TS [mm] \"","v":"Síla čela TS [mm] "},null,null,null,null,null,{"$f":"H13","v":0},{"$f":"IF(SUM(T76,T77)=0,\" \",IF(T78=0,\" ● \"&ListAVS!$B$128,\" \"))","v":" "},null,null,null,{"$f":"MenuAVS!$C$31","v":760},{"$f":"ListAVS!$B$90&\" (\"&Y78&\" kg/m3)\"","v":"MDF (760 kg/m3)"},null,null,null,10,{"$f":"SUM($T$76*$T$77*$AD78)/1000000","v":0},{"$f":"ListAVS!$B$93","v":"Alurámečky s 4mm sklem"}]
[null,null,null,null,null,null,null,null,null,null,null,null,null,{"$f":"ListAVS!$B$83&\" [kg] \"","v":"Hmotnost úchytky [kg] "},null,null,null,null,null,{"$f":"H14","v":0},{"$f":"IF($U$16=3,\" \",IF(SUM(T76,T77)=0,\" \",IF(T79=0,\" ● \"&ListAVS!$B$129,\" \")))","v":" "},null,null,null,{"$f":"MenuAVS!$C$32","v":680},{"$f":"ListAVS!$B$91&\" (\"&Y79&\" kg/m3)\"","v":"Dřevotříska (680 kg/m3)"},null,null,null,15,{"$f":"SUM($T$76*$T$77*$AD79)/1000000","v":0},{"$f":"ListAVS!$B$94","v":"Alurámečky s 5mm sklem"}]
[null,null,null,null,null,null,null,null,null,null,null,null,null,{"$f":"ListAVS!$B$79&\" [kg] \"","v":"Vypočtená hmotnost čela [kg] "},null,null,null,null,null,{"$f":"IF(X80=0,0,X80+2*T79)","v":0},null,null,null,{"$f":"IF(T76*T77*T78=0,0,IF(Z77=1,Y77*Y78,IF(Z77=2,Y77*Y79,Y77*Y80)))","v":0},{"$f":"$T$70","v":0},{"$f":"ListAVS!$B$92","v":"Jiné - volitelná hustota"},null,null,null,{"$f":"2.5*$T$70","v":0},{"$f":"SUM($T$76*$T$77*$AD80)/1000000","v":0},{"$f":"ListAVS!$B$95","v":"Alurámečky s jiným sklem"}]
[null,null,null,null,null,null,null,null,null,null,null,null,null,null,{"$f":"IF((U16=3)*AND(T80>0)*AND(T79>0),$Z$96&\" \"&$Z$97,IF((U16<>3)*AND(T80>0),IF(T79=0,$Z$95,\" \"),\" \"))","v":" "},null,null,null,null,null,null,null,null,null,null,null,null,null,null,{"$f":"IF(AF77=1,AE78,IF(AF77=2,AE79,AE80))","v":0}]
[]
[]
[]
[]
[null,null,null,null,null,null,null,null,null,null,null,null,null,null,null,null,null,{"$f":"D20","v":" "}]
[null,null,null,null,null,null,null,null,null,null,null,null,null,{"$f":"ListAVS!$B$74&\" KB [mm]       \"","v":"Šířka korpusu KB [mm]       "},null,null,null,null,null,{"$f":"H21","v":0},null,null,null,null,{"$f":"T87*T88*T89","v":0},null,null,null,null,{"$f":"AD76","v":3.51},"alu"]
[null,null,null,null,null,null,null,null,null,null,null,null,null,{"$f":"ListAVS!$B$75&\" KH [mm]       \"","v":"Výška korpusu KH [mm]       "},null,null,null,null,null,{"$f":"H22","v":0},null,null,null,null,{"$f":"Y87/1000000000","v":0},{"$f":"Z77","v":1},null,null,null,"váha alu",{"$f":"SUM(T87*2,T88*2)*AD87/10000","v":0},{"$f":"AF77","v":3}]
[null,null,null,null,null,null,null,null,null,null,null,null,null,{"$f":"ListAVS!$B$80&\" TS [mm] \"","v":"Síla čela TS [mm] "},null,null,null,null,null,{"$f":"H24","v":0},{"$f":"IF(SUM(T87,T88)=0,\" \",IF(T89=0,\" ● \"&ListAVS!$B$128,\" \"))","v":" "},null,null,null,{"$f":"$Y$78","v":760},{"$f":"$Z$78","v":"MDF (760 kg/m3)"},null,null,null,{"$f":"AD78","v":10},{"$f":"SUM($T$87*$T$88*$AD89)/1000000","v":0},{"$f":"ListAVS!$B$93","v":"Alurámečky s 4mm sklem"}]
[null,null,null,null,null,null,null,null,null,null,null,null,null,{"$f":"ListAVS!$B$83&\" [kg] \"","v":"Hmotnost úchytky [kg] "},null,null,null,null,null,{"$f":"H25","v":0},{"$f":"IF($U$27=3,\" \",IF(SUM(T87,T88)=0,\" \",IF(T90=0,\" ● \"&ListAVS!$B$129,\" \")))","v":" "},null,null,null,{"$f":"$Y$79","v":680},{"$f":"$Z$79","v":"Dřevotříska (680 kg/m3)"},null,null,null,{"$f":"AD79","v":15},{"$f":"SUM($T$87*$T$88*$AD90)/1000000","v":0},{"$f":"ListAVS!$B$94","v":"Alurámečky s 5mm sklem"}]
[null,null,null,null,null,null,null,null,null,null,null,null,null,{"$f":"ListAVS!$B$79&\" [kg] \"","v":"Vypočtená hmotnost čela [kg] "},null,null,null,null,null,{"$f":"IF(X91=0,0,X91+2*T90)","v":0},null,null,null,{"$f":"IF(T87*T88*T89=0,0,IF(Z88=1,Y88*Y89,IF(Z88=2,Y88*Y90,Y88*Y91)))","v":0},{"$f":"$Y$80","v":0},{"$f":"$Z$80","v":"Jiné - volitelná hustota"},null,null,null,{"$f":"AD80","v":0},{"$f":"SUM($T$87*$T$88*$AD91)/1000000","v":0},{"$f":"ListAVS!$B$95","v":"Alurámečky s jiným sklem"}]
[null,null,null,null,null,null,null,null,null,null,null,null,null,null,{"$f":"IF((U27=3)*AND(T91>0)*AND(T90>0),$Z$96&\" \"&$Z$97,IF((U27<>3)*AND(T91>0),IF(T90=0,$Z$95,\" \"),\" \"))","v":" "},null,null,null,null,null,null,null,null,null,null,null,null,null,null,{"$f":"IF(AF88=1,AE89,IF(AF88=2,AE90,AE91))","v":0}]
[]
[]
[null,null,null,null,null,null,null,null,null,null,null,null,null,null,null,null,null,null,null,null,null,null,null,null,null,{"$f":"ListAVS!$B$102&\"!\"","v":"Není započtena hmotnost úchytky!"}]
[null,null,null,null,null,null,null,null,null,null,null,null,null,null,null,null,null,null,null,null,null,null,null,null,null,{"$f":"ListAVS!B103","v":"Opravdu máte úchytku na TIP-ON?"}]
[null,null,null,null,null,null,null,null,null,null,null,null,null,null,null,null,null,null,null,null,null,null,null,null,null,{"$f":"ListAVS!B104&\"!\"","v":"Jestli ne, smažte hmotnost úchytky.!"}]
[]
[]
[null,"      AVENTOS HK"]
[]
[null,{"$f":"ListAVS!$B$302","v":"Potřebný zdvihač se určí pomocí ukazatele výkonnosti."}]
[null,{"$f":"ListAVS!$B$340","v":"Ukazatel výkonnosti závisí na hmotnosti čela (včetně dvojnásobné hmotnosti úchytky) a na výšce korpusu."}]
[]
[]
[null,null,null,{"$f":"ListAVS!$B$86&\" = \"","v":"Ukazatel výkonnosti = "},{"$f":"ListAVS!$B$341&\" [kg]\"","v":"výška korpusu (KH) [mm] x hmotnost čela včetně dvojnásobné hmotnosti úchytky [kg]"}]
[]
[null,{"$f":"ListAVS!$B$354","v":"V případě využití třetího zdvihače můžete zvýšit ukazatel výkonnosti a tudíž hmotnost čílka o 50%."}]
[]
[null,{"$f":"ListAVS!$B$182","v":"Přídavný třetí zdvihač může být použit pouze s plným čelem!"}]
[]
[null,{"$f":"ListAVS!$B$311","v":"Pokud znáte hmotnost čela, můžete ji zadat, jinak použijte \"Výpočet hmotnosti\"."}]
[null,{"$f":"ListAVS!$B$312","v":"V tabulce má přednost zadaná hodnota. Chcete-li použít vypočtenou hmotnost, smažte zadanou hodnotu."}]
[]
[null,{"$f":"ListAVS!$B$306","v":"Chcete-li změnit provedení zdvihače (plná/částečná integrace), přejděte na výběr HKi"}]
[null,{"$f":"ListAVS!$B$305","v":"Chcete-li změnit barvu krytek, přejděte na \"Úvod plánování\""}]
[]
[]
[]
[]
[null,null,null,null,null,null,null,null,null,null,null,{"$f":"ListAVS!$B$167","v":"Zpět"}]

{"sheet":"HKiwa","index":37,"n_rows":127,"n_cols":45,"rows_kept":127,"cut":false,"hidden":false,"merged":[[89,13,89,18],[90,13,90,18],[98,0,139,0],[105,4,105,11],[78,13,78,18],[79,13,79,18],[85,17,85,19],[86,13,86,18],[87,13,87,18],[88,13,88,18],[77,13,77,18],[26,1,26,2],[26,3,26,6],[27,1,27,6],[29,19,29,20],[42,2,44,10],[70,15,70,19],[74,17,74,19],[75,13,75,18],[76,13,76,18],[20,1,20,6],[20,21,20,22],[21,1,21,6],[22,1,22,6],[23,1,25,2],[23,3,23,6],[24,3,24,6],[25,3,25,6],[16,1,16,6],[16,42,17,46],[19,1,19,2],[19,5,19,7],[19,17,19,18],[19,21,19,22],[9,21,9,22],[9,42,9,43],[10,1,10,6],[10,42,10,43],[12,1,14,2],[12,3,12,6],[12,42,12,43],[13,3,13,6],[14,3,14,6],[14,42,15,46],[15,1,15,2],[15,3,15,6],[11,1,11,6],[11,42,11,43],[9,1,9,6],[0,42,0,50],[1,1,1,3],[7,44,8,44],[8,1,8,2],[8,5,8,7],[8,17,8,18],[8,21,8,22],[3,10,4,11],[4,5,4,9],[6,1,6,2],[6,6,6,7],[7,42,8,43]]}
[]
[null,"AVENTOS HKi",null,null,null,null,null,null,null,null,null,null,null,null,"rámeček",null,null,null,3,null,null,null,null,null,null,null,null,null,null,null,null,null,null,null,null,null,null,null,null,{"$f":"ListAVS!$B$152","v":"Jdi na"}]
[]
[null,{"$f":"ListAVS!$B$20&\" ***\"","v":"Široký alurámeček ***"},null,null,null,{"$f":"ListAVS!$B$179&\"  \"","v":"Provedení čel  "},null,null,null,null,{"$f":"IF($Z$77=3,IF(J4=0,$Y$72,\" \"),IF(J4>0,$Y$73,\" \"))","v":" "},null,null,null,1,null,null,null,{"$f":"\" \"&ListAVS!$B$41&\" A \"","v":" Cena za korpus A "},null,null,null,null,null,null,null,null,null,null,null,null,null,null,null,null,null,null,null,null," Úvod plánování"]
[null,null,null,null,null,{"$f":"IF($Z$77<>3,$Y$71,\" \")&\"      \"","v":" Změnit hodnoty můžete v Úvodu plánování      "},null,null,null,null,null,null,null,null,"A = 1",null,null,null,{"$f":"\" \"&ListAVS!$B$41&\" B \"","v":" Cena za korpus B "},null,null,null,null,null,null,null,null,null,null,null,null,null,null,null,null,null,null,null,null,{"$f":"\" \"&ListAVS!$B$154","v":" Nápověda"}]
[null,null,null,null,null,null,null,null,null,null,null,null,null,null,"B = 2",null,null,null,{"$f":"\" \"&ListAVS!$B$61","v":" Cena celkem bez DPH"}]
[null,{"$f":"ListAVS!$B$51&\":   \"","v":"Cena kování:   "},null,null,null,null,{"$f":"IF(S2=1,$AF$48,IF($S$2=2,$AH$48,IF($S$2=3,$AD$48,0)))","v":0},null,null,null,null,{"$f":"IF($R$44=1, ListAVS!$B$429, ListAVS!$B$430)","v":"plně integrovaný"},null,null,null,null,null,null,null,null,null,null,null,null,{"$f":"$B$2","v":"AVENTOS HKi"},{"$f":"B4","v":"Široký alurámeček ***"},null,null,null,null,null,null,null,null,null,null,null,null,null,{"$f":"\" \"&ListAVS!$B$159","v":" Doplňky"}]
[null,null,null,null,null,null,null,{"$f":"IF(AND(OR($U$16=2, $U$27=2), $AD$48>0), $N$34, \" \")","v":" "},null,null,null,null,null,null,null,null,null,null,null,null,null,null,null,null,{"$f":"ListAVS!B52","v":"Název"},{"$f":"ListAVS!$B$53","v":"Číslo artiklu"},{"$f":"ListAVS!B54","v":"Barva"},{"$f":"ListAVS!B56","v":"Ks"},{"$f":"ListAVS!B58","v":"Jednotková cena"},{"$f":"ListAVS!B59","v":"Celkem"},"A","Cena","B","Cena",null,null,null,null,null,null,null,null,{"$f":"\"  \"&ListAVS!$B$86&\" LF \"","v":"  Ukazatel výkonnosti LF "},null,{"$f":"ListAVS!$B$84","v":"Zdvihací mechanizmus"}]
[null,{"$f":"\"▼ \"&ListAVS!$B$317","v":"▼ Způsob otvírání"},null,{"$f":"IF($M$17>0, ListAVS!$B$37&\": \", \" \")","v":" "},{"$f":"IF($AE$9>0,\"23\",IF($AE$10>0,\"25\",IF($AE$11>0,\"27\",IF($AE$12>0,\"28\",IF($AE$14>0,\"23T\",IF($AE$15>0,\"25T\",IF($AE$16>0,\"27T\",IF($AE$17>0,\"28T\",\" \"))))))))","v":" "},{"$f":"ListAVS!$B$64&\" A\"","v":"Korpus A"},null,null,null,null,null,null,null,null,null,null,null,"dva zdvihače",null,2000,{"$f":"T9-1","v":1999},"tři zdvihače",null,null,{"$f":"CenAVS!A125","v":"Sada zdvihačů HKi, LF 420–1610"},{"$f":"CenAVS!B125","v":"24K2300"},{"$f":"CenAVS!C125","v":"OS"},{"$f":"SUM(AE9,AG9)","v":0},{"$f":"CenAVS!F125","v":8016.43},{"$f":"AB9*AC9","v":0},{"$f":"IF($U$16=1, ROUNDUP(SUM(O11:P11)*$M$17,0),0)","v":0},{"$f":"$AC9*AE9","v":0},{"$f":"IF($U$27=1, ROUNDUP(SUM(O22:P22)*$M$28,0),0)","v":0},{"$f":"$AC9*AG9","v":0},null,null,null,null,null,{"$f":"\" \"&ListAVS!$B$156","v":" Přehled korpusů"}]
[null,{"$f":"ListAVS!$B$74&\" KB [mm] \"","v":"Šířka korpusu KB [mm] "},null,null,null,null,null,null,{"$f":"IF($H10=0,\" \",IF($H10<220,\" min. 220mm\",\" \"))&IF(H17>0,IF(H10=0,\"● \"&ListAVS!$B$128,\" \"),\" \")","v":"  "},null,null,null,null,"zdvih A","dva","tři",null,"min","max","š.max","š. min",false,null,null,{"$f":"CenAVS!A126","v":"Sada zdvihačů HKi, LF 930–2800"},{"$f":"CenAVS!B126","v":"24K2500"},{"$f":"CenAVS!C126","v":"OS"},0,{"$f":"CenAVS!F126","v":8016.43},{"$f":"AB10*AC10","v":0},{"$f":"IF($U$16=1, ROUNDUP(SUM(O12:P12)*$M$17,0),0)","v":0},0,{"$f":"IF($U$27=1, ROUNDUP(SUM(O23:P23)*$M$28,0),0)","v":0},0,null,null,null,null,null,{"$f":"\" \"&ListAVS!$B$157","v":" Objednávka"},null,null,"  420 - 1610",null,"24K2300"]
[null,{"$f":"ListAVS!$B$75&\" KH [mm]  \"","v":"Výška korpusu KH [mm]  "},null,null,null,null,null,null,{"$f":"IF($H11=0,\" \",IF($H11<170,\" min. 170mm\",IF($H11>600,\" max. 600 mm!\",\" \")))&IF(H17>0,IF(H11=0,\"● \"&ListAVS!$B$128,\" \"),\" \")","v":"  "},null,null,null,null,"K23",{"$f":"IF($V$10=FALSE,IF($H$16>R11,IF($H$16<S11,1,0),0),0)","v":0},{"$f":"IF($V$10=TRUE,IF($H$16>V11,IF($H$16<W11,1.5,0),0),0)","v":0},null,420,1160,null,null,{"$f":"R11*1.5","v":630},{"$f":"S11*1.5","v":1740},null,{"$f":"CenAVS!A127","v":"Sada zdvihačů HKi, LF 1730–5200"},{"$f":"CenAVS!B127","v":"24K2700"},{"$f":"CenAVS!C127","v":"OS"},0,{"$f":"CenAVS!F127","v":8155.85},0,{"$f":"IF($U$16=1, ROUNDUP(SUM(O13:P13)*$M$17,0),0)","v":0},0,{"$f":"IF($U$27=1, ROUNDUP(SUM(O24:P24)*$M$28,0),0)","v":0},0,null,null,null,null,null,null,null,null,"  930 - 2800",null,"24K2500"]
[null,{"$f":"ListAVS!$B$78&\" [kg] ** \"","v":"Hmotnost čela vč. 2x hmotnost úchytky [kg] ** "},null,null,null,null,null,null,{"$f":"IF($H17=0,\" \",IF(SUM($H12,$H15)=0,$N$36,\" \"))&IF($H17>0,IF($H12>0,$N$37,\" \"),\" \")","v":"  "},null,null,null,null,"K25",{"$f":"IF($V$10=FALSE,IF($H$16>R12,IF($H$16<S12,1,0),0),0)","v":0},{"$f":"IF($V$10=TRUE,IF($H$16>V12,IF($H$16<W12,1.5,0),0),0)","v":0},null,1159.99,2265,null,null,1739.99,3398,null,{"$f":"CenAVS!A128","v":"Sada zdvihačů HKi, LF 2600–7800"},{"$f":"CenAVS!B128","v":"24K2800"},{"$f":"CenAVS!C128","v":"OS"},0,{"$f":"CenAVS!F128","v":8504.39},0,{"$f":"IF($U$16=1, ROUNDUP(SUM(O14:P14)*$M$17,0),0)","v":0},0,{"$f":"IF($U$27=1, ROUNDUP(SUM(O25:P25)*$M$28,0),0)","v":0},0,null,null,null,null,null,null,null,null,"  1730 - 5200",null,"24K2700"]
[null,{"$f":"ListAVS!$B$292","v":"Výpočet hmotnosti"},null,{"$f":"ListAVS!$B$80&\" TS [mm] \"","v":"Síla čela TS [mm] "},null,null,null,null,null,null,null,null,null,"K27",{"$f":"IF($V$10=FALSE,IF($H$16>R13,IF($H$16<S13,1,0),0),0)","v":0},{"$f":"IF($V$10=TRUE,IF($H$16>V13,IF($H$16<W13,1.5,0),0),0)","v":0},null,2264.9899999999998,3470,null,null,3397.99,{"$f":"S13*1.5","v":5205},null,null,null,null,null,null,null,null,null,null,null,null,null,null,null,null,null,null,null,"  2600 - 7800",null,"24K2800"]
[null,null,null,{"$f":"ListAVS!$B$83&\" [kg] \"","v":"Hmotnost úchytky [kg] "},null,null,null,null,{"$f":"IF(H17=0, \" \", IF(AND(H12=0, U16=1, H14=0), \" ● \"&ListAVS!$B$129,\" \"))","v":" "},null,null,null,null,"K28",{"$f":"IF($V$10=FALSE,IF($H$16>R14,IF($H$16<S14,1,0),0),0)","v":0},{"$f":"IF($V$10=TRUE,IF($H$16>V14,IF($H$16<W14,1.5,0),0),0)","v":0},null,3469.99,7800,null,null,5204.99,{"$f":"S14*1.5","v":11700},null,{"$f":"CenAVS!A130","v":"Sada zdvihačů HKi pro TIP-ON, LF 420–1610"},{"$f":"CenAVS!B130","v":"24K2300T"},{"$f":"CenAVS!C130","v":"OS"},0,{"$f":"CenAVS!F130","v":8123.98},0,{"$f":"IF($U$16=2, SUM(O11:P11)*$M$17,0)","v":0},0,{"$f":"IF($U$27=2, ROUNDUP(SUM(O22:P22)*$M$28,0),0)","v":0},0]
[null,null,null,{"$f":"ListAVS!$B$79&\" [kg] \"","v":"Vypočtená hmotnost čela [kg] "},null,null,null,{"$f":"$T$80","v":0},{"$f":"IF(AND($H17>0,$H15>0,$H12=0,$M17>0), $N$37,\" \")&IF(AND(H17>0, H12=0, Z77=3, $J$4=0), $N$35, \" \")","v":"  "},null,null,null,null,null,null,null,null,null,null,null,{"$f":"IF(U16=1,$V$46, $V$47)","v":"Standard"},null,null,null,{"$f":"CenAVS!A131","v":"Sada zdvihačů HKi pro TIP-ON, LF 930–2800"},{"$f":"CenAVS!B131","v":"24K2500T"},{"$f":"CenAVS!C131","v":"OS"},0,{"$f":"CenAVS!F131","v":8123.98},0,{"$f":"IF($U$16=2, SUM(O12:P12)*$M$17,0)","v":0},0,{"$f":"IF($U$27=2, ROUNDUP(SUM(O23:P23)*$M$28,0),0)","v":0},0,null,null,null,null,null,null,null,null,{"$f":"ListAVS!$B$86&\" LF = \"&ListAVS!$B$75&\" KH [mm] x \"&ListAVS!$B$78&\" [kg]\"","v":"Ukazatel výkonnosti LF = Výška korpusu KH [mm] x Hmotnost čela vč. 2x hmotnost úchytky [kg]"}]
[null,null,null,{"$f":"ListAVS!$B$86&\" LF \"","v":"Ukazatel výkonnosti LF "},null,null,null,{"$f":"IF(H12>0,H11*H12,H11*H15)","v":0},{"$f":"IF(H17=0,\" \",IF($H16<420,$N$39,IF($H16>13500,$N$40,IF($H16>9000,IF(V10=FALSE,$N$41,\" \"),\" \"))))","v":" "},null,null,null,null,null,null,null,null,null,null,null,1,null,null,null,{"$f":"CenAVS!A132","v":"Sada zdvihačů HKi pro TIP-ON, LF 1730–5200"},{"$f":"CenAVS!B132","v":"24K2700T"},{"$f":"CenAVS!C132","v":"OS"},0,{"$f":"CenAVS!F132","v":8356.6},0,{"$f":"IF($U$16=2, SUM(O13:P13)*$M$17,0)","v":0},0,{"$f":"IF($U$27=2, ROUNDUP(SUM(O24:P24)*$M$28,0),0)","v":0},0]
[null,{"$f":"ListAVS!$B$71&\" \"","v":"Počet skříněk "},null,null,null,null,null,null,{"$f":"IF($H16>13500,\" \",IF($H16>9000,IF(V10=FALSE,$N$42,\" \"),\" \"))","v":" "},null,null,null,{"$f":"IF($H10*$H$11*$T17=0,0,IF($H11<210,0,IF($H16<420,0,IF($H16>13500,0,IF(H16>9000,IF(V10=FALSE,0,$H17),H$17)))))","v":0},null,null,null,null,null,"hmot =",{"$f":"IF(H12>0,H12,H15)","v":0},{"$f":"IF(SUM(H12,H15)=0,0,IF(H12>0,1,2))","v":0},"zadaná / vypočtená",null,null,{"$f":"CenAVS!A133","v":"Sada zdvihačů HKi pro TIP-ON, LF 2600–7800"},{"$f":"CenAVS!B133","v":"24K2800T"},{"$f":"CenAVS!C133","v":"OS"},0,{"$f":"CenAVS!F133","v":8705.1299999999992},0,{"$f":"IF($U$16=2, SUM(O14:P14)*$M$17,0)","v":0},0,{"$f":"IF($U$27=2, ROUNDUP(SUM(O25:P25)*$M$28,0),0)","v":0},0,null,null,null,null,null,null,null,null,{"$f":"ListAVS!$B$354","v":"V případě využití třetího zdvihače můžete zvýšit ukazatel výkonnosti a tudíž hmotnost čílka o 50%."}]
[null,{"$f":"IF(H17>0,IF(OR(U17=0,M17=0), \" \",IF(U17=1, $N$49, $N$50)),\" \")&IF(H17>0,IF(OR(U17=0, M17=0), \" \",IF(U17=1, $N$51, $N$52)),\" \")","v":"  "}]
[null,null,null,null,null,null,null,null,null,null,null,null,null,null,null,null,null,null,null,null,null,null,null,null,{"$f":"CenAVS!A135","v":"Symetrické čelní kování Hki, EXPANDO"},{"$f":"CenAVS!B135","v":"24K42E1"},{"$f":"CenAVS!C135","v":"OS"},{"$f":"SUM(AE19,AG19)","v":0},{"$f":"CenAVS!F135","v":209.13},{"$f":"AB19*AC19","v":0},null,{"$f":"$AC19*AE19","v":0},null,{"$f":"$AC19*AG19","v":0}]
[null,{"$f":"\"▼ \"&ListAVS!$B$317","v":"▼ Způsob otvírání"},null,{"$f":"IF($M$28>0, ListAVS!$B$37&\": \", \" \")","v":" "},{"$f":"IF($AG$9>0,\"23\",IF($AG$10>0,\"25\",IF($AG$11>0,\"27\",IF($AG$12>0,\"28\",IF($AG$14>0,\"23T\",IF($AG$15>0,\"25T\",IF($AG$16>0,\"27T\",IF($AG$17>0,\"28T\",\" \"))))))))","v":" "},{"$f":"ListAVS!$B$64&\" B\"","v":"Korpus B"},null,null,null,null,null,null,null,null,null,null,null,"dva zdvihače",null,null,null,"tři zdvihače",null,null,{"$f":"CenAVS!A136","v":"Symetrické čelní kování Hki, pro alurámečky"},{"$f":"CenAVS!B136","v":"24K4201A"},{"$f":"CenAVS!C136","v":"OS"},{"$f":"SUM(AE20,AG20)","v":0},{"$f":"CenAVS!F136","v":230.04},{"$f":"AB20*AC20","v":0},{"$f":"SUM($AE$9:$AE$17)*2","v":0},{"$f":"$AC20*AE20","v":0},{"$f":"SUM($AG$9:$AG$17)*2","v":0},{"$f":"$AC20*AG20","v":0}]
[null,{"$f":"ListAVS!$B$74&\" KB [mm] \"","v":"Šířka korpusu KB [mm] "},null,null,null,null,null,null,{"$f":"IF($H21=0,\" \",IF($H21<220,\" min. 220mm\",IF($H21>1800,\" max. 1 800mm\",\" \")))&IF(H28>0,IF(H21=0,\"● \"&ListAVS!$B$128,\" \"),\" \")","v":"  "},null,null,null,null,"zdvih B","dva","tři",null,"min","max",null,null,false]
[null,{"$f":"ListAVS!$B$75&\" KH [mm] \"","v":"Výška korpusu KH [mm] "},null,null,null,null,null,null,{"$f":"IF($H22=0,\" \",IF($H22<170,\" min. 170mm\",IF($H22>600,\" max. 600 mm!\",\" \")))&IF(H28>0,IF(H22=0,\"● \"&ListAVS!$B$128,\" \"),\" \")","v":"  "},null,null,null,null,"K23",{"$f":"IF($V$21=FALSE,IF($H$27>R22,IF($H$27<S22,1,0),0),0)","v":0},{"$f":"IF($V$21=TRUE,IF($H$27>V22,IF($H$27<W22,1.5,0),0),0)","v":0},null,420,1160,null,null,{"$f":"R22*1.5","v":630},{"$f":"S22*1.5","v":1740},null,{"$f":"CenAVS!A138","v":"Sada krytek HKi, hedvábně bílá"},{"$f":"CenAVS!B138","v":"24K8000"},{"$f":"CenAVS!C138","v":"SW"},0,{"$f":"CenAVS!F138","v":689.28},0,{"$f":"IF(AND($R$44=2, $T$44=3),SUM($AE$9:$AE$17),0)","v":0},0,{"$f":"IF(AND($R$44=2, $T$44=3),SUM($AG$9:$AG$17),0)","v":0},0]
[null,{"$f":"ListAVS!$B$78&\" [kg] ** \"","v":"Hmotnost čela vč. 2x hmotnost úchytky [kg] ** "},null,null,null,null,null,null,{"$f":"IF($H28=0,\" \",IF(SUM($H23,$H26)=0,$N$36,\" \"))&IF($H28>0,IF($H23>0,$N$37,\" \"),\" \")","v":"  "},null,null,null,null,"K25",{"$f":"IF($V$21=FALSE,IF($H$27>R23,IF($H$27<S23,1,0),0),0)","v":0},{"$f":"IF($V$21=TRUE,IF($H$27>V23,IF($H$27<W23,1.5,0),0),0)","v":0},null,1159.99,2265,null,null,1739.99,3398,null,{"$f":"CenAVS!A139","v":"Sada krytek HKi, světle šedá"},{"$f":"CenAVS!B139","v":"24K8000"},{"$f":"CenAVS!C139","v":"HGR"},0,{"$f":"CenAVS!F139","v":669.2},0,{"$f":"IF(AND($R$44=2, $T$44=1),SUM($AE$9:$AE$17),0)","v":0},0,{"$f":"IF(AND($R$44=2, $T$44=1),SUM($AG$9:$AG$17),0)","v":0},0]
[null,{"$f":"ListAVS!$B$292","v":"Výpočet hmotnosti"},null,{"$f":"ListAVS!$B$80&\" TS [mm] \"","v":"Síla čela TS [mm] "},null,null,null,null,null,null,null,null,null,"K27",{"$f":"IF($V$21=FALSE,IF($H$27>R24,IF($H$27<S24,1,0),0),0)","v":0},{"$f":"IF($V$21=TRUE,IF($H$27>V24,IF($H$27<W24,1.5,0),0),0)","v":0},null,2264.9899999999998,3470,null,null,3397.99,{"$f":"S24*1.5","v":5205},null,{"$f":"CenAVS!A140","v":"Sada krytek HKi, tmavě šedá"},{"$f":"CenAVS!B140","v":"24K8000"},{"$f":"CenAVS!C140","v":"TGR"},0,{"$f":"CenAVS!F140","v":689.28},0,{"$f":"IF(AND($R$44=2, $T$44=2),SUM($AE$9:$AE$17),0)","v":0},0,{"$f":"IF(AND($R$44=2, $T$44=2),SUM($AG$9:$AG$17),0)","v":0},0]
[null,null,null,{"$f":"ListAVS!$B$83&\" [kg] \"","v":"Hmotnost úchytky [kg] "},null,null,null,null,{"$f":"IF(H28=0, \" \", IF(AND(H23=0, U27=1, H25=0), \" ● \"&ListAVS!$B$129,\" \"))","v":" "},null,null,null,null,"K28",{"$f":"IF($V$21=FALSE,IF($H$27>R25,IF($H$27<S25,1,0),0),0)","v":0},{"$f":"IF($V$21=TRUE,IF($H$27>V25,IF($H$27<W25,1.5,0),0),0)","v":0},null,3469.99,7800,null,null,5204.99,{"$f":"S25*1.5","v":11700}]
[null,null,null,{"$f":"ListAVS!$B$79&\" [kg] \"","v":"Vypočtená hmotnost čela [kg] "},null,null,null,{"$f":"$T$91","v":0},{"$f":"IF(AND($H28>0,$H26>0,$H23=0,$M28>0), $N$37,\" \")&IF(AND(H28>0, H23=0, Z88=3, $J$4=0), $N$35, \" \")","v":"  "},null,null,null,null,null,null,null,null,null,null,null,{"$f":"IF(U27=1,$V$46,$V$47)","v":"Standard"},null,null,null,{"$f":"CenAVS!A144","v":"Sada předfrézovaných surových desek pro HKi"},{"$f":"CenAVS!B144","v":"24K7100"},{"$f":"CenAVS!C144","v":"NA"},{"$f":"J32","v":0},{"$f":"CenAVS!F144","v":2867.4},0,null,0,null,0]
[null,null,null,{"$f":"ListAVS!$B$86&\" LF \"","v":"Ukazatel výkonnosti LF "},null,null,null,{"$f":"IF(H23>0,H22*H23,H22*H26)","v":0},{"$f":"IF(H28=0,\" \",IF($H27<420,$N$39,IF($H27>13500,$N$40,IF($H27>9000,IF(V21=FALSE,$N$41,\" \"),\" \"))))","v":" "},null,null,null,null,null,null,null,null,null,null,null,1,null,null,null,{"$f":"CenAVS!A145","v":"Distanční díl pro HKi"},{"$f":"CenAVS!B145","v":"M45.1010"},{"$f":"CenAVS!C145","v":"NA"},{"$f":"J33","v":0},{"$f":"CenAVS!F145","v":858.54},0,null,0,null,0]
[null,{"$f":"ListAVS!$B$71&\" \"","v":"Počet skříněk "},null,null,null,null,null,null,{"$f":"IF($H27>13500,\" \",IF($H27>9000,IF(V21=FALSE,$N$42,\" \"),\" \"))","v":" "},null,null,null,{"$f":"IF($H21*$H$22*$T28=0,0,IF($H22<210,0,IF($H27<420,0,IF($H27>13500,0,IF(H27>9000,IF(V21=FALSE,0,$H28),H$28)))))","v":0},null,null,null,null,null,"hmot =",{"$f":"IF(H23>0,H23,H26)","v":0},{"$f":"IF(SUM(H23,H26)=0,0,IF(H23>0,1,2))","v":0},"zadaná / vypočtená",null,null,{"$f":"CenAVS!A146","v":0},{"$f":"CenAVS!B146","v":0},{"$f":"CenAVS!C146","v":0},0,{"$f":"CenAVS!F146","v":0},0,null,0,null,0]
[null,{"$f":"IF(H28>0,IF(OR(U28=0,M28=0), \" \",IF(U28=1, $N$49, $N$50)),\" \")&IF(H28>0,IF(OR(U28=0, M28=0), \" \",IF(U28=1, $N$51, $N$52)),\" \")","v":"  "},null,null,null,null,null,null,null,null,null,null,null,null,null,null,null,null,null,null,null,null,null,null,{"$f":"CenAVS!A147","v":0},{"$f":"CenAVS!B147","v":0},{"$f":"CenAVS!C147","v":0},0,{"$f":"CenAVS!F147","v":0},0,null,0,null,0]
[null,null,null,null,null,null,null,null,null,null,null,null,null,null,null,null,null,null,{"$f":"IF($T$30=FALSE,2,1)","v":2},false,null," - Zdroj",null,null,null,null,null,null,null,0,null,0,null,0]
[null,null,null,null,null,null,null,null,null,null,null,null,null,null,null,null,null,null,null,null,null,null,null,null,null,null,null,null,null,0,null,0,null,0]
[null,{"$f":"ListAVS!B343&\" \"\"\"&ListAVS!B159&\"\"\"\"","v":"Pro objednání sady předfrézovaných boků použijte \"Doplňky\""},null,null,null,null,null,null,null,null,null,null,null,null,null,null,null,null,null,null,null,null,null,null,null,null,null,null,null,0,null,0,null,0]
[null,null,null,null,null,null,null,null,null,null,null,null,null,null,null,null,null,null,null,null,null,null,null,null,null,null,null,null,null,0,null,0,null,0]
[null,null,null,null,null,null,null,null,null,null,null,null,null,{"$f":"ListAVS!B176","v":"Cena bez napájecího zdroje!"},null,null,null,null,null,null,null,null,null,null,null,null,null,null,null,0,null,0,null,0]
[null,null,null,null,null,null,null,null,null,null,null,null,null,{"$f":"\" \"&ListAVS!$B$117","v":" Vyplňte nahoře objemovou hmotnost "},null,null,null,null,null,null,null,null,null,null,null,null,null,null,null,0,null,0,null,0]
[null,null,{"$f":"\"** \"&ListAVS!$B$186","v":"** Pokud znáte hmotnost a nechcete využít výpočtu hmotnosti"},null,null,null,null,null,null,null,null,null,null,{"$f":"\" \"&ListAVS!$B$115","v":" Zadejte hmotnost nebo vyplňte všechny buňky"},null,null,null,null,null,null,null,null,null,null,null,null,null,null,null,0,null,0,null,0]
[null,null,{"$f":"\"*** \"&ListAVS!$B$403","v":"*** Vyberte typ alurámečku!"},null,null,null,null,null,null,null,null,null,null,{"$f":"\"◄ \"&ListAVS!$B$111","v":"◄ hodnota bude použita pro výpočet LF"},null,null,null,null,null,null,null,null,null,null,null,null,null,null,null,0,null,0,null,0]
[null,null,null,null,null,null,null,null,null,null,null,null,null,{"$f":"\" * \"&ListAVS!$B$127","v":" * Doplňte hodnoty"},null,null,null,null,null,null,null,null,null,null,{"$f":"CenAVS!A185","v":"TIP-ON, krátká verze, šedá"},{"$f":"CenAVS!B185","v":"956.1004"},{"$f":"CenAVS!C185","v":"PG"},0,{"$f":"CenAVS!F185","v":116.95},0,{"$f":"IF(AND($T$44=1,$U$16=2), $M$17,0)","v":0},0,{"$f":"IF(AND($T$44=1,$U$27=2), $M$28,0)","v":0},0]
[null,null,null,null,null,null,null,null,null,null,null,null,null,{"$f":"\" min. 420! \"&ListAVS!$B$121","v":" min. 420! Upravte hmotnost nebo výšku"},null,null,null,null,null,null,null,null,null,null,{"$f":"CenAVS!A186","v":"TIP-ON, krátká verze, hedvábně bílá"},{"$f":"CenAVS!B186","v":"956.1004"},{"$f":"CenAVS!C186","v":"SW"},0,{"$f":"CenAVS!F186","v":116.95},0,{"$f":"IF(AND($T$44=3,$U$16=2), $M$17,0)","v":0},0,{"$f":"IF(AND($T$44=3,$U$27=2), $M$28,0)","v":0},0]
[null,null,null,null,null,null,null,null,null,null,null,null,null,{"$f":"\" max. 13.500! \"&ListAVS!$B$121","v":" max. 13.500! Upravte hmotnost nebo výšku"},null,null,null,null,null,null,null,null,null,null,{"$f":"CenAVS!A187","v":"TIP-ON, krátká verze, karbon černá"},{"$f":"CenAVS!B187","v":"956.1004"},{"$f":"CenAVS!C187","v":"CS"},0,{"$f":"CenAVS!F187","v":116.95},0,{"$f":"IF(AND($T$44=2,$U$16=2), $M$17,0)","v":0},0,{"$f":"IF(AND($T$44=2,$U$27=2), $M$28,0)","v":0},0]
[null,null,null,null,null,null,null,null,null,null,null,null,null,{"$f":"\" max. 9 000! \"&ListAVS!$B$121","v":" max. 9 000! Upravte hmotnost nebo výšku"},null,null,null,null,null,null,null,null,null,null,{"$f":"CenAVS!A188","v":"TIP-ON, dlouhá verze, šedá"},{"$f":"CenAVS!B188","v":"956A1004"},{"$f":"CenAVS!C188","v":"PG"},0,{"$f":"CenAVS!F188","v":146.75},0,null,0,null,0]
[null,null,null,null,null,null,null,null,null,null,null,null,null,{"$f":"\"                       \"&ListAVS!$B$122","v":"                       nebo přidejte třetí zdvihač"},null,null,null,null,null,null,null,null,null,null,{"$f":"CenAVS!A189","v":"TIP-ON, dlouhá verze, hedvábně bílá"},{"$f":"CenAVS!B189","v":"956A1004"},{"$f":"CenAVS!C189","v":"WA"},0,{"$f":"CenAVS!F189","v":146.75},0,null,0,null,0]
[null,null,null,null,null,null,null,null,null,null,null,null,null,null,null,null,null,null,null,null,null,null,null,null,{"$f":"CenAVS!A190","v":"TIP-ON, dlouhá verze, karbon černá"},{"$f":"CenAVS!B190","v":"956A1004"},{"$f":"CenAVS!C190","v":"CS"},0,{"$f":"CenAVS!F190","v":146.75},0,null,0,null,0]
[null,null,null,null,null,null,null,null,null,null,null,null,null,{"$f":"HK!$P$26","v":1},null,1,null,{"$f":"HKi!$N$26","v":1},null,{"$f":"MenuAVS!$P$28","v":1},null,1]
[null,null,null,null,null,null,null,null,null,null,null,null,null,"zdvihač",null,"střed.",null,"provedení",null,"kryt.",null,"provedení"]
[null,null,null,null,null,null,null,null,null,null,null,null,null,"vruty",null,null,null,"plně integrovaný",null,{"$f":"ListAVS!$B$145","v":"Světle šedá (HGR)"},null,"Standard"]
[null,null,null,null,null,null,null,null,null,null,null,null,null,"šrouby",null,null,null,"s krytkou",null,{"$f":"ListAVS!$B$146","v":"Tmavě šedá (TGR)"},null,"TIP-ON"]
[null,null,null,null,null,null,null,null,null,null,null,null,null,null,null,null,null,null,null,{"$f":"ListAVS!$B$147","v":"Hedvábně bílá (SW)"},null,null,null,null,null,null,null,null,{"$f":"ListAVS!$B$61&\" \"","v":"Cena celkem bez DPH "},{"$f":"SUM(AD9:AD46)","v":0},null,{"$f":"SUM(AF9:AF47)","v":0},null,{"$f":"SUM(AH9:AH47)","v":0}]
[null,null,null,null,null,null,null,null,null,null,null,null,null,{"$f":"ListAVS!B187&\". \"","v":"Pro určení typu zdvihače bude použita zadaná hmotnost. "}]
[null,null,null,null,null,null,null,null,null,null,null,null,null,{"$f":"ListAVS!B188&\". \"","v":"Pro určení typu zdvihače bude použita vypočtená hmotnost. "}]
[null,null,null,null,null,null,null,null,null,null,null,null,null,{"$f":"ListAVS!B189","v":"Chcete-li použít vypočtenou hmotnost, smažte zadanou hodnotu"}]
[null,null,null,null,null,null,null,null,null,null,null,null,null,{"$f":"ListAVS!B190","v":"Chcete-li použít zadanou hmotnost, zadejte ji do políčka"}]
[]
[]
[]
[]
[]
[]
[]
[]
[]
[]
[]
[]
[]
[]
[]
[]
[null,null,null,null,null,null,null,null,null,null,null,null,null,{"$f":"ListAVS!$B$73","v":"Výpočet hmotnosti čel"}]
[null,null,null,null,null,null,null,null,null,null,null,null,null,null,null,{"$f":"ListAVS!$B$179&\"  \"","v":"Provedení čel  "},null,null,null,{"$f":"J4","v":0},{"$f":"IF(Z77=3,IF(T70=0,Y72,\" \"),IF(T70>0,Y73,\" \"))","v":" "},null,null,null,{"$f":"IF($Z$77=1,$Z$78,IF($Z$77=2,$Z$79,$Z$80&\" \"&$Y$80&\"kg/m3\"))&\" A~\"&$T$78&\"/ B~\"&$T$89&\"mm\"","v":"MDF (760 kg/m3) A~0/ B~0mm"},null,null,null,null,{"$f":"MenuAVS!$Q$81","v":2500}]
[null,null,null,null,null,null,null,null,null,null,null,null,null,null,null,{"$f":"IF($Z$77<>3,$Y$71,\" \")&\"      \"","v":" Změnit hodnoty můžete v Úvodu plánování      "},null,null,null,null,null,null,null,null,{"$f":"\" \"&ListAVS!$B$410","v":" Změnit hodnoty můžete v Úvodu plánování"}]
[null,null,null,null,null,null,null,null,null,null,null,null,null,null,null,null,null,null,null,null,null,null,null,null,{"$f":"\" \"&ListAVS!$B$244&\" [kg/m3]\"","v":" Zadejte objemovou hmotnost  [kg/m3]"}]
[null,null,null,null,null,null,null,null,null,null,null,null,null,null,null,null,null,null,null,null,null,null,null,null,{"$f":"\" \"&ListAVS!$B$240&\" '\"&ListAVS!$B$92&\"'\"","v":" Hodnota platí jen pro volbu 'Jiné - volitelná hustota'"}]
[]
[null,null,null,null,null,null,null,null,null,null,null,null,null,null,null,null,null,{"$f":"D9","v":" "},null,null,null,null,null,null,null,null,null,null,null,null,"váha spoj.","tl. skla","typ alu"]
[null,null,null,null,null,null,null,null,null,null,null,null,null,{"$f":"ListAVS!$B$74&\" KB [mm]       \"","v":"Šířka korpusu KB [mm]       "},null,null,null,null,null,{"$f":"H10","v":0},null,null,null,null,{"$f":"T76*T77*T78","v":0},null,null,null,null,{"$f":"IF($AG$76=1,$X$95,$X$96)","v":0.62},{"$f":"$X$97","v":0.61},1,{"$f":"$O$4","v":1}]
[null,null,null,null,null,null,null,null,null,null,null,null,null,{"$f":"ListAVS!$B$75&\" KH [mm]       \"","v":"Výška korpusu KH [mm]       "},null,null,null,null,null,{"$f":"H11","v":0},null,null,null,null,{"$f":"Y76/1000000000","v":0},1,null,null,null,"váha alu",{"$f":"SUM(T76*2,(T77-90)*2)*AD76/1000","v":-0.11159999999999999},"A plocha B"]
[null,null,null,null,null,null,null,null,null,null,null,null,null,{"$f":"ListAVS!$B$80&\" TS [mm] \"","v":"Síla čela TS [mm] "},null,null,null,null,null,{"$f":"H13","v":0},{"$f":"IF(SUM(T76,T77)=0,\" \",IF(T78=0,\" ● \"&ListAVS!$B$128,\" \"))","v":" "},null,null,null,{"$f":"MenuAVS!$C$31","v":760},{"$f":"ListAVS!$B$90&\" (\"&Y78&\" kg/m3)\"","v":"MDF (760 kg/m3)"},null,null,null,{"$f":"$AD$70*4/1000","v":10},{"$f":"IF($AG$76=1,AF78*AD78,AG78*AD78)","v":6.4000000000000001E-2},{"$f":"SUM(($T$76-80)*($T$77-80)/1000000)","v":6.4000000000000003E-3},{"$f":"SUM(($T$76-6)*($T$77-6)/1000000)","v":3.6000000000000001E-5},"4mm"]
[null,null,null,null,null,null,null,null,null,null,null,null,null,{"$f":"ListAVS!$B$83&\" [kg] \"","v":"Hmotnost úchytky [kg] "},null,null,null,null,null,{"$f":"H14","v":0},{"$f":"IF($U$16=3,\" \",IF(SUM(T76,T77)=0,\" \",IF(T79=0,\" ● \"&ListAVS!$B$129,\" \")))","v":" "},null,null,null,{"$f":"MenuAVS!$C$32","v":680},{"$f":"ListAVS!$B$91&\" (\"&Y79&\" kg/m3)\"","v":"Dřevotříska (680 kg/m3)"},null,null,null,{"$f":"$AD$70*5/1000","v":12.5},{"$f":"IF($AG$76=1,AF79*AD79,AG79*AD79)","v":0.08},{"$f":"SUM(($T$76-80)*($T$77-80)/1000000)","v":6.4000000000000003E-3},{"$f":"SUM(($T$76-6)*($T$77-6)/1000000)","v":3.6000000000000001E-5},"5mm"]
[null,null,null,null,null,null,null,null,null,null,null,null,null,{"$f":"ListAVS!$B$79&\" [kg] \"","v":"Vypočtená hmotnost čela [kg] "},null,null,null,null,null,{"$f":"IF(AD81=0,0,AD81+2*T79)","v":0},null,null,null,{"$f":"IF(T76*T77*T78=0,0,IF(Z77=1,Y77*Y78,IF(Z77=2,Y77*Y79,Y77*Y80)))","v":0},{"$f":"$T$70","v":0},{"$f":"ListAVS!$B$92","v":"Jiné - volitelná hustota"},null,null,null,{"$f":"$AD$70*$T$70/1000","v":0},{"$f":"IF($AG$76=1,AF80*AD80,AG80*AD80)","v":0},{"$f":"SUM(($T$76-80)*($T$77-80)/1000000)","v":6.4000000000000003E-3},{"$f":"SUM(($T$76-6)*($T$77-6)/1000000)","v":3.6000000000000001E-5},"jiné"]
[null,null,null,null,null,null,null,null,null,null,null,null,null,null,{"$f":"IF((U16=3)*AND(T80>0)*AND(T79>0),$Z$96&\" \"&$Z$97,IF((U16<>3)*AND(T80>0),IF(T79=0,$Z$95,\" \"),\" \"))","v":" "},null,null,null,null,null,null,null,null,null,null,null,null,null,null,{"$f":"IF(OR(AND(AF76=3, $T$70=0), T76*T77=0), 0, SUM(IF(AF76=1,AE78,IF(AF76=2,AE79,AE80)),AE77,AE76))","v":0}]
[]
[]
[]
[]
[null,null,null,null,null,null,null,null,null,null,null,null,null,null,null,null,null,{"$f":"D20","v":" "},null,null,null,null,null,null,null,null,null,null,null,null,"váha spoj.","tl. skla","typ alu"]
[null,null,null,null,null,null,null,null,null,null,null,null,null,{"$f":"ListAVS!$B$74&\" KB [mm]       \"","v":"Šířka korpusu KB [mm]       "},null,null,null,null,null,{"$f":"H21","v":0},null,null,null,null,{"$f":"T87*T88*T89","v":0},null,null,null,null,{"$f":"IF($AG$76=1,$X$95,$X$96)","v":0.62},{"$f":"$X$97","v":0.61},{"$f":"$AF$76","v":1},{"$f":"$O$4","v":1}]
[null,null,null,null,null,null,null,null,null,null,null,null,null,{"$f":"ListAVS!$B$75&\" KH [mm]       \"","v":"Výška korpusu KH [mm]       "},null,null,null,null,null,{"$f":"H22","v":0},null,null,null,null,{"$f":"Y87/1000000000","v":0},{"$f":"Z77","v":1},null,null,null,"váha alu",{"$f":"SUM(T87*2,(T88-90)*2)*AD87/1000","v":-0.11159999999999999},"A plocha B"]
[null,null,null,null,null,null,null,null,null,null,null,null,null,{"$f":"ListAVS!$B$80&\" TS [mm] \"","v":"Síla čela TS [mm] "},null,null,null,null,null,{"$f":"H24","v":0},{"$f":"IF(SUM(T87,T88)=0,\" \",IF(T89=0,\" ● \"&ListAVS!$B$128,\" \"))","v":" "},null,null,null,{"$f":"$Y$78","v":760},{"$f":"$Z$78","v":"MDF (760 kg/m3)"},null,null,null,{"$f":"AD78","v":10},{"$f":"IF($AG$76=1,AF89*AD89,AG89*AD89)","v":6.4000000000000001E-2},{"$f":"SUM(($T$87-80)*($T$88-80)/1000000)","v":6.4000000000000003E-3},{"$f":"SUM(($T$87-6)*($T$88-6)/1000000)","v":3.6000000000000001E-5},"4mm"]
[null,null,null,null,null,null,null,null,null,null,null,null,null,{"$f":"ListAVS!$B$83&\" [kg] \"","v":"Hmotnost úchytky [kg] "},null,null,null,null,null,{"$f":"H25","v":0},{"$f":"IF($U$27=3,\" \",IF(SUM(T87,T88)=0,\" \",IF(T90=0,\" ● \"&ListAVS!$B$129,\" \")))","v":" "},null,null,null,{"$f":"$Y$79","v":680},{"$f":"$Z$79","v":"Dřevotříska (680 kg/m3)"},null,null,null,{"$f":"AD79","v":12.5},{"$f":"IF($AG$76=1,AF90*AD90,AG90*AD90)","v":0.08},{"$f":"SUM(($T$87-80)*($T$88-80)/1000000)","v":6.4000000000000003E-3},{"$f":"SUM(($T$87-6)*($T$88-6)/1000000)","v":3.6000000000000001E-5},"5mm"]
[null,null,null,null,null,null,null,null,null,null,null,null,null,{"$f":"ListAVS!$B$79&\" [kg] \"","v":"Vypočtená hmotnost čela [kg] "},null,null,null,null,null,{"$f":"IF(AD92=0,0,AD92+2*T90)","v":0},null,null,null,{"$f":"IF(T87*T88*T89=0,0,IF(Z88=1,Y88*Y89,IF(Z88=2,Y88*Y90,Y88*Y91)))","v":0},{"$f":"$Y$80","v":0},{"$f":"$Z$80","v":"Jiné - volitelná hustota"},null,null,null,{"$f":"AD80","v":0},{"$f":"IF($AG$76=1,AF91*AD91,AG91*AD91)","v":0},{"$f":"SUM(($T$87-80)*($T$88-80)/1000000)","v":6.4000000000000003E-3},{"$f":"SUM(($T$87-6)*($T$88-6)/1000000)","v":3.6000000000000001E-5},"jiné"]
[null,null,null,null,null,null,null,null,null,null,null,null,null,null,{"$f":"IF((U27=3)*AND(T91>0)*AND(T90>0),$Z$96&\" \"&$Z$97,IF((U27<>3)*AND(T91>0),IF(T90=0,$Z$95,\" \"),\" \"))","v":" "},null,null,null,null,null,null,null,null,null,null,null,null,null,null,{"$f":"IF(OR(AND(AF87=3, $T$70=0), T87*T88=0), 0, SUM(IF(AF87=1,AE89,IF(AF87=2,AE90,AE91)),AE88,AE87))","v":0}]
[]
[]
[null,null,null,null,null,null,null,null,null,null,null,null,null,null,null,null,null,null,null,null,null,null,{"$f":"ListAVS!$B$422&\"  \"","v":"s vloženým sklem  "},{"$f":"MenuAVS!$I$86","v":0.62},null,{"$f":"ListAVS!$B$102&\"!\"","v":"Není započtena hmotnost úchytky!"},null,null,null,null,null,{"$f":"ListAVS!$B$93","v":"Alurámečky s 4mm sklem"}]
[null,null,null,null,null,null,null,null,null,null,null,null,null,null,null,null,null,null,null,null,null,null,{"$f":"ListAVS!$B$423&\"  \"","v":"s naloženým nebo nalepeným sklem  "},{"$f":"MenuAVS!$I$87","v":0.63},null,{"$f":"ListAVS!B103","v":"Opravdu máte úchytku na TIP-ON?"},null,null,null,null,null,{"$f":"ListAVS!$B$94","v":"Alurámečky s 5mm sklem"}]
[null,null,null,null,null,null,null,null,null,null,null,null,null,null,null,null,null,null,null,null,null,null,{"$f":"ListAVS!$B$405&\" [kg/set] *  \"","v":"Hmotnost spojovacího materiálu [kg/set] *  "},{"$f":"MenuAVS!$I$88","v":0.61},null,{"$f":"ListAVS!B104&\"!\"","v":"Jestli ne, smažte hmotnost úchytky.!"},null,null,null,null,null,{"$f":"ListAVS!$B$95","v":"Alurámečky s jiným sklem"}]
[]
[]
[null,"      AVENTOS HK"]
[]
[null,{"$f":"ListAVS!$B$302","v":"Potřebný zdvihač se určí pomocí ukazatele výkonnosti."}]
[null,{"$f":"ListAVS!$B$340","v":"Ukazatel výkonnosti závisí na hmotnosti čela (včetně dvojnásobné hmotnosti úchytky) a na výšce korpusu."}]
[]
[]
[null,null,null,{"$f":"ListAVS!$B$86&\" = \"","v":"Ukazatel výkonnosti = "},{"$f":"ListAVS!$B$341&\" [kg]\"","v":"výška korpusu (KH) [mm] x hmotnost čela včetně dvojnásobné hmotnosti úchytky [kg]"}]
[]
[]
[]
[]
[]
[null,{"$f":"ListAVS!$B$311","v":"Pokud znáte hmotnost čela, můžete ji zadat, jinak použijte \"Výpočet hmotnosti\"."}]
[null,{"$f":"ListAVS!$B$312","v":"V tabulce má přednost zadaná hodnota. Chcete-li použít vypočtenou hmotnost, smažte zadanou hodnotu."}]
[]
[null,{"$f":"ListAVS!$B$306","v":"Chcete-li změnit provedení zdvihače (plná/částečná integrace), přejděte na výběr HKi"}]
[null,{"$f":"ListAVS!$B$305","v":"Chcete-li změnit barvu krytek, přejděte na \"Úvod plánování\""}]
[]
[null,{"$f":"ListAVS!$B$411","v":"Věnujte pozornost výběru alurámečků."}]
[null,{"$f":"ListAVS!$B$412","v":"Vyberte, který typ lépe odpovídá tvaru použitého alurámečku."}]
[null,{"$f":"ListAVS!$B$413","v":"Způsob osazení skla do rámečku výrazně ovlivňuje plochu skla a tím i hmotnost!"}]
[]
[null,null,{"$f":"\"  \"&ListAVS!$B$422&\"  \"","v":"  s vloženým sklem  "}]
[]
[null,null,{"$f":"\"  \"&ListAVS!$B$423&\"  \"","v":"  s naloženým nebo nalepeným sklem  "}]
[]
[]
[null,null,null,null,null,null,null,null,null,null,null,{"$f":"ListAVS!$B$167","v":"Zpět"}]

{"sheet":"HKina","index":38,"n_rows":127,"n_cols":45,"rows_kept":127,"cut":false,"hidden":false,"merged":[[89,13,89,18],[90,13,90,18],[98,0,139,0],[105,4,105,11],[78,13,78,18],[79,13,79,18],[85,17,85,19],[86,13,86,18],[87,13,87,18],[88,13,88,18],[77,13,77,18],[26,1,26,2],[26,3,26,6],[27,1,27,6],[29,19,29,20],[42,2,44,10],[70,15,70,19],[74,17,74,19],[75,13,75,18],[76,13,76,18],[20,1,20,6],[20,21,20,22],[21,1,21,6],[22,1,22,6],[23,1,25,2],[23,3,23,6],[24,3,24,6],[25,3,25,6],[16,1,16,6],[16,42,17,46],[19,1,19,2],[19,5,19,7],[19,17,19,18],[19,21,19,22],[9,21,9,22],[9,42,9,43],[10,1,10,6],[10,42,10,43],[12,1,14,2],[12,3,12,6],[12,42,12,43],[13,3,13,6],[14,3,14,6],[14,42,15,46],[15,1,15,2],[15,3,15,6],[11,1,11,6],[11,42,11,43],[9,1,9,6],[0,42,0,50],[1,1,1,3],[7,44,8,44],[8,1,8,2],[8,5,8,7],[8,17,8,18],[8,21,8,22],[3,10,4,11],[4,5,4,9],[6,1,6,2],[6,6,6,7],[7,42,8,43]]}
[]
[null,"AVENTOS HKi",null,null,null,null,null,null,null,null,null,null,null,null,"rámeček",null,null,null,3,null,null,null,null,null,null,null,null,null,null,null,null,null,null,null,null,null,null,null,null,{"$f":"ListAVS!$B$152","v":"Jdi na"}]
[]
[null,{"$f":"ListAVS!$B$22&\" ***\"","v":"Úzký alurámeček ***"},null,null,null,{"$f":"ListAVS!$B$179&\"  \"","v":"Provedení čel  "},null,null,null,null,{"$f":"IF($Z$77=3,IF(J4=0,$Y$72,\" \"),IF(J4>0,$Y$73,\" \"))","v":" "},null,null,null,1,null,null,null,{"$f":"\" \"&ListAVS!$B$41&\" A \"","v":" Cena za korpus A "},null,null,null,null,null,null,null,null,null,null,null,null,null,null,null,null,null,null,null,null," Úvod plánování"]
[null,null,null,null,null,{"$f":"IF($Z$77<>3,$Y$71,\" \")&\"      \"","v":" Změnit hodnoty můžete v Úvodu plánování      "},null,null,null,null,null,null,null,null,"A = 1",null,null,null,{"$f":"\" \"&ListAVS!$B$41&\" B \"","v":" Cena za korpus B "},null,null,null,null,null,null,null,null,null,null,null,null,null,null,null,null,null,null,null,null,{"$f":"\" \"&ListAVS!$B$154","v":" Nápověda"}]
[null,null,null,null,null,null,null,null,null,null,null,null,null,null,"B = 2",null,null,null,{"$f":"\" \"&ListAVS!$B$61","v":" Cena celkem bez DPH"}]
[null,{"$f":"ListAVS!$B$51&\":   \"","v":"Cena kování:   "},null,null,null,null,{"$f":"IF(S2=1,$AF$48,IF($S$2=2,$AH$48,IF($S$2=3,$AD$48,0)))","v":0},null,null,null,null,{"$f":"IF($R$44=1, ListAVS!$B$429, ListAVS!$B$430)","v":"plně integrovaný"},null,null,null,null,null,null,null,null,null,null,null,null,{"$f":"$B$2","v":"AVENTOS HKi"},{"$f":"B4","v":"Úzký alurámeček ***"},null,null,null,null,null,null,null,null,null,null,null,null,null,{"$f":"\" \"&ListAVS!$B$159","v":" Doplňky"}]
[null,null,null,null,null,null,null,{"$f":"IF(AND(OR($U$16=2, $U$27=2), $AD$48>0), $N$34, \" \")","v":" "},null,null,null,null,null,null,null,null,null,null,null,null,null,null,null,null,{"$f":"ListAVS!B52","v":"Název"},{"$f":"ListAVS!$B$53","v":"Číslo artiklu"},{"$f":"ListAVS!B54","v":"Barva"},{"$f":"ListAVS!B56","v":"Ks"},{"$f":"ListAVS!B58","v":"Jednotková cena"},{"$f":"ListAVS!B59","v":"Celkem"},"A","Cena","B","Cena",null,null,null,null,null,null,null,null,{"$f":"\"  \"&ListAVS!$B$86&\" LF \"","v":"  Ukazatel výkonnosti LF "},null,{"$f":"ListAVS!$B$84","v":"Zdvihací mechanizmus"}]
[null,{"$f":"\"▼ \"&ListAVS!$B$317","v":"▼ Způsob otvírání"},null,{"$f":"IF($M$17>0, ListAVS!$B$37&\": \", \" \")","v":" "},{"$f":"IF($AE$9>0,\"23\",IF($AE$10>0,\"25\",IF($AE$11>0,\"27\",IF($AE$12>0,\"28\",IF($AE$14>0,\"23T\",IF($AE$15>0,\"25T\",IF($AE$16>0,\"27T\",IF($AE$17>0,\"28T\",\" \"))))))))","v":" "},{"$f":"ListAVS!$B$64&\" A\"","v":"Korpus A"},null,null,null,null,null,null,null,null,null,null,null,"dva zdvihače",null,2000,{"$f":"T9-1","v":1999},"tři zdvihače",null,null,{"$f":"CenAVS!A125","v":"Sada zdvihačů HKi, LF 420–1610"},{"$f":"CenAVS!B125","v":"24K2300"},{"$f":"CenAVS!C125","v":"OS"},{"$f":"SUM(AE9,AG9)","v":0},{"$f":"CenAVS!F125","v":8016.43},{"$f":"AB9*AC9","v":0},{"$f":"IF($U$16=1, ROUNDUP(SUM(O11:P11)*$M$17,0),0)","v":0},{"$f":"$AC9*AE9","v":0},{"$f":"IF($U$27=1, ROUNDUP(SUM(O22:P22)*$M$28,0),0)","v":0},{"$f":"$AC9*AG9","v":0},null,null,null,null,null,{"$f":"\" \"&ListAVS!$B$156","v":" Přehled korpusů"}]
[null,{"$f":"ListAVS!$B$74&\" KB [mm] \"","v":"Šířka korpusu KB [mm] "},null,null,null,null,null,null,{"$f":"IF($H10=0,\" \",IF($H10<220,\" min. 220mm\",\" \"))&IF(H17>0,IF(H10=0,\"● \"&ListAVS!$B$128,\" \"),\" \")","v":"  "},null,null,null,null,"zdvih A","dva","tři",null,"min","max","š.max","š. min",false,null,null,{"$f":"CenAVS!A126","v":"Sada zdvihačů HKi, LF 930–2800"},{"$f":"CenAVS!B126","v":"24K2500"},{"$f":"CenAVS!C126","v":"OS"},0,{"$f":"CenAVS!F126","v":8016.43},{"$f":"AB10*AC10","v":0},{"$f":"IF($U$16=1, ROUNDUP(SUM(O12:P12)*$M$17,0),0)","v":0},0,{"$f":"IF($U$27=1, ROUNDUP(SUM(O23:P23)*$M$28,0),0)","v":0},0,null,null,null,null,null,{"$f":"\" \"&ListAVS!$B$157","v":" Objednávka"},null,null,"  420 - 1610",null,"24K2300"]
[null,{"$f":"ListAVS!$B$75&\" KH [mm]  \"","v":"Výška korpusu KH [mm]  "},null,null,null,null,null,null,{"$f":"IF($H11=0,\" \",IF($H11<170,\" min. 170mm\",IF($H11>600,\" max. 600 mm!\",\" \")))&IF(H17>0,IF(H11=0,\"● \"&ListAVS!$B$128,\" \"),\" \")","v":"  "},null,null,null,null,"K23",{"$f":"IF($V$10=FALSE,IF($H$16>R11,IF($H$16<S11,1,0),0),0)","v":0},{"$f":"IF($V$10=TRUE,IF($H$16>V11,IF($H$16<W11,1.5,0),0),0)","v":0},null,420,1160,null,null,{"$f":"R11*1.5","v":630},{"$f":"S11*1.5","v":1740},null,{"$f":"CenAVS!A127","v":"Sada zdvihačů HKi, LF 1730–5200"},{"$f":"CenAVS!B127","v":"24K2700"},{"$f":"CenAVS!C127","v":"OS"},0,{"$f":"CenAVS!F127","v":8155.85},0,{"$f":"IF($U$16=1, ROUNDUP(SUM(O13:P13)*$M$17,0),0)","v":0},0,{"$f":"IF($U$27=1, ROUNDUP(SUM(O24:P24)*$M$28,0),0)","v":0},0,null,null,null,null,null,null,null,null,"  930 - 2800",null,"24K2500"]
[null,{"$f":"ListAVS!$B$78&\" [kg] ** \"","v":"Hmotnost čela vč. 2x hmotnost úchytky [kg] ** "},null,null,null,null,null,null,{"$f":"IF($H17=0,\" \",IF(SUM($H12,$H15)=0,$N$36,\" \"))&IF($H17>0,IF($H12>0,$N$37,\" \"),\" \")","v":"  "},null,null,null,null,"K25",{"$f":"IF($V$10=FALSE,IF($H$16>R12,IF($H$16<S12,1,0),0),0)","v":0},{"$f":"IF($V$10=TRUE,IF($H$16>V12,IF($H$16<W12,1.5,0),0),0)","v":0},null,1159.99,2265,null,null,1739.99,3398,null,{"$f":"CenAVS!A128","v":"Sada zdvihačů HKi, LF 2600–7800"},{"$f":"CenAVS!B128","v":"24K2800"},{"$f":"CenAVS!C128","v":"OS"},0,{"$f":"CenAVS!F128","v":8504.39},0,{"$f":"IF($U$16=1, ROUNDUP(SUM(O14:P14)*$M$17,0),0)","v":0},0,{"$f":"IF($U$27=1, ROUNDUP(SUM(O25:P25)*$M$28,0),0)","v":0},0,null,null,null,null,null,null,null,null,"  1730 - 5200",null,"24K2700"]
[null,{"$f":"ListAVS!$B$292","v":"Výpočet hmotnosti"},null,{"$f":"ListAVS!$B$80&\" TS [mm] \"","v":"Síla čela TS [mm] "},null,null,null,null,null,null,null,null,null,"K27",{"$f":"IF($V$10=FALSE,IF($H$16>R13,IF($H$16<S13,1,0),0),0)","v":0},{"$f":"IF($V$10=TRUE,IF($H$16>V13,IF($H$16<W13,1.5,0),0),0)","v":0},null,2264.9899999999998,3470,null,null,3397.99,{"$f":"S13*1.5","v":5205},null,null,null,null,null,null,null,null,null,null,null,null,null,null,null,null,null,null,null,"  2600 - 7800",null,"24K2800"]
[null,null,null,{"$f":"ListAVS!$B$83&\" [kg] \"","v":"Hmotnost úchytky [kg] "},null,null,null,null,{"$f":"IF(H17=0, \" \", IF(AND(H12=0, U16=1, H14=0), \" ● \"&ListAVS!$B$129,\" \"))","v":" "},null,null,null,null,"K28",{"$f":"IF($V$10=FALSE,IF($H$16>R14,IF($H$16<S14,1,0),0),0)","v":0},{"$f":"IF($V$10=TRUE,IF($H$16>V14,IF($H$16<W14,1.5,0),0),0)","v":0},null,3469.99,7800,null,null,5204.99,{"$f":"S14*1.5","v":11700},null,{"$f":"CenAVS!A130","v":"Sada zdvihačů HKi pro TIP-ON, LF 420–1610"},{"$f":"CenAVS!B130","v":"24K2300T"},{"$f":"CenAVS!C130","v":"OS"},0,{"$f":"CenAVS!F130","v":8123.98},0,{"$f":"IF($U$16=2, ROUNDUP(SUM(O11:P11)*$M$17,0),0)","v":0},0,{"$f":"IF($U$27=2, ROUNDUP(SUM(O22:P22)*$M$28,0),0)","v":0},0]
[null,null,null,{"$f":"ListAVS!$B$79&\" [kg] \"","v":"Vypočtená hmotnost čela [kg] "},null,null,null,{"$f":"$T$80","v":0},{"$f":"IF(AND($H17>0,$H15>0,$H12=0,$M17>0), $N$37,\" \")&IF(AND(H17>0, H12=0, Z77=3, $J$4=0), $N$35, \" \")","v":"  "},null,null,null,null,null,null,null,null,null,null,null,{"$f":"IF(U16=1,$V$46, $V$47)","v":"Standard"},null,null,null,{"$f":"CenAVS!A131","v":"Sada zdvihačů HKi pro TIP-ON, LF 930–2800"},{"$f":"CenAVS!B131","v":"24K2500T"},{"$f":"CenAVS!C131","v":"OS"},0,{"$f":"CenAVS!F131","v":8123.98},0,{"$f":"IF($U$16=2, ROUNDUP(SUM(O12:P12)*$M$17,0),0)","v":0},0,{"$f":"IF($U$27=2, ROUNDUP(SUM(O23:P23)*$M$28,0),0)","v":0},0,null,null,null,null,null,null,null,null,{"$f":"ListAVS!$B$86&\" LF = \"&ListAVS!$B$75&\" KH [mm] x \"&ListAVS!$B$78&\" [kg]\"","v":"Ukazatel výkonnosti LF = Výška korpusu KH [mm] x Hmotnost čela vč. 2x hmotnost úchytky [kg]"}]
[null,null,null,{"$f":"ListAVS!$B$86&\" LF \"","v":"Ukazatel výkonnosti LF "},null,null,null,{"$f":"IF(H12>0,H11*H12,H11*H15)","v":0},{"$f":"IF(H17=0,\" \",IF($H16<420,$N$39,IF($H16>13500,$N$40,IF($H16>9000,IF(V10=FALSE,$N$41,\" \"),\" \"))))","v":" "},null,null,null,null,null,null,null,null,null,null,null,1,null,null,null,{"$f":"CenAVS!A132","v":"Sada zdvihačů HKi pro TIP-ON, LF 1730–5200"},{"$f":"CenAVS!B132","v":"24K2700T"},{"$f":"CenAVS!C132","v":"OS"},0,{"$f":"CenAVS!F132","v":8356.6},0,{"$f":"IF($U$16=2, ROUNDUP(SUM(O13:P13)*$M$17,0),0)","v":0},0,{"$f":"IF($U$27=2, ROUNDUP(SUM(O24:P24)*$M$28,0),0)","v":0},0]
[null,{"$f":"ListAVS!$B$71&\" \"","v":"Počet skříněk "},null,null,null,null,null,null,{"$f":"IF($H16>13500,\" \",IF($H16>9000,IF(V10=FALSE,$N$42,\" \"),\" \"))","v":" "},null,null,null,{"$f":"IF($H10*$H$11*$T17=0,0,IF($H11<210,0,IF($H16<420,0,IF($H16>13500,0,IF(H16>9000,IF(V10=FALSE,0,$H17),H$17)))))","v":0},null,null,null,null,null,"hmot =",{"$f":"IF(H12>0,H12,H15)","v":0},{"$f":"IF(SUM(H12,H15)=0,0,IF(H12>0,1,2))","v":0},"zadaná / vypočtená",null,null,{"$f":"CenAVS!A133","v":"Sada zdvihačů HKi pro TIP-ON, LF 2600–7800"},{"$f":"CenAVS!B133","v":"24K2800T"},{"$f":"CenAVS!C133","v":"OS"},0,{"$f":"CenAVS!F133","v":8705.1299999999992},0,{"$f":"IF($U$16=2, ROUNDUP(SUM(O14:P14)*$M$17,0),0)","v":0},0,{"$f":"IF($U$27=2, ROUNDUP(SUM(O25:P25)*$M$28,0),0)","v":0},0,null,null,null,null,null,null,null,null,{"$f":"ListAVS!$B$354","v":"V případě využití třetího zdvihače můžete zvýšit ukazatel výkonnosti a tudíž hmotnost čílka o 50%."}]
[null,{"$f":"IF(H17>0,IF(OR(U17=0,M17=0), \" \",IF(U17=1, $N$49, $N$50)),\" \")&IF(H17>0,IF(OR(U17=0, M17=0), \" \",IF(U17=1, $N$51, $N$52)),\" \")","v":"  "}]
[null,null,null,null,null,null,null,null,null,null,null,null,null,null,null,null,null,null,null,null,null,null,null,null,{"$f":"CenAVS!A135","v":"Symetrické čelní kování Hki, EXPANDO"},{"$f":"CenAVS!B135","v":"24K42E1"},{"$f":"CenAVS!C135","v":"OS"},{"$f":"SUM(AE19,AG19)","v":0},{"$f":"CenAVS!F135","v":209.13},{"$f":"AB19*AC19","v":0},null,{"$f":"$AC19*AE19","v":0},null,{"$f":"$AC19*AG19","v":0}]
[null,{"$f":"\"▼ \"&ListAVS!$B$317","v":"▼ Způsob otvírání"},null,{"$f":"IF($M$28>0, ListAVS!$B$37&\": \", \" \")","v":" "},{"$f":"IF($AG$9>0,\"23\",IF($AG$10>0,\"25\",IF($AG$11>0,\"27\",IF($AG$12>0,\"28\",IF($AG$14>0,\"23T\",IF($AG$15>0,\"25T\",IF($AG$16>0,\"27T\",IF($AG$17>0,\"28T\",\" \"))))))))","v":" "},{"$f":"ListAVS!$B$64&\" B\"","v":"Korpus B"},null,null,null,null,null,null,null,null,null,null,null,"dva zdvihače",null,null,null,"tři zdvihače",null,null,{"$f":"CenAVS!A136","v":"Symetrické čelní kování Hki, pro alurámečky"},{"$f":"CenAVS!B136","v":"24K4201A"},{"$f":"CenAVS!C136","v":"OS"},{"$f":"SUM(AE20,AG20)","v":0},{"$f":"CenAVS!F136","v":230.04},{"$f":"AB20*AC20","v":0},{"$f":"SUM($AE$9:$AE$17)*2","v":0},{"$f":"$AC20*AE20","v":0},{"$f":"SUM($AG$9:$AG$17)*2","v":0},{"$f":"$AC20*AG20","v":0}]
[null,{"$f":"ListAVS!$B$74&\" KB [mm] \"","v":"Šířka korpusu KB [mm] "},null,null,null,null,null,null,{"$f":"IF($H21=0,\" \",IF($H21<220,\" min. 220mm\",IF($H21>1800,\" max. 1 800mm\",\" \")))&IF(H28>0,IF(H21=0,\"● \"&ListAVS!$B$128,\" \"),\" \")","v":"  "},null,null,null,null,"zdvih B","dva","tři",null,"min","max",null,null,false]
[null,{"$f":"ListAVS!$B$75&\" KH [mm] \"","v":"Výška korpusu KH [mm] "},null,null,null,null,null,null,{"$f":"IF($H22=0,\" \",IF($H22<170,\" min. 170mm\",IF($H22>600,\" max. 600 mm!\",\" \")))&IF(H28>0,IF(H22=0,\"● \"&ListAVS!$B$128,\" \"),\" \")","v":"  "},null,null,null,null,"K23",{"$f":"IF($V$21=FALSE,IF($H$27>R22,IF($H$27<S22,1,0),0),0)","v":0},{"$f":"IF($V$21=TRUE,IF($H$27>V22,IF($H$27<W22,1.5,0),0),0)","v":0},null,420,1160,null,null,{"$f":"R22*1.5","v":630},{"$f":"S22*1.5","v":1740},null,{"$f":"CenAVS!A138","v":"Sada krytek HKi, hedvábně bílá"},{"$f":"CenAVS!B138","v":"24K8000"},{"$f":"CenAVS!C138","v":"SW"},0,{"$f":"CenAVS!F138","v":689.28},0,{"$f":"IF(AND($R$44=2, $T$44=3),SUM($AE$9:$AE$17),0)","v":0},0,{"$f":"IF(AND($R$44=2, $T$44=3),SUM($AG$9:$AG$17),0)","v":0},0]
[null,{"$f":"ListAVS!$B$78&\" [kg] ** \"","v":"Hmotnost čela vč. 2x hmotnost úchytky [kg] ** "},null,null,null,null,null,null,{"$f":"IF($H28=0,\" \",IF(SUM($H23,$H26)=0,$N$36,\" \"))&IF($H28>0,IF($H23>0,$N$37,\" \"),\" \")","v":"  "},null,null,null,null,"K25",{"$f":"IF($V$21=FALSE,IF($H$27>R23,IF($H$27<S23,1,0),0),0)","v":0},{"$f":"IF($V$21=TRUE,IF($H$27>V23,IF($H$27<W23,1.5,0),0),0)","v":0},null,1159.99,2265,null,null,1739.99,3398,null,{"$f":"CenAVS!A139","v":"Sada krytek HKi, světle šedá"},{"$f":"CenAVS!B139","v":"24K8000"},{"$f":"CenAVS!C139","v":"HGR"},0,{"$f":"CenAVS!F139","v":669.2},0,{"$f":"IF(AND($R$44=2, $T$44=1),SUM($AE$9:$AE$17),0)","v":0},0,{"$f":"IF(AND($R$44=2, $T$44=1),SUM($AG$9:$AG$17),0)","v":0},0]
[null,{"$f":"ListAVS!$B$292","v":"Výpočet hmotnosti"},null,{"$f":"ListAVS!$B$80&\" TS [mm] \"","v":"Síla čela TS [mm] "},null,null,null,null,null,null,null,null,null,"K27",{"$f":"IF($V$21=FALSE,IF($H$27>R24,IF($H$27<S24,1,0),0),0)","v":0},{"$f":"IF($V$21=TRUE,IF($H$27>V24,IF($H$27<W24,1.5,0),0),0)","v":0},null,2264.9899999999998,3470,null,null,3397.99,{"$f":"S24*1.5","v":5205},null,{"$f":"CenAVS!A140","v":"Sada krytek HKi, tmavě šedá"},{"$f":"CenAVS!B140","v":"24K8000"},{"$f":"CenAVS!C140","v":"TGR"},0,{"$f":"CenAVS!F140","v":689.28},0,{"$f":"IF(AND($R$44=2, $T$44=2),SUM($AE$9:$AE$17),0)","v":0},0,{"$f":"IF(AND($R$44=2, $T$44=2),SUM($AG$9:$AG$17),0)","v":0},0]
[null,null,null,{"$f":"ListAVS!$B$83&\" [kg] \"","v":"Hmotnost úchytky [kg] "},null,null,null,null,{"$f":"IF(H28=0, \" \", IF(AND(H23=0, U27=1, H25=0), \" ● \"&ListAVS!$B$129,\" \"))","v":" "},null,null,null,null,"K28",{"$f":"IF($V$21=FALSE,IF($H$27>R25,IF($H$27<S25,1,0),0),0)","v":0},{"$f":"IF($V$21=TRUE,IF($H$27>V25,IF($H$27<W25,1.5,0),0),0)","v":0},null,3469.99,7800,null,null,5204.99,{"$f":"S25*1.5","v":11700}]
[null,null,null,{"$f":"ListAVS!$B$79&\" [kg] \"","v":"Vypočtená hmotnost čela [kg] "},null,null,null,{"$f":"$T$91","v":0},{"$f":"IF(AND($H28>0,$H26>0,$H23=0,$M28>0), $N$37,\" \")&IF(AND(H28>0, H23=0, Z88=3, $J$4=0), $N$35, \" \")","v":"  "},null,null,null,null,null,null,null,null,null,null,null,{"$f":"IF(U27=1,$V$46,$V$47)","v":"Standard"},null,null,null,{"$f":"CenAVS!A144","v":"Sada předfrézovaných surových desek pro HKi"},{"$f":"CenAVS!B144","v":"24K7100"},{"$f":"CenAVS!C144","v":"NA"},{"$f":"J32","v":0},{"$f":"CenAVS!F144","v":2867.4},0,null,0,null,0]
[null,null,null,{"$f":"ListAVS!$B$86&\" LF \"","v":"Ukazatel výkonnosti LF "},null,null,null,{"$f":"IF(H23>0,H22*H23,H22*H26)","v":0},{"$f":"IF(H28=0,\" \",IF($H27<420,$N$39,IF($H27>13500,$N$40,IF($H27>9000,IF(V21=FALSE,$N$41,\" \"),\" \"))))","v":" "},null,null,null,null,null,null,null,null,null,null,null,1,null,null,null,{"$f":"CenAVS!A145","v":"Distanční díl pro HKi"},{"$f":"CenAVS!B145","v":"M45.1010"},{"$f":"CenAVS!C145","v":"NA"},{"$f":"J33","v":0},{"$f":"CenAVS!F145","v":858.54},0,null,0,null,0]
[null,{"$f":"ListAVS!$B$71&\" \"","v":"Počet skříněk "},null,null,null,null,null,null,{"$f":"IF($H27>13500,\" \",IF($H27>9000,IF(V21=FALSE,$N$42,\" \"),\" \"))","v":" "},null,null,null,{"$f":"IF($H21*$H$22*$T28=0,0,IF($H22<210,0,IF($H27<420,0,IF($H27>13500,0,IF(H27>9000,IF(V21=FALSE,0,$H28),H$28)))))","v":0},null,null,null,null,null,"hmot =",{"$f":"IF(H23>0,H23,H26)","v":0},{"$f":"IF(SUM(H23,H26)=0,0,IF(H23>0,1,2))","v":0},"zadaná / vypočtená",null,null,{"$f":"CenAVS!A146","v":0},{"$f":"CenAVS!B146","v":0},{"$f":"CenAVS!C146","v":0},0,{"$f":"CenAVS!F146","v":0},0,null,0,null,0]
[null,{"$f":"IF(H28>0,IF(OR(U28=0,M28=0), \" \",IF(U28=1, $N$49, $N$50)),\" \")&IF(H28>0,IF(OR(U28=0, M28=0), \" \",IF(U28=1, $N$51, $N$52)),\" \")","v":"  "},null,null,null,null,null,null,null,null,null,null,null,null,null,null,null,null,null,null,null,null,null,null,{"$f":"CenAVS!A147","v":0},{"$f":"CenAVS!B147","v":0},{"$f":"CenAVS!C147","v":0},0,{"$f":"CenAVS!F147","v":0},0,null,0,null,0]
[null,null,null,null,null,null,null,null,null,null,null,null,null,null,null,null,null,null,{"$f":"IF($T$30=FALSE,2,1)","v":2},false,null," - Zdroj",null,null,null,null,null,null,null,0,null,0,null,0]
[null,null,null,null,null,null,null,null,null,null,null,null,null,null,null,null,null,null,null,null,null,null,null,null,null,null,null,null,null,0,null,0,null,0]
[null,{"$f":"ListAVS!B343&\" \"\"\"&ListAVS!B159&\"\"\"\"","v":"Pro objednání sady předfrézovaných boků použijte \"Doplňky\""},null,null,null,null,null,null,null,null,null,null,null,null,null,null,null,null,null,null,null,null,null,null,null,null,null,null,null,0,null,0,null,0]
[null,null,null,null,null,null,null,null,null,null,null,null,null,null,null,null,null,null,null,null,null,null,null,null,null,null,null,null,null,0,null,0,null,0]
[null,null,null,null,null,null,null,null,null,null,null,null,null,{"$f":"ListAVS!B176","v":"Cena bez napájecího zdroje!"},null,null,null,null,null,null,null,null,null,null,null,null,null,null,null,0,null,0,null,0]
[null,null,null,null,null,null,null,null,null,null,null,null,null,{"$f":"\" \"&ListAVS!$B$117","v":" Vyplňte nahoře objemovou hmotnost "},null,null,null,null,null,null,null,null,null,null,null,null,null,null,null,0,null,0,null,0]
[null,null,{"$f":"\"** \"&ListAVS!$B$186","v":"** Pokud znáte hmotnost a nechcete využít výpočtu hmotnosti"},null,null,null,null,null,null,null,null,null,null,{"$f":"\" \"&ListAVS!$B$115","v":" Zadejte hmotnost nebo vyplňte všechny buňky"},null,null,null,null,null,null,null,null,null,null,null,null,null,null,null,0,null,0,null,0]
[null,null,{"$f":"\"*** \"&ListAVS!$B$403","v":"*** Vyberte typ alurámečku!"},null,null,null,null,null,null,null,null,null,null,{"$f":"\"◄ \"&ListAVS!$B$111","v":"◄ hodnota bude použita pro výpočet LF"},null,null,null,null,null,null,null,null,null,null,null,null,null,null,null,0,null,0,null,0]
[null,null,null,null,null,null,null,null,null,null,null,null,null,{"$f":"\" * \"&ListAVS!$B$127","v":" * Doplňte hodnoty"},null,null,null,null,null,null,null,null,null,null,{"$f":"CenAVS!A185","v":"TIP-ON, krátká verze, šedá"},{"$f":"CenAVS!B185","v":"956.1004"},{"$f":"CenAVS!C185","v":"PG"},0,{"$f":"CenAVS!F185","v":116.95},0,{"$f":"IF(AND($T$44=1,$U$16=2), $M$17,0)","v":0},0,{"$f":"IF(AND($T$44=1,$U$27=2), $M$28,0)","v":0},0]
[null,null,null,null,null,null,null,null,null,null,null,null,null,{"$f":"\" min. 420! \"&ListAVS!$B$121","v":" min. 420! Upravte hmotnost nebo výšku"},null,null,null,null,null,null,null,null,null,null,{"$f":"CenAVS!A186","v":"TIP-ON, krátká verze, hedvábně bílá"},{"$f":"CenAVS!B186","v":"956.1004"},{"$f":"CenAVS!C186","v":"SW"},0,{"$f":"CenAVS!F186","v":116.95},0,{"$f":"IF(AND($T$44=3,$U$16=2), $M$17,0)","v":0},0,{"$f":"IF(AND($T$44=3,$U$27=2), $M$28,0)","v":0},0]
[null,null,null,null,null,null,null,null,null,null,null,null,null,{"$f":"\" max. 13.500! \"&ListAVS!$B$121","v":" max. 13.500! Upravte hmotnost nebo výšku"},null,null,null,null,null,null,null,null,null,null,{"$f":"CenAVS!A187","v":"TIP-ON, krátká verze, karbon černá"},{"$f":"CenAVS!B187","v":"956.1004"},{"$f":"CenAVS!C187","v":"CS"},0,{"$f":"CenAVS!F187","v":116.95},0,{"$f":"IF(AND($T$44=2,$U$16=2), $M$17,0)","v":0},0,{"$f":"IF(AND($T$44=2,$U$27=2), $M$28,0)","v":0},0]
[null,null,null,null,null,null,null,null,null,null,null,null,null,{"$f":"\" max. 9 000! \"&ListAVS!$B$121","v":" max. 9 000! Upravte hmotnost nebo výšku"},null,null,null,null,null,null,null,null,null,null,{"$f":"CenAVS!A188","v":"TIP-ON, dlouhá verze, šedá"},{"$f":"CenAVS!B188","v":"956A1004"},{"$f":"CenAVS!C188","v":"PG"},0,{"$f":"CenAVS!F188","v":146.75},0,null,0,null,0]
[null,null,null,null,null,null,null,null,null,null,null,null,null,{"$f":"\"                       \"&ListAVS!$B$122","v":"                       nebo přidejte třetí zdvihač"},null,null,null,null,null,null,null,null,null,null,{"$f":"CenAVS!A189","v":"TIP-ON, dlouhá verze, hedvábně bílá"},{"$f":"CenAVS!B189","v":"956A1004"},{"$f":"CenAVS!C189","v":"WA"},0,{"$f":"CenAVS!F189","v":146.75},0,null,0,null,0]
[null,null,null,null,null,null,null,null,null,null,null,null,null,null,null,null,null,null,null,null,null,null,null,null,{"$f":"CenAVS!A190","v":"TIP-ON, dlouhá verze, karbon černá"},{"$f":"CenAVS!B190","v":"956A1004"},{"$f":"CenAVS!C190","v":"CS"},0,{"$f":"CenAVS!F190","v":146.75},0,null,0,null,0]
[null,null,null,null,null,null,null,null,null,null,null,null,null,{"$f":"HK!$P$26","v":1},null,1,null,{"$f":"HKi!$N$26","v":1},null,{"$f":"MenuAVS!$P$28","v":1},null,1]
[null,null,null,null,null,null,null,null,null,null,null,null,null,"zdvihač",null,"střed.",null,"provedení",null,"kryt.",null,"provedení"]
[null,null,null,null,null,null,null,null,null,null,null,null,null,"vruty",null,null,null,"plně integrovaný",null,{"$f":"ListAVS!$B$145","v":"Světle šedá (HGR)"},null,"Standard"]
[null,null,null,null,null,null,null,null,null,null,null,null,null,"šrouby",null,null,null,"s krytkou",null,{"$f":"ListAVS!$B$146","v":"Tmavě šedá (TGR)"},null,"TIP-ON"]
[null,null,null,null,null,null,null,null,null,null,null,null,null,null,null,null,null,null,null,{"$f":"ListAVS!$B$147","v":"Hedvábně bílá (SW)"},null,null,null,null,null,null,null,null,{"$f":"ListAVS!$B$61&\" \"","v":"Cena celkem bez DPH "},{"$f":"SUM(AD9:AD46)","v":0},null,{"$f":"SUM(AF9:AF47)","v":0},null,{"$f":"SUM(AH9:AH47)","v":0}]
[null,null,null,null,null,null,null,null,null,null,null,null,null,{"$f":"ListAVS!B187&\". \"","v":"Pro určení typu zdvihače bude použita zadaná hmotnost. "}]
[null,null,null,null,null,null,null,null,null,null,null,null,null,{"$f":"ListAVS!B188&\". \"","v":"Pro určení typu zdvihače bude použita vypočtená hmotnost. "}]
[null,null,null,null,null,null,null,null,null,null,null,null,null,{"$f":"ListAVS!B189","v":"Chcete-li použít vypočtenou hmotnost, smažte zadanou hodnotu"}]
[null,null,null,null,null,null,null,null,null,null,null,null,null,{"$f":"ListAVS!B190","v":"Chcete-li použít zadanou hmotnost, zadejte ji do políčka"}]
[]
[]
[]
[]
[]
[]
[]
[]
[]
[]
[]
[]
[]
[]
[]
[]
[null,null,null,null,null,null,null,null,null,null,null,null,null,{"$f":"ListAVS!$B$73","v":"Výpočet hmotnosti čel"}]
[null,null,null,null,null,null,null,null,null,null,null,null,null,null,null,{"$f":"ListAVS!$B$179&\"  \"","v":"Provedení čel  "},null,null,null,{"$f":"J4","v":0},{"$f":"IF(Z77=3,IF(T70=0,Y72,\" \"),IF(T70>0,Y73,\" \"))","v":" "},null,null,null,{"$f":"IF($Z$77=1,$Z$78,IF($Z$77=2,$Z$79,$Z$80&\" \"&$Y$80&\"kg/m3\"))&\" A~\"&$T$78&\"/ B~\"&$T$89&\"mm\"","v":"MDF (760 kg/m3) A~0/ B~0mm"},null,null,null,null,{"$f":"MenuAVS!$Q$81","v":2500}]
[null,null,null,null,null,null,null,null,null,null,null,null,null,null,null,{"$f":"IF($Z$77<>3,$Y$71,\" \")&\"      \"","v":" Změnit hodnoty můžete v Úvodu plánování      "},null,null,null,null,null,null,null,null,{"$f":"\" \"&ListAVS!$B$410","v":" Změnit hodnoty můžete v Úvodu plánování"}]
[null,null,null,null,null,null,null,null,null,null,null,null,null,null,null,null,null,null,null,null,null,null,null,null,{"$f":"\" \"&ListAVS!$B$244&\" [kg/m3]\"","v":" Zadejte objemovou hmotnost  [kg/m3]"}]
[null,null,null,null,null,null,null,null,null,null,null,null,null,null,null,null,null,null,null,null,null,null,null,null,{"$f":"\" \"&ListAVS!$B$240&\" '\"&ListAVS!$B$92&\"'\"","v":" Hodnota platí jen pro volbu 'Jiné - volitelná hustota'"}]
[]
[null,null,null,null,null,null,null,null,null,null,null,null,null,null,null,null,null,{"$f":"D9","v":" "},null,null,null,null,null,null,null,null,null,null,null,null,"váha spoj.","tl. skla","typ alu"]
[null,null,null,null,null,null,null,null,null,null,null,null,null,{"$f":"ListAVS!$B$74&\" KB [mm]       \"","v":"Šířka korpusu KB [mm]       "},null,null,null,null,null,{"$f":"H10","v":0},null,null,null,null,{"$f":"T76*T77*T78","v":0},null,null,null,null,{"$f":"IF($AG$76=1,$X$95,$X$96)","v":0.31},{"$f":"$X$97","v":0.46},1,{"$f":"$O$4","v":1}]
[null,null,null,null,null,null,null,null,null,null,null,null,null,{"$f":"ListAVS!$B$75&\" KH [mm]       \"","v":"Výška korpusu KH [mm]       "},null,null,null,null,null,{"$f":"H11","v":0},null,null,null,null,{"$f":"Y76/1000000000","v":0},1,null,null,null,"váha alu",{"$f":"SUM(T76*2,(T77-40)*2)*AD76/1000","v":-2.4799999999999999E-2},"A plocha B"]
[null,null,null,null,null,null,null,null,null,null,null,null,null,{"$f":"ListAVS!$B$80&\" TS [mm] \"","v":"Síla čela TS [mm] "},null,null,null,null,null,{"$f":"H13","v":0},{"$f":"IF(SUM(T76,T77)=0,\" \",IF(T78=0,\" ● \"&ListAVS!$B$128,\" \"))","v":" "},null,null,null,{"$f":"MenuAVS!$C$31","v":760},{"$f":"ListAVS!$B$90&\" (\"&Y78&\" kg/m3)\"","v":"MDF (760 kg/m3)"},null,null,null,{"$f":"$AD$70*4/1000","v":10},{"$f":"IF($AG$76=1,AF78*AD78,AG78*AD78)","v":8.9999999999999993E-3},{"$f":"SUM(($T$76-30)*($T$77-30)/1000000)","v":8.9999999999999998E-4},{"$f":"SUM(($T$76-6)*($T$77-6)/1000000)","v":3.6000000000000001E-5},"4mm"]
[null,null,null,null,null,null,null,null,null,null,null,null,null,{"$f":"ListAVS!$B$83&\" [kg] \"","v":"Hmotnost úchytky [kg] "},null,null,null,null,null,{"$f":"H14","v":0},{"$f":"IF($U$16=3,\" \",IF(SUM(T76,T77)=0,\" \",IF(T79=0,\" ● \"&ListAVS!$B$129,\" \")))","v":" "},null,null,null,{"$f":"MenuAVS!$C$32","v":680},{"$f":"ListAVS!$B$91&\" (\"&Y79&\" kg/m3)\"","v":"Dřevotříska (680 kg/m3)"},null,null,null,{"$f":"$AD$70*5/1000","v":12.5},{"$f":"IF($AG$76=1,AF79*AD79,AG79*AD79)","v":1.125E-2},{"$f":"SUM(($T$76-30)*($T$77-30)/1000000)","v":8.9999999999999998E-4},{"$f":"SUM(($T$76-6)*($T$77-6)/1000000)","v":3.6000000000000001E-5},"5mm"]
[null,null,null,null,null,null,null,null,null,null,null,null,null,{"$f":"ListAVS!$B$79&\" [kg] \"","v":"Vypočtená hmotnost čela [kg] "},null,null,null,null,null,{"$f":"IF(AD81=0,0,AD81+2*T79)","v":0},null,null,null,{"$f":"IF(T76*T77*T78=0,0,IF(Z77=1,Y77*Y78,IF(Z77=2,Y77*Y79,Y77*Y80)))","v":0},{"$f":"$T$70","v":0},{"$f":"ListAVS!$B$92","v":"Jiné - volitelná hustota"},null,null,null,{"$f":"$AD$70*$T$70/1000","v":0},{"$f":"IF($AG$76=1,AF80*AD80,AG80*AD80)","v":0},{"$f":"SUM(($T$76-30)*($T$77-30)/1000000)","v":8.9999999999999998E-4},{"$f":"SUM(($T$76-6)*($T$77-6)/1000000)","v":3.6000000000000001E-5},"jiné"]
[null,null,null,null,null,null,null,null,null,null,null,null,null,null,{"$f":"IF((U16=3)*AND(T80>0)*AND(T79>0),$Z$96&\" \"&$Z$97,IF((U16<>3)*AND(T80>0),IF(T79=0,$Z$95,\" \"),\" \"))","v":" "},null,null,null,null,null,null,null,null,null,null,null,null,null,null,{"$f":"IF(OR(AND(AF76=3, $T$70=0), T76*T77=0), 0, SUM(IF(AF76=1,AE78,IF(AF76=2,AE79,AE80)),AE77,AE76))","v":0}]
[]
[]
[]
[]
[null,null,null,null,null,null,null,null,null,null,null,null,null,null,null,null,null,{"$f":"D20","v":" "},null,null,null,null,null,null,null,null,null,null,null,null,"váha spoj.","tl. skla","typ alu"]
[null,null,null,null,null,null,null,null,null,null,null,null,null,{"$f":"ListAVS!$B$74&\" KB [mm]       \"","v":"Šířka korpusu KB [mm]       "},null,null,null,null,null,{"$f":"H21","v":0},null,null,null,null,{"$f":"T87*T88*T89","v":0},null,null,null,null,{"$f":"IF($AG$76=1,$X$95,$X$96)","v":0.31},{"$f":"$X$97","v":0.46},{"$f":"$AF$76","v":1},{"$f":"$O$4","v":1}]
[null,null,null,null,null,null,null,null,null,null,null,null,null,{"$f":"ListAVS!$B$75&\" KH [mm]       \"","v":"Výška korpusu KH [mm]       "},null,null,null,null,null,{"$f":"H22","v":0},null,null,null,null,{"$f":"Y87/1000000000","v":0},{"$f":"Z77","v":1},null,null,null,"váha alu",{"$f":"SUM(T87*2,(T88-40)*2)*AD87/1000","v":-2.4799999999999999E-2},"A plocha B"]
[null,null,null,null,null,null,null,null,null,null,null,null,null,{"$f":"ListAVS!$B$80&\" TS [mm] \"","v":"Síla čela TS [mm] "},null,null,null,null,null,{"$f":"H24","v":0},{"$f":"IF(SUM(T87,T88)=0,\" \",IF(T89=0,\" ● \"&ListAVS!$B$128,\" \"))","v":" "},null,null,null,{"$f":"$Y$78","v":760},{"$f":"$Z$78","v":"MDF (760 kg/m3)"},null,null,null,{"$f":"AD78","v":10},{"$f":"IF($AG$76=1,AF89*AD89,AG89*AD89)","v":8.9999999999999993E-3},{"$f":"SUM(($T$87-30)*($T$88-30)/1000000)","v":8.9999999999999998E-4},{"$f":"SUM(($T$87-6)*($T$88-6)/1000000)","v":3.6000000000000001E-5},"4mm"]
[null,null,null,null,null,null,null,null,null,null,null,null,null,{"$f":"ListAVS!$B$83&\" [kg] \"","v":"Hmotnost úchytky [kg] "},null,null,null,null,null,{"$f":"H25","v":0},{"$f":"IF($U$27=3,\" \",IF(SUM(T87,T88)=0,\" \",IF(T90=0,\" ● \"&ListAVS!$B$129,\" \")))","v":" "},null,null,null,{"$f":"$Y$79","v":680},{"$f":"$Z$79","v":"Dřevotříska (680 kg/m3)"},null,null,null,{"$f":"AD79","v":12.5},{"$f":"IF($AG$76=1,AF90*AD90,AG90*AD90)","v":1.125E-2},{"$f":"SUM(($T$87-30)*($T$88-30)/1000000)","v":8.9999999999999998E-4},{"$f":"SUM(($T$87-6)*($T$88-6)/1000000)","v":3.6000000000000001E-5},"5mm"]
[null,null,null,null,null,null,null,null,null,null,null,null,null,{"$f":"ListAVS!$B$79&\" [kg] \"","v":"Vypočtená hmotnost čela [kg] "},null,null,null,null,null,{"$f":"IF(AD92=0,0,AD92+2*T90)","v":0},null,null,null,{"$f":"IF(T87*T88*T89=0,0,IF(Z88=1,Y88*Y89,IF(Z88=2,Y88*Y90,Y88*Y91)))","v":0},{"$f":"$Y$80","v":0},{"$f":"$Z$80","v":"Jiné - volitelná hustota"},null,null,null,{"$f":"AD80","v":0},{"$f":"IF($AG$76=1,AF91*AD91,AG91*AD91)","v":0},{"$f":"SUM(($T$87-30)*($T$88-30)/1000000)","v":8.9999999999999998E-4},{"$f":"SUM(($T$87-6)*($T$88-6)/1000000)","v":3.6000000000000001E-5},"jiné"]
[null,null,null,null,null,null,null,null,null,null,null,null,null,null,{"$f":"IF((U27=3)*AND(T91>0)*AND(T90>0),$Z$96&\" \"&$Z$97,IF((U27<>3)*AND(T91>0),IF(T90=0,$Z$95,\" \"),\" \"))","v":" "},null,null,null,null,null,null,null,null,null,null,null,null,null,null,{"$f":"IF(OR(AND(AF87=3, $T$70=0), T87*T88=0), 0, SUM(IF(AF87=1,AE89,IF(AF87=2,AE90,AE91)),AE88,AE87))","v":0}]
[]
[]
[null,null,null,null,null,null,null,null,null,null,null,null,null,null,null,null,null,null,null,null,null,null,{"$f":"ListAVS!$B$422&\"  \"","v":"s vloženým sklem  "},{"$f":"MenuAVS!$I$91","v":0.31},null,{"$f":"ListAVS!$B$102&\"!\"","v":"Není započtena hmotnost úchytky!"},null,null,null,null,null,{"$f":"ListAVS!$B$93","v":"Alurámečky s 4mm sklem"}]
[null,null,null,null,null,null,null,null,null,null,null,null,null,null,null,null,null,null,null,null,null,null,{"$f":"ListAVS!$B$423&\"  \"","v":"s naloženým nebo nalepeným sklem  "},{"$f":"MenuAVS!$I$92","v":0.32},null,{"$f":"ListAVS!B103","v":"Opravdu máte úchytku na TIP-ON?"},null,null,null,null,null,{"$f":"ListAVS!$B$94","v":"Alurámečky s 5mm sklem"}]
[null,null,null,null,null,null,null,null,null,null,null,null,null,null,null,null,null,null,null,null,null,null,{"$f":"ListAVS!$B$405&\" [kg/set] *  \"","v":"Hmotnost spojovacího materiálu [kg/set] *  "},{"$f":"MenuAVS!$I$93","v":0.46},null,{"$f":"ListAVS!B104&\"!\"","v":"Jestli ne, smažte hmotnost úchytky.!"},null,null,null,null,null,{"$f":"ListAVS!$B$95","v":"Alurámečky s jiným sklem"}]
[]
[]
[null,"      AVENTOS HK"]
[]
[null,{"$f":"ListAVS!$B$302","v":"Potřebný zdvihač se určí pomocí ukazatele výkonnosti."}]
[null,{"$f":"ListAVS!$B$340","v":"Ukazatel výkonnosti závisí na hmotnosti čela (včetně dvojnásobné hmotnosti úchytky) a na výšce korpusu."}]
[]
[]
[null,null,null,{"$f":"ListAVS!$B$86&\" = \"","v":"Ukazatel výkonnosti = "},{"$f":"ListAVS!$B$341&\" [kg]\"","v":"výška korpusu (KH) [mm] x hmotnost čela včetně dvojnásobné hmotnosti úchytky [kg]"}]
[]
[]
[]
[]
[]
[null,{"$f":"ListAVS!$B$311","v":"Pokud znáte hmotnost čela, můžete ji zadat, jinak použijte \"Výpočet hmotnosti\"."}]
[null,{"$f":"ListAVS!$B$312","v":"V tabulce má přednost zadaná hodnota. Chcete-li použít vypočtenou hmotnost, smažte zadanou hodnotu."}]
[]
[null,{"$f":"ListAVS!$B$306","v":"Chcete-li změnit provedení zdvihače (plná/částečná integrace), přejděte na výběr HKi"}]
[null,{"$f":"ListAVS!$B$305","v":"Chcete-li změnit barvu krytek, přejděte na \"Úvod plánování\""}]
[]
[null,{"$f":"ListAVS!$B$411","v":"Věnujte pozornost výběru alurámečků."}]
[null,{"$f":"ListAVS!$B$412","v":"Vyberte, který typ lépe odpovídá tvaru použitého alurámečku."}]
[null,{"$f":"ListAVS!$B$413","v":"Způsob osazení skla do rámečku výrazně ovlivňuje plochu skla a tím i hmotnost!"}]
[]
[null,null,{"$f":"\"  \"&ListAVS!$B$422&\"  \"","v":"  s vloženým sklem  "}]
[]
[null,null,{"$f":"\"  \"&ListAVS!$B$423&\"  \"","v":"  s naloženým nebo nalepeným sklem  "}]
[]
[]
[null,null,null,null,null,null,null,null,null,null,null,{"$f":"ListAVS!$B$167","v":"Zpět"}]

{"sheet":"AcsAVS","index":39,"n_rows":308,"n_cols":28,"rows_kept":308,"cut":false,"hidden":false,"merged":[[27,1,27,11],[29,1,29,5],[29,6,29,7],[16,1,16,11],[18,1,19,11],[21,1,21,11],[128,0,184,0],[297,0,336,0],[50,0,77,0],[50,1,50,11],[52,1,52,5],[52,6,52,7],[63,1,63,5],[63,6,63,7],[33,0,48,0],[5,1,5,11],[11,1,12,5],[11,6,12,7],[11,8,12,8],[23,1,23,5],[23,6,23,7],[11,9,12,9],[35,1,35,5],[11,10,12,10],[11,11,12,11],[13,1,13,11],[35,6,35,7],[33,1,33,11],[27,0,31,0],[5,0,25,0]]}
[]
[]
[null,{"$f":"\" \"&ListAVS!$B$159&\" AVENTOS\"","v":" Doplňky AVENTOS"},null,null,null,null,null,null,null,null,null,null,null,null,null,null,null,null,null,null,null,null,null,null,null,null,null,{"$f":"ListAVS!$B$152","v":"Jdi na"}]
[]
[]
[null,{"$f":"\" \"&ListAVS!$B$252","v":" Omezovač úhlu otevření"},null,null,null,null,null,null,null,null,null,null,null,null,null,null,null,null,null,null,null,null,null,null,null,null,null,{"$f":"\" \"&ListAVS!$B$153","v":" Úvod plánování"}]
[null,null,null,null,null,null,null,null,null,null,null,null,null,null,null,null,null,null,null,null,null,null,null,null,null,null,null,{"$f":"ListAVS!$B$154","v":"Nápověda"}]
[]
[null,null,null,null,null,null,null,null,null,null,null,null,null,null,null,null,null,null,null,null,null,null,null,null,null,null,null,{"$f":"\" \"&ListAVS!$B$156","v":" Přehled korpusů"}]
[null,null,null,null,null,null,null,null,null,null,null,null,null,null,null,null,null,null,null,null,null,null,null,null,null,null,null,{"$f":"\" \"&ListAVS!$B$157","v":" Objednávka"}]
[null,null,null,null,"HK-S",null,null,null,null,null,"HK-XS *"]
[null,{"$f":"\" \"&ListAVS!$B$52","v":" Název"},null,null,null,null," Art.Nr.",null,{"$f":"ListAVS!$B$54","v":"Barva"},{"$f":"ListAVS!$B$55","v":"Počet"},{"$f":"ListAVS!$B$58","v":"Jednotková cena"},{"$f":"ListAVS!$B$59","v":"Celkem"}]
[]
[null,"AVENTOS HK-S"]
[null,{"$f":"CenAVS!A104","v":"Omezovač úhlu otevření HK-S na 75° "},null,null,null,null,{"$f":"CenAVS!B104","v":"20K7A11"},null,{"$f":"CenAVS!C104","v":"TGR"},null,{"$f":"CenAVS!F104","v":16.09},{"$f":"J15*K15","v":0},null,null,{"$f":"B15","v":"Omezovač úhlu otevření HK-S na 75° "},null,null,null,null,{"$f":"G15","v":"20K7A11"},null,{"$f":"I15","v":"TGR"},0,16.09,{"$f":"W15*X15","v":0}]
[null,{"$f":"CenAVS!A105","v":"Omezovač úhlu otevření HK-S na 100° "},null,null,null,null,{"$f":"CenAVS!B105","v":"20K7A41"},null,{"$f":"CenAVS!C105","v":"TGR"},null,{"$f":"CenAVS!F105","v":16.09},{"$f":"J16*K16","v":0},null,null,{"$f":"B16","v":"Omezovač úhlu otevření HK-S na 100° "},null,null,null,null,{"$f":"G16","v":"20K7A41"},null,"TGR",0,16.09,{"$f":"W16*X16","v":0}]
[null,"AVENTOS HK-XS"]
[null,{"$f":"CenAVS!A155","v":"Omezovač úhlu otevření pro závěsy 110°"},null,null,null,null,{"$f":"CenAVS!B155","v":" 70T3553"},null,{"$f":"CenAVS!C155","v":"S"},null,{"$f":"CenAVS!F155","v":14.33},{"$f":"J18*K18","v":0},null,null,{"$f":"B18","v":"Omezovač úhlu otevření pro závěsy 110°"},null,null,null,null,{"$f":"G18","v":" 70T3553"},null,{"$f":"I18","v":"S"},{"$f":"J18","v":0},{"$f":"K18","v":14.33},{"$f":"W18*X18","v":0}]
[null,{"$f":"\"* \"&ListAVS!$B$417&\". \"&ListAVS!$B$418&\"!\"","v":"* Omezovač pouze pro závěsy CLIP top BLUMOTION a CLIP top 110°. Nelze pro úzké alurámečky!"},null,null,null,null,null,null,null,null,null,null,null,null,{"$f":"B20","v":0},null,null,null,null,{"$f":"G20","v":0},null,{"$f":"I20","v":0},{"$f":"J20","v":0},{"$f":"K20","v":0},{"$f":"W19*X19","v":0}]
[]
[]
[null,{"$f":"\" \"&ListAVS!$B$385","v":" Ostatní doplňky"}]
[null,null,null,null,"a",null,null,"b"]
[null,{"$f":"\" \"&ListAVS!$B$52","v":" Název"},null,null,null,null," Art.Nr.",null,{"$f":"ListAVS!$B$54","v":"Barva"},{"$f":"ListAVS!$B$55","v":"Počet"},{"$f":"ListAVS!$B$58","v":"Jednotková cena"},{"$f":"ListAVS!$B$59","v":"Celkem"}]
[null,{"$f":"E23&\" - \"&CenAVS!A123","v":"a - Samořezný vrut do alurámečků"},null,null,null,null,{"$f":"CenAVS!B123","v":"660.0950"},null,{"$f":"CenAVS!C123","v":"NI"},null,{"$f":"CenAVS!F123","v":1.7},{"$f":"J25*K25","v":0},null,null,{"$f":"B25","v":"a - Samořezný vrut do alurámečků"},null,null,null,null,{"$f":"G25","v":"660.0950"},null,{"$f":"I25","v":"NI"},0,1.7,{"$f":"W25*X25","v":0}]
[null,{"$f":"H23&\" - \"&CenAVS!A158","v":"b - EXPANDO T, samostatná hmoždinka"},null,null,null,null,{"$f":"CenAVS!B158","v":"70T4532T"},null,{"$f":"CenAVS!C158","v":"DGR"},null,{"$f":"CenAVS!F158","v":63.33},{"$f":"J26*K26","v":0},null,null,{"$f":"B26","v":"b - EXPANDO T, samostatná hmoždinka"},null,null,null,null,{"$f":"G26","v":"70T4532T"},null,{"$f":"I26","v":"DGR"},{"$f":"J26","v":0},{"$f":"K26","v":63.33},{"$f":"W26*X26","v":0}]
[]
[null,{"$f":"\" \"&ListAVS!$B$159&\" AVENTOS HKi\"","v":" Doplňky AVENTOS HKi"},{"$f":"\" \"&ListAVS!$B$159&\" AVENTOS\"","v":" Doplňky AVENTOS"},{"$f":"\" \"&ListAVS!$B$159&\" AVENTOS\"","v":" Doplňky AVENTOS"},{"$f":"\" \"&ListAVS!$B$159&\" AVENTOS\"","v":" Doplňky AVENTOS"},{"$f":"\" \"&ListAVS!$B$159&\" AVENTOS\"","v":" Doplňky AVENTOS"},{"$f":"\" \"&ListAVS!$B$159&\" AVENTOS\"","v":" Doplňky AVENTOS"},{"$f":"\" \"&ListAVS!$B$159&\" AVENTOS\"","v":" Doplňky AVENTOS"},{"$f":"\" \"&ListAVS!$B$159&\" AVENTOS\"","v":" Doplňky AVENTOS"},{"$f":"\" \"&ListAVS!$B$159&\" AVENTOS\"","v":" Doplňky AVENTOS"},{"$f":"\" \"&ListAVS!$B$159&\" AVENTOS\"","v":" Doplňky AVENTOS"},{"$f":"\" \"&ListAVS!$B$159&\" AVENTOS\"","v":" Doplňky AVENTOS"}]
[null,null,"d",null,null,null,"e"]
[null,{"$f":"\" \"&ListAVS!$B$52","v":" Název"},null,null,null,null," Art.Nr.",null,{"$f":"ListAVS!$B$54","v":"Barva"},{"$f":"ListAVS!$B$55","v":"Počet"},{"$f":"ListAVS!$B$58","v":"Jednotková cena"},{"$f":"ListAVS!$B$59","v":"Celkem"}]
[null,{"$f":"$C$29&\" - \"&CenAVS!A144","v":"d - Sada předfrézovaných surových desek pro HKi"},null,null,null,null,{"$f":"CenAVS!B144","v":"24K7100"},null,{"$f":"CenAVS!C144","v":"NA"},null,{"$f":"CenAVS!F144","v":2867.4},{"$f":"J31*K31","v":0},null,null,{"$f":"B31","v":"d - Sada předfrézovaných surových desek pro HKi"},null,null,null,null,{"$f":"G31","v":"24K7100"},null,{"$f":"I31","v":"NA"},{"$f":"J31","v":0},{"$f":"K31","v":2867.4},{"$f":"W31*X31","v":0}]
[null,{"$f":"$G$29&\" - \"&CenAVS!A145","v":"e - Distanční díl pro HKi"},null,null,null,null,{"$f":"CenAVS!B145","v":"M45.1010"},null,{"$f":"CenAVS!C145","v":"NA"},null,{"$f":"CenAVS!F145","v":858.54},0,null,null,"e - Distanční díl pro HKi",null,null,null,null,"M45.1010",null,"NA",0,858.54,0]
[]
[null," TIP-ON"]
[null,null,"k",null,null,"l",null,null,"m",null,null,"n"]
[null,{"$f":"\" \"&ListAVS!$B$52","v":" Název"},null,null,null,null," Art.Nr.",null,{"$f":"ListAVS!$B$54","v":"Barva"},{"$f":"ListAVS!$B$55","v":"Počet"},{"$f":"ListAVS!$B$58","v":"Jednotková cena"},{"$f":"ListAVS!$B$59","v":"Celkem"}]
[null,{"$f":"$C$35&\" - \"&CenAVS!A185","v":"k - TIP-ON, krátká verze, šedá"},null,null,null,null,{"$f":"CenAVS!B185","v":"956.1004"},null,{"$f":"CenAVS!C185","v":"PG"},null,{"$f":"CenAVS!F185","v":116.95},{"$f":"J37*K37","v":0},null,null,{"$f":"B37","v":"k - TIP-ON, krátká verze, šedá"},null,null,null,null,{"$f":"G37","v":"956.1004"},null,{"$f":"I37","v":"PG"},{"$f":"J37","v":0},{"$f":"K37","v":116.95},{"$f":"W37*X37","v":0}]
[null,{"$f":"$C$35&\" - \"&CenAVS!A186","v":"k - TIP-ON, krátká verze, hedvábně bílá"},null,null,null,null,{"$f":"CenAVS!B186","v":"956.1004"},null,{"$f":"CenAVS!C186","v":"SW"},null,{"$f":"CenAVS!F186","v":116.95},0,null,null,"k - TIP-ON, krátká verze, hedvábně bílá",null,null,null,null,"956.1004",null,"SW",0,116.95,0]
[null,{"$f":"$C$35&\" - \"&CenAVS!A187","v":"k - TIP-ON, krátká verze, karbon černá"},null,null,null,null,{"$f":"CenAVS!B187","v":"956.1004"},null,{"$f":"CenAVS!C187","v":"CS"},null,{"$f":"CenAVS!F187","v":116.95},{"$f":"J39*K39","v":0},null,null,"k - TIP-ON, krátká verze, karbon černá",null,null,null,null,"956.1004",null,"CS",0,116.95,0]
[null,{"$f":"$F$35&\" - \"&CenAVS!A188","v":"l - TIP-ON, dlouhá verze, šedá"},null,null,null,null,{"$f":"CenAVS!B188","v":"956A1004"},null,{"$f":"CenAVS!C188","v":"PG"},null,{"$f":"CenAVS!F188","v":146.75},0,null,null,"l - TIP-ON, dlouhá verze, šedá",null,null,null,null,"956A1004",null,"PG",0,146.75,0]
[null,{"$f":"$F$35&\" - \"&CenAVS!A189","v":"l - TIP-ON, dlouhá verze, hedvábně bílá"},null,null,null,null,{"$f":"CenAVS!B189","v":"956A1004"},null,{"$f":"CenAVS!C189","v":"WA"},null,{"$f":"CenAVS!F189","v":146.75},0,null,null,"l - TIP-ON, dlouhá verze, hedvábně bílá",null,null,null,null,"956A1004",null,"WA",0,146.75,0]
[null,{"$f":"$F$35&\" - \"&CenAVS!A190","v":"l - TIP-ON, dlouhá verze, karbon černá"},null,null,null,null,{"$f":"CenAVS!B190","v":"956A1004"},null,{"$f":"CenAVS!C190","v":"CS"},null,{"$f":"CenAVS!F190","v":146.75},{"$f":"J42*K42","v":0},null,null,"l - TIP-ON, dlouhá verze, karbon černá",null,null,null,null,"956A1004",null,"CS",0,146.75,0]
[null,{"$f":"$I$35&\" - \"&CenAVS!A191","v":"m - TIP-ON přímý adaptér - krátká verze, šedá"},null,null,null,null,{"$f":"CenAVS!B191","v":"956.1201"},null,{"$f":"CenAVS!C191","v":"PG"},null,{"$f":"CenAVS!F191","v":26.08},0,null,null,"m - TIP-ON přímý adaptér - krátká verze, šedá",null,null,null,null,"956.1201",null,"PG",0,26.08,0]
[null,{"$f":"$I$35&\" - \"&CenAVS!A192","v":"m - TIP-ON přímý adaptér - krátká verze, hedv. bílá"},null,null,null,null,{"$f":"CenAVS!B192","v":"956.1201"},null,{"$f":"CenAVS!C192","v":"SW"},null,{"$f":"CenAVS!F192","v":26.08},0,null,null,"m - TIP-ON přímý adaptér - krátká verze, hedv. bílá",null,null,null,null,"956.1201",null,"SW",0,26.08,0]
[null,{"$f":"$I$35&\" - \"&CenAVS!A193","v":"m - TIP-ON přímý adaptér - krátká verze, karbon černá"},null,null,null,null,{"$f":"CenAVS!B193","v":"956.1201"},null,{"$f":"CenAVS!C193","v":"CS"},null,{"$f":"CenAVS!F193","v":28.91},{"$f":"J45*K45","v":0},null,null,"m - TIP-ON přímý adaptér - krátká verze, karbon černá",null,null,null,null,"956.1201",null,"CS",0,28.91,0]
[null,{"$f":"$L$35&\" - \"&CenAVS!A194","v":"n - TIP-ON přímý adaptér - dlouhá verze, šedá"},null,null,null,null,{"$f":"CenAVS!B194","v":"956A1201"},null,{"$f":"CenAVS!C194","v":"R736"},null,{"$f":"CenAVS!F194","v":26.08},0,null,null,"n - TIP-ON přímý adaptér - dlouhá verze, šedá",null,null,null,null,"956A1201",null,"R736",0,26.08,0]
[null,{"$f":"$L$35&\" - \"&CenAVS!A195","v":"n - TIP-ON přímý adaptér - dlouhá verze, hedv. bílá"},null,null,null,null,{"$f":"CenAVS!B195","v":"956A1201"},null,{"$f":"CenAVS!C195","v":"WA"},null,{"$f":"CenAVS!F195","v":26.08},0,null,null,"n - TIP-ON přímý adaptér - dlouhá verze, hedv. bílá",null,null,null,null,"956A1201",null,"WA",0,26.08,0]
[null,{"$f":"$L$35&\" - \"&CenAVS!A196","v":"n - TIP-ON přímý adaptér - dlouhá verze, karbon černá"},null,null,null,null,{"$f":"CenAVS!B196","v":"956A1201"},null,{"$f":"CenAVS!C196","v":"CS"},null,{"$f":"CenAVS!F196","v":28.91},{"$f":"J48*K48","v":0},null,null,"n - TIP-ON přímý adaptér - dlouhá verze, karbon černá",null,null,null,null,"956A1201",null,"CS",0,28.91,0]
[null,{"$f":"$L$35&\" - \"&CenAVS!A197","v":"n - TIP-ON křížový adaptér, šedý"},null,null,null,null,{"$f":"CenAVS!B197","v":"956A1501"},null,{"$f":"CenAVS!C197","v":"PG"},null,{"$f":"CenAVS!F197","v":18.63},{"$f":"J49*K49","v":0},null,null,"n - TIP-ON křížový adaptér, šedý",null,null,null,null,"956A1501",null,"PG",0,18.63,0]
[]
[null," SERVO-DRIVE"]
[null,null,"a",null,"b",null,"c",null,"d",null,"e","f"]
[null,{"$f":"\" \"&ListAVS!$B$52","v":" Název"},null,null,null,null," Art.Nr.",null,{"$f":"ListAVS!$B$54","v":"Barva"},{"$f":"ListAVS!$B$55","v":"Počet"},{"$f":"ListAVS!$B$58","v":"Jednotková cena"},{"$f":"ListAVS!$B$59","v":"Celkem"}]
[null,{"$f":"$C52&\" - \"&CenAVS!A179","v":"a - Držák napájecího zdroje - montáž na stěnu"},null,null,null,null,{"$f":"CenAVS!B179","v":"Z10NG120"},null,{"$f":"CenAVS!C179","v":"WGR"},null,{"$f":"CenAVS!F179","v":115.65},{"$f":"J54*K54","v":0},null,null,{"$f":"B54","v":"a - Držák napájecího zdroje - montáž na stěnu"},null,null,null,null,{"$f":"G54","v":"Z10NG120"},null,{"$f":"I54","v":"WGR"},{"$f":"J54","v":0},{"$f":"K54","v":115.65},{"$f":"W54*X54","v":0}]
[null,{"$f":"$E52&\" - \"&CenAVS!A176","v":"b - Elektrokabel, délka 8m + 5 krytek"},null,null,null,null,{"$f":"CenAVS!B176","v":"Z10K800AE"},null,{"$f":"CenAVS!C176","v":"S"},null,{"$f":"CenAVS!F176","v":858.88},{"$f":"J55*K55","v":0},null,null,"b - Elektrokabel, délka 8m + 5 krytek",null,null,null,null,"Z10K800AE",null,"S",0,858.88,0]
[null,{"$f":"$G52&\" - \"&CenAVS!A180","v":"c - Propojovací svorka s hroty + krytka"},null,null,null,null,{"$f":"CenAVS!B180","v":"Z10V100E.01"},null,{"$f":"CenAVS!C180","v":"S"},null,{"$f":"CenAVS!F180","v":204.59},0,null,null,"c - Propojovací svorka s hroty + krytka",null,null,null,null,"Z10V100E.01",null,"S",0,204.59,0]
[null,{"$f":"$I52&\" - \"&CenAVS!A175","v":"d - Držák kabelu s Klebesockel"},null,null,null,null,{"$f":"CenAVS!B175","v":"Z10K0009"},null,{"$f":"CenAVS!C175","v":"NA"},null,{"$f":"CenAVS!F175","v":24.75},0,null,null,"d - Držák kabelu s Klebesockel",null,null,null,null,"Z10K0009",null,"NA",0,24.75,0]
[null,{"$f":"$K52&\" - \"&CenAVS!A173","v":"e - Distanční doraz Blum, 5mm"},null,null,null,null,{"$f":"CenAVS!B173","v":"993.0530"},null,{"$f":"CenAVS!C173","v":"R737"},null,{"$f":"CenAVS!F173","v":22.6},0,null,null,"e - Distanční doraz Blum, 5mm",null,null,null,null,"993.0530",null,"R737",0,22.6,0]
[null,{"$f":"$K52&\" - \"&CenAVS!A174","v":"e - Distanční doraz Blum, 8mm"},null,null,null,null,{"$f":"CenAVS!B174","v":"993.0830.01"},null,{"$f":"CenAVS!C174","v":"R737"},null,{"$f":"CenAVS!F174","v":20.3},0,null,null,"e - Distanční doraz Blum, 8mm",null,null,null,null,"993.0830.01",null,"R737",0,20.3,0]
[null,{"$f":"$L52&\" - \"&CenAVS!A181","v":"f - Spínač SERVO-DRIVE, světle šedá"},null,null,null,null,{"$f":"CenAVS!B181","v":"23P5020"},null,{"$f":"CenAVS!C181","v":"HGR"},null,{"$f":"CenAVS!F181","v":956.51},0,null,null,"f - Spínač SERVO-DRIVE, světle šedá",null,null,null,null,"23P5020",null,"HGR",0,956.51,{"$f":"W60*X60","v":0}]
[null,{"$f":"$L52&\" - \"&CenAVS!A182","v":"f - Spínač SERVO-DRIVE, hedvábně bílá"},null,null,null,null,{"$f":"CenAVS!B182","v":"23P5020"},null,{"$f":"CenAVS!C182","v":"SW"},null,{"$f":"CenAVS!F182","v":994.78},{"$f":"J61*K61","v":0},null,null,"f - Spínač SERVO-DRIVE, hedvábně bílá",null,null,null,null,"23P5020",null,"SW",0,994.78,{"$f":"W61*X61","v":0}]
[null,{"$f":"$L52&\" - \"&CenAVS!A183","v":"f - Spínač SERVO-DRIVE, tmavě šedá"},null,null,null,null,{"$f":"CenAVS!B183","v":"23P5020"},null,{"$f":"CenAVS!C183","v":"TGR"},null,{"$f":"CenAVS!F183","v":994.78},{"$f":"J62*K62","v":0},null,null,"f - Spínač SERVO-DRIVE, tmavě šedá",null,null,null,null,"23P5020",null,"TGR",0,994.78,{"$f":"W62*X62","v":0}]
[null,null,null,null,"g",null,null,"h"]
[null,{"$f":"\" \"&ListAVS!$B$52","v":" Název"},null,null,null,null," Art.Nr.",null,{"$f":"ListAVS!$B$54","v":"Barva"},{"$f":"ListAVS!$B$55","v":"Počet"},{"$f":"ListAVS!$B$58","v":"Jednotková cena"},{"$f":"ListAVS!$B$59","v":"Celkem"}]
[null,{"$f":"$E63&\" - \"&CenAVS!A178","v":"g - Napájecí zdroj 24W"},null,null,null,null,{"$f":"CenAVS!B178","v":"Z10NE030E"},null,{"$f":"CenAVS!C178","v":"S"},null,{"$f":"CenAVS!F178","v":3170.39},{"$f":"J65*K65","v":0},null,null,{"$f":"B65","v":"g - Napájecí zdroj 24W"},null,null,null,null,{"$f":"G65","v":"Z10NE030E"},null,{"$f":"I65","v":"S"},{"$f":"J65","v":0},{"$f":"K65","v":3170.39},{"$f":"W65*X65","v":0}]
[null,{"$f":"$H63&\" - \"&CenAVS!A177","v":"h - Napájecí kabel se zástrčkou, 2m"},null,null,null,null,{"$f":"CenAVS!B177","v":"Z10M200E "},null,{"$f":"CenAVS!C177","v":"S"},null,{"$f":"CenAVS!F177","v":208.3},{"$f":"J66*K66","v":0},null,null,"h - Napájecí kabel se zástrčkou, 2m",null,null,null,null,"Z10M200E ",null,"S",0,208.3,0]
[]
[null,null,null,null,null,null,null,null,null,null,null,null,null,null,null,null,null,null,null,null,null,null,null,{"$f":"ListAVS!$B$61&\" \"","v":"Cena celkem bez DPH "},{"$f":"SUM(Y14:Y63)","v":0}]
[]
[null,null,null,null,null,null,null,null,null,null,null,null,null,null,null,null,null,null,null,null,null,null,null,null,{"$f":"ListAVS!$B$167","v":"Zpět"}]
[]
[]
[]
[]
[]
[]
[]
[]
[]
[]
[]
[]
[]
[]
[]
[]
[]
[]
[]
[]
[]
[]
[]
[]
[]
[]
[]
[]
[]
[]
[]
[]
[]
[]
[]
[]
[]
[]
[]
[]
[]
[]
[]
[]
[]
[]
[]
[]
[]
[]
[]
[]
[]
[]
[]
[]
[]
[]
[]
[]
[]
[]
[]
[]
[]
[]
[]
[]
[]
[]
[]
[]
[]
[]
[]
[]
[]
[]
[]
[]
[]
[]
[]
[]
[]
[]
[]
[]
[]
[]
[]
[]
[]
[]
[]
[]
[]
[]
[]
[]
[]
[]
[]
[]
[]
[]
[]
[]
[]
[]
[]
[]
[]
[]
[]
[]
[]
[]
[]
[]
[]
[]
[]
[]
[]
[]
[]
[]
[]
[]
[]
[]
[]
[]
[]
[]
[]
[]
[]
[]
[]
[]
[]
[]
[]
[]
[]
[]
[]
[]
[]
[]
[]
[]
[]
[]
[]
[]
[]
[]
[]
[]
[]
[]
[]
[]
[]
[]
[]
[]
[]
[]
[]
[]
[]
[]
[]
[]
[]
[]
[]
[]
[]
[]
[]
[]
[]
[]
[]
[]
[]
[]
[]
[]
[]
[]
[]
[]
[]
[]
[]
[]
[]
[]
[]
[]
[]
[]
[]
[]
[]
[]
[]
[]
[]
[]
[]
[]
[]
[]
[]
[]
[]
[]
[]
[]
[]
[]
[null,{"$f":"\"      \"&ListAVS!$B$159","v":"      Doplňky"}]
[]
[null,{"$f":"ListAVS!$B$358","v":"Položky SERVO-DRIVE a - d se do objednávky načítají z jednotlivých korpusů."}]
[null,{"$f":"ListAVS!$B$359","v":"Zde slouží jen k doobjednání jednotlivých kusů. "}]
[]
[]
[]
[]
[]
[null,null,null,null,null,null,null,null,null,null,{"$f":"ListAVS!$B$167","v":"Zpět"}]

{"sheet":"SumAVS","index":40,"n_rows":320,"n_cols":38,"rows_kept":320,"cut":false,"hidden":false,"merged":[[9,28,9,32],[15,1,17,5],[15,7,15,11],[15,14,15,18],[15,21,15,25],[10,7,10,11],[10,14,10,18],[10,21,10,25],[10,28,10,32],[15,28,15,32],[5,1,7,5],[5,7,5,11],[5,14,5,18],[5,21,5,25],[9,7,9,11],[9,14,9,18],[9,21,9,25],[20,1,22,5],[20,7,20,11],[20,14,20,18],[20,21,20,25],[25,1,27,5],[25,7,25,11],[25,14,25,18],[25,21,25,25],[20,28,20,32],[25,28,25,32],[30,28,30,32],[45,1,45,5],[45,7,45,9],[45,10,45,11],[45,14,45,16],[45,17,45,18],[45,21,45,23],[30,1,32,5],[30,7,30,11],[30,14,30,18],[30,21,30,25],[35,1,37,5],[35,7,35,11],[35,28,35,32],[45,28,45,30],[45,31,45,32],[45,24,45,25],[302,0,340,0],[319,15,319,16],[35,14,35,18],[35,21,35,25],[40,1,42,5],[40,7,40,11],[40,14,40,18],[40,21,40,25]]}
[]
[]
[null,{"$f":"\" \"&ListAVS!$B$156","v":" Přehled korpusů"},null,null,null,null,null,null,null,null,null,null,null,null,null,null,null,null,null,null,null,null,null,null,null,null,null,null,null,null,null,null,null,null,{"$f":"ListAVS!$B$152","v":"Jdi na"}]
[]
[]
[null,"AVENTOS HF top",null,null,null,null,null,{"$f":"ListAVS!$B$17","v":"Dřevěné čelo"},null,null,null,null,null,null,{"$f":"ListAVS!$B$19","v":"Široké alurámečky"},null,null,null,null,null,null,{"$f":"ListAVS!$B$21","v":"Úzké alurámečky"},null,null,null,null,null,null,null,null,null,null,null,null,{"$f":"\" \"&ListAVS!$B$153","v":" Úvod plánování"}]
[null,null,null,null,null,null,null,"A",{"$f":"HFw!$H$10","v":0},{"$f":"HFw!$H$11","v":0},{"$f":"IF(L7>0,IF(HFw!$S$9=2,\"SD\",0),0)","v":0},{"$f":"HFw!$M$17","v":0},null,null,"A",{"$f":"HFwa!$H$10","v":0},{"$f":"HFwa!$H$11","v":0},{"$f":"IF(S7>0,IF(HFwa!$S$9=2,\"SD\",0),0)","v":0},{"$f":"HFwa!$M$17","v":0},null,null,"A",{"$f":"HFna!$H$10","v":0},{"$f":"HFna!$H$11","v":0},{"$f":"IF(Z7>0,IF(HFna!$S$9=2,\"SD\",0),0)","v":0},{"$f":"HFna!$M$17","v":0},null,null,null,null,null,null,null,null,{"$f":"\" \"&ListAVS!$B$154","v":" Nápověda"}]
[null,null,null,null,null,null,null,"B",{"$f":"HFw!$H$21","v":0},{"$f":"HFw!$H$22","v":0},{"$f":"IF(L8>0,IF(HFw!$S$20=2,\"SD\",0),0)","v":0},{"$f":"HFw!$M$28","v":0},null,null,"B",{"$f":"HFwa!$H$21","v":0},{"$f":"HFwa!$H$22","v":0},{"$f":"IF(S8>0,IF(HFwa!$S$20=2,\"SD\",0),0)","v":0},{"$f":"HFwa!$M$28","v":0},null,null,"B",{"$f":"HFna!$H$21","v":0},{"$f":"HFna!$H$22","v":0},{"$f":"IF(Z8>0,IF(HFna!$S$20=2,\"SD\",0),0)","v":0},{"$f":"HFna!$M$28","v":0}]
[]
[null,null,null,null,null,null,null,{"$f":"ListAVS!$B$17","v":"Dřevěné čelo"},null,null,null,null,null,null,{"$f":"ListAVS!$B$20","v":"Široký alurámeček"},null,null,null,null,null,null,{"$f":"ListAVS!$B$17","v":"Dřevěné čelo"},null,null,null,null,null,null,{"$f":"ListAVS!$B$22","v":"Úzký alurámeček"}]
[null,null,null,null,null,null,null,{"$f":"ListAVS!$B$20","v":"Široký alurámeček"},null,null,null,null,null,null,{"$f":"ListAVS!$B$17","v":"Dřevěné čelo"},null,null,null,null,null,null,{"$f":"ListAVS!$B$22","v":"Úzký alurámeček"},null,null,null,null,null,null,{"$f":"ListAVS!$B$17","v":"Dřevěné čelo"},null,null,null,null,null,{"$f":"\" \"&ListAVS!$B$159","v":" Doplňky"}]
[null,null,null,null,null,null,null,"A",{"$f":"HFw_wa!$H$10","v":0},{"$f":"HFw_wa!$H$11","v":0},{"$f":"IF(L12>0,IF(HFw_wa!$S$9=2,\"SD\",0),0)","v":0},{"$f":"HFw_wa!$M$17","v":0},null,null,"A",{"$f":"HFwa_w!$H$10","v":0},{"$f":"HFwa_w!$H$11","v":0},{"$f":"IF(S12>0,IF(HFwa_w!$S$9=2,\"SD\",0),0)","v":0},{"$f":"HFwa_w!$M$17","v":0},null,null,"A",{"$f":"HFw_na!$H$10","v":0},{"$f":"HFw_na!$H$11","v":0},{"$f":"IF(Z12>0,IF(HFw_na!$S$9=2,\"SD\",0),0)","v":0},{"$f":"HFw_na!$M$17","v":0},null,null,"A",{"$f":"HFna_w!$H$10","v":0},{"$f":"HFna_w!$H$11","v":0},{"$f":"IF(AG12>0,IF(HFna_w!$S$9=2,\"SD\",0),0)","v":0},{"$f":"HFna_w!$M$17","v":0}]
[null,null,null,null,null,null,null,"B",{"$f":"HFw_wa!$H$21","v":0},{"$f":"HFw_wa!$H$22","v":0},{"$f":"IF(L13>0,IF(HFw_wa!$S$20=2,\"SD\",0),0)","v":0},{"$f":"HFw_wa!$M$28","v":0},null,null,"B",{"$f":"HFwa_w!$H$21","v":0},{"$f":"HFwa_w!$H$22","v":0},{"$f":"IF(S13>0,IF(HFwa_w!$S$20=2,\"SD\",0),0)","v":0},{"$f":"HFwa_w!$M$28","v":0},null,null,"B",{"$f":"HFw_na!$H$21","v":0},{"$f":"HFw_na!$H$22","v":0},{"$f":"IF(Z13>0,IF(HFw_na!$S$20=2,\"SD\",0),0)","v":0},{"$f":"HFw_na!$M$28","v":0},null,null,"B",{"$f":"HFna_w!$H$21","v":0},{"$f":"HFna_w!$H$22","v":0},{"$f":"IF(AG13>0,IF(HFna_w!$S$20=2,\"SD\",0),0)","v":0},{"$f":"HFna_w!$M$28","v":0},null,{"$f":"\" \"&ListAVS!$B$157","v":" Objednávka"}]
[]
[]
[null,"AVENTOS HS top",null,null,null,null,null,{"$f":"ListAVS!$B$17","v":"Dřevěné čelo"},null,null,null,null,null,null,{"$f":"ListAVS!$B$20","v":"Široký alurámeček"},null,null,null,null,null,null,{"$f":"ListAVS!$B$22","v":"Úzký alurámeček"},null,null,null,null,null,null,{"$f":"ListAVS!$B$23","v":"Tenké materiály"}]
[null,null,null,null,null,null,null,"A",{"$f":"HSw!$H$10","v":0},{"$f":"HSw!$H$11","v":0},{"$f":"IF(L17>0,IF(HSw!$Q$16=2,\"SD\",0),0)","v":0},{"$f":"HSw!$M$17","v":0},null,null,"A",{"$f":"HSwa!$H$10","v":0},{"$f":"HSwa!$H$11","v":0},{"$f":"IF(S17>0,IF(HSwa!$Q$16=2,\"SD\",0),0)","v":0},{"$f":"HSwa!$M$17","v":0},null,null,"A",{"$f":"HSna!$H$10","v":0},{"$f":"HSna!$H$11","v":0},{"$f":"IF(Z17>0,IF(HSna!$Q$16=2,\"SD\",0),0)","v":0},{"$f":"HSna!$M$17","v":0},null,null,"A",{"$f":"HSt!$H$10","v":0},{"$f":"HSt!$H$11","v":0},{"$f":"IF(AG17>0,IF(HSt!$Q$16=2,\"SD\",0),0)","v":0},{"$f":"HSt!$M$17","v":0}]
[null,null,null,null,null,null,null,"B",{"$f":"HSw!$H$21","v":0},{"$f":"HSw!$H$22","v":0},{"$f":"IF(L18>0,IF(HSw!$Q$27=2,\"SD\",0),0)","v":0},{"$f":"HSw!$M$28","v":0},null,null,"B",{"$f":"HSwa!$H$21","v":0},{"$f":"HSwa!$H$22","v":0},{"$f":"IF(S18>0,IF(HSwa!$Q$27=2,\"SD\",0),0)","v":0},{"$f":"HSwa!$M$28","v":0},null,null,"B",{"$f":"HSna!$H$21","v":0},{"$f":"HSna!$H$22","v":0},{"$f":"IF(Z18>0,IF(HSna!$Q$16=2,\"SD\",0),0)","v":0},{"$f":"HSna!$M$28","v":0},null,null,"B",{"$f":"HSt!$H$21","v":0},{"$f":"HSt!$H$21","v":0},{"$f":"IF(AG18>0,IF(HSt!$Q$27=2,\"SD\",0),0)","v":0},{"$f":"HSt!$M$28","v":0}]
[]
[]
[null,"AVENTOS HL top",null,null,null,null,null,{"$f":"ListAVS!$B$17","v":"Dřevěné čelo"},null,null,null,null,null,null,{"$f":"ListAVS!$B$20","v":"Široký alurámeček"},null,null,null,null,null,null,{"$f":"ListAVS!$B$22","v":"Úzký alurámeček"},null,null,null,null,null,null,{"$f":"ListAVS!$B$23","v":"Tenké materiály"}]
[null,null,null,null,null,null,null,"A",{"$f":"HLw!$H$10","v":0},{"$f":"HLw!$H$11","v":0},{"$f":"IF(L22>0,IF(HLw!$Q$14=2,\"SD\",0),0)","v":0},{"$f":"HLw!$M$15","v":0},null,null,"A",{"$f":"HLwa!$H$10","v":0},{"$f":"HLwa!$H$11","v":0},{"$f":"IF(S22>0,IF(HLwa!$Q$14=2,\"SD\",0),0)","v":0},{"$f":"HLwa!$M$15","v":0},null,null,"A",{"$f":"HLna!$H$10","v":0},{"$f":"HLna!$H$11","v":0},{"$f":"IF(Z22>0,IF(HLna!$Q$14=2,\"SD\",0),0)","v":0},{"$f":"HLna!$M$15","v":0},null,null,"A",{"$f":"HLt!$H$10","v":0},{"$f":"HLt!$H$11","v":0},{"$f":"IF(AG22>0,IF(HLt!$R$14=2,\"SD\",0),0)","v":0},{"$f":"HLt!$M$15","v":0}]
[null,null,null,null,null,null,null,"B",{"$f":"HLw!$H$21","v":0},{"$f":"HLw!$H$22","v":0},{"$f":"IF(L23>0,IF(HLw!$Q$25=2,\"SD\",0),0)","v":0},{"$f":"HLw!$M$26","v":0},null,null,"B",{"$f":"HLwa!$H$21","v":0},{"$f":"HLwa!$H$22","v":0},{"$f":"IF(S23>0,IF(HLwa!$Q$24=2,\"SD\",0),0)","v":0},{"$f":"HLwa!$M$25","v":0},null,null,"B",{"$f":"HLna!$H$21","v":0},{"$f":"HLna!$H$22","v":0},{"$f":"IF(Z23>0,IF(HLna!$Q$24=2,\"SD\",0),0)","v":0},{"$f":"HLna!$M$25","v":0},null,null,"B",{"$f":"HLt!$H$21","v":0},{"$f":"HLt!$H$22","v":0},{"$f":"IF(AG23>0,IF(HLt!$R$24=2,\"SD\",0),0)","v":0},{"$f":"HLt!$M$25","v":0}]
[]
[]
[null,"AVENTOS HK top",null,null,null,null,null,{"$f":"ListAVS!$B$17","v":"Dřevěné čelo"},null,null,null,null,null,null,{"$f":"ListAVS!$B$20","v":"Široký alurámeček"},null,null,null,null,null,null,{"$f":"ListAVS!$B$22","v":"Úzký alurámeček"},null,null,null,null,null,null,{"$f":"ListAVS!$B$23","v":"Tenké materiály"}]
[null,null,null,null,null,null,null,"A",{"$f":"HKw!$H$10","v":0},{"$f":"HKw!$H$11","v":0},{"$f":"IF(L27>0,IF(HKw!$U$16=1,0,IF(HKw!$U$16=2,\"SD\",IF(HKw!$U$16=3,\"T\",0))),0)","v":0},{"$f":"HKw!$M$17","v":0},null,null,"A",{"$f":"HKwa!$H$10","v":0},{"$f":"HKwa!$H$11","v":0},{"$f":"IF(S27>0,IF(HKwa!$U$16=1,0,IF(HKwa!$U$16=2,\"SD\",IF(HKwa!$U$16=3,\"T\",0))),0)","v":0},{"$f":"HKwa!$M$17","v":0},null,null,"A",{"$f":"HKna!$H$10","v":0},{"$f":"HKna!$H$11","v":0},{"$f":"IF(Z27>0,IF(HKna!$U$16=1,0,IF(HKna!$U$16=2,\"SD\",IF(HKna!$U$16=3,\"T\",0))),0)","v":0},{"$f":"HKna!$M$17","v":0},null,null,"A",{"$f":"HKt!$H$10","v":0},{"$f":"HKt!$H$11","v":0},{"$f":"IF(AG27>0,IF(HKt!$U$16=1,0,IF(HKt!$U$16=2,\"SD\",IF(HKt!$U$16=3,\"T\",0))),0)","v":0},{"$f":"HKt!$M$17","v":0}]
[null,null,null,null,null,null,null,"B",{"$f":"HKw!$H$21","v":0},{"$f":"HKw!$H$22","v":0},{"$f":"IF(L28>0,IF(HKw!$U$27=1,0,IF(HKw!$U$27=2,\"SD\",IF(HKw!$U$16=3,\"T\",0))),0)","v":0},{"$f":"HKw!$M$28","v":0},null,null,"B",{"$f":"HKwa!$H$21","v":0},{"$f":"HKwa!$H$22","v":0},{"$f":"IF(S28>0,IF(HKwa!$U$27=1,0,IF(HKwa!$U$27=2,\"SD\",IF(HKwa!$U$27=3,\"T\",0))),0)","v":0},{"$f":"HKwa!$M$28","v":0},null,null,"B",{"$f":"HKna!$H$21","v":0},{"$f":"HKna!$H$22","v":0},{"$f":"IF(Z28>0,IF(HKna!$U$27=1,0,IF(HKna!$U$27=2,\"SD\",IF(HKna!$U$27=3,\"T\",0))),0)","v":0},{"$f":"HKna!$M$28","v":0},null,null,"B",{"$f":"HKt!$H$21","v":0},{"$f":"HKt!$H$22","v":0},{"$f":"IF(AG28>0,IF(HKt!$U$27=1,0,IF(HKt!$U$27=2,\"SD\",IF(HKt!$U$27=3,\"T\",0))),0)","v":0},{"$f":"HKt!$M$28","v":0}]
[]
[]
[null,"AVENTOS HK-S",null,null,null,null,null,{"$f":"ListAVS!$B$17","v":"Dřevěné čelo"},null,null,null,null,null,null,{"$f":"ListAVS!$B$20","v":"Široký alurámeček"},null,null,null,null,null,null,{"$f":"ListAVS!$B$22","v":"Úzký alurámeček"},null,null,null,null,null,null,{"$f":"ListAVS!$B$23","v":"Tenké materiály"}]
[null,null,null,null,null,null,null,"A",{"$f":"HKSw!$H$10","v":0},{"$f":"HKSw!$H$11","v":0},{"$f":"IF(L32>0, IF(HKSw!$U$16=2, \"T\", 0),0)","v":0},{"$f":"HKSw!$M$17","v":0},null,null,"A",{"$f":"HKSwa!$H$10","v":0},{"$f":"HKSwa!$H$11","v":0},{"$f":"IF(S32>0, IF(HKSwa!$U$16=2, \"T\", 0),0)","v":0},{"$f":"HKSwa!$M$17","v":0},null,null,"A",{"$f":"HKSna!$H$10","v":0},{"$f":"HKSna!$H$11","v":0},{"$f":"IF(Z32>0, IF(HKSna!$U$16=2, \"T\", 0),0)","v":0},{"$f":"HKSna!$M$17","v":0},null,null,"A",{"$f":"HKSt!$H$10","v":0},{"$f":"HKSt!$H$11","v":0},{"$f":"IF(AG32>0, IF(HKSt!$U$16=2, \"T\", 0),0)","v":0},{"$f":"HKSt!$M$17","v":0}]
[null,null,null,null,null,null,null,"B",{"$f":"HKSw!$H$21","v":0},{"$f":"HKSw!$H$22","v":0},{"$f":"IF(L33>0, IF(HKSw!$U$27=2, \"T\", 0),0)","v":0},{"$f":"HKSw!$M$28","v":0},null,null,"B",{"$f":"HKSwa!$H$21","v":0},{"$f":"HKSwa!$H$22","v":0},{"$f":"IF(S33>0, IF(HKSwa!$U$27=2, \"T\", 0),0)","v":0},{"$f":"HKSwa!$M$28","v":0},null,null,"B",{"$f":"HKSna!$H$21","v":0},{"$f":"HKSna!$H$22","v":0},{"$f":"IF(Z33>0, IF(HKSna!$U$27=2, \"T\", 0),0)","v":0},{"$f":"HKSna!$M$28","v":0},null,null,"B",{"$f":"HKSt!$H$21","v":0},{"$f":"HKSt!$H$22","v":0},{"$f":"IF(AG33>0, IF(HKSt!$U$27=2, \"T\", 0),0)","v":0},{"$f":"HKSt!$M$28","v":0}]
[]
[]
[null,"AVENTOS HK-XS",null,null,null,null,null,{"$f":"ListAVS!$B$17","v":"Dřevěné čelo"},null,null,null,null,null,null,{"$f":"ListAVS!$B$20","v":"Široký alurámeček"},null,null,null,null,null,null,{"$f":"ListAVS!$B$22","v":"Úzký alurámeček"},null,null,null,null,null,null,{"$f":"ListAVS!$B$23","v":"Tenké materiály"}]
[null,null,null,null,null,null,null,"A",{"$f":"HKXSw!$I$10","v":0},{"$f":"HKXSw!$I$11","v":0},{"$f":"IF(L37>0,IF(HKXSw!$U$16=1,0,IF(HKXSw!$U$16=2,\"T\",0)),0)","v":0},{"$f":"HKXSw!$M$17","v":0},null,null,"A",{"$f":"HKXSwa!$I$10","v":0},{"$f":"HKXSwa!$I$11","v":0},{"$f":"IF(S37>0,IF(HKXSwa!$U$16=1,0,IF(HKXSwa!$U$16=2,\"T\",0)),0)","v":0},{"$f":"HKXSwa!$M$17","v":0},null,null,"A",{"$f":"HKXSna!$I$10","v":0},{"$f":"HKXSna!$I$11","v":0},{"$f":"IF(Z37>0,IF(HKXSna!$U$16=1,0,IF(HKXSna!$U$16=2,\"T\",0)),0)","v":0},{"$f":"HKXSna!$M$17","v":0},null,null,"A",{"$f":"HKXSt!$I$10","v":0},{"$f":"HKXSt!$I$11","v":0},{"$f":"IF(AG37>0,IF(HKXSt!$U$16=1,0,IF(HKXSt!$U$16=2,\"T\",0)),0)","v":0},{"$f":"HKXSt!$M$17","v":0}]
[null,null,null,null,null,null,null,"B",{"$f":"HKXSw!$I$21","v":0},{"$f":"HKXSw!$I$22","v":0},{"$f":"IF(L38>0,IF(HKXSw!$U$27=1,0,IF(HKXSw!$U$27=2,\"T\",0)),0)","v":0},{"$f":"HKXSw!$M$28","v":0},null,null,"B",{"$f":"HKXSwa!$I$21","v":0},{"$f":"HKXSwa!$I$22","v":0},{"$f":"IF(S38>0,IF(HKXSwa!$U$27=1,0,IF(HKXSwa!$U$27=2,\"T\",0)),0)","v":0},{"$f":"HKXSwa!$M$28","v":0},null,null,"B",{"$f":"HKXSna!$I$21","v":0},{"$f":"HKXSna!$I$22","v":0},{"$f":"IF(Z38>0,IF(HKXSna!$U$27=1,0,IF(HKXSna!$U$27=2,\"T\",0)),0)","v":0},{"$f":"HKXSna!$M$28","v":0},null,null,"B",{"$f":"HKXSt!$I$21","v":0},{"$f":"HKXSt!$I$22","v":0},{"$f":"IF(AG38>0,IF(HKXSt!$U$27=1,0,IF(HKXSt!$U$27=2,\"T\",0)),0)","v":0},{"$f":"HKXSt!$M$28","v":0}]
[]
[]
[null,"AVENTOS HKi",null,null,null,null,null,{"$f":"ListAVS!$B$17","v":"Dřevěné čelo"},null,null,null,null,null,null,{"$f":"ListAVS!$B$20","v":"Široký alurámeček"},null,null,null,null,null,null,{"$f":"ListAVS!$B$22","v":"Úzký alurámeček"}]
[null,null,null,null,null,null,null,"A",{"$f":"HKiw!$H$10","v":0},{"$f":"HKiw!$H$11","v":0},{"$f":"IF(L42>0,IF(HKiw!$U$16=1,0,IF(HKiw!$U$16=2,\"T\",0)),0)","v":0},{"$f":"HKiw!$M$17","v":0},null,null,"A",{"$f":"HKiwa!$H$10","v":0},{"$f":"HKiwa!$H$11","v":0},{"$f":"IF(S42>0,IF(HKiwa!$U$16=1,0,IF(HKiwa!$U$16=2,\"T\",0)),0)","v":0},{"$f":"HKiwa!$M$17","v":0},null,null,"A",{"$f":"HKina!$H$10","v":0},{"$f":"HKina!$H$11","v":0},{"$f":"IF(Z42>0,IF(HKina!$U$16=1,0,IF(HKina!$U$16=2,\"T\",0)),0)","v":0},{"$f":"HKina!$M$17","v":0}]
[null,null,null,null,null,null,null,"B",{"$f":"HKiw!$H$21","v":0},{"$f":"HKiw!$H$22","v":0},{"$f":"IF(L43>0,IF(HKiw!$U$27=1,0,IF(HKiw!$U$27=2,\"T\",0)),0)","v":0},{"$f":"HKiw!$M$28","v":0},null,null,"B",{"$f":"HKiwa!$H$21","v":0},{"$f":"HKiwa!$H$22","v":0},{"$f":"IF(S43>0,IF(HKiwa!$U$27=1,0,IF(HKiwa!$U$27=2,\"T\",0)),0)","v":0},{"$f":"HKiwa!$M$28","v":0},null,null,"B",{"$f":"HKina!$H$21","v":0},{"$f":"HKina!$H$22","v":0},{"$f":"IF(Z43>0,IF(HKina!$U$27=1,0,IF(HKina!$U$27=2,\"T\",0)),0)","v":0},{"$f":"HKina!$M$28","v":0}]
[]
[]
[null,{"$f":"\" \"&ListAVS!$B$159","v":" Doplňky"},null,null,null,null,null,"TIP-ON",null,null,{"$f":"SUM(AcsAVS!J37:J47)","v":0},null,null,null,"SERVO-DRIVE",null,null,{"$f":"SUM(AcsAVS!J54:J62, AcsAVS!J65:J66)","v":0},null,null,null,{"$f":"ListAVS!B31","v":"Ostatní"},null,null,{"$f":"SUM(,AcsAVS!J15:J16,AcsAVS!J18,AcsAVS!J25:J26, AcsAVS!J31:J32)","v":0},null,null,null,null,null,null,null,null,null,null,null,null,{"$f":"SUM(HFw!G7, HFwa!G7, HFw_wa!G7, HFwa_w!G7, HFna!G7, HFw_na!G7, HFna_w!G7, HSw!G7, HSwa!G7, HSna!G7, HSt!G7, HLw!G7, HLwa!G7, HLna!G7, HLt!G7, HKw!G7, HKwa!G7, HKna!G7, HKt!G7, HKSw!G7, HKSwa!G7, HKSna!G7, HKSt!G7, HKXSw!H7, HKXSwa!H7, HKXSna!H7, HKXSt!H7, AcsAVS!Y68)","v":0}]
[]
[]
[null,null,null,null,null,{"$f":"ListAVS!$B$290&\":\"","v":"Legenda:"},null,1,2,3,4,5]
[null,null,null,null,null,null,null,"A",900,600,"SD",1]
[]
[null,null,null,null,null,1,null,{"$f":"ListAVS!$B$64&\" A / B\"","v":"Korpus A / B"}]
[null,null,null,null,null,2,null,{"$f":"ListAVS!$B$74&\" [mm]\"","v":"Šířka korpusu [mm]"}]
[null,null,null,null,null,3,null,{"$f":"ListAVS!$B$75&\" [mm]\"","v":"Výška korpusu [mm]"}]
[null,null,null,null,null,4,null,{"$f":"ListAVS!$B$221&\": [   ] = Standard     SD = SERVO-DRIVE     T = TIP-ON\"","v":"Provedení: [   ] = Standard     SD = SERVO-DRIVE     T = TIP-ON"}]
[null,null,null,null,null,5,null,{"$f":"ListAVS!$B$55","v":"Počet"}]
[]
[]
[]
[]
[]
[]
[]
[]
[]
[]
[]
[]
[]
[]
[]
[]
[]
[]
[]
[]
[]
[]
[]
[]
[]
[]
[]
[]
[]
[]
[]
[]
[]
[]
[]
[]
[]
[]
[]
[]
[]
[]
[]
[]
[]
[]
[]
[]
[]
[]
[]
[]
[]
[]
[]
[]
[]
[]
[]
[]
[]
[]
[]
[]
[]
[]
[]
[]
[]
[]
[]
[]
[]
[]
[]
[]
[]
[]
[]
[]
[]
[]
[]
[]
[]
[]
[]
[]
[]
[]
[]
[]
[]
[]
[]
[]
[]
[]
[]
[]
[]
[]
[]
[]
[]
[]
[]
[]
[]
[]
[]
[]
[]
[]
[]
[]
[]
[]
[]
[]
[]
[]
[]
[]
[]
[]
[]
[]
[]
[]
[]
[]
[]
[]
[]
[]
[]
[]
[]
[]
[]
[]
[]
[]
[]
[]
[]
[]
[]
[]
[]
[]
[]
[]
[]
[]
[]
[]
[]
[]
[]
[]
[]
[]
[]
[]
[]
[]
[]
[]
[]
[]
[]
[]
[]
[]
[]
[]
[]
[]
[]
[]
[]
[]
[]
[]
[]
[]
[]
[]
[]
[]
[]
[]
[]
[]
[]
[]
[]
[]
[]
[]
[]
[]
[]
[]
[]
[]
[]
[]
[]
[]
[]
[]
[]
[]
[]
[]
[]
[]
[]
[]
[]
[]
[]
[]
[]
[]
[]
[]
[]
[]
[]
[]
[]
[]
[]
[]
[]
[]
[]
[]
[]
[]
[]
[]
[null,null,{"$f":"\"      \"&ListAVS!$B$156","v":"      Přehled korpusů"}]
[]
[null,null,{"$f":"ListAVS!$B$362","v":"V přehledu se zobrazují rozměry korpusů, volba SERVO-DRIVE a počet kusů."}]
[null,null,{"$f":"ListAVS!$B$363","v":"Pokud se u korpusu zobrazí pouze rozměry, může to znamenat:"}]
[null,null,{"$f":"\" - \"&ListAVS!$B$364","v":" - není zadán počet kusů"}]
[null,null,{"$f":"\" - \"&ListAVS!$B$365","v":" - nejsou doplněny všechny povinné parametry"}]
[null,null,{"$f":"\" - \"&ListAVS!$B$366","v":" - jsou překročeny hodnoty povinných parametrů (např. max. výška)"}]
[null,null,{"$f":"ListAVS!$B$367","v":"V tom případě se korpus nenačte do objednávky."}]
[null,null,{"$f":"ListAVS!$B$368","v":"Kliknutím na název korpusu přejděte na stránku zdvihače a údaje doplňte nebo opravte."}]
[]
[]
[]
[]
[]
[]
[]
[]
[null,null,null,null,null,null,null,null,null,null,null,null,null,null,null,{"$f":"ListAVS!$B$167","v":"Zpět"}]

{"sheet":"OrdAVS","index":41,"n_rows":322,"n_cols":55,"rows_kept":322,"cut":false,"hidden":false,"merged":[[4,32,4,35],[6,17,8,17],[6,18,8,18],[6,48,8,48],[6,49,8,49],[4,47,4,49],[4,14,4,20],[6,40,8,40],[4,37,4,40],[6,42,8,42],[6,43,8,43],[4,22,4,25],[6,27,8,27],[6,28,8,28],[6,14,8,14],[6,15,8,15],[6,16,8,16],[4,27,4,30],[6,24,8,24],[6,25,8,25],[6,19,8,19],[6,20,8,20],[6,22,8,22],[6,39,8,39],[6,45,8,45],[6,29,8,29],[6,23,8,23],[6,30,8,30],[6,32,8,32],[6,33,8,33],[6,34,8,34],[6,35,8,35],[6,37,8,37],[6,38,8,38],[4,42,4,45],[6,44,8,44],[6,51,8,51],[2,52,4,52],[6,47,8,47],[7,52,9,52],[6,7,6,10],[8,7,8,10],[303,0,344,0],[204,6,204,7],[207,1,207,10],[208,1,208,10],[209,1,209,10],[215,9,215,10]]}
[null,{"$f":"ListAVS!$B$255&\":\"","v":"Odběratel:"},null,null,null,null,null,null,null,null,{"$f":"ListAVS!$B$157","v":"Objednávka"},null,null,null,null,null,null,null,null,null,null,null,null,null,null,null,null,null,null,null,null,null,null,null,null,null,null,null,null,null,null,null,null,null,null,null,null,null,null,null,null,null,null,null,{"$f":"ListAVS!$B$152","v":"Jdi na"}]
[null,{"$f":"Form!C53","v":0},null,null,null,null,null,null,null,null,"AVENTPLAN ",null,null,null,null,null,null,null,null,null,null,null,null,null,null,null,null,null,null,null,null,null,null,null,null,null,null,null,null,null,null,null,null,null,null,null,null,null,null,null,null,null,null,null,{"$f":"\" \"&ListAVS!$B$153","v":" Úvod plánování"}]
[null,{"$f":"Form!C55","v":0},{"$f":"ListAVS!$B$258&\":\"","v":"IČO, DIČ:"},null,null,null,null,null,null,{"$f":"ListAVS!$B$222&\": \"","v":"Verze: "},{"$f":"Form!$Q$7&\" \"","v":"4.0.1 "},null,{"$f":"SUM(O5,W5,AB5,AG5,AL5,AQ5,AZ7,BA3,AV5)","v":0},null,null,null,null,null,null,null,null,null,null,null,null,null,null,null,null,null,null,null,null,null,null,null,null,null,null,null,null,null,null,null,null,null,null,null,null,null,null,null,{"$f":"IF($BA$6=1, SUM($G$186:$G$188), 0)","v":0},null,{"$f":"\" \"&ListAVS!$B$154","v":" Nápověda"}]
[null,{"$f":"Form!C56","v":0},{"$f":"Form!C63","v":0},null,null,null,null,null,null,{"$f":"ListAVS!$B$223&\": \"","v":"Platnost ceníku od: "},{"$f":"Price!$H$8","v":"00:00:00"}]
[null,{"$f":"Form!C57","v":0},{"$f":"Form!C64","v":0},null,null,null,null,null,null,null,{"$f":"IF(MenuAVS!$N$95>0, ListAVS!$B$293, \" \")","v":" "},null,{"$f":"SUM(M11:M192)","v":0},null,{"$f":"SUM(O7, P7, Q7, R7, S7, T7, U7)","v":0},null,null,null,null,null,null,null,{"$f":"SUM(W7,X7,Y7,Z7)","v":0},null,null,null,null,{"$f":"SUM(AB7,AC7,AD7,AE7)","v":0},null,null,null,null,{"$f":"SUM(AG7,AH7,AI7,AJ7)","v":0},null,null,null,null,{"$f":"SUM(AL7,AM7,AN7,AO7)","v":0},null,null,null,null,{"$f":"SUM(AQ7,AR7,AS7,AT7)","v":0},null,null,null,null,{"$f":"SUM($AV$7, $AW$7, $AX$7)","v":0},null,null,null,null,null,null,{"$f":"\" \"&ListAVS!$B$159","v":" Doplňky"}]
[null,{"$f":"ListAVS!$B$257&\":\"","v":"Dodací adresa:"},{"$f":"ListAVS!$B$259&\":\"","v":"Telefon, fax, e-mail:"},null,null,null,null,{"$f":"ListAVS!$B$260","v":"Číslo objednávky"},null,null,null,null,null,null,{"$f":"IF(OR(AND(HFw!$S$9=2, HFw!$M$17>0), AND(HFw!$S$20=2, HFw!$M$28>0)), 1, 2)","v":2},{"$f":"IF(OR(AND(HFwa!$S$9=2, HFwa!$M$17>0), AND(HFwa!$S$20=2, HFwa!$M$28>0)), 1, 2)","v":2},{"$f":"IF(OR(AND(HFw_wa!$S$9=2, HFw_wa!$M$17>0), AND(HFw_wa!$S$20=2, HFw_wa!$M$28>0)), 1, 2)","v":2},{"$f":"IF(OR(AND(HFwa_w!$S$9=2, HFwa_w!$M$17>0), AND(HFwa_w!$S$20=2, HFwa_w!$M$28>0)), 1, 2)","v":2},{"$f":"IF(OR(AND(HFna!$S$9=2, HFna!$M$17>0), AND(HFna!$S$20=2, HFna!$M$28>0)), 1, 2)","v":2},{"$f":"IF(OR(AND(HFw_na!$S$9=2, HFw_na!$M$17>0), AND(HFw_na!$S$20=2, HFw_na!$M$28>0)), 1, 2)","v":2},{"$f":"IF(OR(AND(HFna_w!$S$9=2, HFna_w!$M$17>0), AND(HFna_w!$S$20=2, HFna_w!$M$28>0)), 1, 2)","v":2},null,{"$f":"IF(OR(AND(HSw!$Q$16=2, HSw!$M$17>0), AND(HSw!$Q$27=2, HSw!$M$28>0)), 1, 2)","v":2},{"$f":"IF(OR(AND(HSwa!$Q$16=2, HSwa!$M$17>0), AND(HSwa!$Q$27=2, HSwa!$M$28>0)), 1, 2)","v":2},{"$f":"IF(OR(AND(HSna!$Q$16=2, HSna!$M$17>0), AND(HSna!$Q$27=2, HSna!$M$28>0)), 1, 2)","v":2},{"$f":"IF(OR(AND(HSt!$Q$16=2, HSt!$M$17>0), AND(HSt!$Q$27=2, HSt!$M$28>0)), 1, 2)","v":2},null,{"$f":"IF(OR(AND(HLw!$R$14=2, HLw!$M$15>0), AND(HLw!$R$25=2, HLw!$M$26)), 1, 2)","v":2},{"$f":"IF(OR(AND(HLwa!$R$14=2, HLwa!$M$15>0), AND(HLwa!$R$24=2, HLwa!$M$25)), 1, 2)","v":2},{"$f":"IF(OR(AND(HLna!$R$14=2, HLna!$M$15>0), AND(HLna!$R$24=2, HLna!$M$25)), 1, 2)","v":2},{"$f":"IF(OR(AND(HLt!$R$14=2, HLt!$M$15>0), AND(HLt!$R$24=2, HLt!$M$25)), 1, 2)","v":2},null,{"$f":"IF(OR(AND(HKw!$U$16=2, HKw!$M$17>0), AND(HKw!$U$27=2, HKw!$M$28)), 1, 2)","v":2},{"$f":"IF(OR(AND(HKwa!$U$16=2, HKwa!$M$17>0), AND(HKwa!$U$27=2, HKwa!$M$28)), 1, 2)","v":2},{"$f":"IF(OR(AND(HKna!$U$16=2, HKna!$M$17>0), AND(HKna!$U$27=2, HKna!$M$28)), 1, 2)","v":2},{"$f":"IF(OR(AND(HKt!$U$16=2, HKt!$M$17>0), AND(HKt!$U$27=2, HKt!$M$28)), 1, 2)","v":2},null,null,null,null,null,null,null,null,null,null,null,null,null,null,null,null,{"$f":"IF(OR(O6=1, P6=1, Q6=1, R6=1, S6= 1, T6=1, U6=1, W6=1, X6=1, Y6=1, Z6=1, AB6=1, AC6=1, AD6=1, AE6=1, AG6=1, AH6=1, AI6=1, AJ6=1), 1, 2)","v":2},null,{"$f":"\" \"&ListAVS!$B$156","v":" Přehled korpusů"}]
[null,{"$f":"Form!C59","v":0},{"$f":"Form!C66","v":0},null,null,null,null,null,null,null,null,null,null,null,{"$f":"HFw!$AD$47","v":0},{"$f":"HFwa!$AD$47","v":0},{"$f":"HFw_wa!$AD$47","v":0},{"$f":"HFwa_w!$AD$47","v":0},{"$f":"HFna!$AD$47","v":0},{"$f":"HFw_na!$AD$47","v":0},{"$f":"HFna_w!$AD$47","v":0},null,{"$f":"HSw!$AD$45","v":0},{"$f":"HSwa!$AD$45","v":0},{"$f":"HSna!$AD$45","v":0},{"$f":"HSt!$AD$45","v":0},null,{"$f":"HLw!$AD$40","v":0},{"$f":"HLwa!$AD$40","v":0},{"$f":"HLna!$AD$40","v":0},{"$f":"HLt!$AD$40","v":0},null,{"$f":"HKw!$AD$48","v":0},{"$f":"HKwa!$AD$48","v":0},{"$f":"HKna!$AD$48","v":0},{"$f":"HKt!$AD$48","v":0},null,{"$f":"HKSw!$AD$46","v":0},{"$f":"HKSwa!$AD$46","v":0},{"$f":"HKSna!$AD$46","v":0},{"$f":"HKSt!$AD$46","v":0},null,{"$f":"HKXSw!$AF$50","v":0},{"$f":"HKXSwa!$AF$50","v":0},{"$f":"HKXSna!$AF$50","v":0},{"$f":"HKXSt!$AF$50","v":0},null,{"$f":"HKiw!AD48","v":0},{"$f":"HKiwa!AD48","v":0},{"$f":"HKina!AD48","v":0},null,{"$f":"AcsAVS!Y68","v":0},"▲"]
[null,{"$f":"Form!C60","v":0},{"$f":"Form!C67","v":0},null,null,null,null,{"$f":"ListAVS!$B$261","v":"Zakázka"},null,null,null,null,null,null,null,null,null,null,null,null,null,null,null,null,null,null,null,null,null,null,null,null,null,null,null,null,null,null,null,null,null,null,null,null,null,null,null,null,null,null,null,null,"trafo:"]
[null,{"$f":"Form!C61","v":0},{"$f":"Form!C68","v":0}]
[null,{"$f":"Price!A10","v":"Název"},{"$f":"Price!B10","v":"Číslo artiklu"},{"$f":"Price!C10","v":"Barva"},{"$f":"Price!D10","v":"Dostupnost"},{"$f":"Price!E10","v":"Počet"},{"$f":"Price!F10","v":"Jednotková cena"},{"$f":"ListAVS!$B$59","v":"Celkem"},{"$f":"ListAVS!$B$60","v":"Změna"},{"$f":"Price!G10","v":"IDNr."},{"$f":"Price!H10","v":0},"kusy","celkem",null,"HFw","HFwa","HFw_wa","HFwa_w","HFna","HFw_na","HFna_w",null,"HSw","HSwa","HSna","HSt",null,"HLw","HLwa","HLna","HLt",null,"HKw","HKwa","HKna","HKt",null,"HKSw","HKSwa","HKSna","HKSt",null,"HKXSw","HKXSwa","HKXSna","HKXSt",null,"HKiw","HKiwa","HKina",null,"Access"]
[null,{"$f":"CenAVS!A11","v":"Sada zdvihačů HF top, na vruty"},{"$f":"CenAVS!B11","v":"22F2500"},{"$f":"CenAVS!C11","v":"ZN"},{"$f":"CenAVS!D11","v":0},{"$f":"IF(I11>0,I11,SUM(O11:BA11))","v":0},{"$f":"CenAVS!F11","v":1651.93},{"$f":"M11","v":0},null,{"$f":"CenAVS!I11","v":6115096},{"$f":"CenAVS!J11","v":"D906606"},{"$f":"IF(I11=\"x\",0,IF(I11>0,I11,F11))","v":0},{"$f":"PRODUCT(L11,G11)","v":0},null,{"$f":"HFw!$AB9","v":0},{"$f":"HFwa!$AB9","v":0},{"$f":"HFw_wa!$AB9","v":0},{"$f":"HFwa_w!$AB9","v":0},{"$f":"HFna!$AB9","v":0},{"$f":"HFw_na!$AB9","v":0},{"$f":"HFna_w!$AB9","v":0}]
[null,{"$f":"CenAVS!A12","v":"Sada zdvihačů HF top, předmont. eurošrouby"},{"$f":"CenAVS!B12","v":"22F2510"},{"$f":"CenAVS!C12","v":"ZN"},{"$f":"CenAVS!D12","v":0},0,{"$f":"CenAVS!F12","v":1651.93},{"$f":"M12","v":0},null,{"$f":"CenAVS!I12","v":6225429},{"$f":"CenAVS!J12","v":"D906608"},{"$f":"IF(I12=\"x\",0,IF(I12>0,I12,F12))","v":0},{"$f":"PRODUCT(L12,G12)","v":0},null,{"$f":"HFw!$AB10","v":0},{"$f":"HFwa!$AB10","v":0},{"$f":"HFw_wa!$AB10","v":0},{"$f":"HFwa_w!$AB10","v":0},{"$f":"HFna!$AB10","v":0},{"$f":"HFw_na!$AB10","v":0},{"$f":"HFna_w!$AB10","v":0}]
[null,{"$f":"CenAVS!A13","v":"Sada zdvihačů HF top, na vruty"},{"$f":"CenAVS!B13","v":"22F2800"},{"$f":"CenAVS!C13","v":"ZN"},{"$f":"CenAVS!D13","v":0},0,{"$f":"CenAVS!F13","v":1805.55},0,null,{"$f":"CenAVS!I13","v":1755700},{"$f":"CenAVS!J13","v":"D906607"},0,0,null,{"$f":"HFw!$AB11","v":0},{"$f":"HFwa!$AB11","v":0},{"$f":"HFw_wa!$AB11","v":0},{"$f":"HFwa_w!$AB11","v":0},{"$f":"HFna!$AB11","v":0},{"$f":"HFw_na!$AB11","v":0},{"$f":"HFna_w!$AB11","v":0}]
[null,{"$f":"CenAVS!A14","v":"Sada zdvihačů HF top, předmont. eurošrouby"},{"$f":"CenAVS!B14","v":"22F2810"},{"$f":"CenAVS!C14","v":"ZN"},{"$f":"CenAVS!D14","v":0},{"$f":"IF(I14>0,I14,SUM(O14:BA14))","v":0},{"$f":"CenAVS!F14","v":1805.55},{"$f":"M14","v":0},null,{"$f":"CenAVS!I14","v":6445555},{"$f":"CenAVS!J14","v":"D906609"},{"$f":"IF(I14=\"x\",0,IF(I14>0,I14,F14))","v":0},{"$f":"PRODUCT(L14,G14)","v":0},null,{"$f":"HFw!$AB12","v":0},{"$f":"HFwa!$AB12","v":0},{"$f":"HFw_wa!$AB12","v":0},{"$f":"HFwa_w!$AB12","v":0},{"$f":"HFna!$AB12","v":0},{"$f":"HFw_na!$AB12","v":0},{"$f":"HFna_w!$AB12","v":0}]
[null,{"$f":"CenAVS!A15","v":"Sada teleskopů HF top (480–610 mm)"},{"$f":"CenAVS!B15","v":"22F3200"},{"$f":"CenAVS!C15","v":"NI"},{"$f":"CenAVS!D15","v":0},0,{"$f":"CenAVS!F15","v":785.14},0,null,{"$f":"CenAVS!I15","v":8795903},{"$f":"CenAVS!J15","v":"D906610"},0,0,null,{"$f":"HFw!$AB13","v":0},{"$f":"HFwa!$AB13","v":0},{"$f":"HFw_wa!$AB13","v":0},{"$f":"HFwa_w!$AB13","v":0},{"$f":"HFna!$AB13","v":0},{"$f":"HFw_na!$AB13","v":0},{"$f":"HFna_w!$AB13","v":0}]
[null,{"$f":"CenAVS!A16","v":"Sada teleskopů HF top (600–910 mm)"},{"$f":"CenAVS!B16","v":"22F3500"},{"$f":"CenAVS!C16","v":"NI"},{"$f":"CenAVS!D16","v":0},0,{"$f":"CenAVS!F16","v":964.4},0,null,{"$f":"CenAVS!I16","v":7893366},{"$f":"CenAVS!J16","v":"D906611"},0,0,null,{"$f":"HFw!$AB14","v":0},{"$f":"HFwa!$AB14","v":0},{"$f":"HFw_wa!$AB14","v":0},{"$f":"HFwa_w!$AB14","v":0},{"$f":"HFna!$AB14","v":0},{"$f":"HFw_na!$AB14","v":0},{"$f":"HFna_w!$AB14","v":0}]
[null,{"$f":"CenAVS!A17","v":"Sada teleskopů HF top (840–1200 mm)"},{"$f":"CenAVS!B17","v":"22F3900"},{"$f":"CenAVS!C17","v":"NI"},{"$f":"CenAVS!D17","v":0},0,{"$f":"CenAVS!F17","v":1143.6400000000001},0,null,{"$f":"CenAVS!I17","v":6927662},{"$f":"CenAVS!J17","v":"D906612"},0,0,null,{"$f":"HFw!$AB15","v":0},{"$f":"HFwa!$AB15","v":0},{"$f":"HFw_wa!$AB15","v":0},{"$f":"HFwa_w!$AB15","v":0},{"$f":"HFna!$AB15","v":0},{"$f":"HFw_na!$AB15","v":0},{"$f":"HFna_w!$AB15","v":0}]
[null,{"$f":"CenAVS!A18","v":"Závěs CLIP top 120° "},{"$f":"CenAVS!B18","v":"70T5550.TL"},{"$f":"CenAVS!C18","v":"NI"},{"$f":"CenAVS!D18","v":0},0,{"$f":"CenAVS!F18","v":56.56},0,null,{"$f":"CenAVS!I18","v":6510533},{"$f":"CenAVS!J18","v":"D033609"},0,0,null,{"$f":"HFw!$AB22","v":0},{"$f":"HFwa!$AB22","v":0},{"$f":"HFw_wa!$AB22","v":0},{"$f":"HFwa_w!$AB22","v":0},null,{"$f":"HFw_na!$AB22","v":0}]
[null,{"$f":"CenAVS!A19","v":"Závěs CLIP top 120° EXPANDO"},{"$f":"CenAVS!B19","v":"70T558E"},{"$f":"CenAVS!C19","v":"NI"},{"$f":"CenAVS!D19","v":0},0,{"$f":"CenAVS!F19","v":53.42},0,null,{"$f":"CenAVS!I19","v":7606263},{"$f":"CenAVS!J19","v":"D354089"},0,0,null,{"$f":"HFw!$AB23","v":0},null,{"$f":"HFw_wa!$AB23","v":0},null,null,{"$f":"HFw_na!$AB23","v":0}]
[null,{"$f":"CenAVS!A20","v":"Středový závěs CLIP top "},{"$f":"CenAVS!B20","v":"78Z5500T"},{"$f":"CenAVS!C20","v":"NI"},{"$f":"CenAVS!D20","v":0},0,{"$f":"CenAVS!F20","v":92.71},0,null,{"$f":"CenAVS!I20","v":6796673},{"$f":"CenAVS!J20","v":"D055349"},0,0,null,{"$f":"HFw!$AB24","v":0},{"$f":"HFwa!$AB24","v":0},{"$f":"HFw_wa!$AB24","v":0},{"$f":"HFwa_w!$AB24","v":0},null,null,{"$f":"HFna_w!$AB24","v":0}]
[null,{"$f":"CenAVS!A21","v":"Středový závěs CLIP top EXPANDO"},{"$f":"CenAVS!B21","v":"78Z553ET"},{"$f":"CenAVS!C21","v":"NI"},{"$f":"CenAVS!D21","v":0},0,{"$f":"CenAVS!F21","v":95.69},0,null,{"$f":"CenAVS!I21","v":6797133},{"$f":"CenAVS!J21","v":"D354094"},0,0,null,{"$f":"HFw!$AB25","v":0},null,null,{"$f":"HFwa_w!$AB25","v":0},null,null,{"$f":"HFna_w!$AB25","v":0}]
[null,{"$f":"CenAVS!A22","v":"Závěs CLIP top pro alurámečky"},{"$f":"CenAVS!B22","v":"72T550A.TL"},{"$f":"CenAVS!C22","v":"NI"},{"$f":"CenAVS!D22","v":0},0,{"$f":"CenAVS!F22","v":77.180000000000007},0,null,{"$f":"CenAVS!I22","v":7655633},{"$f":"CenAVS!J22","v":"D159491"},{"$f":"IF(I22=\"x\",0,IF(I22>0,I22,F22))","v":0},{"$f":"PRODUCT(L22,G22)","v":0},null,null,null,null,null,{"$f":"HFna!$AB26","v":0},null,{"$f":"HFna_w!$AB26","v":0},null,null,null,null,null,null,null,null,null,null,null,null,null,null,null,null,null,null,null,null,null,null,null,{"$f":"HKXSna!$AD35","v":0}]
[null,{"$f":"CenAVS!A23","v":"Střed. závěs CLIP top pro alurámečky"},{"$f":"CenAVS!B23","v":"78Z550AT"},{"$f":"CenAVS!C23","v":"NI"},{"$f":"CenAVS!D23","v":0},0,{"$f":"CenAVS!F23","v":101.63},0,null,{"$f":"CenAVS!I23","v":6797303},{"$f":"CenAVS!J23","v":"D124476"},0,0,null,null,null,null,null,{"$f":"HFna!$AB27","v":0},{"$f":"HFw_na!$AB27","v":0}]
[null,{"$f":"CenAVS!A24","v":"Adaptér CLIP k teleskopům P"},{"$f":"CenAVS!B24","v":"175H5B00   R"},{"$f":"CenAVS!C24","v":"NI"},{"$f":"CenAVS!D24","v":0},0,{"$f":"CenAVS!F24","v":90.34},0,null,{"$f":"CenAVS!I24","v":6796243},{"$f":"CenAVS!J24","v":"D124479"},0,0,null,null,null,null,null,{"$f":"HFna!$AB28","v":0},{"$f":"HFw_na!$AB28","v":0}]
[null,{"$f":"CenAVS!A25","v":"Adaptér CLIP k teleskopům L"},{"$f":"CenAVS!B25","v":"175H5B00   L"},{"$f":"CenAVS!C25","v":"NI"},{"$f":"CenAVS!D25","v":0},0,{"$f":"CenAVS!F25","v":90.34},0,null,{"$f":"CenAVS!I25","v":6796593},{"$f":"CenAVS!J25","v":"D124478"},0,0,null,null,null,null,null,{"$f":"HFna!$AB29","v":0},{"$f":"HFw_na!$AB29","v":0}]
[null,{"$f":"CenAVS!A26","v":"Adaptér CLIP ke středovým závěsům"},{"$f":"CenAVS!B26","v":"175H5A00"},{"$f":"CenAVS!C26","v":"NI"},{"$f":"CenAVS!D26","v":0},0,{"$f":"CenAVS!F26","v":90.34},0,null,{"$f":"CenAVS!I26","v":6796303},{"$f":"CenAVS!J26","v":"D124477"},0,0,null,null,null,null,null,{"$f":"HFna!$AB30","v":0},null,{"$f":"HFna_w!$AB30","v":0}]
[null,{"$f":"CenAVS!A27","v":0},{"$f":"CenAVS!B27","v":0},{"$f":"CenAVS!C27","v":0},{"$f":"CenAVS!D27","v":0},0,{"$f":"CenAVS!F27","v":0},0,null,{"$f":"CenAVS!I27","v":0},{"$f":"CenAVS!J27","v":0},0,0]
[null,{"$f":"CenAVS!A28","v":"Sada zdvihačů HS top, na vruty"},{"$f":"CenAVS!B28","v":"22S2200"},{"$f":"CenAVS!C28","v":"ZN"},{"$f":"CenAVS!D28","v":0},0,{"$f":"CenAVS!F28","v":1754.34},0,null,{"$f":"CenAVS!I28","v":6873965},{"$f":"CenAVS!J28","v":"D906613"},0,0,null,null,null,null,null,null,null,null,null,{"$f":"HSw!AB9","v":0},{"$f":"HSwa!AB9","v":0},{"$f":"HSna!AB9","v":0},{"$f":"HSt!AB9","v":0}]
[null,{"$f":"CenAVS!A29","v":"Sada zdvihačů HS top, předmont. eurošrouby"},{"$f":"CenAVS!B29","v":"22S2210"},{"$f":"CenAVS!C29","v":"ZN"},{"$f":"CenAVS!D29","v":0},0,{"$f":"CenAVS!F29","v":1754.34},0,null,{"$f":"CenAVS!I29","v":8437807},{"$f":"CenAVS!J29","v":"D906616"},0,0,null,null,null,null,null,null,null,null,null,{"$f":"HSw!AB10","v":0},{"$f":"HSwa!AB10","v":0},{"$f":"HSna!AB10","v":0},{"$f":"HSt!AB10","v":0}]
[null,{"$f":"CenAVS!A30","v":"Sada zdvihačů HS top, na vruty"},{"$f":"CenAVS!B30","v":"22S2500"},{"$f":"CenAVS!C30","v":"ZN"},{"$f":"CenAVS!D30","v":0},0,{"$f":"CenAVS!F30","v":1856.76},0,null,{"$f":"CenAVS!I30","v":4544774},{"$f":"CenAVS!J30","v":"D906614"},0,0,null,null,null,null,null,null,null,null,null,{"$f":"HSw!AB11","v":0},{"$f":"HSwa!AB11","v":0},{"$f":"HSna!AB11","v":0},{"$f":"HSt!AB11","v":0}]
[null,{"$f":"CenAVS!A31","v":"Sada zdvihačů HS top, předmont. eurošrouby"},{"$f":"CenAVS!B31","v":"22S2510"},{"$f":"CenAVS!C31","v":"ZN"},{"$f":"CenAVS!D31","v":0},0,{"$f":"CenAVS!F31","v":1856.76},0,null,{"$f":"CenAVS!I31","v":4339002},{"$f":"CenAVS!J31","v":"D906617"},0,0,null,null,null,null,null,null,null,null,null,{"$f":"HSw!AB12","v":0},{"$f":"HSwa!AB12","v":0},{"$f":"HSna!AB12","v":0},{"$f":"HSt!AB12","v":0}]
[null,{"$f":"CenAVS!A32","v":"Sada zdvihačů HS top, na vruty"},{"$f":"CenAVS!B32","v":"22S2800"},{"$f":"CenAVS!C32","v":"ZN"},{"$f":"CenAVS!D32","v":0},0,{"$f":"CenAVS!F32","v":1972},0,null,{"$f":"CenAVS!I32","v":6726108},{"$f":"CenAVS!J32","v":"D906615"},0,0,null,null,null,null,null,null,null,null,null,{"$f":"HSw!AB13","v":0},{"$f":"HSwa!AB13","v":0},{"$f":"HSna!AB13","v":0},{"$f":"HSt!AB13","v":0}]
[null,{"$f":"CenAVS!A33","v":"Sada zdvihačů HS top, předmont. eurošrouby"},{"$f":"CenAVS!B33","v":"22S2810"},{"$f":"CenAVS!C33","v":"ZN"},{"$f":"CenAVS!D33","v":0},0,{"$f":"CenAVS!F33","v":1972},0,null,{"$f":"CenAVS!I33","v":1560191},{"$f":"CenAVS!J33","v":"D906618"},0,0,null,null,null,null,null,null,null,null,null,{"$f":"HSw!AB14","v":0},{"$f":"HSwa!AB14","v":0},{"$f":"HSna!AB14","v":0},{"$f":"HSt!AB14","v":0}]
[null,{"$f":"CenAVS!A34","v":"Sada ramen HS top"},{"$f":"CenAVS!B34","v":"22S3500"},{"$f":"CenAVS!C34","v":"ZN"},{"$f":"CenAVS!D34","v":0},{"$f":"IF(I34>0,I34,SUM(O34:BA34))","v":0},{"$f":"CenAVS!F34","v":1169.26},0,null,{"$f":"CenAVS!I34","v":4455776},{"$f":"CenAVS!J34","v":"D906619"},0,0,null,null,null,null,null,null,null,null,null,{"$f":"HSw!AB16","v":0},{"$f":"HSwa!AB16","v":0},{"$f":"HSna!AB16","v":0},{"$f":"HSt!AB16","v":0}]
[null,{"$f":"CenAVS!A35","v":0},{"$f":"CenAVS!B35","v":0},{"$f":"CenAVS!C35","v":0},{"$f":"CenAVS!D35","v":0},0,{"$f":"CenAVS!F35","v":0},0,null,{"$f":"CenAVS!I35","v":0},{"$f":"CenAVS!J35","v":0},0,0]
[null,{"$f":"CenAVS!A36","v":"Sada zdvihačů HL top, na vruty"},{"$f":"CenAVS!B36","v":"22L2200"},{"$f":"CenAVS!C36","v":"ZN"},{"$f":"CenAVS!D36","v":0},0,{"$f":"CenAVS!F36","v":1754.34},0,null,{"$f":"CenAVS!I36","v":5877526},{"$f":"CenAVS!J36","v":"D906620"},0,0,null,null,null,null,null,null,null,null,null,null,null,null,null,null,{"$f":"HLw!$AB9","v":0},{"$f":"HLwa!$AB9","v":0},{"$f":"HLna!$AB9","v":0},{"$f":"HLt!$AB9","v":0}]
[null,{"$f":"CenAVS!A37","v":"Sada zdvihačů HL top, předmont. eurošrouby"},{"$f":"CenAVS!B37","v":"22L2210"},{"$f":"CenAVS!C37","v":"ZN"},{"$f":"CenAVS!D37","v":0},0,{"$f":"CenAVS!F37","v":1754.34},0,null,{"$f":"CenAVS!I37","v":1723404},{"$f":"CenAVS!J37","v":"D906622"},0,0,null,null,null,null,null,null,null,null,null,null,null,null,null,null,{"$f":"HLw!$AB10","v":0},{"$f":"HLwa!$AB10","v":0},{"$f":"HLna!$AB10","v":0},{"$f":"HLt!$AB10","v":0}]
[null,{"$f":"CenAVS!A38","v":"Sada zdvihačů HL top, na vruty"},{"$f":"CenAVS!B38","v":"22L2500"},{"$f":"CenAVS!C38","v":"ZN"},{"$f":"CenAVS!D38","v":0},0,{"$f":"CenAVS!F38","v":1882.38},0,null,{"$f":"CenAVS!I38","v":6119711},{"$f":"CenAVS!J38","v":"D906621"},0,0,null,null,null,null,null,null,null,null,null,null,null,null,null,null,{"$f":"HLw!$AB11","v":0},{"$f":"HLwa!$AB11","v":0},{"$f":"HLna!$AB11","v":0},{"$f":"HLt!$AB11","v":0}]
[null,{"$f":"CenAVS!A39","v":"Sada zdvihačů HL top, předmont. eurošrouby"},{"$f":"CenAVS!B39","v":"22L2510"},{"$f":"CenAVS!C39","v":"ZN"},{"$f":"CenAVS!D39","v":0},0,{"$f":"CenAVS!F39","v":1882.38},0,null,{"$f":"CenAVS!I39","v":3220181},{"$f":"CenAVS!J39","v":"D906623"},0,0,null,null,null,null,null,null,null,null,null,null,null,null,null,null,{"$f":"HLw!$AB12","v":0},{"$f":"HLwa!$AB12","v":0},{"$f":"HLna!$AB12","v":0},{"$f":"HLt!$AB12","v":0}]
[null,{"$f":"CenAVS!A40","v":"Sada ramen HL top (300–339 mm)"},{"$f":"CenAVS!B40","v":"22L3200"},{"$f":"CenAVS!C40","v":"NI"},{"$f":"CenAVS!D40","v":0},0,{"$f":"CenAVS!F40","v":1233.67},0,null,{"$f":"CenAVS!I40","v":8484930},{"$f":"CenAVS!J40","v":"D906624"},0,0,null,null,null,null,null,null,null,null,null,null,null,null,null,null,{"$f":"HLw!$AB14","v":0},{"$f":"HLwa!$AB14","v":0},{"$f":"HLna!$AB14","v":0},{"$f":"HLt!$AB14","v":0}]
[null,{"$f":"CenAVS!A41","v":"Sada ramen HL top (340–389 mm)"},{"$f":"CenAVS!B41","v":"22L3500"},{"$f":"CenAVS!C41","v":"NI"},{"$f":"CenAVS!D41","v":0},0,{"$f":"CenAVS!F41","v":1259.26},0,null,{"$f":"CenAVS!I41","v":4361231},{"$f":"CenAVS!J41","v":"D906625"},0,0,null,null,null,null,null,null,null,null,null,null,null,null,null,null,{"$f":"HLw!$AB15","v":0},{"$f":"HLwa!$AB15","v":0},{"$f":"HLna!$AB15","v":0},{"$f":"HLt!$AB15","v":0}]
[null,{"$f":"CenAVS!A42","v":"Sada ramen HL top (390–540 mm)"},{"$f":"CenAVS!B42","v":"22L3800"},{"$f":"CenAVS!C42","v":"NI"},{"$f":"CenAVS!D42","v":0},0,{"$f":"CenAVS!F42","v":1297.67},0,null,{"$f":"CenAVS!I42","v":8458432},{"$f":"CenAVS!J42","v":"D906626"},0,0,null,null,null,null,null,null,null,null,null,null,null,null,null,null,{"$f":"HLw!$AB16","v":0},{"$f":"HLwa!$AB16","v":0},{"$f":"HLna!$AB16","v":0},{"$f":"HLt!$AB16","v":0}]
[null,{"$f":"CenAVS!A43","v":"Sada ramen HL top (480–580 mm)"},{"$f":"CenAVS!B43","v":"22L3900"},{"$f":"CenAVS!C43","v":"NI"},{"$f":"CenAVS!D43","v":0},0,{"$f":"CenAVS!F43","v":1438.5},0,null,{"$f":"CenAVS!I43","v":4889829},{"$f":"CenAVS!J43","v":"D906627"},0,0,null,null,null,null,null,null,null,null,null,null,null,null,null,null,{"$f":"HLw!$AB17","v":0},{"$f":"HLwa!$AB17","v":0},{"$f":"HLna!$AB17","v":0},{"$f":"HLt!$AB17","v":0}]
[null,{"$f":"CenAVS!A44","v":"Tyč příčné stabizace HL top"},{"$f":"CenAVS!B44","v":"22Q1076U"},{"$f":"CenAVS!C44","v":"EV"},{"$f":"CenAVS!D44","v":0},{"$f":"IF(I44>0,I44,SUM(O44:BA44))","v":0},{"$f":"CenAVS!F44","v":337.98},0,null,{"$f":"CenAVS!I44","v":6826344},{"$f":"CenAVS!J44","v":"D906628"},0,0,null,null,null,null,null,null,null,null,null,null,null,null,null,null,{"$f":"HLw!$AB19","v":0},{"$f":"HLwa!$AB19","v":0},{"$f":"HLna!AB19","v":0},{"$f":"HLt!AB19","v":0}]
[null,{"$f":"CenAVS!A45","v":"Sada spojovacích dílů příčné stabilizace HL top"},{"$f":"CenAVS!B45","v":"22Q080Z"},{"$f":"CenAVS!C45","v":"EV"},{"$f":"CenAVS!D45","v":0},0,{"$f":"CenAVS!F45","v":307.76},{"$f":"M45","v":0},null,{"$f":"CenAVS!I45","v":2272763},{"$f":"CenAVS!J45","v":"D906629"},0,0,null,null,null,null,null,null,null,null,null,null,null,null,null,null,{"$f":"HLw!$AB20","v":0},{"$f":"HLwa!$AB20","v":0},{"$f":"HLna!AB20","v":0},{"$f":"HLt!AB20","v":0}]
[null,{"$f":"CenAVS!A46","v":0},{"$f":"CenAVS!B46","v":0},{"$f":"CenAVS!C46","v":0},{"$f":"CenAVS!D46","v":0},{"$f":"IF(I46>0,I46,SUM(O46:BA46))","v":0},{"$f":"CenAVS!F46","v":0},{"$f":"M46","v":0},null,{"$f":"CenAVS!I46","v":0},{"$f":"CenAVS!J46","v":0},{"$f":"IF(I46=\"x\",0,IF(I46>0,I46,F46))","v":0},{"$f":"PRODUCT(L46,G46)","v":0}]
[null,{"$f":"CenAVS!A47","v":"Sada krytek HF, HS, HL top, světle šedá"},{"$f":"CenAVS!B47","v":"22.8000"},{"$f":"CenAVS!C47","v":"HGR"},{"$f":"CenAVS!D47","v":0},0,{"$f":"CenAVS!F47","v":252.85},0,null,{"$f":"CenAVS!I47","v":1783069},{"$f":"CenAVS!J47","v":"D906630"},0,0,null,{"$f":"HFw!$AB16","v":0},{"$f":"HFwa!$AB16","v":0},{"$f":"HFw_wa!$AB16","v":0},{"$f":"HFwa_w!$AB16","v":0},{"$f":"HFna!$AB16","v":0},{"$f":"HFw_na!$AB16","v":0},{"$f":"HFna_w!$AB16","v":0},null,{"$f":"HSw!$AB20","v":0},{"$f":"HSwa!$AB20","v":0},{"$f":"HSna!$AB20","v":0},{"$f":"HSt!$AB20","v":0},null,{"$f":"HLw!$AB22","v":0},{"$f":"HLwa!$AB22","v":0},{"$f":"HLna!$AB22","v":0},{"$f":"HLt!$AB22","v":0}]
[null,{"$f":"CenAVS!A48","v":"Sada krytek HF, HS, HL top, tmavě šedá"},{"$f":"CenAVS!B48","v":"22.8000"},{"$f":"CenAVS!C48","v":"TGR"},{"$f":"CenAVS!D48","v":0},0,{"$f":"CenAVS!F48","v":275.94},0,null,{"$f":"CenAVS!I48","v":9355276},{"$f":"CenAVS!J48","v":"D906632"},0,0,null,{"$f":"HFw!$AB17","v":0},{"$f":"HFwa!$AB17","v":0},{"$f":"HFw_wa!$AB17","v":0},{"$f":"HFwa_w!$AB17","v":0},{"$f":"HFna!$AB17","v":0},{"$f":"HFw_na!$AB17","v":0},{"$f":"HFna_w!$AB17","v":0},null,{"$f":"HSw!$AB21","v":0},{"$f":"HSwa!$AB21","v":0},{"$f":"HSna!$AB21","v":0},{"$f":"HSt!$AB21","v":0},null,{"$f":"HLw!$AB23","v":0},{"$f":"HLwa!$AB23","v":0},{"$f":"HLna!$AB23","v":0},{"$f":"HLt!$AB23","v":0}]
[null,{"$f":"CenAVS!A49","v":"Sada krytek HF, HS, HL top, hedvábně bílá"},{"$f":"CenAVS!B49","v":"22.8000"},{"$f":"CenAVS!C49","v":"SW"},{"$f":"CenAVS!D49","v":0},0,{"$f":"CenAVS!F49","v":275.94},0,null,{"$f":"CenAVS!I49","v":3337819},{"$f":"CenAVS!J49","v":"D906631"},0,0,null,{"$f":"HFw!$AB18","v":0},{"$f":"HFwa!$AB18","v":0},{"$f":"HFw_wa!$AB18","v":0},{"$f":"HFwa_w!$AB18","v":0},{"$f":"HFna!$AB18","v":0},{"$f":"HFw_na!$AB18","v":0},{"$f":"HFna_w!$AB18","v":0},null,{"$f":"HSw!$AB22","v":0},{"$f":"HSwa!$AB22","v":0},{"$f":"HSna!$AB22","v":0},{"$f":"HSt!$AB22","v":0},null,{"$f":"HLw!$AB24","v":0},{"$f":"HLwa!$AB24","v":0},{"$f":"HLna!$AB24","v":0},{"$f":"HLt!$AB24","v":0}]
[null,{"$f":"CenAVS!A50","v":"Sada krytek pro SERVO-DRIVE, světle šedá"},{"$f":"CenAVS!B50","v":"23.8000"},{"$f":"CenAVS!C50","v":"HGR"},{"$f":"CenAVS!D50","v":0},0,{"$f":"CenAVS!F50","v":2606.7600000000002},0,null,{"$f":"CenAVS!I50","v":8097114},{"$f":"CenAVS!J50","v":"D906634"},0,0,null,{"$f":"HFw!$AB19","v":0},{"$f":"HFwa!$AB19","v":0},{"$f":"HFw_wa!$AB19","v":0},{"$f":"HFwa_w!$AB19","v":0},{"$f":"HFna!$AB19","v":0},{"$f":"HFw_na!$AB19","v":0},{"$f":"HFna_w!$AB19","v":0},null,{"$f":"HSw!$AB23","v":0},{"$f":"HSwa!$AB23","v":0},{"$f":"HSna!$AB23","v":0},{"$f":"HSt!$AB23","v":0},null,{"$f":"HLw!$AB25","v":0},{"$f":"HLwa!$AB25","v":0},{"$f":"HLna!$AB25","v":0},{"$f":"HLt!$AB25","v":0}]
[null,{"$f":"CenAVS!A51","v":"Sada krytek pro SERVO-DRIVE, tmavě šedá"},{"$f":"CenAVS!B51","v":"23.8000"},{"$f":"CenAVS!C51","v":"TGR"},{"$f":"CenAVS!D51","v":0},0,{"$f":"CenAVS!F51","v":2709.29},0,null,{"$f":"CenAVS!I51","v":1947248},{"$f":"CenAVS!J51","v":"D906636"},0,0,null,{"$f":"HFw!$AB20","v":0},{"$f":"HFwa!$AB20","v":0},{"$f":"HFw_wa!$AB20","v":0},{"$f":"HFwa_w!$AB20","v":0},{"$f":"HFna!$AB20","v":0},{"$f":"HFw_na!$AB20","v":0},{"$f":"HFna_w!$AB20","v":0},null,{"$f":"HSw!$AB24","v":0},{"$f":"HSwa!$AB24","v":0},{"$f":"HSna!$AB24","v":0},{"$f":"HSt!$AB24","v":0},null,{"$f":"HLw!$AB26","v":0},{"$f":"HLwa!$AB26","v":0},{"$f":"HLna!$AB26","v":0},{"$f":"HLt!$AB26","v":0}]
[null,{"$f":"CenAVS!A52","v":"Sada krytek pro SERVO-DRIVE,hedvábně bílá"},{"$f":"CenAVS!B52","v":"23.8000"},{"$f":"CenAVS!C52","v":"SW"},{"$f":"CenAVS!D52","v":0},0,{"$f":"CenAVS!F52","v":2709.29},0,null,{"$f":"CenAVS!I52","v":5427233},{"$f":"CenAVS!J52","v":"D906635"},0,0,null,{"$f":"HFw!$AB21","v":0},{"$f":"HFwa!$AB21","v":0},{"$f":"HFw_wa!$AB21","v":0},{"$f":"HFwa_w!$AB21","v":0},{"$f":"HFna!$AB21","v":0},{"$f":"HFw_na!$AB21","v":0},{"$f":"HFna_w!$AB21","v":0},null,{"$f":"HSw!$AB25","v":0},{"$f":"HSwa!$AB25","v":0},{"$f":"HSna!$AB25","v":0},{"$f":"HSt!$AB25","v":0},null,{"$f":"HLw!$AB27","v":0},{"$f":"HLwa!$AB27","v":0},{"$f":"HLna!$AB27","v":0},{"$f":"HLt!$AB27","v":0}]
[null,{"$f":"CenAVS!A53","v":0},{"$f":"CenAVS!B53","v":0},{"$f":"CenAVS!C53","v":0},{"$f":"CenAVS!D53","v":0},0,{"$f":"CenAVS!F53","v":0},0,null,{"$f":"CenAVS!I53","v":0},{"$f":"CenAVS!J53","v":0},0,0]
[null,{"$f":"CenAVS!A54","v":"Sada zdvihačů HK top, na vruty"},{"$f":"CenAVS!B54","v":"22K2300"},{"$f":"CenAVS!C54","v":"ZN"},{"$f":"CenAVS!D54","v":0},0,{"$f":"CenAVS!F54","v":1468.44},0,null,{"$f":"CenAVS!I54","v":7628604},{"$f":"CenAVS!J54","v":"D768244"},0,0,null,null,null,null,null,null,null,null,null,null,null,null,null,null,null,null,null,null,null,{"$f":"HKw!AB9","v":0},{"$f":"HKwa!AB9","v":0},{"$f":"HKna!AB9","v":0},{"$f":"HKt!AB9","v":0}]
[null,{"$f":"CenAVS!A55","v":"Sada zdvihačů HK top, na vruty"},{"$f":"CenAVS!B55","v":"22K2500"},{"$f":"CenAVS!C55","v":"ZN"},{"$f":"CenAVS!D55","v":0},0,{"$f":"CenAVS!F55","v":1468.44},0,null,{"$f":"CenAVS!I55","v":1069731},{"$f":"CenAVS!J55","v":"D768245"},0,0,null,null,null,null,null,null,null,null,null,null,null,null,null,null,null,null,null,null,null,{"$f":"HKw!AB10","v":0},{"$f":"HKwa!AB10","v":0},{"$f":"HKna!AB10","v":0},{"$f":"HKt!AB10","v":0}]
[null,{"$f":"CenAVS!A56","v":"Sada zdvihačů HK top, na vruty"},{"$f":"CenAVS!B56","v":"22K2700"},{"$f":"CenAVS!C56","v":"ZN"},{"$f":"CenAVS!D56","v":0},0,{"$f":"CenAVS!F56","v":1475.61},0,null,{"$f":"CenAVS!I56","v":8762537},{"$f":"CenAVS!J56","v":"D768246"},0,0,null,null,null,null,null,null,null,null,null,null,null,null,null,null,null,null,null,null,null,{"$f":"HKw!AB11","v":0},{"$f":"HKwa!AB11","v":0},{"$f":"HKna!AB11","v":0},{"$f":"HKt!AB11","v":0}]
[null,{"$f":"CenAVS!A57","v":"Sada zdvihačů HK top, na vruty"},{"$f":"CenAVS!B57","v":"22K2900"},{"$f":"CenAVS!C57","v":"ZN"},{"$f":"CenAVS!D57","v":0},0,{"$f":"CenAVS!F57","v":1726.54},0,null,{"$f":"CenAVS!I57","v":6635469},{"$f":"CenAVS!J57","v":"D768247"},0,0,null,null,null,null,null,null,null,null,null,null,null,null,null,null,null,null,null,null,null,{"$f":"HKw!AB12","v":0},{"$f":"HKwa!AB12","v":0},{"$f":"HKna!AB12","v":0},{"$f":"HKt!AB12","v":0}]
[null,{"$f":"CenAVS!A58","v":"Sada zdvihačů HK top, předmont. eurošrouby"},{"$f":"CenAVS!B58","v":"22K2310"},{"$f":"CenAVS!C58","v":"ZN"},{"$f":"CenAVS!D58","v":0},0,{"$f":"CenAVS!F58","v":1468.44},0,null,{"$f":"CenAVS!I58","v":8508486},{"$f":"CenAVS!J58","v":"D768252"},0,0,null,null,null,null,null,null,null,null,null,null,null,null,null,null,null,null,null,null,null,{"$f":"HKw!AB13","v":0},{"$f":"HKwa!AB13","v":0},{"$f":"HKna!AB13","v":0},{"$f":"HKt!AB13","v":0}]
[null,{"$f":"CenAVS!A59","v":"Sada zdvihačů HK top, předmont. eurošrouby"},{"$f":"CenAVS!B59","v":"22K2510"},{"$f":"CenAVS!C59","v":"ZN"},{"$f":"CenAVS!D59","v":0},0,{"$f":"CenAVS!F59","v":1468.44},0,null,{"$f":"CenAVS!I59","v":7690323},{"$f":"CenAVS!J59","v":"D768253"},0,0,null,null,null,null,null,null,null,null,null,null,null,null,null,null,null,null,null,null,null,{"$f":"HKw!AB14","v":0},{"$f":"HKwa!AB14","v":0},{"$f":"HKna!AB14","v":0},{"$f":"HKt!AB14","v":0}]
[null,{"$f":"CenAVS!A60","v":"Sada zdvihačů HK top, předmont. eurošrouby"},{"$f":"CenAVS!B60","v":"22K2710"},{"$f":"CenAVS!C60","v":"ZN"},{"$f":"CenAVS!D60","v":0},0,{"$f":"CenAVS!F60","v":1475.61},0,null,{"$f":"CenAVS!I60","v":1388111},{"$f":"CenAVS!J60","v":"D768254"},0,0,null,null,null,null,null,null,null,null,null,null,null,null,null,null,null,null,null,null,null,{"$f":"HKw!AB15","v":0},{"$f":"HKwa!AB15","v":0},{"$f":"HKna!AB15","v":0},{"$f":"HKt!AB15","v":0}]
[null,{"$f":"CenAVS!A61","v":"Sada zdvihačů HK top, předmont. eurošrouby"},{"$f":"CenAVS!B61","v":"22K2910"},{"$f":"CenAVS!C61","v":"ZN"},{"$f":"CenAVS!D61","v":0},0,{"$f":"CenAVS!F61","v":1726.54},0,null,{"$f":"CenAVS!I61","v":5482270},{"$f":"CenAVS!J61","v":"D768255"},0,0,null,null,null,null,null,null,null,null,null,null,null,null,null,null,null,null,null,null,null,{"$f":"HKw!AB16","v":0},{"$f":"HKwa!AB16","v":0},{"$f":"HKna!AB16","v":0},{"$f":"HKt!AB16","v":0}]
[null,{"$f":"CenAVS!A62","v":"Sada krytek HK top, světle šedá"},{"$f":"CenAVS!B62","v":"22K8000"},{"$f":"CenAVS!C62","v":"HG "},{"$f":"CenAVS!D62","v":0},0,{"$f":"CenAVS!F62","v":211.38},0,null,{"$f":"CenAVS!I62","v":7985876},{"$f":"CenAVS!J62","v":"D768260"},0,0,null,null,null,null,null,null,null,null,null,null,null,null,null,null,null,null,null,null,null,{"$f":"HKw!AB17","v":0},{"$f":"HKwa!AB17","v":0},{"$f":"HKna!AB17","v":0},{"$f":"HKt!AB17","v":0}]
[null,{"$f":"CenAVS!A63","v":"Sada krytek HK top, tmavě šedá"},{"$f":"CenAVS!B63","v":"22K8000"},{"$f":"CenAVS!C63","v":"TGR"},{"$f":"CenAVS!D63","v":0},0,{"$f":"CenAVS!F63","v":231.45},0,null,{"$f":"CenAVS!I63","v":7926396},{"$f":"CenAVS!J63","v":"D768262"},0,0,null,null,null,null,null,null,null,null,null,null,null,null,null,null,null,null,null,null,null,{"$f":"HKw!AB18","v":0},{"$f":"HKwa!AB18","v":0},{"$f":"HKna!AB18","v":0},{"$f":"HKt!AB18","v":0}]
[null,{"$f":"CenAVS!A64","v":"Sada krytek HK top, bílá"},{"$f":"CenAVS!B64","v":"22K8000"},{"$f":"CenAVS!C64","v":"SW "},{"$f":"CenAVS!D64","v":0},0,{"$f":"CenAVS!F64","v":231.45},0,null,{"$f":"CenAVS!I64","v":4824637},{"$f":"CenAVS!J64","v":"D768261"},0,0,null,null,null,null,null,null,null,null,null,null,null,null,null,null,null,null,null,null,null,{"$f":"HKw!AB19","v":0},{"$f":"HKwa!AB19","v":0},{"$f":"HKna!AB19","v":0},{"$f":"HKt!AB19","v":0}]
[null,{"$f":"CenAVS!A65","v":"Sada krytek HK top, SERVO-DRIVE, sv.šedá"},{"$f":"CenAVS!B65","v":"23K8000"},{"$f":"CenAVS!C65","v":"HG "},{"$f":"CenAVS!D65","v":0},0,{"$f":"CenAVS!F65","v":2493.35},0,null,{"$f":"CenAVS!I65","v":2111215},{"$f":"CenAVS!J65","v":"D768264"},0,0,null,null,null,null,null,null,null,null,null,null,null,null,null,null,null,null,null,null,null,{"$f":"HKw!AB20","v":0},{"$f":"HKwa!AB20","v":0},{"$f":"HKna!AB20","v":0},{"$f":"HKt!AB20","v":0}]
[null,{"$f":"CenAVS!A66","v":"Sada krytek HK top, SERVO-DRIVE, tm.šedá"},{"$f":"CenAVS!B66","v":"23K8000"},{"$f":"CenAVS!C66","v":"TGR"},{"$f":"CenAVS!D66","v":0},0,{"$f":"CenAVS!F66","v":2595.3000000000002},0,null,{"$f":"CenAVS!I66","v":8732964},{"$f":"CenAVS!J66","v":"D768266"},0,0,null,null,null,null,null,null,null,null,null,null,null,null,null,null,null,null,null,null,null,{"$f":"HKw!AB21","v":0},{"$f":"HKwa!AB21","v":0},{"$f":"HKna!AB21","v":0},{"$f":"HKt!AB21","v":0}]
[null,{"$f":"CenAVS!A67","v":"Sada krytek HK top, SERVO-DRIVE, bílá"},{"$f":"CenAVS!B67","v":"23K8000"},{"$f":"CenAVS!C67","v":"SW "},{"$f":"CenAVS!D67","v":0},0,{"$f":"CenAVS!F67","v":2595.3000000000002},0,null,{"$f":"CenAVS!I67","v":1065531},{"$f":"CenAVS!J67","v":"D768265"},0,0,null,null,null,null,null,null,null,null,null,null,null,null,null,null,null,null,null,null,null,{"$f":"HKw!AB22","v":0},{"$f":"HKwa!AB22","v":0},{"$f":"HKna!AB22","v":0},{"$f":"HKt!AB22","v":0}]
[null,{"$f":"CenAVS!A68","v":0},{"$f":"CenAVS!B68","v":0},{"$f":"CenAVS!C68","v":0},{"$f":"CenAVS!D68","v":0},0,{"$f":"CenAVS!F68","v":0},0,null,{"$f":"CenAVS!I68","v":0},{"$f":"CenAVS!J68","v":0},{"$f":"IF(I68=\"x\",0,IF(I68>0,I68,F68))","v":0},{"$f":"PRODUCT(L68,G68)","v":0}]
[null,{"$f":"CenAVS!A69","v":"Sada zdvihačů HK top, TIP-ON, na vruty"},{"$f":"CenAVS!B69","v":"22K2300T"},{"$f":"CenAVS!C69","v":"ZN"},{"$f":"CenAVS!D69","v":0},0,{"$f":"CenAVS!F69","v":1575.99},0,null,{"$f":"CenAVS!I69","v":4205572},{"$f":"CenAVS!J69","v":"D768248"},0,0,null,null,null,null,null,null,null,null,null,null,null,null,null,null,null,null,null,null,null,{"$f":"HKw!AB24","v":0},{"$f":"HKwa!AB24","v":0},{"$f":"HKna!AB24","v":0},{"$f":"HKt!AB24","v":0}]
[null,{"$f":"CenAVS!A70","v":"Sada zdvihačů HK top, TIP-ON, na vruty"},{"$f":"CenAVS!B70","v":"22K2500T"},{"$f":"CenAVS!C70","v":"ZN"},{"$f":"CenAVS!D70","v":0},0,{"$f":"CenAVS!F70","v":1575.99},0,null,{"$f":"CenAVS!I70","v":2753075},{"$f":"CenAVS!J70","v":"D768249"},0,0,null,null,null,null,null,null,null,null,null,null,null,null,null,null,null,null,null,null,null,{"$f":"HKw!AB25","v":0},{"$f":"HKwa!AB25","v":0},{"$f":"HKna!AB25","v":0},{"$f":"HKt!AB25","v":0}]
[null,{"$f":"CenAVS!A71","v":"Sada zdvihačů HK top, TIP-ON, na vruty"},{"$f":"CenAVS!B71","v":"22K2700T"},{"$f":"CenAVS!C71","v":"ZN"},{"$f":"CenAVS!D71","v":0},0,{"$f":"CenAVS!F71","v":1676.35},0,null,{"$f":"CenAVS!I71","v":2855682},{"$f":"CenAVS!J71","v":"D768250"},0,0,null,null,null,null,null,null,null,null,null,null,null,null,null,null,null,null,null,null,null,{"$f":"HKw!AB26","v":0},{"$f":"HKwa!AB26","v":0},{"$f":"HKna!AB26","v":0},{"$f":"HKt!AB26","v":0}]
[null,{"$f":"CenAVS!A72","v":"Sada zdvihačů HK top, TIP-ON, na vruty"},{"$f":"CenAVS!B72","v":"22K2900T"},{"$f":"CenAVS!C72","v":"ZN"},{"$f":"CenAVS!D72","v":0},0,{"$f":"CenAVS!F72","v":1927.28},0,null,{"$f":"CenAVS!I72","v":8220095},{"$f":"CenAVS!J72","v":"D768251"},0,0,null,null,null,null,null,null,null,null,null,null,null,null,null,null,null,null,null,null,null,{"$f":"HKw!AB27","v":0},{"$f":"HKwa!AB27","v":0},{"$f":"HKna!AB27","v":0},{"$f":"HKt!AB27","v":0}]
[null,{"$f":"CenAVS!A73","v":"Sada zdvihačů HK top, TIP-ON, předmont. eurošrouby"},{"$f":"CenAVS!B73","v":"22K2310T"},{"$f":"CenAVS!C73","v":"ZN"},{"$f":"CenAVS!D73","v":0},0,{"$f":"CenAVS!F73","v":1575.99},0,null,{"$f":"CenAVS!I73","v":9708169},{"$f":"CenAVS!J73","v":"D768256"},0,0,null,null,null,null,null,null,null,null,null,null,null,null,null,null,null,null,null,null,null,{"$f":"HKw!AB28","v":0},{"$f":"HKwa!AB28","v":0},{"$f":"HKna!AB28","v":0},{"$f":"HKt!AB28","v":0}]
[null,{"$f":"CenAVS!A74","v":"Sada zdvihačů HK top, TIP-ON, předmont. eurošrouby"},{"$f":"CenAVS!B74","v":"22K2510T"},{"$f":"CenAVS!C74","v":"ZN"},{"$f":"CenAVS!D74","v":0},0,{"$f":"CenAVS!F74","v":1575.99},0,null,{"$f":"CenAVS!I74","v":2414504},{"$f":"CenAVS!J74","v":"D768257"},0,0,null,null,null,null,null,null,null,null,null,null,null,null,null,null,null,null,null,null,null,{"$f":"HKw!AB29","v":0},{"$f":"HKwa!AB29","v":0},{"$f":"HKna!AB29","v":0},{"$f":"HKt!AB29","v":0}]
[null,{"$f":"CenAVS!A75","v":"Sada zdvihačů HK top, TIP-ON, předmont. eurošrouby"},{"$f":"CenAVS!B75","v":"22K2710T"},{"$f":"CenAVS!C75","v":"ZN"},{"$f":"CenAVS!D75","v":0},0,{"$f":"CenAVS!F75","v":1676.35},0,null,{"$f":"CenAVS!I75","v":1422889},{"$f":"CenAVS!J75","v":"D768258"},0,0,null,null,null,null,null,null,null,null,null,null,null,null,null,null,null,null,null,null,null,{"$f":"HKw!AB30","v":0},{"$f":"HKwa!AB30","v":0},{"$f":"HKna!AB30","v":0},{"$f":"HKt!AB30","v":0}]
[null,{"$f":"CenAVS!A76","v":"Sada zdvihačů HK top, TIP-ON, předmont. eurošrouby"},{"$f":"CenAVS!B76","v":"22K2910T"},{"$f":"CenAVS!C76","v":"ZN"},{"$f":"CenAVS!D76","v":0},0,{"$f":"CenAVS!F76","v":1927.28},0,null,{"$f":"CenAVS!I76","v":7716804},{"$f":"CenAVS!J76","v":"D768259"},0,0,null,null,null,null,null,null,null,null,null,null,null,null,null,null,null,null,null,null,null,{"$f":"HKw!AB31","v":0},{"$f":"HKwa!AB31","v":0},{"$f":"HKna!AB31","v":0},{"$f":"HKt!AB31","v":0}]
[null,{"$f":"CenAVS!A77","v":0},{"$f":"CenAVS!B77","v":0},{"$f":"CenAVS!C77","v":0},{"$f":"CenAVS!D77","v":0},0,{"$f":"CenAVS!F77","v":0},0,null,{"$f":"CenAVS!I77","v":0},{"$f":"CenAVS!J77","v":0},0,0]
[null,{"$f":"CenAVS!A78","v":"Sada čel.kování pro dřev. čela"},{"$f":"CenAVS!B78","v":"20S4200"},{"$f":"CenAVS!C78","v":"NI"},{"$f":"CenAVS!D78","v":0},0,{"$f":"CenAVS!F78","v":90.38},0,null,{"$f":"CenAVS!I78","v":7241746},{"$f":"CenAVS!J78","v":"D148378"},0,0,null,null,null,null,null,null,null,null,null,{"$f":"HSw!AB29","v":0},{"$f":"HSwa!AB29","v":0},null,null,null,{"$f":"HLw!$AB32","v":0},{"$f":"HLwa!$AB32","v":0},null,null,null,{"$f":"HKw!$AB33","v":0},{"$f":"HKwa!$AB33","v":0}]
[null,{"$f":"CenAVS!A79","v":"Čelní.kování pro dřev. čela EXPANDO"},{"$f":"CenAVS!B79","v":"20S42E1"},{"$f":"CenAVS!C79","v":"NI"},{"$f":"CenAVS!D79","v":0},0,{"$f":"CenAVS!F79","v":51.36},0,null,{"$f":"CenAVS!I79","v":8860933},{"$f":"CenAVS!J79","v":"D354151"},0,0,null,null,null,null,null,null,null,null,null,{"$f":"HSw!AB30","v":0},null,null,null,null,{"$f":"HLw!$AB33","v":0},null,null,null,null,{"$f":"HKw!$AB34","v":0}]
[null,{"$f":"CenAVS!A80","v":"Sada čel.kování pro tenké materiály"},{"$f":"CenAVS!B80","v":"20S42T1"},{"$f":"CenAVS!C80","v":"NI"},{"$f":"CenAVS!D80","v":0},0,{"$f":"CenAVS!F80","v":291.60000000000002},0,null,{"$f":"CenAVS!I80","v":3613770},{"$f":"CenAVS!J80","v":"D714690"},0,0,null,null,null,null,null,null,null,null,null,null,null,null,{"$f":"HSt!AB31","v":0},null,null,null,null,{"$f":"HLt!AB34","v":0},null,null,null,null,{"$f":"HKt!$AB35","v":0}]
[null,{"$f":"CenAVS!A81","v":"Sada čel.kování pro úzké alurámečky"},{"$f":"CenAVS!B81","v":"20S4200A"},{"$f":"CenAVS!C81","v":"NI"},{"$f":"CenAVS!D81","v":0},0,{"$f":"CenAVS!F81","v":395.5},0,null,{"$f":"CenAVS!I81","v":7484703},{"$f":"CenAVS!J81","v":"D158400"},0,0,null,null,null,null,null,null,null,null,null,null,null,{"$f":"HSna!AB32","v":0},null,null,null,null,{"$f":"HLna!AB35","v":0},null,null,null,null,{"$f":"HKna!$AB36","v":0}]
[null,{"$f":"CenAVS!A82","v":0},{"$f":"CenAVS!B82","v":0},{"$f":"CenAVS!C82","v":0},{"$f":"CenAVS!D82","v":0},0,{"$f":"CenAVS!F82","v":0},0,null,{"$f":"CenAVS!I82","v":0},{"$f":"CenAVS!J82","v":0},0,0]
[null,{"$f":"CenAVS!A83","v":"Sada zdvihačů HK-S, světle šedé krytky"},{"$f":"CenAVS!B83","v":"20K2B00.06"},{"$f":"CenAVS!C83","v":"HGIG"},{"$f":"CenAVS!D83","v":0},{"$f":"IF(I83>0,I83,SUM(O83:BA83))","v":0},{"$f":"CenAVS!F83","v":778.98},0,null,{"$f":"CenAVS!I83","v":7793681},{"$f":"CenAVS!J83","v":"D768268"},0,0,null,null,null,null,null,null,null,null,null,null,null,null,null,null,null,null,null,null,null,null,null,null,null,null,{"$f":"HKSw!AB9","v":0},{"$f":"HKSwa!AB9","v":0},{"$f":"HKSna!AB9","v":0},{"$f":"HKSt!AB9","v":0}]
[null,{"$f":"CenAVS!A84","v":"Sada zdvihačů HK-S, tmavě šedé krytky"},{"$f":"CenAVS!B84","v":"20K2B00.06"},{"$f":"CenAVS!C84","v":"TGIG"},{"$f":"CenAVS!D84","v":0},0,{"$f":"CenAVS!F84","v":801.95},0,null,{"$f":"CenAVS!I84","v":1314203},{"$f":"CenAVS!J84","v":"D768270"},0,0,null,null,null,null,null,null,null,null,null,null,null,null,null,null,null,null,null,null,null,null,null,null,null,null,{"$f":"HKSw!AB10","v":0},{"$f":"HKSwa!AB10","v":0},{"$f":"HKSna!AB10","v":0},{"$f":"HKSt!AB10","v":0}]
[null,{"$f":"CenAVS!A85","v":"Sada zdvihačů HK-S, bílé krytky"},{"$f":"CenAVS!B85","v":"20K2B00.06"},{"$f":"CenAVS!C85","v":"SWIG"},{"$f":"CenAVS!D85","v":0},0,{"$f":"CenAVS!F85","v":801.95},0,null,{"$f":"CenAVS!I85","v":8195173},{"$f":"CenAVS!J85","v":"D768269"},0,0,null,null,null,null,null,null,null,null,null,null,null,null,null,null,null,null,null,null,null,null,null,null,null,null,{"$f":"HKSw!AB11","v":0},{"$f":"HKSwa!AB11","v":0},{"$f":"HKSna!AB11","v":0},{"$f":"HKSt!AB11","v":0}]
[null,{"$f":"CenAVS!A86","v":"Sada zdvihačů HK-S, světle šedé krytky"},{"$f":"CenAVS!B86","v":"20K2C00.06"},{"$f":"CenAVS!C86","v":"HGIG"},{"$f":"CenAVS!D86","v":0},0,{"$f":"CenAVS!F86","v":855.57},0,null,{"$f":"CenAVS!I86","v":3472109},{"$f":"CenAVS!J86","v":"D768271"},0,0,null,null,null,null,null,null,null,null,null,null,null,null,null,null,null,null,null,null,null,null,null,null,null,null,{"$f":"HKSw!AB12","v":0},{"$f":"HKSwa!AB12","v":0},{"$f":"HKSna!AB12","v":0},{"$f":"HKSt!AB12","v":0}]
[null,{"$f":"CenAVS!A87","v":"Sada zdvihačů HK-S, tmavě šedé krytky"},{"$f":"CenAVS!B87","v":"20K2C00.06"},{"$f":"CenAVS!C87","v":"TGIG"},{"$f":"CenAVS!D87","v":0},0,{"$f":"CenAVS!F87","v":878.54},0,null,{"$f":"CenAVS!I87","v":1834965},{"$f":"CenAVS!J87","v":"D768273"},0,0,null,null,null,null,null,null,null,null,null,null,null,null,null,null,null,null,null,null,null,null,null,null,null,null,{"$f":"HKSw!AB13","v":0},{"$f":"HKSwa!AB13","v":0},{"$f":"HKSna!AB13","v":0},{"$f":"HKSt!AB13","v":0}]
[null,{"$f":"CenAVS!A88","v":"Sada zdvihačů HK-S, bílé krytky"},{"$f":"CenAVS!B88","v":"20K2C00.06"},{"$f":"CenAVS!C88","v":"SWIG"},{"$f":"CenAVS!D88","v":0},0,{"$f":"CenAVS!F88","v":878.54},0,null,{"$f":"CenAVS!I88","v":6816509},{"$f":"CenAVS!J88","v":"D768272"},0,0,null,null,null,null,null,null,null,null,null,null,null,null,null,null,null,null,null,null,null,null,null,null,null,null,{"$f":"HKSw!AB14","v":0},{"$f":"HKSwa!AB14","v":0},{"$f":"HKSna!AB14","v":0},{"$f":"HKSt!AB14","v":0}]
[null,{"$f":"CenAVS!A89","v":"Sada zdvihačů HK-S, světle šedé krytky"},{"$f":"CenAVS!B89","v":"20K2E00.06"},{"$f":"CenAVS!C89","v":"HGIG"},{"$f":"CenAVS!D89","v":0},0,{"$f":"CenAVS!F89","v":855.57},0,null,{"$f":"CenAVS!I89","v":9851106},{"$f":"CenAVS!J89","v":"D768274"},0,0,null,null,null,null,null,null,null,null,null,null,null,null,null,null,null,null,null,null,null,null,null,null,null,null,{"$f":"HKSw!AB15","v":0},{"$f":"HKSwa!AB15","v":0},{"$f":"HKSna!AB15","v":0},{"$f":"HKSt!AB15","v":0}]
[null,{"$f":"CenAVS!A90","v":"Sada zdvihačů HK-S, tmavě šedé krytky"},{"$f":"CenAVS!B90","v":"20K2E00.06"},{"$f":"CenAVS!C90","v":"TGIG"},{"$f":"CenAVS!D90","v":0},0,{"$f":"CenAVS!F90","v":878.54},0,null,{"$f":"CenAVS!I90","v":9248128},{"$f":"CenAVS!J90","v":"D768276"},0,0,null,null,null,null,null,null,null,null,null,null,null,null,null,null,null,null,null,null,null,null,null,null,null,null,{"$f":"HKSw!AB16","v":0},{"$f":"HKSwa!AB16","v":0},{"$f":"HKSna!AB16","v":0},{"$f":"HKSt!AB16","v":0}]
[null,{"$f":"CenAVS!A91","v":"Sada zdvihačů HK-S, bílé krytky"},{"$f":"CenAVS!B91","v":"20K2E00.06"},{"$f":"CenAVS!C91","v":"SWIG"},{"$f":"CenAVS!D91","v":0},0,{"$f":"CenAVS!F91","v":878.54},0,null,{"$f":"CenAVS!I91","v":3420861},{"$f":"CenAVS!J91","v":"D768275"},0,0,null,null,null,null,null,null,null,null,null,null,null,null,null,null,null,null,null,null,null,null,null,null,null,null,{"$f":"HKSw!AB17","v":0},{"$f":"HKSwa!AB17","v":0},{"$f":"HKSna!AB17","v":0},{"$f":"HKSt!AB17","v":0}]
[null,{"$f":"CenAVS!A92","v":0},{"$f":"CenAVS!B92","v":0},{"$f":"CenAVS!C92","v":0},{"$f":"CenAVS!D92","v":0},0,{"$f":"CenAVS!F92","v":0},0,null,{"$f":"CenAVS!I92","v":0},{"$f":"CenAVS!J92","v":0},0,0]
[null,{"$f":"CenAVS!A93","v":"Sada zdvihačů HK-S TIP-ON, světle šedé krytky"},{"$f":"CenAVS!B93","v":"20K2B00T06"},{"$f":"CenAVS!C93","v":"HGIG"},{"$f":"CenAVS!D93","v":0},0,{"$f":"CenAVS!F93","v":785.52},0,null,{"$f":"CenAVS!I93","v":2133123},{"$f":"CenAVS!J93","v":"D768277"},0,0,null,null,null,null,null,null,null,null,null,null,null,null,null,null,null,null,null,null,null,null,null,null,null,null,{"$f":"HKSw!AB19","v":0},{"$f":"HKSwa!AB19","v":0},{"$f":"HKSna!AB19","v":0},{"$f":"HKSt!AB19","v":0}]
[null,{"$f":"CenAVS!A94","v":"Sada zdvihačů HK-S TIP-ON, tmavě šedé krytky"},{"$f":"CenAVS!B94","v":"20K2B00T06"},{"$f":"CenAVS!C94","v":"TGIG"},{"$f":"CenAVS!D94","v":0},0,{"$f":"CenAVS!F94","v":808.5},0,null,{"$f":"CenAVS!I94","v":9870309},{"$f":"CenAVS!J94","v":"D768279"},0,0,null,null,null,null,null,null,null,null,null,null,null,null,null,null,null,null,null,null,null,null,null,null,null,null,{"$f":"HKSw!AB20","v":0},{"$f":"HKSwa!AB20","v":0},{"$f":"HKSna!AB20","v":0},{"$f":"HKSt!AB20","v":0}]
[null,{"$f":"CenAVS!A95","v":"Sada zdvihačů HK-S TIP-ON, bílé krytky"},{"$f":"CenAVS!B95","v":"20K2B00T06"},{"$f":"CenAVS!C95","v":"SWIG"},{"$f":"CenAVS!D95","v":0},0,{"$f":"CenAVS!F95","v":808.5},0,null,{"$f":"CenAVS!I95","v":1449278},{"$f":"CenAVS!J95","v":"D768278"},0,0,null,null,null,null,null,null,null,null,null,null,null,null,null,null,null,null,null,null,null,null,null,null,null,null,{"$f":"HKSw!AB21","v":0},{"$f":"HKSwa!AB21","v":0},{"$f":"HKSna!AB21","v":0},{"$f":"HKSt!AB21","v":0}]
[null,{"$f":"CenAVS!A96","v":"Sada zdvihačů HK-S TIP-ON, světle šedé krytky"},{"$f":"CenAVS!B96","v":"20K2C00T06"},{"$f":"CenAVS!C96","v":"HGIG"},{"$f":"CenAVS!D96","v":0},0,{"$f":"CenAVS!F96","v":868.65},0,null,{"$f":"CenAVS!I96","v":6990853},{"$f":"CenAVS!J96","v":"D768280"},0,0,null,null,null,null,null,null,null,null,null,null,null,null,null,null,null,null,null,null,null,null,null,null,null,null,{"$f":"HKSw!AB22","v":0},{"$f":"HKSwa!AB22","v":0},{"$f":"HKSna!AB22","v":0},{"$f":"HKSt!AB22","v":0}]
[null,{"$f":"CenAVS!A97","v":"Sada zdvihačů HK-S TIP-ON, tmavě šedé krytky"},{"$f":"CenAVS!B97","v":"20K2C00T06"},{"$f":"CenAVS!C97","v":"TGIG"},{"$f":"CenAVS!D97","v":0},0,{"$f":"CenAVS!F97","v":891.62},0,null,{"$f":"CenAVS!I97","v":3405617},{"$f":"CenAVS!J97","v":"D768282"},0,0,null,null,null,null,null,null,null,null,null,null,null,null,null,null,null,null,null,null,null,null,null,null,null,null,{"$f":"HKSw!AB23","v":0},{"$f":"HKSwa!AB23","v":0},{"$f":"HKSna!AB23","v":0},{"$f":"HKSt!AB23","v":0}]
[null,{"$f":"CenAVS!A98","v":"Sada zdvihačů HK-S TIP-ON, bílé krytky"},{"$f":"CenAVS!B98","v":"20K2C00T06"},{"$f":"CenAVS!C98","v":"SWIG"},{"$f":"CenAVS!D98","v":0},0,{"$f":"CenAVS!F98","v":891.62},0,null,{"$f":"CenAVS!I98","v":7769517},{"$f":"CenAVS!J98","v":"D768281"},0,0,null,null,null,null,null,null,null,null,null,null,null,null,null,null,null,null,null,null,null,null,null,null,null,null,{"$f":"HKSw!AB24","v":0},{"$f":"HKSwa!AB24","v":0},{"$f":"HKSna!AB24","v":0},{"$f":"HKSt!AB24","v":0}]
[null,{"$f":"CenAVS!A99","v":"Sada zdvihačů HK-S TIP-ON, světle šedé krytky"},{"$f":"CenAVS!B99","v":"20K2E00T06"},{"$f":"CenAVS!C99","v":"HGIG"},{"$f":"CenAVS!D99","v":0},0,{"$f":"CenAVS!F99","v":868.65},0,null,{"$f":"CenAVS!I99","v":5494621},{"$f":"CenAVS!J99","v":"D768283"},0,0,null,null,null,null,null,null,null,null,null,null,null,null,null,null,null,null,null,null,null,null,null,null,null,null,{"$f":"HKSw!AB25","v":0},{"$f":"HKSwa!AB25","v":0},{"$f":"HKSna!AB25","v":0},{"$f":"HKSt!AB25","v":0}]
[null,{"$f":"CenAVS!A100","v":"Sada zdvihačů HK-S TIP-ON, tmavě šedé krytky"},{"$f":"CenAVS!B100","v":"20K2E00T06"},{"$f":"CenAVS!C100","v":"TGIG"},{"$f":"CenAVS!D100","v":0},0,{"$f":"CenAVS!F100","v":891.62},0,null,{"$f":"CenAVS!I100","v":9373568},{"$f":"CenAVS!J100","v":"D768285"},0,0,null,null,null,null,null,null,null,null,null,null,null,null,null,null,null,null,null,null,null,null,null,null,null,null,{"$f":"HKSw!AB26","v":0},{"$f":"HKSwa!AB26","v":0},{"$f":"HKSna!AB26","v":0},{"$f":"HKSt!AB26","v":0}]
[null,{"$f":"CenAVS!A101","v":"Sada zdvihačů HK-S TIP-ON, bílé krytky"},{"$f":"CenAVS!B101","v":"20K2E00T06"},{"$f":"CenAVS!C101","v":"SWIG"},{"$f":"CenAVS!D101","v":0},0,{"$f":"CenAVS!F101","v":891.62},0,null,{"$f":"CenAVS!I101","v":7935712},{"$f":"CenAVS!J101","v":"D768284"},0,0,null,null,null,null,null,null,null,null,null,null,null,null,null,null,null,null,null,null,null,null,null,null,null,null,{"$f":"HKSw!AB27","v":0},{"$f":"HKSwa!AB27","v":0},{"$f":"HKSna!AB27","v":0},{"$f":"HKSt!AB27","v":0}]
[null,{"$f":"CenAVS!A102","v":0},{"$f":"CenAVS!B102","v":0},{"$f":"CenAVS!C102","v":0},{"$f":"CenAVS!D102","v":0},0,{"$f":"CenAVS!F102","v":0},0,null,{"$f":"CenAVS!I102","v":0},{"$f":"CenAVS!J102","v":0},0,0]
[null,{"$f":"CenAVS!A103","v":"Sada čel.kování HK-S pro úzké alurámečky"},{"$f":"CenAVS!B103","v":"20K4A00A02"},{"$f":"CenAVS!C103","v":"NI"},{"$f":"CenAVS!D103","v":0},0,{"$f":"CenAVS!F103","v":198.15},0,null,{"$f":"CenAVS!I103","v":7542129},{"$f":"CenAVS!J103","v":"D525841"},0,0,null,null,null,null,null,null,null,null,null,null,null,null,null,null,null,null,null,null,null,null,null,null,null,null,null,null,{"$f":"HKSna!AB29","v":0}]
[null,{"$f":"CenAVS!A104","v":"Omezovač úhlu otevření HK-S na 75° "},{"$f":"CenAVS!B104","v":"20K7A11"},{"$f":"CenAVS!C104","v":"TGR"},{"$f":"CenAVS!D104","v":0},0,{"$f":"CenAVS!F104","v":16.09},0,null,{"$f":"CenAVS!I104","v":8671840},{"$f":"CenAVS!J104","v":"D309175"},0,0,null,null,null,null,null,null,null,null,null,null,null,null,null,null,null,null,null,null,null,null,null,null,null,null,null,null,null,null,null,null,null,null,null,null,null,null,null,null,{"$f":"AcsAVS!J15","v":0}]
[null,{"$f":"CenAVS!A105","v":"Omezovač úhlu otevření HK-S na 100° "},{"$f":"CenAVS!B105","v":"20K7A41"},{"$f":"CenAVS!C105","v":"TGR"},{"$f":"CenAVS!D105","v":0},0,{"$f":"CenAVS!F105","v":16.09},0,null,{"$f":"CenAVS!I105","v":8671910},{"$f":"CenAVS!J105","v":"D309174"},0,0,null,null,null,null,null,null,null,null,null,null,null,null,null,null,null,null,null,null,null,null,null,null,null,null,null,null,null,null,null,null,null,null,null,null,null,null,null,null,{"$f":"AcsAVS!J16","v":0}]
[null,{"$f":"CenAVS!A168","v":"CLIP top krytka ramínka, naložené závěsy"},{"$f":"CenAVS!B168","v":" 70.1503"},{"$f":"CenAVS!C168","v":"NI"},{"$f":"CenAVS!D168","v":0},0,{"$f":"CenAVS!F168","v":2.74},0,null,{"$f":"CenAVS!I168","v":3284903},{"$f":"CenAVS!J168","v":"D118400"},0,0]
[null,{"$f":"CenAVS!A106","v":0},{"$f":"CenAVS!B106","v":0},{"$f":"CenAVS!C106","v":0},{"$f":"CenAVS!D106","v":0},0,{"$f":"CenAVS!F106","v":0},0,null,{"$f":"CenAVS!I106","v":0},{"$f":"CenAVS!J106","v":0},0,0]
[null,{"$f":"CenAVS!A107","v":0},{"$f":"CenAVS!B107","v":0},{"$f":"CenAVS!C107","v":0},{"$f":"CenAVS!D107","v":0},0,{"$f":"CenAVS!F107","v":0},0,null,{"$f":"CenAVS!I107","v":0},{"$f":"CenAVS!J107","v":0},0,0]
[null,{"$f":"CenAVS!A108","v":"Symetrický zdvihací mechanizmus HK-XS"},{"$f":"CenAVS!B108","v":"20K1101"},{"$f":"CenAVS!C108","v":"NI"},{"$f":"CenAVS!D108","v":0},0,{"$f":"CenAVS!F108","v":294.25},0,null,{"$f":"CenAVS!I108","v":8572348},{"$f":"CenAVS!J108","v":"D532814"},0,0,null,null,null,null,null,null,null,null,null,null,null,null,null,null,null,null,null,null,null,null,null,null,null,null,null,null,null,null,null,{"$f":"HKXSw!$AD9","v":0},{"$f":"HKXSwa!AD9","v":0},{"$f":"HKXSna!AD9","v":0},{"$f":"HKXSt!AD9","v":0}]
[null,{"$f":"CenAVS!A109","v":"Symetrický zdvihací mechanizmus HK-XS"},{"$f":"CenAVS!B109","v":"20K1301"},{"$f":"CenAVS!C109","v":"NI"},{"$f":"CenAVS!D109","v":0},0,{"$f":"CenAVS!F109","v":294.25},0,null,{"$f":"CenAVS!I109","v":9330897},{"$f":"CenAVS!J109","v":"D532815"},0,0,null,null,null,null,null,null,null,null,null,null,null,null,null,null,null,null,null,null,null,null,null,null,null,null,null,null,null,null,null,{"$f":"HKXSw!$AD10","v":0},{"$f":"HKXSwa!AD10","v":0},{"$f":"HKXSna!AD10","v":0},{"$f":"HKXSt!AD10","v":0}]
[null,{"$f":"CenAVS!A110","v":"Symetrický zdvihací mechanizmus HK-XS"},{"$f":"CenAVS!B110","v":"20K1501"},{"$f":"CenAVS!C110","v":"NI"},{"$f":"CenAVS!D110","v":0},0,{"$f":"CenAVS!F110","v":294.25},0,null,{"$f":"CenAVS!I110","v":1615152},{"$f":"CenAVS!J110","v":"D532816"},0,0,null,null,null,null,null,null,null,null,null,null,null,null,null,null,null,null,null,null,null,null,null,null,null,null,null,null,null,null,null,{"$f":"HKXSw!$AD11","v":0},{"$f":"HKXSwa!AD11","v":0},{"$f":"HKXSna!AD11","v":0},{"$f":"HKXSt!AD11","v":0}]
[null,{"$f":"CenAVS!A111","v":0},{"$f":"CenAVS!B111","v":0},{"$f":"CenAVS!C111","v":0},{"$f":"CenAVS!D111","v":0},0,{"$f":"CenAVS!F111","v":0},0,null,{"$f":"CenAVS!I111","v":0},{"$f":"CenAVS!J111","v":0},0,0]
[null,{"$f":"CenAVS!A112","v":"Sym. zdvihací mechanizmus HK-XS, TIP-ON"},{"$f":"CenAVS!B112","v":"20K1101T"},{"$f":"CenAVS!C112","v":"NI"},{"$f":"CenAVS!D112","v":0},0,{"$f":"CenAVS!F112","v":316.58999999999997},0,null,{"$f":"CenAVS!I112","v":4857465},{"$f":"CenAVS!J112","v":"D532817"},0,0,null,null,null,null,null,null,null,null,null,null,null,null,null,null,null,null,null,null,null,null,null,null,null,null,null,null,null,null,null,{"$f":"HKXSw!$AD15","v":0},{"$f":"HKXSwa!AD15","v":0},{"$f":"HKXSna!AD15","v":0},{"$f":"HKXSt!AD15","v":0}]
[null,{"$f":"CenAVS!A113","v":"Sym. zdvihací mechanizmus HK-XS, TIP-ON"},{"$f":"CenAVS!B113","v":"20K1301T"},{"$f":"CenAVS!C113","v":"NI"},{"$f":"CenAVS!D113","v":0},0,{"$f":"CenAVS!F113","v":316.58999999999997},0,null,{"$f":"CenAVS!I113","v":9519259},{"$f":"CenAVS!J113","v":"D532818"},0,0,null,null,null,null,null,null,null,null,null,null,null,null,null,null,null,null,null,null,null,null,null,null,null,null,null,null,null,null,null,{"$f":"HKXSw!$AD16","v":0},{"$f":"HKXSwa!AD16","v":0},{"$f":"HKXSna!AD16","v":0},{"$f":"HKXSt!AD16","v":0}]
[null,{"$f":"CenAVS!A114","v":"Sym. zdvihací mechanizmus HK-XS, TIP-ON"},{"$f":"CenAVS!B114","v":"20K1501T"},{"$f":"CenAVS!C114","v":"NI"},{"$f":"CenAVS!D114","v":0},{"$f":"IF(I115>0,I115,SUM(O115:BA115))","v":0},{"$f":"CenAVS!F114","v":316.58999999999997},{"$f":"M115","v":0},null,{"$f":"CenAVS!I114","v":8041284},{"$f":"CenAVS!J114","v":"D532819"},0,0,null,null,null,null,null,null,null,null,null,null,null,null,null,null,null,null,null,null,null,null,null,null,null,null,null,null,null,null,null,{"$f":"HKXSw!$AD17","v":0},{"$f":"HKXSwa!AD17","v":0},{"$f":"HKXSna!AD17","v":0},{"$f":"HKXSt!AD17","v":0}]
[null,{"$f":"CenAVS!A115","v":0},{"$f":"CenAVS!B115","v":0},{"$f":"CenAVS!C115","v":0},{"$f":"CenAVS!D115","v":0},0,{"$f":"CenAVS!F115","v":0},0,null,{"$f":"CenAVS!I115","v":0},{"$f":"CenAVS!J115","v":0},0,0]
[null,{"$f":"CenAVS!A116","v":"Boční čep HK-XS na korpus"},{"$f":"CenAVS!B116","v":"20K5101"},{"$f":"CenAVS!C116","v":"NI"},{"$f":"CenAVS!D116","v":0},0,{"$f":"CenAVS!F116","v":18.63},0,null,{"$f":"CenAVS!I116","v":1409446},{"$f":"CenAVS!J116","v":"D532825"},0,0,null,null,null,null,null,null,null,null,null,null,null,null,null,null,null,null,null,null,null,null,null,null,null,null,null,null,null,null,null,{"$f":"HKXSw!$AD19","v":0},{"$f":"HKXSwa!AD19","v":0},{"$f":"HKXSna!AD19","v":0},{"$f":"HKXSt!AD19","v":0}]
[null,{"$f":"CenAVS!A117","v":"Boční čep HK-XS na korpus, EXPANDO"},{"$f":"CenAVS!B117","v":"20K51E1"},{"$f":"CenAVS!C117","v":"NI"},{"$f":"CenAVS!D117","v":0},0,{"$f":"CenAVS!F117","v":25.16},0,null,{"$f":"CenAVS!I117","v":5296642},{"$f":"CenAVS!J117","v":"D532826"},0,0,null,null,null,null,null,null,null,null,null,null,null,null,null,null,null,null,null,null,null,null,null,null,null,null,null,null,null,null,null,{"$f":"HKXSw!$AD20","v":0},{"$f":"HKXSwa!AD20","v":0},{"$f":"HKXSna!AD20","v":0},{"$f":"HKXSt!AD20","v":0}]
[null,{"$f":"CenAVS!A118","v":0},{"$f":"CenAVS!B118","v":0},{"$f":"CenAVS!C118","v":0},{"$f":"CenAVS!D118","v":0},0,{"$f":"CenAVS!F118","v":0},0,null,{"$f":"CenAVS!I118","v":0},{"$f":"CenAVS!J118","v":0},0,0]
[null,{"$f":"CenAVS!A119","v":"Čelní kování HK-XS"},{"$f":"CenAVS!B119","v":"20K4101"},{"$f":"CenAVS!C119","v":"NI"},{"$f":"CenAVS!D119","v":0},0,{"$f":"CenAVS!F119","v":12.67},0,null,{"$f":"CenAVS!I119","v":8910604},{"$f":"CenAVS!J119","v":"D532821"},0,0,null,null,null,null,null,null,null,null,null,null,null,null,null,null,null,null,null,null,null,null,null,null,null,null,null,null,null,null,null,{"$f":"HKXSw!$AD22","v":0},{"$f":"HKXSwa!AD22","v":0},null,{"$f":"HKXSt!AD22","v":0}]
[null,{"$f":"CenAVS!A120","v":"Čelní kování HK-XS, EXPANDO"},{"$f":"CenAVS!B120","v":"20K41E1"},{"$f":"CenAVS!C120","v":"NI"},{"$f":"CenAVS!D120","v":0},0,{"$f":"CenAVS!F120","v":19.190000000000001},0,null,{"$f":"CenAVS!I120","v":5697170},{"$f":"CenAVS!J120","v":"D532822"},0,0,null,null,null,null,null,null,null,null,null,null,null,null,null,null,null,null,null,null,null,null,null,null,null,null,null,null,null,null,null,{"$f":"HKXSw!$AD23","v":0}]
[null,{"$f":"CenAVS!A121","v":"Čelní kování HK-XS pro úzké alurámečky"},{"$f":"CenAVS!B121","v":"20K4101A"},{"$f":"CenAVS!C121","v":"NI"},{"$f":"CenAVS!D121","v":0},0,{"$f":"CenAVS!F121","v":85.33},0,null,{"$f":"CenAVS!I121","v":1452554},{"$f":"CenAVS!J121","v":"D532823"},0,0,null,null,null,null,null,null,null,null,null,null,null,null,null,null,null,null,null,null,null,null,null,null,null,null,null,null,null,null,null,null,null,{"$f":"HKXSna!AD26","v":0}]
[null,{"$f":"CenAVS!A122","v":0},{"$f":"CenAVS!B122","v":0},{"$f":"CenAVS!C122","v":0},{"$f":"CenAVS!D122","v":0},{"$f":"IF(I123>0,I123,SUM(O123:BA123))","v":0},{"$f":"CenAVS!F122","v":0},{"$f":"M123","v":0},null,{"$f":"CenAVS!I122","v":0},{"$f":"CenAVS!J122","v":0},{"$f":"IF(I123=\"x\",0,IF(I123>0,I123,F123))","v":0},{"$f":"PRODUCT(L123,G123)","v":0}]
[null,{"$f":"CenAVS!A125","v":"Sada zdvihačů HKi, LF 420–1610"},{"$f":"CenAVS!B125","v":"24K2300"},{"$f":"CenAVS!C125","v":"OS"},{"$f":"CenAVS!D125","v":0},{"$f":"IF(I124>0,I124,SUM(O124:BA124))","v":0},{"$f":"CenAVS!F125","v":8016.43},{"$f":"M124","v":0},null,{"$f":"CenAVS!I125","v":9375108},{"$f":"CenAVS!J125","v":"D892074"},{"$f":"IF(I124=\"x\",0,IF(I124>0,I124,F124))","v":0},{"$f":"PRODUCT(L124,G124)","v":0},null,null,null,null,null,null,null,null,null,null,null,null,null,null,null,null,null,null,null,null,null,null,null,null,null,null,null,null,null,null,null,null,null,null,{"$f":"HKiw!AB9","v":0},{"$f":"HKiwa!AB9","v":0},{"$f":"HKina!AB9","v":0}]
[null,{"$f":"CenAVS!A126","v":"Sada zdvihačů HKi, LF 930–2800"},{"$f":"CenAVS!B126","v":"24K2500"},{"$f":"CenAVS!C126","v":"OS"},{"$f":"CenAVS!D126","v":0},{"$f":"IF(I125>0,I125,SUM(O125:BA125))","v":0},{"$f":"CenAVS!F126","v":8016.43},{"$f":"M125","v":0},null,{"$f":"CenAVS!I126","v":4333468},{"$f":"CenAVS!J126","v":"D892075"},{"$f":"IF(I125=\"x\",0,IF(I125>0,I125,F125))","v":0},{"$f":"PRODUCT(L125,G125)","v":0},null,null,null,null,null,null,null,null,null,null,null,null,null,null,null,null,null,null,null,null,null,null,null,null,null,null,null,null,null,null,null,null,null,null,{"$f":"HKiw!AB10","v":0},{"$f":"HKiwa!AB10","v":0},{"$f":"HKina!AB10","v":0}]
[null,{"$f":"CenAVS!A127","v":"Sada zdvihačů HKi, LF 1730–5200"},{"$f":"CenAVS!B127","v":"24K2700"},{"$f":"CenAVS!C127","v":"OS"},{"$f":"CenAVS!D127","v":0},0,{"$f":"CenAVS!F127","v":8155.85},0,null,{"$f":"CenAVS!I127","v":3327428},{"$f":"CenAVS!J127","v":"D892076"},0,0,null,null,null,null,null,null,null,null,null,null,null,null,null,null,null,null,null,null,null,null,null,null,null,null,null,null,null,null,null,null,null,null,null,null,{"$f":"HKiw!AB11","v":0},{"$f":"HKiwa!AB11","v":0},{"$f":"HKina!AB11","v":0}]
[null,{"$f":"CenAVS!A128","v":"Sada zdvihačů HKi, LF 2600–7800"},{"$f":"CenAVS!B128","v":"24K2800"},{"$f":"CenAVS!C128","v":"OS"},{"$f":"CenAVS!D128","v":0},0,{"$f":"CenAVS!F128","v":8504.39},0,null,{"$f":"CenAVS!I128","v":9445829},{"$f":"CenAVS!J128","v":"D892077"},0,0,null,null,null,null,null,null,null,null,null,null,null,null,null,null,null,null,null,null,null,null,null,null,null,null,null,null,null,null,null,null,null,null,null,null,{"$f":"HKiw!AB12","v":0},{"$f":"HKiwa!AB12","v":0},{"$f":"HKina!AB12","v":0}]
[null,{"$f":"CenAVS!A129","v":0},{"$f":"CenAVS!B129","v":0},{"$f":"CenAVS!C129","v":0},{"$f":"CenAVS!D129","v":0},0,{"$f":"CenAVS!F129","v":0},0,null,{"$f":"CenAVS!I129","v":0},{"$f":"CenAVS!J129","v":0},0,0]
[null,{"$f":"CenAVS!A130","v":"Sada zdvihačů HKi pro TIP-ON, LF 420–1610"},{"$f":"CenAVS!B130","v":"24K2300T"},{"$f":"CenAVS!C130","v":"OS"},{"$f":"CenAVS!D130","v":0},0,{"$f":"CenAVS!F130","v":8123.98},0,null,{"$f":"CenAVS!I130","v":9348915},{"$f":"CenAVS!J130","v":"D892078"},0,0,null,null,null,null,null,null,null,null,null,null,null,null,null,null,null,null,null,null,null,null,null,null,null,null,null,null,null,null,null,null,null,null,null,null,{"$f":"HKiw!AB14","v":0},{"$f":"HKiwa!AB14","v":0},{"$f":"HKina!AB14","v":0}]
[null,{"$f":"CenAVS!A131","v":"Sada zdvihačů HKi pro TIP-ON, LF 930–2800"},{"$f":"CenAVS!B131","v":"24K2500T"},{"$f":"CenAVS!C131","v":"OS"},{"$f":"CenAVS!D131","v":0},0,{"$f":"CenAVS!F131","v":8123.98},0,null,{"$f":"CenAVS!I131","v":3988041},{"$f":"CenAVS!J131","v":"D892079"},0,0,null,null,null,null,null,null,null,null,null,null,null,null,null,null,null,null,null,null,null,null,null,null,null,null,null,null,null,null,null,null,null,null,null,null,{"$f":"HKiw!AB15","v":0},{"$f":"HKiwa!AB15","v":0},{"$f":"HKina!AB15","v":0}]
[null,{"$f":"CenAVS!A132","v":"Sada zdvihačů HKi pro TIP-ON, LF 1730–5200"},{"$f":"CenAVS!B132","v":"24K2700T"},{"$f":"CenAVS!C132","v":"OS"},{"$f":"CenAVS!D132","v":0},0,{"$f":"CenAVS!F132","v":8356.6},0,null,{"$f":"CenAVS!I132","v":3401692},{"$f":"CenAVS!J132","v":"D892080"},0,0,null,null,null,null,null,null,null,null,null,null,null,null,null,null,null,null,null,null,null,null,null,null,null,null,null,null,null,null,null,null,null,null,null,null,{"$f":"HKiw!AB16","v":0},{"$f":"HKiwa!AB16","v":0},{"$f":"HKina!AB16","v":0}]
[null,{"$f":"CenAVS!A133","v":"Sada zdvihačů HKi pro TIP-ON, LF 2600–7800"},{"$f":"CenAVS!B133","v":"24K2800T"},{"$f":"CenAVS!C133","v":"OS"},{"$f":"CenAVS!D133","v":0},0,{"$f":"CenAVS!F133","v":8705.1299999999992},0,null,{"$f":"CenAVS!I133","v":3061597},{"$f":"CenAVS!J133","v":"D892081"},0,0,null,null,null,null,null,null,null,null,null,null,null,null,null,null,null,null,null,null,null,null,null,null,null,null,null,null,null,null,null,null,null,null,null,null,{"$f":"HKiw!AB17","v":0},{"$f":"HKiwa!AB17","v":0},{"$f":"HKina!AB17","v":0}]
[null,{"$f":"CenAVS!A134","v":0},{"$f":"CenAVS!B134","v":0},{"$f":"CenAVS!C134","v":0},{"$f":"CenAVS!D134","v":0},0,{"$f":"CenAVS!F134","v":0},0,null,{"$f":"CenAVS!I134","v":0},{"$f":"CenAVS!J134","v":0},0,0]
[null,{"$f":"CenAVS!A135","v":"Symetrické čelní kování Hki, EXPANDO"},{"$f":"CenAVS!B135","v":"24K42E1"},{"$f":"CenAVS!C135","v":"OS"},{"$f":"CenAVS!D135","v":0},0,{"$f":"CenAVS!F135","v":209.13},0,null,{"$f":"CenAVS!I135","v":4845277},{"$f":"CenAVS!J135","v":"D892085"},0,0,null,null,null,null,null,null,null,null,null,null,null,null,null,null,null,null,null,null,null,null,null,null,null,null,null,null,null,null,null,null,null,null,null,null,{"$f":"HKiw!AB19","v":0}]
[null,{"$f":"CenAVS!A136","v":"Symetrické čelní kování Hki, pro alurámečky"},{"$f":"CenAVS!B136","v":"24K4201A"},{"$f":"CenAVS!C136","v":"OS"},{"$f":"CenAVS!D136","v":0},0,{"$f":"CenAVS!F136","v":230.04},0,null,{"$f":"CenAVS!I136","v":2551910},{"$f":"CenAVS!J136","v":"D892086"},0,0,null,null,null,null,null,null,null,null,null,null,null,null,null,null,null,null,null,null,null,null,null,null,null,null,null,null,null,null,null,null,null,null,null,null,null,{"$f":"HKiwa!AB20","v":0},{"$f":"HKina!AB20","v":0}]
[null,{"$f":"CenAVS!A137","v":0},{"$f":"CenAVS!B137","v":0},{"$f":"CenAVS!C137","v":0},{"$f":"CenAVS!D137","v":0},0,{"$f":"CenAVS!F137","v":0},0,null,{"$f":"CenAVS!I137","v":0},{"$f":"CenAVS!J137","v":0},0,0]
[null,{"$f":"CenAVS!A138","v":"Sada krytek HKi, hedvábně bílá"},{"$f":"CenAVS!B138","v":"24K8000"},{"$f":"CenAVS!C138","v":"SW"},{"$f":"CenAVS!D138","v":0},0,{"$f":"CenAVS!F138","v":689.28},0,null,{"$f":"CenAVS!I138","v":6690522},{"$f":"CenAVS!J138","v":"D892083"},0,0,null,null,null,null,null,null,null,null,null,null,null,null,null,null,null,null,null,null,null,null,null,null,null,null,null,null,null,null,null,null,null,null,null,null,{"$f":"HKiw!AB22","v":0},{"$f":"HKiwa!AB22","v":0},{"$f":"HKina!AB22","v":0}]
[null,{"$f":"CenAVS!A139","v":"Sada krytek HKi, světle šedá"},{"$f":"CenAVS!B139","v":"24K8000"},{"$f":"CenAVS!C139","v":"HGR"},{"$f":"CenAVS!D139","v":0},0,{"$f":"CenAVS!F139","v":669.2},0,null,{"$f":"CenAVS!I139","v":2627505},{"$f":"CenAVS!J139","v":"D892082"},0,0,null,null,null,null,null,null,null,null,null,null,null,null,null,null,null,null,null,null,null,null,null,null,null,null,null,null,null,null,null,null,null,null,null,null,{"$f":"HKiw!AB23","v":0},{"$f":"HKiwa!AB23","v":0},{"$f":"HKina!AB23","v":0}]
[null,{"$f":"CenAVS!A140","v":"Sada krytek HKi, tmavě šedá"},{"$f":"CenAVS!B140","v":"24K8000"},{"$f":"CenAVS!C140","v":"TGR"},{"$f":"CenAVS!D140","v":0},0,{"$f":"CenAVS!F140","v":689.28},0,null,{"$f":"CenAVS!I140","v":4948789},{"$f":"CenAVS!J140","v":"D892084"},0,0,null,null,null,null,null,null,null,null,null,null,null,null,null,null,null,null,null,null,null,null,null,null,null,null,null,null,null,null,null,null,null,null,null,null,{"$f":"HKiw!AB24","v":0},{"$f":"HKiwa!AB24","v":0},{"$f":"HKina!AB24","v":0}]
[null,{"$f":"CenAVS!A141","v":0},{"$f":"CenAVS!B141","v":0},{"$f":"CenAVS!C141","v":0},{"$f":"CenAVS!D141","v":0},0,{"$f":"CenAVS!F141","v":0},0,null,{"$f":"CenAVS!I141","v":0},{"$f":"CenAVS!J141","v":0},0,0]
[null,{"$f":"CenAVS!A144","v":"Sada předfrézovaných surových desek pro HKi"},{"$f":"CenAVS!B144","v":"24K7100"},{"$f":"CenAVS!C144","v":"NA"},{"$f":"CenAVS!D144","v":0},0,{"$f":"CenAVS!F144","v":2867.4},0,null,{"$f":"CenAVS!I144","v":6883114},{"$f":"CenAVS!J144","v":"D892087"},0,0,null,null,null,null,null,null,null,null,null,null,null,null,null,null,null,null,null,null,null,null,null,null,null,null,null,null,null,null,null,null,null,null,null,null,null,null,null,null,{"$f":"AcsAVS!W31","v":0}]
[null,{"$f":"CenAVS!A145","v":"Distanční díl pro HKi"},{"$f":"CenAVS!B145","v":"M45.1010"},{"$f":"CenAVS!C145","v":"NA"},{"$f":"CenAVS!D145","v":0},{"$f":"IF(I142>0,I142,SUM(O142:BA142))","v":0},{"$f":"CenAVS!F145","v":858.54},{"$f":"M142","v":0},null,{"$f":"CenAVS!I145","v":7376602},{"$f":"CenAVS!J145","v":"D892090"},{"$f":"IF(I142=\"x\",0,IF(I142>0,I142,F142))","v":0},{"$f":"PRODUCT(L142,G142)","v":0},null,null,null,null,null,null,null,null,null,null,null,null,null,null,null,null,null,null,null,null,null,null,null,null,null,null,null,null,null,null,null,null,null,null,null,null,null,null,{"$f":"AcsAVS!W32","v":0}]
[]
[null,{"$f":"CenAVS!A148","v":"CLIP top BLUMOTION, 110°, naložený"},{"$f":"CenAVS!B148","v":" 71B3550"},{"$f":"CenAVS!C148","v":"NI"},{"$f":"CenAVS!D148","v":0},{"$f":"IF(I144>0,I144,SUM(O144:BA144))","v":0},{"$f":"CenAVS!F148","v":106.31},0,null,{"$f":"CenAVS!I148","v":8884623},{"$f":"CenAVS!J148","v":"D290100"},0,0,null,null,null,null,null,null,null,null,null,null,null,null,null,null,null,null,null,null,null,null,null,null,null,null,null,null,null,null,null,{"$f":"HKXSw!$AD28","v":0},{"$f":"HKXSwa!AD28","v":0}]
[null,{"$f":"CenAVS!A149","v":"CLIP top BLUMOTION, 110°, nalož. EXPANDO"},{"$f":"CenAVS!B149","v":" 71B358E"},{"$f":"CenAVS!C149","v":"NI"},{"$f":"CenAVS!D149","v":0},0,{"$f":"CenAVS!F149","v":97.81},0,null,{"$f":"CenAVS!I149","v":8885233},{"$f":"CenAVS!J149","v":"D378266"},0,0,null,null,null,null,null,null,null,null,null,null,null,null,null,null,null,null,null,null,null,null,null,null,null,null,null,null,null,null,null,{"$f":"HKXSw!$AD29","v":0}]
[null,{"$f":"CenAVS!A150","v":"CLIP top závěs 110°, bez pružiny, naložený"},{"$f":"CenAVS!B150","v":" 70T3550.TL"},{"$f":"CenAVS!C150","v":"NI"},{"$f":"CenAVS!D150","v":0},0,{"$f":"CenAVS!F150","v":50.28},0,null,{"$f":"CenAVS!I150","v":9001883},{"$f":"CenAVS!J150","v":"D533677"},0,0,null,null,null,null,null,null,null,null,null,null,null,null,null,null,null,null,null,null,null,null,null,null,null,null,null,null,null,null,null,{"$f":"HKXSw!$AD30","v":0},{"$f":"HKXSwa!AD30","v":0}]
[null,{"$f":"CenAVS!A151","v":"CLIP top závěs 110°, bez pružiny, nalož. EXPANDO"},{"$f":"CenAVS!B151","v":" 70T358E.TL"},{"$f":"CenAVS!C151","v":"NI"},{"$f":"CenAVS!D151","v":0},0,{"$f":"CenAVS!F151","v":50.44},0,null,{"$f":"CenAVS!I151","v":9295093},{"$f":"CenAVS!J151","v":"D533205"},0,0,null,null,null,null,null,null,null,null,null,null,null,null,null,null,null,null,null,null,null,null,null,null,null,null,null,null,null,null,null,{"$f":"HKXSw!$AD31","v":0}]
[null,{"$f":"CenAVS!A152","v":"CLIP top BLUMOTION, závěs pro tenká dvířka"},{"$f":"CenAVS!B152","v":" 71B453T"},{"$f":"CenAVS!C152","v":"NI"},{"$f":"CenAVS!D152","v":0},0,{"$f":"CenAVS!F152","v":375.38},{"$f":"M148","v":0},null,{"$f":"CenAVS!I152","v":7021363},{"$f":"CenAVS!J152","v":"D722166"},{"$f":"IF(I148=\"x\",0,IF(I148>0,I148,F148))","v":0},{"$f":"PRODUCT(L148,G148)","v":0},null,null,null,null,null,null,null,null,null,null,null,null,null,null,null,null,null,null,null,null,null,null,null,null,null,null,null,null,null,null,null,null,{"$f":"HKXSt!AD32","v":0}]
[null,{"$f":"CenAVS!A153","v":"CLIP top závěs pro tenká dvířka, bez pružiny"},{"$f":"CenAVS!B153","v":" 70T453T.TL"},{"$f":"CenAVS!C153","v":"NI"},{"$f":"CenAVS!D153","v":0},0,{"$f":"CenAVS!F153","v":321.95999999999998},{"$f":"M149","v":0},null,{"$f":"CenAVS!I153","v":1524002},{"$f":"CenAVS!J153","v":"D714681"},{"$f":"IF(I149=\"x\",0,IF(I149>0,I149,F149))","v":0},{"$f":"PRODUCT(L149,G149)","v":0},null,null,null,null,null,null,null,null,null,null,null,null,null,null,null,null,null,null,null,null,null,null,null,null,null,null,null,null,null,null,null,null,{"$f":"HKXSt!AD33","v":0}]
[null,{"$f":"CenAVS!A154","v":"CLIP top BLUMOTION, závěs pro úzké alu, naložený"},{"$f":"CenAVS!B154","v":" 71B950A"},{"$f":"CenAVS!C154","v":"NI"},{"$f":"CenAVS!D154","v":0},0,{"$f":"CenAVS!F154","v":180.71},0,null,{"$f":"CenAVS!I154","v":9350813},{"$f":"CenAVS!J154","v":"D310472"},0,0,null,null,null,null,null,null,null,null,null,null,null,null,null,null,null,null,null,null,null,null,null,null,null,null,null,null,null,null,null,null,null,{"$f":"HKXSna!AD34","v":0}]
[null,{"$f":"CenAVS!A123","v":"Samořezný vrut do alurámečků"},{"$f":"CenAVS!B123","v":"660.0950"},{"$f":"CenAVS!C123","v":"NI"},{"$f":"CenAVS!D123","v":0},0,{"$f":"CenAVS!F123","v":1.7},0,null,{"$f":"CenAVS!I123","v":8385455},{"$f":"CenAVS!J123","v":"D506595"},0,0,null,null,null,null,null,null,null,null,null,null,null,null,null,null,null,null,null,null,null,null,null,null,null,null,null,null,null,null,null,null,{"$f":"HKXSwa!AD36","v":0},null,null,null,null,null,null,null,{"$f":"AcsAVS!J25","v":0}]
[null,{"$f":"CenAVS!A155","v":"Omezovač úhlu otevření pro závěsy 110°"},{"$f":"CenAVS!B155","v":" 70T3553"},{"$f":"CenAVS!C155","v":"S"},{"$f":"CenAVS!D155","v":0},0,{"$f":"CenAVS!F155","v":14.33},0,null,{"$f":"CenAVS!I155","v":9048274},{"$f":"CenAVS!J155","v":"D290104"},0,0,null,null,null,null,null,null,null,null,null,null,null,null,null,null,null,null,null,null,null,null,null,null,null,null,null,null,null,null,null,null,null,null,null,null,null,null,null,null,{"$f":"AcsAVS!J18","v":0}]
[null,{"$f":"CenAVS!A156","v":0},{"$f":"CenAVS!B156","v":0},{"$f":"CenAVS!C156","v":0},{"$f":"CenAVS!D156","v":0},0,{"$f":"CenAVS!F156","v":0},0,null,{"$f":"CenAVS!I156","v":0},{"$f":"CenAVS!J156","v":0},{"$f":"IF(I153=\"x\",0,IF(I153>0,I153,F153))","v":0},{"$f":"PRODUCT(L153,G153)","v":0}]
[null,{"$f":"CenAVS!A171","v":"SERVO-DRIVE jednotka (sada)"},{"$f":"CenAVS!B171","v":"23.A000"},{"$f":"CenAVS!C171","v":"R7037"},{"$f":"CenAVS!D171","v":0},0,{"$f":"CenAVS!F171","v":8297.32},0,null,{"$f":"CenAVS!I171","v":5362207},{"$f":"CenAVS!J171","v":"D906633"},0,0,null,{"$f":"HFw!$AB45","v":0},{"$f":"HFwa!$AB45","v":0},{"$f":"HFw_wa!$AB45","v":0},{"$f":"HFwa_w!$AB45","v":0},{"$f":"HFna!$AB45","v":0},{"$f":"HFw_na!$AB45","v":0},{"$f":"HFna_w!$AB45","v":0},null,{"$f":"HSw!$AB43","v":0},{"$f":"HSwa!$AB43","v":0},{"$f":"HSna!$AB43","v":0},{"$f":"HSt!$AB43","v":0},null,{"$f":"HLw!$AB37","v":0},{"$f":"HLwa!$AB37","v":0},{"$f":"HLna!$AB37","v":0},{"$f":"HLt!$AB37","v":0}]
[null,{"$f":"CenAVS!A172","v":"SERVO-DRIVE jednotka (sada) pro HK top"},{"$f":"CenAVS!B172","v":"23KA000"},{"$f":"CenAVS!C172","v":"R7037"},{"$f":"CenAVS!D172","v":0},0,{"$f":"CenAVS!F172","v":8251.18},0,null,{"$f":"CenAVS!I172","v":9961208},{"$f":"CenAVS!J172","v":"D768263"},0,0,null,null,null,null,null,null,null,null,null,null,null,null,null,null,null,null,null,null,null,{"$f":"HKw!$AB46","v":0},{"$f":"HKwa!$AB46","v":0},{"$f":"HKna!$AB46","v":0},{"$f":"HKt!$AB46","v":0}]
[null,{"$f":"CenAVS!A157","v":0},{"$f":"CenAVS!B157","v":0},{"$f":"CenAVS!C157","v":0},{"$f":"CenAVS!D157","v":0},0,{"$f":"CenAVS!F157","v":0},0,null,{"$f":"CenAVS!I157","v":0},{"$f":"CenAVS!J157","v":0},0,0]
[null,{"$f":"CenAVS!A143","v":"Orážecí šablona pro čela HK top"},{"$f":"CenAVS!B143","v":"ZML.2200"},{"$f":"CenAVS!C143","v":"OR"},{"$f":"CenAVS!D143","v":0},0,{"$f":"CenAVS!F143","v":967.57},0,null,{"$f":"CenAVS!I143","v":4719614},{"$f":"CenAVS!J143","v":"D768267"},0,0]
[null,{"$f":"CenAVS!A158","v":"EXPANDO T, samostatná hmoždinka"},{"$f":"CenAVS!B158","v":"70T4532T"},{"$f":"CenAVS!C158","v":"DGR"},{"$f":"CenAVS!D158","v":0},0,{"$f":"CenAVS!F158","v":63.33},{"$f":"M158","v":0},null,{"$f":"CenAVS!I158","v":4958478},{"$f":"CenAVS!J158","v":"D722190"},{"$f":"IF(I158=\"x\",0,IF(I158>0,I158,F158))","v":0},{"$f":"PRODUCT(L158,G158)","v":0},null,null,null,null,null,null,null,null,null,null,null,null,null,null,null,null,null,null,null,null,null,null,null,null,null,null,null,{"$f":"HKSt!AB32","v":0},null,null,null,null,{"$f":"HKXSt!AD37","v":0},null,null,null,null,null,{"$f":"AcsAVS!J26","v":0}]
[null,{"$f":"CenAVS!A159","v":0},{"$f":"CenAVS!B159","v":0},{"$f":"CenAVS!C159","v":0},{"$f":"CenAVS!D159","v":0},0,{"$f":"CenAVS!F159","v":0},0,null,{"$f":"CenAVS!I159","v":0},{"$f":"CenAVS!J159","v":0},0,0]
[null,{"$f":"CenAVS!A160","v":"CLIP top montážní podložka, na vruty, 0 mm"},{"$f":"CenAVS!B160","v":"173L6100"},{"$f":"CenAVS!C160","v":"NI"},{"$f":"CenAVS!D160","v":0},0,{"$f":"CenAVS!F160","v":6.94},0,null,{"$f":"CenAVS!I160","v":7480175},{"$f":"CenAVS!J160","v":"D014425"},0,0]
[null,{"$f":"CenAVS!A161","v":"CLIP top montážní podložka, EXPANDO, 0 mm"},{"$f":"CenAVS!B161","v":"174E6100.01"},{"$f":"CenAVS!C161","v":"NI"},{"$f":"CenAVS!D161","v":0},0,{"$f":"CenAVS!F161","v":10.91},0,null,{"$f":"CenAVS!I161","v":1863003},{"$f":"CenAVS!J161","v":"D014458"},0,0]
[null,{"$f":"CenAVS!A162","v":"CLIP top montážní podložka, excentr, 0 mm"},{"$f":"CenAVS!B162","v":"173H7100 "},{"$f":"CenAVS!C162","v":"NI"},{"$f":"CenAVS!D162","v":0},0,{"$f":"CenAVS!F162","v":17.84},0,null,{"$f":"CenAVS!I162","v":2364043},{"$f":"CenAVS!J162","v":"D014460"},0,0,null,null,{"$f":"HFwa!$AB36","v":0},null,{"$f":"HFwa_w!$AB36","v":0}]
[null,{"$f":"CenAVS!A163","v":"CLIP top mont. podložka, excentr, EXPANDO, 0 mm"},{"$f":"CenAVS!B163","v":"174H7100E "},{"$f":"CenAVS!C163","v":"NI"},{"$f":"CenAVS!D163","v":0},0,{"$f":"CenAVS!F163","v":19.39},0,null,{"$f":"CenAVS!I163","v":2364983},{"$f":"CenAVS!J163","v":"D187455"},0,0]
[null,{"$f":"CenAVS!A166","v":"CLIP top přímá mont. podložka, ocel, 0 mm"},{"$f":"CenAVS!B166","v":"175H3100"},{"$f":"CenAVS!C166","v":"NI"},{"$f":"CenAVS!D166","v":0},0,{"$f":"CenAVS!F166","v":16.98},{"$f":"M164","v":0},null,{"$f":"CenAVS!I166","v":5891994},{"$f":"CenAVS!J166","v":"D495655"},0,0,null,{"$f":"HFw!$AB42","v":0},{"$f":"HFwa!$AB42","v":0},{"$f":"HFw_wa!$AB42","v":0},{"$f":"HFwa_w!$AB42","v":0},{"$f":"HFna!$AB42","v":0},{"$f":"HFw_na!$AB42","v":0},{"$f":"HFna_w!$AB42","v":0},null,null,null,null,null,null,null,null,null,null,null,null,null,null,null,null,{"$f":"HKSw!AB30","v":0},{"$f":"HKSwa!AB30","v":0},null,{"$f":"HKSt!AB30","v":0},null,{"$f":"HKXSw!$AD39","v":0},{"$f":"HKXSwa!AD39","v":0},{"$f":"HKXSna!AD39","v":0},{"$f":"HKXSt!AD39","v":0}]
[null,{"$f":"CenAVS!A167","v":"CLIP top přímá mont. podložka, ocel, EXP, 0 mm"},{"$f":"CenAVS!B167","v":"177H3100E "},{"$f":"CenAVS!C167","v":"NI"},{"$f":"CenAVS!D167","v":0},0,{"$f":"CenAVS!F167","v":17.07},0,null,{"$f":"CenAVS!I167","v":4787251},{"$f":"CenAVS!J167","v":"D496524"},0,0,null,{"$f":"HFw!$AB43","v":0},{"$f":"HFwa!$AB43","v":0},{"$f":"HFw_wa!$AB43","v":0},{"$f":"HFwa_w!$AB43","v":0},{"$f":"HFna!$AB43","v":0},{"$f":"HFw_na!$AB43","v":0},{"$f":"HFna_w!$AB43","v":0},null,null,null,null,null,null,null,null,null,null,null,null,null,null,null,null,{"$f":"HKSw!AB31","v":0},null,null,null,null,{"$f":"HKXSw!$AD40","v":0},{"$f":"HKXSwa!AD40","v":0},{"$f":"HKXSna!AD40","v":0},{"$f":"HKXSt!AD40","v":0}]
[null,{"$f":"CenAVS!A169","v":0},{"$f":"CenAVS!B169","v":0},{"$f":"CenAVS!C169","v":0},{"$f":"CenAVS!D169","v":0},0,{"$f":"CenAVS!F169","v":0},0,null,{"$f":"CenAVS!I169","v":0},{"$f":"CenAVS!J169","v":0},0,0]
[null,{"$f":"CenAVS!A184","v":0},{"$f":"CenAVS!B184","v":0},{"$f":"CenAVS!C184","v":0},{"$f":"CenAVS!D184","v":0},0,{"$f":"CenAVS!F184","v":0},0,null,{"$f":"CenAVS!I184","v":0},{"$f":"CenAVS!J184","v":0},0,0]
[null,{"$f":"CenAVS!A185","v":"TIP-ON, krátká verze, šedá"},{"$f":"CenAVS!B185","v":"956.1004"},{"$f":"CenAVS!C185","v":"PG"},{"$f":"CenAVS!D185","v":0},0,{"$f":"CenAVS!F185","v":116.95},0,null,{"$f":"CenAVS!I185","v":7696336},{"$f":"CenAVS!J185","v":"D534490"},0,0,null,null,null,null,null,null,null,null,null,null,null,null,null,null,null,null,null,null,null,{"$f":"HKw!$AB38","v":0},{"$f":"HKwa!$AB38","v":0},{"$f":"HKna!$AB38","v":0},{"$f":"HKt!$AB38","v":0},null,{"$f":"HKSw!$AB35","v":0},{"$f":"HKSwa!$AB35","v":0},{"$f":"HKSna!$AB35","v":0},{"$f":"HKSt!$AB35","v":0},null,{"$f":"HKXSw!$AD42","v":0},{"$f":"HKXSwa!$AD42","v":0},{"$f":"HKXSna!$AD42","v":0},{"$f":"HKXSt!$AD42","v":0},null,{"$f":"HKiw!AB38","v":0},{"$f":"HKiwa!AB38","v":0},{"$f":"HKina!AB38","v":0},null,{"$f":"AcsAVS!J37","v":0}]
[null,{"$f":"CenAVS!A186","v":"TIP-ON, krátká verze, hedvábně bílá"},{"$f":"CenAVS!B186","v":"956.1004"},{"$f":"CenAVS!C186","v":"SW"},{"$f":"CenAVS!D186","v":0},0,{"$f":"CenAVS!F186","v":116.95},0,null,{"$f":"CenAVS!I186","v":4683908},{"$f":"CenAVS!J186","v":"D532903"},0,0,null,null,null,null,null,null,null,null,null,null,null,null,null,null,null,null,null,null,null,{"$f":"HKw!$AB39","v":0},{"$f":"HKwa!$AB39","v":0},{"$f":"HKna!$AB39","v":0},{"$f":"HKt!$AB39","v":0},null,{"$f":"HKSw!$AB36","v":0},{"$f":"HKSwa!$AB36","v":0},{"$f":"HKSna!$AB36","v":0},{"$f":"HKSt!$AB36","v":0},null,{"$f":"HKXSw!$AD43","v":0},{"$f":"HKXSwa!$AD43","v":0},{"$f":"HKXSna!$AD43","v":0},{"$f":"HKXSt!$AD43","v":0},null,{"$f":"HKiw!AB39","v":0},{"$f":"HKiwa!AB39","v":0},{"$f":"HKina!AB39","v":0},null,{"$f":"AcsAVS!J38","v":0}]
[null,{"$f":"CenAVS!A187","v":"TIP-ON, krátká verze, karbon černá"},{"$f":"CenAVS!B187","v":"956.1004"},{"$f":"CenAVS!C187","v":"CS"},{"$f":"CenAVS!D187","v":0},0,{"$f":"CenAVS!F187","v":116.95},0,null,{"$f":"CenAVS!I187","v":0},{"$f":"CenAVS!J187","v":"D883722"},0,0,null,null,null,null,null,null,null,null,null,null,null,null,null,null,null,null,null,null,null,null,null,null,null,null,null,null,null,null,null,null,null,null,null,null,{"$f":"HKiw!AB40","v":0},{"$f":"HKiwa!AB40","v":0},{"$f":"HKina!AB40","v":0},null,{"$f":"AcsAVS!J39","v":0}]
[null,{"$f":"CenAVS!A188","v":"TIP-ON, dlouhá verze, šedá"},{"$f":"CenAVS!B188","v":"956A1004"},{"$f":"CenAVS!C188","v":"PG"},{"$f":"CenAVS!D188","v":0},0,{"$f":"CenAVS!F188","v":146.75},0,null,{"$f":"CenAVS!I188","v":6484096},{"$f":"CenAVS!J188","v":"D540048"},0,0,null,null,null,null,null,null,null,null,null,null,null,null,null,null,null,null,null,null,null,{"$f":"HKw!$AB41","v":0},{"$f":"HKwa!$AB41","v":0},{"$f":"HKna!$AB41","v":0},{"$f":"HKt!$AB41","v":0},null,null,null,null,null,null,null,null,null,null,null,null,null,null,null,{"$f":"AcsAVS!J40","v":0}]
[null,{"$f":"CenAVS!A189","v":"TIP-ON, dlouhá verze, hedvábně bílá"},{"$f":"CenAVS!B189","v":"956A1004"},{"$f":"CenAVS!C189","v":"WA"},{"$f":"CenAVS!D189","v":0},0,{"$f":"CenAVS!F189","v":146.75},0,null,{"$f":"CenAVS!I189","v":6856758},{"$f":"CenAVS!J189","v":"D540047"},0,0,null,null,null,null,null,null,null,null,null,null,null,null,null,null,null,null,null,null,null,{"$f":"HKw!$AB42","v":0},{"$f":"HKwa!$AB42","v":0},{"$f":"HKna!$AB42","v":0},{"$f":"HKt!$AB42","v":0},null,null,null,null,null,null,null,null,null,null,null,null,null,null,null,{"$f":"AcsAVS!J41","v":0}]
[null,{"$f":"CenAVS!A190","v":"TIP-ON, dlouhá verze, karbon černá"},{"$f":"CenAVS!B190","v":"956A1004"},{"$f":"CenAVS!C190","v":"CS"},{"$f":"CenAVS!D190","v":0},0,{"$f":"CenAVS!F190","v":146.75},0,null,{"$f":"CenAVS!I190","v":0},{"$f":"CenAVS!J190","v":"D887480"},0,0,null,null,null,null,null,null,null,null,null,null,null,null,null,null,null,null,null,null,null,null,null,null,null,null,null,null,null,null,null,null,null,null,null,null,null,null,null,null,{"$f":"AcsAVS!J42","v":0}]
[null,{"$f":"CenAVS!A191","v":"TIP-ON přímý adaptér - krátká verze, šedá"},{"$f":"CenAVS!B191","v":"956.1201"},{"$f":"CenAVS!C191","v":"PG"},{"$f":"CenAVS!D191","v":0},0,{"$f":"CenAVS!F191","v":26.08},{"$f":"M174","v":0},null,{"$f":"CenAVS!I191","v":"5066363"},{"$f":"CenAVS!J191","v":"D889227"},{"$f":"IF(I174=\"x\",0,IF(I174>0,I174,F174))","v":0},{"$f":"PRODUCT(L174,G174)","v":0},null,null,null,null,null,null,null,null,null,null,null,null,null,null,null,null,null,null,null,null,null,null,null,null,null,null,null,null,null,null,null,null,null,null,null,null,null,null,{"$f":"AcsAVS!J43","v":0}]
[null,{"$f":"CenAVS!A192","v":"TIP-ON přímý adaptér - krátká verze, hedv. bílá"},{"$f":"CenAVS!B192","v":"956.1201"},{"$f":"CenAVS!C192","v":"SW"},{"$f":"CenAVS!D192","v":0},0,{"$f":"CenAVS!F192","v":26.08},{"$f":"M175","v":0},null,{"$f":"CenAVS!I192","v":"4372870"},{"$f":"CenAVS!J192","v":"D540044"},{"$f":"IF(I175=\"x\",0,IF(I175>0,I175,F175))","v":0},{"$f":"PRODUCT(L175,G175)","v":0},null,null,null,null,null,null,null,null,null,null,null,null,null,null,null,null,null,null,null,null,null,null,null,null,null,null,null,null,null,null,null,null,null,null,null,null,null,null,{"$f":"AcsAVS!J44","v":0}]
[null,{"$f":"CenAVS!A193","v":"TIP-ON přímý adaptér - krátká verze, karbon černá"},{"$f":"CenAVS!B193","v":"956.1201"},{"$f":"CenAVS!C193","v":"CS"},{"$f":"CenAVS!D193","v":0},{"$f":"IF(I176>0,I176,SUM(O176:BA176))","v":0},{"$f":"CenAVS!F193","v":28.91},{"$f":"M176","v":0},null,{"$f":"CenAVS!I193","v":0},{"$f":"CenAVS!J193","v":"D889251"},{"$f":"IF(I176=\"x\",0,IF(I176>0,I176,F176))","v":0},{"$f":"PRODUCT(L176,G176)","v":0},null,null,null,null,null,null,null,null,null,null,null,null,null,null,null,null,null,null,null,null,null,null,null,null,null,null,null,null,null,null,null,null,null,null,null,null,null,null,{"$f":"AcsAVS!J45","v":0}]
[null,{"$f":"CenAVS!A194","v":"TIP-ON přímý adaptér - dlouhá verze, šedá"},{"$f":"CenAVS!B194","v":"956A1201"},{"$f":"CenAVS!C194","v":"R736"},{"$f":"CenAVS!D194","v":0},0,{"$f":"CenAVS!F194","v":26.08},0,null,{"$f":"CenAVS!I194","v":4722188},{"$f":"CenAVS!J194","v":"D540051"},0,0,null,null,null,null,null,null,null,null,null,null,null,null,null,null,null,null,null,null,null,null,null,null,null,null,null,null,null,null,null,null,null,null,null,null,null,null,null,null,{"$f":"AcsAVS!J46","v":0}]
[null,{"$f":"CenAVS!A195","v":"TIP-ON přímý adaptér - dlouhá verze, hedv. bílá"},{"$f":"CenAVS!B195","v":"956A1201"},{"$f":"CenAVS!C195","v":"WA"},{"$f":"CenAVS!D195","v":0},0,{"$f":"CenAVS!F195","v":26.08},0,null,{"$f":"CenAVS!I195","v":3315359},{"$f":"CenAVS!J195","v":"D540050"},0,0,null,null,null,null,null,null,null,null,null,null,null,null,null,null,null,null,null,null,null,null,null,null,null,null,null,null,null,null,null,null,null,null,null,null,null,null,null,null,{"$f":"AcsAVS!J47","v":0}]
[null,{"$f":"CenAVS!A196","v":"TIP-ON přímý adaptér - dlouhá verze, karbon černá"},{"$f":"CenAVS!B196","v":"956A1201"},{"$f":"CenAVS!C196","v":"CS"},{"$f":"CenAVS!D196","v":0},0,{"$f":"CenAVS!F196","v":28.91},0,null,{"$f":"CenAVS!I196","v":0},{"$f":"CenAVS!J196","v":"D883723"},0,0,null,null,null,null,null,null,null,null,null,null,null,null,null,null,null,null,null,null,null,null,null,null,null,null,null,null,null,null,null,null,null,null,null,null,null,null,null,null,{"$f":"AcsAVS!J48","v":0}]
[null,{"$f":"CenAVS!A197","v":"TIP-ON křížový adaptér, šedý"},{"$f":"CenAVS!B197","v":"956A1501"},{"$f":"CenAVS!C197","v":"PG"},{"$f":"CenAVS!D197","v":0},0,{"$f":"CenAVS!F197","v":18.63},0,null,{"$f":"CenAVS!I197","v":7004719},{"$f":"CenAVS!J197","v":"D542404"},0,0,null,null,null,null,null,null,null,null,null,null,null,null,null,null,null,null,null,null,null,null,null,null,null,null,null,null,null,null,null,null,null,null,null,null,null,null,null,null,{"$f":"AcsAVS!J49","v":0}]
[null,null,null,null,null,0,null,null,null,null,null,0,0]
[null,{"$f":"CenAVS!A173","v":"Distanční doraz Blum, 5mm"},{"$f":"CenAVS!B173","v":"993.0530"},{"$f":"CenAVS!C173","v":"R737"},{"$f":"CenAVS!D173","v":0},0,{"$f":"CenAVS!F173","v":22.6},{"$f":"M182","v":0},null,{"$f":"CenAVS!I173","v":7834990},{"$f":"CenAVS!J173","v":"D298325"},{"$f":"IF(I182=\"x\",0,IF(I182>0,I182,F182))","v":0},{"$f":"PRODUCT(L182,G182)","v":0},null,null,null,null,null,null,null,null,null,null,null,null,null,null,null,null,null,null,null,null,null,null,null,null,null,null,null,null,null,null,null,null,null,null,null,null,null,null,{"$f":"AcsAVS!J58","v":0}]
[null,{"$f":"CenAVS!A174","v":"Distanční doraz Blum, 8mm"},{"$f":"CenAVS!B174","v":"993.0830.01"},{"$f":"CenAVS!C174","v":"R737"},{"$f":"CenAVS!D174","v":0},0,{"$f":"CenAVS!F174","v":20.3},0,null,{"$f":"CenAVS!I174","v":7402930},{"$f":"CenAVS!J174","v":"D198622"},{"$f":"IF(I183=\"x\",0,IF(I183>0,I183,F183))","v":0},{"$f":"PRODUCT(L183,G183)","v":0},null,null,null,null,null,null,null,null,null,null,null,null,null,null,null,null,null,null,null,null,null,null,null,null,null,null,null,null,null,null,null,null,null,null,null,null,null,null,{"$f":"AcsAVS!J59","v":0}]
[null,{"$f":"CenAVS!A175","v":"Držák kabelu s Klebesockel"},{"$f":"CenAVS!B175","v":"Z10K0009"},{"$f":"CenAVS!C175","v":"NA"},{"$f":"CenAVS!D175","v":0},0,{"$f":"CenAVS!F175","v":24.75},0,null,{"$f":"CenAVS!I175","v":7283231},{"$f":"CenAVS!J175","v":"D198614"},{"$f":"IF(I184=\"x\",0,IF(I184>0,I184,F184))","v":0},{"$f":"PRODUCT(L184,G184)","v":0},null,null,null,null,null,null,null,null,null,null,null,null,null,null,null,null,null,null,null,null,null,null,null,null,null,null,null,null,null,null,null,null,null,null,null,null,null,null,{"$f":"AcsAVS!J57","v":0}]
[null,{"$f":"CenAVS!A176","v":"Elektrokabel, délka 8m + 5 krytek"},{"$f":"CenAVS!B176","v":"Z10K800AE"},{"$f":"CenAVS!C176","v":"S"},{"$f":"CenAVS!D176","v":0},0,{"$f":"CenAVS!F176","v":858.88},0,null,{"$f":"CenAVS!I176","v":7550294},{"$f":"CenAVS!J176","v":"D198611"},{"$f":"IF(I185=\"x\",0,IF(I185>0,I185,F185))","v":0},{"$f":"PRODUCT(L185,G185)","v":0},null,null,null,null,null,null,null,null,null,null,null,null,null,null,null,null,null,null,null,null,null,null,null,null,null,null,null,null,null,null,null,null,null,null,null,null,null,null,{"$f":"AcsAVS!J55","v":0}]
[null,{"$f":"CenAVS!A177","v":"Napájecí kabel se zástrčkou, 2m"},{"$f":"CenAVS!B177","v":"Z10M200E "},{"$f":"CenAVS!C177","v":"S"},{"$f":"CenAVS!D177","v":0},0,{"$f":"CenAVS!F177","v":208.3},0,null,{"$f":"CenAVS!I177","v":7205784},{"$f":"CenAVS!J177","v":"D198599"},0,0,null,null,null,null,null,null,null,null,null,null,null,null,null,null,null,null,null,null,null,null,null,null,null,null,null,null,null,null,null,null,null,null,null,null,null,null,null,null,{"$f":"AcsAVS!J66","v":0},{"$f":"IF($BA$6=1, 1, 0)","v":0}]
[null,{"$f":"CenAVS!A178","v":"Napájecí zdroj 24W"},{"$f":"CenAVS!B178","v":"Z10NE030E"},{"$f":"CenAVS!C178","v":"S"},{"$f":"CenAVS!D178","v":0},0,{"$f":"CenAVS!F178","v":3170.39},0,null,{"$f":"CenAVS!I178","v":5082891},{"$f":"CenAVS!J178","v":"D198597"},0,0,null,null,null,null,null,null,null,null,null,null,null,null,null,null,null,null,null,null,null,null,null,null,null,null,null,null,null,null,null,null,null,null,null,null,null,null,null,null,{"$f":"AcsAVS!J65","v":0},{"$f":"IF($BA$6=1, 1, 0)","v":0}]
[null,{"$f":"CenAVS!A179","v":"Držák napájecího zdroje - montáž na stěnu"},{"$f":"CenAVS!B179","v":"Z10NG120"},{"$f":"CenAVS!C179","v":"WGR"},{"$f":"CenAVS!D179","v":0},0,{"$f":"CenAVS!F179","v":115.65},0,null,{"$f":"CenAVS!I179","v":9327076},{"$f":"CenAVS!J179","v":"D198600"},0,0,null,null,null,null,null,null,null,null,null,null,null,null,null,null,null,null,null,null,null,null,null,null,null,null,null,null,null,null,null,null,null,null,null,null,null,null,null,null,{"$f":"AcsAVS!J54","v":0},{"$f":"IF($BA$6=1, 1, 0)","v":0}]
[null,{"$f":"CenAVS!A180","v":"Propojovací svorka s hroty + krytka"},{"$f":"CenAVS!B180","v":"Z10V100E.01"},{"$f":"CenAVS!C180","v":"S"},{"$f":"CenAVS!D180","v":0},0,{"$f":"CenAVS!F180","v":204.59},0,null,{"$f":"CenAVS!I180","v":8820285},{"$f":"CenAVS!J180","v":"D198616"},{"$f":"IF(I189=\"x\",0,IF(I189>0,I189,F189))","v":0},{"$f":"PRODUCT(L189,G189)","v":0},null,null,null,null,null,null,null,null,null,null,null,null,null,null,null,null,null,null,null,null,null,null,null,null,null,null,null,null,null,null,null,null,null,null,null,null,null,null,{"$f":"AcsAVS!J56","v":0}]
[null,{"$f":"CenAVS!A181","v":"Spínač SERVO-DRIVE, světle šedá"},{"$f":"CenAVS!B181","v":"23P5020"},{"$f":"CenAVS!C181","v":"HGR"},{"$f":"CenAVS!D181","v":0},0,{"$f":"CenAVS!F181","v":956.51},0,null,{"$f":"CenAVS!I181","v":8457250},{"$f":"CenAVS!J181","v":"D917397"},{"$f":"IF(I190=\"x\",0,IF(I190>0,I190,F190))","v":0},{"$f":"PRODUCT(L190,G190)","v":0},null,null,null,null,null,null,null,null,null,null,null,null,null,null,null,null,null,null,null,null,null,null,null,null,null,null,null,null,null,null,null,null,null,null,null,null,null,null,{"$f":"AcsAVS!J60","v":0}]
[null,{"$f":"CenAVS!A182","v":"Spínač SERVO-DRIVE, hedvábně bílá"},{"$f":"CenAVS!B182","v":"23P5020"},{"$f":"CenAVS!C182","v":"SW"},{"$f":"CenAVS!D182","v":0},0,{"$f":"CenAVS!F182","v":994.78},0,null,{"$f":"CenAVS!I182","v":6550469},{"$f":"CenAVS!J182","v":"D806402"},{"$f":"IF(I191=\"x\",0,IF(I191>0,I191,F191))","v":0},{"$f":"PRODUCT(L191,G191)","v":0},null,null,null,null,null,null,null,null,null,null,null,null,null,null,null,null,null,null,null,null,null,null,null,null,null,null,null,null,null,null,null,null,null,null,null,null,null,null,{"$f":"AcsAVS!J61","v":0}]
[null,{"$f":"CenAVS!A183","v":"Spínač SERVO-DRIVE, tmavě šedá"},{"$f":"CenAVS!B183","v":"23P5020"},{"$f":"CenAVS!C183","v":"TGR"},{"$f":"CenAVS!D183","v":0},0,{"$f":"CenAVS!F183","v":994.78},0,null,{"$f":"CenAVS!I183","v":2471776},{"$f":"CenAVS!J183","v":"D917398"},{"$f":"IF(I192=\"x\",0,IF(I192>0,I192,F192))","v":0},{"$f":"PRODUCT(L192,G192)","v":0},null,null,null,null,null,null,null,null,null,null,null,null,null,null,null,null,null,null,null,null,null,null,null,null,null,null,null,null,null,null,null,null,null,null,null,null,null,null,{"$f":"AcsAVS!J62","v":0}]
[null,null,null,null,null,0]
[null,{"$f":"CenAVS!A200","v":0},{"$f":"CenAVS!B200","v":0},{"$f":"CenAVS!C200","v":0},null,null,{"$f":"CenAVS!F200","v":0},{"$f":"F194*G194","v":0},null,{"$f":"CenAVS!I200","v":0},{"$f":"CenAVS!J200","v":0},null,{"$f":"H194","v":0}]
[null,{"$f":"CenAVS!A201","v":0},{"$f":"CenAVS!B201","v":0},{"$f":"CenAVS!C201","v":0},null,null,{"$f":"CenAVS!F201","v":0},{"$f":"F195*G195","v":0},null,{"$f":"CenAVS!I201","v":0},{"$f":"CenAVS!J201","v":0},null,{"$f":"H195","v":0}]
[null,{"$f":"CenAVS!A202","v":0},{"$f":"CenAVS!B202","v":0},{"$f":"CenAVS!C202","v":0},null,null,{"$f":"CenAVS!F202","v":0},0,null,{"$f":"CenAVS!I202","v":0},{"$f":"CenAVS!J202","v":0},null,0]
[null,{"$f":"CenAVS!A203","v":0},{"$f":"CenAVS!B203","v":0},{"$f":"CenAVS!C203","v":0},null,null,{"$f":"CenAVS!F203","v":0},0,null,{"$f":"CenAVS!I203","v":0},{"$f":"CenAVS!J203","v":0},null,0]
[null,{"$f":"CenAVS!A204","v":0},{"$f":"CenAVS!B204","v":0},{"$f":"CenAVS!C204","v":0},null,null,{"$f":"CenAVS!F204","v":0},0,null,{"$f":"CenAVS!I204","v":0},{"$f":"CenAVS!J204","v":0},null,0]
[null,{"$f":"CenAVS!A205","v":0},{"$f":"CenAVS!B205","v":0},{"$f":"CenAVS!C205","v":0},null,null,{"$f":"CenAVS!F205","v":0},0,null,{"$f":"CenAVS!I205","v":0},{"$f":"CenAVS!J205","v":0},null,0]
[null,{"$f":"CenAVS!A206","v":0},{"$f":"CenAVS!B206","v":0},{"$f":"CenAVS!C206","v":0},null,null,{"$f":"CenAVS!F206","v":0},0,null,{"$f":"CenAVS!I206","v":0},{"$f":"CenAVS!J206","v":0},null,0]
[null,{"$f":"CenAVS!A207","v":0},{"$f":"CenAVS!B207","v":0},{"$f":"CenAVS!C207","v":0},null,null,{"$f":"CenAVS!F207","v":0},0,null,{"$f":"CenAVS!I207","v":0},{"$f":"CenAVS!J207","v":0},null,0]
[null,{"$f":"CenAVS!A208","v":0},{"$f":"CenAVS!B208","v":0},{"$f":"CenAVS!C208","v":0},null,null,{"$f":"CenAVS!F208","v":0},0,null,{"$f":"CenAVS!I208","v":0},{"$f":"CenAVS!J208","v":0},null,0]
[null,{"$f":"CenAVS!A209","v":0},{"$f":"CenAVS!B209","v":0},{"$f":"CenAVS!C209","v":0},null,null,{"$f":"CenAVS!F209","v":0},0,null,{"$f":"CenAVS!I209","v":0},{"$f":"CenAVS!J209","v":0},null,0]
[]
[null,null,null,null,null,{"$f":"ListAVS!$B$61&\" \"","v":"Cena celkem bez DPH "},{"$f":"ListAVS!B62&\"   \"&TEXT(M205,\"# ##0,00\")&\" \"","v":"Kč   0,00 "},null,null,null,null,null,{"$f":"SUM(M11:M203)","v":0}]
[]
[null,{"$f":"ListAVS!$B$265&\":\"","v":"Poznámka:"}]
[]
[]
[]
[]
[null,{"$f":"\"       \"&ListAVS!B380","v":"       Po úpravě objenávky odfiltrujte pomocí filtru ve sloupci \"Ks\" prázné řádky."}]
[]
[null,{"$f":"\"        \"&ListAVS!B382","v":"        Chcete-li objednávku uložit nebo odeslat jako přílohu, vytvořte nový soubor kliknutím na odkaz"}]
[]
[null,null,null,null,null,null,null,null,null,{"$f":"ListAVS!B267","v":"Vytvořit objednávku"}]
[]
[]
[]
[]
[]
[]
[]
[]
[]
[]
[]
[]
[]
[]
[]
[]
[]
[]
[]
[]
[]
[]
[]
[]
[]
[]
[]
[]
[]
[]
[]
[]
[]
[]
[]
[]
[]
[]
[]
[]
[]
[]
[]
[]
[]
[]
[]
[]
[]
[]
[]
[]
[]
[]
[]
[]
[]
[]
[]
[]
[]
[]
[]
[]
[]
[]
[]
[]
[]
[]
[]
[]
[]
[]
[]
[]
[]
[]
[]
[]
[]
[]
[]
[]
[]
[]
[]
[]
[null,{"$f":"\"      \"&ListAVS!$D$157","v":"      "}]
[]
[null,{"$f":"ListAVS!B371","v":"Můžete doplnit číslo objednávky a označení zakázky."}]
[null,{"$f":"ListAVS!B372","v":"Údaje o odběrateli se načítají z  \"Formuláře\"."}]
[null,{"$f":"ListAVS!B373","v":"Chcete-li údaje doplnit nebo změnit, jděte na \"Úvod\" a klikněte na \"Formulář \""}]
[null,{"$f":"ListAVS!B374","v":"Ceny v objednávce se zobrazují v cenové hladině nastavené na úvodní straně."}]
[]
[null,{"$f":"ListAVS!B376","v":"V objednávce můžete měnit počty kusů. "}]
[null,{"$f":"ListAVS!B377","v":"Pokud chcete určitou položku vynulovat, zadejte do políčka ve sloupci \"Změna\" hodnotu \"x\""}]
[null,{"$f":"ListAVS!B378","v":"Pro doplnění artiklů, které nejsou v objednávce můžete použít prázdné řádky."}]
[]
[null,{"$f":"ListAVS!B380","v":"Po úpravě objenávky odfiltrujte pomocí filtru ve sloupci \"Ks\" prázné řádky."}]
[]
[null,{"$f":"ListAVS!B382","v":"Chcete-li objednávku uložit nebo odeslat jako přílohu, vytvořte nový soubor kliknutím na odkaz"}]
[null,{"$f":"\"'\"&ListAVS!$B$267&\"'\"","v":"'Vytvořit objednávku'"}]
[]
[]
[null,null,null,null,null,null,null,null,null,{"$f":"ListAVS!$B$167","v":"Zpět"}]

{"sheet":"ListAVS","index":42,"n_rows":437,"n_cols":3,"rows_kept":437,"cut":false,"hidden":false,"merged":[[339,0,340,0],[342,0,343,0]]}
[null,{"$f":"$B$168","v":"Zpět na úvod"}]
[]
[null,"Co chcete plánovat?","Co chcete plánovat?"]
[]
[null,"systém výklopů","systém výklopů"]
[null,"pro skládací výklopy","pro skládací výklopy"]
[null,"pro výkyvné výklopy","pro výkyvné výklopy"]
[null,"pro zdvihací výklopy","pro zdvihací výklopy"]
[null,"pro výklopy","pro výklopy"]
[null,"pro malé výklopy","pro malé výklopy"]
[]
[null,"Tato aplikace slouží k snadnějšímu objednávání kování AVENTOS.","Tato aplikace slouží k snadnějšímu objednávání kování AVENTOS."]
[null,"Výsledky nemusí být přesné, zvláště při použití výpočtu hmotnosti.","Výsledky nemusí být přesné, zvláště při použití výpočtu hmotnosti."]
[]
[]
[null,"Dřevěná čela","Dřevěná čela"]
[null,"Dřevěné čelo","Dřevěné čelo"]
[null,"Dřevěná čela a široké alurámečky","Dřevěná čela a široké alurámečky"]
[null,"Široké alurámečky","Široké alurámečky"]
[null,"Široký alurámeček","Široký alurámeček"]
[null,"Úzké alurámečky","Úzké alurámečky"]
[null,"Úzký alurámeček","Úzký alurámeček"]
[null,"Tenké materiály","Tenké materiály"]
[null,"hmotnost alurámečků","hmotnost alurámečků"]
[null,"materiály tloušťky od 8 do 14 mm","materiály tloušťky od 8 do 14 mm"]
[null,"Materiál ","Materiál   "]
[]
[]
[null,"Počet mezistěn","Počet mezistěn"]
[null,"Krytky","Krytky"]
[null,"Ostatní","Ostatní"]
[]
[]
[]
[null,"horní čelo","horní čelo"]
[null,"dolní čelo","dolní čelo"]
[null,"zdvihač","zdvihač"]
[]
[]
[]
[null,"Cena za korpus","Cena za korpus"]
[null,"Cenová hladina","Cenová hladina"]
[null,"Základní ceny","Základní ceny"]
[null,"Nákupní ceny","Nákupní ceny"]
[null,"Se slevou","Se slevou"]
[null,"Zadejte výši slevy","Zadejte výši slevy"]
[null,"Ceny s volitelnou slevou","Ceny s volitelnou slevou"]
[null,"Ceny se slevou od prodejce","Ceny se slevou od prodejce"]
[null,"Nastavit","Nastavit"]
[]
[null,"Cena kování","Cena kování"]
[null,"Název","Název"]
[null,"Číslo artiklu","Číslo artiklu"]
[null,"Barva","Barva"]
[null,"Počet","Počet"]
[null,"Ks","Ks"]
[null,"Dostupnost","Dostupnost"]
[null,"Jednotková cena","Jednotková cena"]
[null,"Celkem","Celkem"]
[null,"Změna","Změna"]
[null,"Cena celkem bez DPH","Cena celkem bez DPH"]
[null,"Kč","Kč            (kód měny)"]
[]
[null,"Korpus","Korpus"]
[null,"Parametry korpusu","Parametry korpusu"]
[null,"Vypočtené","Vypočtené"]
[null,"Zadané","Zadané"]
[]
[null,"Hmotnost čel","Hmotnost čel"]
[]
[null,"Počet skříněk","Počet skříněk"]
[]
[null,"Výpočet hmotnosti čel","Výpočet hmotnosti čel"]
[null,"Šířka korpusu","Šířka korpusu"]
[null,"Výška korpusu","Výška korpusu"]
[null,"Hmotnost čela","Hmotnost čela"]
[null,"Hmotnost čela včetně úchytky","Hmotnost čela včetně úchytky"]
[null,"Hmotnost čela vč. 2x hmotnost úchytky","Hmotnost čela vč. 2x hmotnost úchytky"]
[null,"Vypočtená hmotnost čela","Vypočtená hmotnost čela"]
[null,"Síla čela","Síla čela"]
[null,"Síla horního čela","Síla horního čela"]
[null,"Síla dolního čela","Síla dolního čela"]
[null,"Hmotnost úchytky","Hmotnost úchytky"]
[null,"Zdvihací mechanizmus","Zdvihací mechanizmus"]
[null,"Sada zdvihacích mechanizmů","Sada zdvihacích mechanizmů"]
[null,"Ukazatel výkonnosti","Ukazatel výkonnosti"]
[null,"Třetí zdvihač","Třetí zdvihač"]
[null,"Druhý zdvihač","Druhý zdvihač"]
[null,"hustota","hustota"]
[null,"MDF","MDF"]
[null,"Dřevotříska","Dřevotříska"]
[null,"Jiné - volitelná hustota","Jiné - volitelná hustota"]
[null,"Alurámečky s 4mm sklem","Alurámečky s 4mm sklem"]
[null,"Alurámečky s 5mm sklem","Alurámečky s 5mm sklem"]
[null,"Alurámečky s jiným sklem","Alurámečky s jiným sklem"]
[null,"Kompakt","Kompakt"]
[null,"Kompozit","Kompozit"]
[null,"Kámen","Kámen"]
[null,"Keramika","Keramika"]
[null,"Beton","Beton"]
[null,"Hmotnosti materiálů","Hmotnosti materiálů"]
[null,"Není započtena hmotnost úchytky","Není započtena hmotnost úchytky"]
[null,"Opravdu máte úchytku na TIP-ON?","Opravdu máte úchytku na TIP-ON?"]
[null,"Jestli ne, smažte hmotnost úchytky.","Jestli ne, smažte hmotnost úchytky."]
[null,"Pro přesné hodnoty se obraťte na dodavatele materiálu","Pro přesné hodnoty se obraťte na dodavatele materiálu"]
[null,"Tyto hodnoty se budou zobrazovat jako přednastavené.","Tyto hodnoty se budou zobrazovat jako přednastavené."]
[]
[null,"v kombinaci se SERVO-DRIVE","v kombinaci se SERVO-DRIVE"]
[null,"nelze v kombinaci se SERVO-DRIVE","nelze v kombinaci se SERVO-DRIVE"]
[]
[null,"hodnota bude použita pro výpočet LF","hodnota bude použita pro výpočet LF"]
[null,"hodnota bude použita pro výběr zdvihače","hodnota bude použita pro výběr zdvihače"]
[null,"Použijte \"Výpočet hmotnosti\"","Použijte \"Výpočet hmotnosti\""]
[null,"Zadejte hmotnost nebo vyplňte buňky níže","Zadejte hmotnost nebo vyplňte buňky níže"]
[null,"Zadejte hmotnost nebo vyplňte všechny buňky","Zadejte hmotnost nebo vyplňte všechny buňky"]
[null,"Zadejte hmotnost nebo vyplňte nahoře sílu skla","Zadejte hmotnost nebo vyplňte nahoře sílu skla"]
[null,"Vyplňte nahoře objemovou hmotnost ","Vyplňte nahoře objemovou hmotnost "]
[null,"Vyplňte nahoře sílu skla ","Vyplňte nahoře sílu skla "]
[null,"Přídavný třetí zdvihač","Přídavný třetí zdvihač"]
[null,"Dva páry zdvihačů","Dva páry zdvihačů"]
[null,"Upravte hmotnost nebo výšku","Upravte hmotnost nebo výšku"]
[null,"nebo přidejte třetí zdvihač","nebo přidejte třetí zdvihač"]
[null,"Překročena maximální hmotnost","Překročena maximální hmotnost"]
[null,"Hmotnost mimo povolený rozsah","Hmotnost mimo povolený rozsah"]
[null,"Druhá pohonná jednotka","Druhá pohonná jednotka"]
[null,"Použijte pouze jeden zdvihač","Použijte pouze jeden zdvihač"]
[null,"Doplňte hodnoty","Doplňte hodnoty"]
[null,"Povinná hodnota","Povinná hodnota"]
[null,"Doporučená hodnota","Doporučená hodnota"]
[null,"Jednostranný zvihač","Jednostranný zvihač"]
[null,"Přidejte druhý zdvihač","Přidejte druhý zdvihač"]
[null,"Horní závěsy","Horní závěsy"]
[null,"Expando","Expando"]
[null,"na vruty","na vruty"]
[null,"Středové závěsy","Středové závěsy"]
[null,"Expando","Expando"]
[null,"na vruty","na vruty"]
[null,"Montážní podložky","Montážní podložky"]
[null,"Expando","Expando"]
[null,"na vruty","na vruty"]
[null,"Čelní kování","Čelní kování"]
[null,"Expando","Expando"]
[null,"na vruty","na vruty"]
[null,"Barva krytek","Barva krytek"]
[null,"Světle šedá (HGR)","Světle šedá (HGR)"]
[null,"Tmavě šedá (TGR)","Tmavě šedá (TGR)"]
[null,"Hedvábně bílá (SW)","Hedvábně bílá (SW)"]
[]
[null,"Omezovač úhlu otevření","Omezovač úhlu otevření"]
[null,"Boční čep","Boční čep"]
[]
[null,"Jdi na","Jdi na"]
[null,"Úvod plánování","Úvod plánování"]
[null,"Nápověda","Nápověda"]
[null,"Odkazy","Odkazy"]
[null,"Přehled korpusů","Přehled korpusů"]
[null,"Objednávka","Objednávka"]
[null,"Celková objednávka","Celková objednávka"]
[null,"Doplňky","Doplňky"]
[null,"Soupis kování","Soupis kování"]
[null,"Symetrická čela","Symetrická čela"]
[null,"Asymetrická čela","Asymetrická čela"]
[null,"Základní údaje","Základní údaje"]
[]
[null,"Ano","Ano"]
[null,"Ne","Ne"]
[null,"Zpět","Zpět"]
[null,"Zpět na úvod","Zpět na úvod"]
[null,"Zpět na plánování","Zpět na plánování"]
[null,"do","do"]
[null,"ks","ks"]
[]
[null,"Sada napájecího zdroje","Sada napájecího zdroje"]
[null,"Složení: napájecí zdroj Blum 24W, napájecí kabel a držák napájecího zdroje - montáž na stěnu","Složení: napájecí zdroj Blum 24W, napájecí kabel a držák napájecího zdroje - montáž na stěnu"]
[null,"Pokud u jakéhokoli výklopu zvolíte SERVO-DRIVE, bude do objednávky, bez ohledu na celkový počet výklopů, přidán 1x zdroj Blum 24W, 1x napájecí kabel a 1x držák zdroje. Případnou změnu množství upravte v objednávce.","Pokud u jakéhokoli výklopu zvolíte SERVO-DRIVE, bude do objednávky, bez ohledu na celkový počet výklopů, přidán 1x zdroj Blum 24W, 1x napájecí kabel a 1x držák zdroje. Případnou změnu množství upravte v objednávce."]
[null,"Cena bez napájecího zdroje!","Cena bez napájecího zdroje!"]
[]
[null,"váha úchytky","váha úchytky"]
[null,"Provedení čel","Provedení čel"]
[]
[null,"Přídavný třetí zdvihač může být použit pouze s plným spodním čelem!","Přídavný třetí zdvihač může být použit pouze s plným spodním čelem!"]
[null,"Přídavný třetí zdvihač může být použit pouze s plným čelem!","Přídavný třetí zdvihač může být použit pouze s plným čelem!"]
[null,"Pouze pro asymetrická čela: zadejte teoretickou výšku TKH.","Pouze pro asymetrická čela: zadejte teoretickou výšku TKH."]
[null,"TKH = dvojnásobná výška horního čela včetně mezer","TKH = dvojnásobná výška horního čela včetně mezer"]
[]
[null,"Pokud znáte hmotnost a nechcete využít výpočtu hmotnosti","Pokud znáte hmotnost a nechcete využít výpočtu hmotnosti"]
[null,"Pro určení typu zdvihače bude použita zadaná hmotnost","Pro určení typu zdvihače bude použita zadaná hmotnost"]
[null,"Pro určení typu zdvihače bude použita vypočtená hmotnost","Pro určení typu zdvihače bude použita vypočtená hmotnost"]
[null,"Chcete-li použít vypočtenou hmotnost, smažte zadanou hodnotu","Chcete-li použít vypočtenou hmotnost, smažte zadanou hodnotu"]
[null,"Chcete-li použít zadanou hmotnost, zadejte ji do políčka","Chcete-li použít zadanou hmotnost, zadejte ji do políčka"]
[]
[null,"Pro výběr teleskopů bude použita teoretická výška TKH","Pro výběr teleskopů bude použita teoretická výška TKH"]
[null,"Teoretická výška TKH nesmí být menší než KH","Teoretická výška TKH nesmí být menší než KH"]
[null,"Výpočet asymetrických čel","Výpočet asymetrických čel"]
[null,"Výpočet hmotnosti","Výpočet hmotnosti"]
[]
[null,"Parametry korpusu","Parametry korpusu"]
[null,"Změnit","Změnit"]
[null,"Výpočet","Výpočet"]
[null,"Mezera nahoře","Mezera nahoře"]
[null,"Mezera mezi čely","Mezera mezi čely"]
[null,"Mezera dole","Mezera dole"]
[null,"Síla dna korpusu","Síla dna korpusu"]
[]
[null,"Výsledky plánování","Výsledky plánování"]
[null,"Možné výšky čel","Možné výšky čel"]
[null,"Čelo nahoře (FHo) v rozmezí","Čelo nahoře (FHo) v rozmezí"]
[null,"Čelo dole (FHu) v rozmezí","Čelo dole (FHu) v rozmezí"]
[null,"od","od"]
[null,"do","do"]
[null,"nelze","nelze"]
[null,"Není k dispozici","Není k dispozici"]
[]
[null,"Výška čela nahoře","Výška čela nahoře"]
[null,"Výška čela dole","Výška čela dole"]
[null,"Pozice zdvihače","Pozice zdvihače"]
[null,"Pozice mont. podložky pro teleskopy","Pozice mont. podložky pro teleskopy"]
[null,"Teoretická výška korpusu","Teoretická výška korpusu"]
[]
[null,"Tuto výšku zadejte do tabulky pro plánování výklopů","Tuto výšku zadejte do tabulky pro plánování výklopů"]
[null,"Provedení","Provedení"]
[null,"Verze","Verze"]
[null,"Platnost ceníku od","Platnost ceníku od"]
[null,"Sleva","Sleva"]
[null,"Prodejce","Prodejce"]
[null,"Sleva od prodejce","Sleva od prodejce"]
[null,"Ceník","Ceník"]
[]
[null,"Z ergonomického hlediska doporučujeme maximální výšku korpusu 600mm. Dodržíte-li však hranici faktoru výkonnosti, můžete realizovat i vyšší výklopy.","Z ergonomického hlediska doporučujeme maximální výšku korpusu 600mm. Dodržíte-li však hranici faktoru výkonnosti, můžete realizovat i vyšší výklopy."]
[null,"U širokých korpusů doporučujeme nainstalovat třetí zdvihač na střed korpusu. Důvodem je prohýbání čela v otevřené pozici.","U širokých korpusů doporučujeme nainstalovat třetí zdvihač na střed korpusu. Důvodem je prohýbání čela v otevřené pozici."]
[null,"Také faktor výkonnosti LF a váha dveří mohou být o 50% navýšeny.","Také faktor výkonnosti LF a váha dveří mohou být o 50% navýšeny."]
[null,"Vše záleží na hodnotě faktoru výkonnosti","Vše záleží na hodnotě faktoru výkonnosti"]
[null,"Zadejte počet mezistěn v korpusu ","Zadejte počet mezistěn v korpusu"]
[null,"Nutná mezistěna","Nutná mezistěna"]
[null,"Pro třetí přídavný zdvihač je nutná mezistěna, pro dva páry zdvihačů je nutná dvojitá mezistěna","Pro třetí přídavný zdvihač je nutná mezistěna, pro dva páry zdvihačů je nutná dvojitá mezistěna"]
[null,"Upozornění: Vypočtené hodnoty jsou pouze orientační. ","Upozornění: Vypočtené hodnoty jsou pouze orientační. "]
[null,"Firma Blum ani prodejci neručí za jejich správnost.","Firma Blum ani prodejci neručí za jejich správnost."]
[]
[]
[null,"Hodnota platí jen pro volbu","Hodnota platí jen pro volbu"]
[null,"Objemová hmotnost materiálu čel","Objemová hmotnost materiálu čel"]
[null,"Hustota materiálu","Hustota materiálu"]
[null,"Změnit objemovou hmotnost ","Změnit objemovou hmotnost "]
[null,"Zadejte objemovou hmotnost ","Zadejte objemovou hmotnost "]
[null,"Zadejte sílu skla","Zadejte sílu skla"]
[null,"Hmotnost alurámečků","Hmotnost alurámečků"]
[]
[null,"Napájecí zdroj, napájecí kabel a držák napájecího zdroje","Napájecí zdroj, napájecí kabel a držák napájecího zdroje"]
[null,"Chcete-li přidat další komponenty, přejděte na stránku \"Doplňky\"","Chcete-li přidat další komponenty, přejděte na stránku \"Doplňky\""]
[]
[]
[null,"Omezovač úhlu otevření","Omezovač úhlu otevření"]
[]
[null,"Formulář pro identifikační údaje","Formulář pro identifikační údaje"]
[null,"Odběratel","Odběratel"]
[null,"Adresa","Adresa"]
[null,"Dodací adresa","Dodací adresa"]
[null,"IČO, DIČ","IČO, DIČ"]
[null,"Telefon, fax, e-mail","Telefon, fax, e-mail"]
[null,"Číslo objednávky","Číslo objednávky"]
[null,"Zakázka","Zakázka"]
[]
[]
[]
[null,"Poznámka","Poznámka"]
[]
[null,"Vytvořit objednávku","Vytvořit objednávku"]
[]
[]
[null,"Zde můžete vložit vlastní položky (následujících 10 řádků, zobrazí se v objednávce)","Zde můžete vložit vlastní položky (následujících 10 řádků, zobrazí se v objednávce)"]
[]
[]
[]
[null,"Vítejte v aplikaci AVENTPLAN","Vítejte v aplikaci AVENTPLAN"]
[null,"Před prvním spuštěním","Před prvním spuštěním"]
[null,"Přejděte na ","Přejděte na "]
[null,"Vyplňte identifikační údaje a výši slevy od prodejce.","Vyplňte identifikační údaje a výši slevy od prodejce."]
[null,"Po vyplnění se vraťte na úvod a subor uložte nebo zavřete s potvrzením změn.","Po vyplnění se vraťte na úvod a subor uložte nebo zavřete s potvrzením změn."]
[null,"Identifikační údaje se budou zobrazovat v objednávkách","Identifikační údaje se budou zobrazovat v objednávkách"]
[]
[null,"Na úvodní obrazovce vyberte, jaké ceny se budou zobrazovat:","Na úvodní obrazovce vyberte, jaké ceny se budou zobrazovat:"]
[null,"Základní (ceníkové) ceny bez slevy","Základní (ceníkové) ceny bez slevy"]
[null,"Zadáte-li slevu s mínusovým znamínkem, zobrazí se ceny o tuto hodnotu vyšší. ","Zadáte-li slevu s mínusovým znamínkem, zobrazí se ceny o tuto hodnotu vyšší. "]
[]
[null,"Proveďte volbu barvy krytek","Proveďte volbu barvy krytek"]
[null,"Volba ovlivní barvu krytek u všech vybraných zdvihačů.","Volba ovlivní barvu krytek u všech vybraných zdvihačů."]
[]
[null,"Kliknutím na obrázek nebo popis přejděte na požadovaný typ zdvihače.","Kliknutím na obrázek nebo popis přejděte na požadovaný typ zdvihače."]
[]
[null,"Legenda","Legenda"]
[null,"Změna zobrazovaných hodnot","Změna zobrazovaných hodnot"]
[null,"Výpočet hmotnosti","Výpočet hmotnosti"]
[null,"Změna hmotností uživatelem","Změna hmotností uživatelem"]
[null,"Upozornění","Upozornění"]
[null,"Informace a vysvětlivky","Informace a vysvětlivky"]
[null,"Tip","Tip"]
[null,"Nápověda","Nápověda"]
[null,"Odkazy na brožury, montážní návody a instrukážní videa","Odkazy na brožury, montážní návody a instrukážní videa"]
[null,"Soubory PDF","Soubory PDF"]
[]
["HF","Vyberte požadovanou montážní techniku pro závěsy a podložky","Vyberte požadovanou montážní techniku pro závěsy a podložky"]
[null,"Potřebný zdvihač se určí pomocí ukazatele výkonnosti.","Potřebný zdvihač se určí pomocí ukazatele výkonnosti."]
[null,"Ukazatel výkonnosti závisí na hmotnosti dolního i horního čílka, a rovněž na výšce korpusu.","Ukazatel výkonnosti závisí na hmotnosti dolního i horního čílka, a rovněž na výšce korpusu."]
[]
[null,"Chcete-li změnit barvu krytek, přejděte na \"Úvod plánování\"","Chcete-li změnit barvu krytek, přejděte na \"Úvod plánování\""]
[null,"Chcete-li změnit provedení zdvihače (plná/částečná integrace), přejděte na výběr HKi","Chcete-li změnit provedení zdvihače (plná/částečná integrace), přejděte na výběr HKi"]
[null,"Je-li ukazatel výkonnosti větší než 19300, přidá se třetí zdvihač.","Je-li ukazatel výkonnosti větší než 19300, přidá se třetí zdvihač."]
[null,"Je-li ukazatel výkonnosti větší než 28950, přidá se druhý pár zdvihačů.","Je-li ukazatel výkonnosti větší než 28950, přidá se druhý pár zdvihačů."]
[null,"Pokud je zvolen SERVO-DRIVE, přidá se rovněž druhá pohonná jednotka.","Pokud je zvolen SERVO-DRIVE, přidá se rovněž druhá pohonná jednotka."]
[]
[null,"Pokud znáte hmotnost čela, můžete ji zadat, jinak použijte \"Výpočet hmotnosti\".","Pokud znáte hmotnost čela, můžete ji zadat, jinak použijte \"Výpočet hmotnosti\"."]
[null,"V tabulce má přednost zadaná hodnota. Chcete-li použít vypočtenou hmotnost, smažte zadanou hodnotu.","V tabulce má přednost zadaná hodnota. Chcete-li použít vypočtenou hmotnost, smažte zadanou hodnotu."]
[]
[]
[null,"U asymetrických čel musí být větší čelo nahoře!","U asymetrických čel musí být větší čelo nahoře!"]
[]
[null,"Způsob otvírání","Způsob otvírání"]
[]
[null,"výška korpusu KH [mm] x hmotnost obou čel včetně úchytky","výška korpusu KH [mm] x hmotnost obou čel včetně úchytky"]
[null,"Teoretická výška korpusu (TKH) = výška horního čela (FHo) x 2 (včetně mezer)","Teoretická výška korpusu (TKH) = výška horního čela (FHo) x 2 (včetně mezer)"]
[]
[null,"Délka teleskopů závisí na výšce korpusu KH","Délka teleskopů závisí na výšce korpusu KH"]
[null,"U asymetrických čel se použije teoretická výška TKH","U asymetrických čel se použije teoretická výška TKH"]
[]
[null,"Pokud zadáte hodnotu TKH, použije se pro určení délky teleskopů","Pokud zadáte hodnotu TKH, použije se pro určení délky teleskopů"]
[null,"Nemáte-li asymetrická čela, nechte políčko prázdné.","Nemáte-li asymetrická čela, nechte políčko prázdné."]
[null,"Pro výpočet TKH použijte","Pro výpočet TKH použijte"]
[]
[]
[]
["HS","Vyberte požadovanou montážní techniku pro čelní kování","Vyberte požadovanou montážní techniku pro čelní kování"]
[null,"Pro výběr správného zdvihače potřebujete znát výšku korpusu a hmotnost čela.","Pro výběr správného zdvihače potřebujete znát výšku korpusu a hmotnost čela."]
[]
[null,"Výška korpusu KH = 602 mm zaokrouhlit na KH = 600 mm","Výška korpusu KH = 602 mm zaokrouhlit na KH = 600 mm"]
[null,"Výška korpusu KH = 603 mm zaokrouhlit na KH = 605 mm","Výška korpusu KH = 603 mm zaokrouhlit na KH = 605 mm"]
[]
["HL","Pro tyto parametry korpusu lze použít také ramena ","Pro tyto parametry korpusu lze použít také ramena "]
[null,"Výběr můžete upravit v objednávce.","Výběr můžete upravit v objednávce."]
[]
["HK HK-S","Ukazatel výkonnosti závisí na hmotnosti čela (včetně dvojnásobné hmotnosti úchytky) a na výšce korpusu.","Ukazatel výkonnosti závisí na hmotnosti čela (včetně dvojnásobné hmotnosti úchytky) a na výšce korpusu."]
[null,"výška korpusu (KH) [mm] x hmotnost čela včetně dvojnásobné hmotnosti úchytky","výška korpusu (KH) [mm] x hmotnost čela včetně dvojnásobné hmotnosti úchytky"]
[]
["HKi","Pro objednání sady předfrézovaných boků použijte","Pro objednání sady předfrézovaných boků použijte"]
[null,"výška korpusu (KH) [mm] x hmotnost čela včetně dvojnásobné hmotnosti úchytky","výška korpusu (KH) [mm] x hmotnost čela včetně dvojnásobné hmotnosti úchytky"]
[]
[null,"Provedení zdvihače","Provedení zdvihače"]
[null,"Způsob montáže","Způsob montáže"]
[null,"Zvolte, jaký způsob montáže chcete","Zvolte, jaký způsob montáže chcete"]
[null,"vruty","vruty"]
[null,"předmont. eurošrouby","předmont. eurošrouby"]
[null,"zdvihače s integrovanou šablonou (bez nutnosti rozměřování)","zdvihače s integrovanou šablonou (bez nutnosti rozměřování)"]
[null,"zdvihače s předmotovanými šrouby (nutné předvrtání)","zdvihače s předmotovanými šrouby (nutné předvrtání)"]
[null,"V případě použití po obou stranách se faktor výkonnosti zdvojnásobí.","V případě použití zdvihače po obou stranách se faktor výkonnosti zdvojnásobí."]
[null,"V případě využití třetího zdvihače můžete zvýšit ukazatel výkonnosti a tudíž hmotnost čílka o 50%.","V případě využití třetího zdvihače můžete zvýšit ukazatel výkonnosti a tudíž hmotnost čílka o 50%."]
[null,"Platí jen pro zdvihač 20K2E00","Platí jen pro zdvihač 20K2E00"]
[]
[]
[null,"Položky SERVO-DRIVE a - d se do objednávky načítají z jednotlivých korpusů.","Položky SERVO-DRIVE a - d se do objednávky načítají z jednotlivých korpusů."]
[null,"Zde slouží jen k doobjednání jednotlivých kusů. ","Zde slouží jen k doobjednání jednotlivých kusů. "]
[]
[]
[null,"V přehledu se zobrazují rozměry korpusů, volba SERVO-DRIVE a počet kusů.","V přehledu se zobrazují rozměry korpusů, volba SERVO-DRIVE a počet kusů."]
[null,"Pokud se u korpusu zobrazí pouze rozměry, může to znamenat:","Pokud se u korpusu zobrazí pouze rozměry, může to znamenat:"]
[null,"není zadán počet kusů","není zadán počet kusů"]
[null,"nejsou doplněny všechny povinné parametry","nejsou doplněny všechny povinné parametry"]
[null,"jsou překročeny hodnoty povinných parametrů (např. max. výška)","jsou překročeny hodnoty povinných parametrů (např. max. výška)"]
[null,"V tom případě se korpus nenačte do objednávky.","V tom případě se korpus nenačte do objednávky."]
[null,"Kliknutím na název korpusu přejděte na stránku zdvihače a údaje doplňte nebo opravte.","Kliknutím na název korpusu přejděte na stránku zdvihače a údaje doplňte nebo opravte."]
[]
[]
[null,"Můžete doplnit číslo objednávky a označení zakázky.","Můžete doplnit číslo objednávky a označení zakázky."]
[null,"Údaje o odběrateli se načítají z  \"Formuláře\".","Údaje o odběrateli se načítají z  \"Formuláře\"."]
[null,"Chcete-li údaje doplnit nebo změnit, jděte na \"Úvod\" a klikněte na \"Formulář \"","Chcete-li údaje doplnit nebo změnit, jděte na \"Úvod\" a klikněte na \"Formulář \""]
[null,"Ceny v objednávce se zobrazují v cenové hladině nastavené na úvodní straně.","Ceny v objednávce se zobrazují v cenové hladině nastavené na úvodní straně."]
[]
[null,"V objednávce můžete měnit počty kusů. ","V objednávce můžete měnit počty kusů. "]
[null,"Pokud chcete určitou položku vynulovat, zadejte do políčka ve sloupci \"Změna\" hodnotu \"x\"","Pokud chcete určitou položku vynulovat, zadejte do políčka ve sloupci \"Změna\" hodnotu \"x\""]
[null,"Pro doplnění artiklů, které nejsou v objednávce můžete použít prázdné řádky.","Pro doplnění artiklů, které nejsou v objednávce můžete použít prázdné řádky."]
[]
[null,"Po úpravě objenávky odfiltrujte pomocí filtru ve sloupci \"Ks\" prázné řádky.","Po úpravě objenávky odfiltrujte pomocí filtru ve sloupci \"Ks\" prázné řádky."]
[]
[null,"Chcete-li objednávku uložit nebo odeslat jako přílohu, vytvořte nový soubor kliknutím na odkaz","Chcete-li objednávku uložit nebo odeslat jako přílohu, vytvořte nový soubor kliknutím na odkaz"]
[null,"Než soubor vytisknete nebo odešlete, odfiltrujte prázdné řádky.","Než soubor vytisknete nebo odešlete, odfiltrujte prázdné řádky."]
[]
[null,"Ostatní doplňky","Ostatní doplňky"]
[null,"Sada ramen","Sada ramen"]
[null,"Montážní podložky  / Čelní kování","Montážní podložky  / Čelní kování"]
[null,"Odstup čela","Odstup čela"]
[]
[null,"Sada krytek pro AVENTOS","Sada krytek pro AVENTOS"]
[null,"Sada krytek pro AVENTOS se SERVO-DRIVE","Sada krytek pro AVENTOS se SERVO-DRIVE"]
[null,"Krytky v provedení Nikl (NI-L) můžete přidat v oddílu \"Doplňky\"","Krytky v provedení Nikl (NI-L) můžete přidat v oddílu \"Doplňky\""]
[null,"Ověření síly zdvihače","Ověření síly zdvihače"]
[null,"Odstup čela od korpusu","Odstup čela od korpusu"]
[null,"Sklo","Sklo"]
[null,"Před prvním použitím doporučujeme zadat identifikační údaje pro objednávky a poté sešit uložit","Před prvním použitím doporučujeme zadat identifikační údaje pro objednávky a poté sešit uložit"]
[null,"Údaje pro objednávku, zadání slevy od prodejce","Údaje pro objednávku, zadání slevy od prodejce"]
[null,"Hmotnosti materiálů, skla a alurámečků","Hmotnosti materiálů, skla a alurámečků"]
[null,"Přednastavená","Přednastavená"]
[null,"Podle Úvodu","Podle Úvodu"]
[null,"Vlastní","Vlastní"]
[null,"Tabulka hmotností","Tabulka hmotností"]
[null,"Vyberte typ alurámečku!","Vyberte typ alurámečku!"]
[null,"Více informací k výběru alurámečků v Nápovědě","Více informací k výběru alurámečků v Nápovědě"]
[null,"Hmotnost spojovacího materiálu","Hmotnost spojovacího materiálu"]
[null,"Rohové spojky, šrouby, těsnění pro jeden rámeček","Rohové spojky, šrouby, těsnění pro jeden rámeček"]
[null,"Můžete nastavit hodnoty pro všechny výklopy nebo můžete měnit nastavení až při plánování jednotlivých výklopů.","Můžete nastavit hodnoty pro všechny výklopy nebo můžete měnit nastavení až při plánování jednotlivých výklopů."]
[null,"Chcete-li změny zachovat i pro příští použití, vraťte se na úvod a soubor uložte.","Chcete-li změny zachovat i pro příští použití, vraťte se na úvod a soubor uložte."]
[null,"Přejít k plánování výklopů","Přejít k plánování výklopů"]
[null,"Změnit hodnoty můžete v Úvodu plánování","Změnit hodnoty můžete v Úvodu plánování"]
[null,"Věnujte pozornost výběru alurámečků.","Věnujte pozornost výběru alurámečků."]
[null,"Vyberte, který typ lépe odpovídá tvaru použitého alurámečku.","Vyberte, který typ lépe odpovídá tvaru použitého alurámečku."]
[null,"Způsob osazení skla do rámečku výrazně ovlivňuje plochu skla a tím i hmotnost!","Způsob osazení skla do rámečku výrazně ovlivňuje plochu skla a tím i hmotnost!"]
[null,"Jako čelní kování pro HK-S umožňuje realizovat výklopy až do 600mm.","Jako čelní kování pro HK-S umožňuje realizovat výklopy až do 600mm."]
[null,"Hodnoty hmotností byly změněny uživatelem.","Hodnoty hmotností byly změněny uživatelem."]
[null,"Výběr barvy ovlivní i barvu pístů, popř. adaptérů TIP-ON","Výběr barvy ovlivní i barvu pístů, popř. adaptérů TIP-ON"]
[null,"Omezovač pouze pro závěsy CLIP top BLUMOTION a CLIP top 110°","Omezovač pouze pro závěsy CLIP top BLUMOTION a CLIP top 110°"]
[null,"Nelze pro úzké alurámečky","Nelze pro úzké alurámečky"]
[null,"Omezovač pro závěsy CLIP top BLUMOTION a CLIP top 110°  pro tenké dveře","Omezovač pro závěsy CLIP top BLUMOTION a CLIP top 110°  pro tenké dveře"]
[null,"Mějte prosím na paměti, že použitelných materiálů je celá řada. Vzhledem k různé objemové hmotnosti nelze zaručit, že všechny materiály budou použitelné pro každou velikost skříňky. Obzvláště u lehčích materiálů nemusí hmotnost čela dosáhnout minimální hodnoty pro daný rozměr. Pokud se po správném zadání všech parametrů nezobrazí v Soupisu kování žádné hodnoty, je pravděpodobné, že váha čela je pod minimální hodnotou. V tom případě nelze výklop realizovat.","Mějte prosím na paměti, že použitelných materiálů je celá řada. Vzhledem k různé objemové hmotnosti nelze zaručit, že všechny materiály budou použitelné pro každou velikost skříňky. Obzvláště u lehčích materiálů nemusí hmotnost čela dosáhnout minimální hodnoty pro daný rozměr. Pokud se po správném zadání všech parametrů nezobrazí v Soupisu kování žádné hodnoty, je pravděpodobné, že váha čela je pod minimální hodnotou. V tom případě nelze výklop realizovat."]
[]
[null,"s vloženým sklem","s vloženým sklem"]
[null,"s naloženým nebo nalepeným sklem","s naloženým nebo nalepeným sklem"]
[null,"s vloženým sklem","s vloženým sklem"]
[null,"s naloženým nebo nalepeným sklem","s naloženým nebo nalepeným sklem"]
[null,null," * maximálně 40 znaků včetně mezer!"]
[]
[null,"provedení zdvihače","provedení zdvihače"]
[null,"plně integrovaný","plně integrovaný"]
[null,"částečně integrovaný (s krytkou)","částečně integrovaný (s krytkou)"]
[]
[]
[]
[]
[]
[]
[null,{"$f":"$B$168","v":"Zpět na úvod"}]

{"sheet":"Zones","index":43,"n_rows":9,"n_cols":14,"rows_kept":9,"cut":false,"hidden":true,"merged":[[8,13,9,14],[11,5,11,10],[8,5,9,6],[8,7,9,8],[8,9,9,10],[8,11,9,12]]}
[]
[]
[]
[]
[]
[]
[]
[]
[null,null,null,null,null,"Zásoby",null,"Ukládání",null,"Mytí",null,"Příprava",null,"Vaření"]

{"sheet":"CenAVS","index":44,"n_rows":210,"n_cols":23,"rows_kept":210,"cut":false,"hidden":true,"merged":[[8,16,9,16],[8,17,9,17]]}
[]
["Barva: ",{"$f":"IF(C2=1,\"světle šedá\",IF(C2=2,\"tmavě šedá\",IF(C2=3,\"hedvábně bílá\", \"x\")))","v":"světle šedá"},{"$f":"MenuAVS!$P$28","v":1},null,null,null,null,null,null,null,null,{"$f":"ListAVS!B168","v":"Zpět na úvod"}]
["Čela:  ",{"$f":"IF(C3=1,\"standard\",IF(C3=2,\"tenké\",\"chyba\"))","v":"chyba"}]
["Čelní kování:  ",{"$f":"IF(C4=1,\"na vruty\",IF(C4=2,\"EXPANDO\",\"chyba\"))","v":"chyba"}]
[]
["Cena:  ",null,{"$f":"Form!$Q$16","v":1},null,null,{"$f":"Form!$G$23","v":0}]
[]
[]
[null,null,null,null,null,null,null,null,null,null,null,null,null,null,null,null,{"$f":"Price!F10&\" po slevě\"","v":"Jednotková cena po slevě"},{"$f":"Price!F10","v":"Jednotková cena"}]
[{"$f":"L10","v":"Název"},"Číslo artiklu","Barva",{"$f":"O10","v":"Dostupnost"},null,{"$f":"Q9","v":"Jednotková cena po slevě"},null,null,"IDNr.",0,null,{"$f":"Price!A10","v":"Název"},{"$f":"Price!B10","v":"Číslo artiklu"},{"$f":"Price!C10","v":"Barva"},{"$f":"Price!D10","v":"Dostupnost"},null,null,null,null,{"$f":"Price!G10","v":"IDNr."},{"$f":"Price!H10","v":0},null,"platnost ceníku od:"]
["Sada zdvihačů HF top, na vruty","22F2500","ZN",0,0,{"$f":"Q11","v":1651.93},null,null,6115096,"D906606",null,{"$f":"Price!A11","v":"Sada zdvihačů HF top, na vruty"},{"$f":"Price!B11","v":"22F2500"},{"$f":"Price!C11","v":"ZN"},{"$f":"Price!D11","v":0},null,{"$f":"R11*(100-$F$6)/100","v":1651.93},{"$f":"Price!F11","v":1651.93},null,{"$f":"Price!G11","v":6115096},{"$f":"Price!H11","v":"D906606"},null,{"$f":"Price!H8","v":"00:00:00"}]
["Sada zdvihačů HF top, předmont. eurošrouby","22F2510","ZN",0,0,{"$f":"Q12","v":1651.93},null,null,6225429,"D906608",null,{"$f":"Price!A12","v":"Sada zdvihačů HF top, předmont. eurošrouby"},{"$f":"Price!B12","v":"22F2510"},{"$f":"Price!C12","v":"ZN"},{"$f":"Price!D12","v":0},null,{"$f":"R12*(100-$F$6)/100","v":1651.93},{"$f":"Price!F12","v":1651.93},null,{"$f":"Price!G12","v":6225429},{"$f":"Price!H12","v":"D906608"}]
["Sada zdvihačů HF top, na vruty","22F2800","ZN",0,0,1805.55,null,null,1755700,"D906607",null,{"$f":"Price!A13","v":"Sada zdvihačů HF top, na vruty"},{"$f":"Price!B13","v":"22F2800"},{"$f":"Price!C13","v":"ZN"},{"$f":"Price!D13","v":0},null,1805.55,{"$f":"Price!F13","v":1805.55},null,{"$f":"Price!G13","v":1755700},{"$f":"Price!H13","v":"D906607"}]
[{"$f":"L14","v":"Sada zdvihačů HF top, předmont. eurošrouby"},"22F2810","ZN",0,0,1805.55,null,null,{"$f":"T14","v":6445555},{"$f":"U14","v":"D906609"},null,{"$f":"Price!A14","v":"Sada zdvihačů HF top, předmont. eurošrouby"},{"$f":"Price!B14","v":"22F2810"},{"$f":"Price!C14","v":"ZN"},{"$f":"Price!D14","v":0},null,{"$f":"R14*(100-$F$6)/100","v":1805.55},{"$f":"Price!F14","v":1805.55},null,{"$f":"Price!G14","v":6445555},{"$f":"Price!H14","v":"D906609"}]
["Sada teleskopů HF top (480–610 mm)","22F3200","NI",0,0,785.14,null,null,8795903,"D906610",null,{"$f":"Price!A15","v":"Sada teleskopů HF top (480–610 mm)"},{"$f":"Price!B15","v":"22F3200"},{"$f":"Price!C15","v":"NI"},{"$f":"Price!D15","v":0},null,785.14,{"$f":"Price!F15","v":785.14},null,{"$f":"Price!G15","v":8795903},{"$f":"Price!H15","v":"D906610"}]
["Sada teleskopů HF top (600–910 mm)","22F3500","NI",0,0,964.4,null,null,7893366,"D906611",null,{"$f":"Price!A16","v":"Sada teleskopů HF top (600–910 mm)"},{"$f":"Price!B16","v":"22F3500"},{"$f":"Price!C16","v":"NI"},{"$f":"Price!D16","v":0},null,964.4,{"$f":"Price!F16","v":964.4},null,{"$f":"Price!G16","v":7893366},{"$f":"Price!H16","v":"D906611"}]
[{"$f":"L17","v":"Sada teleskopů HF top (840–1200 mm)"},{"$f":"M17","v":"22F3900"},{"$f":"N17","v":"NI"},{"$f":"O17","v":0},{"$f":"P17","v":0},1143.6400000000001,null,null,{"$f":"T17","v":6927662},{"$f":"U17","v":"D906612"},null,{"$f":"Price!A17","v":"Sada teleskopů HF top (840–1200 mm)"},{"$f":"Price!B17","v":"22F3900"},{"$f":"Price!C17","v":"NI"},{"$f":"Price!D17","v":0},null,1143.6400000000001,{"$f":"Price!F17","v":1143.6400000000001},null,{"$f":"Price!G17","v":6927662},{"$f":"Price!H17","v":"D906612"}]
[{"$f":"L18","v":"Závěs CLIP top 120° "},{"$f":"M18","v":"70T5550.TL"},{"$f":"N18","v":"NI"},{"$f":"O18","v":0},{"$f":"P18","v":0},56.56,null,null,{"$f":"T18","v":6510533},{"$f":"U18","v":"D033609"},null,{"$f":"Price!A18","v":"Závěs CLIP top 120° "},{"$f":"Price!B18","v":"70T5550.TL"},{"$f":"Price!C18","v":"NI"},{"$f":"Price!D18","v":0},null,56.56,{"$f":"Price!F18","v":56.56},null,{"$f":"Price!G18","v":6510533},{"$f":"Price!H18","v":"D033609"}]
["Závěs CLIP top 120° EXPANDO","70T558E","NI",0,0,53.42,null,null,7606263,"D354089",null,{"$f":"Price!A19","v":"Závěs CLIP top 120° EXPANDO"},{"$f":"Price!B19","v":"70T558E"},{"$f":"Price!C19","v":"NI"},{"$f":"Price!D19","v":0},null,53.42,{"$f":"Price!F19","v":53.42},null,{"$f":"Price!G19","v":7606263},{"$f":"Price!H19","v":"D354089"}]
["Středový závěs CLIP top ","78Z5500T","NI",0,0,92.71,null,null,6796673,"D055349",null,{"$f":"Price!A20","v":"Středový závěs CLIP top "},{"$f":"Price!B20","v":"78Z5500T"},{"$f":"Price!C20","v":"NI"},{"$f":"Price!D20","v":0},null,92.71,{"$f":"Price!F20","v":92.71},null,{"$f":"Price!G20","v":6796673},{"$f":"Price!H20","v":"D055349"}]
["Středový závěs CLIP top EXPANDO","78Z553ET","NI",0,0,95.69,null,null,6797133,"D354094",null,{"$f":"Price!A21","v":"Středový závěs CLIP top EXPANDO"},{"$f":"Price!B21","v":"78Z553ET"},{"$f":"Price!C21","v":"NI"},{"$f":"Price!D21","v":0},null,95.69,{"$f":"Price!F21","v":95.69},null,{"$f":"Price!G21","v":6797133},{"$f":"Price!H21","v":"D354094"}]
["Závěs CLIP top pro alurámečky","72T550A.TL","NI",0,0,77.180000000000007,null,null,7655633,"D159491",null,{"$f":"Price!A22","v":"Závěs CLIP top pro alurámečky"},{"$f":"Price!B22","v":"72T550A.TL"},{"$f":"Price!C22","v":"NI"},{"$f":"Price!D22","v":0},null,77.180000000000007,{"$f":"Price!F22","v":77.180000000000007},null,{"$f":"Price!G22","v":7655633},{"$f":"Price!H22","v":"D159491"}]
["Střed. závěs CLIP top pro alurámečky","78Z550AT","NI",0,0,101.63,null,null,6797303,"D124476",null,{"$f":"Price!A23","v":"Střed. závěs CLIP top pro alurámečky"},{"$f":"Price!B23","v":"78Z550AT"},{"$f":"Price!C23","v":"NI"},{"$f":"Price!D23","v":0},null,101.63,{"$f":"Price!F23","v":101.63},null,{"$f":"Price!G23","v":6797303},{"$f":"Price!H23","v":"D124476"}]
["Adaptér CLIP k teleskopům P","175H5B00   R","NI",0,0,90.34,null,null,6796243,"D124479",null,{"$f":"Price!A24","v":"Adaptér CLIP k teleskopům P"},{"$f":"Price!B24","v":"175H5B00   R"},{"$f":"Price!C24","v":"NI"},{"$f":"Price!D24","v":0},null,90.34,{"$f":"Price!F24","v":90.34},null,{"$f":"Price!G24","v":6796243},{"$f":"Price!H24","v":"D124479"}]
["Adaptér CLIP k teleskopům L","175H5B00   L","NI",0,0,90.34,null,null,6796593,"D124478",null,{"$f":"Price!A25","v":"Adaptér CLIP k teleskopům L"},{"$f":"Price!B25","v":"175H5B00   L"},{"$f":"Price!C25","v":"NI"},{"$f":"Price!D25","v":0},null,90.34,{"$f":"Price!F25","v":90.34},null,{"$f":"Price!G25","v":6796593},{"$f":"Price!H25","v":"D124478"}]
["Adaptér CLIP ke středovým závěsům","175H5A00","NI",0,0,90.34,null,null,6796303,"D124477",null,{"$f":"Price!A26","v":"Adaptér CLIP ke středovým závěsům"},{"$f":"Price!B26","v":"175H5A00"},{"$f":"Price!C26","v":"NI"},{"$f":"Price!D26","v":0},null,90.34,{"$f":"Price!F26","v":90.34},null,{"$f":"Price!G26","v":6796303},{"$f":"Price!H26","v":"D124477"}]
[0,0,0,0,0,0,null,null,0,0,null,{"$f":"Price!A27","v":0},{"$f":"Price!B27","v":0},{"$f":"Price!C27","v":0},{"$f":"Price!D27","v":0},null,0,{"$f":"Price!F27","v":0},null,{"$f":"Price!G27","v":0},{"$f":"Price!H27","v":0}]
["Sada zdvihačů HS top, na vruty","22S2200","ZN",0,0,1754.34,null,null,6873965,"D906613",null,{"$f":"Price!A28","v":"Sada zdvihačů HS top, na vruty"},{"$f":"Price!B28","v":"22S2200"},{"$f":"Price!C28","v":"ZN"},{"$f":"Price!D28","v":0},null,1754.34,{"$f":"Price!F28","v":1754.34},null,{"$f":"Price!G28","v":6873965},{"$f":"Price!H28","v":"D906613"}]
["Sada zdvihačů HS top, předmont. eurošrouby","22S2210","ZN",0,0,1754.34,null,null,8437807,"D906616",null,{"$f":"Price!A29","v":"Sada zdvihačů HS top, předmont. eurošrouby"},{"$f":"Price!B29","v":"22S2210"},{"$f":"Price!C29","v":"ZN"},{"$f":"Price!D29","v":0},null,1754.34,{"$f":"Price!F29","v":1754.34},null,{"$f":"Price!G29","v":8437807},{"$f":"Price!H29","v":"D906616"}]
["Sada zdvihačů HS top, na vruty","22S2500","ZN",0,0,1856.76,null,null,4544774,"D906614",null,{"$f":"Price!A30","v":"Sada zdvihačů HS top, na vruty"},{"$f":"Price!B30","v":"22S2500"},{"$f":"Price!C30","v":"ZN"},{"$f":"Price!D30","v":0},null,1856.76,{"$f":"Price!F30","v":1856.76},null,{"$f":"Price!G30","v":4544774},{"$f":"Price!H30","v":"D906614"}]
["Sada zdvihačů HS top, předmont. eurošrouby","22S2510","ZN",0,0,1856.76,null,null,4339002,"D906617",null,{"$f":"Price!A31","v":"Sada zdvihačů HS top, předmont. eurošrouby"},{"$f":"Price!B31","v":"22S2510"},{"$f":"Price!C31","v":"ZN"},{"$f":"Price!D31","v":0},null,1856.76,{"$f":"Price!F31","v":1856.76},null,{"$f":"Price!G31","v":4339002},{"$f":"Price!H31","v":"D906617"}]
["Sada zdvihačů HS top, na vruty","22S2800","ZN",0,0,1972,null,null,6726108,"D906615",null,{"$f":"Price!A32","v":"Sada zdvihačů HS top, na vruty"},{"$f":"Price!B32","v":"22S2800"},{"$f":"Price!C32","v":"ZN"},{"$f":"Price!D32","v":0},null,1972,{"$f":"Price!F32","v":1972},null,{"$f":"Price!G32","v":6726108},{"$f":"Price!H32","v":"D906615"}]
["Sada zdvihačů HS top, předmont. eurošrouby","22S2810","ZN",0,0,1972,null,null,1560191,"D906618",null,{"$f":"Price!A33","v":"Sada zdvihačů HS top, předmont. eurošrouby"},{"$f":"Price!B33","v":"22S2810"},{"$f":"Price!C33","v":"ZN"},{"$f":"Price!D33","v":0},null,1972,{"$f":"Price!F33","v":1972},null,{"$f":"Price!G33","v":1560191},{"$f":"Price!H33","v":"D906618"}]
["Sada ramen HS top","22S3500","ZN",0,0,1169.26,null,null,4455776,"D906619",null,{"$f":"Price!A34","v":"Sada ramen HS top"},{"$f":"Price!B34","v":"22S3500"},{"$f":"Price!C34","v":"ZN"},{"$f":"Price!D34","v":0},null,1169.26,{"$f":"Price!F34","v":1169.26},null,{"$f":"Price!G34","v":4455776},{"$f":"Price!H34","v":"D906619"}]
[{"$f":"L35","v":0},{"$f":"M35","v":0},{"$f":"N35","v":0},{"$f":"O35","v":0},{"$f":"P35","v":0},0,null,null,{"$f":"T35","v":0},{"$f":"U35","v":0},null,{"$f":"Price!A35","v":0},{"$f":"Price!B35","v":0},{"$f":"Price!C35","v":0},{"$f":"Price!D35","v":0},null,0,{"$f":"Price!F35","v":0},null,{"$f":"Price!G35","v":0},{"$f":"Price!H35","v":0}]
["Sada zdvihačů HL top, na vruty","22L2200","ZN",0,0,1754.34,null,null,5877526,"D906620",null,{"$f":"Price!A36","v":"Sada zdvihačů HL top, na vruty"},{"$f":"Price!B36","v":"22L2200"},{"$f":"Price!C36","v":"ZN"},{"$f":"Price!D36","v":0},null,1754.34,{"$f":"Price!F36","v":1754.34},null,{"$f":"Price!G36","v":5877526},{"$f":"Price!H36","v":"D906620"}]
["Sada zdvihačů HL top, předmont. eurošrouby","22L2210","ZN",0,0,1754.34,null,null,1723404,"D906622",null,{"$f":"Price!A37","v":"Sada zdvihačů HL top, předmont. eurošrouby"},{"$f":"Price!B37","v":"22L2210"},{"$f":"Price!C37","v":"ZN"},{"$f":"Price!D37","v":0},null,{"$f":"R37*(100-$F$6)/100","v":1754.34},{"$f":"Price!F37","v":1754.34},null,{"$f":"Price!G37","v":1723404},{"$f":"Price!H37","v":"D906622"}]
["Sada zdvihačů HL top, na vruty","22L2500","ZN",0,0,1882.38,null,null,6119711,"D906621",null,{"$f":"Price!A38","v":"Sada zdvihačů HL top, na vruty"},{"$f":"Price!B38","v":"22L2500"},{"$f":"Price!C38","v":"ZN"},{"$f":"Price!D38","v":0},null,1882.38,{"$f":"Price!F38","v":1882.38},null,{"$f":"Price!G38","v":6119711},{"$f":"Price!H38","v":"D906621"}]
["Sada zdvihačů HL top, předmont. eurošrouby","22L2510","ZN",0,0,1882.38,null,null,3220181,"D906623",null,{"$f":"Price!A39","v":"Sada zdvihačů HL top, předmont. eurošrouby"},{"$f":"Price!B39","v":"22L2510"},{"$f":"Price!C39","v":"ZN"},{"$f":"Price!D39","v":0},null,1882.38,{"$f":"Price!F39","v":1882.38},null,{"$f":"Price!G39","v":3220181},{"$f":"Price!H39","v":"D906623"}]
["Sada ramen HL top (300–339 mm)","22L3200","NI",0,0,1233.67,null,null,8484930,"D906624",null,{"$f":"Price!A40","v":"Sada ramen HL top (300–339 mm)"},{"$f":"Price!B40","v":"22L3200"},{"$f":"Price!C40","v":"NI"},{"$f":"Price!D40","v":0},null,1233.67,{"$f":"Price!F40","v":1233.67},null,{"$f":"Price!G40","v":8484930},{"$f":"Price!H40","v":"D906624"}]
["Sada ramen HL top (340–389 mm)","22L3500","NI",0,0,1259.26,null,null,4361231,"D906625",null,{"$f":"Price!A41","v":"Sada ramen HL top (340–389 mm)"},{"$f":"Price!B41","v":"22L3500"},{"$f":"Price!C41","v":"NI"},{"$f":"Price!D41","v":0},null,1259.26,{"$f":"Price!F41","v":1259.26},null,{"$f":"Price!G41","v":4361231},{"$f":"Price!H41","v":"D906625"}]
["Sada ramen HL top (390–540 mm)","22L3800","NI",0,0,1297.67,null,null,8458432,"D906626",null,{"$f":"Price!A42","v":"Sada ramen HL top (390–540 mm)"},{"$f":"Price!B42","v":"22L3800"},{"$f":"Price!C42","v":"NI"},{"$f":"Price!D42","v":0},null,1297.67,{"$f":"Price!F42","v":1297.67},null,{"$f":"Price!G42","v":8458432},{"$f":"Price!H42","v":"D906626"}]
["Sada ramen HL top (480–580 mm)","22L3900","NI",0,0,1438.5,null,null,4889829,"D906627",null,{"$f":"Price!A43","v":"Sada ramen HL top (480–580 mm)"},{"$f":"Price!B43","v":"22L3900"},{"$f":"Price!C43","v":"NI"},{"$f":"Price!D43","v":0},null,1438.5,{"$f":"Price!F43","v":1438.5},null,{"$f":"Price!G43","v":4889829},{"$f":"Price!H43","v":"D906627"}]
[{"$f":"L44","v":"Tyč příčné stabizace HL top"},{"$f":"M44","v":"22Q1076U"},{"$f":"N44","v":"EV"},{"$f":"O44","v":0},{"$f":"P44","v":0},337.98,null,null,{"$f":"T44","v":6826344},{"$f":"U44","v":"D906628"},null,{"$f":"Price!A44","v":"Tyč příčné stabizace HL top"},{"$f":"Price!B44","v":"22Q1076U"},{"$f":"Price!C44","v":"EV"},{"$f":"Price!D44","v":0},null,337.98,{"$f":"Price!F44","v":337.98},null,{"$f":"Price!G44","v":6826344},{"$f":"Price!H44","v":"D906628"}]
["Sada spojovacích dílů příčné stabilizace HL top","22Q080Z","EV",0,0,{"$f":"Q45","v":307.76},null,null,2272763,"D906629",null,{"$f":"Price!A45","v":"Sada spojovacích dílů příčné stabilizace HL top"},{"$f":"Price!B45","v":"22Q080Z"},{"$f":"Price!C45","v":"EV"},{"$f":"Price!D45","v":0},null,307.76,{"$f":"Price!F45","v":307.76},null,{"$f":"Price!G45","v":2272763},{"$f":"Price!H45","v":"D906629"}]
[0,0,0,0,0,0,null,null,0,0,null,{"$f":"Price!A46","v":0},{"$f":"Price!B46","v":0},{"$f":"Price!C46","v":0},{"$f":"Price!D46","v":0},null,0,{"$f":"Price!F46","v":0},null,{"$f":"Price!G46","v":0},{"$f":"Price!H46","v":0}]
[{"$f":"L47","v":"Sada krytek HF, HS, HL top, světle šedá"},{"$f":"M47","v":"22.8000"},{"$f":"N47","v":"HGR"},{"$f":"O47","v":0},{"$f":"P47","v":0},{"$f":"Q47","v":252.85},null,null,{"$f":"T47","v":1783069},{"$f":"U47","v":"D906630"},null,{"$f":"Price!A47","v":"Sada krytek HF, HS, HL top, světle šedá"},{"$f":"Price!B47","v":"22.8000"},{"$f":"Price!C47","v":"HGR"},{"$f":"Price!D47","v":0},null,{"$f":"R47*(100-$F$6)/100","v":252.85},{"$f":"Price!F47","v":252.85},null,{"$f":"Price!G47","v":1783069},{"$f":"Price!H47","v":"D906630"}]
["Sada krytek HF, HS, HL top, tmavě šedá","22.8000","TGR",0,0,275.94,null,null,9355276,"D906632",null,{"$f":"Price!A48","v":"Sada krytek HF, HS, HL top, tmavě šedá"},{"$f":"Price!B48","v":"22.8000"},{"$f":"Price!C48","v":"TGR"},{"$f":"Price!D48","v":0},null,275.94,{"$f":"Price!F48","v":275.94},null,{"$f":"Price!G48","v":9355276},{"$f":"Price!H48","v":"D906632"}]
["Sada krytek HF, HS, HL top, hedvábně bílá","22.8000","SW",0,0,275.94,null,null,3337819,"D906631",null,{"$f":"Price!A49","v":"Sada krytek HF, HS, HL top, hedvábně bílá"},{"$f":"Price!B49","v":"22.8000"},{"$f":"Price!C49","v":"SW"},{"$f":"Price!D49","v":0},null,275.94,{"$f":"Price!F49","v":275.94},null,{"$f":"Price!G49","v":3337819},{"$f":"Price!H49","v":"D906631"}]
["Sada krytek pro SERVO-DRIVE, světle šedá","23.8000","HGR",0,0,2606.7600000000002,null,null,8097114,"D906634",null,{"$f":"Price!A50","v":"Sada krytek pro SERVO-DRIVE, světle šedá"},{"$f":"Price!B50","v":"23.8000"},{"$f":"Price!C50","v":"HGR"},{"$f":"Price!D50","v":0},null,2606.7600000000002,{"$f":"Price!F50","v":2606.7600000000002},null,{"$f":"Price!G50","v":8097114},{"$f":"Price!H50","v":"D906634"}]
["Sada krytek pro SERVO-DRIVE, tmavě šedá","23.8000","TGR",0,0,2709.29,null,null,1947248,"D906636",null,{"$f":"Price!A51","v":"Sada krytek pro SERVO-DRIVE, tmavě šedá"},{"$f":"Price!B51","v":"23.8000"},{"$f":"Price!C51","v":"TGR"},{"$f":"Price!D51","v":0},null,2709.29,{"$f":"Price!F51","v":2709.29},null,{"$f":"Price!G51","v":1947248},{"$f":"Price!H51","v":"D906636"}]
["Sada krytek pro SERVO-DRIVE,hedvábně bílá","23.8000","SW",0,0,2709.29,null,null,5427233,"D906635",null,{"$f":"Price!A52","v":"Sada krytek pro SERVO-DRIVE,hedvábně bílá"},{"$f":"Price!B52","v":"23.8000"},{"$f":"Price!C52","v":"SW"},{"$f":"Price!D52","v":0},null,2709.29,{"$f":"Price!F52","v":2709.29},null,{"$f":"Price!G52","v":5427233},{"$f":"Price!H52","v":"D906635"}]
[0,0,0,0,0,0,null,null,0,0,null,{"$f":"Price!A53","v":0},{"$f":"Price!B53","v":0},{"$f":"Price!C53","v":0},{"$f":"Price!D53","v":0},null,0,{"$f":"Price!F53","v":0},null,{"$f":"Price!G53","v":0},{"$f":"Price!H53","v":0}]
["Sada zdvihačů HK top, na vruty","22K2300","ZN",0,0,1468.44,null,null,7628604,"D768244",null,{"$f":"Price!A54","v":"Sada zdvihačů HK top, na vruty"},{"$f":"Price!B54","v":"22K2300"},{"$f":"Price!C54","v":"ZN"},{"$f":"Price!D54","v":0},null,1468.44,{"$f":"Price!F54","v":1468.44},null,{"$f":"Price!G54","v":7628604},{"$f":"Price!H54","v":"D768244"}]
["Sada zdvihačů HK top, na vruty","22K2500","ZN",0,0,1468.44,null,null,1069731,"D768245",null,{"$f":"Price!A55","v":"Sada zdvihačů HK top, na vruty"},{"$f":"Price!B55","v":"22K2500"},{"$f":"Price!C55","v":"ZN"},{"$f":"Price!D55","v":0},null,1468.44,{"$f":"Price!F55","v":1468.44},null,{"$f":"Price!G55","v":1069731},{"$f":"Price!H55","v":"D768245"}]
["Sada zdvihačů HK top, na vruty","22K2700","ZN",0,0,1475.61,null,null,8762537,"D768246",null,{"$f":"Price!A56","v":"Sada zdvihačů HK top, na vruty"},{"$f":"Price!B56","v":"22K2700"},{"$f":"Price!C56","v":"ZN"},{"$f":"Price!D56","v":0},null,1475.61,{"$f":"Price!F56","v":1475.61},null,{"$f":"Price!G56","v":8762537},{"$f":"Price!H56","v":"D768246"}]
["Sada zdvihačů HK top, na vruty","22K2900","ZN",0,0,1726.54,null,null,6635469,"D768247",null,{"$f":"Price!A57","v":"Sada zdvihačů HK top, na vruty"},{"$f":"Price!B57","v":"22K2900"},{"$f":"Price!C57","v":"ZN"},{"$f":"Price!D57","v":0},null,1726.54,{"$f":"Price!F57","v":1726.54},null,{"$f":"Price!G57","v":6635469},{"$f":"Price!H57","v":"D768247"}]
["Sada zdvihačů HK top, předmont. eurošrouby","22K2310","ZN",0,0,1468.44,null,null,8508486,"D768252",null,{"$f":"Price!A58","v":"Sada zdvihačů HK top, předmont. eurošrouby"},{"$f":"Price!B58","v":"22K2310"},{"$f":"Price!C58","v":"ZN"},{"$f":"Price!D58","v":0},null,1468.44,{"$f":"Price!F58","v":1468.44},null,{"$f":"Price!G58","v":8508486},{"$f":"Price!H58","v":"D768252"}]
["Sada zdvihačů HK top, předmont. eurošrouby","22K2510","ZN",0,0,1468.44,null,null,7690323,"D768253",null,{"$f":"Price!A59","v":"Sada zdvihačů HK top, předmont. eurošrouby"},{"$f":"Price!B59","v":"22K2510"},{"$f":"Price!C59","v":"ZN"},{"$f":"Price!D59","v":0},null,1468.44,{"$f":"Price!F59","v":1468.44},null,{"$f":"Price!G59","v":7690323},{"$f":"Price!H59","v":"D768253"}]
["Sada zdvihačů HK top, předmont. eurošrouby","22K2710","ZN",0,0,1475.61,null,null,1388111,"D768254",null,{"$f":"Price!A60","v":"Sada zdvihačů HK top, předmont. eurošrouby"},{"$f":"Price!B60","v":"22K2710"},{"$f":"Price!C60","v":"ZN"},{"$f":"Price!D60","v":0},null,1475.61,{"$f":"Price!F60","v":1475.61},null,{"$f":"Price!G60","v":1388111},{"$f":"Price!H60","v":"D768254"}]
["Sada zdvihačů HK top, předmont. eurošrouby","22K2910","ZN",0,0,1726.54,null,null,5482270,"D768255",null,{"$f":"Price!A61","v":"Sada zdvihačů HK top, předmont. eurošrouby"},{"$f":"Price!B61","v":"22K2910"},{"$f":"Price!C61","v":"ZN"},{"$f":"Price!D61","v":0},null,1726.54,{"$f":"Price!F61","v":1726.54},null,{"$f":"Price!G61","v":5482270},{"$f":"Price!H61","v":"D768255"}]
[{"$f":"L62","v":"Sada krytek HK top, světle šedá"},{"$f":"M62","v":"22K8000"},{"$f":"N62","v":"HG "},{"$f":"O62","v":0},{"$f":"P62","v":0},211.38,null,null,{"$f":"T62","v":7985876},{"$f":"U62","v":"D768260"},null,{"$f":"Price!A62","v":"Sada krytek HK top, světle šedá"},{"$f":"Price!B62","v":"22K8000"},{"$f":"Price!C62","v":"HG "},{"$f":"Price!D62","v":0},null,211.38,{"$f":"Price!F62","v":211.38},null,{"$f":"Price!G62","v":7985876},{"$f":"Price!H62","v":"D768260"}]
["Sada krytek HK top, tmavě šedá","22K8000","TGR",0,0,231.45,null,null,7926396,"D768262",null,{"$f":"Price!A63","v":"Sada krytek HK top, tmavě šedá"},{"$f":"Price!B63","v":"22K8000"},{"$f":"Price!C63","v":"TGR"},{"$f":"Price!D63","v":0},null,231.45,{"$f":"Price!F63","v":231.45},null,{"$f":"Price!G63","v":7926396},{"$f":"Price!H63","v":"D768262"}]
["Sada krytek HK top, bílá","22K8000","SW ",0,0,231.45,null,null,4824637,"D768261",null,{"$f":"Price!A64","v":"Sada krytek HK top, bílá"},{"$f":"Price!B64","v":"22K8000"},{"$f":"Price!C64","v":"SW "},{"$f":"Price!D64","v":0},null,231.45,{"$f":"Price!F64","v":231.45},null,{"$f":"Price!G64","v":4824637},{"$f":"Price!H64","v":"D768261"}]
["Sada krytek HK top, SERVO-DRIVE, sv.šedá","23K8000","HG ",0,0,2493.35,null,null,2111215,"D768264",null,{"$f":"Price!A65","v":"Sada krytek HK top, SERVO-DRIVE, sv.šedá"},{"$f":"Price!B65","v":"23K8000"},{"$f":"Price!C65","v":"HG "},{"$f":"Price!D65","v":0},null,2493.35,{"$f":"Price!F65","v":2493.35},null,{"$f":"Price!G65","v":2111215},{"$f":"Price!H65","v":"D768264"}]
["Sada krytek HK top, SERVO-DRIVE, tm.šedá","23K8000","TGR",0,0,2595.3000000000002,null,null,8732964,"D768266",null,{"$f":"Price!A66","v":"Sada krytek HK top, SERVO-DRIVE, tm.šedá"},{"$f":"Price!B66","v":"23K8000"},{"$f":"Price!C66","v":"TGR"},{"$f":"Price!D66","v":0},null,2595.3000000000002,{"$f":"Price!F66","v":2595.3000000000002},null,{"$f":"Price!G66","v":8732964},{"$f":"Price!H66","v":"D768266"}]
["Sada krytek HK top, SERVO-DRIVE, bílá","23K8000","SW ",0,0,2595.3000000000002,null,null,1065531,"D768265",null,{"$f":"Price!A67","v":"Sada krytek HK top, SERVO-DRIVE, bílá"},{"$f":"Price!B67","v":"23K8000"},{"$f":"Price!C67","v":"SW "},{"$f":"Price!D67","v":0},null,2595.3000000000002,{"$f":"Price!F67","v":2595.3000000000002},null,{"$f":"Price!G67","v":1065531},{"$f":"Price!H67","v":"D768265"}]
[{"$f":"L68","v":0},{"$f":"M68","v":0},{"$f":"N68","v":0},{"$f":"O68","v":0},{"$f":"P68","v":0},0,null,null,{"$f":"T68","v":0},{"$f":"U68","v":0},null,{"$f":"Price!A68","v":0},{"$f":"Price!B68","v":0},{"$f":"Price!C68","v":0},{"$f":"Price!D68","v":0},null,0,{"$f":"Price!F68","v":0},null,{"$f":"Price!G68","v":0},{"$f":"Price!H68","v":0}]
[{"$f":"L69","v":"Sada zdvihačů HK top, TIP-ON, na vruty"},{"$f":"M69","v":"22K2300T"},{"$f":"N69","v":"ZN"},{"$f":"O69","v":0},{"$f":"P69","v":0},1575.99,null,null,{"$f":"T69","v":4205572},{"$f":"U69","v":"D768248"},null,{"$f":"Price!A69","v":"Sada zdvihačů HK top, TIP-ON, na vruty"},{"$f":"Price!B69","v":"22K2300T"},{"$f":"Price!C69","v":"ZN"},{"$f":"Price!D69","v":0},null,1575.99,{"$f":"Price!F69","v":1575.99},null,{"$f":"Price!G69","v":4205572},{"$f":"Price!H69","v":"D768248"}]
["Sada zdvihačů HK top, TIP-ON, na vruty","22K2500T","ZN",0,0,1575.99,null,null,2753075,"D768249",null,{"$f":"Price!A70","v":"Sada zdvihačů HK top, TIP-ON, na vruty"},{"$f":"Price!B70","v":"22K2500T"},{"$f":"Price!C70","v":"ZN"},{"$f":"Price!D70","v":0},null,1575.99,{"$f":"Price!F70","v":1575.99},null,{"$f":"Price!G70","v":2753075},{"$f":"Price!H70","v":"D768249"}]
["Sada zdvihačů HK top, TIP-ON, na vruty","22K2700T","ZN",0,0,1676.35,null,null,2855682,"D768250",null,{"$f":"Price!A71","v":"Sada zdvihačů HK top, TIP-ON, na vruty"},{"$f":"Price!B71","v":"22K2700T"},{"$f":"Price!C71","v":"ZN"},{"$f":"Price!D71","v":0},null,1676.35,{"$f":"Price!F71","v":1676.35},null,{"$f":"Price!G71","v":2855682},{"$f":"Price!H71","v":"D768250"}]
["Sada zdvihačů HK top, TIP-ON, na vruty","22K2900T","ZN",0,0,1927.28,null,null,8220095,"D768251",null,{"$f":"Price!A72","v":"Sada zdvihačů HK top, TIP-ON, na vruty"},{"$f":"Price!B72","v":"22K2900T"},{"$f":"Price!C72","v":"ZN"},{"$f":"Price!D72","v":0},null,1927.28,{"$f":"Price!F72","v":1927.28},null,{"$f":"Price!G72","v":8220095},{"$f":"Price!H72","v":"D768251"}]
["Sada zdvihačů HK top, TIP-ON, předmont. eurošrouby","22K2310T","ZN",0,0,1575.99,null,null,9708169,"D768256",null,{"$f":"Price!A73","v":"Sada zdvihačů HK top, TIP-ON, předmont. eurošrouby"},{"$f":"Price!B73","v":"22K2310T"},{"$f":"Price!C73","v":"ZN"},{"$f":"Price!D73","v":0},null,1575.99,{"$f":"Price!F73","v":1575.99},null,{"$f":"Price!G73","v":9708169},{"$f":"Price!H73","v":"D768256"}]
["Sada zdvihačů HK top, TIP-ON, předmont. eurošrouby","22K2510T","ZN",0,0,1575.99,null,null,2414504,"D768257",null,{"$f":"Price!A74","v":"Sada zdvihačů HK top, TIP-ON, předmont. eurošrouby"},{"$f":"Price!B74","v":"22K2510T"},{"$f":"Price!C74","v":"ZN"},{"$f":"Price!D74","v":0},null,1575.99,{"$f":"Price!F74","v":1575.99},null,{"$f":"Price!G74","v":2414504},{"$f":"Price!H74","v":"D768257"}]
["Sada zdvihačů HK top, TIP-ON, předmont. eurošrouby","22K2710T","ZN",0,0,1676.35,null,null,1422889,"D768258",null,{"$f":"Price!A75","v":"Sada zdvihačů HK top, TIP-ON, předmont. eurošrouby"},{"$f":"Price!B75","v":"22K2710T"},{"$f":"Price!C75","v":"ZN"},{"$f":"Price!D75","v":0},null,1676.35,{"$f":"Price!F75","v":1676.35},null,{"$f":"Price!G75","v":1422889},{"$f":"Price!H75","v":"D768258"}]
["Sada zdvihačů HK top, TIP-ON, předmont. eurošrouby","22K2910T","ZN",0,0,1927.28,null,null,7716804,"D768259",null,{"$f":"Price!A76","v":"Sada zdvihačů HK top, TIP-ON, předmont. eurošrouby"},{"$f":"Price!B76","v":"22K2910T"},{"$f":"Price!C76","v":"ZN"},{"$f":"Price!D76","v":0},null,1927.28,{"$f":"Price!F76","v":1927.28},null,{"$f":"Price!G76","v":7716804},{"$f":"Price!H76","v":"D768259"}]
[0,0,0,0,0,0,null,null,0,0,null,{"$f":"Price!A77","v":0},{"$f":"Price!B77","v":0},{"$f":"Price!C77","v":0},{"$f":"Price!D77","v":0},null,0,{"$f":"Price!F77","v":0},null,{"$f":"Price!G77","v":0},{"$f":"Price!H77","v":0}]
["Sada čel.kování pro dřev. čela","20S4200","NI",0,0,90.38,null,null,7241746,"D148378",null,{"$f":"Price!A78","v":"Sada čel.kování pro dřev. čela"},{"$f":"Price!B78","v":"20S4200"},{"$f":"Price!C78","v":"NI"},{"$f":"Price!D78","v":0},null,90.38,{"$f":"Price!F78","v":90.38},null,{"$f":"Price!G78","v":7241746},{"$f":"Price!H78","v":"D148378"}]
["Čelní.kování pro dřev. čela EXPANDO","20S42E1","NI",0,0,51.36,null,null,8860933,"D354151",null,{"$f":"Price!A79","v":"Čelní.kování pro dřev. čela EXPANDO"},{"$f":"Price!B79","v":"20S42E1"},{"$f":"Price!C79","v":"NI"},{"$f":"Price!D79","v":0},null,51.36,{"$f":"Price!F79","v":51.36},null,{"$f":"Price!G79","v":8860933},{"$f":"Price!H79","v":"D354151"}]
["Sada čel.kování pro tenké materiály","20S42T1","NI",0,0,291.60000000000002,null,null,3613770,"D714690",null,{"$f":"Price!A80","v":"Sada čel.kování pro tenké materiály"},{"$f":"Price!B80","v":"20S42T1"},{"$f":"Price!C80","v":"NI"},{"$f":"Price!D80","v":0},null,291.60000000000002,{"$f":"Price!F80","v":291.60000000000002},null,{"$f":"Price!G80","v":3613770},{"$f":"Price!H80","v":"D714690"}]
["Sada čel.kování pro úzké alurámečky","20S4200A","NI",0,0,395.5,null,null,7484703,"D158400",null,{"$f":"Price!A81","v":"Sada čel.kování pro úzké alurámečky"},{"$f":"Price!B81","v":"20S4200A"},{"$f":"Price!C81","v":"NI"},{"$f":"Price!D81","v":0},null,395.5,{"$f":"Price!F81","v":395.5},null,{"$f":"Price!G81","v":7484703},{"$f":"Price!H81","v":"D158400"}]
[0,0,0,0,0,0,null,null,0,0,null,{"$f":"Price!A82","v":0},{"$f":"Price!B82","v":0},{"$f":"Price!C82","v":0},{"$f":"Price!D82","v":0},null,0,{"$f":"Price!F82","v":0},null,{"$f":"Price!G82","v":0},{"$f":"Price!H82","v":0}]
[{"$f":"L83","v":"Sada zdvihačů HK-S, světle šedé krytky"},{"$f":"M83","v":"20K2B00.06"},{"$f":"N83","v":"HGIG"},{"$f":"O83","v":0},{"$f":"P83","v":0},778.98,null,null,{"$f":"T83","v":7793681},{"$f":"U83","v":"D768268"},null,{"$f":"Price!A83","v":"Sada zdvihačů HK-S, světle šedé krytky"},{"$f":"Price!B83","v":"20K2B00.06"},{"$f":"Price!C83","v":"HGIG"},{"$f":"Price!D83","v":0},null,778.98,{"$f":"Price!F83","v":778.98},null,{"$f":"Price!G83","v":7793681},{"$f":"Price!H83","v":"D768268"}]
["Sada zdvihačů HK-S, tmavě šedé krytky","20K2B00.06","TGIG",0,0,801.95,null,null,1314203,"D768270",null,{"$f":"Price!A84","v":"Sada zdvihačů HK-S, tmavě šedé krytky"},{"$f":"Price!B84","v":"20K2B00.06"},{"$f":"Price!C84","v":"TGIG"},{"$f":"Price!D84","v":0},null,801.95,{"$f":"Price!F84","v":801.95},null,{"$f":"Price!G84","v":1314203},{"$f":"Price!H84","v":"D768270"}]
["Sada zdvihačů HK-S, bílé krytky","20K2B00.06","SWIG",0,0,801.95,null,null,8195173,"D768269",null,{"$f":"Price!A85","v":"Sada zdvihačů HK-S, bílé krytky"},{"$f":"Price!B85","v":"20K2B00.06"},{"$f":"Price!C85","v":"SWIG"},{"$f":"Price!D85","v":0},null,801.95,{"$f":"Price!F85","v":801.95},null,{"$f":"Price!G85","v":8195173},{"$f":"Price!H85","v":"D768269"}]
["Sada zdvihačů HK-S, světle šedé krytky","20K2C00.06","HGIG",0,0,855.57,null,null,3472109,"D768271",null,{"$f":"Price!A86","v":"Sada zdvihačů HK-S, světle šedé krytky"},{"$f":"Price!B86","v":"20K2C00.06"},{"$f":"Price!C86","v":"HGIG"},{"$f":"Price!D86","v":0},null,855.57,{"$f":"Price!F86","v":855.57},null,{"$f":"Price!G86","v":3472109},{"$f":"Price!H86","v":"D768271"}]
["Sada zdvihačů HK-S, tmavě šedé krytky","20K2C00.06","TGIG",0,0,878.54,null,null,1834965,"D768273",null,{"$f":"Price!A87","v":"Sada zdvihačů HK-S, tmavě šedé krytky"},{"$f":"Price!B87","v":"20K2C00.06"},{"$f":"Price!C87","v":"TGIG"},{"$f":"Price!D87","v":0},null,878.54,{"$f":"Price!F87","v":878.54},null,{"$f":"Price!G87","v":1834965},{"$f":"Price!H87","v":"D768273"}]
["Sada zdvihačů HK-S, bílé krytky","20K2C00.06","SWIG",0,0,878.54,null,null,6816509,"D768272",null,{"$f":"Price!A88","v":"Sada zdvihačů HK-S, bílé krytky"},{"$f":"Price!B88","v":"20K2C00.06"},{"$f":"Price!C88","v":"SWIG"},{"$f":"Price!D88","v":0},null,878.54,{"$f":"Price!F88","v":878.54},null,{"$f":"Price!G88","v":6816509},{"$f":"Price!H88","v":"D768272"}]
["Sada zdvihačů HK-S, světle šedé krytky","20K2E00.06","HGIG",0,0,855.57,null,null,9851106,"D768274",null,{"$f":"Price!A89","v":"Sada zdvihačů HK-S, světle šedé krytky"},{"$f":"Price!B89","v":"20K2E00.06"},{"$f":"Price!C89","v":"HGIG"},{"$f":"Price!D89","v":0},null,855.57,{"$f":"Price!F89","v":855.57},null,{"$f":"Price!G89","v":9851106},{"$f":"Price!H89","v":"D768274"}]
["Sada zdvihačů HK-S, tmavě šedé krytky","20K2E00.06","TGIG",0,0,878.54,null,null,9248128,"D768276",null,{"$f":"Price!A90","v":"Sada zdvihačů HK-S, tmavě šedé krytky"},{"$f":"Price!B90","v":"20K2E00.06"},{"$f":"Price!C90","v":"TGIG"},{"$f":"Price!D90","v":0},null,878.54,{"$f":"Price!F90","v":878.54},null,{"$f":"Price!G90","v":9248128},{"$f":"Price!H90","v":"D768276"}]
["Sada zdvihačů HK-S, bílé krytky","20K2E00.06","SWIG",0,0,878.54,null,null,3420861,"D768275",null,{"$f":"Price!A91","v":"Sada zdvihačů HK-S, bílé krytky"},{"$f":"Price!B91","v":"20K2E00.06"},{"$f":"Price!C91","v":"SWIG"},{"$f":"Price!D91","v":0},null,878.54,{"$f":"Price!F91","v":878.54},null,{"$f":"Price!G91","v":3420861},{"$f":"Price!H91","v":"D768275"}]
[0,0,0,0,0,0,null,null,0,0,null,{"$f":"Price!A92","v":0},{"$f":"Price!B92","v":0},{"$f":"Price!C92","v":0},{"$f":"Price!D92","v":0},null,0,{"$f":"Price!F92","v":0},null,{"$f":"Price!G92","v":0},{"$f":"Price!H92","v":0}]
["Sada zdvihačů HK-S TIP-ON, světle šedé krytky","20K2B00T06","HGIG",0,0,785.52,null,null,2133123,"D768277",null,{"$f":"Price!A93","v":"Sada zdvihačů HK-S TIP-ON, světle šedé krytky"},{"$f":"Price!B93","v":"20K2B00T06"},{"$f":"Price!C93","v":"HGIG"},{"$f":"Price!D93","v":0},null,785.52,{"$f":"Price!F93","v":785.52},null,{"$f":"Price!G93","v":2133123},{"$f":"Price!H93","v":"D768277"}]
["Sada zdvihačů HK-S TIP-ON, tmavě šedé krytky","20K2B00T06","TGIG",0,0,808.5,null,null,9870309,"D768279",null,{"$f":"Price!A94","v":"Sada zdvihačů HK-S TIP-ON, tmavě šedé krytky"},{"$f":"Price!B94","v":"20K2B00T06"},{"$f":"Price!C94","v":"TGIG"},{"$f":"Price!D94","v":0},null,808.5,{"$f":"Price!F94","v":808.5},null,{"$f":"Price!G94","v":9870309},{"$f":"Price!H94","v":"D768279"}]
["Sada zdvihačů HK-S TIP-ON, bílé krytky","20K2B00T06","SWIG",0,0,808.5,null,null,1449278,"D768278",null,{"$f":"Price!A95","v":"Sada zdvihačů HK-S TIP-ON, bílé krytky"},{"$f":"Price!B95","v":"20K2B00T06"},{"$f":"Price!C95","v":"SWIG"},{"$f":"Price!D95","v":0},null,808.5,{"$f":"Price!F95","v":808.5},null,{"$f":"Price!G95","v":1449278},{"$f":"Price!H95","v":"D768278"}]
["Sada zdvihačů HK-S TIP-ON, světle šedé krytky","20K2C00T06","HGIG",0,0,868.65,null,null,6990853,"D768280",null,{"$f":"Price!A96","v":"Sada zdvihačů HK-S TIP-ON, světle šedé krytky"},{"$f":"Price!B96","v":"20K2C00T06"},{"$f":"Price!C96","v":"HGIG"},{"$f":"Price!D96","v":0},null,{"$f":"R96*(100-$F$6)/100","v":868.65},{"$f":"Price!F96","v":868.65},null,{"$f":"Price!G96","v":6990853},{"$f":"Price!H96","v":"D768280"}]
["Sada zdvihačů HK-S TIP-ON, tmavě šedé krytky","20K2C00T06","TGIG",0,0,891.62,null,null,3405617,"D768282",null,{"$f":"Price!A97","v":"Sada zdvihačů HK-S TIP-ON, tmavě šedé krytky"},{"$f":"Price!B97","v":"20K2C00T06"},{"$f":"Price!C97","v":"TGIG"},{"$f":"Price!D97","v":0},null,891.62,{"$f":"Price!F97","v":891.62},null,{"$f":"Price!G97","v":3405617},{"$f":"Price!H97","v":"D768282"}]
["Sada zdvihačů HK-S TIP-ON, bílé krytky","20K2C00T06","SWIG",0,0,891.62,null,null,7769517,"D768281",null,{"$f":"Price!A98","v":"Sada zdvihačů HK-S TIP-ON, bílé krytky"},{"$f":"Price!B98","v":"20K2C00T06"},{"$f":"Price!C98","v":"SWIG"},{"$f":"Price!D98","v":0},null,891.62,{"$f":"Price!F98","v":891.62},null,{"$f":"Price!G98","v":7769517},{"$f":"Price!H98","v":"D768281"}]
["Sada zdvihačů HK-S TIP-ON, světle šedé krytky","20K2E00T06","HGIG",0,0,868.65,null,null,5494621,"D768283",null,{"$f":"Price!A99","v":"Sada zdvihačů HK-S TIP-ON, světle šedé krytky"},{"$f":"Price!B99","v":"20K2E00T06"},{"$f":"Price!C99","v":"HGIG"},{"$f":"Price!D99","v":0},null,868.65,{"$f":"Price!F99","v":868.65},null,{"$f":"Price!G99","v":5494621},{"$f":"Price!H99","v":"D768283"}]
["Sada zdvihačů HK-S TIP-ON, tmavě šedé krytky","20K2E00T06","TGIG",0,0,891.62,null,null,9373568,"D768285",null,{"$f":"Price!A100","v":"Sada zdvihačů HK-S TIP-ON, tmavě šedé krytky"},{"$f":"Price!B100","v":"20K2E00T06"},{"$f":"Price!C100","v":"TGIG"},{"$f":"Price!D100","v":0},null,891.62,{"$f":"Price!F100","v":891.62},null,{"$f":"Price!G100","v":9373568},{"$f":"Price!H100","v":"D768285"}]
["Sada zdvihačů HK-S TIP-ON, bílé krytky","20K2E00T06","SWIG",0,0,891.62,null,null,7935712,"D768284",null,{"$f":"Price!A101","v":"Sada zdvihačů HK-S TIP-ON, bílé krytky"},{"$f":"Price!B101","v":"20K2E00T06"},{"$f":"Price!C101","v":"SWIG"},{"$f":"Price!D101","v":0},null,891.62,{"$f":"Price!F101","v":891.62},null,{"$f":"Price!G101","v":7935712},{"$f":"Price!H101","v":"D768284"}]
[{"$f":"L102","v":0},{"$f":"M102","v":0},{"$f":"N102","v":0},{"$f":"O102","v":0},{"$f":"P102","v":0},0,null,null,{"$f":"T102","v":0},{"$f":"U102","v":0},null,{"$f":"Price!A102","v":0},{"$f":"Price!B102","v":0},{"$f":"Price!C102","v":0},{"$f":"Price!D102","v":0},null,0,{"$f":"Price!F102","v":0},null,{"$f":"Price!G102","v":0},{"$f":"Price!H102","v":0}]
["Sada čel.kování HK-S pro úzké alurámečky","20K4A00A02","NI",0,0,198.15,null,null,7542129,"D525841",null,{"$f":"Price!A103","v":"Sada čel.kování HK-S pro úzké alurámečky"},{"$f":"Price!B103","v":"20K4A00A02"},{"$f":"Price!C103","v":"NI"},{"$f":"Price!D103","v":0},null,198.15,{"$f":"Price!F103","v":198.15},null,{"$f":"Price!G103","v":7542129},{"$f":"Price!H103","v":"D525841"}]
["Omezovač úhlu otevření HK-S na 75° ","20K7A11","TGR",0,0,16.09,null,null,8671840,"D309175",null,{"$f":"Price!A104","v":"Omezovač úhlu otevření HK-S na 75° "},{"$f":"Price!B104","v":"20K7A11"},{"$f":"Price!C104","v":"TGR"},{"$f":"Price!D104","v":0},null,16.09,{"$f":"Price!F104","v":16.09},null,{"$f":"Price!G104","v":8671840},{"$f":"Price!H104","v":"D309175"}]
["Omezovač úhlu otevření HK-S na 100° ","20K7A41","TGR",0,0,16.09,null,null,8671910,"D309174",null,{"$f":"Price!A105","v":"Omezovač úhlu otevření HK-S na 100° "},{"$f":"Price!B105","v":"20K7A41"},{"$f":"Price!C105","v":"TGR"},{"$f":"Price!D105","v":0},null,16.09,{"$f":"Price!F105","v":16.09},null,{"$f":"Price!G105","v":8671910},{"$f":"Price!H105","v":"D309174"}]
[0,0,0,0,0,0,null,null,0,0,null,{"$f":"Price!A106","v":0},{"$f":"Price!B106","v":0},{"$f":"Price!C106","v":0},{"$f":"Price!D106","v":0},null,0,{"$f":"Price!F106","v":0},null,{"$f":"Price!G106","v":0},{"$f":"Price!H106","v":0}]
[0,0,0,0,0,0,null,null,0,0,null,{"$f":"Price!A107","v":0},{"$f":"Price!B107","v":0},{"$f":"Price!C107","v":0},{"$f":"Price!D107","v":0},null,0,{"$f":"Price!F107","v":0},null,{"$f":"Price!G107","v":0},{"$f":"Price!H107","v":0}]
["Symetrický zdvihací mechanizmus HK-XS","20K1101","NI",0,0,294.25,null,null,8572348,"D532814",null,{"$f":"Price!A108","v":"Symetrický zdvihací mechanizmus HK-XS"},{"$f":"Price!B108","v":"20K1101"},{"$f":"Price!C108","v":"NI"},{"$f":"Price!D108","v":0},null,294.25,{"$f":"Price!F108","v":294.25},null,{"$f":"Price!G108","v":8572348},{"$f":"Price!H108","v":"D532814"}]
["Symetrický zdvihací mechanizmus HK-XS","20K1301","NI",0,0,294.25,null,null,9330897,"D532815",null,{"$f":"Price!A109","v":"Symetrický zdvihací mechanizmus HK-XS"},{"$f":"Price!B109","v":"20K1301"},{"$f":"Price!C109","v":"NI"},{"$f":"Price!D109","v":0},null,294.25,{"$f":"Price!F109","v":294.25},null,{"$f":"Price!G109","v":9330897},{"$f":"Price!H109","v":"D532815"}]
["Symetrický zdvihací mechanizmus HK-XS","20K1501","NI",0,0,294.25,null,null,1615152,"D532816",null,{"$f":"Price!A110","v":"Symetrický zdvihací mechanizmus HK-XS"},{"$f":"Price!B110","v":"20K1501"},{"$f":"Price!C110","v":"NI"},{"$f":"Price!D110","v":0},null,294.25,{"$f":"Price!F110","v":294.25},null,{"$f":"Price!G110","v":1615152},{"$f":"Price!H110","v":"D532816"}]
[0,0,0,0,0,0,null,null,0,0,null,{"$f":"Price!A111","v":0},{"$f":"Price!B111","v":0},{"$f":"Price!C111","v":0},{"$f":"Price!D111","v":0},null,0,{"$f":"Price!F111","v":0},null,{"$f":"Price!G111","v":0},{"$f":"Price!H111","v":0}]
["Sym. zdvihací mechanizmus HK-XS, TIP-ON","20K1101T","NI",0,0,316.58999999999997,null,null,4857465,"D532817",null,{"$f":"Price!A112","v":"Sym. zdvihací mechanizmus HK-XS, TIP-ON"},{"$f":"Price!B112","v":"20K1101T"},{"$f":"Price!C112","v":"NI"},{"$f":"Price!D112","v":0},null,316.58999999999997,{"$f":"Price!F112","v":316.58999999999997},null,{"$f":"Price!G112","v":4857465},{"$f":"Price!H112","v":"D532817"}]
["Sym. zdvihací mechanizmus HK-XS, TIP-ON","20K1301T","NI",0,0,316.58999999999997,null,null,9519259,"D532818",null,{"$f":"Price!A113","v":"Sym. zdvihací mechanizmus HK-XS, TIP-ON"},{"$f":"Price!B113","v":"20K1301T"},{"$f":"Price!C113","v":"NI"},{"$f":"Price!D113","v":0},null,316.58999999999997,{"$f":"Price!F113","v":316.58999999999997},null,{"$f":"Price!G113","v":9519259},{"$f":"Price!H113","v":"D532818"}]
["Sym. zdvihací mechanizmus HK-XS, TIP-ON","20K1501T","NI",0,0,{"$f":"Q114","v":316.58999999999997},null,null,8041284,"D532819",null,{"$f":"Price!A114","v":"Sym. zdvihací mechanizmus HK-XS, TIP-ON"},{"$f":"Price!B114","v":"20K1501T"},{"$f":"Price!C114","v":"NI"},{"$f":"Price!D114","v":0},null,316.58999999999997,{"$f":"Price!F114","v":316.58999999999997},null,{"$f":"Price!G114","v":8041284},{"$f":"Price!H114","v":"D532819"}]
[0,0,0,0,0,0,null,null,0,0,null,{"$f":"Price!A115","v":0},{"$f":"Price!B115","v":0},{"$f":"Price!C115","v":0},{"$f":"Price!D115","v":0},null,0,{"$f":"Price!F115","v":0},null,{"$f":"Price!G115","v":0},{"$f":"Price!H115","v":0}]
["Boční čep HK-XS na korpus","20K5101","NI",0,0,18.63,null,null,1409446,"D532825",null,{"$f":"Price!A116","v":"Boční čep HK-XS na korpus"},{"$f":"Price!B116","v":"20K5101"},{"$f":"Price!C116","v":"NI"},{"$f":"Price!D116","v":0},null,18.63,{"$f":"Price!F116","v":18.63},null,{"$f":"Price!G116","v":1409446},{"$f":"Price!H116","v":"D532825"}]
["Boční čep HK-XS na korpus, EXPANDO","20K51E1","NI",0,0,25.16,null,null,5296642,"D532826",null,{"$f":"Price!A117","v":"Boční čep HK-XS na korpus, EXPANDO"},{"$f":"Price!B117","v":"20K51E1"},{"$f":"Price!C117","v":"NI"},{"$f":"Price!D117","v":0},null,25.16,{"$f":"Price!F117","v":25.16},null,{"$f":"Price!G117","v":5296642},{"$f":"Price!H117","v":"D532826"}]
[0,0,0,0,0,0,null,null,0,0,null,{"$f":"Price!A118","v":0},{"$f":"Price!B118","v":0},{"$f":"Price!C118","v":0},{"$f":"Price!D118","v":0},null,0,{"$f":"Price!F118","v":0},null,{"$f":"Price!G118","v":0},{"$f":"Price!H118","v":0}]
["Čelní kování HK-XS","20K4101","NI",0,0,12.67,null,null,8910604,"D532821",null,{"$f":"Price!A119","v":"Čelní kování HK-XS"},{"$f":"Price!B119","v":"20K4101"},{"$f":"Price!C119","v":"NI"},{"$f":"Price!D119","v":0},null,12.67,{"$f":"Price!F119","v":12.67},null,{"$f":"Price!G119","v":8910604},{"$f":"Price!H119","v":"D532821"}]
["Čelní kování HK-XS, EXPANDO","20K41E1","NI",0,0,19.190000000000001,null,null,5697170,"D532822",null,{"$f":"Price!A120","v":"Čelní kování HK-XS, EXPANDO"},{"$f":"Price!B120","v":"20K41E1"},{"$f":"Price!C120","v":"NI"},{"$f":"Price!D120","v":0},null,19.190000000000001,{"$f":"Price!F120","v":19.190000000000001},null,{"$f":"Price!G120","v":5697170},{"$f":"Price!H120","v":"D532822"}]
["Čelní kování HK-XS pro úzké alurámečky","20K4101A","NI",0,0,85.33,null,null,1452554,"D532823",null,{"$f":"Price!A121","v":"Čelní kování HK-XS pro úzké alurámečky"},{"$f":"Price!B121","v":"20K4101A"},{"$f":"Price!C121","v":"NI"},{"$f":"Price!D121","v":0},null,85.33,{"$f":"Price!F121","v":85.33},null,{"$f":"Price!G121","v":1452554},{"$f":"Price!H121","v":"D532823"}]
[0,0,0,0,0,0,null,null,0,0,null,{"$f":"Price!A122","v":0},{"$f":"Price!B122","v":0},{"$f":"Price!C122","v":0},{"$f":"Price!D122","v":0},null,0,{"$f":"Price!F122","v":0},null,{"$f":"Price!G122","v":0},{"$f":"Price!H122","v":0}]
[{"$f":"L123","v":"Samořezný vrut do alurámečků"},"660.0950","NI",0,0,1.7,null,null,{"$f":"T123","v":8385455},{"$f":"U123","v":"D506595"},null,{"$f":"Price!A123","v":"Samořezný vrut do alurámečků"},{"$f":"Price!B123","v":"660.0950"},{"$f":"Price!C123","v":"NI"},{"$f":"Price!D123","v":0},null,{"$f":"R123*(100-$F$6)/100","v":1.7},{"$f":"Price!F123","v":1.7},null,{"$f":"Price!G123","v":8385455},{"$f":"Price!H123","v":"D506595"}]
[{"$f":"L124","v":0},{"$f":"M124","v":0},{"$f":"N124","v":0},{"$f":"O124","v":0},{"$f":"P124","v":0},{"$f":"Q124","v":0},null,null,{"$f":"T124","v":0},{"$f":"U124","v":0},null,{"$f":"Price!A124","v":0},{"$f":"Price!B124","v":0},{"$f":"Price!C124","v":0},{"$f":"Price!D124","v":0},{"$f":"Price!E124","v":0},0,{"$f":"Price!F124","v":0},null,{"$f":"Price!G124","v":0},{"$f":"Price!H124","v":0}]
["Sada zdvihačů HKi, LF 420–1610","24K2300","OS",0,0,8016.43,null,null,9375108,"D892074",null,{"$f":"Price!A125","v":"Sada zdvihačů HKi, LF 420–1610"},{"$f":"Price!B125","v":"24K2300"},{"$f":"Price!C125","v":"OS"},{"$f":"Price!D125","v":0},null,8016.43,{"$f":"Price!F125","v":8016.43},null,{"$f":"Price!G125","v":9375108},{"$f":"Price!H125","v":"D892074"}]
["Sada zdvihačů HKi, LF 930–2800","24K2500","OS",0,0,8016.43,null,null,4333468,"D892075",null,{"$f":"Price!A126","v":"Sada zdvihačů HKi, LF 930–2800"},{"$f":"Price!B126","v":"24K2500"},{"$f":"Price!C126","v":"OS"},{"$f":"Price!D126","v":0},null,8016.43,{"$f":"Price!F126","v":8016.43},null,{"$f":"Price!G126","v":4333468},{"$f":"Price!H126","v":"D892075"}]
["Sada zdvihačů HKi, LF 1730–5200","24K2700","OS",0,0,8155.85,null,null,3327428,"D892076",null,{"$f":"Price!A127","v":"Sada zdvihačů HKi, LF 1730–5200"},{"$f":"Price!B127","v":"24K2700"},{"$f":"Price!C127","v":"OS"},{"$f":"Price!D127","v":0},null,8155.85,{"$f":"Price!F127","v":8155.85},null,{"$f":"Price!G127","v":3327428},{"$f":"Price!H127","v":"D892076"}]
["Sada zdvihačů HKi, LF 2600–7800","24K2800","OS",0,0,8504.39,null,null,9445829,"D892077",null,{"$f":"Price!A128","v":"Sada zdvihačů HKi, LF 2600–7800"},{"$f":"Price!B128","v":"24K2800"},{"$f":"Price!C128","v":"OS"},{"$f":"Price!D128","v":0},null,8504.39,{"$f":"Price!F128","v":8504.39},null,{"$f":"Price!G128","v":9445829},{"$f":"Price!H128","v":"D892077"}]
[0,0,0,0,0,0,null,null,0,0,null,{"$f":"Price!A129","v":0},{"$f":"Price!B129","v":0},{"$f":"Price!C129","v":0},{"$f":"Price!D129","v":0},null,0,{"$f":"Price!F129","v":0},null,{"$f":"Price!G129","v":0},{"$f":"Price!H129","v":0}]
["Sada zdvihačů HKi pro TIP-ON, LF 420–1610","24K2300T","OS",0,0,8123.98,null,null,9348915,"D892078",null,{"$f":"Price!A130","v":"Sada zdvihačů HKi pro TIP-ON, LF 420–1610"},{"$f":"Price!B130","v":"24K2300T"},{"$f":"Price!C130","v":"OS"},{"$f":"Price!D130","v":0},null,8123.98,{"$f":"Price!F130","v":8123.98},null,{"$f":"Price!G130","v":9348915},{"$f":"Price!H130","v":"D892078"}]
["Sada zdvihačů HKi pro TIP-ON, LF 930–2800","24K2500T","OS",0,0,8123.98,null,null,3988041,"D892079",null,{"$f":"Price!A131","v":"Sada zdvihačů HKi pro TIP-ON, LF 930–2800"},{"$f":"Price!B131","v":"24K2500T"},{"$f":"Price!C131","v":"OS"},{"$f":"Price!D131","v":0},null,8123.98,{"$f":"Price!F131","v":8123.98},null,{"$f":"Price!G131","v":3988041},{"$f":"Price!H131","v":"D892079"}]
["Sada zdvihačů HKi pro TIP-ON, LF 1730–5200","24K2700T","OS",0,0,8356.6,null,null,3401692,"D892080",null,{"$f":"Price!A132","v":"Sada zdvihačů HKi pro TIP-ON, LF 1730–5200"},{"$f":"Price!B132","v":"24K2700T"},{"$f":"Price!C132","v":"OS"},{"$f":"Price!D132","v":0},null,8356.6,{"$f":"Price!F132","v":8356.6},null,{"$f":"Price!G132","v":3401692},{"$f":"Price!H132","v":"D892080"}]
["Sada zdvihačů HKi pro TIP-ON, LF 2600–7800","24K2800T","OS",0,0,8705.1299999999992,null,null,3061597,"D892081",null,{"$f":"Price!A133","v":"Sada zdvihačů HKi pro TIP-ON, LF 2600–7800"},{"$f":"Price!B133","v":"24K2800T"},{"$f":"Price!C133","v":"OS"},{"$f":"Price!D133","v":0},null,8705.1299999999992,{"$f":"Price!F133","v":8705.1299999999992},null,{"$f":"Price!G133","v":3061597},{"$f":"Price!H133","v":"D892081"}]
[0,0,0,0,0,0,null,null,0,0,null,{"$f":"Price!A134","v":0},{"$f":"Price!B134","v":0},{"$f":"Price!C134","v":0},{"$f":"Price!D134","v":0},null,0,{"$f":"Price!F134","v":0},null,{"$f":"Price!G134","v":0},{"$f":"Price!H134","v":0}]
["Symetrické čelní kování Hki, EXPANDO","24K42E1","OS",0,0,209.13,null,null,4845277,"D892085",null,{"$f":"Price!A135","v":"Symetrické čelní kování Hki, EXPANDO"},{"$f":"Price!B135","v":"24K42E1"},{"$f":"Price!C135","v":"OS"},{"$f":"Price!D135","v":0},null,209.13,{"$f":"Price!F135","v":209.13},null,{"$f":"Price!G135","v":4845277},{"$f":"Price!H135","v":"D892085"}]
["Symetrické čelní kování Hki, pro alurámečky","24K4201A","OS",0,0,230.04,null,null,2551910,"D892086",null,{"$f":"Price!A136","v":"Symetrické čelní kování Hki, pro alurámečky"},{"$f":"Price!B136","v":"24K4201A"},{"$f":"Price!C136","v":"OS"},{"$f":"Price!D136","v":0},null,230.04,{"$f":"Price!F136","v":230.04},null,{"$f":"Price!G136","v":2551910},{"$f":"Price!H136","v":"D892086"}]
[0,0,0,0,0,0,null,null,0,0,null,{"$f":"Price!A137","v":0},{"$f":"Price!B137","v":0},{"$f":"Price!C137","v":0},{"$f":"Price!D137","v":0},null,0,{"$f":"Price!F137","v":0},null,{"$f":"Price!G137","v":0},{"$f":"Price!H137","v":0}]
["Sada krytek HKi, hedvábně bílá","24K8000","SW",0,0,689.28,null,null,6690522,"D892083",null,{"$f":"Price!A138","v":"Sada krytek HKi, hedvábně bílá"},{"$f":"Price!B138","v":"24K8000"},{"$f":"Price!C138","v":"SW"},{"$f":"Price!D138","v":0},null,689.28,{"$f":"Price!F138","v":689.28},null,{"$f":"Price!G138","v":6690522},{"$f":"Price!H138","v":"D892083"}]
["Sada krytek HKi, světle šedá","24K8000","HGR",0,0,669.2,null,null,2627505,"D892082",null,{"$f":"Price!A139","v":"Sada krytek HKi, světle šedá"},{"$f":"Price!B139","v":"24K8000"},{"$f":"Price!C139","v":"HGR"},{"$f":"Price!D139","v":0},null,669.2,{"$f":"Price!F139","v":669.2},null,{"$f":"Price!G139","v":2627505},{"$f":"Price!H139","v":"D892082"}]
["Sada krytek HKi, tmavě šedá","24K8000","TGR",0,0,689.28,null,null,4948789,"D892084",null,{"$f":"Price!A140","v":"Sada krytek HKi, tmavě šedá"},{"$f":"Price!B140","v":"24K8000"},{"$f":"Price!C140","v":"TGR"},{"$f":"Price!D140","v":0},null,689.28,{"$f":"Price!F140","v":689.28},null,{"$f":"Price!G140","v":4948789},{"$f":"Price!H140","v":"D892084"}]
[0,0,0,0,0,0,null,null,0,0,null,{"$f":"Price!A141","v":0},{"$f":"Price!B141","v":0},{"$f":"Price!C141","v":0},{"$f":"Price!D141","v":0},null,0,{"$f":"Price!F141","v":0},null,{"$f":"Price!G141","v":0},{"$f":"Price!H141","v":0}]
[0,0,0,0,0,0,null,null,0,0,null,{"$f":"Price!A142","v":0},{"$f":"Price!B142","v":0},{"$f":"Price!C142","v":0},{"$f":"Price!D142","v":0},null,0,{"$f":"Price!F142","v":0},null,{"$f":"Price!G142","v":0},{"$f":"Price!H142","v":0}]
["Orážecí šablona pro čela HK top","ZML.2200","OR",0,0,967.57,null,null,4719614,"D768267",null,{"$f":"Price!A143","v":"Orážecí šablona pro čela HK top"},{"$f":"Price!B143","v":"ZML.2200"},{"$f":"Price!C143","v":"OR"},{"$f":"Price!D143","v":0},null,{"$f":"R143*(100-$F$6)/100","v":967.57},{"$f":"Price!F143","v":967.57},null,{"$f":"Price!G143","v":4719614},{"$f":"Price!H143","v":"D768267"}]
[{"$f":"L144","v":"Sada předfrézovaných surových desek pro HKi"},"24K7100","NA",0,0,2867.4,null,null,{"$f":"T144","v":6883114},{"$f":"U144","v":"D892087"},null,{"$f":"Price!A144","v":"Sada předfrézovaných surových desek pro HKi"},{"$f":"Price!B144","v":"24K7100"},{"$f":"Price!C144","v":"NA"},{"$f":"Price!D144","v":0},null,{"$f":"R144*(100-$F$6)/100","v":2867.4},{"$f":"Price!F144","v":2867.4},null,{"$f":"Price!G144","v":6883114},{"$f":"Price!H144","v":"D892087"}]
["Distanční díl pro HKi","M45.1010","NA",0,0,858.54,null,null,{"$f":"T145","v":7376602},{"$f":"U145","v":"D892090"},null,{"$f":"Price!A145","v":"Distanční díl pro HKi"},{"$f":"Price!B145","v":"M45.1010"},{"$f":"Price!C145","v":"NA"},{"$f":"Price!D145","v":0},null,{"$f":"R145*(100-$F$6)/100","v":858.54},{"$f":"Price!F145","v":858.54},null,{"$f":"Price!G145","v":7376602},{"$f":"Price!H145","v":"D892090"}]
[0,0,0,0,0,0,null,null,0,0,null,{"$f":"Price!A146","v":0},{"$f":"Price!B146","v":0},{"$f":"Price!C146","v":0},{"$f":"Price!D146","v":0},null,0,{"$f":"Price!F146","v":0},null,{"$f":"Price!G146","v":0},{"$f":"Price!H146","v":0}]
[0,0,0,0,0,0,null,null,0,0,null,{"$f":"Price!A147","v":0},{"$f":"Price!B147","v":0},{"$f":"Price!C147","v":0},{"$f":"Price!D147","v":0},null,0,{"$f":"Price!F147","v":0},null,{"$f":"Price!G147","v":0},{"$f":"Price!H147","v":0}]
["CLIP top BLUMOTION, 110°, naložený"," 71B3550","NI",0,0,{"$f":"Q148","v":106.31},null,null,8884623,"D290100",null,{"$f":"Price!A153","v":"CLIP top BLUMOTION, 110°, naložený"},{"$f":"Price!B153","v":" 71B3550"},{"$f":"Price!C153","v":"NI"},{"$f":"Price!D153","v":0},null,106.31,{"$f":"Price!F153","v":106.31},null,{"$f":"Price!G153","v":8884623},{"$f":"Price!H153","v":"D290100"}]
["CLIP top BLUMOTION, 110°, nalož. EXPANDO"," 71B358E","NI",0,0,97.81,null,null,8885233,"D378266",null,{"$f":"Price!A154","v":"CLIP top BLUMOTION, 110°, nalož. EXPANDO"},{"$f":"Price!B154","v":" 71B358E"},{"$f":"Price!C154","v":"NI"},{"$f":"Price!D154","v":0},null,{"$f":"R149*(100-$F$6)/100","v":97.81},{"$f":"Price!F154","v":97.81},null,{"$f":"Price!G154","v":8885233},{"$f":"Price!H154","v":"D378266"}]
["CLIP top závěs 110°, bez pružiny, naložený"," 70T3550.TL","NI",0,0,50.28,null,null,9001883,"D533677",null,{"$f":"Price!A155","v":"CLIP top závěs 110°, bez pružiny, naložený"},{"$f":"Price!B155","v":" 70T3550.TL"},{"$f":"Price!C155","v":"NI"},{"$f":"Price!D155","v":0},null,50.28,{"$f":"Price!F155","v":50.28},null,{"$f":"Price!G155","v":9001883},{"$f":"Price!H155","v":"D533677"}]
["CLIP top závěs 110°, bez pružiny, nalož. EXPANDO"," 70T358E.TL","NI",0,0,50.44,null,null,{"$f":"T151","v":9295093},"D533205",null,{"$f":"Price!A156","v":"CLIP top závěs 110°, bez pružiny, nalož. EXPANDO"},{"$f":"Price!B156","v":" 70T358E.TL"},{"$f":"Price!C156","v":"NI"},{"$f":"Price!D156","v":0},null,{"$f":"R151*(100-$F$6)/100","v":50.44},{"$f":"Price!F156","v":50.44},null,{"$f":"Price!G156","v":9295093},{"$f":"Price!H156","v":"D533205"}]
[{"$f":"L152","v":"CLIP top BLUMOTION, závěs pro tenká dvířka"}," 71B453T","NI",0,0,375.38,null,null,7021363,"D722166",null,{"$f":"Price!A157","v":"CLIP top BLUMOTION, závěs pro tenká dvířka"},{"$f":"Price!B157","v":" 71B453T"},{"$f":"Price!C157","v":"NI"},{"$f":"Price!D157","v":0},null,{"$f":"R152*(100-$F$6)/100","v":375.38},{"$f":"Price!F157","v":375.38},null,{"$f":"Price!G157","v":7021363},{"$f":"Price!H157","v":"D722166"}]
["CLIP top závěs pro tenká dvířka, bez pružiny"," 70T453T.TL","NI",0,0,321.95999999999998,null,null,1524002,"D714681",null,{"$f":"Price!A158","v":"CLIP top závěs pro tenká dvířka, bez pružiny"},{"$f":"Price!B158","v":" 70T453T.TL"},{"$f":"Price!C158","v":"NI"},{"$f":"Price!D158","v":0},null,{"$f":"R153*(100-$F$6)/100","v":321.95999999999998},{"$f":"Price!F158","v":321.95999999999998},null,{"$f":"Price!G158","v":1524002},{"$f":"Price!H158","v":"D714681"}]
["CLIP top BLUMOTION, závěs pro úzké alu, naložený"," 71B950A","NI",0,0,180.71,null,null,9350813,"D310472",null,{"$f":"Price!A160","v":"CLIP top BLUMOTION, závěs pro úzké alu, naložený"},{"$f":"Price!B160","v":" 71B950A"},{"$f":"Price!C160","v":"NI"},{"$f":"Price!D160","v":0},null,180.71,{"$f":"Price!F160","v":180.71},null,{"$f":"Price!G160","v":9350813},{"$f":"Price!H160","v":"D310472"}]
["Omezovač úhlu otevření pro závěsy 110°"," 70T3553","S",0,0,14.33,null,null,9048274,"D290104",null,{"$f":"Price!A181","v":"Omezovač úhlu otevření pro závěsy 110°"},{"$f":"Price!B181","v":" 70T3553"},{"$f":"Price!C181","v":"S"},{"$f":"Price!D181","v":0},null,14.33,{"$f":"Price!F181","v":14.33},null,{"$f":"Price!G181","v":9048274},{"$f":"Price!H181","v":"D290104"}]
[0,0,0,0,0,0,null,null,0,0,null,{"$f":"Price!A124","v":0},{"$f":"Price!B124","v":0},{"$f":"Price!C124","v":0},{"$f":"Price!D124","v":0},null,0,{"$f":"Price!F124","v":0},null,{"$f":"Price!G124","v":0},{"$f":"Price!H124","v":0}]
[0,0,0,0,0,0,null,null,0,0,null,{"$f":"Price!A142","v":0},{"$f":"Price!B142","v":0},{"$f":"Price!C142","v":0},{"$f":"Price!D142","v":0},null,{"$f":"R157*(100-$F$6)/100","v":0},{"$f":"Price!F142","v":0},null,{"$f":"Price!G142","v":0},{"$f":"Price!H142","v":0}]
[{"$f":"L158","v":"EXPANDO T, samostatná hmoždinka"},{"$f":"M158","v":"70T4532T"},{"$f":"N158","v":"DGR"},{"$f":"O158","v":0},{"$f":"P158","v":0},63.33,null,null,{"$f":"T158","v":4958478},{"$f":"U158","v":"D722190"},null,{"$f":"Price!A149","v":"EXPANDO T, samostatná hmoždinka"},{"$f":"Price!B149","v":"70T4532T"},{"$f":"Price!C149","v":"DGR"},{"$f":"Price!D149","v":0},null,63.33,{"$f":"Price!F149","v":63.33},null,{"$f":"Price!G149","v":4958478},{"$f":"Price!H149","v":"D722190"}]
[0,0,0,0,0,0,null,null,0,0,null,{"$f":"Price!A146","v":0},{"$f":"Price!B146","v":0},{"$f":"Price!C146","v":0},{"$f":"Price!D146","v":0},null,0,{"$f":"Price!F146","v":0},null,{"$f":"Price!G146","v":0},{"$f":"Price!H146","v":0}]
["CLIP top montážní podložka, na vruty, 0 mm","173L6100","NI",0,0,6.94,null,null,7480175,"D014425",null,{"$f":"Price!A171","v":"CLIP top montážní podložka, na vruty, 0 mm"},{"$f":"Price!B171","v":"173L6100"},{"$f":"Price!C171","v":"NI"},{"$f":"Price!D171","v":0},null,6.94,{"$f":"Price!F171","v":6.94},null,{"$f":"Price!G171","v":7480175},{"$f":"Price!H171","v":"D014425"}]
["CLIP top montážní podložka, EXPANDO, 0 mm","174E6100.01","NI",0,0,10.91,null,null,1863003,"D014458",null,{"$f":"Price!A172","v":"CLIP top montážní podložka, EXPANDO, 0 mm"},{"$f":"Price!B172","v":"174E6100.01"},{"$f":"Price!C172","v":"NI"},{"$f":"Price!D172","v":0},null,10.91,{"$f":"Price!F172","v":10.91},null,{"$f":"Price!G172","v":1863003},{"$f":"Price!H172","v":"D014458"}]
["CLIP top montážní podložka, excentr, 0 mm","173H7100 ","NI",0,0,17.84,null,null,2364043,"D014460",null,{"$f":"Price!A167","v":"CLIP top montážní podložka, excentr, 0 mm"},{"$f":"Price!B167","v":"173H7100 "},{"$f":"Price!C167","v":"NI"},{"$f":"Price!D167","v":0},null,17.84,{"$f":"Price!F167","v":17.84},null,{"$f":"Price!G167","v":2364043},{"$f":"Price!H167","v":"D014460"}]
["CLIP top mont. podložka, excentr, EXPANDO, 0 mm","174H7100E ","NI",0,0,19.39,null,null,2364983,"D187455",null,{"$f":"Price!A168","v":"CLIP top mont. podložka, excentr, EXPANDO, 0 mm"},{"$f":"Price!B168","v":"174H7100E "},{"$f":"Price!C168","v":"NI"},{"$f":"Price!D168","v":0},null,19.39,{"$f":"Price!F168","v":19.39},null,{"$f":"Price!G168","v":2364983},{"$f":"Price!H168","v":"D187455"}]
["CLIP top přímá mont. podložka, zinek, 0 mm","175H5400 ","NI",0,0,23.06,null,null,8002803,"D198495",null,{"$f":"Price!A164","v":"CLIP top přímá mont. podložka, zinek, 0 mm"},{"$f":"Price!B164","v":"175H5400 "},{"$f":"Price!C164","v":"NI"},{"$f":"Price!D164","v":0},null,23.06,{"$f":"Price!F164","v":23.06},null,{"$f":"Price!G164","v":8002803},{"$f":"Price!H164","v":"D198495"}]
["CLIP top přímá mont. podložka, zinek, EXP, 0 mm","177H5400E","NI",0,0,25.29,null,null,8115693,"D354102",null,{"$f":"Price!A165","v":"CLIP top přímá mont. podložka, zinek, EXP, 0 mm"},{"$f":"Price!B165","v":"177H5400E"},{"$f":"Price!C165","v":"NI"},{"$f":"Price!D165","v":0},null,25.29,{"$f":"Price!F165","v":25.29},null,{"$f":"Price!G165","v":8115693},{"$f":"Price!H165","v":"D354102"}]
["CLIP top přímá mont. podložka, ocel, 0 mm","175H3100","NI",0,0,16.98,null,null,5891994,"D495655",null,{"$f":"Price!A162","v":"CLIP top přímá mont. podložka, ocel, 0 mm"},{"$f":"Price!B162","v":"175H3100"},{"$f":"Price!C162","v":"NI"},{"$f":"Price!D162","v":0},null,16.98,{"$f":"Price!F162","v":16.98},null,{"$f":"Price!G162","v":5891994},{"$f":"Price!H162","v":"D495655"}]
["CLIP top přímá mont. podložka, ocel, EXP, 0 mm","177H3100E ","NI",0,0,17.07,null,null,4787251,"D496524",null,{"$f":"Price!A163","v":"CLIP top přímá mont. podložka, ocel, EXP, 0 mm"},{"$f":"Price!B163","v":"177H3100E "},{"$f":"Price!C163","v":"NI"},{"$f":"Price!D163","v":0},null,17.07,{"$f":"Price!F163","v":17.07},null,{"$f":"Price!G163","v":4787251},{"$f":"Price!H163","v":"D496524"}]
[{"$f":"L168","v":"CLIP top krytka ramínka, naložené závěsy"}," 70.1503","NI",0,0,2.74,null,null,3284903,"D118400",null,{"$f":"Price!A174","v":"CLIP top krytka ramínka, naložené závěsy"},{"$f":"Price!B174","v":" 70.1503"},{"$f":"Price!C174","v":"NI"},{"$f":"Price!D174","v":0},null,2.74,{"$f":"Price!F174","v":2.74},null,{"$f":"Price!G174","v":3284903},{"$f":"Price!H174","v":"D118400"}]
[{"$f":"L169","v":0},0,0,0,0,0,null,null,0,0]
["   SERVO-DRIVE",0,0,0,0,0,null,null,0,0,null,{"$f":"Price!A186","v":"   SERVO-DRIVE"},{"$f":"Price!B186","v":0},{"$f":"Price!C186","v":0},{"$f":"Price!D186","v":0},null,{"$f":"R170*(100-$F$6)/100","v":0},{"$f":"Price!F186","v":0},null,{"$f":"Price!G186","v":0},{"$f":"Price!H186","v":0}]
[{"$f":"L171","v":"SERVO-DRIVE jednotka (sada)"},{"$f":"M171","v":"23.A000"},{"$f":"N171","v":"R7037"},{"$f":"O171","v":0},{"$f":"P171","v":0},{"$f":"Q171","v":8297.32},null,null,{"$f":"T171","v":5362207},{"$f":"U171","v":"D906633"},null,{"$f":"Price!A187","v":"SERVO-DRIVE jednotka (sada)"},{"$f":"Price!B187","v":"23.A000"},{"$f":"Price!C187","v":"R7037"},{"$f":"Price!D187","v":0},null,{"$f":"R171*(100-$F$6)/100","v":8297.32},{"$f":"Price!F187","v":8297.32},null,{"$f":"Price!G187","v":5362207},{"$f":"Price!H187","v":"D906633"}]
["SERVO-DRIVE jednotka (sada) pro HK top","23KA000","R7037",0,0,8251.18,null,null,9961208,"D768263",null,{"$f":"Price!A188","v":"SERVO-DRIVE jednotka (sada) pro HK top"},{"$f":"Price!B188","v":"23KA000"},{"$f":"Price!C188","v":"R7037"},{"$f":"Price!D188","v":0},null,8251.18,{"$f":"Price!F188","v":8251.18},null,{"$f":"Price!G188","v":9961208},{"$f":"Price!H188","v":"D768263"}]
["Distanční doraz Blum, 5mm","993.0530","R737",0,0,22.6,null,null,7834990,"D298325",null,{"$f":"Price!A189","v":"Distanční doraz Blum, 5mm"},{"$f":"Price!B189","v":"993.0530"},{"$f":"Price!C189","v":"R737"},{"$f":"Price!D189","v":0},null,22.6,{"$f":"Price!F189","v":22.6},null,{"$f":"Price!G189","v":7834990},{"$f":"Price!H189","v":"D298325"}]
["Distanční doraz Blum, 8mm","993.0830.01","R737",0,0,20.3,null,null,7402930,"D198622",null,{"$f":"Price!A190","v":"Distanční doraz Blum, 8mm"},{"$f":"Price!B190","v":"993.0830.01"},{"$f":"Price!C190","v":"R737"},{"$f":"Price!D190","v":0},null,20.3,{"$f":"Price!F190","v":20.3},null,{"$f":"Price!G190","v":7402930},{"$f":"Price!H190","v":"D198622"}]
["Držák kabelu s Klebesockel","Z10K0009","NA",0,0,24.75,null,null,7283231,"D198614",null,{"$f":"Price!A191","v":"Držák kabelu s Klebesockel"},{"$f":"Price!B191","v":"Z10K0009"},{"$f":"Price!C191","v":"NA"},{"$f":"Price!D191","v":0},null,24.75,{"$f":"Price!F191","v":24.75},null,{"$f":"Price!G191","v":7283231},{"$f":"Price!H191","v":"D198614"}]
["Elektrokabel, délka 8m + 5 krytek","Z10K800AE","S",0,0,858.88,null,null,7550294,"D198611",null,{"$f":"Price!A192","v":"Elektrokabel, délka 8m + 5 krytek"},{"$f":"Price!B192","v":"Z10K800AE"},{"$f":"Price!C192","v":"S"},{"$f":"Price!D192","v":0},null,858.88,{"$f":"Price!F192","v":858.88},null,{"$f":"Price!G192","v":7550294},{"$f":"Price!H192","v":"D198611"}]
["Napájecí kabel se zástrčkou, 2m","Z10M200E ","S",0,0,208.3,null,null,7205784,"D198599",null,{"$f":"Price!A193","v":"Napájecí kabel se zástrčkou, 2m"},{"$f":"Price!B193","v":"Z10M200E "},{"$f":"Price!C193","v":"S"},{"$f":"Price!D193","v":0},null,208.3,{"$f":"Price!F193","v":208.3},null,{"$f":"Price!G193","v":7205784},{"$f":"Price!H193","v":"D198599"}]
["Napájecí zdroj 24W","Z10NE030E","S",0,0,3170.39,null,null,5082891,"D198597",null,{"$f":"Price!A194","v":"Napájecí zdroj 24W"},{"$f":"Price!B194","v":"Z10NE030E"},{"$f":"Price!C194","v":"S"},{"$f":"Price!D194","v":0},null,3170.39,{"$f":"Price!F194","v":3170.39},null,{"$f":"Price!G194","v":5082891},{"$f":"Price!H194","v":"D198597"}]
["Držák napájecího zdroje - montáž na stěnu","Z10NG120","WGR",0,0,115.65,null,null,9327076,"D198600",null,{"$f":"Price!A195","v":"Držák napájecího zdroje - montáž na stěnu"},{"$f":"Price!B195","v":"Z10NG120"},{"$f":"Price!C195","v":"WGR"},{"$f":"Price!D195","v":0},null,115.65,{"$f":"Price!F195","v":115.65},null,{"$f":"Price!G195","v":9327076},{"$f":"Price!H195","v":"D198600"}]
["Propojovací svorka s hroty + krytka","Z10V100E.01","S",0,0,204.59,null,null,8820285,"D198616",null,{"$f":"Price!A196","v":"Propojovací svorka s hroty + krytka"},{"$f":"Price!B196","v":"Z10V100E.01"},{"$f":"Price!C196","v":"S"},{"$f":"Price!D196","v":0},null,204.59,{"$f":"Price!F196","v":204.59},null,{"$f":"Price!G196","v":8820285},{"$f":"Price!H196","v":"D198616"}]
["Spínač SERVO-DRIVE, světle šedá","23P5020","HGR",0,0,956.51,null,null,8457250,"D917397",null,{"$f":"Price!A197","v":"Spínač SERVO-DRIVE, světle šedá"},{"$f":"Price!B197","v":"23P5020"},{"$f":"Price!C197","v":"HGR"},{"$f":"Price!D197","v":0},null,956.51,{"$f":"Price!F197","v":956.51},null,{"$f":"Price!G197","v":8457250},{"$f":"Price!H197","v":"D917397"}]
["Spínač SERVO-DRIVE, hedvábně bílá","23P5020","SW",0,0,994.78,null,null,6550469,"D806402",null,{"$f":"Price!A198","v":"Spínač SERVO-DRIVE, hedvábně bílá"},{"$f":"Price!B198","v":"23P5020"},{"$f":"Price!C198","v":"SW"},{"$f":"Price!D198","v":0},null,994.78,{"$f":"Price!F198","v":994.78},null,{"$f":"Price!G198","v":6550469},{"$f":"Price!H198","v":"D806402"}]
[{"$f":"L183","v":"Spínač SERVO-DRIVE, tmavě šedá"},"23P5020","TGR",0,0,994.78,null,null,{"$f":"T183","v":2471776},{"$f":"U183","v":"D917398"},null,{"$f":"Price!A199","v":"Spínač SERVO-DRIVE, tmavě šedá"},{"$f":"Price!B199","v":"23P5020"},{"$f":"Price!C199","v":"TGR"},{"$f":"Price!D199","v":0},null,{"$f":"R183*(100-$F$6)/100","v":994.78},{"$f":"Price!F199","v":994.78},null,{"$f":"Price!G199","v":2471776},{"$f":"Price!H199","v":"D917398"}]
[0,0,0,0,0,0,null,null,{"$f":"T184","v":0},{"$f":"U184","v":0}]
[{"$f":"L185","v":"TIP-ON, krátká verze, šedá"},{"$f":"M185","v":"956.1004"},{"$f":"N185","v":"PG"},{"$f":"O185","v":0},{"$f":"P185","v":0},{"$f":"Q185","v":116.95},null,null,{"$f":"T185","v":7696336},{"$f":"U185","v":"D534490"},null,{"$f":"Price!A203","v":"TIP-ON, krátká verze, šedá"},{"$f":"Price!B203","v":"956.1004"},{"$f":"Price!C203","v":"PG"},{"$f":"Price!D203","v":0},null,{"$f":"R185*(100-$F$6)/100","v":116.95},{"$f":"Price!F203","v":116.95},null,{"$f":"Price!G203","v":7696336},{"$f":"Price!H203","v":"D534490"}]
["TIP-ON, krátká verze, hedvábně bílá","956.1004","SW",0,0,116.95,null,null,4683908,"D532903",null,{"$f":"Price!A204","v":"TIP-ON, krátká verze, hedvábně bílá"},{"$f":"Price!B204","v":"956.1004"},{"$f":"Price!C204","v":"SW"},{"$f":"Price!D204","v":0},null,116.95,{"$f":"Price!F204","v":116.95},null,{"$f":"Price!G204","v":4683908},{"$f":"Price!H204","v":"D532903"}]
["TIP-ON, krátká verze, karbon černá","956.1004","CS",0,0,116.95,null,null,0,"D883722",null,{"$f":"Price!A205","v":"TIP-ON, krátká verze, karbon černá"},{"$f":"Price!B205","v":"956.1004"},{"$f":"Price!C205","v":"CS"},{"$f":"Price!D205","v":0},null,116.95,{"$f":"Price!F205","v":116.95},null,{"$f":"Price!G205","v":0},{"$f":"Price!H205","v":"D883722"}]
["TIP-ON, dlouhá verze, šedá","956A1004","PG",0,0,146.75,null,null,6484096,"D540048",null,{"$f":"Price!A206","v":"TIP-ON, dlouhá verze, šedá"},{"$f":"Price!B206","v":"956A1004"},{"$f":"Price!C206","v":"PG"},{"$f":"Price!D206","v":0},null,146.75,{"$f":"Price!F206","v":146.75},null,{"$f":"Price!G206","v":6484096},{"$f":"Price!H206","v":"D540048"}]
["TIP-ON, dlouhá verze, hedvábně bílá","956A1004","WA",0,0,146.75,null,null,6856758,"D540047",null,{"$f":"Price!A207","v":"TIP-ON, dlouhá verze, hedvábně bílá"},{"$f":"Price!B207","v":"956A1004"},{"$f":"Price!C207","v":"WA"},{"$f":"Price!D207","v":0},null,146.75,{"$f":"Price!F207","v":146.75},null,{"$f":"Price!G207","v":6856758},{"$f":"Price!H207","v":"D540047"}]
["TIP-ON, dlouhá verze, karbon černá","956A1004","CS",0,0,146.75,null,null,0,"D887480",null,{"$f":"Price!A208","v":"TIP-ON, dlouhá verze, karbon černá"},{"$f":"Price!B208","v":"956A1004"},{"$f":"Price!C208","v":"CS"},{"$f":"Price!D208","v":0},null,146.75,{"$f":"Price!F208","v":146.75},null,{"$f":"Price!G208","v":0},{"$f":"Price!H208","v":"D887480"}]
[{"$f":"L191","v":"TIP-ON přímý adaptér - krátká verze, šedá"},"956.1201","PG",0,0,26.08,null,null,{"$f":"T191","v":"5066363"},"D889227",null,{"$f":"Price!A211","v":"TIP-ON přímý adaptér - krátká verze, šedá"},{"$f":"Price!B211","v":"956.1201"},{"$f":"Price!C211","v":"PG"},{"$f":"Price!D211","v":0},null,26.08,{"$f":"Price!F211","v":26.08},null,{"$f":"Price!G211","v":"5066363"},{"$f":"Price!H211","v":"D889227"}]
["TIP-ON přímý adaptér - krátká verze, hedv. bílá","956.1201","SW",0,0,26.08,null,null,"4372870","D540044",null,{"$f":"Price!A212","v":"TIP-ON přímý adaptér - krátká verze, hedv. bílá"},{"$f":"Price!B212","v":"956.1201"},{"$f":"Price!C212","v":"SW"},{"$f":"Price!D212","v":0},null,26.08,{"$f":"Price!F212","v":26.08},null,{"$f":"Price!G212","v":"4372870"},{"$f":"Price!H212","v":"D540044"}]
["TIP-ON přímý adaptér - krátká verze, karbon černá","956.1201","CS",0,0,28.91,null,null,0,"D889251",null,{"$f":"Price!A213","v":"TIP-ON přímý adaptér - krátká verze, karbon černá"},{"$f":"Price!B213","v":"956.1201"},{"$f":"Price!C213","v":"CS"},{"$f":"Price!D213","v":0},null,28.91,{"$f":"Price!F213","v":28.91},null,{"$f":"Price!G213","v":0},{"$f":"Price!H213","v":"D889251"}]
["TIP-ON přímý adaptér - dlouhá verze, šedá","956A1201","R736",0,0,{"$f":"Q194","v":26.08},null,null,4722188,"D540051",null,{"$f":"Price!A214","v":"TIP-ON přímý adaptér - dlouhá verze, šedá"},{"$f":"Price!B214","v":"956A1201"},{"$f":"Price!C214","v":"R736"},{"$f":"Price!D214","v":0},null,26.08,{"$f":"Price!F214","v":26.08},null,{"$f":"Price!G214","v":4722188},{"$f":"Price!H214","v":"D540051"}]
["TIP-ON přímý adaptér - dlouhá verze, hedv. bílá","956A1201","WA",0,0,26.08,null,null,3315359,"D540050",null,{"$f":"Price!A215","v":"TIP-ON přímý adaptér - dlouhá verze, hedv. bílá"},{"$f":"Price!B215","v":"956A1201"},{"$f":"Price!C215","v":"WA"},{"$f":"Price!D215","v":0},null,26.08,{"$f":"Price!F215","v":26.08},null,{"$f":"Price!G215","v":3315359},{"$f":"Price!H215","v":"D540050"}]
["TIP-ON přímý adaptér - dlouhá verze, karbon černá","956A1201","CS",0,0,28.91,null,null,0,"D883723",null,{"$f":"Price!A216","v":"TIP-ON přímý adaptér - dlouhá verze, karbon černá"},{"$f":"Price!B216","v":"956A1201"},{"$f":"Price!C216","v":"CS"},{"$f":"Price!D216","v":0},null,28.91,{"$f":"Price!F216","v":28.91},null,{"$f":"Price!G216","v":0},{"$f":"Price!H216","v":"D883723"}]
["TIP-ON křížový adaptér, šedý","956A1501","PG",0,0,18.63,null,null,7004719,"D542404",null,{"$f":"Price!A217","v":"TIP-ON křížový adaptér, šedý"},{"$f":"Price!B217","v":"956A1501"},{"$f":"Price!C217","v":"PG"},{"$f":"Price!D217","v":0},null,18.63,{"$f":"Price!F217","v":18.63},null,{"$f":"Price!G217","v":7004719},{"$f":"Price!H217","v":"D542404"}]
[0,0,0,0,0,0,null,null,0,0,null,{"$f":"Price!A218","v":0},{"$f":"Price!B218","v":0},{"$f":"Price!C218","v":0},{"$f":"Price!D218","v":0},null,0,{"$f":"Price!F218","v":0},null,{"$f":"Price!G218","v":0},{"$f":"Price!H218","v":0}]
["Zde můžete vložit vlastní položky (následujících 10 řádků, zobrazí se v objednávce)",0,0,0,0,0,null,null,0,0,null,{"$f":"Price!A219","v":"Zde můžete vložit vlastní položky (následujících 10 řádků, zobrazí se v objednávce)"},{"$f":"Price!B219","v":0},{"$f":"Price!C219","v":0},{"$f":"Price!D219","v":0},null,0,{"$f":"Price!F219","v":0},null,{"$f":"Price!G219","v":0},{"$f":"Price!H219","v":0}]
[{"$f":"L200","v":0},0,0,0,0,0,null,null,{"$f":"T200","v":0},{"$f":"U200","v":0},null,{"$f":"Price!A220","v":0},{"$f":"Price!B220","v":0},{"$f":"Price!C220","v":0},{"$f":"Price!D220","v":0},null,0,{"$f":"Price!F220","v":0},null,{"$f":"Price!G220","v":0},{"$f":"Price!H220","v":0}]
[0,0,0,0,0,0,null,null,{"$f":"T201","v":0},{"$f":"U201","v":0},null,{"$f":"Price!A221","v":0},{"$f":"Price!B221","v":0},{"$f":"Price!C221","v":0},{"$f":"Price!D221","v":0},null,0,{"$f":"Price!F221","v":0},null,{"$f":"Price!G221","v":0},{"$f":"Price!H221","v":0}]
[{"$f":"L202","v":0},{"$f":"M202","v":0},{"$f":"N202","v":0},{"$f":"O202","v":0},{"$f":"P202","v":0},{"$f":"Q202","v":0},null,null,{"$f":"T202","v":0},{"$f":"U202","v":0},null,{"$f":"Price!A222","v":0},{"$f":"Price!B222","v":0},{"$f":"Price!C222","v":0},{"$f":"Price!D222","v":0},null,{"$f":"R202*(100-$F$6)/100","v":0},{"$f":"Price!F222","v":0},null,{"$f":"Price!G222","v":0},{"$f":"Price!H222","v":0}]
[0,0,0,0,0,0,null,null,0,0,null,{"$f":"Price!A223","v":0},{"$f":"Price!B223","v":0},{"$f":"Price!C223","v":0},{"$f":"Price!D223","v":0},null,0,{"$f":"Price!F223","v":0},null,{"$f":"Price!G223","v":0},{"$f":"Price!H223","v":0}]
[0,0,0,0,0,0,null,null,0,0,null,{"$f":"Price!A224","v":0},{"$f":"Price!B224","v":0},{"$f":"Price!C224","v":0},{"$f":"Price!D224","v":0},null,0,{"$f":"Price!F224","v":0},null,{"$f":"Price!G224","v":0},{"$f":"Price!H224","v":0}]
[0,0,0,0,0,0,null,null,0,0,null,{"$f":"Price!A225","v":0},{"$f":"Price!B225","v":0},{"$f":"Price!C225","v":0},{"$f":"Price!D225","v":0},null,0,{"$f":"Price!F225","v":0},null,{"$f":"Price!G225","v":0},{"$f":"Price!H225","v":0}]
[0,0,0,0,0,0,null,null,0,0,null,{"$f":"Price!A226","v":0},{"$f":"Price!B226","v":0},{"$f":"Price!C226","v":0},{"$f":"Price!D226","v":0},null,0,{"$f":"Price!F226","v":0},null,{"$f":"Price!G226","v":0},{"$f":"Price!H226","v":0}]
[0,0,0,0,0,0,null,null,0,0,null,{"$f":"Price!A227","v":0},{"$f":"Price!B227","v":0},{"$f":"Price!C227","v":0},{"$f":"Price!D227","v":0},null,0,{"$f":"Price!F227","v":0},null,{"$f":"Price!G227","v":0},{"$f":"Price!H227","v":0}]
[0,0,0,0,0,0,null,null,0,0,null,{"$f":"Price!A228","v":0},{"$f":"Price!B228","v":0},{"$f":"Price!C228","v":0},{"$f":"Price!D228","v":0},null,0,{"$f":"Price!F228","v":0},null,{"$f":"Price!G228","v":0},{"$f":"Price!H228","v":0}]
[0,0,0,0,0,0,null,null,0,0,null,{"$f":"Price!A229","v":0},{"$f":"Price!B229","v":0},{"$f":"Price!C229","v":0},{"$f":"Price!D229","v":0},null,0,{"$f":"Price!F229","v":0},null,{"$f":"Price!G229","v":0},{"$f":"Price!H229","v":0}]
[0,0,0,0,0,0,null,null,0,0,null,{"$f":"Price!A230","v":0},{"$f":"Price!B230","v":0},{"$f":"Price!C230","v":0},{"$f":"Price!D230","v":0},null,0,{"$f":"Price!F230","v":0},null,{"$f":"Price!G230","v":0},{"$f":"Price!H230","v":0}]

{"sheet":"Param","index":45,"n_rows":248,"n_cols":18,"rows_kept":248,"cut":false,"hidden":false,"merged":[[233,12,233,13],[1,7,1,8],[233,3,233,4],[233,5,233,6],[231,10,231,11],[10,8,30,8]]}
[]
[null,null,null,null,null,null,null,{"$f":"ListAVS!$B$168","v":"Zpět na úvod"}]
[]
[]
[]
[]
[]
[]
[]
[null,null,null,null,null,null,null,{"$f":"ListAVS!$B$241&\" [kg/m3]\"","v":"Objemová hmotnost materiálu čel [kg/m3]"},null,null,null,null,"Parametry HF"]
[null,null,null,null,null,null,{"$f":"ListAVS!$B$90&\" \"","v":"MDF "},760,{"$f":"ListAVS!$B$106","v":"Tyto hodnoty se budou zobrazovat jako přednastavené."},null,null,null,"Zdvihač","ks","min","max","alu max."]
[null,null,null,null,null,null,"Dřevotříska ",680,null,null,null,null,"22F2500",1,2700,11500]
[null,null,null,null,null,null,"Kompakt ",1350,null,null,null,null,"22F2800",1,11500,19300,19300]
[null,null,null,null,null,null,{"$f":"ListAVS!$B$97&\" \"","v":"Kompozit "},1700,null,null,null,null,"22F2800",1.5,19300,28950]
[null,null,null,null,null,null,{"$f":"ListAVS!$B$98&\" \"","v":"Kámen "},2600,null,null,null,null,"22F2800",2,23000,38600]
[null,null,null,null,null,null,{"$f":"ListAVS!$B$99&\" \"","v":"Keramika "},2400]
[null,null,null,null,null,null,"Beton ",2300,null,null,null,null,"Teleskop",null,"min","max"]
[null,null,null,null,null,null,"Sklo ",2500,null,null,null,null,"20F3200",null,480,605]
[null,null,null,null,null,null,null,{"$f":"ListAVS!$B$244&\" [kg/m3]\"","v":"Zadejte objemovou hmotnost  [kg/m3]"},null,null,null,null,"20F3500",null,605,890]
[null,null,null,null,null,null,null,null,null,null,null,null,"20F3900",null,890,1200]
[null,null,null,null,null,null,null,null,null,null,null,null,null,null,"max.",1200]
[null,null,null,null,null,null,null,{"$f":"ListAVS!$B$246&\" [kg/bm]\"","v":"Hmotnost alurámečků [kg/bm]"},null,null,null,null,"Parametry HS"]
[null,null,null,null,null,null,null,{"$f":"ListAVS!$B$399","v":"Přednastavená"},null,null,null,null,"Zdvihač","ks","min","max","hmot. min.","hmot. max."]
[null,null,null,null,null,null,{"$f":"ListAVS!$B$19&\" \"&ListAVS!$B$422&\"  \"","v":"Široké alurámečky s vloženým sklem  "},0.62,null,null,null,null,"22S2200",null,350,450,2,11.5]
[null,null,null,null,null,null,{"$f":"ListAVS!$B$19&\" \"&ListAVS!$B$423&\"  \"","v":"Široké alurámečky s naloženým nebo nalepeným sklem  "},0.63,null,null,null,null,"22S2200 v",null,450,540,2.5,12.5]
[null,null,null,null,null,null,{"$f":"ListAVS!$B$405&\" [kg/set] *  \"","v":"Hmotnost spojovacího materiálu [kg/set] *  "},0.61,null,null,null,null,"22S2500",null,480,660,2.75,15.25]
[null,null,null,null,null,null,null,null,null,null,null,null,"22S2800",null,650,800,3.5,18.5]
[]
[null,null,null,null,null,null,{"$f":"ListAVS!$B$21&\" \"&ListAVS!$B$422&\"  \"","v":"Úzké alurámečky s vloženým sklem  "},0.31]
[null,null,null,null,null,null,{"$f":"ListAVS!$B$21&\" \"&ListAVS!$B$423&\"  \"","v":"Úzké alurámečky s naloženým nebo nalepeným sklem  "},0.32,null,null,null,null,"Parametry HL"]
[null,null,null,null,null,null,{"$f":"ListAVS!$B$405&\" [kg/set] *  \"","v":"Hmotnost spojovacího materiálu [kg/set] *  "},0.46,null,null,null,null,null,null,"22L2200"]
[null,null,null,null,null,null,null,null,null,null,null,null,null,"min KH","max KH","min FG","max FG"]
[null,null,null,null,null,null,null,null,null,null,null,null,"22L3200",300,339,1.5,9]
[null,null,null,null,null,null,null,null,null,null,null,null,"22L3500",340,389,1.75,10]
[]
[null,null,null,null,null,null,null,null,null,null,null,null,null,null,"22L2500"]
[null,null,null,null,null,null,null,null,null,null,null,null,null,"min KH","max KH","min FG","max FG","hranice"]
[null,null,null,null,null,null,null,null,null,null,null,null,"22L3800",390,540,2,12.25,500]
[null,null,null,null,null,null,null,null,null,null,null,null,"22L3900",480,580,1.5,14]
[]
[]
[]
[]
[]
[]
[]
[]
[]
[]
[]
[]
[]
[]
[]
[]
[]
[]
[]
[]
[]
[]
[]
[]
[]
[]
[]
[]
[]
[]
[]
[]
[]
[]
[]
[]
[]
[]
[]
[]
[]
[]
[]
[]
[]
[]
[]
[]
[]
[]
[]
[]
[]
[]
[]
[]
[]
[]
[]
[]
[]
[]
[]
[]
[]
[]
[]
[]
[]
[]
[]
[]
[]
[]
[]
[]
[]
[]
[]
[]
[]
[]
[]
[]
[]
[]
[]
[]
[]
[]
[]
[]
[]
[]
[]
[]
[]
[]
[]
[]
[]
[]
[]
[]
[]
[]
[]
[]
[]
[]
[]
[]
[]
[]
[]
[]
[]
[]
[]
[]
[]
[]
[]
[]
[]
[]
[]
[]
[]
[]
[]
[]
[]
[]
[]
[]
[]
[]
[]
[]
[]
[]
[]
[]
[]
[]
[]
[]
[]
[]
[]
[]
[]
[]
[]
[]
[]
[]
[]
[]
[]
[]
[]
[]
[]
[]
[]
[]
[]
[]
[]
[]
[null,null,"Parametry HF"]
[]
[null,null,"Zdvihač","ks","min","max","alu max."]
[]
[null,null,"20F2500",1,2700,11500]
[null,null,"20F2500",1.5,4049,20251]
[null,null,"20F2800",1,11499,19301,19301]
[null,null,"20F2800",1.5,19299,28951]
[]
[]
[null,null,"Teleskop",null,"min","max"]
[null,null,"20F3200",null,480,605]
[null,null,"20F3500",null,604,890]
[null,null,"20F3900",null,889,1201]
[null,null,null,null,"max.",1040]
[]
[]
[]
[]
[null,null,null,null,null,null,null,null,"max"]
[null,null,null,null,null,null,null,null,11.4999,null,"20L2800"]
[null,null,"Parametry HL",null,null,null,null,null,8.4999000000000002,null,"min","max"]
[null,null,null,"20L2100",null,"20L2300",null,"20L2500",6.2499000000000002,null,{"$f":"I232+0.0001","v":11.5},20,"20L2900"]
[null,null,null,"min","max","min","max","min",4.7499000000000002,null,{"$f":"I233+0.0001","v":8.5},14.129899999999999,"min","max"]
[null,null,"20L3200",1.2499,3.8799000000000001,{"$f":"E236+0.0001","v":3.8800000000000003},6.8799000000000001,{"$f":"G236+0.0001","v":6.88},null,null,{"$f":"I234+0.0001","v":6.25},11.129899999999999]
[null,null,"20L3500",1.2499,2.1299000000000001,{"$f":"E237+0.0001","v":2.1300000000000003},4.6299000000000001,{"$f":"G237+0.0001","v":4.63},null,null,{"$f":"I235+0.0001","v":4.75},8.7599,{"$f":"L235+0.0001","v":14.129999999999999},20]
[null,null,"20L3800",null,null,1.7499,3.1299000000000001,{"$f":"G238+0.0001","v":3.1300000000000003},null,null,null,null,{"$f":"L236+0.0001","v":11.129999999999999},20]
[null,null,"20L3900",null,null,null,null,1.9999,null,null,null,null,{"$f":"L237+0.0001","v":8.76},16.5]
[]
[]
[]
[null,null,"Teleskop",null,"min","max"]
[null,null,"20L3200",null,300,349]
[null,null,"20L3500",null,350,399]
[null,null,"20L3800",null,400,500]
[null,null,"20L3900",null,501,580]
[null,null,null,null,"max.",580]

{"sheet":"Price","index":46,"n_rows":219,"n_cols":14,"rows_kept":219,"cut":false,"hidden":false,"merged":[]}
[null,null,null,null,null,null,null,{"$f":"ListAVS!$B$227","v":"Ceník"}]
[{"$f":"ListAVS!B225&\":\"","v":"Prodejce:"},null,null,null,null,null,null,{"$f":"ListAVS!$B$168","v":"Zpět na úvod"}]
[]
[]
[]
[]
[]
[null,null,null,null,null,null,{"$f":"ListAVS!$B$223&\": \"","v":"Platnost ceníku od: "}]
[]
[{"$f":"ListAVS!$B$52","v":"Název"},{"$f":"ListAVS!$B$53","v":"Číslo artiklu"},{"$f":"ListAVS!$B$54","v":"Barva"},{"$f":"ListAVS!$B$57","v":"Dostupnost"},{"$f":"ListAVS!$B$55","v":"Počet"},{"$f":"ListAVS!$B$58","v":"Jednotková cena"},"IDNr.",null,null,null,null,null,null,"IDNr."]
["Sada zdvihačů HF top, na vruty","22F2500","ZN",null,null,1651.93,6115096,"D906606",null,null,{"$f":"L11*26/100","v":{"$error":"#REF!"}},{"$f":"VLOOKUP(G11,#REF!, 6, FALSE)","v":{"$error":"#REF!"}},null,9007682]
["Sada zdvihačů HF top, předmont. eurošrouby","22F2510","ZN",null,null,1651.93,6225429,"D906608",null,null,{"$f":"L12*26/100","v":{"$error":"#REF!"}},{"$f":"VLOOKUP(G12,#REF!, 6, FALSE)","v":{"$error":"#REF!"}},null,9007752]
["Sada zdvihačů HF top, na vruty","22F2800","ZN",null,null,1805.55,1755700,"D906607",null,null,{"$error":"#REF!"},{"$f":"VLOOKUP(G13,#REF!, 6, FALSE)","v":{"$error":"#REF!"}},null,9007822]
["Sada zdvihačů HF top, předmont. eurošrouby","22F2810","ZN",null,null,1805.55,6445555,"D906609"]
["Sada teleskopů HF top (480–610 mm)","22F3200","NI",null,null,785.14,8795903,"D906610",null,null,{"$error":"#REF!"},{"$f":"VLOOKUP(G15,#REF!, 6, FALSE)","v":{"$error":"#REF!"}},null,5397438]
["Sada teleskopů HF top (600–910 mm)","22F3500","NI",null,null,964.4,7893366,"D906611",null,null,{"$error":"#REF!"},{"$f":"VLOOKUP(G16,#REF!, 6, FALSE)","v":{"$error":"#REF!"}},null,4031701]
["Sada teleskopů HF top (840–1200 mm)","22F3900","NI",null,null,1143.6400000000001,6927662,"D906612",null,null,{"$error":"#REF!"},{"$f":"VLOOKUP(G17,#REF!, 6, FALSE)","v":{"$error":"#REF!"}},null,3841114]
["Závěs CLIP top 120° ","70T5550.TL","NI",null,null,56.56,6510533,"D033609",null,null,{"$error":"#REF!"},{"$f":"VLOOKUP(G18,#REF!, 6, FALSE)","v":{"$error":"#REF!"}},null,6510533]
["Závěs CLIP top 120° EXPANDO","70T558E","NI",null,null,53.42,7606263,"D354089",null,null,{"$error":"#REF!"},{"$f":"VLOOKUP(G19,#REF!, 6, FALSE)","v":{"$error":"#REF!"}},null,7606263]
["Středový závěs CLIP top ","78Z5500T","NI",null,null,92.71,6796673,"D055349",null,null,{"$error":"#REF!"},{"$f":"VLOOKUP(G20,#REF!, 6, FALSE)","v":{"$error":"#REF!"}},null,6796673]
["Středový závěs CLIP top EXPANDO","78Z553ET","NI",null,null,95.69,6797133,"D354094",null,null,{"$error":"#REF!"},{"$f":"VLOOKUP(G21,#REF!, 6, FALSE)","v":{"$error":"#REF!"}},null,6797133]
["Závěs CLIP top pro alurámečky","72T550A.TL","NI",null,null,77.180000000000007,7655633,"D159491",null,null,{"$error":"#REF!"},{"$f":"VLOOKUP(G22,#REF!, 6, FALSE)","v":{"$error":"#REF!"}},null,7655633]
["Střed. závěs CLIP top pro alurámečky","78Z550AT","NI",null,null,101.63,6797303,"D124476",null,null,{"$error":"#REF!"},{"$f":"VLOOKUP(G23,#REF!, 6, FALSE)","v":{"$error":"#REF!"}},null,6797303]
["Adaptér CLIP k teleskopům P","175H5B00   R","NI",null,null,90.34,6796243,"D124479",null,null,{"$error":"#REF!"},{"$f":"VLOOKUP(G24,#REF!, 6, FALSE)","v":{"$error":"#REF!"}},null,6796243]
["Adaptér CLIP k teleskopům L","175H5B00   L","NI",null,null,90.34,6796593,"D124478",null,null,{"$error":"#REF!"},{"$f":"VLOOKUP(G25,#REF!, 6, FALSE)","v":{"$error":"#REF!"}},null,6796593]
["Adaptér CLIP ke středovým závěsům","175H5A00","NI",null,null,90.34,6796303,"D124477",null,null,{"$error":"#REF!"},{"$f":"VLOOKUP(G26,#REF!, 6, FALSE)","v":{"$error":"#REF!"}},null,6796303]
[]
["Sada zdvihačů HS top, na vruty","22S2200","ZN",null,null,1754.34,6873965,"D906613",null,null,{"$error":"#REF!"},{"$f":"VLOOKUP(G28,#REF!, 6, FALSE)","v":{"$error":"#REF!"}},null,9016592]
["Sada zdvihačů HS top, předmont. eurošrouby","22S2210","ZN",null,null,1754.34,8437807,"D906616",null,null,{"$error":"#REF!"},{"$f":"VLOOKUP(G29,#REF!, 6, FALSE)","v":{"$error":"#REF!"}},null,9016662]
["Sada zdvihačů HS top, na vruty","22S2500","ZN",null,null,1856.76,4544774,"D906614",null,null,{"$error":"#REF!"},{"$f":"VLOOKUP(G30,#REF!, 6, FALSE)","v":{"$error":"#REF!"}},null,9016732]
["Sada zdvihačů HS top, předmont. eurošrouby","22S2510","ZN",null,null,1856.76,4339002,"D906617",null,null,{"$error":"#REF!"},{"$f":"VLOOKUP(G31,#REF!, 6, FALSE)","v":{"$error":"#REF!"}},null,9016802]
["Sada zdvihačů HS top, na vruty","22S2800","ZN",null,null,1972,6726108,"D906615",null,null,{"$error":"#REF!"},{"$f":"VLOOKUP(G32,#REF!, 6, FALSE)","v":{"$error":"#REF!"}},null,9016972]
["Sada zdvihačů HS top, předmont. eurošrouby","22S2810","ZN",null,null,1972,1560191,"D906618",null,null,{"$error":"#REF!"},{"$f":"VLOOKUP(G33,#REF!, 6, FALSE)","v":{"$error":"#REF!"}},null,9017032]
["Sada ramen HS top","22S3500","ZN",null,null,1169.26,4455776,"D906619",null,null,{"$error":"#REF!"},{"$f":"VLOOKUP(G34,#REF!, 6, FALSE)","v":{"$error":"#REF!"}},null,2808088]
[]
["Sada zdvihačů HL top, na vruty","22L2200","ZN",null,null,1754.34,5877526,"D906620",null,null,{"$error":"#REF!"},{"$f":"VLOOKUP(G36,#REF!, 6, FALSE)","v":{"$error":"#REF!"}},null,9007992]
["Sada zdvihačů HL top, předmont. eurošrouby","22L2210","ZN",null,null,1754.34,1723404,"D906622",null,null,{"$error":"#REF!"},{"$f":"VLOOKUP(G37,#REF!, 6, FALSE)","v":{"$error":"#REF!"}},null,9008052]
["Sada zdvihačů HL top, na vruty","22L2500","ZN",null,null,1882.38,6119711,"D906621",null,null,{"$error":"#REF!"},{"$f":"VLOOKUP(G38,#REF!, 6, FALSE)","v":{"$error":"#REF!"}},null,9008122]
["Sada zdvihačů HL top, předmont. eurošrouby","22L2510","ZN",null,null,1882.38,3220181,"D906623",null,null,{"$error":"#REF!"},{"$f":"VLOOKUP(G39,#REF!, 6, FALSE)","v":{"$error":"#REF!"}},null,9008292]
["Sada ramen HL top (300–339 mm)","22L3200","NI",null,null,1233.67,8484930,"D906624",null,null,{"$error":"#REF!"},{"$f":"VLOOKUP(G40,#REF!, 6, FALSE)","v":{"$error":"#REF!"}},null,5059530]
["Sada ramen HL top (340–389 mm)","22L3500","NI",null,null,1259.26,4361231,"D906625",null,null,{"$error":"#REF!"},{"$f":"VLOOKUP(G41,#REF!, 6, FALSE)","v":{"$error":"#REF!"}},null,9709704]
["Sada ramen HL top (390–540 mm)","22L3800","NI",null,null,1297.67,8458432,"D906626",null,null,{"$error":"#REF!"},{"$f":"VLOOKUP(G42,#REF!, 6, FALSE)","v":{"$error":"#REF!"}},null,2255924]
["Sada ramen HL top (480–580 mm)","22L3900","NI",null,null,1438.5,4889829,"D906627",null,null,{"$error":"#REF!"},{"$f":"VLOOKUP(G43,#REF!, 6, FALSE)","v":{"$error":"#REF!"}},null,6109280]
["Tyč příčné stabizace HL top","22Q1076U","EV",null,null,337.98,6826344,"D906628",null,null,{"$error":"#REF!"},{"$f":"VLOOKUP(G44,#REF!, 6, FALSE)","v":{"$error":"#REF!"}},null,7799390]
["Sada spojovacích dílů příčné stabilizace HL top","22Q080Z","EV",null,null,307.76,2272763,"D906629",null,null,{"$f":"L45*26/100","v":{"$error":"#REF!"}},{"$f":"VLOOKUP(G45,#REF!, 6, FALSE)","v":{"$error":"#REF!"}},null,5989274]
[]
["Sada krytek HF, HS, HL top, světle šedá","22.8000","HGR",null,null,252.85,1783069,"D906630"]
["Sada krytek HF, HS, HL top, tmavě šedá","22.8000","TGR",null,null,275.94,9355276,"D906632"]
["Sada krytek HF, HS, HL top, hedvábně bílá","22.8000","SW",null,null,275.94,3337819,"D906631"]
["Sada krytek pro SERVO-DRIVE, světle šedá","23.8000","HGR",null,null,2606.7600000000002,8097114,"D906634"]
["Sada krytek pro SERVO-DRIVE, tmavě šedá","23.8000","TGR",null,null,2709.29,1947248,"D906636"]
["Sada krytek pro SERVO-DRIVE,hedvábně bílá","23.8000","SW",null,null,2709.29,5427233,"D906635"]
[]
["Sada zdvihačů HK top, na vruty","22K2300","ZN",null,null,1468.44,7628604,"D768244",null,null,{"$error":"#REF!"},{"$f":"VLOOKUP(G54,#REF!, 6, FALSE)","v":{"$error":"#REF!"}},null,7628604]
["Sada zdvihačů HK top, na vruty","22K2500","ZN",null,null,1468.44,1069731,"D768245",null,null,{"$error":"#REF!"},{"$f":"VLOOKUP(G55,#REF!, 6, FALSE)","v":{"$error":"#REF!"}},null,1069731]
["Sada zdvihačů HK top, na vruty","22K2700","ZN",null,null,1475.61,8762537,"D768246",null,null,{"$error":"#REF!"},{"$f":"VLOOKUP(G56,#REF!, 6, FALSE)","v":{"$error":"#REF!"}},null,8762537]
["Sada zdvihačů HK top, na vruty","22K2900","ZN",null,null,1726.54,6635469,"D768247",null,null,{"$error":"#REF!"},{"$f":"VLOOKUP(G57,#REF!, 6, FALSE)","v":{"$error":"#REF!"}},null,6635469]
["Sada zdvihačů HK top, předmont. eurošrouby","22K2310","ZN",null,null,1468.44,8508486,"D768252",null,null,{"$error":"#REF!"},{"$f":"VLOOKUP(G58,#REF!, 6, FALSE)","v":{"$error":"#REF!"}},null,8508486]
["Sada zdvihačů HK top, předmont. eurošrouby","22K2510","ZN",null,null,1468.44,7690323,"D768253",null,null,{"$error":"#REF!"},{"$f":"VLOOKUP(G59,#REF!, 6, FALSE)","v":{"$error":"#REF!"}},null,7690323]
["Sada zdvihačů HK top, předmont. eurošrouby","22K2710","ZN",null,null,1475.61,1388111,"D768254",null,null,{"$error":"#REF!"},{"$f":"VLOOKUP(G60,#REF!, 6, FALSE)","v":{"$error":"#REF!"}},null,1388111]
["Sada zdvihačů HK top, předmont. eurošrouby","22K2910","ZN",null,null,1726.54,5482270,"D768255",null,null,{"$error":"#REF!"},{"$f":"VLOOKUP(G61,#REF!, 6, FALSE)","v":{"$error":"#REF!"}},null,5482270]
["Sada krytek HK top, světle šedá","22K8000","HG ",null,null,211.38,7985876,"D768260",null,null,{"$error":"#REF!"},{"$f":"VLOOKUP(G62,#REF!, 6, FALSE)","v":{"$error":"#REF!"}},null,7985876]
["Sada krytek HK top, tmavě šedá","22K8000","TGR",null,null,231.45,7926396,"D768262",null,null,{"$error":"#REF!"},{"$f":"VLOOKUP(G63,#REF!, 6, FALSE)","v":{"$error":"#REF!"}},null,7926396]
["Sada krytek HK top, bílá","22K8000","SW ",null,null,231.45,4824637,"D768261",null,null,{"$error":"#REF!"},{"$f":"VLOOKUP(G64,#REF!, 6, FALSE)","v":{"$error":"#REF!"}},null,4824637]
["Sada krytek HK top, SERVO-DRIVE, sv.šedá","23K8000","HG ",null,null,2493.35,2111215,"D768264",null,null,{"$error":"#REF!"},{"$f":"VLOOKUP(G65,#REF!, 6, FALSE)","v":{"$error":"#REF!"}},null,2111215]
["Sada krytek HK top, SERVO-DRIVE, tm.šedá","23K8000","TGR",null,null,2595.3000000000002,8732964,"D768266",null,null,{"$error":"#REF!"},{"$f":"VLOOKUP(G66,#REF!, 6, FALSE)","v":{"$error":"#REF!"}},null,8732964]
["Sada krytek HK top, SERVO-DRIVE, bílá","23K8000","SW ",null,null,2595.3000000000002,1065531,"D768265",null,null,{"$error":"#REF!"},{"$f":"VLOOKUP(G67,#REF!, 6, FALSE)","v":{"$error":"#REF!"}},null,1065531]
[]
["Sada zdvihačů HK top, TIP-ON, na vruty","22K2300T","ZN",null,null,1575.99,4205572,"D768248",null,null,{"$error":"#REF!"},{"$f":"VLOOKUP(G69,#REF!, 6, FALSE)","v":{"$error":"#REF!"}},null,4205572]
["Sada zdvihačů HK top, TIP-ON, na vruty","22K2500T","ZN",null,null,1575.99,2753075,"D768249",null,null,{"$error":"#REF!"},{"$f":"VLOOKUP(G70,#REF!, 6, FALSE)","v":{"$error":"#REF!"}},null,2753075]
["Sada zdvihačů HK top, TIP-ON, na vruty","22K2700T","ZN",null,null,1676.35,2855682,"D768250",null,null,{"$error":"#REF!"},{"$f":"VLOOKUP(G71,#REF!, 6, FALSE)","v":{"$error":"#REF!"}},null,2855682]
["Sada zdvihačů HK top, TIP-ON, na vruty","22K2900T","ZN",null,null,1927.28,8220095,"D768251",null,null,{"$error":"#REF!"},{"$f":"VLOOKUP(G72,#REF!, 6, FALSE)","v":{"$error":"#REF!"}},null,8220095]
["Sada zdvihačů HK top, TIP-ON, předmont. eurošrouby","22K2310T","ZN",null,null,1575.99,9708169,"D768256",null,null,{"$error":"#REF!"},{"$f":"VLOOKUP(G73,#REF!, 6, FALSE)","v":{"$error":"#REF!"}},null,9708169]
["Sada zdvihačů HK top, TIP-ON, předmont. eurošrouby","22K2510T","ZN",null,null,1575.99,2414504,"D768257",null,null,{"$error":"#REF!"},{"$f":"VLOOKUP(G74,#REF!, 6, FALSE)","v":{"$error":"#REF!"}},null,2414504]
["Sada zdvihačů HK top, TIP-ON, předmont. eurošrouby","22K2710T","ZN",null,null,1676.35,1422889,"D768258",null,null,{"$error":"#REF!"},{"$f":"VLOOKUP(G75,#REF!, 6, FALSE)","v":{"$error":"#REF!"}},null,1422889]
["Sada zdvihačů HK top, TIP-ON, předmont. eurošrouby","22K2910T","ZN",null,null,1927.28,7716804,"D768259",null,null,{"$error":"#REF!"},{"$f":"VLOOKUP(G76,#REF!, 6, FALSE)","v":{"$error":"#REF!"}},null,7716804]
[]
["Sada čel.kování pro dřev. čela","20S4200","NI",null,null,90.38,7241746,"D148378",null,null,{"$error":"#REF!"},{"$f":"VLOOKUP(G78,#REF!, 6, FALSE)","v":{"$error":"#REF!"}},null,7241746]
["Čelní.kování pro dřev. čela EXPANDO","20S42E1","NI",null,null,51.36,8860933,"D354151",null,null,{"$error":"#REF!"},{"$f":"VLOOKUP(G79,#REF!, 6, FALSE)","v":{"$error":"#REF!"}},null,8860933]
["Sada čel.kování pro tenké materiály","20S42T1","NI",null,null,291.60000000000002,3613770,"D714690",null,null,{"$error":"#REF!"},{"$f":"VLOOKUP(G80,#REF!, 6, FALSE)","v":{"$error":"#REF!"}},null,3613770]
["Sada čel.kování pro úzké alurámečky","20S4200A","NI",null,null,395.5,7484703,"D158400",null,null,{"$error":"#REF!"},{"$f":"VLOOKUP(G81,#REF!, 6, FALSE)","v":{"$error":"#REF!"}},null,7484703]
[]
["Sada zdvihačů HK-S, světle šedé krytky","20K2B00.06","HGIG",null,null,778.98,7793681,"D768268",null,null,{"$error":"#REF!"},{"$f":"VLOOKUP(G83,#REF!, 6, FALSE)","v":{"$error":"#REF!"}},null,7793681]
["Sada zdvihačů HK-S, tmavě šedé krytky","20K2B00.06","TGIG",null,null,801.95,1314203,"D768270",null,null,{"$error":"#REF!"},{"$f":"VLOOKUP(G84,#REF!, 6, FALSE)","v":{"$error":"#REF!"}},null,1314203]
["Sada zdvihačů HK-S, bílé krytky","20K2B00.06","SWIG",null,null,801.95,8195173,"D768269",null,null,{"$error":"#REF!"},{"$f":"VLOOKUP(G85,#REF!, 6, FALSE)","v":{"$error":"#REF!"}},null,8195173]
["Sada zdvihačů HK-S, světle šedé krytky","20K2C00.06","HGIG",null,null,855.57,3472109,"D768271",null,null,{"$error":"#REF!"},{"$f":"VLOOKUP(G86,#REF!, 6, FALSE)","v":{"$error":"#REF!"}},null,3472109]
["Sada zdvihačů HK-S, tmavě šedé krytky","20K2C00.06","TGIG",null,null,878.54,1834965,"D768273",null,null,{"$error":"#REF!"},{"$f":"VLOOKUP(G87,#REF!, 6, FALSE)","v":{"$error":"#REF!"}},null,1834965]
["Sada zdvihačů HK-S, bílé krytky","20K2C00.06","SWIG",null,null,878.54,6816509,"D768272",null,null,{"$error":"#REF!"},{"$f":"VLOOKUP(G88,#REF!, 6, FALSE)","v":{"$error":"#REF!"}},null,6816509]
["Sada zdvihačů HK-S, světle šedé krytky","20K2E00.06","HGIG",null,null,855.57,9851106,"D768274",null,null,{"$error":"#REF!"},{"$f":"VLOOKUP(G89,#REF!, 6, FALSE)","v":{"$error":"#REF!"}},null,9851106]
["Sada zdvihačů HK-S, tmavě šedé krytky","20K2E00.06","TGIG",null,null,878.54,9248128,"D768276",null,null,{"$error":"#REF!"},{"$f":"VLOOKUP(G90,#REF!, 6, FALSE)","v":{"$error":"#REF!"}},null,9248128]
["Sada zdvihačů HK-S, bílé krytky","20K2E00.06","SWIG",null,null,878.54,3420861,"D768275",null,null,{"$error":"#REF!"},{"$f":"VLOOKUP(G91,#REF!, 6, FALSE)","v":{"$error":"#REF!"}},null,3420861]
[]
["Sada zdvihačů HK-S TIP-ON, světle šedé krytky","20K2B00T06","HGIG",null,null,785.52,2133123,"D768277",null,null,{"$error":"#REF!"},{"$f":"VLOOKUP(G93,#REF!, 6, FALSE)","v":{"$error":"#REF!"}},null,2133123]
["Sada zdvihačů HK-S TIP-ON, tmavě šedé krytky","20K2B00T06","TGIG",null,null,808.5,9870309,"D768279",null,null,{"$error":"#REF!"},{"$f":"VLOOKUP(G94,#REF!, 6, FALSE)","v":{"$error":"#REF!"}},null,9870309]
["Sada zdvihačů HK-S TIP-ON, bílé krytky","20K2B00T06","SWIG",null,null,808.5,1449278,"D768278",null,null,{"$error":"#REF!"},{"$f":"VLOOKUP(G95,#REF!, 6, FALSE)","v":{"$error":"#REF!"}},null,1449278]
["Sada zdvihačů HK-S TIP-ON, světle šedé krytky","20K2C00T06","HGIG",null,null,868.65,6990853,"D768280",null,null,{"$error":"#REF!"},{"$f":"VLOOKUP(G96,#REF!, 6, FALSE)","v":{"$error":"#REF!"}},null,6990853]
["Sada zdvihačů HK-S TIP-ON, tmavě šedé krytky","20K2C00T06","TGIG",null,null,891.62,3405617,"D768282",null,null,{"$error":"#REF!"},{"$f":"VLOOKUP(G97,#REF!, 6, FALSE)","v":{"$error":"#REF!"}},null,3405617]
["Sada zdvihačů HK-S TIP-ON, bílé krytky","20K2C00T06","SWIG",null,null,891.62,7769517,"D768281",null,null,{"$error":"#REF!"},{"$f":"VLOOKUP(G98,#REF!, 6, FALSE)","v":{"$error":"#REF!"}},null,7769517]
["Sada zdvihačů HK-S TIP-ON, světle šedé krytky","20K2E00T06","HGIG",null,null,868.65,5494621,"D768283",null,null,{"$error":"#REF!"},{"$f":"VLOOKUP(G99,#REF!, 6, FALSE)","v":{"$error":"#REF!"}},null,5494621]
["Sada zdvihačů HK-S TIP-ON, tmavě šedé krytky","20K2E00T06","TGIG",null,null,891.62,9373568,"D768285",null,null,{"$error":"#REF!"},{"$f":"VLOOKUP(G100,#REF!, 6, FALSE)","v":{"$error":"#REF!"}},null,9373568]
["Sada zdvihačů HK-S TIP-ON, bílé krytky","20K2E00T06","SWIG",null,null,891.62,7935712,"D768284",null,null,{"$error":"#REF!"},{"$f":"VLOOKUP(G101,#REF!, 6, FALSE)","v":{"$error":"#REF!"}},null,7935712]
[]
["Sada čel.kování HK-S pro úzké alurámečky","20K4A00A02","NI",null,null,198.15,7542129,"D525841",null,null,{"$error":"#REF!"},{"$f":"VLOOKUP(G103,#REF!, 6, FALSE)","v":{"$error":"#REF!"}},null,7303280]
["Omezovač úhlu otevření HK-S na 75° ","20K7A11","TGR",null,null,16.09,8671840,"D309175",null,null,{"$error":"#REF!"},{"$f":"VLOOKUP(G104,#REF!, 6, FALSE)","v":{"$error":"#REF!"}},null,8671840]
["Omezovač úhlu otevření HK-S na 100° ","20K7A41","TGR",null,null,16.09,8671910,"D309174",null,null,{"$error":"#REF!"},{"$f":"VLOOKUP(G105,#REF!, 6, FALSE)","v":{"$error":"#REF!"}},null,8671910]
[null,null,null,null,null,null,null,null,null,null,{"$error":"#REF!"},{"$f":"VLOOKUP(G106,#REF!, 6, FALSE)","v":{"$error":"#REF!"}},null,4318256]
[]
["Symetrický zdvihací mechanizmus HK-XS","20K1101","NI",null,null,294.25,8572348,"D532814",null,null,{"$error":"#REF!"},{"$f":"VLOOKUP(G108,#REF!, 6, FALSE)","v":{"$error":"#REF!"}},null,8572348]
["Symetrický zdvihací mechanizmus HK-XS","20K1301","NI",null,null,294.25,9330897,"D532815",null,null,{"$error":"#REF!"},{"$f":"VLOOKUP(G109,#REF!, 6, FALSE)","v":{"$error":"#REF!"}},null,9330897]
["Symetrický zdvihací mechanizmus HK-XS","20K1501","NI",null,null,294.25,1615152,"D532816",null,null,{"$error":"#REF!"},{"$f":"VLOOKUP(G110,#REF!, 6, FALSE)","v":{"$error":"#REF!"}},null,1615152]
[]
["Sym. zdvihací mechanizmus HK-XS, TIP-ON","20K1101T","NI",null,null,316.58999999999997,4857465,"D532817",null,null,{"$error":"#REF!"},{"$f":"VLOOKUP(G112,#REF!, 6, FALSE)","v":{"$error":"#REF!"}},null,4857465]
["Sym. zdvihací mechanizmus HK-XS, TIP-ON","20K1301T","NI",null,null,316.58999999999997,9519259,"D532818",null,null,{"$error":"#REF!"},{"$f":"VLOOKUP(G113,#REF!, 6, FALSE)","v":{"$error":"#REF!"}},null,9519259]
["Sym. zdvihací mechanizmus HK-XS, TIP-ON","20K1501T","NI",null,null,316.58999999999997,8041284,"D532819",null,null,{"$error":"#REF!"},{"$f":"VLOOKUP(G114,#REF!, 6, FALSE)","v":{"$error":"#REF!"}},null,8041284]
[]
["Boční čep HK-XS na korpus","20K5101","NI",null,null,18.63,1409446,"D532825",null,null,{"$f":"L116*26/100","v":{"$error":"#REF!"}},{"$f":"VLOOKUP(G116,#REF!, 6, FALSE)","v":{"$error":"#REF!"}},null,1409446]
["Boční čep HK-XS na korpus, EXPANDO","20K51E1","NI",null,null,25.16,5296642,"D532826",null,null,{"$error":"#REF!"},{"$f":"VLOOKUP(G117,#REF!, 6, FALSE)","v":{"$error":"#REF!"}},null,5296642]
[]
["Čelní kování HK-XS","20K4101","NI",null,null,12.67,8910604,"D532821",null,null,{"$error":"#REF!"},{"$f":"VLOOKUP(G119,#REF!, 6, FALSE)","v":{"$error":"#REF!"}},null,8910604]
["Čelní kování HK-XS, EXPANDO","20K41E1","NI",null,null,19.190000000000001,5697170,"D532822",null,null,{"$error":"#REF!"},{"$f":"VLOOKUP(G120,#REF!, 6, FALSE)","v":{"$error":"#REF!"}},null,5697170]
["Čelní kování HK-XS pro úzké alurámečky","20K4101A","NI",null,null,85.33,1452554,"D532823",null,null,{"$error":"#REF!"},{"$f":"VLOOKUP(G121,#REF!, 6, FALSE)","v":{"$error":"#REF!"}},null,1452554]
[]
["Samořezný vrut do alurámečků","660.0950","NI",null,null,1.7,8385455,"D506595",null,null,{"$error":"#REF!"},{"$f":"VLOOKUP(G123,#REF!, 6, FALSE)","v":{"$error":"#REF!"}},null,8385455]
[]
["Sada zdvihačů HKi, LF 420–1610","24K2300","OS",null,null,8016.43,9375108,"D892074"]
["Sada zdvihačů HKi, LF 930–2800","24K2500","OS",null,null,8016.43,4333468,"D892075"]
["Sada zdvihačů HKi, LF 1730–5200","24K2700","OS",null,null,8155.85,3327428,"D892076"]
["Sada zdvihačů HKi, LF 2600–7800","24K2800","OS",null,null,8504.39,9445829,"D892077"]
[]
["Sada zdvihačů HKi pro TIP-ON, LF 420–1610","24K2300T","OS",null,null,8123.98,9348915,"D892078"]
["Sada zdvihačů HKi pro TIP-ON, LF 930–2800","24K2500T","OS",null,null,8123.98,3988041,"D892079"]
["Sada zdvihačů HKi pro TIP-ON, LF 1730–5200","24K2700T","OS",null,null,8356.6,3401692,"D892080"]
["Sada zdvihačů HKi pro TIP-ON, LF 2600–7800","24K2800T","OS",null,null,8705.1299999999992,3061597,"D892081"]
[]
["Symetrické čelní kování Hki, EXPANDO","24K42E1","OS",null,null,209.13,4845277,"D892085"]
["Symetrické čelní kování Hki, pro alurámečky","24K4201A","OS",null,null,230.04,2551910,"D892086"]
[]
["Sada krytek HKi, hedvábně bílá","24K8000","SW",null,null,689.28,6690522,"D892083"]
["Sada krytek HKi, světle šedá","24K8000","HGR",null,null,669.2,2627505,"D892082"]
["Sada krytek HKi, tmavě šedá","24K8000","TGR",null,null,689.28,4948789,"D892084"]
[]
[]
["Orážecí šablona pro čela HK top","ZML.2200","OR",null,null,967.57,4719614,"D768267",null,null,{"$f":"L143*26","v":{"$error":"#REF!"}},{"$f":"VLOOKUP(G143,#REF!, 6, FALSE)","v":{"$error":"#REF!"}},null,4719614]
["Sada předfrézovaných surových desek pro HKi","24K7100","NA",null,null,2867.4,6883114,"D892087"]
["Distanční díl pro HKi","M45.1010","NA",null,null,858.54,7376602,"D892090"]
[]
[]
["  Příslušenství"]
["EXPANDO T, samostatná hmoždinka","70T4532T","DGR",null,null,63.33,4958478,"D722190",null,null,{"$f":"L149*26/100","v":{"$error":"#REF!"}},{"$f":"VLOOKUP(G149,#REF!, 6, FALSE)","v":{"$error":"#REF!"}},null,4958478]
[]
[]
["Závěsy"]
["CLIP top BLUMOTION, 110°, naložený"," 71B3550","NI",null,null,106.31,8884623,"D290100",null,null,{"$f":"L153*26/100","v":{"$error":"#REF!"}},{"$f":"VLOOKUP(G153,#REF!, 6, FALSE)","v":{"$error":"#REF!"}},null,8884623]
["CLIP top BLUMOTION, 110°, nalož. EXPANDO"," 71B358E","NI",null,null,97.81,8885233,"D378266",null,null,{"$f":"L154*26/100","v":{"$error":"#REF!"}},{"$f":"VLOOKUP(G154,#REF!, 6, FALSE)","v":{"$error":"#REF!"}},null,8885233]
["CLIP top závěs 110°, bez pružiny, naložený"," 70T3550.TL","NI",null,null,50.28,9001883,"D533677",null,null,{"$f":"L155*26/100","v":{"$error":"#REF!"}},{"$f":"VLOOKUP(G155,#REF!, 6, FALSE)","v":{"$error":"#REF!"}},null,9001883]
["CLIP top závěs 110°, bez pružiny, nalož. EXPANDO"," 70T358E.TL","NI",null,null,50.44,9295093,"D533205",null,null,{"$error":"#REF!"},{"$f":"VLOOKUP(G156,#REF!, 6, FALSE)","v":{"$error":"#REF!"}},null,9295093]
["CLIP top BLUMOTION, závěs pro tenká dvířka"," 71B453T","NI",null,null,375.38,7021363,"D722166",null,null,{"$error":"#REF!"},{"$f":"VLOOKUP(G157,#REF!, 6, FALSE)","v":{"$error":"#REF!"}},null,7021363]
["CLIP top závěs pro tenká dvířka, bez pružiny"," 70T453T.TL","NI",null,null,321.95999999999998,1524002,"D714681",null,null,{"$error":"#REF!"},{"$f":"VLOOKUP(G158,#REF!, 6, FALSE)","v":{"$error":"#REF!"}},null,1524002]
[]
["CLIP top BLUMOTION, závěs pro úzké alu, naložený"," 71B950A","NI",null,null,180.71,9350813,"D310472",null,null,{"$error":"#REF!"},{"$f":"VLOOKUP(G160,#REF!, 6, FALSE)","v":{"$error":"#REF!"}},null,9350813]
[]
["CLIP top přímá mont. podložka, ocel, 0 mm","175H3100","NI",null,null,16.98,5891994,"D495655",null,null,{"$f":"L162*26/100","v":{"$error":"#REF!"}},{"$f":"VLOOKUP(G162,#REF!, 6, FALSE)","v":{"$error":"#REF!"}},null,1037431]
["CLIP top přímá mont. podložka, ocel, EXP, 0 mm","177H3100E ","NI",null,null,17.07,4787251,"D496524",null,null,{"$error":"#REF!"},{"$f":"VLOOKUP(G163,#REF!, 6, FALSE)","v":{"$error":"#REF!"}},null,3120329]
["CLIP top přímá mont. podložka, zinek, 0 mm","175H5400 ","NI",null,null,23.06,8002803,"D198495",null,null,{"$error":"#REF!"},{"$f":"VLOOKUP(G164,#REF!, 6, FALSE)","v":{"$error":"#REF!"}},null,8002803]
["CLIP top přímá mont. podložka, zinek, EXP, 0 mm","177H5400E","NI",null,null,25.29,8115693,"D354102",null,null,{"$error":"#REF!"},{"$f":"VLOOKUP(G165,#REF!, 6, FALSE)","v":{"$error":"#REF!"}},null,8003033]
[]
["CLIP top montážní podložka, excentr, 0 mm","173H7100 ","NI",null,null,17.84,2364043,"D014460",null,null,{"$error":"#REF!"},{"$f":"VLOOKUP(G167,#REF!, 6, FALSE)","v":{"$error":"#REF!"}},null,2364043]
["CLIP top mont. podložka, excentr, EXPANDO, 0 mm","174H7100E ","NI",null,null,19.39,2364983,"D187455",null,null,{"$error":"#REF!"},{"$f":"VLOOKUP(G168,#REF!, 6, FALSE)","v":{"$error":"#REF!"}},null,2364983]
["CLIP top montážní podložka, excentr, 3 mm","173H7130","NI",null,null,18.13,2364103,"D014446",null,null,{"$error":"#REF!"},{"$f":"VLOOKUP(G169,#REF!, 6, FALSE)","v":{"$error":"#REF!"}},null,2364103]
["CLIP top mont. podložka, excentr, EXPANDO, 3 mm","174H7130E","NI",null,null,21.66,2365103,"D221048",null,null,{"$error":"#REF!"},{"$f":"VLOOKUP(G170,#REF!, 6, FALSE)","v":{"$error":"#REF!"}},null,2365103]
["CLIP top montážní podložka, na vruty, 0 mm","173L6100","NI",null,null,6.94,7480175,"D014425",null,null,{"$error":"#REF!"},{"$f":"VLOOKUP(G171,#REF!, 6, FALSE)","v":{"$error":"#REF!"}},null,1925383]
["CLIP top montážní podložka, EXPANDO, 0 mm","174E6100.01","NI",null,null,10.91,1863003,"D014458",null,null,{"$error":"#REF!"},{"$f":"VLOOKUP(G172,#REF!, 6, FALSE)","v":{"$error":"#REF!"}},null,1863003]
[]
["CLIP top krytka ramínka, naložené závěsy"," 70.1503","NI",null,null,2.74,3284903,"D118400",null,null,{"$error":"#REF!"},{"$f":"VLOOKUP(G174,#REF!, 6, FALSE)","v":{"$error":"#REF!"}},null,3284903]
["CLIP top krytka ramínka 125°/155°/CRI/tenké"," 70.4503","NI",null,null,2.74,3503786,"D714683",null,null,{"$error":"#REF!"},{"$f":"VLOOKUP(G175,#REF!, 6, FALSE)","v":{"$error":"#REF!"}},null,3503786]
[]
["CLIP top krytka misky závěsu "," 70T1504 ","NI",null,null,4.01,4024443,"D046861",null,null,{"$error":"#REF!"},{"$f":"VLOOKUP(G177,#REF!, 6, FALSE)","v":{"$error":"#REF!"}},null,4024443]
["CLIP top krytka misky závěsu 110°"," 70T3504 ","NI",null,null,4.01,9003173,"D290103",null,null,{"$error":"#REF!"},{"$f":"VLOOKUP(G178,#REF!, 6, FALSE)","v":{"$error":"#REF!"}},null,9003173]
["CLIP top krytka misky závěsu pro tenká dvířka"," 70T4504 ","NI",null,null,4.01,9086485,"D714684",null,null,{"$error":"#REF!"},{"$f":"VLOOKUP(G179,#REF!, 6, FALSE)","v":{"$error":"#REF!"}},null,9086485]
[]
["Omezovač úhlu otevření pro závěsy 110°"," 70T3553","S",null,null,14.33,9048274,"D290104",null,null,{"$error":"#REF!"},{"$f":"VLOOKUP(G181,#REF!, 6, FALSE)","v":{"$error":"#REF!"}},null,9048274]
["Omezovač úhlu otevření pro závěsy na tenká dvířka, 85°"," 70T4503","R737",null,null,19.37,4426173,"D714687",null,null,{"$error":"#REF!"},{"$f":"VLOOKUP(G182,#REF!, 6, FALSE)","v":{"$error":"#REF!"}},null,4426173]
["Omezovač úhlu otevření pro závěsy na tenká dvířka, 92°"," 70T4503.09","R737",null,null,19.37,4787430,"D714686",null,null,{"$error":"#REF!"},{"$f":"VLOOKUP(G183,#REF!, 6, FALSE)","v":{"$error":"#REF!"}},null,4787430]
[]
[]
["   SERVO-DRIVE"]
["SERVO-DRIVE jednotka (sada)","23.A000","R7037",null,null,8297.32,5362207,"D906633",null,null,{"$f":"L187*26/100","v":{"$error":"#REF!"}},{"$f":"VLOOKUP(G187,#REF!, 6, FALSE)","v":{"$error":"#REF!"}},null,9026180]
["SERVO-DRIVE jednotka (sada) pro HK top","23KA000","R7037",null,null,8251.18,9961208,"D768263",null,null,{"$f":"L188*26/100","v":{"$error":"#REF!"}},{"$f":"VLOOKUP(G188,#REF!, 6, FALSE)","v":{"$error":"#REF!"}},null,9961208]
["Distanční doraz Blum, 5mm","993.0530","R737",null,null,22.6,7834990,"D298325",null,null,{"$f":"L189*26/100","v":{"$error":"#REF!"}},{"$f":"VLOOKUP(G189,#REF!, 6, FALSE)","v":{"$error":"#REF!"}},null,7834990]
["Distanční doraz Blum, 8mm","993.0830.01","R737",null,null,20.3,7402930,"D198622",null,null,{"$error":"#REF!"},{"$f":"VLOOKUP(G190,#REF!, 6, FALSE)","v":{"$error":"#REF!"}},null,7402930]
["Držák kabelu s Klebesockel","Z10K0009","NA",null,null,24.75,7283231,"D198614",null,null,{"$error":"#REF!"},{"$f":"VLOOKUP(G191,#REF!, 6, FALSE)","v":{"$error":"#REF!"}},null,7283231]
["Elektrokabel, délka 8m + 5 krytek","Z10K800AE","S",null,null,858.88,7550294,"D198611",null,null,{"$error":"#REF!"},{"$f":"VLOOKUP(G192,#REF!, 6, FALSE)","v":{"$error":"#REF!"}},null,7550294]
["Napájecí kabel se zástrčkou, 2m","Z10M200E ","S",null,null,208.3,7205784,"D198599",null,null,{"$error":"#REF!"},{"$f":"VLOOKUP(G193,#REF!, 6, FALSE)","v":{"$error":"#REF!"}},null,7205784]
["Napájecí zdroj 24W","Z10NE030E","S",null,null,3170.39,5082891,"D198597",null,null,{"$error":"#REF!"},{"$f":"VLOOKUP(G194,#REF!, 6, FALSE)","v":{"$error":"#REF!"}},null,5082891]
["Držák napájecího zdroje - montáž na stěnu","Z10NG120","WGR",null,null,115.65,9327076,"D198600",null,null,{"$error":"#REF!"},{"$f":"VLOOKUP(G195,#REF!, 6, FALSE)","v":{"$error":"#REF!"}},null,9327076]
["Propojovací svorka s hroty + krytka","Z10V100E.01","S",null,null,204.59,8820285,"D198616",null,null,{"$error":"#REF!"},{"$f":"VLOOKUP(G196,#REF!, 6, FALSE)","v":{"$error":"#REF!"}},null,8820285]
["Spínač SERVO-DRIVE, světle šedá","23P5020","HGR",null,null,956.51,8457250,"D917397",null,null,{"$f":"L197*26/100","v":{"$error":"#REF!"}},{"$f":"VLOOKUP(G197,#REF!, 6, FALSE)","v":{"$error":"#REF!"}},null,8978398]
["Spínač SERVO-DRIVE, hedvábně bílá","23P5020","SW",null,null,994.78,6550469,"D806402",null,null,{"$error":"#REF!"},{"$f":"VLOOKUP(G198,#REF!, 6, FALSE)","v":{"$error":"#REF!"}},null,8978392]
["Spínač SERVO-DRIVE, tmavě šedá","23P5020","TGR",null,null,994.78,2471776,"D917398",null,null,{"$f":"L199*26/100","v":{"$error":"#REF!"}},{"$f":"VLOOKUP(G199,#REF!, 6, FALSE)","v":{"$error":"#REF!"}},null,8978393]
[]
[]
["  TIP-ON"]
["TIP-ON, krátká verze, šedá","956.1004","PG",null,null,116.95,7696336,"D534490",null,null,{"$error":"#REF!"},{"$f":"VLOOKUP(G203,#REF!, 6, FALSE)","v":{"$error":"#REF!"}},null,7696336]
["TIP-ON, krátká verze, hedvábně bílá","956.1004","SW",null,null,116.95,4683908,"D532903",null,null,{"$error":"#REF!"},{"$f":"VLOOKUP(G204,#REF!, 6, FALSE)","v":{"$error":"#REF!"}},null,4683908]
["TIP-ON, krátká verze, karbon černá","956.1004","CS",null,null,116.95,null,"D883722",null,null,49.381800000000005,189.93,null,"6914265"]
["TIP-ON, dlouhá verze, šedá","956A1004","PG",null,null,146.75,6484096,"D540048",null,null,{"$error":"#REF!"},{"$f":"VLOOKUP(G206,#REF!, 6, FALSE)","v":{"$error":"#REF!"}},null,6484096]
["TIP-ON, dlouhá verze, hedvábně bílá","956A1004","WA",null,null,146.75,6856758,"D540047",null,null,{"$error":"#REF!"},{"$f":"VLOOKUP(G207,#REF!, 6, FALSE)","v":{"$error":"#REF!"}},null,6856758]
["TIP-ON, dlouhá verze, karbon černá","956A1004","CS",null,null,146.75,null,"D887480",null,null,{"$error":"#REF!"},{"$f":"VLOOKUP(G208,#REF!, 6, FALSE)","v":{"$error":"#REF!"}},null,2019241]
["TIP-ON dlouhá verze, s dorazem, šedý","956A1006","R736",null,null,115.46,8209410,"D560186",null,null,{"$error":"#REF!"},{"$f":"VLOOKUP(G209,#REF!, 6, FALSE)","v":{"$error":"#REF!"}},null,9252527]
[]
["TIP-ON přímý adaptér - krátká verze, šedá","956.1201","PG",null,null,26.08,"5066363","D889227",null,null,11.008400000000002,42.34,null,7690421]
["TIP-ON přímý adaptér - krátká verze, hedv. bílá","956.1201","SW",null,null,26.08,"4372870","D540044",null,null,11.008400000000002,42.34,null,8264548]
["TIP-ON přímý adaptér - krátká verze, karbon černá","956.1201","CS",null,null,28.91,null,"D889251",null,null,12.2044,46.94,null,"6154324"]
["TIP-ON přímý adaptér - dlouhá verze, šedá","956A1201","R736",null,null,26.08,4722188,"D540051",null,null,{"$error":"#REF!"},{"$f":"VLOOKUP(G214,#REF!, 6, FALSE)","v":{"$error":"#REF!"}},null,4722188]
["TIP-ON přímý adaptér - dlouhá verze, hedv. bílá","956A1201","WA",null,null,26.08,3315359,"D540050",null,null,{"$error":"#REF!"},{"$f":"VLOOKUP(G215,#REF!, 6, FALSE)","v":{"$error":"#REF!"}},null,3315359]
["TIP-ON přímý adaptér - dlouhá verze, karbon černá","956A1201","CS",null,null,28.91,null,"D883723",null,null,{"$error":"#REF!"},{"$f":"VLOOKUP(G216,#REF!, 6, FALSE)","v":{"$error":"#REF!"}},null,6154324]
["TIP-ON křížový adaptér, šedý","956A1501","PG",null,null,18.63,7004719,"D542404",null,null,{"$error":"#REF!"},{"$f":"VLOOKUP(G217,#REF!, 6, FALSE)","v":{"$error":"#REF!"}},null,7004719]
[]
[{"$f":"ListAVS!B270","v":"Zde můžete vložit vlastní položky (následujících 10 řádků, zobrazí se v objednávce)"}]