{"text_format":"1","workbook":"xlsx","n_sheets":65,"sheets":["Form","Menu","AN300","AM300","AK300","AM30V","AK30V","AD310G","AD310M","AD310R","AD31VG","AD31VM","AD31VR","AC310G","AC310M","AC310R","AC31VG","AC31VM","AC31VR","AM530S","AD535SG","AD535SM","AD535SR","AM530","AD535G","AD535M","AD535R","AM340","AD342G","AD342M","AD342R","ADD32G","ADD32M","ADD32R","ADM30G","ADM30M","ADM30R","ADM45G","ADM45M","ADM45R","ADD45G","ADD45M","ADD45R","Acs","SD","OL","OLMi","OLRo","OLP1","OLP2","OLTa","OLVMP","OLKMP","OLKo","OLVM","OLVa","OLMe","OLRel","OLOst","Sum","Zones","Ord","List","Cen","Price"],"not_rendered":{"charts":0,"images":118,"macros":1,"external_links":0,"defined_names":26,"comments":0,"pivot_tables":0},"unopened":[],"bounds":{"document_bytes":16777216,"sheet_cells":100000,"rows_first":2000,"rows_last":500,"rows_between":2000,"halvings":0,"cell_chars":16384,"cell_head_chars":4096},"cells_cut":0,"cells_raw":0,"read":"whole","date_system":"1900"}

{"sheet":"Form","index":0,"n_rows":433,"n_cols":19,"rows_kept":433,"cut":false,"hidden":false,"merged":[[297,9,297,10],[115,2,115,3],[116,2,116,4],[396,0,437,0],[432,7,432,9],[146,0,189,0],[151,4,151,6],[295,0,306,0],[297,1,297,2],[297,4,297,6],[2,10,3,10],[98,0,132,0],[101,2,101,4],[103,2,103,4],[104,2,104,4],[105,2,105,4],[107,2,107,4],[108,2,108,4],[109,2,109,4],[125,2,125,3],[18,1,18,2],[111,2,111,3],[112,2,112,3],[19,1,19,6],[114,2,114,3]]}
[]
[null,null,null,null,null,null,null,null,null,null,{"$f":"\" \"&List!$B$24","v":" Základní údaje"},null,null,1,{"$f":"IF(N2=1,N3,IF(N2=2,N4, IF(N2=3, N5, N6)))","v":"šedá"}]
[null,null,null,null,null,null,null,null,null,null,{"$f":"List!$B$3","v":"Údaje pro objednávku, zadání slevy od prodejce"},null,null,{"$f":"List!B28","v":"šedá"},null,null,null,null,2]
[null,null,null,null,null,null,null,null,null,null,null,null,null,{"$f":"List!B29","v":"hedvábně bílá"},null,null,null,null,"jazyk"]
[null,null,null,null,null,null,null,null,null,null,null,null,null,{"$f":"List!B30","v":"černá Terra"}]
[null,null,null,null,null,null,null,null,null,null,{"$f":"List!$B$12&\":\"","v":"Pokračovat na:"},null,null,"nerez (Inox)"]
[null,null,null,null,null,null,null,null,null,null,{"$f":"\" \"&List!$B$4","v":" Výběr zásuvek a výsuvů"}]
[null,null,null,null,null,null,null,null,null,null,null,null,null,1,{"$f":"IF(N8=1,N9,IF(N8=2,N10,N11))","v":"čiré"}]
[null,null,null,null,null,null,null,null,null,null,{"$f":"\" \"&List!$B$5","v":" Výběr doplňků"},null,null,{"$f":"List!B33","v":"čiré"}]
[null,null,null,null,null,null,null,null,null,null,{"$f":"\" \"&List!$B$6","v":" Výběr SERVO-DRIVE"},null,null,{"$f":"List!B34","v":"saténované"}]
[null,null,null,null,null,null,null,null,null,null,{"$f":"\" \"&List!$B$7","v":" Výběr ORGA-LINE"}]
[]
[null,null,null,null,null,null,null,null,null,null,null,null,null,2,{"$f":"IF(N13=1,N14,IF(N13=2,N15,N17))","v":"INSERTA"}]
[null,null,null,null,null,null,null,null,null,null,null,null,null,{"$f":"List!B37","v":"na vruty"}]
[null,null,null,null,null,null,null,{"$f":"List!$B$211&\" \"","v":"Verze "},"2.0.0",null,null,null,null,"INSERTA"]
[null,{"$f":"List!$B$27&\":\"","v":"barva:"},null,{"$f":"List!$B$32&\":\"","v":"sklo:"},null,null,{"$f":"List!$B$36&\":\"","v":"čelní kování:"}]
[null,null,null,null,null,null,null,null,null,null,{"$f":"\" \"&List!$B$16","v":" Nápověda"}]
[null,{"$f":"IF($N$2=4, List!$B$286&\" \"&List!$B$287, \" \")","v":" "}]
[null,{"$f":"List!$B$77&\": \"","v":"Cenová hladina: "},null,null,null,null,null,{"$f":"List!$B$213&\" %\"","v":"Sleva %"},{"$f":"IF($N$19=1,0,IF($N$19=2,$E$119,IF($N$19=3,$G$148,0)))","v":0},null,null,null,null,1]
[null,{"$f":"IF(N19=2,List!$B$83&\" [\"&List!$B$24&\"]\",IF(N19=3,IF(I19=0,List!$B$81,List!$B$82),\" \"))","v":" "},null,null,null,null,null,null,null,null,null,null,null,{"$f":"List!$B78","v":"Základní ceny"}]
[null,null,null,null,null,null,{"$f":"IF($N$19=3,List!$B$84,\" \")","v":" "},null,null,null,null,null,null,{"$f":"List!$B79","v":"Nákupní ceny"}]
[null,{"$f":"List!$B$214&\":\"","v":"Prodejce:"},null,null,null,null,null,null,null,null,null,null,null,{"$f":"List!$B80","v":"Se slevou"}]
[null,{"$f":"IF(Price!A3<>0,\" \"&Price!A3,\" \")","v":" DŘEVO TRUST, a. s."}]
[null,{"$f":"IF(Price!A4<>0,\" \"&Price!A4,\" \")","v":" T. G. Masaryka 602"}]
[null,{"$f":"IF(Price!A5<>0,\" \"&Price!A5,\" \")","v":" 738 01 Frýdek-Místek"}]
[null,{"$f":"IF(Price!A6<>0,\" \"&Price!A6,\" \")","v":" "}]
[null,{"$f":"IF(Price!A7<>0,\" \"&Price!A7,\" \")","v":" "}]
[null,{"$f":"IF(Price!A8<>0,\" \"&Price!A8,\" \")","v":" "}]
[]
[]
[]
[]
[]
[]
[]
[]
[]
[]
[]
[]
[]
[]
[]
[]
[]
[]
[]
[]
[]
[]
[]
[]
[]
[]
[]
[]
[]
[]
[]
[]
[]
[]
[]
[]
[]
[]
[]
[]
[]
[]
[]
[]
[]
[]
[]
[]
[]
[]
[]
[]
[]
[]
[]
[]
[]
[]
[]
[]
[]
[]
[]
[]
[]
[]
[]
[]
[]
[]
[]
[null,null,{"$f":"List!$B$202","v":"Formulář pro identifikační údaje"}]
[null,null,{"$f":"List!$B$203","v":"Odběratel"}]
[]
[null,null,{"$f":"List!$B$204","v":"Adresa"}]
[]
[]
[]
[null,null,{"$f":"List!$B$205","v":"Dodací adresa"}]
[]
[]
[]
[null,null,{"$f":"List!$B$206","v":"IČO, DIČ"}]
[]
[]
[null,null,{"$f":"List!$B$207","v":"Telefon, fax, e-mail"}]
[]
[]
[]
[]
[null,null,null,{"$f":"List!$B$215&\" [%]: \"","v":"Sleva od prodejce [%]: "}]
[]
[]
[null,null,{"$f":"List!$B228","v":"Vyplňte identifikační údaje a výši slevy od prodejce"}]
[null,null,{"$f":"List!$B230","v":"Identifikační údaje se budou zobrazovat v objednávkách"}]
[null,null,{"$f":"List!$B229","v":"Po vyplnění se vraťte na úvod a subor uložte nebo zavřete s potvrzením změn"}]
[]
[null,null,{"$f":"List!$B$100","v":"Zpět na úvod"}]
[]
[]
[]
[]
[]
[]
[]
[]
[]
[]
[]
[]
[]
[]
[]
[]
[]
[]
[]
[]
[]
[null,null,null,null,{"$f":"List!$B$81&\" [%] \"","v":"Zadejte výši slevy [%] "},null,35]
[]
[]
[]
[null,null,null,null,{"$f":"List!$B$100","v":"Zpět na úvod"}]
[]
[]
[]
[]
[]
[]
[]
[]
[]
[]
[]
[]
[]
[]
[]
[]
[]
[]
[]
[]
[]
[]
[]
[]
[]
[]
[]
[]
[]
[]
[]
[]
[]
[]
[]
[]
[]
[]
[]
[]
[]
[]
[]
[]
[]
[]
[]
[]
[]
[]
[]
[]
[]
[]
[]
[]
[]
[]
[]
[]
[]
[]
[]
[]
[]
[]
[]
[]
[]
[]
[]
[]
[]
[]
[]
[]
[]
[]
[]
[]
[]
[]
[]
[]
[]
[]
[]
[]
[]
[]
[]
[]
[]
[]
[]
[]
[]
[]
[]
[]
[]
[]
[]
[]
[]
[]
[]
[]
[]
[]
[]
[]
[]
[]
[]
[]
[]
[]
[]
[]
[]
[]
[]
[]
[]
[]
[]
[]
[]
[]
[]
[]
[]
[]
[]
[]
[]
[]
[]
[]
[]
[]
[]
[]
[]
[null,{"$f":"List!$B$216","v":"Ceník"},null,null,"List",null,null,null,null,{"$f":"List!$B$100","v":"Zpět na úvod"}]
[]
[]
[]
[]
[]
[]
[]
[]
[]
[]
[]
[]
[]
[]
[]
[]
[]
[]
[]
[]
[]
[]
[]
[]
[]
[]
[]
[]
[]
[]
[]
[]
[]
[]
[]
[]
[]
[]
[]
[]
[]
[]
[]
[]
[]
[]
[]
[]
[]
[]
[]
[]
[]
[]
[]
[]
[]
[]
[]
[]
[]
[]
[]
[]
[]
[]
[]
[]
[]
[]
[]
[]
[]
[]
[]
[]
[]
[]
[]
[]
[]
[]
[]
[]
[]
[]
[]
[]
[]
[]
[]
[]
[]
[]
[]
[]
[]
[]
[]
[null,{"$f":"\"     \"&List!$B$16&\": \"&List!$B$13","v":"     Nápověda: Úvod"}]
[]
[null,{"$f":"List!B226&\":\"","v":"Před prvním spuštěním:"}]
[]
[null,{"$f":"\"1. \"&List!$B$227&\" ' \"&List!$B$24&\" '\"","v":"1. Přejděte na  ' Základní údaje '"}]
[null,{"$f":"\"2. \"&List!$B$228","v":"2. Vyplňte identifikační údaje a výši slevy od prodejce"}]
[null,{"$f":"\"3. \"&List!$B$229","v":"3. Po vyplnění se vraťte na úvod a subor uložte nebo zavřete s potvrzením změn"}]
[null,{"$f":"\"    \"&List!$B$230","v":"    Identifikační údaje se budou zobrazovat v objednávkách"}]
[]
[]
[null,{"$f":"List!B232","v":"Na úvodní obrazovce vyberte, jaké ceny se budou zobrazovat:"}]
[null,{"$f":"\" - \"&List!B233","v":" - Základní (ceníkové) ceny bez slevy"}]
[null,{"$f":"\" - \"&List!$B$79&\" (\"&List!$B$83&\")\"","v":" - Nákupní ceny (Ceny se slevou od prodejce)"}]
[null,{"$f":"\" - \"&List!$B$82","v":" - Ceny s volitelnou slevou"}]
[null,{"$f":"\"     Tip: \"&List!B234","v":"     Tip: Zadáte-li slevu s mínusovým znamínkem, zobrazí se ceny o tuto hodnotu vyšší "}]
[]
[null,{"$f":"List!$B$236","v":"Vyberte barvu povrchové úpravy"}]
[null,{"$f":"List!$B$237","v":"Vyberte způsob montáže čelního kování"}]
[]
[]
[]
[]
[]
[]
[]
[]
[]
[]
[]
[]
[]
[]
[]
[]
[]
[null,null,null,null,null,null,null,{"$f":"List!$B$100","v":"Zpět na úvod"}]

{"sheet":"Menu","index":1,"n_rows":219,"n_cols":20,"rows_kept":219,"cut":false,"hidden":false,"merged":[[198,0,239,0],[218,5,218,7]]}
[null,{"$f":"List!$B$53","v":"Zásuvky"},null,null,null,null,null,null,null,null,null,null,null,null,null,null,null,null,null,{"$f":"List!$B$4","v":"Výběr zásuvek a výsuvů"}]
[null,null,null,null,null,{"$f":"List!$B$46&\" N  \"","v":"Zásuvka N  "},null,null,null,null,null,{"$f":"List!$B$46&\" M  \"","v":"Zásuvka M  "},null,null,null,null,null,{"$f":"List!$B$46&\" K  \"","v":"Zásuvka K  "},null,{"$f":"List!$B$11&\":\"","v":"Zpět na:"}]
[null,null,null,null,{"$f":"List!$B$71&\":\"","v":"označení:"},"AN 300",null,null,null,null,{"$f":"List!$B$71&\":\"","v":"označení:"},"AM 300",null,null,null,null,{"$f":"List!$B$71&\":\"","v":"označení:"},"AK 300",null,{"$f":"\" \"&List!$B$13","v":" Úvod"}]
[]
[null,null,null,null,{"$f":"List!$B$72&\":\"","v":"bočnice:"},"N",null,null,null,null,{"$f":"List!$B$72&\":\"","v":"bočnice:"},"M",null,null,null,null,{"$f":"List!$B$72&\":\"","v":"bočnice:"},"K",null,{"$f":"List!$B$12&\":\"","v":"Pokračovat na:"}]
[null,null,null,null,{"$f":"List!$B$73&\":\"","v":"potřebný prostor:"},"82,5 mm",null,null,null,null,{"$f":"List!$B$73&\":\"","v":"potřebný prostor:"},"98,5 mm",null,null,null,null,{"$f":"List!$B$73&\":\"","v":"potřebný prostor:"},"130,5 mm",null,{"$f":"\" \"&List!$B$5","v":" Výběr doplňků"}]
[null,{"$f":"List!$B$54","v":"Vnitřní zásuvky"},null,null,null,null,null,null,null,null,null,null,null,null,null,null,null,null,null,{"$f":"\" \"&List!$B$6","v":" Výběr SERVO-DRIVE"}]
[null,null,null,null,null,null,null,null,null,null,null,{"$f":"List!$B$47&\" M  \"","v":"Vnitřní zásuvka M  "},null,null,null,null,null,{"$f":"List!$B$47&\" K  \"","v":"Vnitřní zásuvka K  "},null,{"$f":"\" \"&List!$B$7","v":" Výběr ORGA-LINE"}]
[null,null,null,null,null,null,null,null,null,null,{"$f":"List!$B$71&\":\"","v":"označení:"},"AM 30V",null,null,null,null,{"$f":"List!$B$71&\":\"","v":"označení:"},"AK 30V",null,{"$f":"\" \"&List!$B$18","v":" Souhrn"}]
[]
[null,null,null,null,null,null,null,null,null,null,{"$f":"List!$B$72&\":\"","v":"bočnice:"},"M",null,null,null,null,{"$f":"List!$B$72&\":\"","v":"bočnice:"},"K"]
[null,null,null,null,null,null,null,null,null,null,{"$f":"List!$B$73&\":\"","v":"potřebný prostor:"},"106 mm",null,null,null,null,{"$f":"List!$B$73&\":\"","v":"potřebný prostor:"},"136,5 mm",null,{"$f":"\" \"&List!$B$16","v":" Nápověda"}]
[]
[null,{"$f":"List!$B$55&\" D \"","v":"Čelní výsuvy D "}]
[null,null,null,null,null,{"$f":"List!$B$62&\"  \"","v":"zásuvný prvek sklo  "},null,null,null,null,null,{"$f":"List!$B$63&\"  \"","v":"kovový zásuvný prvek  "},null,null,null,null,null,{"$f":"List!$B$64&\"  \"","v":"podélný reling  "}]
[null,null,null,null,{"$f":"List!$B$71&\":\"","v":"označení:"},"AD 310G",null,null,null,null,{"$f":"List!$B$71&\":\"","v":"označení:"},"AD 310S",null,null,null,null,{"$f":"List!$B$71&\":\"","v":"označení:"},"AD 310R"]
[]
[null,null,null,null,{"$f":"List!$B$72&\":\"","v":"bočnice:"},"M",null,null,null,null,{"$f":"List!$B$72&\":\"","v":"bočnice:"},"M",null,null,null,null,{"$f":"List!$B$72&\":\"","v":"bočnice:"},"M"]
[null,null,null,null,{"$f":"List!$B$73&\":\"","v":"potřebný prostor:"},"228 mm",null,null,null,null,{"$f":"List!$B$73&\":\"","v":"potřebný prostor:"},"228 mm",null,null,null,null,{"$f":"List!$B$73&\":\"","v":"potřebný prostor:"},"228 mm"]
[]
[null,{"$f":"List!$B$56&\" D \"","v":"Vnitřní výsuvy D "}]
[null,null,null,null,null,{"$f":"List!$B$62&\"  \"","v":"zásuvný prvek sklo  "},null,null,null,null,null,{"$f":"List!$B$63&\"  \"","v":"kovový zásuvný prvek  "},null,null,null,null,null,{"$f":"List!$B$64&\"  \"","v":"podélný reling  "}]
[null,null,null,null,{"$f":"List!$B$71&\":\"","v":"označení:"},"AD 31VG",null,null,null,null,{"$f":"List!$B$71&\":\"","v":"označení:"},"AD 31VS",null,null,null,null,{"$f":"List!$B$71&\":\"","v":"označení:"},"AD 31VR"]
[]
[null,null,null,null,{"$f":"List!$B$72&\":\"","v":"bočnice:"},"M",null,null,null,null,{"$f":"List!$B$72&\":\"","v":"bočnice:"},"M",null,null,null,null,{"$f":"List!$B$72&\":\"","v":"bočnice:"},"M"]
[null,null,null,null,{"$f":"List!$B$73&\":\"","v":"potřebný prostor:"},"228 mm",null,null,null,null,{"$f":"List!$B$73&\":\"","v":"potřebný prostor:"},"228 mm",null,null,null,null,{"$f":"List!$B$73&\":\"","v":"potřebný prostor:"},"228 mm"]
[]
[null,{"$f":"List!$B$55&\" C \"","v":"Čelní výsuvy C "}]
[null,null,null,null,null,{"$f":"List!$B$62&\"  \"","v":"zásuvný prvek sklo  "},null,null,null,null,null,{"$f":"List!$B$63&\"  \"","v":"kovový zásuvný prvek  "},null,null,null,null,null,{"$f":"List!$B$64&\"  \"","v":"podélný reling  "}]
[null,null,null,null,{"$f":"List!$B$71&\":\"","v":"označení:"},"AC 310G",null,null,null,null,{"$f":"List!$B$71&\":\"","v":"označení:"},"AC 310S",null,null,null,null,{"$f":"List!$B$71&\":\"","v":"označení:"},"AC 310R"]
[]
[null,null,null,null,{"$f":"List!$B$72&\":\"","v":"bočnice:"},"M",null,null,null,null,{"$f":"List!$B$72&\":\"","v":"bočnice:"},"M",null,null,null,null,{"$f":"List!$B$72&\":\"","v":"bočnice:"},"M"]
[null,null,null,null,{"$f":"List!$B$73&\":\"","v":"potřebný prostor:"},"196 mm",null,null,null,null,{"$f":"List!$B$73&\":\"","v":"potřebný prostor:"},"196 mm",null,null,null,null,{"$f":"List!$B$73&\":\"","v":"potřebný prostor:"},"196 mm"]
[null,{"$f":"List!$B$56&\" C \"","v":"Vnitřní výsuvy C "}]
[null,null,null,null,null,{"$f":"List!$B$62&\"  \"","v":"zásuvný prvek sklo  "},null,null,null,null,null,{"$f":"List!$B$63&\"  \"","v":"kovový zásuvný prvek  "},null,null,null,null,null,{"$f":"List!$B$64&\"  \"","v":"podélný reling  "}]
[null,null,null,null,{"$f":"List!$B$71&\":\"","v":"označení:"},"AC 310VG",null,null,null,null,{"$f":"List!$B$71&\":\"","v":"označení:"},"AC 31VS",null,null,null,null,{"$f":"List!$B$71&\":\"","v":"označení:"},"AC 31VR"]
[]
[null,null,null,null,{"$f":"List!$B$72&\":\"","v":"bočnice:"},"M",null,null,null,null,{"$f":"List!$B$72&\":\"","v":"bočnice:"},"M",null,null,null,null,{"$f":"List!$B$72&\":\"","v":"bočnice:"},"M"]
[null,null,null,null,{"$f":"List!$B$73&\":\"","v":"potřebný prostor:"},"196 mm",null,null,null,null,{"$f":"List!$B$73&\":\"","v":"potřebný prostor:"},"196 mm",null,null,null,null,{"$f":"List!$B$73&\":\"","v":"potřebný prostor:"},"196 mm"]
[]
[]
[null,{"$f":"List!$B$46&\" SPACE CORNER \"&List!$B$67","v":"Zásuvka SPACE CORNER se SYNCROMOTION"}]
[null,null,null,null,null,{"$f":"List!$B$46&\" M  \"","v":"Zásuvka M  "}]
[null,null,null,null,{"$f":"List!$B$71&\":\"","v":"označení:"},"AM 530S"]
[]
[null,null,null,null,{"$f":"List!$B$72&\":\"","v":"bočnice:"},"M"]
[null,null,null,null,{"$f":"List!$B$73&\":\"","v":"potřebný prostor:"},"98,5 mm"]
[]
[null,{"$f":"List!$B$55&\" SPACE CORNER \"&List!$B$67&\" - D \"","v":"Čelní výsuvy SPACE CORNER se SYNCROMOTION - D "}]
[null,null,null,null,null,{"$f":"List!$B$62&\"  \"","v":"zásuvný prvek sklo  "},null,null,null,null,null,{"$f":"List!$B$63&\"  \"","v":"kovový zásuvný prvek  "},null,null,null,null,null,{"$f":"List!$B$64&\"  \"","v":"podélný reling  "}]
[null,null,null,null,{"$f":"List!$B$71&\":\"","v":"označení:"},"AD 535SG",null,null,null,null,{"$f":"List!$B$71&\":\"","v":"označení:"},"AD 535SS",null,null,null,null,{"$f":"List!$B$71&\":\"","v":"označení:"},"AC 535SR"]
[]
[null,null,null,null,{"$f":"List!$B$72&\":\"","v":"bočnice:"},"M",null,null,null,null,{"$f":"List!$B$72&\":\"","v":"bočnice:"},"M",null,null,null,null,{"$f":"List!$B$72&\":\"","v":"bočnice:"},"M"]
[null,null,null,null,{"$f":"List!$B$73&\":\"","v":"potřebný prostor:"},"228 mm",null,null,null,null,{"$f":"List!$B$73&\":\"","v":"potřebný prostor:"},"228 mm",null,null,null,null,{"$f":"List!$B$73&\":\"","v":"potřebný prostor:"},"228 mm"]
[null,{"$f":"List!$B$46&\" SPACE CORNER \"&List!$B$68","v":"Zásuvka SPACE CORNER s nehybnými čely"}]
[null,null,null,null,null,{"$f":"List!$B$46&\" M  \"","v":"Zásuvka M  "}]
[null,null,null,null,{"$f":"List!$B$71&\":\"","v":"označení:"},"AM 530"]
[]
[null,null,null,null,{"$f":"List!$B$72&\":\"","v":"bočnice:"},"M"]
[null,null,null,null,{"$f":"List!$B$73&\":\"","v":"potřebný prostor:"},"98,5 mm"]
[]
[null,{"$f":"List!$B$55&\" SPACE CORNER \"&List!$B$68&\" - D \"","v":"Čelní výsuvy SPACE CORNER s nehybnými čely - D "}]
[null,null,null,null,null,{"$f":"List!$B$62&\"  \"","v":"zásuvný prvek sklo  "},null,null,null,null,null,{"$f":"List!$B$63&\"  \"","v":"kovový zásuvný prvek  "},null,null,null,null,null,{"$f":"List!$B$64&\"  \"","v":"podélný reling  "}]
[null,null,null,null,{"$f":"List!$B$71&\":\"","v":"označení:"},"AD 535G",null,null,null,null,{"$f":"List!$B$71&\":\"","v":"označení:"},"AD 535S",null,null,null,null,{"$f":"List!$B$71&\":\"","v":"označení:"},"AC 535R"]
[]
[null,null,null,null,{"$f":"List!$B$72&\":\"","v":"bočnice:"},"M",null,null,null,null,{"$f":"List!$B$72&\":\"","v":"bočnice:"},"M",null,null,null,null,{"$f":"List!$B$72&\":\"","v":"bočnice:"},"M"]
[null,null,null,null,{"$f":"List!$B$73&\":\"","v":"potřebný prostor:"},"228 mm",null,null,null,null,{"$f":"List!$B$73&\":\"","v":"potřebný prostor:"},"228 mm",null,null,null,null,{"$f":"List!$B$73&\":\"","v":"potřebný prostor:"},"228 mm"]
[]
[null,{"$f":"List!$B$57","v":"Dřezové zásuvky"}]
[null,null,null,null,null,{"$f":"List!$B$50&\" M  \"","v":"Dřezová zásuvka M  "}]
[null,null,null,null,{"$f":"List!$B$71&\":\"","v":"označení:"},"AM 340"]
[]
[null,null,null,null,{"$f":"List!$B$72&\":\"","v":"bočnice:"},"M"]
[null,null,null,null,{"$f":"List!$B$73&\":\"","v":"potřebný prostor:"},"98,5 mm"]
[]
[null,{"$f":"List!$B$58&\" - D \"","v":"Dřezové výsuvy - D "}]
[null,null,null,null,null,{"$f":"List!$B$62&\"  \"","v":"zásuvný prvek sklo  "},null,null,null,null,null,{"$f":"List!$B$63&\"  \"","v":"kovový zásuvný prvek  "},null,null,null,null,null,{"$f":"List!$B$64&\"  \"","v":"podélný reling  "}]
[null,null,null,null,{"$f":"List!$B$71&\":\"","v":"označení:"},"AD 342G",null,null,null,null,{"$f":"List!$B$71&\":\"","v":"označení:"},"AD 342S",null,null,null,null,{"$f":"List!$B$71&\":\"","v":"označení:"},"AC 342R"]
[]
[null,null,null,null,{"$f":"List!$B$72&\":\"","v":"bočnice:"},"M",null,null,null,null,{"$f":"List!$B$72&\":\"","v":"bočnice:"},"M",null,null,null,null,{"$f":"List!$B$72&\":\"","v":"bočnice:"},"M"]
[null,null,null,null,{"$f":"List!$B$73&\":\"","v":"potřebný prostor:"},"228 mm",null,null,null,null,{"$f":"List!$B$73&\":\"","v":"potřebný prostor:"},"228 mm",null,null,null,null,{"$f":"List!$B$73&\":\"","v":"potřebný prostor:"},"228 mm"]
[]
[null,{"$f":"List!$B$55&\" \"&List!$B$59&\", \"&List!$B$60&\" D+M \"","v":"Čelní výsuvy pro úzké korpusy, sestava D+M "}]
[null,null,null,null,null,{"$f":"List!$B$62&\"  \"","v":"zásuvný prvek sklo  "},null,null,null,null,null,{"$f":"List!$B$63&\"  \"","v":"kovový zásuvný prvek  "},null,null,null,null,null,{"$f":"List!$B$64&\"  \"","v":"podélný reling  "}]
[null,null,null,null,"označení:","AD M30G",null,null,null,null,{"$f":"List!$B$71&\":\"","v":"označení:"},"AD M30S",null,null,null,null,{"$f":"List!$B$71&\":\"","v":"označení:"},"AD M30R"]
[]
[null,null,null,null,"bočnice:","M",null,null,null,null,{"$f":"List!$B$72&\":\"","v":"bočnice:"},"M",null,null,null,null,{"$f":"List!$B$72&\":\"","v":"bočnice:"},"M"]
[null,null,null,null,"potřebný prostor:","496 mm",null,null,null,null,{"$f":"List!$B$73&\":\"","v":"potřebný prostor:"},"496 mm",null,null,null,null,{"$f":"List!$B$73&\":\"","v":"potřebný prostor:"},"496 mm"]
[null,{"$f":"List!$B$55&\" \"&List!$B$59&\", \"&List!$B$60&\" D+D \"","v":"Čelní výsuvy pro úzké korpusy, sestava D+D "}]
[null,null,null,null,null,{"$f":"List!$B$62&\"  \"","v":"zásuvný prvek sklo  "},null,null,null,null,null,{"$f":"List!$B$63&\"  \"","v":"kovový zásuvný prvek  "},null,null,null,null,null,{"$f":"List!$B$64&\"  \"","v":"podélný reling  "}]
[null,null,null,null,"označení:","AD D32G",null,null,null,null,{"$f":"List!$B$71&\":\"","v":"označení:"},"AD D32S",null,null,null,null,{"$f":"List!$B$71&\":\"","v":"označení:"},"AD D32R"]
[]
[null,null,null,null,"bočnice:","M",null,null,null,null,{"$f":"List!$B$72&\":\"","v":"bočnice:"},"M",null,null,null,null,{"$f":"List!$B$72&\":\"","v":"bočnice:"},"M"]
[null,null,null,null,"potřebný prostor:","596 mm",null,null,null,null,{"$f":"List!$B$73&\":\"","v":"potřebný prostor:"},"596 mm",null,null,null,null,{"$f":"List!$B$73&\":\"","v":"potřebný prostor:"},"596 mm"]
[]
[null,"SPACE-TOWER, sestava 4xD + 1xM"]
[null,null,null,null,null,{"$f":"List!$B$62&\"  \"","v":"zásuvný prvek sklo  "},null,null,null,null,null,{"$f":"List!$B$63&\"  \"","v":"kovový zásuvný prvek  "},null,null,null,null,null,{"$f":"List!$B$64&\"  \"","v":"podélný reling  "}]
[null,null,null,null,"označení:","AD M45G",null,null,null,null,{"$f":"List!$B$71&\":\"","v":"označení:"},"AD M45S",null,null,null,null,{"$f":"List!$B$71&\":\"","v":"označení:"},"AD M45R"]
[]
[null,null,null,null,"bočnice:","M",null,null,null,null,{"$f":"List!$B$72&\":\"","v":"bočnice:"},"M",null,null,null,null,{"$f":"List!$B$72&\":\"","v":"bočnice:"},"M"]
[null,null,null,null,"potřebný prostor:","1380 mm",null,null,null,null,{"$f":"List!$B$73&\":\"","v":"potřebný prostor:"},"1380 mm",null,null,null,null,{"$f":"List!$B$73&\":\"","v":"potřebný prostor:"},"1380 mm"]
[]
[]
[]
[null,"SPACE-TOWER, sestava 5xD"]
[null,null,null,null,null,{"$f":"List!$B$62&\"  \"","v":"zásuvný prvek sklo  "},null,null,null,null,null,{"$f":"List!$B$63&\"  \"","v":"kovový zásuvný prvek  "},null,null,null,null,null,{"$f":"List!$B$64&\"  \"","v":"podélný reling  "}]
[null,null,null,null,"označení:","AD D45G",null,null,null,null,{"$f":"List!$B$71&\":\"","v":"označení:"},"AD D32S",null,null,null,null,{"$f":"List!$B$71&\":\"","v":"označení:"},"AD D32R"]
[]
[null,null,null,null,"bočnice:","M",null,null,null,null,{"$f":"List!$B$72&\":\"","v":"bočnice:"},"M",null,null,null,null,{"$f":"List!$B$72&\":\"","v":"bočnice:"},"M"]
[null,null,null,null,"potřebný prostor:","1500 mm",null,null,null,null,{"$f":"List!$B$73&\":\"","v":"potřebný prostor:"},"1500 mm",null,null,null,null,{"$f":"List!$B$73&\":\"","v":"potřebný prostor:"},"1500 mm"]
[]
[]
[]
[]
[]
[]
[]
[]
[]
[]
[]
[]
[]
[]
[]
[]
[]
[]
[]
[]
[]
[]
[]
[]
[]
[]
[]
[]
[]
[]
[]
[]
[]
[]
[]
[]
[]
[]
[]
[]
[]
[]
[]
[]
[]
[]
[]
[]
[]
[]
[]
[]
[]
[]
[]
[]
[]
[]
[]
[]
[]
[]
[]
[]
[]
[]
[]
[]
[]
[]
[]
[]
[]
[]
[]
[]
[]
[]
[]
[]
[]
[]
[]
[]
[]
[]
[]
[]
[]
[null,{"$f":"\"      \"&List!$B$16&\": \"&List!$B$4","v":"      Nápověda: Výběr zásuvek a výsuvů"}]
[]
[null,{"$f":"List!$B$239","v":"Kliknutím na označení vyberte požadovaný výsuv"}]
[]
[]
[]
[]
[]
[]
[]
[]
[]
[]
[]
[]
[]
[]
[]
[]
[null,null,null,null,null,{"$f":"List!$B$100","v":"Zpět na úvod"}]

{"sheet":"AN300","index":2,"n_rows":113,"n_cols":21,"rows_kept":113,"cut":false,"hidden":false,"merged":[[108,9,108,10],[109,7,109,8],[109,10,109,11],[98,0,139,0],[99,1,100,11],[102,1,102,2],[102,3,102,11],[103,1,111,2],[103,3,103,8],[103,9,104,11],[104,3,104,5],[104,7,104,8],[105,3,106,5],[110,7,111,11],[105,7,105,8],[106,7,106,8],[107,3,109,5],[107,7,107,8],[108,7,108,8]]}
[]
[null,null,null,null,null,null,null,null,null,null,null,{"$f":"List!$B$46&\" N\"","v":"Zásuvka N"},null,{"$f":"List!$B$11&\":\"","v":"Zpět na:"},null,"Počty zásuvek →",{"$f":"SUM(D19:K19)","v":0},{"$f":"SUM(H20:L20)","v":0},{"$f":"SUM(D25:K25)","v":0},{"$f":"SUM(H26:L26)","v":0}]
[null,null,null,null,null,null,null,null,null,null,null,null,null,{"$f":"\" \"&List!$B$13","v":" Úvod"}]
[null,null,null,null,null,null,null,null,{"$f":"List!$B$72&\":\"","v":"bočnice:"},null,"N",null,null,{"$f":"\" \"&List!$B$4","v":" Výběr zásuvek a výsuvů"}]
[null,null,null,null,null,null,null,null,{"$f":"List!$B$27&\":\"","v":"barva:"},null,{"$f":"Form!$O$2","v":"šedá"}]
[null,null,null,null,null,null,null,null,null,null,null,null,null,{"$f":"List!$B$12&\":\"","v":"Pokračovat na:"},null,{"$f":"Cen!A11","v":"Bočnice N 400mm, šedé"},{"$f":"Cen!B11","v":"378N4002SA"},{"$f":"Cen!C11","v":"R906"},{"$f":"SUM($G$19, $G$25)","v":0},{"$f":"Cen!F11","v":416.8},{"$f":"S6*T6","v":0}]
[null,null,null,null,null,null,null,null,{"$f":"List!$B$36&\":\"","v":"čelní kování:"},null,{"$f":"Form!$O$13","v":"INSERTA"},null,null,{"$f":"\" \"&List!$B$5","v":" Výběr doplňků"},null,{"$f":"Cen!A15","v":"Bočnice N 450mm, šedé"},{"$f":"Cen!B15","v":"378N4502SA"},{"$f":"Cen!C15","v":"R906"},{"$f":"SUM($H$19:$H$20, $H$25:$H$26)","v":0},{"$f":"Cen!F15","v":420.5},0]
[null,null,null,null,null,null,null,null,null,null,null,null,null,{"$f":"\" \"&List!$B$6","v":" Výběr SERVO-DRIVE"},null,{"$f":"Cen!A19","v":"Bočnice N 500mm, šedé"},{"$f":"Cen!B19","v":"378N5002SA"},{"$f":"Cen!C19","v":"R906"},{"$f":"SUM($I$19:$I$20, $I$25:$I$26)","v":0},{"$f":"Cen!F19","v":424.3},0]
[null,null,null,null,null,null,null,null,null,null,null,null,null,{"$f":"\" \"&List!$B$7","v":" Výběr ORGA-LINE"},null,{"$f":"Cen!A23","v":"Bočnice N 550mm, šedé"},{"$f":"Cen!B23","v":"378N5502SA"},{"$f":"Cen!C23","v":"R906"},{"$f":"SUM($J$19:$J$20, $J$25:$J$26)","v":0},{"$f":"Cen!F23","v":461.7},0]
[null,null,null,null,null,null,null,null,null,null,null,null,null,{"$f":"\" \"&List!$B$18","v":" Souhrn"}]
[]
[]
[null,null,null,null,null,null,null,null,null,null,null,null,null,null,null,{"$f":"Cen!A94","v":"Korpusové lišty 270mm, BLUMOTION, 30kg"},{"$f":"Cen!B94","v":"578.2701B"},{"$f":"Cen!C94","v":"ZN"},{"$f":"$D$19","v":0},{"$f":"Cen!F94","v":459.2},0]
[null,null,null,null,null,null,null,null,null,null,null,null,null,null,null,{"$f":"Cen!A95","v":"Korpusové lišty 300mm, BLUMOTION, 30kg"},{"$f":"Cen!B95","v":"578.3001B"},{"$f":"Cen!C95","v":"ZN"},{"$f":"$E$19","v":0},{"$f":"Cen!F95","v":459.2},0]
[null,null,null,null,null,null,null,null,null,null,null,null,null,null,null,{"$f":"Cen!A96","v":"Korpusové lišty 350mm, BLUMOTION, 30kg"},{"$f":"Cen!B96","v":"578.3501B"},{"$f":"Cen!C96","v":"ZN"},{"$f":"$F$19","v":0},{"$f":"Cen!F96","v":459.2},0]
[null,null,null,null,null,null,null,null,null,null,null,null,null,null,null,{"$f":"Cen!A97","v":"Korpusové lišty 400mm, BLUMOTION, 30kg"},{"$f":"Cen!B97","v":"578.4001B"},{"$f":"Cen!C97","v":"ZN"},{"$f":"$G$19","v":0},{"$f":"Cen!F97","v":462.6},0]
[null,"BLUMOTION",null,null,null,null,null,null,null,null,null,null,null,null,null,{"$f":"Cen!A98","v":"Korpusové lišty 450mm, BLUMOTION, 30kg"},{"$f":"Cen!B98","v":"578.4501B"},{"$f":"Cen!C98","v":"ZN"},{"$f":"$H$19","v":0},{"$f":"Cen!F98","v":466},0]
[null,null,{"$f":"List!$B$45&\":\"","v":"Jmenovitá délka:"},null,null,null,"400 mm","450 mm","500 mm","550 mm",null,null,null,null,null,{"$f":"Cen!A99","v":"Korpusové lišty 450mm, BLUMOTION, 65kg"},{"$f":"Cen!B99","v":"576.4501B"},{"$f":"Cen!C99","v":"ZN"},{"$f":"$H$20","v":0},{"$f":"Cen!F99","v":560.79999999999995},0]
[null,"AN 300B","30 kg",null,null,null,null,null,null,null,null,null,null,null,null,{"$f":"Cen!A100","v":"Korpusové lišty 500mm, BLUMOTION, 30kg"},{"$f":"Cen!B100","v":"578.5001B"},{"$f":"Cen!C100","v":"ZN"},{"$f":"$I$19","v":0},{"$f":"Cen!F100","v":469.5},0]
[null,null,null,null,null,null,null,null,null,null,null,null,null,null,null,{"$f":"Cen!A101","v":"Korpusové lišty 500mm, BLUMOTION, 65kg"},{"$f":"Cen!B101","v":"576.5001B"},{"$f":"Cen!C101","v":"ZN"},{"$f":"$I$20","v":0},{"$f":"Cen!F101","v":620.4},0]
[null,null,null,null,null,null,null,null,null,null,null,null,null,null,null,{"$f":"Cen!A102","v":"Korpusové lišty 550mm, BLUMOTION, 30kg"},{"$f":"Cen!B102","v":"578.5501B"},{"$f":"Cen!C102","v":"ZN"},{"$f":"$J$19","v":0},{"$f":"Cen!F102","v":493.5},0]
[null,null,null,null,null,null,null,null,null,null,null,null,null,null,null,{"$f":"Cen!A103","v":"Korpusové lišty 550mm, BLUMOTION, 65kg"},{"$f":"Cen!B103","v":"576.5501B"},{"$f":"Cen!C103","v":"ZN"},{"$f":"$J$20","v":0},{"$f":"Cen!F103","v":644.29999999999995},0]
[null,"TIP-ON BLUMOTION",null,null,null,null,null,null,null,null,null,null,null,null,null,{"$f":"Cen!A104","v":"Korpusové lišty 600mm, BLUMOTION, 30kg"},{"$f":"Cen!B104","v":"578.6001B"},{"$f":"Cen!C104","v":"ZN"},{"$f":"$K$19","v":0},{"$f":"Cen!F104","v":523.9},0]
[null,null,{"$f":"List!$B$45&\":\"","v":"Jmenovitá délka:"},null,null,null,"400 mm","450 mm","500 mm","550 mm",null,null,null,null,null,{"$f":"Cen!A105","v":"Korpusové lišty 600mm, BLUMOTION, 65kg"},{"$f":"Cen!B105","v":"576.6001B"},{"$f":"Cen!C105","v":"ZN"},{"$f":"$K$20","v":0},{"$f":"Cen!F105","v":661.1},0]
[null,"AN 300M","30 kg",null,null,null,null,null,null,null,null,null,null,null,null,{"$f":"Cen!A106","v":"Korpusové lišty 650mm, BLUMOTION, 65kg"},{"$f":"Cen!B106","v":"576.6501B"},{"$f":"Cen!C106","v":"ZN"},{"$f":"$L$20","v":0},{"$f":"Cen!F106","v":751.2},0]
[null,null,null,null,null,null,null,null,null,null,null,null,null,null,null,{"$f":"Cen!A109","v":"Korp. lišty TIP-ON BLUMOTION, 270mm, 30 kg"},{"$f":"Cen!B109","v":"578.2701M"},{"$f":"Cen!C109","v":"ZN"},{"$f":"$D$25","v":0},{"$f":"Cen!F109","v":417.4},0]
[null,null,null,null,null,null,null,null,null,null,null,null,null,null,null,{"$f":"Cen!A110","v":"Korp. lišty TIP-ON BLUMOTION, 300mm, 30 kg"},{"$f":"Cen!B110","v":"578.3001M"},{"$f":"Cen!C110","v":"ZN"},{"$f":"$E$25","v":0},{"$f":"Cen!F110","v":417.4},0]
[null,null,null,{"$f":"List!$B$268","v":"Sada jednotek TIP-ON BLUMOTION"},null,null,null,null,null,null,null,null,null,{"$f":"List!$B$259","v":"Výběr sady jednotek"},null,{"$f":"Cen!A111","v":"Korp. lišty TIP-ON BLUMOTION, 350mm, 30 kg"},{"$f":"Cen!B111","v":"578.3501M"},{"$f":"Cen!C111","v":"ZN"},{"$f":"$F$25","v":0},{"$f":"Cen!F111","v":417.4},0]
[null,null,null,null,null,"L1","L3",null,null,null,null,null,null,null,null,{"$f":"Cen!A112","v":"Korp. lišty TIP-ON BLUMOTION, 400mm, 30 kg"},{"$f":"Cen!B112","v":"578.4001M"},{"$f":"Cen!C112","v":"ZN"},{"$f":"$G$25","v":0},{"$f":"Cen!F112","v":420.5},0]
[null,null,null,null,null,null,null,null,{"$f":"IF(SUM($F$25:$K$25,$H$26:$L$26)=SUM($F$30:$H$30),\" \",$P$82)","v":" "},null,null,null,null,null,null,{"$f":"Cen!A113","v":"Korp. lišty TIP-ON BLUMOTION, 450mm, 30 kg"},{"$f":"Cen!B113","v":"578.4501M"},{"$f":"Cen!C113","v":"ZN"},{"$f":"$H$25","v":0},{"$f":"Cen!F113","v":423.7},0]
[null,null,null,null,null,null,null,null,null,null,null,null,null,null,null,{"$f":"Cen!A114","v":"Korp. lišty TIP-ON BLUMOTION, 450mm, 65 kg"},{"$f":"Cen!B114","v":"578.4501M"},{"$f":"Cen!C114","v":"ZN"},{"$f":"$H$26","v":0},{"$f":"Cen!F114","v":560.79999999999995},0]
[null,null,null,null,null,null,null,null,null,null,null,null,null,null,null,{"$f":"Cen!A115","v":"Korp. lišty TIP-ON BLUMOTION, 500mm, 30 kg"},{"$f":"Cen!B115","v":"578.5001M"},{"$f":"Cen!C115","v":"ZN"},{"$f":"$I$25","v":0},{"$f":"Cen!F115","v":426.8},0]
[null,null,null,{"$f":"\"     \"&List!$B$270","v":"     Synchronizace je přidána automaticky. "},null,null,null,null,null,null,null,null,null,null,null,{"$f":"Cen!A116","v":"Korp. lišty TIP-ON BLUMOTION, 500mm, 65 kg"},{"$f":"Cen!B116","v":"576.5001M"},{"$f":"Cen!C116","v":"ZN"},{"$f":"$I$26","v":0},{"$f":"Cen!F116","v":564},0]
[null,null,null,{"$f":"\"     \"&List!$B$271","v":"     Pozor! Pro každý výsuv je započítána jedna hřídel. Počet hřídelí upravte v objednávce!"},null,null,null,null,null,null,null,null,null,null,null,{"$f":"Cen!A117","v":"Korp. lišty TIP-ON BLUMOTION, 550mm, 30 kg"},{"$f":"Cen!B117","v":"578.5501M"},{"$f":"Cen!C117","v":"ZN"},{"$f":"$J$25","v":0},{"$f":"Cen!F117","v":448.6},0]
[null,null,null,{"$f":"\"     \"&List!$B$272","v":"     Pro korpusy šířky ≥ 750 mm použijte podpěru dna a podpěru synchronizační hřídele."},null,null,null,null,null,null,null,null,null,null,null,{"$f":"Cen!A118","v":"Korp. lišty TIP-ON BLUMOTION, 550mm, 65 kg"},{"$f":"Cen!B118","v":"576.5501M"},{"$f":"Cen!C118","v":"ZN"},{"$f":"$J$26","v":0},{"$f":"Cen!F118","v":585.79999999999995},0]
[null,null,null,{"$f":"\"     \"&List!$B$273","v":"     Podpěry přidejte v sekci \"Výběr doplňků\""},null,null,null,null,null,null,null,null,null,null,null,{"$f":"Cen!A119","v":"Korp. lišty TIP-ON BLUMOTION, 600mm, 30 kg"},{"$f":"Cen!B119","v":"578.6001M"},{"$f":"Cen!C119","v":"ZN"},{"$f":"$K$25","v":0},{"$f":"Cen!F119","v":542},0]
[null,null,null,null,null,null,null,null,null,null,null,null,null,null,null,{"$f":"Cen!A120","v":"Korp. lišty TIP-ON BLUMOTION, 600mm, 65 kg"},{"$f":"Cen!B120","v":"576.6001M"},{"$f":"Cen!C120","v":"ZN"},{"$f":"$K$26","v":0},{"$f":"Cen!F120","v":661.1},0]
[null,null,null,null,null,null,null,null,null,null,null,null,null,null,null,{"$f":"Cen!A121","v":"Korp. lišty TIP-ON BLUMOTION, 650mm, 65 kg"},{"$f":"Cen!B121","v":"576.6501M"},{"$f":"Cen!C121","v":"ZN"},{"$f":"$L$26","v":0},{"$f":"Cen!F121","v":682.9},0]
[]
[null,null,null,null,null,null,null,null,null,null,null,null,null,null,null,{"$f":"Cen!A124","v":"Sada jednotek TIP-ON BLUMOTION, S0"},{"$f":"Cen!B124","v":"T60B3030"},{"$f":"Cen!C124","v":"W"},{"$f":"$D$30","v":0},{"$f":"Cen!F124","v":404.5},{"$f":"S40*T40","v":0}]
[null,null,null,null,null,null,null,null,null,null,null,null,null,null,null,{"$f":"Cen!A125","v":"Sada jednotek TIP-ON BLUMOTION, S1"},{"$f":"Cen!B125","v":"T60B3130"},{"$f":"Cen!C125","v":"R735"},{"$f":"$E$30","v":0},{"$f":"Cen!F125","v":404.5},0]
[null,null,null,null,null,null,null,null,null,null,null,null,null,null,null,{"$f":"Cen!A126","v":"Sada jednotek TIP-ON BLUMOTION, L1"},{"$f":"Cen!B126","v":"T60B3330"},{"$f":"Cen!C126","v":"R735"},{"$f":"$F$30","v":0},{"$f":"Cen!F126","v":404.5},0]
[null,null,null,null,null,null,null,null,null,null,null,null,null,null,null,{"$f":"Cen!A127","v":"Sada jednotek TIP-ON BLUMOTION, L3"},{"$f":"Cen!B127","v":"T60B3530"},{"$f":"Cen!C127","v":"R737"},{"$f":"$G$30","v":0},{"$f":"Cen!F127","v":404.5},0]
[null,null,null,null,null,null,null,null,null,null,null,null,null,null,null,{"$f":"Cen!A128","v":"Sada jednotek TIP-ON BLUMOTION, L5"},{"$f":"Cen!B128","v":"T60B3560"},{"$f":"Cen!C128","v":"S"},{"$f":"$H$30","v":0},{"$f":"Cen!F128","v":404.5},0]
[]
[null,null,null,null,null,null,null,null,null,null,null,null,null,null,null,{"$f":"Cen!A130","v":"Synchronizační adaptér"},{"$f":"Cen!B130","v":"T60.000D"},{"$f":"Cen!C130","v":"R735"},{"$f":"SUM($S$40:$S$44)*2","v":0},{"$f":"Cen!F130","v":5.8},0]
[null,null,null,null,null,null,null,null,null,null,null,null,null,null,null,{"$f":"Cen!A131","v":"Hřídel synchronizace"},{"$f":"Cen!B131","v":"T60.1125W"},{"$f":"Cen!C131","v":"GR"},{"$f":"SUM($S$40:$S$44)","v":0},{"$f":"Cen!F131","v":95.6},0]
[null,null,null,null,null,null,null,null,null,null,null,null,null,null,null,{"$f":"Cen!A132","v":"Jednodílná synchronizace"},{"$f":"Cen!B132","v":"T60.300D"},{"$f":"Cen!C132","v":"R735"},null,{"$f":"Cen!F132","v":23.2},0]
[null,null,null,null,null,null,null,null,null,null,null,null,null,null,null,{"$f":"Cen!A134","v":"Držák hřídele synchronizace"},{"$f":"Cen!B134","v":"T60B000H"},{"$f":"Cen!C134","v":"NI"},null,{"$f":"Cen!F134","v":6},0]
[null,{"$f":"IF(OR($K$14>0, $L$14>0), List!$B$196, \" \")","v":" "},null,null,null,null,null,null,null,null,null,null,null,null,null,{"$f":"Cen!A135","v":"Podpěrný úhelník pro dno"},{"$f":"Cen!B135","v":"Z96.2011"},{"$f":"Cen!C135","v":"R737"},null,{"$f":"Cen!F135","v":29.8},0]
[null,{"$f":"IF(OR($K$14>0, $L$14>0), List!$B$200, \" \")","v":" "}]
[null,null,null,null,null,null,null,null,null,null,null,null,null,null,null,{"$f":"Cen!A143","v":"Držáky zadní stěny N, šedé"},{"$f":"Cen!B143","v":"Z30N000S.04"},{"$f":"Cen!C143","v":"R906"},{"$f":"SUM($S$3:$S$11)","v":0},{"$f":"Cen!F143","v":36.5},{"$f":"S52*T52","v":0}]
[null,null,null,null,null,null,null,null,null,null,null,null,null,null,null,{"$f":"Cen!A147","v":"Držáky zadní stěny M, šedé"},{"$f":"Cen!B147","v":"Z30M000S.04"},{"$f":"Cen!C147","v":"R906"},null,{"$f":"Cen!F147","v":40.200000000000003},0]
[null,null,null,null,null,null,null,null,null,null,null,null,null,null,null,{"$f":"Cen!A151","v":"Držáky zadní stěny K, šedé"},{"$f":"Cen!B151","v":"Z30K000S"},{"$f":"Cen!C151","v":"R906"},null,{"$f":"Cen!F151","v":67.400000000000006},0]
[null,null,null,null,null,null,null,null,null,null,null,null,null,null,null,{"$f":"Cen!A154","v":"Držáky zadní stěny B, šedé"},{"$f":"Cen!B154","v":"Z30B000S.04"},{"$f":"Cen!C154","v":"R906"},null,{"$f":"Cen!F154","v":48.8},0]
[null,null,null,null,null,null,null,null,null,null,null,null,null,null,null,{"$f":"Cen!A158","v":"Držáky zadní stěny C, šedé"},{"$f":"Cen!B158","v":"Z30C000S"},{"$f":"Cen!C158","v":"R906"},null,{"$f":"Cen!F158","v":71},0]
[null,null,null,null,null,null,null,null,null,null,null,null,null,null,null,{"$f":"Cen!A162","v":"Držáky zadní stěny D, šedé"},{"$f":"Cen!B162","v":"Z30D000S"},{"$f":"Cen!C162","v":"R906"},null,{"$f":"Cen!F162","v":78.099999999999994},0]
[null,null,null,null,null,null,null,null,null,null,null,null,null,null,null,null,null,null,null,null,0]
[null,null,null,null,null,null,null,null,null,null,null,null,null,null,null,{"$f":"Cen!A173","v":"Čelní kování INSERTA"},{"$f":"Cen!B173","v":"ZSF.39A2"},{"$f":"Cen!C173","v":"BL"},{"$f":"SUM($S$3:$S$11)*2","v":0},{"$f":"Cen!F173","v":22.4},0]
[null,null,null,null,null,null,null,null,null,null,null,null,null,null,null,null,null,null,null,null,0]
[null,null,null,null,null,null,null,null,null,null,null,null,null,null,null,null,null,null,null,null,0]
[]
[]
[]
[]
[]
[]
[]
[]
[null,null,null,null,null,null,null,null,null,null,null,null,null,null,null,null,null,null,null,null,{"$f":"SUM(U3:U69)","v":0}]
[]
[]
[]
[]
[]
[]
[]
[]
[]
[null,null,null,null,null,null,null,null,null,null,null,null,null,null,null,{"$f":"List!$B$276&\"!\"","v":"S0 a S1 pouze pro jmenovitou délku 270 a 300 mm!"}]
[null,null,null,null,null,null,null,null,null,null,null,null,null,null,null,{"$f":"List!$B$277&\"!\"","v":"Pro výsuvy délky 270 a 300 mm vyberte jednotky S0 nebo S1!"}]
[null,null,null,null,null,null,null,null,null,null,null,null,null,null,null,{"$f":"List!$B$278&\"!\"","v":"Počet jednotek L neodpovídá počtu korpusových lišt!"}]
[null,null,null,null,null,null,null,null,null,null,null,null,null,null,null,{"$f":"List!$B$279&\"!\"","v":"Počet jednotek S neodpovídá počtu korpusových lišt!"}]
[]
[]
[]
[]
[]
[]
[]
[]
[]
[]
[]
[]
[]
[]
[]
[]
[null,{"$f":"List!B25","v":"Informace k objednávání"}]
[]
[]
[null,null,null,{"$f":"List!B268&\" \"&List!B283","v":"Sada jednotek TIP-ON BLUMOTION a sada unašečů TIP-ON BLUMOTION"}]
[null,null,null,{"$f":"List!$B$280&\":\"","v":"Využití pro:"},null,null,null,null,null,{"$f":"List!B281&\"*\"","v":"Doporučené hodnoty hmotnosti*"}]
[null,null,null,{"$f":"List!B45&\" (NL)\"","v":"Jmenovitá délka (NL)"},null,null,{"$f":"List!B275","v":"Jednotka"},{"$f":"List!B88","v":"Číslo artiklu"}]
[null,null,null,"270 - 300 mm",null,null,"S0","T60L7040",null,"≤ 10 kg"]
[null,null,null,null,null,null,"S1","T60L7140",null,"10-20 kg"]
[null,null,null,"350 - 650 mm",null,null,"L1","T60L7340",null,"≤ 20 kg"]
[null,null,null,null,null,null,"L3","T60L7540",null,"15 - 40 kg"]
[null,null,null,null,null,null,"L5","T60L7570",null,null,"25 - 70 kg"]
[null,null,null,null,null,null,null,{"$f":"\"* \"&List!B282","v":"* Celková hmotnost výsuvu (hmotnost výsuvu včetně náplně)"}]
[]
[null,null,null,null,null,null,null,null,null,null,null,null,null,{"$f":"List!$B$99","v":"Zpět"}]

{"sheet":"AM300","index":3,"n_rows":114,"n_cols":21,"rows_kept":114,"cut":false,"hidden":false,"merged":[[108,3,110,5],[108,7,108,8],[109,7,109,8],[109,9,109,10],[110,7,110,8],[110,10,110,11],[99,0,140,0],[100,1,101,11],[103,1,103,2],[103,3,103,11],[104,1,112,2],[104,3,104,8],[104,9,105,11],[105,3,105,5],[105,7,105,8],[111,7,112,11],[106,3,107,5],[106,7,106,8],[107,7,107,8]]}
[]
[null,null,null,null,null,null,null,null,null,null,null,{"$f":"List!$B$46&\" M\"","v":"Zásuvka M"},null,{"$f":"List!$B$11&\":\"","v":"Zpět na:"},null,"Počty zásuvek →",{"$f":"SUM(D19:K19)","v":0},{"$f":"SUM(H20:L20)","v":0},{"$f":"SUM(D25:K25)","v":0},{"$f":"SUM(H26:L26)","v":0}]
[null,null,null,null,null,null,null,null,null,null,null,null,null,{"$f":"\" \"&List!$B$13","v":" Úvod"},null,{"$f":"Cen!A28","v":"Bočnice M 270mm, šedé"},{"$f":"Cen!B28","v":"378M2702SA"},{"$f":"Cen!C28","v":"R906"},{"$f":"SUM($D$19, $D$25)","v":0},{"$f":"Cen!F28","v":350.6},{"$f":"S3*T3","v":0}]
[null,null,null,null,null,null,null,null,{"$f":"List!$B$72&\":\"","v":"bočnice:"},null,"M",null,null,{"$f":"\" \"&List!$B$4","v":" Výběr zásuvek a výsuvů"},null,{"$f":"Cen!A32","v":"Bočnice M 300mm, šedé"},{"$f":"Cen!B32","v":"378M3002SA"},{"$f":"Cen!C32","v":"R906"},{"$f":"SUM($E$19, $E$25)","v":0},{"$f":"Cen!F32","v":350.6},{"$f":"S4*T4","v":0}]
[null,null,null,null,null,null,null,null,{"$f":"List!$B$27&\":\"","v":"barva:"},null,{"$f":"Form!$O$2","v":"šedá"},null,null,null,null,{"$f":"Cen!A36","v":"Bočnice M 350mm, šedé"},{"$f":"Cen!B36","v":"378M3502SA"},{"$f":"Cen!C36","v":"R906"},{"$f":"SUM($F$19, $F$25)","v":0},{"$f":"Cen!F36","v":350.6},0]
[null,null,null,null,null,null,null,null,null,null,null,null,null,{"$f":"List!$B$12&\":\"","v":"Pokračovat na:"},null,{"$f":"Cen!A40","v":"Bočnice M 400mm, šedé"},{"$f":"Cen!B40","v":"378M4002SA"},{"$f":"Cen!C40","v":"R906"},{"$f":"SUM($G$19, $G$25)","v":0},{"$f":"Cen!F40","v":354.3},0]
[null,null,null,null,null,null,null,null,{"$f":"List!$B$36&\":\"","v":"čelní kování:"},null,{"$f":"Form!$O$13","v":"INSERTA"},null,null,{"$f":"\" \"&List!$B$5","v":" Výběr doplňků"},null,{"$f":"Cen!A44","v":"Bočnice M 450mm, šedé"},{"$f":"Cen!B44","v":"378M4502SA"},{"$f":"Cen!C44","v":"R906"},{"$f":"SUM($H$19:$H$20, $H$25:$H$26)","v":0},{"$f":"Cen!F44","v":358.1},0]
[null,null,null,null,null,null,null,null,null,null,null,null,null,{"$f":"\" \"&List!$B$6","v":" Výběr SERVO-DRIVE"},null,{"$f":"Cen!A48","v":"Bočnice M 500mm, šedé"},{"$f":"Cen!B48","v":"378M5002SA"},{"$f":"Cen!C48","v":"R906"},{"$f":"SUM($I$19:$I$20, $I$25:$I$26)","v":0},{"$f":"Cen!F48","v":397.4},0]
[null,null,null,null,null,null,null,null,null,null,null,null,null,{"$f":"\" \"&List!$B$7","v":" Výběr ORGA-LINE"},null,{"$f":"Cen!A52","v":"Bočnice M 550mm, šedé"},{"$f":"Cen!B52","v":"378M5502SA"},{"$f":"Cen!C52","v":"R906"},{"$f":"SUM($J$19:$J$20, $J$25:$J$26)","v":0},{"$f":"Cen!F52","v":399.2},0]
[null,null,null,null,null,null,null,null,null,null,null,null,null,{"$f":"\" \"&List!$B$18","v":" Souhrn"},null,{"$f":"Cen!A56","v":"Bočnice M 600mm, šedé"},{"$f":"Cen!B56","v":"378M6002SA"},{"$f":"Cen!C56","v":"R906"},{"$f":"SUM($K$19:$K$20, $K$25:$K$26)","v":0},{"$f":"Cen!F56","v":508.3},0]
[null,null,null,null,null,null,null,null,null,null,null,null,null,null,null,{"$f":"Cen!A60","v":"Bočnice M 650mm, šedé"},{"$f":"Cen!B60","v":"378M6502SA"},{"$f":"Cen!C60","v":"R906"},{"$f":"SUM($L$20, $L$26)","v":0},{"$f":"Cen!F60","v":536.29999999999995},0]
[]
[null,null,null,null,null,null,null,null,null,null,null,null,null,null,null,{"$f":"Cen!A94","v":"Korpusové lišty 270mm, BLUMOTION, 30kg"},{"$f":"Cen!B94","v":"578.2701B"},{"$f":"Cen!C94","v":"ZN"},{"$f":"$D$19","v":0},{"$f":"Cen!F94","v":459.2},{"$f":"S13*T13","v":0}]
[null,null,null,null,null,null,null,null,null,null,null,null,null,null,null,{"$f":"Cen!A95","v":"Korpusové lišty 300mm, BLUMOTION, 30kg"},{"$f":"Cen!B95","v":"578.3001B"},{"$f":"Cen!C95","v":"ZN"},{"$f":"$E$19","v":0},{"$f":"Cen!F95","v":459.2},{"$f":"S14*T14","v":0}]
[null,null,null,null,null,null,null,null,null,null,null,null,null,null,null,{"$f":"Cen!A96","v":"Korpusové lišty 350mm, BLUMOTION, 30kg"},{"$f":"Cen!B96","v":"578.3501B"},{"$f":"Cen!C96","v":"ZN"},{"$f":"$F$19","v":0},{"$f":"Cen!F96","v":459.2},0]
[null,null,null,null,null,null,null,null,null,null,null,null,null,null,null,{"$f":"Cen!A97","v":"Korpusové lišty 400mm, BLUMOTION, 30kg"},{"$f":"Cen!B97","v":"578.4001B"},{"$f":"Cen!C97","v":"ZN"},{"$f":"$G$19","v":0},{"$f":"Cen!F97","v":462.6},0]
[null,null,null,null,null,null,null,null,null,null,null,null,null,null,null,{"$f":"Cen!A98","v":"Korpusové lišty 450mm, BLUMOTION, 30kg"},{"$f":"Cen!B98","v":"578.4501B"},{"$f":"Cen!C98","v":"ZN"},{"$f":"$H$19","v":0},{"$f":"Cen!F98","v":466},0]
[null,null,{"$f":"List!$B$45&\":\"","v":"Jmenovitá délka:"},"270 mm","300 mm","350 mm","400 mm","450 mm","500 mm","550 mm","600 mm","650 mm",null,null,null,{"$f":"Cen!A99","v":"Korpusové lišty 450mm, BLUMOTION, 65kg"},{"$f":"Cen!B99","v":"576.4501B"},{"$f":"Cen!C99","v":"ZN"},{"$f":"$H$20","v":0},{"$f":"Cen!F99","v":560.79999999999995},0]
[null,"AM 300B","30 kg",null,null,null,null,null,null,null,null,null,null,null,null,{"$f":"Cen!A100","v":"Korpusové lišty 500mm, BLUMOTION, 30kg"},{"$f":"Cen!B100","v":"578.5001B"},{"$f":"Cen!C100","v":"ZN"},{"$f":"$I$19","v":0},{"$f":"Cen!F100","v":469.5},0]
[null,"AM 650B","65 kg",null,null,null,null,null,null,null,null,null,null,null,null,{"$f":"Cen!A101","v":"Korpusové lišty 500mm, BLUMOTION, 65kg"},{"$f":"Cen!B101","v":"576.5001B"},{"$f":"Cen!C101","v":"ZN"},{"$f":"$I$20","v":0},{"$f":"Cen!F101","v":620.4},0]
[null,null,null,null,null,null,null,null,null,null,null,null,null,null,null,{"$f":"Cen!A102","v":"Korpusové lišty 550mm, BLUMOTION, 30kg"},{"$f":"Cen!B102","v":"578.5501B"},{"$f":"Cen!C102","v":"ZN"},{"$f":"$J$19","v":0},{"$f":"Cen!F102","v":493.5},0]
[null,null,null,null,null,null,null,null,null,null,null,null,null,null,null,{"$f":"Cen!A103","v":"Korpusové lišty 550mm, BLUMOTION, 65kg"},{"$f":"Cen!B103","v":"576.5501B"},{"$f":"Cen!C103","v":"ZN"},{"$f":"$J$20","v":0},{"$f":"Cen!F103","v":644.29999999999995},0]
[null,"TIP-ON BLUMOTION",null,null,null,null,null,null,null,null,null,null,null,null,null,{"$f":"Cen!A104","v":"Korpusové lišty 600mm, BLUMOTION, 30kg"},{"$f":"Cen!B104","v":"578.6001B"},{"$f":"Cen!C104","v":"ZN"},{"$f":"$K$19","v":0},{"$f":"Cen!F104","v":523.9},0]
[null,null,{"$f":"List!$B$45&\":\"","v":"Jmenovitá délka:"},"270 mm","300 mm","350 mm","400 mm","450 mm","500 mm","550 mm","600 mm","650 mm",null,null,null,{"$f":"Cen!A105","v":"Korpusové lišty 600mm, BLUMOTION, 65kg"},{"$f":"Cen!B105","v":"576.6001B"},{"$f":"Cen!C105","v":"ZN"},{"$f":"$K$20","v":0},{"$f":"Cen!F105","v":661.1},0]
[null,"AM 300M","30 kg",null,null,null,null,null,null,null,null,null,null,null,null,{"$f":"Cen!A106","v":"Korpusové lišty 650mm, BLUMOTION, 65kg"},{"$f":"Cen!B106","v":"576.6501B"},{"$f":"Cen!C106","v":"ZN"},{"$f":"$L$20","v":0},{"$f":"Cen!F106","v":751.2},0]
[null,"AM 650M","65 kg",null,null,null,null,null,null,null,null,null,null,null,null,{"$f":"Cen!A109","v":"Korp. lišty TIP-ON BLUMOTION, 270mm, 30 kg"},{"$f":"Cen!B109","v":"578.2701M"},{"$f":"Cen!C109","v":"ZN"},{"$f":"$D$25","v":0},{"$f":"Cen!F109","v":417.4},0]
[null,null,null,null,null,null,null,null,null,null,null,null,null,null,null,{"$f":"Cen!A110","v":"Korp. lišty TIP-ON BLUMOTION, 300mm, 30 kg"},{"$f":"Cen!B110","v":"578.3001M"},{"$f":"Cen!C110","v":"ZN"},{"$f":"$E$25","v":0},{"$f":"Cen!F110","v":417.4},0]
[null,null,null,{"$f":"List!$B$268","v":"Sada jednotek TIP-ON BLUMOTION"},null,null,null,null,null,null,null,null,null,{"$f":"List!$B$259","v":"Výběr sady jednotek"},null,{"$f":"Cen!A111","v":"Korp. lišty TIP-ON BLUMOTION, 350mm, 30 kg"},{"$f":"Cen!B111","v":"578.3501M"},{"$f":"Cen!C111","v":"ZN"},{"$f":"$F$25","v":0},{"$f":"Cen!F111","v":417.4},0]
[null,null,null,"S0","S1","L1","L3","L5",null,null,null,null,null,null,null,{"$f":"Cen!A112","v":"Korp. lišty TIP-ON BLUMOTION, 400mm, 30 kg"},{"$f":"Cen!B112","v":"578.4001M"},{"$f":"Cen!C112","v":"ZN"},{"$f":"$G$25","v":0},{"$f":"Cen!F112","v":420.5},0]
[null,null,null,null,null,null,null,null,{"$f":"IF(SUM($F$25:$K$25,$H$26:$L$26)=SUM($F$30:$H$30),\" \",$P$82)","v":" "},null,null,null,null,null,null,{"$f":"Cen!A113","v":"Korp. lišty TIP-ON BLUMOTION, 450mm, 30 kg"},{"$f":"Cen!B113","v":"578.4501M"},{"$f":"Cen!C113","v":"ZN"},{"$f":"$H$25","v":0},{"$f":"Cen!F113","v":423.7},{"$f":"S30*T30","v":0}]
[null,null,{"$f":"IF(AND(SUM($D$25,$E$25)>0,SUM($D$30,$E$30)=0),$P$81, IF(AND(SUM($D$25,$E$25)=0,SUM($D$30,$E$30)>0),$P$80, \" \"))&IF(SUM($D$25,$E$25)<>SUM($D$30,$E$30),\" \"&$P$83,\" \")","v":"  "},null,null,null,null,null,null,null,null,null,null,null,null,{"$f":"Cen!A114","v":"Korp. lišty TIP-ON BLUMOTION, 450mm, 65 kg"},{"$f":"Cen!B114","v":"578.4501M"},{"$f":"Cen!C114","v":"ZN"},{"$f":"$H$26","v":0},{"$f":"Cen!F114","v":560.79999999999995},0]
[null,null,null,null,null,null,null,null,null,null,null,null,null,null,null,{"$f":"Cen!A115","v":"Korp. lišty TIP-ON BLUMOTION, 500mm, 30 kg"},{"$f":"Cen!B115","v":"578.5001M"},{"$f":"Cen!C115","v":"ZN"},{"$f":"$I$25","v":0},{"$f":"Cen!F115","v":426.8},0]
[null,null,null,{"$f":"\"     \"&List!$B$270","v":"     Synchronizace je přidána automaticky. "},null,null,null,null,null,null,null,null,null,null,null,{"$f":"Cen!A116","v":"Korp. lišty TIP-ON BLUMOTION, 500mm, 65 kg"},{"$f":"Cen!B116","v":"576.5001M"},{"$f":"Cen!C116","v":"ZN"},{"$f":"$I$26","v":0},{"$f":"Cen!F116","v":564},0]
[null,null,null,{"$f":"\"     \"&List!$B$271","v":"     Pozor! Pro každý výsuv je započítána jedna hřídel. Počet hřídelí upravte v objednávce!"},null,null,null,null,null,null,null,null,null,null,null,{"$f":"Cen!A117","v":"Korp. lišty TIP-ON BLUMOTION, 550mm, 30 kg"},{"$f":"Cen!B117","v":"578.5501M"},{"$f":"Cen!C117","v":"ZN"},{"$f":"$J$25","v":0},{"$f":"Cen!F117","v":448.6},0]
[null,null,null,{"$f":"\"     \"&List!$B$272","v":"     Pro korpusy šířky ≥ 750 mm použijte podpěru dna a podpěru synchronizační hřídele."},null,null,null,null,null,null,null,null,null,null,null,{"$f":"Cen!A118","v":"Korp. lišty TIP-ON BLUMOTION, 550mm, 65 kg"},{"$f":"Cen!B118","v":"576.5501M"},{"$f":"Cen!C118","v":"ZN"},{"$f":"$J$26","v":0},{"$f":"Cen!F118","v":585.79999999999995},0]
[null,null,null,{"$f":"\"     \"&List!$B$273","v":"     Podpěry přidejte v sekci \"Výběr doplňků\""},null,null,null,null,null,null,null,null,null,null,null,{"$f":"Cen!A119","v":"Korp. lišty TIP-ON BLUMOTION, 600mm, 30 kg"},{"$f":"Cen!B119","v":"578.6001M"},{"$f":"Cen!C119","v":"ZN"},{"$f":"$K$25","v":0},{"$f":"Cen!F119","v":542},0]
[null,null,null,null,null,null,null,null,null,null,null,null,null,null,null,{"$f":"Cen!A120","v":"Korp. lišty TIP-ON BLUMOTION, 600mm, 65 kg"},{"$f":"Cen!B120","v":"576.6001M"},{"$f":"Cen!C120","v":"ZN"},{"$f":"$K$26","v":0},{"$f":"Cen!F120","v":661.1},0]
[null,null,null,null,null,null,null,null,null,null,null,null,null,null,null,{"$f":"Cen!A121","v":"Korp. lišty TIP-ON BLUMOTION, 650mm, 65 kg"},{"$f":"Cen!B121","v":"576.6501M"},{"$f":"Cen!C121","v":"ZN"},{"$f":"$L$26","v":0},{"$f":"Cen!F121","v":682.9},0]
[]
[null,null,null,null,null,null,null,null,null,null,null,null,null,null,null,{"$f":"Cen!A124","v":"Sada jednotek TIP-ON BLUMOTION, S0"},{"$f":"Cen!B124","v":"T60B3030"},{"$f":"Cen!C124","v":"W"},{"$f":"$D$30","v":0},{"$f":"Cen!F124","v":404.5},{"$f":"S40*T40","v":0}]
[null,null,null,null,null,null,null,null,null,null,null,null,null,null,null,{"$f":"Cen!A125","v":"Sada jednotek TIP-ON BLUMOTION, S1"},{"$f":"Cen!B125","v":"T60B3130"},{"$f":"Cen!C125","v":"R735"},{"$f":"$E$30","v":0},{"$f":"Cen!F125","v":404.5},0]
[null,null,null,null,null,null,null,null,null,null,null,null,null,null,null,{"$f":"Cen!A126","v":"Sada jednotek TIP-ON BLUMOTION, L1"},{"$f":"Cen!B126","v":"T60B3330"},{"$f":"Cen!C126","v":"R735"},{"$f":"$F$30","v":0},{"$f":"Cen!F126","v":404.5},0]
[null,null,null,null,null,null,null,null,null,null,null,null,null,null,null,{"$f":"Cen!A127","v":"Sada jednotek TIP-ON BLUMOTION, L3"},{"$f":"Cen!B127","v":"T60B3530"},{"$f":"Cen!C127","v":"R737"},{"$f":"$G$30","v":0},{"$f":"Cen!F127","v":404.5},0]
[null,null,null,null,null,null,null,null,null,null,null,null,null,null,null,{"$f":"Cen!A128","v":"Sada jednotek TIP-ON BLUMOTION, L5"},{"$f":"Cen!B128","v":"T60B3560"},{"$f":"Cen!C128","v":"S"},{"$f":"$H$30","v":0},{"$f":"Cen!F128","v":404.5},0]
[]
[null,null,null,null,null,null,null,null,null,null,null,null,null,null,null,{"$f":"Cen!A130","v":"Synchronizační adaptér"},{"$f":"Cen!B130","v":"T60.000D"},{"$f":"Cen!C130","v":"R735"},{"$f":"SUM($S$40:$S$44)*2","v":0},{"$f":"Cen!F130","v":5.8},0]
[null,null,null,null,null,null,null,null,null,null,null,null,null,null,null,{"$f":"Cen!A131","v":"Hřídel synchronizace"},{"$f":"Cen!B131","v":"T60.1125W"},{"$f":"Cen!C131","v":"GR"},{"$f":"SUM($S$40:$S$44)","v":0},{"$f":"Cen!F131","v":95.6},0]
[null,null,null,null,null,null,null,null,null,null,null,null,null,null,null,{"$f":"Cen!A132","v":"Jednodílná synchronizace"},{"$f":"Cen!B132","v":"T60.300D"},{"$f":"Cen!C132","v":"R735"},null,{"$f":"Cen!F132","v":23.2},0]
[null,null,null,null,null,null,null,null,null,null,null,null,null,null,null,{"$f":"Cen!A134","v":"Držák hřídele synchronizace"},{"$f":"Cen!B134","v":"T60B000H"},{"$f":"Cen!C134","v":"NI"},null,{"$f":"Cen!F134","v":6},0]
[null,null,null,null,null,null,null,null,null,null,null,null,null,null,null,{"$f":"Cen!A135","v":"Podpěrný úhelník pro dno"},{"$f":"Cen!B135","v":"Z96.2011"},{"$f":"Cen!C135","v":"R737"},null,{"$f":"Cen!F135","v":29.8},0]
[]
[null,{"$f":"IF(OR($K$14>0, $L$14>0), List!$B$196, \" \")","v":" "},null,null,null,null,null,null,null,null,null,null,null,null,null,{"$f":"Cen!A143","v":"Držáky zadní stěny N, šedé"},{"$f":"Cen!B143","v":"Z30N000S.04"},{"$f":"Cen!C143","v":"R906"},null,{"$f":"Cen!F143","v":36.5},{"$f":"S52*T52","v":0}]
[null,{"$f":"IF(OR($K$14>0, $L$14>0), List!$B$200, \" \")","v":" "},null,null,null,null,null,null,null,null,null,null,null,null,null,{"$f":"Cen!A147","v":"Držáky zadní stěny M, šedé"},{"$f":"Cen!B147","v":"Z30M000S.04"},{"$f":"Cen!C147","v":"R906"},{"$f":"SUM($S$3:$S$11)","v":0},{"$f":"Cen!F147","v":40.200000000000003},0]
[null,null,null,null,null,null,null,null,null,null,null,null,null,null,null,{"$f":"Cen!A151","v":"Držáky zadní stěny K, šedé"},{"$f":"Cen!B151","v":"Z30K000S"},{"$f":"Cen!C151","v":"R906"},null,{"$f":"Cen!F151","v":67.400000000000006},0]
[null,null,null,null,null,null,null,null,null,null,null,null,null,null,null,{"$f":"Cen!A154","v":"Držáky zadní stěny B, šedé"},{"$f":"Cen!B154","v":"Z30B000S.04"},{"$f":"Cen!C154","v":"R906"},null,{"$f":"Cen!F154","v":48.8},0]
[null,null,null,null,null,null,null,null,null,null,null,null,null,null,null,{"$f":"Cen!A158","v":"Držáky zadní stěny C, šedé"},{"$f":"Cen!B158","v":"Z30C000S"},{"$f":"Cen!C158","v":"R906"},null,{"$f":"Cen!F158","v":71},0]
[null,null,null,null,null,null,null,null,null,null,null,null,null,null,null,{"$f":"Cen!A162","v":"Držáky zadní stěny D, šedé"},{"$f":"Cen!B162","v":"Z30D000S"},{"$f":"Cen!C162","v":"R906"},null,{"$f":"Cen!F162","v":78.099999999999994},0]
[null,null,null,null,null,null,null,null,null,null,null,null,null,null,null,null,null,null,null,null,0]
[null,null,null,null,null,null,null,null,null,null,null,null,null,null,null,{"$f":"Cen!A173","v":"Čelní kování INSERTA"},{"$f":"Cen!B173","v":"ZSF.39A2"},{"$f":"Cen!C173","v":"BL"},{"$f":"SUM($S$3:$S$11)*2","v":0},{"$f":"Cen!F173","v":22.4},0]
[null,null,null,null,null,null,null,null,null,null,null,null,null,null,null,null,null,null,null,null,0]
[null,null,null,null,null,null,null,null,null,null,null,null,null,null,null,null,null,null,null,null,0]
[]
[]
[]
[]
[]
[]
[]
[]
[null,null,null,null,null,null,null,null,null,null,null,null,null,null,null,null,null,null,null,null,{"$f":"SUM(U3:U69)","v":0}]
[]
[]
[]
[]
[]
[]
[]
[]
[]
[null,null,null,null,null,null,null,null,null,null,null,null,null,null,null,{"$f":"List!$B$276&\"!\"","v":"S0 a S1 pouze pro jmenovitou délku 270 a 300 mm!"}]
[null,null,null,null,null,null,null,null,null,null,null,null,null,null,null,{"$f":"List!$B$277&\"!\"","v":"Pro výsuvy délky 270 a 300 mm vyberte jednotky S0 nebo S1!"}]
[null,null,null,null,null,null,null,null,null,null,null,null,null,null,null,{"$f":"List!$B$278&\"!\"","v":"Počet jednotek L neodpovídá počtu korpusových lišt!"}]
[null,null,null,null,null,null,null,null,null,null,null,null,null,null,null,{"$f":"List!$B$279&\"!\"","v":"Počet jednotek S neodpovídá počtu korpusových lišt!"}]
[]
[]
[]
[]
[]
[]
[]
[]
[]
[]
[]
[]
[]
[]
[]
[]
[]
[null,{"$f":"List!B25","v":"Informace k objednávání"}]
[]
[]
[null,null,null,{"$f":"List!B268&\" \"&List!B283","v":"Sada jednotek TIP-ON BLUMOTION a sada unašečů TIP-ON BLUMOTION"}]
[null,null,null,{"$f":"List!$B$280&\":\"","v":"Využití pro:"},null,null,null,null,null,{"$f":"List!B281&\"*\"","v":"Doporučené hodnoty hmotnosti*"}]
[null,null,null,{"$f":"List!B45&\" (NL)\"","v":"Jmenovitá délka (NL)"},null,null,{"$f":"List!B275","v":"Jednotka"},{"$f":"List!B88","v":"Číslo artiklu"}]
[null,null,null,"270 - 300 mm",null,null,"S0","T60L7040",null,"≤ 10 kg"]
[null,null,null,null,null,null,"S1","T60L7140",null,"10-20 kg"]
[null,null,null,"350 - 650 mm",null,null,"L1","T60L7340",null,"≤ 20 kg"]
[null,null,null,null,null,null,"L3","T60L7540",null,"15 - 40 kg"]
[null,null,null,null,null,null,"L5","T60L7570",null,null,"25 - 70 kg"]
[null,null,null,null,null,null,null,{"$f":"\"* \"&List!B282","v":"* Celková hmotnost výsuvu (hmotnost výsuvu včetně náplně)"}]
[]
[null,null,null,null,null,null,null,null,null,null,null,null,null,{"$f":"List!$B$99","v":"Zpět"}]

{"sheet":"AK300","index":4,"n_rows":114,"n_cols":22,"rows_kept":114,"cut":false,"hidden":false,"merged":[[109,9,109,10],[110,7,110,8],[110,10,110,11],[99,0,140,0],[100,1,101,11],[103,1,103,2],[103,3,103,11],[104,1,112,2],[104,3,104,8],[104,9,105,11],[105,3,105,5],[105,7,105,8],[106,3,107,5],[111,7,112,11],[106,7,106,8],[107,7,107,8],[108,3,110,5],[108,7,108,8],[109,7,109,8]]}
[]
[null,null,null,null,null,null,null,null,null,null,null,{"$f":"List!$B$46&\" K\"","v":"Zásuvka K"},null,{"$f":"List!$B$11&\":\"","v":"Zpět na:"},null,"Počty zásuvek →",{"$f":"SUM(D19:K19)","v":0},{"$f":"SUM(H20:L20)","v":0},{"$f":"SUM(D25:K25)","v":0},{"$f":"SUM(H26:L26)","v":0},{"$f":"Form!N2","v":1},"←barva"]
[null,null,null,null,null,null,null,null,null,null,null,null,null,{"$f":"\" \"&List!$B$13","v":" Úvod"},null,{"$f":"Cen!A65","v":"Bočnice K 270mm, šedé"},{"$f":"Cen!B65","v":"378K2702SA"},{"$f":"Cen!C65","v":"R906"},{"$f":"IF($U$2=4, 0, SUM($D$19, $D$25))","v":0},{"$f":"Cen!F65","v":599.20000000000005},{"$f":"S3*T3","v":0}]
[null,null,null,null,null,null,null,null,{"$f":"List!$B$72&\":\"","v":"bočnice:"},null,"K",null,null,{"$f":"\" \"&List!$B$4","v":" Výběr zásuvek a výsuvů"},null,{"$f":"Cen!A68","v":"Bočnice K 300mm, šedé"},{"$f":"Cen!B68","v":"378K3002SA"},{"$f":"Cen!C68","v":"R906"},{"$f":"IF($U$2=4, 0, SUM($E$19, $E$25))","v":0},{"$f":"Cen!F68","v":599.20000000000005},0]
[null,null,null,null,null,null,null,null,{"$f":"List!$B$27&\":\"","v":"barva:"},null,{"$f":"Form!$O$2","v":"šedá"},null,null,null,null,{"$f":"Cen!A71","v":"Bočnice K 350mm, šedé"},{"$f":"Cen!B71","v":"378K3502SA"},{"$f":"Cen!C71","v":"R906"},{"$f":"IF($U$2=4, 0, SUM($F$19, $F$25))","v":0},{"$f":"Cen!F71","v":599.20000000000005},0]
[null,null,null,null,null,null,null,null,null,null,null,null,null,{"$f":"List!$B$12&\":\"","v":"Pokračovat na:"},null,{"$f":"Cen!A74","v":"Bočnice K 400mm, šedé"},{"$f":"Cen!B74","v":"378K4002SA"},{"$f":"Cen!C74","v":"R906"},{"$f":"IF($U$2=4, 0, SUM($G$19, $G$25))","v":0},{"$f":"Cen!F74","v":602.9},0]
[null,null,null,null,null,null,null,null,{"$f":"List!$B$36&\":\"","v":"čelní kování:"},null,{"$f":"Form!$O$13","v":"INSERTA"},null,null,{"$f":"\" \"&List!$B$5","v":" Výběr doplňků"},null,{"$f":"Cen!A77","v":"Bočnice K 450mm, šedé"},{"$f":"Cen!B77","v":"378K4502SA"},{"$f":"Cen!C77","v":"R906"},{"$f":"IF($U$2=4, 0, SUM($H$19:$H$20, $H$25:$H$26))","v":0},{"$f":"Cen!F77","v":606.6},0]
[null,null,null,null,null,null,null,null,null,null,null,null,null,{"$f":"\" \"&List!$B$6","v":" Výběr SERVO-DRIVE"},null,{"$f":"Cen!A80","v":"Bočnice K 500mm, šedé"},{"$f":"Cen!B80","v":"378K5002SA"},{"$f":"Cen!C80","v":"R906"},{"$f":"IF($U$2=4, 0, SUM($I$19:$I$20, $I$25:$I$26))","v":0},{"$f":"Cen!F80","v":610.4},0]
[null,null,null,null,null,null,null,null,null,null,null,null,null,{"$f":"\" \"&List!$B$7","v":" Výběr ORGA-LINE"},null,{"$f":"Cen!A83","v":"Bočnice K 550mm, šedé"},{"$f":"Cen!B83","v":"378K5502SA"},{"$f":"Cen!C83","v":"R906"},{"$f":"IF($U$2=4, 0, SUM($J$19:$J$20, $J$25:$J$26))","v":0},{"$f":"Cen!F83","v":647.79999999999995},0]
[null,null,null,null,null,null,null,null,null,null,null,null,null,{"$f":"\" \"&List!$B$18","v":" Souhrn"},null,{"$f":"Cen!A86","v":"Bočnice K 600mm, šedé"},{"$f":"Cen!B86","v":"378K6002SA"},{"$f":"Cen!C86","v":"R906"},{"$f":"IF($U$2=4, 0, SUM($K$19:$K$20, $K$25:$K$26))","v":0},{"$f":"Cen!F86","v":756.8},0]
[null,null,null,null,null,null,null,null,null,null,null,null,null,null,null,{"$f":"Cen!A89","v":"Bočnice K 650mm, šedé"},{"$f":"Cen!B89","v":"378K6502SA"},{"$f":"Cen!C89","v":"R906"},{"$f":"IF($U$2=4, 0, SUM($L$20, $L$26))","v":0},{"$f":"Cen!F89","v":784.9},0]
[]
[null,null,null,null,null,null,null,null,null,null,null,null,null,null,null,{"$f":"Cen!A94","v":"Korpusové lišty 270mm, BLUMOTION, 30kg"},{"$f":"Cen!B94","v":"578.2701B"},{"$f":"Cen!C94","v":"ZN"},{"$f":"IF($U$2=4, 0, $D$19)","v":0},{"$f":"Cen!F94","v":459.2},0]
[null,null,null,null,null,{"$f":"IF($U$2=4, P85, \" \")","v":" "},null,null,null,null,null,null,null,null,null,{"$f":"Cen!A95","v":"Korpusové lišty 300mm, BLUMOTION, 30kg"},{"$f":"Cen!B95","v":"578.3001B"},{"$f":"Cen!C95","v":"ZN"},{"$f":"IF($U$2=4, 0, $E$19)","v":0},{"$f":"Cen!F95","v":459.2},0]
[null,null,null,null,null,{"$f":"IF($U$2=4, P86, \" \")","v":" "},null,null,null,null,null,null,null,null,null,{"$f":"Cen!A96","v":"Korpusové lišty 350mm, BLUMOTION, 30kg"},{"$f":"Cen!B96","v":"578.3501B"},{"$f":"Cen!C96","v":"ZN"},{"$f":"IF($U$2=4, 0, $F$19)","v":0},{"$f":"Cen!F96","v":459.2},0]
[null,null,null,null,null,null,null,null,null,null,null,null,null,null,null,{"$f":"Cen!A97","v":"Korpusové lišty 400mm, BLUMOTION, 30kg"},{"$f":"Cen!B97","v":"578.4001B"},{"$f":"Cen!C97","v":"ZN"},{"$f":"IF($U$2=4, 0, $G$19)","v":0},{"$f":"Cen!F97","v":462.6},0]
[null,"BLUMOTION",null,null,null,null,null,null,null,null,null,null,null,null,null,{"$f":"Cen!A98","v":"Korpusové lišty 450mm, BLUMOTION, 30kg"},{"$f":"Cen!B98","v":"578.4501B"},{"$f":"Cen!C98","v":"ZN"},{"$f":"IF($U$2=4, 0, $H$19)","v":0},{"$f":"Cen!F98","v":466},0]
[null,null,{"$f":"List!$B$45&\":\"","v":"Jmenovitá délka:"},"270 mm","300 mm","350 mm","400 mm","450 mm","500 mm","550 mm","600 mm","650 mm",null,null,null,{"$f":"Cen!A99","v":"Korpusové lišty 450mm, BLUMOTION, 65kg"},{"$f":"Cen!B99","v":"576.4501B"},{"$f":"Cen!C99","v":"ZN"},{"$f":"IF($U$2=4, 0, $H$20)","v":0},{"$f":"Cen!F99","v":560.79999999999995},0]
[null,"AK 300B","30 kg",null,null,null,null,null,null,null,null,null,null,null,null,{"$f":"Cen!A100","v":"Korpusové lišty 500mm, BLUMOTION, 30kg"},{"$f":"Cen!B100","v":"578.5001B"},{"$f":"Cen!C100","v":"ZN"},{"$f":"IF($U$2=4, 0, $I$19)","v":0},{"$f":"Cen!F100","v":469.5},0]
[null,"AK 650B","65 kg",null,null,null,null,null,null,null,null,null,null,null,null,{"$f":"Cen!A101","v":"Korpusové lišty 500mm, BLUMOTION, 65kg"},{"$f":"Cen!B101","v":"576.5001B"},{"$f":"Cen!C101","v":"ZN"},{"$f":"IF($U$2=4, 0, $I$20)","v":0},{"$f":"Cen!F101","v":620.4},0]
[null,null,null,null,null,null,null,null,null,null,null,null,null,null,null,{"$f":"Cen!A102","v":"Korpusové lišty 550mm, BLUMOTION, 30kg"},{"$f":"Cen!B102","v":"578.5501B"},{"$f":"Cen!C102","v":"ZN"},{"$f":"IF($U$2=4, 0, $J$19)","v":0},{"$f":"Cen!F102","v":493.5},0]
[null,null,null,null,null,null,null,null,null,null,null,null,null,null,null,{"$f":"Cen!A103","v":"Korpusové lišty 550mm, BLUMOTION, 65kg"},{"$f":"Cen!B103","v":"576.5501B"},{"$f":"Cen!C103","v":"ZN"},{"$f":"IF($U$2=4, 0, $J$20)","v":0},{"$f":"Cen!F103","v":644.29999999999995},0]
[null,"TIP-ON BLUMOTION",null,null,null,null,null,null,null,null,null,null,null,null,null,{"$f":"Cen!A104","v":"Korpusové lišty 600mm, BLUMOTION, 30kg"},{"$f":"Cen!B104","v":"578.6001B"},{"$f":"Cen!C104","v":"ZN"},{"$f":"IF($U$2=4, 0, $K$19)","v":0},{"$f":"Cen!F104","v":523.9},0]
[null,null,{"$f":"List!$B$45&\":\"","v":"Jmenovitá délka:"},"270 mm","300 mm","350 mm","400 mm","450 mm","500 mm","550 mm","600 mm","650 mm",null,null,null,{"$f":"Cen!A105","v":"Korpusové lišty 600mm, BLUMOTION, 65kg"},{"$f":"Cen!B105","v":"576.6001B"},{"$f":"Cen!C105","v":"ZN"},{"$f":"IF($U$2=4, 0, $K$20)","v":0},{"$f":"Cen!F105","v":661.1},0]
[null,"AK 300M","30 kg",null,null,null,null,null,null,null,null,null,null,null,null,{"$f":"Cen!A106","v":"Korpusové lišty 650mm, BLUMOTION, 65kg"},{"$f":"Cen!B106","v":"576.6501B"},{"$f":"Cen!C106","v":"ZN"},{"$f":"IF($U$2=4, 0, $L$20)","v":0},{"$f":"Cen!F106","v":751.2},0]
[null,"AK 650M","65 kg",null,null,null,null,null,null,null,null,null,null,null,null,{"$f":"Cen!A109","v":"Korp. lišty TIP-ON BLUMOTION, 270mm, 30 kg"},{"$f":"Cen!B109","v":"578.2701M"},{"$f":"Cen!C109","v":"ZN"},{"$f":"IF($U$2=4, 0, $D$25)","v":0},{"$f":"Cen!F109","v":417.4},0]
[null,null,null,null,null,null,null,null,null,null,null,null,null,null,null,{"$f":"Cen!A110","v":"Korp. lišty TIP-ON BLUMOTION, 300mm, 30 kg"},{"$f":"Cen!B110","v":"578.3001M"},{"$f":"Cen!C110","v":"ZN"},{"$f":"IF($U$2=4, 0, $E$25)","v":0},{"$f":"Cen!F110","v":417.4},0]
[null,null,null,{"$f":"List!$B$268","v":"Sada jednotek TIP-ON BLUMOTION"},null,null,null,null,null,null,null,null,null,{"$f":"List!$B$259","v":"Výběr sady jednotek"},null,{"$f":"Cen!A111","v":"Korp. lišty TIP-ON BLUMOTION, 350mm, 30 kg"},{"$f":"Cen!B111","v":"578.3501M"},{"$f":"Cen!C111","v":"ZN"},{"$f":"IF($U$2=4, 0, $F$25)","v":0},{"$f":"Cen!F111","v":417.4},0]
[null,null,null,"S0","S1","L1","L3","L5",null,null,null,null,null,null,null,{"$f":"Cen!A112","v":"Korp. lišty TIP-ON BLUMOTION, 400mm, 30 kg"},{"$f":"Cen!B112","v":"578.4001M"},{"$f":"Cen!C112","v":"ZN"},{"$f":"IF($U$2=4, 0, $G$25)","v":0},{"$f":"Cen!F112","v":420.5},0]
[null,null,null,null,null,null,null,null,{"$f":"IF(SUM($F$25:$K$25,$H$26:$L$26)=SUM($F$30:$H$30),\" \",$P$82)","v":" "},null,null,null,null,null,null,{"$f":"Cen!A113","v":"Korp. lišty TIP-ON BLUMOTION, 450mm, 30 kg"},{"$f":"Cen!B113","v":"578.4501M"},{"$f":"Cen!C113","v":"ZN"},{"$f":"IF($U$2=4, 0, $H$25)","v":0},{"$f":"Cen!F113","v":423.7},0]
[null,null,{"$f":"IF(AND(SUM($D$25,$E$25)>0,SUM($D$30,$E$30)=0),$P$81, IF(AND(SUM($D$25,$E$25)=0,SUM($D$30,$E$30)>0),$P$80, \" \"))&IF(SUM($D$25,$E$25)<>SUM($D$30,$E$30),\" \"&$P$83,\" \")","v":"  "},null,null,null,null,null,null,null,null,null,null,null,null,{"$f":"Cen!A114","v":"Korp. lišty TIP-ON BLUMOTION, 450mm, 65 kg"},{"$f":"Cen!B114","v":"578.4501M"},{"$f":"Cen!C114","v":"ZN"},{"$f":"IF($U$2=4, 0, $H$26)","v":0},{"$f":"Cen!F114","v":560.79999999999995},0]
[null,null,null,null,null,null,null,null,null,null,null,null,null,null,null,{"$f":"Cen!A115","v":"Korp. lišty TIP-ON BLUMOTION, 500mm, 30 kg"},{"$f":"Cen!B115","v":"578.5001M"},{"$f":"Cen!C115","v":"ZN"},{"$f":"IF($U$2=4, 0, $I$25)","v":0},{"$f":"Cen!F115","v":426.8},0]
[null,null,null,{"$f":"\"     \"&List!$B$270","v":"     Synchronizace je přidána automaticky. "},null,null,null,null,null,null,null,null,null,null,null,{"$f":"Cen!A116","v":"Korp. lišty TIP-ON BLUMOTION, 500mm, 65 kg"},{"$f":"Cen!B116","v":"576.5001M"},{"$f":"Cen!C116","v":"ZN"},{"$f":"IF($U$2=4, 0, $I$26)","v":0},{"$f":"Cen!F116","v":564},0]
[null,null,null,{"$f":"\"     \"&List!$B$271","v":"     Pozor! Pro každý výsuv je započítána jedna hřídel. Počet hřídelí upravte v objednávce!"},null,null,null,null,null,null,null,null,null,null,null,{"$f":"Cen!A117","v":"Korp. lišty TIP-ON BLUMOTION, 550mm, 30 kg"},{"$f":"Cen!B117","v":"578.5501M"},{"$f":"Cen!C117","v":"ZN"},{"$f":"IF($U$2=4, 0, $J$25)","v":0},{"$f":"Cen!F117","v":448.6},0]
[null,null,null,{"$f":"\"     \"&List!$B$272","v":"     Pro korpusy šířky ≥ 750 mm použijte podpěru dna a podpěru synchronizační hřídele."},null,null,null,null,null,null,null,null,null,null,null,{"$f":"Cen!A118","v":"Korp. lišty TIP-ON BLUMOTION, 550mm, 65 kg"},{"$f":"Cen!B118","v":"576.5501M"},{"$f":"Cen!C118","v":"ZN"},{"$f":"IF($U$2=4, 0, $J$26)","v":0},{"$f":"Cen!F118","v":585.79999999999995},0]
[null,null,null,{"$f":"\"     \"&List!$B$273","v":"     Podpěry přidejte v sekci \"Výběr doplňků\""},null,null,null,null,null,null,null,null,null,null,null,{"$f":"Cen!A119","v":"Korp. lišty TIP-ON BLUMOTION, 600mm, 30 kg"},{"$f":"Cen!B119","v":"578.6001M"},{"$f":"Cen!C119","v":"ZN"},{"$f":"IF($U$2=4, 0, $K$25)","v":0},{"$f":"Cen!F119","v":542},0]
[null,null,null,null,null,null,null,null,null,null,null,null,null,null,null,{"$f":"Cen!A120","v":"Korp. lišty TIP-ON BLUMOTION, 600mm, 65 kg"},{"$f":"Cen!B120","v":"576.6001M"},{"$f":"Cen!C120","v":"ZN"},{"$f":"IF($U$2=4, 0, $K$26)","v":0},{"$f":"Cen!F120","v":661.1},0]
[null,null,null,null,null,null,null,null,null,null,null,null,null,null,null,{"$f":"Cen!A121","v":"Korp. lišty TIP-ON BLUMOTION, 650mm, 65 kg"},{"$f":"Cen!B121","v":"576.6501M"},{"$f":"Cen!C121","v":"ZN"},{"$f":"IF($U$2=4, 0, $L$26)","v":0},{"$f":"Cen!F121","v":682.9},0]
[]
[null,null,null,null,null,null,null,null,null,null,null,null,null,null,null,{"$f":"Cen!A124","v":"Sada jednotek TIP-ON BLUMOTION, S0"},{"$f":"Cen!B124","v":"T60B3030"},{"$f":"Cen!C124","v":"W"},{"$f":"IF($U$2=4, 0, $D$30)","v":0},{"$f":"Cen!F124","v":404.5},{"$f":"S40*T40","v":0}]
[null,null,null,null,null,null,null,null,null,null,null,null,null,null,null,{"$f":"Cen!A125","v":"Sada jednotek TIP-ON BLUMOTION, S1"},{"$f":"Cen!B125","v":"T60B3130"},{"$f":"Cen!C125","v":"R735"},{"$f":"IF($U$2=4, 0, $E$30)","v":0},{"$f":"Cen!F125","v":404.5},0]
[null,null,null,null,null,null,null,null,null,null,null,null,null,null,null,{"$f":"Cen!A126","v":"Sada jednotek TIP-ON BLUMOTION, L1"},{"$f":"Cen!B126","v":"T60B3330"},{"$f":"Cen!C126","v":"R735"},{"$f":"IF($U$2=4, 0, $F$30)","v":0},{"$f":"Cen!F126","v":404.5},0]
[null,null,null,null,null,null,null,null,null,null,null,null,null,null,null,{"$f":"Cen!A127","v":"Sada jednotek TIP-ON BLUMOTION, L3"},{"$f":"Cen!B127","v":"T60B3530"},{"$f":"Cen!C127","v":"R737"},{"$f":"IF($U$2=4, 0, $G$30)","v":0},{"$f":"Cen!F127","v":404.5},0]
[null,null,null,null,null,null,null,null,null,null,null,null,null,null,null,{"$f":"Cen!A128","v":"Sada jednotek TIP-ON BLUMOTION, L5"},{"$f":"Cen!B128","v":"T60B3560"},{"$f":"Cen!C128","v":"S"},{"$f":"IF($U$2=4, 0, $H$30)","v":0},{"$f":"Cen!F128","v":404.5},0]
[]
[null,null,null,null,null,null,null,null,null,null,null,null,null,null,null,{"$f":"Cen!A130","v":"Synchronizační adaptér"},{"$f":"Cen!B130","v":"T60.000D"},{"$f":"Cen!C130","v":"R735"},{"$f":"SUM($S$40:$S$44)*2","v":0},{"$f":"Cen!F130","v":5.8},0]
[null,null,null,null,null,null,null,null,null,null,null,null,null,null,null,{"$f":"Cen!A131","v":"Hřídel synchronizace"},{"$f":"Cen!B131","v":"T60.1125W"},{"$f":"Cen!C131","v":"GR"},{"$f":"SUM($S$40:$S$44)","v":0},{"$f":"Cen!F131","v":95.6},0]
[null,null,null,null,null,null,null,null,null,null,null,null,null,null,null,{"$f":"Cen!A132","v":"Jednodílná synchronizace"},{"$f":"Cen!B132","v":"T60.300D"},{"$f":"Cen!C132","v":"R735"},null,{"$f":"Cen!F132","v":23.2},0]
[null,null,null,null,null,null,null,null,null,null,null,null,null,null,null,{"$f":"Cen!A134","v":"Držák hřídele synchronizace"},{"$f":"Cen!B134","v":"T60B000H"},{"$f":"Cen!C134","v":"NI"},null,{"$f":"Cen!F134","v":6},0]
[null,null,null,null,null,null,null,null,null,null,null,null,null,null,null,{"$f":"Cen!A135","v":"Podpěrný úhelník pro dno"},{"$f":"Cen!B135","v":"Z96.2011"},{"$f":"Cen!C135","v":"R737"},null,{"$f":"Cen!F135","v":29.8},0]
[null,{"$f":"IF(OR($K$14>0, $L$14>0), List!$B$196, \" \")","v":" "}]
[null,{"$f":"IF(OR($K$14>0, $L$14>0), List!$B$200, \" \")","v":" "},null,null,null,null,null,null,null,null,null,null,null,null,null,{"$f":"Cen!A143","v":"Držáky zadní stěny N, šedé"},{"$f":"Cen!B143","v":"Z30N000S.04"},{"$f":"Cen!C143","v":"R906"},null,{"$f":"Cen!F143","v":36.5},{"$f":"S52*T52","v":0}]
[null,null,null,null,null,null,null,null,null,null,null,null,null,null,null,{"$f":"Cen!A147","v":"Držáky zadní stěny M, šedé"},{"$f":"Cen!B147","v":"Z30M000S.04"},{"$f":"Cen!C147","v":"R906"},null,{"$f":"Cen!F147","v":40.200000000000003},0]
[null,null,null,null,null,null,null,null,null,null,null,null,null,null,null,{"$f":"Cen!A151","v":"Držáky zadní stěny K, šedé"},{"$f":"Cen!B151","v":"Z30K000S"},{"$f":"Cen!C151","v":"R906"},{"$f":"SUM($S$3:$S$11)","v":0},{"$f":"Cen!F151","v":67.400000000000006},0]
[null,null,null,null,null,null,null,null,null,null,null,null,null,null,null,{"$f":"Cen!A154","v":"Držáky zadní stěny B, šedé"},{"$f":"Cen!B154","v":"Z30B000S.04"},{"$f":"Cen!C154","v":"R906"},null,{"$f":"Cen!F154","v":48.8},0]
[null,null,null,null,null,null,null,null,null,null,null,null,null,null,null,{"$f":"Cen!A158","v":"Držáky zadní stěny C, šedé"},{"$f":"Cen!B158","v":"Z30C000S"},{"$f":"Cen!C158","v":"R906"},null,{"$f":"Cen!F158","v":71},0]
[null,null,null,null,null,null,null,null,null,null,null,null,null,null,null,{"$f":"Cen!A162","v":"Držáky zadní stěny D, šedé"},{"$f":"Cen!B162","v":"Z30D000S"},{"$f":"Cen!C162","v":"R906"},null,{"$f":"Cen!F162","v":78.099999999999994},0]
[null,null,null,null,null,null,null,null,null,null,null,null,null,null,null,null,null,null,null,null,0]
[null,null,null,null,null,null,null,null,null,null,null,null,null,null,null,{"$f":"Cen!A173","v":"Čelní kování INSERTA"},{"$f":"Cen!B173","v":"ZSF.39A2"},{"$f":"Cen!C173","v":"BL"},{"$f":"SUM($S$3:$S$11)*2","v":0},{"$f":"Cen!F173","v":22.4},0]
[null,null,null,null,null,null,null,null,null,null,null,null,null,null,null,null,null,null,null,null,0]
[null,null,null,null,null,null,null,null,null,null,null,null,null,null,null,null,null,null,null,null,0]
[]
[]
[]
[]
[]
[]
[]
[]
[null,null,null,null,null,null,null,null,null,null,null,null,null,null,null,null,null,null,null,null,{"$f":"SUM(U3:U69)","v":0}]
[]
[]
[]
[]
[]
[]
[]
[]
[]
[null,null,null,null,null,null,null,null,null,null,null,null,null,null,null,{"$f":"List!$B$276&\"!\"","v":"S0 a S1 pouze pro jmenovitou délku 270 a 300 mm!"}]
[null,null,null,null,null,null,null,null,null,null,null,null,null,null,null,{"$f":"List!$B$277&\"!\"","v":"Pro výsuvy délky 270 a 300 mm vyberte jednotky S0 nebo S1!"}]
[null,null,null,null,null,null,null,null,null,null,null,null,null,null,null,{"$f":"List!$B$278&\"!\"","v":"Počet jednotek L neodpovídá počtu korpusových lišt!"}]
[null,null,null,null,null,null,null,null,null,null,null,null,null,null,null,{"$f":"List!$B$279&\"!\"","v":"Počet jednotek S neodpovídá počtu korpusových lišt!"}]
[]
[null,null,null,null,null,null,null,null,null,null,null,null,null,null,null,{"$f":"List!$B$288&\"!\"","v":"Zásuvky K se v provedení nerez (Inox) nevyrábí!"}]
[null,null,null,null,null,null,null,null,null,null,null,null,null,null,null,{"$f":"List!$B$290&\"!\"","v":"Kování naplánované na tomto listu se neprojeví v objednávce!"}]
[]
[]
[]
[]
[]
[]
[]
[]
[]
[]
[]
[]
[]
[]
[null,{"$f":"List!B25","v":"Informace k objednávání"}]
[]
[]
[null,null,null,{"$f":"List!B268&\" \"&List!B283","v":"Sada jednotek TIP-ON BLUMOTION a sada unašečů TIP-ON BLUMOTION"}]
[null,null,null,{"$f":"List!$B$280&\":\"","v":"Využití pro:"},null,null,null,null,null,{"$f":"List!B281&\"*\"","v":"Doporučené hodnoty hmotnosti*"}]
[null,null,null,{"$f":"List!B45&\" (NL)\"","v":"Jmenovitá délka (NL)"},null,null,{"$f":"List!B275","v":"Jednotka"},{"$f":"List!B88","v":"Číslo artiklu"}]
[null,null,null,"270 - 300 mm",null,null,"S0","T60L7040",null,"≤ 10 kg"]
[null,null,null,null,null,null,"S1","T60L7140",null,"10-20 kg"]
[null,null,null,"350 - 650 mm",null,null,"L1","T60L7340",null,"≤ 20 kg"]
[null,null,null,null,null,null,"L3","T60L7540",null,"15 - 40 kg"]
[null,null,null,null,null,null,"L5","T60L7570",null,null,"25 - 70 kg"]
[null,null,null,null,null,null,null,{"$f":"\"* \"&List!B282","v":"* Celková hmotnost výsuvu (hmotnost výsuvu včetně náplně)"}]
[]
[null,null,null,null,null,null,null,null,null,null,null,null,null,{"$f":"List!$B$99","v":"Zpět"}]

{"sheet":"AM30V","index":5,"n_rows":114,"n_cols":21,"rows_kept":114,"cut":false,"hidden":false,"merged":[[108,9,108,10],[109,7,109,8],[109,10,109,11],[98,0,138,0],[99,1,100,11],[102,1,102,2],[102,3,102,11],[103,1,111,2],[103,3,103,8],[103,9,104,11],[104,3,104,5],[104,7,104,8],[105,3,106,5],[110,7,111,11],[105,7,105,8],[106,7,106,8],[107,3,109,5],[107,7,107,8],[108,7,108,8]]}
[]
[null,null,null,null,null,null,null,null,null,null,null,{"$f":"List!$B$47&\" M\"","v":"Vnitřní zásuvka M"},null,{"$f":"List!$B$11&\":\"","v":"Zpět na:"},null,"Počty zásuvek →",{"$f":"SUM(D19:K19)","v":0},{"$f":"SUM(H20:L20)","v":0},{"$f":"SUM(D25:K25)","v":0},{"$f":"SUM(H26:L26)","v":0}]
[null,null,null,null,null,null,null,null,null,null,null,null,null,{"$f":"\" \"&List!$B$13","v":" Úvod"},null,{"$f":"Cen!A28","v":"Bočnice M 270mm, šedé"},{"$f":"Cen!B28","v":"378M2702SA"},{"$f":"Cen!C28","v":"R906"},{"$f":"SUM($D$19, $D$25)","v":0},{"$f":"Cen!F28","v":350.6},{"$f":"S3*T3","v":0}]
[null,null,null,null,null,null,null,null,{"$f":"List!$B$72&\":\"","v":"bočnice:"},null,"M",null,null,{"$f":"\" \"&List!$B$4","v":" Výběr zásuvek a výsuvů"},null,{"$f":"Cen!A32","v":"Bočnice M 300mm, šedé"},{"$f":"Cen!B32","v":"378M3002SA"},{"$f":"Cen!C32","v":"R906"},{"$f":"SUM($E$19, $E$25)","v":0},{"$f":"Cen!F32","v":350.6},0]
[null,null,null,null,null,null,null,null,{"$f":"List!$B$27&\":\"","v":"barva:"},null,{"$f":"Form!$O$2","v":"šedá"},null,null,null,null,{"$f":"Cen!A36","v":"Bočnice M 350mm, šedé"},{"$f":"Cen!B36","v":"378M3502SA"},{"$f":"Cen!C36","v":"R906"},{"$f":"SUM($F$19, $F$25)","v":0},{"$f":"Cen!F36","v":350.6},0]
[null,null,null,null,null,null,null,null,null,null,null,null,null,{"$f":"List!$B$12&\":\"","v":"Pokračovat na:"},null,{"$f":"Cen!A40","v":"Bočnice M 400mm, šedé"},{"$f":"Cen!B40","v":"378M4002SA"},{"$f":"Cen!C40","v":"R906"},{"$f":"SUM($G$19, $G$25)","v":0},{"$f":"Cen!F40","v":354.3},0]
[null,null,null,null,null,null,null,null,null,null,null,null,null,{"$f":"\" \"&List!$B$5","v":" Výběr doplňků"},null,{"$f":"Cen!A44","v":"Bočnice M 450mm, šedé"},{"$f":"Cen!B44","v":"378M4502SA"},{"$f":"Cen!C44","v":"R906"},{"$f":"SUM($H$19:$H$20, $H$25:$H$26)","v":0},{"$f":"Cen!F44","v":358.1},0]
[null,null,null,null,null,null,null,null,null,null,null,null,null,{"$f":"\" \"&List!$B$6","v":" Výběr SERVO-DRIVE"},null,{"$f":"Cen!A48","v":"Bočnice M 500mm, šedé"},{"$f":"Cen!B48","v":"378M5002SA"},{"$f":"Cen!C48","v":"R906"},{"$f":"SUM($I$19:$I$20, $I$25:$I$26)","v":0},{"$f":"Cen!F48","v":397.4},0]
[null,null,null,null,null,null,null,null,null,null,null,null,null,{"$f":"\" \"&List!$B$7","v":" Výběr ORGA-LINE"},null,{"$f":"Cen!A52","v":"Bočnice M 550mm, šedé"},{"$f":"Cen!B52","v":"378M5502SA"},{"$f":"Cen!C52","v":"R906"},{"$f":"SUM($J$19:$J$20, $J$25:$J$26)","v":0},{"$f":"Cen!F52","v":399.2},0]
[null,null,null,null,null,null,null,null,null,null,null,null,null,{"$f":"\" \"&List!$B$18","v":" Souhrn"},null,{"$f":"Cen!A56","v":"Bočnice M 600mm, šedé"},{"$f":"Cen!B56","v":"378M6002SA"},{"$f":"Cen!C56","v":"R906"},{"$f":"SUM($K$19:$K$20, $K$25:$K$26)","v":0},{"$f":"Cen!F56","v":508.3},0]
[null,null,null,null,null,null,null,null,{"$f":"\"* \"&List!$B$132&\":\"","v":"* Přířezy prvků:"},null,null,null,null,null,null,{"$f":"Cen!A60","v":"Bočnice M 650mm, šedé"},{"$f":"Cen!B60","v":"378M6502SA"},{"$f":"Cen!C60","v":"R906"},{"$f":"SUM($L$20, $L$26)","v":0},{"$f":"Cen!F60","v":536.29999999999995},0]
[null,null,null,null,null,null,null,null,{"$f":"List!$C$136&\":   LW - 132\"","v":"Přední díl:   LW - 132"}]
[null,null,null,null,null,null,null,null,null,null,null,null,null,null,null,{"$f":"Cen!A94","v":"Korpusové lišty 270mm, BLUMOTION, 30kg"},{"$f":"Cen!B94","v":"578.2701B"},{"$f":"Cen!C94","v":"ZN"},{"$f":"$D$19","v":0},{"$f":"Cen!F94","v":459.2},0]
[null,null,null,null,null,null,null,null,null,null,null,null,null,null,null,{"$f":"Cen!A95","v":"Korpusové lišty 300mm, BLUMOTION, 30kg"},{"$f":"Cen!B95","v":"578.3001B"},{"$f":"Cen!C95","v":"ZN"},{"$f":"$E$19","v":0},{"$f":"Cen!F95","v":459.2},0]
[null,null,null,null,null,null,null,null,null,null,null,null,null,null,null,{"$f":"Cen!A96","v":"Korpusové lišty 350mm, BLUMOTION, 30kg"},{"$f":"Cen!B96","v":"578.3501B"},{"$f":"Cen!C96","v":"ZN"},{"$f":"$F$19","v":0},{"$f":"Cen!F96","v":459.2},0]
[null,null,null,null,null,null,null,null,null,null,null,null,null,null,null,{"$f":"Cen!A97","v":"Korpusové lišty 400mm, BLUMOTION, 30kg"},{"$f":"Cen!B97","v":"578.4001B"},{"$f":"Cen!C97","v":"ZN"},{"$f":"$G$19","v":0},{"$f":"Cen!F97","v":462.6},0]
[null,"BLUMOTION",null,null,null,null,null,null,null,null,null,null,null,null,null,{"$f":"Cen!A98","v":"Korpusové lišty 450mm, BLUMOTION, 30kg"},{"$f":"Cen!B98","v":"578.4501B"},{"$f":"Cen!C98","v":"ZN"},{"$f":"$H$19","v":0},{"$f":"Cen!F98","v":466},0]
[null,null,{"$f":"List!$B$45&\":\"","v":"Jmenovitá délka:"},"270 mm","300 mm","350 mm","400 mm","450 mm","500 mm","550 mm","600 mm","650 mm",null,null,null,{"$f":"Cen!A99","v":"Korpusové lišty 450mm, BLUMOTION, 65kg"},{"$f":"Cen!B99","v":"576.4501B"},{"$f":"Cen!C99","v":"ZN"},{"$f":"$H$20","v":0},{"$f":"Cen!F99","v":560.79999999999995},0]
[null,"AM 30VB","30 kg",null,null,null,null,null,null,null,null,null,null,null,null,{"$f":"Cen!A100","v":"Korpusové lišty 500mm, BLUMOTION, 30kg"},{"$f":"Cen!B100","v":"578.5001B"},{"$f":"Cen!C100","v":"ZN"},{"$f":"$I$19","v":0},{"$f":"Cen!F100","v":469.5},0]
[null,"AM 65VB","65 kg",null,null,null,null,null,null,null,null,null,null,null,null,{"$f":"Cen!A101","v":"Korpusové lišty 500mm, BLUMOTION, 65kg"},{"$f":"Cen!B101","v":"576.5001B"},{"$f":"Cen!C101","v":"ZN"},{"$f":"$I$20","v":0},{"$f":"Cen!F101","v":620.4},0]
[null,null,null,null,null,null,null,null,null,null,null,null,null,null,null,{"$f":"Cen!A102","v":"Korpusové lišty 550mm, BLUMOTION, 30kg"},{"$f":"Cen!B102","v":"578.5501B"},{"$f":"Cen!C102","v":"ZN"},{"$f":"$J$19","v":0},{"$f":"Cen!F102","v":493.5},0]
[null,null,null,null,null,null,null,null,null,null,null,null,null,null,null,{"$f":"Cen!A103","v":"Korpusové lišty 550mm, BLUMOTION, 65kg"},{"$f":"Cen!B103","v":"576.5501B"},{"$f":"Cen!C103","v":"ZN"},{"$f":"$J$20","v":0},{"$f":"Cen!F103","v":644.29999999999995},0]
[null,"TIP-ON BLUMOTION",null,null,null,null,null,null,null,null,null,null,null,null,null,{"$f":"Cen!A104","v":"Korpusové lišty 600mm, BLUMOTION, 30kg"},{"$f":"Cen!B104","v":"578.6001B"},{"$f":"Cen!C104","v":"ZN"},{"$f":"$K$19","v":0},{"$f":"Cen!F104","v":523.9},0]
[null,null,{"$f":"List!$B$45&\":\"","v":"Jmenovitá délka:"},"270 mm","300 mm","350 mm","400 mm","450 mm","500 mm","550 mm","600 mm","650 mm",null,null,null,{"$f":"Cen!A105","v":"Korpusové lišty 600mm, BLUMOTION, 65kg"},{"$f":"Cen!B105","v":"576.6001B"},{"$f":"Cen!C105","v":"ZN"},{"$f":"$K$20","v":0},{"$f":"Cen!F105","v":661.1},0]
[null,"AM 30VM","30 kg",null,null,null,null,null,null,null,null,null,null,null,null,{"$f":"Cen!A106","v":"Korpusové lišty 650mm, BLUMOTION, 65kg"},{"$f":"Cen!B106","v":"576.6501B"},{"$f":"Cen!C106","v":"ZN"},{"$f":"$L$20","v":0},{"$f":"Cen!F106","v":751.2},0]
[null,"AM 65VM","65 kg",null,null,null,null,null,null,null,null,null,null,null,null,{"$f":"Cen!A109","v":"Korp. lišty TIP-ON BLUMOTION, 270mm, 30 kg"},{"$f":"Cen!B109","v":"578.2701M"},{"$f":"Cen!C109","v":"ZN"},{"$f":"$D$25","v":0},{"$f":"Cen!F109","v":417.4},0]
[null,null,null,null,null,null,null,null,null,null,null,null,null,null,null,{"$f":"Cen!A110","v":"Korp. lišty TIP-ON BLUMOTION, 300mm, 30 kg"},{"$f":"Cen!B110","v":"578.3001M"},{"$f":"Cen!C110","v":"ZN"},{"$f":"$E$25","v":0},{"$f":"Cen!F110","v":417.4},0]
[null,null,null,{"$f":"List!$B$268","v":"Sada jednotek TIP-ON BLUMOTION"},null,null,null,null,null,null,null,null,null,{"$f":"List!$B$259","v":"Výběr sady jednotek"},null,{"$f":"Cen!A111","v":"Korp. lišty TIP-ON BLUMOTION, 350mm, 30 kg"},{"$f":"Cen!B111","v":"578.3501M"},{"$f":"Cen!C111","v":"ZN"},{"$f":"$F$25","v":0},{"$f":"Cen!F111","v":417.4},0]
[null,null,null,"S0","S1","L1","L3","L5",null,null,null,null,null,null,null,{"$f":"Cen!A112","v":"Korp. lišty TIP-ON BLUMOTION, 400mm, 30 kg"},{"$f":"Cen!B112","v":"578.4001M"},{"$f":"Cen!C112","v":"ZN"},{"$f":"$G$25","v":0},{"$f":"Cen!F112","v":420.5},0]
[null,null,null,null,null,null,null,null,{"$f":"IF(SUM($F$25:$K$25,$H$26:$L$26)=SUM($F$30:$H$30),\" \",$P$82)","v":" "},null,null,null,null,null,null,{"$f":"Cen!A113","v":"Korp. lišty TIP-ON BLUMOTION, 450mm, 30 kg"},{"$f":"Cen!B113","v":"578.4501M"},{"$f":"Cen!C113","v":"ZN"},{"$f":"$H$25","v":0},{"$f":"Cen!F113","v":423.7},0]
[null,null,{"$f":"IF(AND(SUM($D$25,$E$25)>0,SUM($D$30,$E$30)=0),$P$81, IF(AND(SUM($D$25,$E$25)=0,SUM($D$30,$E$30)>0),$P$80, \" \"))&IF(SUM($D$25,$E$25)<>SUM($D$30,$E$30),\" \"&$P$83,\" \")","v":"  "},null,null,null,null,null,null,null,null,null,null,null,null,{"$f":"Cen!A114","v":"Korp. lišty TIP-ON BLUMOTION, 450mm, 65 kg"},{"$f":"Cen!B114","v":"578.4501M"},{"$f":"Cen!C114","v":"ZN"},{"$f":"$H$26","v":0},{"$f":"Cen!F114","v":560.79999999999995},0]
[null,null,null,null,null,null,null,null,null,null,null,null,null,null,null,{"$f":"Cen!A115","v":"Korp. lišty TIP-ON BLUMOTION, 500mm, 30 kg"},{"$f":"Cen!B115","v":"578.5001M"},{"$f":"Cen!C115","v":"ZN"},{"$f":"$I$25","v":0},{"$f":"Cen!F115","v":426.8},0]
[null,null,null,{"$f":"\"     \"&List!$B$270","v":"     Synchronizace je přidána automaticky. "},null,null,null,null,null,null,null,null,null,null,null,{"$f":"Cen!A116","v":"Korp. lišty TIP-ON BLUMOTION, 500mm, 65 kg"},{"$f":"Cen!B116","v":"576.5001M"},{"$f":"Cen!C116","v":"ZN"},{"$f":"$I$26","v":0},{"$f":"Cen!F116","v":564},0]
[null,null,null,{"$f":"\"     \"&List!$B$271","v":"     Pozor! Pro každý výsuv je započítána jedna hřídel. Počet hřídelí upravte v objednávce!"},null,null,null,null,null,null,null,null,null,null,null,{"$f":"Cen!A117","v":"Korp. lišty TIP-ON BLUMOTION, 550mm, 30 kg"},{"$f":"Cen!B117","v":"578.5501M"},{"$f":"Cen!C117","v":"ZN"},{"$f":"$J$25","v":0},{"$f":"Cen!F117","v":448.6},0]
[null,null,null,{"$f":"\"     \"&List!$B$272","v":"     Pro korpusy šířky ≥ 750 mm použijte podpěru dna a podpěru synchronizační hřídele."},null,null,null,null,null,null,null,null,null,null,null,{"$f":"Cen!A118","v":"Korp. lišty TIP-ON BLUMOTION, 550mm, 65 kg"},{"$f":"Cen!B118","v":"576.5501M"},{"$f":"Cen!C118","v":"ZN"},{"$f":"$J$26","v":0},{"$f":"Cen!F118","v":585.79999999999995},0]
[null,null,null,{"$f":"\"     \"&List!$B$273","v":"     Podpěry přidejte v sekci \"Výběr doplňků\""},null,null,null,null,null,null,null,null,null,null,null,{"$f":"Cen!A119","v":"Korp. lišty TIP-ON BLUMOTION, 600mm, 30 kg"},{"$f":"Cen!B119","v":"578.6001M"},{"$f":"Cen!C119","v":"ZN"},{"$f":"$K$25","v":0},{"$f":"Cen!F119","v":542},0]
[null,null,null,null,null,null,null,null,null,null,null,null,null,null,null,{"$f":"Cen!A120","v":"Korp. lišty TIP-ON BLUMOTION, 600mm, 65 kg"},{"$f":"Cen!B120","v":"576.6001M"},{"$f":"Cen!C120","v":"ZN"},{"$f":"$K$26","v":0},{"$f":"Cen!F120","v":661.1},0]
[null,null,null,null,null,null,null,null,null,null,null,null,null,null,null,{"$f":"Cen!A121","v":"Korp. lišty TIP-ON BLUMOTION, 650mm, 65 kg"},{"$f":"Cen!B121","v":"576.6501M"},{"$f":"Cen!C121","v":"ZN"},{"$f":"$L$26","v":0},{"$f":"Cen!F121","v":682.9},0]
[null,{"$f":"List!$B$23&\": **\"","v":"Volitelně: **"}]
[null,{"$f":"Cen!$A$204","v":"Úchytka pro vnirřní zásuvku, bílošedá"},null,null,null,null,null,{"$f":"Cen!B204","v":"ZIF.80M5"},{"$f":"Cen!C204","v":"WGR"},null,null,null,null,null,null,{"$f":"Cen!A124","v":"Sada jednotek TIP-ON BLUMOTION, S0"},{"$f":"Cen!B124","v":"T60B3030"},{"$f":"Cen!C124","v":"W"},{"$f":"$D$30","v":0},{"$f":"Cen!F124","v":404.5},{"$f":"S40*T40","v":0}]
[null,{"$f":"Cen!A208","v":"Úchytka a unašeč pro vnirřní zásuvku, bílošedá"},null,null,null,null,null,{"$f":"Cen!B208","v":"ZIF.80M7"},{"$f":"Cen!C208","v":"WGR"},null,null,null,null,null,null,{"$f":"Cen!A125","v":"Sada jednotek TIP-ON BLUMOTION, S1"},{"$f":"Cen!B125","v":"T60B3130"},{"$f":"Cen!C125","v":"R735"},{"$f":"$E$30","v":0},{"$f":"Cen!F125","v":404.5},0]
[null,null,null,null,null,null,null,null,null,null,null,null,null,null,null,{"$f":"Cen!A126","v":"Sada jednotek TIP-ON BLUMOTION, L1"},{"$f":"Cen!B126","v":"T60B3330"},{"$f":"Cen!C126","v":"R735"},{"$f":"$F$30","v":0},{"$f":"Cen!F126","v":404.5},0]
[null,{"$f":"\"      * \"&List!$B$144","v":"      * Pro každý výsuv je započítán jeden přední díl"},null,null,null,null,null,null,null,null,null,null,null,null,null,{"$f":"Cen!A127","v":"Sada jednotek TIP-ON BLUMOTION, L3"},{"$f":"Cen!B127","v":"T60B3530"},{"$f":"Cen!C127","v":"R737"},{"$f":"$G$30","v":0},{"$f":"Cen!F127","v":404.5},0]
[null,{"$f":"\"        \"&List!$B$146","v":"        Potřebný počet předních dílů upravte v objednávce"},null,null,null,null,null,null,null,null,null,null,null,null,null,{"$f":"Cen!A128","v":"Sada jednotek TIP-ON BLUMOTION, L5"},{"$f":"Cen!B128","v":"T60B3560"},{"$f":"Cen!C128","v":"S"},{"$f":"$H$30","v":0},{"$f":"Cen!F128","v":404.5},0]
[null,{"$f":"\"    ** \"&List!$B$151&\"!\"","v":"    ** Cena úchytek není zahrnuta do cen jednotlivých výsuvů!"}]
[null,null,null,null,null,null,null,null,null,null,null,null,null,null,null,{"$f":"Cen!A130","v":"Synchronizační adaptér"},{"$f":"Cen!B130","v":"T60.000D"},{"$f":"Cen!C130","v":"R735"},{"$f":"SUM($S$40:$S$44)*2","v":0},{"$f":"Cen!F130","v":5.8},0]
[null,{"$f":"IF(OR($K$14>0, $L$14>0), List!$B$196, \" \")","v":" "},null,null,null,null,null,null,null,null,null,null,null,null,null,{"$f":"Cen!A131","v":"Hřídel synchronizace"},{"$f":"Cen!B131","v":"T60.1125W"},{"$f":"Cen!C131","v":"GR"},{"$f":"SUM($S$40:$S$44)","v":0},{"$f":"Cen!F131","v":95.6},0]
[null,{"$f":"IF(OR($K$14>0, $L$14>0), List!$B$200, \" \")","v":" "},null,null,null,null,null,null,null,null,null,null,null,null,null,{"$f":"Cen!A132","v":"Jednodílná synchronizace"},{"$f":"Cen!B132","v":"T60.300D"},{"$f":"Cen!C132","v":"R735"},null,{"$f":"Cen!F132","v":23.2},0]
[null,null,null,null,null,null,null,null,null,null,null,null,null,null,null,{"$f":"Cen!A134","v":"Držák hřídele synchronizace"},{"$f":"Cen!B134","v":"T60B000H"},{"$f":"Cen!C134","v":"NI"},null,{"$f":"Cen!F134","v":6},0]
[null,null,null,null,null,null,null,null,null,null,null,null,null,null,null,{"$f":"Cen!A135","v":"Podpěrný úhelník pro dno"},{"$f":"Cen!B135","v":"Z96.2011"},{"$f":"Cen!C135","v":"R737"},null,{"$f":"Cen!F135","v":29.8},0]
[]
[null,null,null,null,null,null,null,null,null,null,null,null,null,null,null,{"$f":"Cen!A143","v":"Držáky zadní stěny N, šedé"},{"$f":"Cen!B143","v":"Z30N000S.04"},{"$f":"Cen!C143","v":"R906"},null,{"$f":"Cen!F143","v":36.5},{"$f":"S52*T52","v":0}]
[null,null,null,null,null,null,null,null,null,null,null,null,null,null,null,{"$f":"Cen!A147","v":"Držáky zadní stěny M, šedé"},{"$f":"Cen!B147","v":"Z30M000S.04"},{"$f":"Cen!C147","v":"R906"},{"$f":"SUM($S$3:$S$11)","v":0},{"$f":"Cen!F147","v":40.200000000000003},0]
[null,null,null,null,null,null,null,null,null,null,null,null,null,null,null,{"$f":"Cen!A151","v":"Držáky zadní stěny K, šedé"},{"$f":"Cen!B151","v":"Z30K000S"},{"$f":"Cen!C151","v":"R906"},null,{"$f":"Cen!F151","v":67.400000000000006},0]
[null,null,null,null,null,null,null,null,null,null,null,null,null,null,null,{"$f":"Cen!A154","v":"Držáky zadní stěny B, šedé"},{"$f":"Cen!B154","v":"Z30B000S.04"},{"$f":"Cen!C154","v":"R906"},null,{"$f":"Cen!F154","v":48.8},0]
[null,null,null,null,null,null,null,null,null,null,null,null,null,null,null,{"$f":"Cen!A158","v":"Držáky zadní stěny C, šedé"},{"$f":"Cen!B158","v":"Z30C000S"},{"$f":"Cen!C158","v":"R906"},null,{"$f":"Cen!F158","v":71},0]
[null,null,null,null,null,null,null,null,null,null,null,null,null,null,null,{"$f":"Cen!A162","v":"Držáky zadní stěny D, šedé"},{"$f":"Cen!B162","v":"Z30D000S"},{"$f":"Cen!C162","v":"R906"},null,{"$f":"Cen!F162","v":78.099999999999994},0]
[null,null,null,null,null,null,null,null,null,null,null,null,null,null,null,null,null,null,null,null,0]
[null,null,null,null,null,null,null,null,null,null,null,null,null,null,null,{"$f":"Cen!A178","v":"Držáky čela vnitřní zásuvky M, bílošedé"},{"$f":"Cen!B178","v":"ZIF.71M0"},{"$f":"Cen!C178","v":"WGR"},{"$f":"SUM($S$3:$S$11)","v":0},{"$f":"Cen!F178","v":105.6},0]
[null,null,null,null,null,null,null,null,null,null,null,null,null,null,null,{"$f":"Cen!A194","v":"Přední díl vnitřní zásuvky, šedý"},{"$f":"Cen!B194","v":"Z31L1036A  "},{"$f":"Cen!C194","v":"R906"},{"$f":"SUM($S$3:$S$11)","v":0},{"$f":"Cen!F194","v":363.8},0]
[null,null,null,null,null,null,null,null,null,null,null,null,null,null,null,{"$f":"Cen!A199","v":"Příčný reling vnitřní zásuvky, šedý"},{"$f":"Cen!B199","v":"ZRG.1046Z "},{"$f":"Cen!C199","v":"R906"},null,{"$f":"Cen!F199","v":169.4},0]
[null,null,null,null,null,null,null,null,null,null,null,null,null,null,null,{"$f":"Cen!A204","v":"Úchytka pro vnirřní zásuvku, bílošedá"},{"$f":"Cen!B204","v":"ZIF.80M5"},{"$f":"Cen!C204","v":"WGR"},{"$f":"$J$40","v":0},{"$f":"Cen!F204","v":103.7},0]
[null,null,null,null,null,null,null,null,null,null,null,null,null,null,null,{"$f":"Cen!A208","v":"Úchytka a unašeč pro vnirřní zásuvku, bílošedá"},{"$f":"Cen!B208","v":"ZIF.80M7"},{"$f":"Cen!C208","v":"WGR"},{"$f":"$J$41","v":0},{"$f":"Cen!F208","v":160.4},0]
[]
[]
[]
[]
[]
[]
[null,null,null,null,null,null,null,null,null,null,null,null,null,null,null,null,null,null,null,null,{"$f":"SUM(U3:U69)","v":0}]
[]
[]
[]
[]
[]
[]
[]
[]
[]
[null,null,null,null,null,null,null,null,null,null,null,null,null,null,null,{"$f":"List!$B$276&\"!\"","v":"S0 a S1 pouze pro jmenovitou délku 270 a 300 mm!"}]
[null,null,null,null,null,null,null,null,null,null,null,null,null,null,null,{"$f":"List!$B$277&\"!\"","v":"Pro výsuvy délky 270 a 300 mm vyberte jednotky S0 nebo S1!"}]
[null,null,null,null,null,null,null,null,null,null,null,null,null,null,null,{"$f":"List!$B$278&\"!\"","v":"Počet jednotek L neodpovídá počtu korpusových lišt!"}]
[null,null,null,null,null,null,null,null,null,null,null,null,null,null,null,{"$f":"List!$B$279&\"!\"","v":"Počet jednotek S neodpovídá počtu korpusových lišt!"}]
[]
[]
[]
[]
[]
[]
[]
[]
[]
[]
[]
[]
[]
[]
[]
[]
[null,{"$f":"List!B25","v":"Informace k objednávání"}]
[]
[]
[null,null,null,{"$f":"List!B268&\" \"&List!B283","v":"Sada jednotek TIP-ON BLUMOTION a sada unašečů TIP-ON BLUMOTION"}]
[null,null,null,{"$f":"List!$B$280&\":\"","v":"Využití pro:"},null,null,null,null,null,{"$f":"List!B281&\"*\"","v":"Doporučené hodnoty hmotnosti*"}]
[null,null,null,{"$f":"List!B45&\" (NL)\"","v":"Jmenovitá délka (NL)"},null,null,{"$f":"List!B275","v":"Jednotka"},{"$f":"List!B88","v":"Číslo artiklu"}]
[null,null,null,"270 - 300 mm",null,null,"S0","T60L7040",null,"≤ 10 kg"]
[null,null,null,null,null,null,"S1","T60L7140",null,"10-20 kg"]
[null,null,null,"350 - 650 mm",null,null,"L1","T60L7340",null,"≤ 20 kg"]
[null,null,null,null,null,null,"L3","T60L7540",null,"15 - 40 kg"]
[null,null,null,null,null,null,"L5","T60L7570",null,null,"25 - 70 kg"]
[null,null,null,null,null,null,null,{"$f":"\"* \"&List!B282","v":"* Celková hmotnost výsuvu (hmotnost výsuvu včetně náplně)"}]
[]
[]
[null,null,null,null,null,null,null,null,null,null,null,null,null,{"$f":"List!$B$99","v":"Zpět"}]

{"sheet":"AK30V","index":6,"n_rows":114,"n_cols":22,"rows_kept":114,"cut":false,"hidden":false,"merged":[[109,9,109,10],[110,7,110,8],[110,10,110,11],[99,0,140,0],[100,1,101,11],[103,1,103,2],[103,3,103,11],[104,1,112,2],[104,3,104,8],[104,9,105,11],[105,3,105,5],[105,7,105,8],[106,3,107,5],[111,7,112,11],[106,7,106,8],[107,7,107,8],[108,3,110,5],[108,7,108,8],[109,7,109,8]]}
[]
[null,null,null,null,null,null,null,null,null,null,null,{"$f":"List!$B$47&\" K\"","v":"Vnitřní zásuvka K"},null,{"$f":"List!$B$11&\":\"","v":"Zpět na:"},null,"Počty zásuvek →",{"$f":"SUM(D19:K19)","v":0},{"$f":"SUM(H20:L20)","v":0},{"$f":"SUM(D25:K25)","v":0},{"$f":"SUM(H26:L26)","v":0},{"$f":"Form!N2","v":1},"←barva"]
[null,null,null,null,null,null,null,null,null,null,null,null,null,{"$f":"\" \"&List!$B$13","v":" Úvod"},null,{"$f":"Cen!A65","v":"Bočnice K 270mm, šedé"},{"$f":"Cen!B65","v":"378K2702SA"},{"$f":"Cen!C65","v":"R906"},{"$f":"IF($U$2=4, 0, SUM($D$19, $D$25))","v":0},{"$f":"Cen!F65","v":599.20000000000005},{"$f":"S3*T3","v":0}]
[null,null,null,null,null,null,null,null,{"$f":"List!$B$72&\":\"","v":"bočnice:"},null,"K",null,null,{"$f":"\" \"&List!$B$4","v":" Výběr zásuvek a výsuvů"},null,{"$f":"Cen!A68","v":"Bočnice K 300mm, šedé"},{"$f":"Cen!B68","v":"378K3002SA"},{"$f":"Cen!C68","v":"R906"},{"$f":"IF($U$2=4, 0, SUM($E$19, $E$25))","v":0},{"$f":"Cen!F68","v":599.20000000000005},0]
[null,null,null,null,null,null,null,null,{"$f":"List!$B$27&\":\"","v":"barva:"},null,{"$f":"Form!$O$2","v":"šedá"},null,null,null,null,{"$f":"Cen!A71","v":"Bočnice K 350mm, šedé"},{"$f":"Cen!B71","v":"378K3502SA"},{"$f":"Cen!C71","v":"R906"},{"$f":"IF($U$2=4, 0, SUM($F$19, $F$25))","v":0},{"$f":"Cen!F71","v":599.20000000000005},0]
[null,null,null,null,null,null,null,null,null,null,null,null,null,{"$f":"List!$B$12&\":\"","v":"Pokračovat na:"},null,{"$f":"Cen!A74","v":"Bočnice K 400mm, šedé"},{"$f":"Cen!B74","v":"378K4002SA"},{"$f":"Cen!C74","v":"R906"},{"$f":"IF($U$2=4, 0, SUM($G$19, $G$25))","v":0},{"$f":"Cen!F74","v":602.9},0]
[null,null,null,null,null,null,null,null,null,null,null,null,null,{"$f":"\" \"&List!$B$5","v":" Výběr doplňků"},null,{"$f":"Cen!A77","v":"Bočnice K 450mm, šedé"},{"$f":"Cen!B77","v":"378K4502SA"},{"$f":"Cen!C77","v":"R906"},{"$f":"IF($U$2=4, 0, SUM($H$19:$H$20, $H$25:$H$26))","v":0},{"$f":"Cen!F77","v":606.6},0]
[null,null,null,null,null,null,null,null,null,null,null,null,null,{"$f":"\" \"&List!$B$6","v":" Výběr SERVO-DRIVE"},null,{"$f":"Cen!A80","v":"Bočnice K 500mm, šedé"},{"$f":"Cen!B80","v":"378K5002SA"},{"$f":"Cen!C80","v":"R906"},{"$f":"IF($U$2=4, 0, SUM($I$19:$I$20, $I$25:$I$26))","v":0},{"$f":"Cen!F80","v":610.4},0]
[null,null,null,null,null,null,null,null,null,null,null,null,null,{"$f":"\" \"&List!$B$7","v":" Výběr ORGA-LINE"},null,{"$f":"Cen!A83","v":"Bočnice K 550mm, šedé"},{"$f":"Cen!B83","v":"378K5502SA"},{"$f":"Cen!C83","v":"R906"},{"$f":"IF($U$2=4, 0, SUM($J$19:$J$20, $J$25:$J$26))","v":0},{"$f":"Cen!F83","v":647.79999999999995},0]
[null,null,null,null,null,null,null,null,null,null,null,null,null,{"$f":"\" \"&List!$B$18","v":" Souhrn"},null,{"$f":"Cen!A86","v":"Bočnice K 600mm, šedé"},{"$f":"Cen!B86","v":"378K6002SA"},{"$f":"Cen!C86","v":"R906"},{"$f":"IF($U$2=4, 0, SUM($K$19:$K$20, $K$25:$K$26))","v":0},{"$f":"Cen!F86","v":756.8},0]
[null,null,null,null,null,null,null,null,{"$f":"\"* \"&List!$B$132&\":\"","v":"* Přířezy prvků:"},null,null,null,null,null,null,{"$f":"Cen!A89","v":"Bočnice K 650mm, šedé"},{"$f":"Cen!B89","v":"378K6502SA"},{"$f":"Cen!C89","v":"R906"},{"$f":"IF($U$2=4, 0, SUM($L$20, $L$26))","v":0},{"$f":"Cen!F89","v":784.9},0]
[null,null,null,null,null,null,null,null,{"$f":"List!$C$136&\":   LW - 132\"","v":"Přední díl:   LW - 132"}]
[null,null,null,null,null,null,null,null,null,null,null,null,null,null,null,{"$f":"Cen!A94","v":"Korpusové lišty 270mm, BLUMOTION, 30kg"},{"$f":"Cen!B94","v":"578.2701B"},{"$f":"Cen!C94","v":"ZN"},{"$f":"IF($U$2=4, 0, $D$19)","v":0},{"$f":"Cen!F94","v":459.2},{"$f":"S13*T13","v":0}]
[null,null,null,null,null,{"$f":"IF($U$2=4, P85, \" \")","v":" "},null,null,null,null,null,null,null,null,null,{"$f":"Cen!A95","v":"Korpusové lišty 300mm, BLUMOTION, 30kg"},{"$f":"Cen!B95","v":"578.3001B"},{"$f":"Cen!C95","v":"ZN"},{"$f":"IF($U$2=4, 0, $E$19)","v":0},{"$f":"Cen!F95","v":459.2},0]
[null,null,null,null,null,{"$f":"IF($U$2=4, P86, \" \")","v":" "},null,null,null,null,null,null,null,null,null,{"$f":"Cen!A96","v":"Korpusové lišty 350mm, BLUMOTION, 30kg"},{"$f":"Cen!B96","v":"578.3501B"},{"$f":"Cen!C96","v":"ZN"},{"$f":"IF($U$2=4, 0, $F$19)","v":0},{"$f":"Cen!F96","v":459.2},0]
[null,null,null,null,null,null,null,null,null,null,null,null,null,null,null,{"$f":"Cen!A97","v":"Korpusové lišty 400mm, BLUMOTION, 30kg"},{"$f":"Cen!B97","v":"578.4001B"},{"$f":"Cen!C97","v":"ZN"},{"$f":"IF($U$2=4, 0, $G$19)","v":0},{"$f":"Cen!F97","v":462.6},0]
[null,"BLUMOTION",null,null,null,null,null,null,null,null,null,null,null,null,null,{"$f":"Cen!A98","v":"Korpusové lišty 450mm, BLUMOTION, 30kg"},{"$f":"Cen!B98","v":"578.4501B"},{"$f":"Cen!C98","v":"ZN"},{"$f":"IF($U$2=4, 0, $H$19)","v":0},{"$f":"Cen!F98","v":466},0]
[null,null,{"$f":"List!$B$45&\":\"","v":"Jmenovitá délka:"},"270 mm","300 mm","350 mm","400 mm","450 mm","500 mm","550 mm","600 mm","650 mm",null,null,null,{"$f":"Cen!A99","v":"Korpusové lišty 450mm, BLUMOTION, 65kg"},{"$f":"Cen!B99","v":"576.4501B"},{"$f":"Cen!C99","v":"ZN"},{"$f":"IF($U$2=4, 0, $H$20)","v":0},{"$f":"Cen!F99","v":560.79999999999995},0]
[null,"AK 30VB","30 kg",null,null,null,null,null,null,null,null,null,null,null,null,{"$f":"Cen!A100","v":"Korpusové lišty 500mm, BLUMOTION, 30kg"},{"$f":"Cen!B100","v":"578.5001B"},{"$f":"Cen!C100","v":"ZN"},{"$f":"IF($U$2=4, 0, $I$19)","v":0},{"$f":"Cen!F100","v":469.5},0]
[null,"AK 65VB","65 kg",null,null,null,null,null,null,null,null,null,null,null,null,{"$f":"Cen!A101","v":"Korpusové lišty 500mm, BLUMOTION, 65kg"},{"$f":"Cen!B101","v":"576.5001B"},{"$f":"Cen!C101","v":"ZN"},{"$f":"IF($U$2=4, 0, $I$20)","v":0},{"$f":"Cen!F101","v":620.4},0]
[null,null,null,null,null,null,null,null,null,null,null,null,null,null,null,{"$f":"Cen!A102","v":"Korpusové lišty 550mm, BLUMOTION, 30kg"},{"$f":"Cen!B102","v":"578.5501B"},{"$f":"Cen!C102","v":"ZN"},{"$f":"IF($U$2=4, 0, $J$19)","v":0},{"$f":"Cen!F102","v":493.5},0]
[null,null,null,null,null,null,null,null,null,null,null,null,null,null,null,{"$f":"Cen!A103","v":"Korpusové lišty 550mm, BLUMOTION, 65kg"},{"$f":"Cen!B103","v":"576.5501B"},{"$f":"Cen!C103","v":"ZN"},{"$f":"IF($U$2=4, 0, $J$20)","v":0},{"$f":"Cen!F103","v":644.29999999999995},0]
[null,"TIP-ON BLUMOTION",null,null,null,null,null,null,null,null,null,null,null,null,null,{"$f":"Cen!A104","v":"Korpusové lišty 600mm, BLUMOTION, 30kg"},{"$f":"Cen!B104","v":"578.6001B"},{"$f":"Cen!C104","v":"ZN"},{"$f":"IF($U$2=4, 0, $K$19)","v":0},{"$f":"Cen!F104","v":523.9},0]
[null,null,{"$f":"List!$B$45&\":\"","v":"Jmenovitá délka:"},"270 mm","300 mm","350 mm","400 mm","450 mm","500 mm","550 mm","600 mm","650 mm",null,null,null,{"$f":"Cen!A105","v":"Korpusové lišty 600mm, BLUMOTION, 65kg"},{"$f":"Cen!B105","v":"576.6001B"},{"$f":"Cen!C105","v":"ZN"},{"$f":"IF($U$2=4, 0, $K$20)","v":0},{"$f":"Cen!F105","v":661.1},0]
[null,"AK 30VM","30 kg",null,null,null,null,null,null,null,null,null,null,null,null,{"$f":"Cen!A106","v":"Korpusové lišty 650mm, BLUMOTION, 65kg"},{"$f":"Cen!B106","v":"576.6501B"},{"$f":"Cen!C106","v":"ZN"},{"$f":"IF($U$2=4, 0, $L$20)","v":0},{"$f":"Cen!F106","v":751.2},0]
[null,"AK 65VM","65 kg",null,null,null,null,null,null,null,null,null,null,null,null,{"$f":"Cen!A109","v":"Korp. lišty TIP-ON BLUMOTION, 270mm, 30 kg"},{"$f":"Cen!B109","v":"578.2701M"},{"$f":"Cen!C109","v":"ZN"},{"$f":"IF($U$2=4, 0, $D$25)","v":0},{"$f":"Cen!F109","v":417.4},0]
[null,null,null,null,null,null,null,null,null,null,null,null,null,null,null,{"$f":"Cen!A110","v":"Korp. lišty TIP-ON BLUMOTION, 300mm, 30 kg"},{"$f":"Cen!B110","v":"578.3001M"},{"$f":"Cen!C110","v":"ZN"},{"$f":"IF($U$2=4, 0, $E$25)","v":0},{"$f":"Cen!F110","v":417.4},0]
[null,null,null,{"$f":"List!$B$268","v":"Sada jednotek TIP-ON BLUMOTION"},null,null,null,null,null,null,null,null,null,{"$f":"List!$B$259","v":"Výběr sady jednotek"},null,{"$f":"Cen!A111","v":"Korp. lišty TIP-ON BLUMOTION, 350mm, 30 kg"},{"$f":"Cen!B111","v":"578.3501M"},{"$f":"Cen!C111","v":"ZN"},{"$f":"IF($U$2=4, 0, $F$25)","v":0},{"$f":"Cen!F111","v":417.4},0]
[null,null,null,"S0","S1","L1","L3","L5",null,null,null,null,null,null,null,{"$f":"Cen!A112","v":"Korp. lišty TIP-ON BLUMOTION, 400mm, 30 kg"},{"$f":"Cen!B112","v":"578.4001M"},{"$f":"Cen!C112","v":"ZN"},{"$f":"IF($U$2=4, 0, $G$25)","v":0},{"$f":"Cen!F112","v":420.5},0]
[null,null,null,null,null,null,null,null,{"$f":"IF(SUM($F$25:$K$25,$H$26:$L$26)=SUM($F$30:$H$30),\" \",$P$82)","v":" "},null,null,null,null,null,null,{"$f":"Cen!A113","v":"Korp. lišty TIP-ON BLUMOTION, 450mm, 30 kg"},{"$f":"Cen!B113","v":"578.4501M"},{"$f":"Cen!C113","v":"ZN"},{"$f":"IF($U$2=4, 0, $H$25)","v":0},{"$f":"Cen!F113","v":423.7},0]
[null,null,{"$f":"IF(AND(SUM($D$25,$E$25)>0,SUM($D$30,$E$30)=0),$P$81, IF(AND(SUM($D$25,$E$25)=0,SUM($D$30,$E$30)>0),$P$80, \" \"))&IF(SUM($D$25,$E$25)<>SUM($D$30,$E$30),\" \"&$P$83,\" \")","v":"  "},null,null,null,null,null,null,null,null,null,null,null,null,{"$f":"Cen!A114","v":"Korp. lišty TIP-ON BLUMOTION, 450mm, 65 kg"},{"$f":"Cen!B114","v":"578.4501M"},{"$f":"Cen!C114","v":"ZN"},{"$f":"IF($U$2=4, 0, $H$26)","v":0},{"$f":"Cen!F114","v":560.79999999999995},0]
[null,null,null,null,null,null,null,null,null,null,null,null,null,null,null,{"$f":"Cen!A115","v":"Korp. lišty TIP-ON BLUMOTION, 500mm, 30 kg"},{"$f":"Cen!B115","v":"578.5001M"},{"$f":"Cen!C115","v":"ZN"},{"$f":"IF($U$2=4, 0, $I$25)","v":0},{"$f":"Cen!F115","v":426.8},0]
[null,null,null,{"$f":"\"     \"&List!$B$270","v":"     Synchronizace je přidána automaticky. "},null,null,null,null,null,null,null,null,null,null,null,{"$f":"Cen!A116","v":"Korp. lišty TIP-ON BLUMOTION, 500mm, 65 kg"},{"$f":"Cen!B116","v":"576.5001M"},{"$f":"Cen!C116","v":"ZN"},{"$f":"IF($U$2=4, 0, $I$26)","v":0},{"$f":"Cen!F116","v":564},0]
[null,null,null,{"$f":"\"     \"&List!$B$271","v":"     Pozor! Pro každý výsuv je započítána jedna hřídel. Počet hřídelí upravte v objednávce!"},null,null,null,null,null,null,null,null,null,null,null,{"$f":"Cen!A117","v":"Korp. lišty TIP-ON BLUMOTION, 550mm, 30 kg"},{"$f":"Cen!B117","v":"578.5501M"},{"$f":"Cen!C117","v":"ZN"},{"$f":"IF($U$2=4, 0, $J$25)","v":0},{"$f":"Cen!F117","v":448.6},0]
[null,null,null,{"$f":"\"     \"&List!$B$272","v":"     Pro korpusy šířky ≥ 750 mm použijte podpěru dna a podpěru synchronizační hřídele."},null,null,null,null,null,null,null,null,null,null,null,{"$f":"Cen!A118","v":"Korp. lišty TIP-ON BLUMOTION, 550mm, 65 kg"},{"$f":"Cen!B118","v":"576.5501M"},{"$f":"Cen!C118","v":"ZN"},{"$f":"IF($U$2=4, 0, $J$26)","v":0},{"$f":"Cen!F118","v":585.79999999999995},0]
[null,null,null,{"$f":"\"     \"&List!$B$273","v":"     Podpěry přidejte v sekci \"Výběr doplňků\""},null,null,null,null,null,null,null,null,null,null,null,{"$f":"Cen!A119","v":"Korp. lišty TIP-ON BLUMOTION, 600mm, 30 kg"},{"$f":"Cen!B119","v":"578.6001M"},{"$f":"Cen!C119","v":"ZN"},{"$f":"IF($U$2=4, 0, $K$25)","v":0},{"$f":"Cen!F119","v":542},0]
[null,null,null,null,null,null,null,null,null,null,null,null,null,null,null,{"$f":"Cen!A120","v":"Korp. lišty TIP-ON BLUMOTION, 600mm, 65 kg"},{"$f":"Cen!B120","v":"576.6001M"},{"$f":"Cen!C120","v":"ZN"},{"$f":"IF($U$2=4, 0, $K$26)","v":0},{"$f":"Cen!F120","v":661.1},0]
[null,null,null,null,null,null,null,null,null,null,null,null,null,null,null,{"$f":"Cen!A121","v":"Korp. lišty TIP-ON BLUMOTION, 650mm, 65 kg"},{"$f":"Cen!B121","v":"576.6501M"},{"$f":"Cen!C121","v":"ZN"},{"$f":"IF($U$2=4, 0, $L$26)","v":0},{"$f":"Cen!F121","v":682.9},0]
[null,{"$f":"List!$B$23&\": **\"","v":"Volitelně: **"}]
[null,{"$f":"Cen!A204","v":"Úchytka pro vnirřní zásuvku, bílošedá"},null,null,null,null,null,{"$f":"Cen!B204","v":"ZIF.80M5"},{"$f":"Cen!C204","v":"WGR"},null,null,null,null,null,null,{"$f":"Cen!A124","v":"Sada jednotek TIP-ON BLUMOTION, S0"},{"$f":"Cen!B124","v":"T60B3030"},{"$f":"Cen!C124","v":"W"},{"$f":"IF($U$2=4, 0, $D$30)","v":0},{"$f":"Cen!F124","v":404.5},{"$f":"S40*T40","v":0}]
[null,{"$f":"Cen!A208","v":"Úchytka a unašeč pro vnirřní zásuvku, bílošedá"},null,null,null,null,null,{"$f":"Cen!B208","v":"ZIF.80M7"},{"$f":"Cen!C208","v":"WGR"},null,null,null,null,null,null,{"$f":"Cen!A125","v":"Sada jednotek TIP-ON BLUMOTION, S1"},{"$f":"Cen!B125","v":"T60B3130"},{"$f":"Cen!C125","v":"R735"},{"$f":"IF($U$2=4, 0, $E$30)","v":0},{"$f":"Cen!F125","v":404.5},0]
[null,null,null,null,null,null,null,null,null,null,null,null,null,null,null,{"$f":"Cen!A126","v":"Sada jednotek TIP-ON BLUMOTION, L1"},{"$f":"Cen!B126","v":"T60B3330"},{"$f":"Cen!C126","v":"R735"},{"$f":"IF($U$2=4, 0, $F$30)","v":0},{"$f":"Cen!F126","v":404.5},0]
[null,{"$f":"\"      * \"&List!$B$144","v":"      * Pro každý výsuv je započítán jeden přední díl"},null,null,null,null,null,null,null,null,null,null,null,null,null,{"$f":"Cen!A127","v":"Sada jednotek TIP-ON BLUMOTION, L3"},{"$f":"Cen!B127","v":"T60B3530"},{"$f":"Cen!C127","v":"R737"},{"$f":"IF($U$2=4, 0, $G$30)","v":0},{"$f":"Cen!F127","v":404.5},0]
[null,{"$f":"\"        \"&List!$B$146","v":"        Potřebný počet předních dílů upravte v objednávce"},null,null,null,null,null,null,null,null,null,null,null,null,null,{"$f":"Cen!A128","v":"Sada jednotek TIP-ON BLUMOTION, L5"},{"$f":"Cen!B128","v":"T60B3560"},{"$f":"Cen!C128","v":"S"},{"$f":"IF($U$2=4, 0, $H$30)","v":0},{"$f":"Cen!F128","v":404.5},0]
[null,{"$f":"\"    ** \"&List!$B$151&\"!\"","v":"    ** Cena úchytek není zahrnuta do cen jednotlivých výsuvů!"}]
[null,null,null,null,null,null,null,null,null,null,null,null,null,null,null,{"$f":"Cen!A130","v":"Synchronizační adaptér"},{"$f":"Cen!B130","v":"T60.000D"},{"$f":"Cen!C130","v":"R735"},{"$f":"SUM($S$40:$S$44)*2","v":0},{"$f":"Cen!F130","v":5.8},0]
[null,{"$f":"IF(OR($K$14>0, $L$14>0), List!$B$196, \" \")","v":" "},null,null,null,null,null,null,null,null,null,null,null,null,null,{"$f":"Cen!A131","v":"Hřídel synchronizace"},{"$f":"Cen!B131","v":"T60.1125W"},{"$f":"Cen!C131","v":"GR"},{"$f":"SUM($S$40:$S$44)","v":0},{"$f":"Cen!F131","v":95.6},0]
[null,{"$f":"IF(OR($K$14>0, $L$14>0), List!$B$200, \" \")","v":" "},null,null,null,null,null,null,null,null,null,null,null,null,null,{"$f":"Cen!A132","v":"Jednodílná synchronizace"},{"$f":"Cen!B132","v":"T60.300D"},{"$f":"Cen!C132","v":"R735"},null,{"$f":"Cen!F132","v":23.2},0]
[null,null,null,null,null,null,null,null,null,null,null,null,null,null,null,{"$f":"Cen!A134","v":"Držák hřídele synchronizace"},{"$f":"Cen!B134","v":"T60B000H"},{"$f":"Cen!C134","v":"NI"},null,{"$f":"Cen!F134","v":6},0]
[null,null,null,null,null,null,null,null,null,null,null,null,null,null,null,{"$f":"Cen!A135","v":"Podpěrný úhelník pro dno"},{"$f":"Cen!B135","v":"Z96.2011"},{"$f":"Cen!C135","v":"R737"},null,{"$f":"Cen!F135","v":29.8},0]
[]
[null,null,null,null,null,null,null,null,null,null,null,null,null,null,null,{"$f":"Cen!A143","v":"Držáky zadní stěny N, šedé"},{"$f":"Cen!B143","v":"Z30N000S.04"},{"$f":"Cen!C143","v":"R906"},null,{"$f":"Cen!F143","v":36.5},{"$f":"S52*T52","v":0}]
[null,null,null,null,null,null,null,null,null,null,null,null,null,null,null,{"$f":"Cen!A147","v":"Držáky zadní stěny M, šedé"},{"$f":"Cen!B147","v":"Z30M000S.04"},{"$f":"Cen!C147","v":"R906"},null,{"$f":"Cen!F147","v":40.200000000000003},0]
[null,null,null,null,null,null,null,null,null,null,null,null,null,null,null,{"$f":"Cen!A151","v":"Držáky zadní stěny K, šedé"},{"$f":"Cen!B151","v":"Z30K000S"},{"$f":"Cen!C151","v":"R906"},{"$f":"SUM($S$3:$S$11)","v":0},{"$f":"Cen!F151","v":67.400000000000006},0]
[null,null,null,null,null,null,null,null,null,null,null,null,null,null,null,{"$f":"Cen!A154","v":"Držáky zadní stěny B, šedé"},{"$f":"Cen!B154","v":"Z30B000S.04"},{"$f":"Cen!C154","v":"R906"},null,{"$f":"Cen!F154","v":48.8},0]
[null,null,null,null,null,null,null,null,null,null,null,null,null,null,null,{"$f":"Cen!A158","v":"Držáky zadní stěny C, šedé"},{"$f":"Cen!B158","v":"Z30C000S"},{"$f":"Cen!C158","v":"R906"},null,{"$f":"Cen!F158","v":71},0]
[null,null,null,null,null,null,null,null,null,null,null,null,null,null,null,{"$f":"Cen!A162","v":"Držáky zadní stěny D, šedé"},{"$f":"Cen!B162","v":"Z30D000S"},{"$f":"Cen!C162","v":"R906"},null,{"$f":"Cen!F162","v":78.099999999999994},0]
[null,null,null,null,null,null,null,null,null,null,null,null,null,null,null,null,null,null,null,null,0]
[null,null,null,null,null,null,null,null,null,null,null,null,null,null,null,{"$f":"Cen!A182","v":"Držáky čela vnitřní zásuvky K, bílošedé"},{"$f":"Cen!B182","v":"ZIF.71K0"},{"$f":"Cen!C182","v":"WGR"},{"$f":"SUM($S$3:$S$11)","v":0},{"$f":"Cen!F182","v":130.5},0]
[null,null,null,null,null,null,null,null,null,null,null,null,null,null,null,{"$f":"Cen!A194","v":"Přední díl vnitřní zásuvky, šedý"},{"$f":"Cen!B194","v":"Z31L1036A  "},{"$f":"Cen!C194","v":"R906"},{"$f":"SUM($S$3:$S$11)","v":0},{"$f":"Cen!F194","v":363.8},0]
[null,null,null,null,null,null,null,null,null,null,null,null,null,null,null,{"$f":"Cen!A199","v":"Příčný reling vnitřní zásuvky, šedý"},{"$f":"Cen!B199","v":"ZRG.1046Z "},{"$f":"Cen!C199","v":"R906"},null,{"$f":"Cen!F199","v":169.4},0]
[null,null,null,null,null,null,null,null,null,null,null,null,null,null,null,{"$f":"Cen!A204","v":"Úchytka pro vnirřní zásuvku, bílošedá"},{"$f":"Cen!B204","v":"ZIF.80M5"},{"$f":"Cen!C204","v":"WGR"},{"$f":"IF($U$2=4, 0, $J$40)","v":0},{"$f":"Cen!F204","v":103.7},0]
[null,null,null,null,null,null,null,null,null,null,null,null,null,null,null,{"$f":"Cen!A208","v":"Úchytka a unašeč pro vnirřní zásuvku, bílošedá"},{"$f":"Cen!B208","v":"ZIF.80M7"},{"$f":"Cen!C208","v":"WGR"},{"$f":"IF($U$2=4, 0, $J$41)","v":0},{"$f":"Cen!F208","v":160.4},0]
[]
[]
[]
[]
[]
[]
[null,null,null,null,null,null,null,null,null,null,null,null,null,null,null,null,null,null,null,null,{"$f":"SUM(U3:U69)","v":0}]
[]
[]
[]
[]
[]
[]
[]
[]
[]
[null,null,null,null,null,null,null,null,null,null,null,null,null,null,null,{"$f":"List!$B$276&\"!\"","v":"S0 a S1 pouze pro jmenovitou délku 270 a 300 mm!"}]
[null,null,null,null,null,null,null,null,null,null,null,null,null,null,null,{"$f":"List!$B$277&\"!\"","v":"Pro výsuvy délky 270 a 300 mm vyberte jednotky S0 nebo S1!"}]
[null,null,null,null,null,null,null,null,null,null,null,null,null,null,null,{"$f":"List!$B$278&\"!\"","v":"Počet jednotek L neodpovídá počtu korpusových lišt!"}]
[null,null,null,null,null,null,null,null,null,null,null,null,null,null,null,{"$f":"List!$B$279&\"!\"","v":"Počet jednotek S neodpovídá počtu korpusových lišt!"}]
[]
[null,null,null,null,null,null,null,null,null,null,null,null,null,null,null,{"$f":"List!$B$288&\"!\"","v":"Zásuvky K se v provedení nerez (Inox) nevyrábí!"}]
[null,null,null,null,null,null,null,null,null,null,null,null,null,null,null,{"$f":"List!$B$290&\"!\"","v":"Kování naplánované na tomto listu se neprojeví v objednávce!"}]
[]
[]
[]
[]
[]
[]
[]
[]
[]
[]
[]
[]
[]
[]
[null,{"$f":"List!B25","v":"Informace k objednávání"}]
[]
[]
[null,null,null,{"$f":"List!B268&\" \"&List!B283","v":"Sada jednotek TIP-ON BLUMOTION a sada unašečů TIP-ON BLUMOTION"}]
[null,null,null,{"$f":"List!$B$280&\":\"","v":"Využití pro:"},null,null,null,null,null,{"$f":"List!B281&\"*\"","v":"Doporučené hodnoty hmotnosti*"}]
[null,null,null,{"$f":"List!B45&\" (NL)\"","v":"Jmenovitá délka (NL)"},null,null,{"$f":"List!B275","v":"Jednotka"},{"$f":"List!B88","v":"Číslo artiklu"}]
[null,null,null,"270 - 300 mm",null,null,"S0","T60L7040",null,"≤ 10 kg"]
[null,null,null,null,null,null,"S1","T60L7140",null,"10-20 kg"]
[null,null,null,"350 - 650 mm",null,null,"L1","T60L7340",null,"≤ 20 kg"]
[null,null,null,null,null,null,"L3","T60L7540",null,"15 - 40 kg"]
[null,null,null,null,null,null,"L5","T60L7570",null,null,"25 - 70 kg"]
[null,null,null,null,null,null,null,{"$f":"\"* \"&List!B282","v":"* Celková hmotnost výsuvu (hmotnost výsuvu včetně náplně)"}]
[]
[null,null,null,null,null,null,null,null,null,null,null,null,null,{"$f":"List!$B$99","v":"Zpět"}]

{"sheet":"AD310G","index":7,"n_rows":113,"n_cols":21,"rows_kept":113,"cut":false,"hidden":false,"merged":[[108,9,108,10],[109,7,109,8],[109,10,109,11],[98,0,139,0],[99,1,100,11],[102,1,102,2],[102,3,102,11],[103,1,111,2],[103,3,103,8],[103,9,104,11],[104,3,104,5],[104,7,104,8],[105,3,106,5],[110,7,111,11],[105,7,105,8],[106,7,106,8],[107,3,109,5],[107,7,107,8],[108,7,108,8]]}
[]
[null,null,null,null,null,null,null,null,null,null,null,{"$f":"List!$B$48&\" D, \"&List!$B$62","v":"Čelní výsuv D, zásuvný prvek sklo"},null,{"$f":"List!$B$11&\":\"","v":"Zpět na:"},null,"Počty zásuvek →",{"$f":"SUM(D19:K19)","v":0},{"$f":"SUM(H20:L20)","v":0},{"$f":"SUM(D25:K25)","v":0},{"$f":"SUM(H26:L26)","v":0}]
[null,null,null,null,null,null,null,null,null,null,null,null,null,{"$f":"\" \"&List!$B$13","v":" Úvod"},null,{"$f":"Cen!A28","v":"Bočnice M 270mm, šedé"},{"$f":"Cen!B28","v":"378M2702SA"},{"$f":"Cen!C28","v":"R906"},{"$f":"SUM($D$19, $D$25)","v":0},{"$f":"Cen!F28","v":350.6},{"$f":"S3*T3","v":0}]
[null,null,null,null,null,null,null,null,{"$f":"List!$B$72&\":\"","v":"bočnice:"},null,"M",null,null,{"$f":"\" \"&List!$B$4","v":" Výběr zásuvek a výsuvů"},null,{"$f":"Cen!A32","v":"Bočnice M 300mm, šedé"},{"$f":"Cen!B32","v":"378M3002SA"},{"$f":"Cen!C32","v":"R906"},{"$f":"SUM($E$19, $E$25)","v":0},{"$f":"Cen!F32","v":350.6},0]
[null,null,null,null,null,null,null,null,{"$f":"List!$B$27&\":\"","v":"barva:"},null,{"$f":"Form!$O$2","v":"šedá"},null,null,null,null,{"$f":"Cen!A36","v":"Bočnice M 350mm, šedé"},{"$f":"Cen!B36","v":"378M3502SA"},{"$f":"Cen!C36","v":"R906"},{"$f":"SUM($F$19, $F$25)","v":0},{"$f":"Cen!F36","v":350.6},0]
[null,null,null,null,null,null,null,null,{"$f":"List!$B$32&\":\"","v":"sklo:"},null,{"$f":"Form!$O$8","v":"čiré"},null,null,{"$f":"List!$B$12&\":\"","v":"Pokračovat na:"},null,{"$f":"Cen!A40","v":"Bočnice M 400mm, šedé"},{"$f":"Cen!B40","v":"378M4002SA"},{"$f":"Cen!C40","v":"R906"},{"$f":"SUM($G$19, $G$25)","v":0},{"$f":"Cen!F40","v":354.3},0]
[null,null,null,null,null,null,null,null,{"$f":"List!$B$36&\":\"","v":"čelní kování:"},null,{"$f":"Form!$O$13","v":"INSERTA"},null,null,{"$f":"\" \"&List!$B$5","v":" Výběr doplňků"},null,{"$f":"Cen!A44","v":"Bočnice M 450mm, šedé"},{"$f":"Cen!B44","v":"378M4502SA"},{"$f":"Cen!C44","v":"R906"},{"$f":"SUM($H$19:$H$20, $H$25:$H$26)","v":0},{"$f":"Cen!F44","v":358.1},0]
[null,null,null,null,null,null,null,null,null,null,null,null,null,{"$f":"\" \"&List!$B$6","v":" Výběr SERVO-DRIVE"},null,{"$f":"Cen!A48","v":"Bočnice M 500mm, šedé"},{"$f":"Cen!B48","v":"378M5002SA"},{"$f":"Cen!C48","v":"R906"},{"$f":"SUM($I$19:$I$20, $I$25:$I$26)","v":0},{"$f":"Cen!F48","v":397.4},0]
[null,null,null,null,null,null,null,null,null,null,null,null,null,{"$f":"\" \"&List!$B$7","v":" Výběr ORGA-LINE"},null,{"$f":"Cen!A52","v":"Bočnice M 550mm, šedé"},{"$f":"Cen!B52","v":"378M5502SA"},{"$f":"Cen!C52","v":"R906"},{"$f":"SUM($J$19:$J$20, $J$25:$J$26)","v":0},{"$f":"Cen!F52","v":399.2},0]
[null,null,null,null,null,null,null,null,null,null,null,null,null,{"$f":"\" \"&List!$B$18","v":" Souhrn"},null,{"$f":"Cen!A56","v":"Bočnice M 600mm, šedé"},{"$f":"Cen!B56","v":"378M6002SA"},{"$f":"Cen!C56","v":"R906"},{"$f":"SUM($K$19:$K$20, $K$25:$K$26)","v":0},{"$f":"Cen!F56","v":508.3},0]
[null,null,null,null,null,null,null,null,null,null,null,null,null,null,null,{"$f":"Cen!A60","v":"Bočnice M 650mm, šedé"},{"$f":"Cen!B60","v":"378M6502SA"},{"$f":"Cen!C60","v":"R906"},{"$f":"SUM($L$20, $L$26)","v":0},{"$f":"Cen!F60","v":536.29999999999995},0]
[]
[null,null,null,null,null,null,null,null,null,null,null,null,null,null,null,{"$f":"Cen!A94","v":"Korpusové lišty 270mm, BLUMOTION, 30kg"},{"$f":"Cen!B94","v":"578.2701B"},{"$f":"Cen!C94","v":"ZN"},{"$f":"$D$19","v":0},{"$f":"Cen!F94","v":459.2},0]
[null,null,null,null,null,null,null,null,null,null,null,null,null,null,null,{"$f":"Cen!A95","v":"Korpusové lišty 300mm, BLUMOTION, 30kg"},{"$f":"Cen!B95","v":"578.3001B"},{"$f":"Cen!C95","v":"ZN"},{"$f":"$E$19","v":0},{"$f":"Cen!F95","v":459.2},0]
[null,null,null,null,null,null,null,null,null,null,null,null,null,null,null,{"$f":"Cen!A96","v":"Korpusové lišty 350mm, BLUMOTION, 30kg"},{"$f":"Cen!B96","v":"578.3501B"},{"$f":"Cen!C96","v":"ZN"},{"$f":"$F$19","v":0},{"$f":"Cen!F96","v":459.2},0]
[null,null,null,null,null,null,null,null,null,null,null,null,null,null,null,{"$f":"Cen!A97","v":"Korpusové lišty 400mm, BLUMOTION, 30kg"},{"$f":"Cen!B97","v":"578.4001B"},{"$f":"Cen!C97","v":"ZN"},{"$f":"$G$19","v":0},{"$f":"Cen!F97","v":462.6},0]
[null,"BLUMOTION",null,null,null,null,null,null,null,null,null,null,null,null,null,{"$f":"Cen!A98","v":"Korpusové lišty 450mm, BLUMOTION, 30kg"},{"$f":"Cen!B98","v":"578.4501B"},{"$f":"Cen!C98","v":"ZN"},{"$f":"$H$19","v":0},{"$f":"Cen!F98","v":466},0]
[null,null,{"$f":"List!$B$45&\":\"","v":"Jmenovitá délka:"},"270 mm","300 mm","350 mm","400 mm","450 mm","500 mm","550 mm","600 mm","650 mm",null,null,null,{"$f":"Cen!A99","v":"Korpusové lišty 450mm, BLUMOTION, 65kg"},{"$f":"Cen!B99","v":"576.4501B"},{"$f":"Cen!C99","v":"ZN"},{"$f":"$H$20","v":0},{"$f":"Cen!F99","v":560.79999999999995},0]
[null,"AD310BG","30 kg",null,null,null,null,null,null,null,null,null,null,null,null,{"$f":"Cen!A100","v":"Korpusové lišty 500mm, BLUMOTION, 30kg"},{"$f":"Cen!B100","v":"578.5001B"},{"$f":"Cen!C100","v":"ZN"},{"$f":"$I$19","v":0},{"$f":"Cen!F100","v":469.5},0]
[null,"AD610BG","65 kg",null,null,null,null,null,null,null,null,null,null,null,null,{"$f":"Cen!A101","v":"Korpusové lišty 500mm, BLUMOTION, 65kg"},{"$f":"Cen!B101","v":"576.5001B"},{"$f":"Cen!C101","v":"ZN"},{"$f":"$I$20","v":0},{"$f":"Cen!F101","v":620.4},0]
[null,null,null,null,null,null,null,null,null,null,null,null,null,null,null,{"$f":"Cen!A102","v":"Korpusové lišty 550mm, BLUMOTION, 30kg"},{"$f":"Cen!B102","v":"578.5501B"},{"$f":"Cen!C102","v":"ZN"},{"$f":"$J$19","v":0},{"$f":"Cen!F102","v":493.5},0]
[null,null,null,null,null,null,null,null,null,null,null,null,null,null,null,{"$f":"Cen!A103","v":"Korpusové lišty 550mm, BLUMOTION, 65kg"},{"$f":"Cen!B103","v":"576.5501B"},{"$f":"Cen!C103","v":"ZN"},{"$f":"$J$20","v":0},{"$f":"Cen!F103","v":644.29999999999995},0]
[null,"TIP-ON BLUMOTION",null,null,null,null,null,null,null,null,null,null,null,null,null,{"$f":"Cen!A104","v":"Korpusové lišty 600mm, BLUMOTION, 30kg"},{"$f":"Cen!B104","v":"578.6001B"},{"$f":"Cen!C104","v":"ZN"},{"$f":"$K$19","v":0},{"$f":"Cen!F104","v":523.9},0]
[null,null,{"$f":"List!$B$45&\":\"","v":"Jmenovitá délka:"},"270 mm","300 mm","350 mm","400 mm","450 mm","500 mm","550 mm","600 mm","650 mm",null,null,null,{"$f":"Cen!A105","v":"Korpusové lišty 600mm, BLUMOTION, 65kg"},{"$f":"Cen!B105","v":"576.6001B"},{"$f":"Cen!C105","v":"ZN"},{"$f":"$K$20","v":0},{"$f":"Cen!F105","v":661.1},0]
[null,"AD310MG","30 kg",null,null,null,null,null,null,null,null,null,null,null,null,{"$f":"Cen!A106","v":"Korpusové lišty 650mm, BLUMOTION, 65kg"},{"$f":"Cen!B106","v":"576.6501B"},{"$f":"Cen!C106","v":"ZN"},{"$f":"$L$20","v":0},{"$f":"Cen!F106","v":751.2},0]
[null,"AD610MG","65 kg",null,null,null,null,null,null,null,null,null,null,null,null,{"$f":"Cen!A109","v":"Korp. lišty TIP-ON BLUMOTION, 270mm, 30 kg"},{"$f":"Cen!B109","v":"578.2701M"},{"$f":"Cen!C109","v":"ZN"},{"$f":"$D$25","v":0},{"$f":"Cen!F109","v":417.4},0]
[null,null,null,null,null,null,null,null,null,null,null,null,null,null,null,{"$f":"Cen!A110","v":"Korp. lišty TIP-ON BLUMOTION, 300mm, 30 kg"},{"$f":"Cen!B110","v":"578.3001M"},{"$f":"Cen!C110","v":"ZN"},{"$f":"$E$25","v":0},{"$f":"Cen!F110","v":417.4},0]
[null,null,null,{"$f":"List!$B$268","v":"Sada jednotek TIP-ON BLUMOTION"},null,null,null,null,null,null,null,null,null,{"$f":"List!$B$259","v":"Výběr sady jednotek"},null,{"$f":"Cen!A111","v":"Korp. lišty TIP-ON BLUMOTION, 350mm, 30 kg"},{"$f":"Cen!B111","v":"578.3501M"},{"$f":"Cen!C111","v":"ZN"},{"$f":"$F$25","v":0},{"$f":"Cen!F111","v":417.4},0]
[null,null,null,"S0","S1","L1","L3","L5",null,null,null,null,null,null,null,{"$f":"Cen!A112","v":"Korp. lišty TIP-ON BLUMOTION, 400mm, 30 kg"},{"$f":"Cen!B112","v":"578.4001M"},{"$f":"Cen!C112","v":"ZN"},{"$f":"$G$25","v":0},{"$f":"Cen!F112","v":420.5},0]
[null,null,null,null,null,null,null,null,{"$f":"IF(SUM($F$25:$K$25,$H$26:$L$26)=SUM($F$30:$H$30),\" \",$P$100)","v":" "},null,null,null,null,null,null,{"$f":"Cen!A113","v":"Korp. lišty TIP-ON BLUMOTION, 450mm, 30 kg"},{"$f":"Cen!B113","v":"578.4501M"},{"$f":"Cen!C113","v":"ZN"},{"$f":"$H$25","v":0},{"$f":"Cen!F113","v":423.7},0]
[null,null,{"$f":"IF(AND(SUM($D$25,$E$25)>0,SUM($D$30,$E$30)=0),$P$99, IF(AND(SUM($D$25,$E$25)=0,SUM($D$30,$E$30)>0),$P$98, \" \"))&IF(SUM($D$25,$E$25)<>SUM($D$30,$E$30),\" \"&$P$101,\" \")","v":"  "},null,null,null,null,null,null,null,null,null,null,null,null,{"$f":"Cen!A114","v":"Korp. lišty TIP-ON BLUMOTION, 450mm, 65 kg"},{"$f":"Cen!B114","v":"578.4501M"},{"$f":"Cen!C114","v":"ZN"},{"$f":"$H$26","v":0},{"$f":"Cen!F114","v":560.79999999999995},0]
[null,null,null,null,null,null,null,null,null,null,null,null,null,null,null,{"$f":"Cen!A115","v":"Korp. lišty TIP-ON BLUMOTION, 500mm, 30 kg"},{"$f":"Cen!B115","v":"578.5001M"},{"$f":"Cen!C115","v":"ZN"},{"$f":"$I$25","v":0},{"$f":"Cen!F115","v":426.8},0]
[null,null,null,{"$f":"\"     \"&List!$B$270","v":"     Synchronizace je přidána automaticky. "},null,null,null,null,null,null,null,null,null,null,null,{"$f":"Cen!A116","v":"Korp. lišty TIP-ON BLUMOTION, 500mm, 65 kg"},{"$f":"Cen!B116","v":"576.5001M"},{"$f":"Cen!C116","v":"ZN"},{"$f":"$I$26","v":0},{"$f":"Cen!F116","v":564},0]
[null,null,null,{"$f":"\"     \"&List!$B$271","v":"     Pozor! Pro každý výsuv je započítána jedna hřídel. Počet hřídelí upravte v objednávce!"},null,null,null,null,null,null,null,null,null,null,null,{"$f":"Cen!A117","v":"Korp. lišty TIP-ON BLUMOTION, 550mm, 30 kg"},{"$f":"Cen!B117","v":"578.5501M"},{"$f":"Cen!C117","v":"ZN"},{"$f":"$J$25","v":0},{"$f":"Cen!F117","v":448.6},0]
[null,null,null,{"$f":"\"     \"&List!$B$272","v":"     Pro korpusy šířky ≥ 750 mm použijte podpěru dna a podpěru synchronizační hřídele."},null,null,null,null,null,null,null,null,null,null,null,{"$f":"Cen!A118","v":"Korp. lišty TIP-ON BLUMOTION, 550mm, 65 kg"},{"$f":"Cen!B118","v":"576.5501M"},{"$f":"Cen!C118","v":"ZN"},{"$f":"$J$26","v":0},{"$f":"Cen!F118","v":585.79999999999995},0]
[null,null,null,{"$f":"\"     \"&List!$B$273","v":"     Podpěry přidejte v sekci \"Výběr doplňků\""},null,null,null,null,null,null,null,null,null,null,null,{"$f":"Cen!A119","v":"Korp. lišty TIP-ON BLUMOTION, 600mm, 30 kg"},{"$f":"Cen!B119","v":"578.6001M"},{"$f":"Cen!C119","v":"ZN"},{"$f":"$K$25","v":0},{"$f":"Cen!F119","v":542},0]
[null,null,null,null,null,null,null,null,null,null,null,null,null,null,null,{"$f":"Cen!A120","v":"Korp. lišty TIP-ON BLUMOTION, 600mm, 65 kg"},{"$f":"Cen!B120","v":"576.6001M"},{"$f":"Cen!C120","v":"ZN"},{"$f":"$K$26","v":0},{"$f":"Cen!F120","v":661.1},0]
[null,null,null,null,null,null,null,null,null,null,null,null,null,null,null,{"$f":"Cen!A121","v":"Korp. lišty TIP-ON BLUMOTION, 650mm, 65 kg"},{"$f":"Cen!B121","v":"576.6501M"},{"$f":"Cen!C121","v":"ZN"},{"$f":"$L$26","v":0},{"$f":"Cen!F121","v":682.9},0]
[]
[null,null,null,null,null,null,null,null,null,null,null,null,null,null,null,{"$f":"Cen!A124","v":"Sada jednotek TIP-ON BLUMOTION, S0"},{"$f":"Cen!B124","v":"T60B3030"},{"$f":"Cen!C124","v":"W"},{"$f":"$D$30","v":0},{"$f":"Cen!F124","v":404.5},{"$f":"S40*T40","v":0}]
[null,null,null,null,null,null,null,null,null,null,null,null,null,null,null,{"$f":"Cen!A125","v":"Sada jednotek TIP-ON BLUMOTION, S1"},{"$f":"Cen!B125","v":"T60B3130"},{"$f":"Cen!C125","v":"R735"},{"$f":"$E$30","v":0},{"$f":"Cen!F125","v":404.5},0]
[null,null,null,null,null,null,null,null,null,null,null,null,null,null,null,{"$f":"Cen!A126","v":"Sada jednotek TIP-ON BLUMOTION, L1"},{"$f":"Cen!B126","v":"T60B3330"},{"$f":"Cen!C126","v":"R735"},{"$f":"$F$30","v":0},{"$f":"Cen!F126","v":404.5},0]
[null,null,null,null,null,null,null,null,null,null,null,null,null,null,null,{"$f":"Cen!A127","v":"Sada jednotek TIP-ON BLUMOTION, L3"},{"$f":"Cen!B127","v":"T60B3530"},{"$f":"Cen!C127","v":"R737"},{"$f":"$G$30","v":0},{"$f":"Cen!F127","v":404.5},0]
[null,null,null,null,null,null,null,null,null,null,null,null,null,null,null,{"$f":"Cen!A128","v":"Sada jednotek TIP-ON BLUMOTION, L5"},{"$f":"Cen!B128","v":"T60B3560"},{"$f":"Cen!C128","v":"S"},{"$f":"$H$30","v":0},{"$f":"Cen!F128","v":404.5},0]
[]
[null,null,null,null,null,null,null,null,null,null,null,null,null,null,null,{"$f":"Cen!A130","v":"Synchronizační adaptér"},{"$f":"Cen!B130","v":"T60.000D"},{"$f":"Cen!C130","v":"R735"},{"$f":"SUM($S$40:$S$44)*2","v":0},{"$f":"Cen!F130","v":5.8},0]
[null,null,null,null,null,null,null,null,null,null,null,null,null,null,null,{"$f":"Cen!A131","v":"Hřídel synchronizace"},{"$f":"Cen!B131","v":"T60.1125W"},{"$f":"Cen!C131","v":"GR"},{"$f":"SUM($S$40:$S$44)","v":0},{"$f":"Cen!F131","v":95.6},0]
[null,null,null,null,null,null,null,null,null,null,null,null,null,null,null,{"$f":"Cen!A132","v":"Jednodílná synchronizace"},{"$f":"Cen!B132","v":"T60.300D"},{"$f":"Cen!C132","v":"R735"},null,{"$f":"Cen!F132","v":23.2},0]
[null,null,null,null,null,null,null,null,null,null,null,null,null,null,null,{"$f":"Cen!A134","v":"Držák hřídele synchronizace"},{"$f":"Cen!B134","v":"T60B000H"},{"$f":"Cen!C134","v":"NI"},null,{"$f":"Cen!F134","v":6},0]
[null,null,null,null,null,null,null,null,null,null,null,null,null,null,null,{"$f":"Cen!A135","v":"Podpěrný úhelník pro dno"},{"$f":"Cen!B135","v":"Z96.2011"},{"$f":"Cen!C135","v":"R737"},null,{"$f":"Cen!F135","v":29.8},0]
[]
[null,null,null,null,null,null,null,null,null,null,null,null,null,null,null,{"$f":"Cen!A143","v":"Držáky zadní stěny N, šedé"},{"$f":"Cen!B143","v":"Z30N000S.04"},{"$f":"Cen!C143","v":"R906"},null,{"$f":"Cen!F143","v":36.5},{"$f":"S52*T52","v":0}]
[null,{"$f":"IF(OR($K$14>0, $L$14>0), List!$B$196, \" \")","v":" "},null,null,null,null,null,null,null,null,null,null,null,null,null,{"$f":"Cen!A147","v":"Držáky zadní stěny M, šedé"},{"$f":"Cen!B147","v":"Z30M000S.04"},{"$f":"Cen!C147","v":"R906"},null,{"$f":"Cen!F147","v":40.200000000000003},{"$f":"S53*T53","v":0}]
[null,{"$f":"IF(OR($K$14>0, $L$14>0), List!$B$200, \" \")","v":" "},null,null,null,null,null,null,null,null,null,null,null,null,null,{"$f":"Cen!A151","v":"Držáky zadní stěny K, šedé"},{"$f":"Cen!B151","v":"Z30K000S"},{"$f":"Cen!C151","v":"R906"},null,{"$f":"Cen!F151","v":67.400000000000006},0]
[null,null,null,null,null,null,null,null,null,null,null,null,null,null,null,{"$f":"Cen!A154","v":"Držáky zadní stěny B, šedé"},{"$f":"Cen!B154","v":"Z30B000S.04"},{"$f":"Cen!C154","v":"R906"},null,{"$f":"Cen!F154","v":48.8},0]
[null,null,null,null,null,null,null,null,null,null,null,null,null,null,null,{"$f":"Cen!A158","v":"Držáky zadní stěny C, šedé"},{"$f":"Cen!B158","v":"Z30C000S"},{"$f":"Cen!C158","v":"R906"},null,{"$f":"Cen!F158","v":71},0]
[null,null,null,null,null,null,null,null,null,null,null,null,null,null,null,{"$f":"Cen!A162","v":"Držáky zadní stěny D, šedé"},{"$f":"Cen!B162","v":"Z30D000S"},{"$f":"Cen!C162","v":"R906"},{"$f":"SUM($S$3:$S$11)","v":0},{"$f":"Cen!F162","v":78.099999999999994},{"$f":"S57*T57","v":0}]
[]
[null,null,null,null,null,null,null,null,null,null,null,null,null,null,null,{"$f":"Cen!A173","v":"Čelní kování INSERTA"},{"$f":"Cen!B173","v":"ZSF.39A2"},{"$f":"Cen!C173","v":"BL"},{"$f":"SUM($S$3:$S$11)*2","v":0},{"$f":"Cen!F173","v":22.4},0]
[]
[]
[]
[null,null,null,null,null,null,null,null,null,null,null,null,null,null,null,{"$f":"Cen!A215","v":"Podélný reling vlevo/vpravo, 270mm, šedý"},{"$f":"Cen!B215","v":"ZRG.207RSIC"},{"$f":"Cen!C215","v":"R906"},{"$f":"S3","v":0},{"$f":"Cen!F215","v":150},{"$f":"S63*T63","v":0}]
[null,null,null,null,null,null,null,null,null,null,null,null,null,null,null,{"$f":"Cen!A219","v":"Podélný reling vlevo/vpravo, 300mm, šedý"},{"$f":"Cen!B219","v":"ZRG.237RSIC"},{"$f":"Cen!C219","v":"R906"},0,{"$f":"Cen!F219","v":152.5},0]
[null,null,null,null,null,null,null,null,null,null,null,null,null,null,null,{"$f":"Cen!A223","v":"Podélný reling vlevo/vpravo, 350mm, šedý"},{"$f":"Cen!B223","v":"ZRG.287RSIC"},{"$f":"Cen!C223","v":"R906"},0,{"$f":"Cen!F223","v":155},0]
[null,null,null,null,null,null,null,null,null,null,null,null,null,null,null,{"$f":"Cen!A227","v":"Podélný reling vlevo/vpravo, 400mm, šedý"},{"$f":"Cen!B227","v":"ZRG.337RSIC"},{"$f":"Cen!C227","v":"R906"},0,{"$f":"Cen!F227","v":157.5},0]
[null,null,null,null,null,null,null,null,null,null,null,null,null,null,null,{"$f":"Cen!A231","v":"Podélný reling vlevo/vpravo, 450mm, šedý"},{"$f":"Cen!B231","v":"ZRG.387RSIC"},{"$f":"Cen!C231","v":"R906"},0,{"$f":"Cen!F231","v":160},0]
[null,null,null,null,null,null,null,null,null,null,null,null,null,null,null,{"$f":"Cen!A235","v":"Podélný reling vlevo/vpravo, 500mm, šedý"},{"$f":"Cen!B235","v":"ZRG.437RSIC"},{"$f":"Cen!C235","v":"R906"},0,{"$f":"Cen!F235","v":178.7},0]
[null,null,null,null,null,null,null,null,null,null,null,null,null,null,null,{"$f":"Cen!A239","v":"Podélný reling vlevo/vpravo, 550mm, šedý"},{"$f":"Cen!B239","v":"ZRG.487RSIC"},{"$f":"Cen!C239","v":"R906"},0,{"$f":"Cen!F239","v":169.4},0]
[null,null,null,null,null,null,null,null,null,null,null,null,null,null,null,{"$f":"Cen!A243","v":"Podélný reling vlevo/vpravo, 600mm, šedý"},{"$f":"Cen!B243","v":"ZRG.537RSIC"},{"$f":"Cen!C243","v":"R906"},0,{"$f":"Cen!F243","v":176.3},0]
[null,null,null,null,null,null,null,null,null,null,null,null,null,null,null,{"$f":"Cen!A247","v":"Podélný reling vlevo/vpravo, 650mm, šedý"},{"$f":"Cen!B247","v":"ZRG.587RSIC"},{"$f":"Cen!C247","v":"R906"},0,{"$f":"Cen!F247","v":183.2},0]
[]
[null,null,null,null,null,null,null,null,null,null,null,null,null,null,null,{"$f":"Cen!A328","v":"Sada držáků zásuvného prvku D, bílošedá"},{"$f":"Cen!B328","v":"Z36D0080"},{"$f":"Cen!C328","v":"WGR"},{"$f":"SUM($S$3:$S$11)","v":0},{"$f":"Cen!F328","v":63.3},{"$f":"S73*T73","v":0}]
[]
[null,null,null,null,null,null,null,null,null,null,null,null,null,null,null,{"$f":"Cen!A254","v":"Zásuvný prvek D, 270mm, čiré sko"},{"$f":"Cen!B254","v":"Z37R237D"},{"$f":"Cen!C254","v":"KL"},{"$f":"S3","v":0},{"$f":"Cen!F254","v":269.10000000000002},{"$f":"S75*T75","v":0}]
[null,null,null,null,null,null,null,null,null,null,null,null,null,null,null,{"$f":"Cen!A256","v":"Zásuvný prvek D, 300mm, čiré sko"},{"$f":"Cen!B256","v":"Z37R267D"},{"$f":"Cen!C256","v":"KL"},0,{"$f":"Cen!F256","v":279},0]
[null,null,null,null,null,null,null,null,null,null,null,null,null,null,null,{"$f":"Cen!A258","v":"Zásuvný prvek D, 350mm, čiré sko"},{"$f":"Cen!B258","v":"Z37R317D"},{"$f":"Cen!C258","v":"KL"},0,{"$f":"Cen!F258","v":240.82},0]
[null,null,null,null,null,null,null,null,null,null,null,null,null,null,null,{"$f":"Cen!A260","v":"Zásuvný prvek D, 400mm, čiré sko"},{"$f":"Cen!B260","v":"Z37R367D"},{"$f":"Cen!C260","v":"KL"},0,{"$f":"Cen!F260","v":265.39999999999998},0]
[null,null,null,null,null,null,null,null,null,null,null,null,null,null,null,{"$f":"Cen!A262","v":"Zásuvný prvek D, 450mm, čiré sko"},{"$f":"Cen!B262","v":"Z37R417D"},{"$f":"Cen!C262","v":"KL"},0,{"$f":"Cen!F262","v":290},0]
[null,null,null,null,null,null,null,null,null,null,null,null,null,null,null,{"$f":"Cen!A264","v":"Zásuvný prvek D, 500mm, čiré sko"},{"$f":"Cen!B264","v":"Z37R467D"},{"$f":"Cen!C264","v":"KL"},0,{"$f":"Cen!F264","v":314.56},0]
[null,null,null,null,null,null,null,null,null,null,null,null,null,null,null,{"$f":"Cen!A266","v":"Zásuvný prvek D, 550mm, čiré sko"},{"$f":"Cen!B266","v":"Z37R517D"},{"$f":"Cen!C266","v":"KL"},0,{"$f":"Cen!F266","v":336.68},0]
[null,null,null,null,null,null,null,null,null,null,null,null,null,null,null,{"$f":"Cen!A268","v":"Zásuvný prvek D, 600mm, čiré sko"},{"$f":"Cen!B268","v":"Z37R567D"},{"$f":"Cen!C268","v":"KL"},0,{"$f":"Cen!F268","v":358.8},0]
[null,null,null,null,null,null,null,null,null,null,null,null,null,null,null,{"$f":"Cen!A270","v":"Zásuvný prvek D, 650mm, čiré sko"},{"$f":"Cen!B270","v":"Z37R617D"},{"$f":"Cen!C270","v":"KL"},0,{"$f":"Cen!F270","v":378.7},0]
[]
[]
[]
[]
[]
[]
[null,null,null,null,null,null,null,null,null,null,null,null,null,null,null,null,null,null,null,null,{"$f":"SUM(U3:U89)","v":0}]
[]
[]
[]
[]
[]
[]
[]
[null,null,null,null,null,null,null,null,null,null,null,null,null,null,null,{"$f":"List!$B$276&\"!\"","v":"S0 a S1 pouze pro jmenovitou délku 270 a 300 mm!"}]
[556,null,null,null,null,null,null,null,null,null,null,null,null,null,null,{"$f":"List!$B$277&\"!\"","v":"Pro výsuvy délky 270 a 300 mm vyberte jednotky S0 nebo S1!"}]
[null,{"$f":"List!B25","v":"Informace k objednávání"},null,null,null,null,null,null,null,null,null,null,null,null,null,{"$f":"List!$B$278&\"!\"","v":"Počet jednotek L neodpovídá počtu korpusových lišt!"}]
[null,null,null,null,null,null,null,null,null,null,null,null,null,null,null,{"$f":"List!$B$279&\"!\"","v":"Počet jednotek S neodpovídá počtu korpusových lišt!"}]
[]
[null,null,null,{"$f":"List!B268&\" \"&List!B283","v":"Sada jednotek TIP-ON BLUMOTION a sada unašečů TIP-ON BLUMOTION"}]
[null,null,null,{"$f":"List!$B$280&\":\"","v":"Využití pro:"},null,null,null,null,null,{"$f":"List!B281&\"*\"","v":"Doporučené hodnoty hmotnosti*"}]
[null,null,null,{"$f":"List!B45&\" (NL)\"","v":"Jmenovitá délka (NL)"},null,null,{"$f":"List!B275","v":"Jednotka"},{"$f":"List!B88","v":"Číslo artiklu"}]
[null,null,null,"270 - 300 mm",null,null,"S0","T60L7040",null,"≤ 10 kg"]
[null,null,null,null,null,null,"S1","T60L7140",null,"10-20 kg"]
[null,null,null,"350 - 650 mm",null,null,"L1","T60L7340",null,"≤ 20 kg"]
[null,null,null,null,null,null,"L3","T60L7540",null,"15 - 40 kg"]
[null,null,null,null,null,null,"L5","T60L7570",null,null,"25 - 70 kg"]
[null,null,null,null,null,null,null,{"$f":"\"* \"&List!B282","v":"* Celková hmotnost výsuvu (hmotnost výsuvu včetně náplně)"}]
[]
[null,null,null,null,null,null,null,null,null,null,null,null,null,{"$f":"List!$B$99","v":"Zpět"}]

{"sheet":"AD310M","index":8,"n_rows":113,"n_cols":22,"rows_kept":113,"cut":false,"hidden":false,"merged":[[108,9,108,10],[109,7,109,8],[109,10,109,11],[98,0,139,0],[99,1,100,11],[102,1,102,2],[102,3,102,11],[103,1,111,2],[103,3,103,8],[103,9,104,11],[104,3,104,5],[104,7,104,8],[105,3,106,5],[110,7,111,11],[105,7,105,8],[106,7,106,8],[107,3,109,5],[107,7,107,8],[108,7,108,8]]}
[]
[null,null,null,null,null,null,null,null,null,null,null,{"$f":"List!$B$48&\" D, \"&List!$B$63","v":"Čelní výsuv D, kovový zásuvný prvek"},null,{"$f":"List!$B$11&\":\"","v":"Zpět na:"},null,"Počty zásuvek →",{"$f":"SUM(D19:K19)","v":0},{"$f":"SUM(H20:L20)","v":0},{"$f":"SUM(D25:K25)","v":0},{"$f":"SUM(H26:L26)","v":0},{"$f":"Form!N2","v":1},"←barva"]
[null,null,null,null,null,null,null,null,null,null,null,null,null,{"$f":"\" \"&List!$B$13","v":" Úvod"},null,{"$f":"Cen!A28","v":"Bočnice M 270mm, šedé"},{"$f":"Cen!B28","v":"378M2702SA"},{"$f":"Cen!C28","v":"R906"},{"$f":"IF($U$2=4, 0, SUM($D$19, $D$25))","v":0},{"$f":"Cen!F28","v":350.6},{"$f":"S3*T3","v":0}]
[null,null,null,null,null,null,null,null,{"$f":"List!$B$72&\":\"","v":"bočnice:"},null,"M",null,null,{"$f":"\" \"&List!$B$4","v":" Výběr zásuvek a výsuvů"},null,{"$f":"Cen!A32","v":"Bočnice M 300mm, šedé"},{"$f":"Cen!B32","v":"378M3002SA"},{"$f":"Cen!C32","v":"R906"},{"$f":"IF($U$2=4, 0, SUM($E$19, $E$25))","v":0},{"$f":"Cen!F32","v":350.6},0]
[null,null,null,null,null,null,null,null,{"$f":"List!$B$27&\":\"","v":"barva:"},null,{"$f":"Form!$O$2","v":"šedá"},null,null,null,null,{"$f":"Cen!A36","v":"Bočnice M 350mm, šedé"},{"$f":"Cen!B36","v":"378M3502SA"},{"$f":"Cen!C36","v":"R906"},{"$f":"IF($U$2=4, 0, SUM($F$19, $F$25))","v":0},{"$f":"Cen!F36","v":350.6},0]
[null,null,null,null,null,null,null,null,null,null,null,null,null,{"$f":"List!$B$12&\":\"","v":"Pokračovat na:"},null,{"$f":"Cen!A40","v":"Bočnice M 400mm, šedé"},{"$f":"Cen!B40","v":"378M4002SA"},{"$f":"Cen!C40","v":"R906"},{"$f":"IF($U$2=4, 0, SUM($G$19, $G$25))","v":0},{"$f":"Cen!F40","v":354.3},0]
[null,null,null,null,null,null,null,null,{"$f":"List!$B$36&\":\"","v":"čelní kování:"},null,{"$f":"Form!$O$13","v":"INSERTA"},null,null,{"$f":"\" \"&List!$B$5","v":" Výběr doplňků"},null,{"$f":"Cen!A44","v":"Bočnice M 450mm, šedé"},{"$f":"Cen!B44","v":"378M4502SA"},{"$f":"Cen!C44","v":"R906"},{"$f":"IF($U$2=4, 0, SUM($H$19:$H$20, $H$25:$H$26))","v":0},{"$f":"Cen!F44","v":358.1},0]
[null,null,null,null,null,null,null,null,null,null,null,null,null,{"$f":"\" \"&List!$B$6","v":" Výběr SERVO-DRIVE"},null,{"$f":"Cen!A48","v":"Bočnice M 500mm, šedé"},{"$f":"Cen!B48","v":"378M5002SA"},{"$f":"Cen!C48","v":"R906"},{"$f":"IF($U$2=4, 0, SUM($I$19:$I$20, $I$25:$I$26))","v":0},{"$f":"Cen!F48","v":397.4},0]
[null,null,null,null,null,null,null,null,null,null,null,null,null,{"$f":"\" \"&List!$B$7","v":" Výběr ORGA-LINE"},null,{"$f":"Cen!A52","v":"Bočnice M 550mm, šedé"},{"$f":"Cen!B52","v":"378M5502SA"},{"$f":"Cen!C52","v":"R906"},{"$f":"IF($U$2=4, 0, SUM($J$19:$J$20, $J$25:$J$26))","v":0},{"$f":"Cen!F52","v":399.2},0]
[null,null,null,null,null,null,null,null,null,null,null,null,null,{"$f":"\" \"&List!$B$18","v":" Souhrn"},null,{"$f":"Cen!A56","v":"Bočnice M 600mm, šedé"},{"$f":"Cen!B56","v":"378M6002SA"},{"$f":"Cen!C56","v":"R906"},{"$f":"IF($U$2=4, 0, SUM($K$19:$K$20, $K$25:$K$26))","v":0},{"$f":"Cen!F56","v":508.3},0]
[null,null,null,null,null,null,null,null,null,null,null,null,null,null,null,{"$f":"Cen!A60","v":"Bočnice M 650mm, šedé"},{"$f":"Cen!B60","v":"378M6502SA"},{"$f":"Cen!C60","v":"R906"},{"$f":"IF($U$2=4, 0, SUM($L$20, $L$26))","v":0},{"$f":"Cen!F60","v":536.29999999999995},0]
[]
[null,null,null,null,null,null,null,null,null,null,null,null,null,null,null,{"$f":"Cen!A94","v":"Korpusové lišty 270mm, BLUMOTION, 30kg"},{"$f":"Cen!B94","v":"578.2701B"},{"$f":"Cen!C94","v":"ZN"},{"$f":"IF($U$2=4, 0, $D$19)","v":0},{"$f":"Cen!F94","v":459.2},0]
[null,null,null,null,null,null,{"$f":"IF($U$2=4, P103, \" \")","v":" "},null,null,null,null,null,null,null,null,{"$f":"Cen!A95","v":"Korpusové lišty 300mm, BLUMOTION, 30kg"},{"$f":"Cen!B95","v":"578.3001B"},{"$f":"Cen!C95","v":"ZN"},{"$f":"IF($U$2=4, 0, $E$19)","v":0},{"$f":"Cen!F95","v":459.2},0]
[null,null,null,null,null,null,{"$f":"IF($U$2=4, P104, \" \")","v":" "},null,null,null,null,null,null,null,null,{"$f":"Cen!A96","v":"Korpusové lišty 350mm, BLUMOTION, 30kg"},{"$f":"Cen!B96","v":"578.3501B"},{"$f":"Cen!C96","v":"ZN"},{"$f":"IF($U$2=4, 0, $F$19)","v":0},{"$f":"Cen!F96","v":459.2},0]
[null,null,null,null,null,null,null,null,null,null,null,null,null,null,null,{"$f":"Cen!A97","v":"Korpusové lišty 400mm, BLUMOTION, 30kg"},{"$f":"Cen!B97","v":"578.4001B"},{"$f":"Cen!C97","v":"ZN"},{"$f":"IF($U$2=4, 0, $G$19)","v":0},{"$f":"Cen!F97","v":462.6},0]
[null,"BLUMOTION",null,null,null,null,null,null,null,null,null,null,null,null,null,{"$f":"Cen!A98","v":"Korpusové lišty 450mm, BLUMOTION, 30kg"},{"$f":"Cen!B98","v":"578.4501B"},{"$f":"Cen!C98","v":"ZN"},{"$f":"IF($U$2=4, 0, $H$19)","v":0},{"$f":"Cen!F98","v":466},0]
[null,null,{"$f":"List!$B$45&\":\"","v":"Jmenovitá délka:"},"270 mm","300 mm","350 mm","400 mm","450 mm","500 mm","550 mm","600 mm","650 mm",null,null,null,{"$f":"Cen!A99","v":"Korpusové lišty 450mm, BLUMOTION, 65kg"},{"$f":"Cen!B99","v":"576.4501B"},{"$f":"Cen!C99","v":"ZN"},{"$f":"IF($U$2=4, 0, $H$20)","v":0},{"$f":"Cen!F99","v":560.79999999999995},0]
[null,"AD310BS","30 kg",null,null,null,null,null,null,null,null,null,null,null,null,{"$f":"Cen!A100","v":"Korpusové lišty 500mm, BLUMOTION, 30kg"},{"$f":"Cen!B100","v":"578.5001B"},{"$f":"Cen!C100","v":"ZN"},{"$f":"IF($U$2=4, 0, $I$19)","v":0},{"$f":"Cen!F100","v":469.5},0]
[null,"AD610BS","65 kg",null,null,null,null,null,null,null,null,null,null,null,null,{"$f":"Cen!A101","v":"Korpusové lišty 500mm, BLUMOTION, 65kg"},{"$f":"Cen!B101","v":"576.5001B"},{"$f":"Cen!C101","v":"ZN"},{"$f":"IF($U$2=4, 0, $I$20)","v":0},{"$f":"Cen!F101","v":620.4},0]
[null,null,null,null,null,null,null,null,null,null,null,null,null,null,null,{"$f":"Cen!A102","v":"Korpusové lišty 550mm, BLUMOTION, 30kg"},{"$f":"Cen!B102","v":"578.5501B"},{"$f":"Cen!C102","v":"ZN"},{"$f":"IF($U$2=4, 0, $J$19)","v":0},{"$f":"Cen!F102","v":493.5},0]
[null,null,null,null,null,null,null,null,null,null,null,null,null,null,null,{"$f":"Cen!A103","v":"Korpusové lišty 550mm, BLUMOTION, 65kg"},{"$f":"Cen!B103","v":"576.5501B"},{"$f":"Cen!C103","v":"ZN"},{"$f":"IF($U$2=4, 0, $J$20)","v":0},{"$f":"Cen!F103","v":644.29999999999995},0]
[null,"TIP-ON BLUMOTION",null,null,null,null,null,null,null,null,null,null,null,null,null,{"$f":"Cen!A104","v":"Korpusové lišty 600mm, BLUMOTION, 30kg"},{"$f":"Cen!B104","v":"578.6001B"},{"$f":"Cen!C104","v":"ZN"},{"$f":"IF($U$2=4, 0, $K$19)","v":0},{"$f":"Cen!F104","v":523.9},0]
[null,null,{"$f":"List!$B$45&\":\"","v":"Jmenovitá délka:"},"270 mm","300 mm","350 mm","400 mm","450 mm","500 mm","550 mm","600 mm","650 mm",null,null,null,{"$f":"Cen!A105","v":"Korpusové lišty 600mm, BLUMOTION, 65kg"},{"$f":"Cen!B105","v":"576.6001B"},{"$f":"Cen!C105","v":"ZN"},{"$f":"IF($U$2=4, 0, $K$20)","v":0},{"$f":"Cen!F105","v":661.1},0]
[null,"AD310MS","30 kg",null,null,null,null,null,null,null,null,null,null,null,null,{"$f":"Cen!A106","v":"Korpusové lišty 650mm, BLUMOTION, 65kg"},{"$f":"Cen!B106","v":"576.6501B"},{"$f":"Cen!C106","v":"ZN"},{"$f":"IF($U$2=4, 0, $L$20)","v":0},{"$f":"Cen!F106","v":751.2},0]
[null,"AD610MS","65 kg",null,null,null,null,null,null,null,null,null,null,null,null,{"$f":"Cen!A109","v":"Korp. lišty TIP-ON BLUMOTION, 270mm, 30 kg"},{"$f":"Cen!B109","v":"578.2701M"},{"$f":"Cen!C109","v":"ZN"},{"$f":"IF($U$2=4, 0, $D$25)","v":0},{"$f":"Cen!F109","v":417.4},0]
[null,null,null,null,null,null,null,null,null,null,null,null,null,null,null,{"$f":"Cen!A110","v":"Korp. lišty TIP-ON BLUMOTION, 300mm, 30 kg"},{"$f":"Cen!B110","v":"578.3001M"},{"$f":"Cen!C110","v":"ZN"},{"$f":"IF($U$2=4, 0, $E$25)","v":0},{"$f":"Cen!F110","v":417.4},0]
[null,null,null,{"$f":"List!$B$268","v":"Sada jednotek TIP-ON BLUMOTION"},null,null,null,null,null,null,null,null,null,{"$f":"List!$B$259","v":"Výběr sady jednotek"},null,{"$f":"Cen!A111","v":"Korp. lišty TIP-ON BLUMOTION, 350mm, 30 kg"},{"$f":"Cen!B111","v":"578.3501M"},{"$f":"Cen!C111","v":"ZN"},{"$f":"IF($U$2=4, 0, $F$25)","v":0},{"$f":"Cen!F111","v":417.4},0]
[null,null,null,"S0","S1","L1","L3","L5",null,null,null,null,null,null,null,{"$f":"Cen!A112","v":"Korp. lišty TIP-ON BLUMOTION, 400mm, 30 kg"},{"$f":"Cen!B112","v":"578.4001M"},{"$f":"Cen!C112","v":"ZN"},{"$f":"IF($U$2=4, 0, $G$25)","v":0},{"$f":"Cen!F112","v":420.5},0]
[null,null,null,null,null,null,null,null,{"$f":"IF(SUM($F$25:$K$25,$H$26:$L$26)=SUM($F$30:$H$30),\" \",$P$100)","v":" "},null,null,null,null,null,null,{"$f":"Cen!A113","v":"Korp. lišty TIP-ON BLUMOTION, 450mm, 30 kg"},{"$f":"Cen!B113","v":"578.4501M"},{"$f":"Cen!C113","v":"ZN"},{"$f":"IF($U$2=4, 0, $H$25)","v":0},{"$f":"Cen!F113","v":423.7},0]
[null,null,{"$f":"IF(AND(SUM($D$25,$E$25)>0,SUM($D$30,$E$30)=0),$P$99, IF(AND(SUM($D$25,$E$25)=0,SUM($D$30,$E$30)>0),$P$98, \" \"))&IF(SUM($D$25,$E$25)<>SUM($D$30,$E$30),\" \"&$P$101,\" \")","v":"  "},null,null,null,null,null,null,null,null,null,null,null,null,{"$f":"Cen!A114","v":"Korp. lišty TIP-ON BLUMOTION, 450mm, 65 kg"},{"$f":"Cen!B114","v":"578.4501M"},{"$f":"Cen!C114","v":"ZN"},{"$f":"IF($U$2=4, 0, $H$26)","v":0},{"$f":"Cen!F114","v":560.79999999999995},0]
[null,null,null,null,null,null,null,null,null,null,null,null,null,null,null,{"$f":"Cen!A115","v":"Korp. lišty TIP-ON BLUMOTION, 500mm, 30 kg"},{"$f":"Cen!B115","v":"578.5001M"},{"$f":"Cen!C115","v":"ZN"},{"$f":"IF($U$2=4, 0, $I$25)","v":0},{"$f":"Cen!F115","v":426.8},0]
[null,null,null,{"$f":"\"     \"&List!$B$270","v":"     Synchronizace je přidána automaticky. "},null,null,null,null,null,null,null,null,null,null,null,{"$f":"Cen!A116","v":"Korp. lišty TIP-ON BLUMOTION, 500mm, 65 kg"},{"$f":"Cen!B116","v":"576.5001M"},{"$f":"Cen!C116","v":"ZN"},{"$f":"IF($U$2=4, 0, $I$26)","v":0},{"$f":"Cen!F116","v":564},0]
[null,null,null,{"$f":"\"     \"&List!$B$271","v":"     Pozor! Pro každý výsuv je započítána jedna hřídel. Počet hřídelí upravte v objednávce!"},null,null,null,null,null,null,null,null,null,null,null,{"$f":"Cen!A117","v":"Korp. lišty TIP-ON BLUMOTION, 550mm, 30 kg"},{"$f":"Cen!B117","v":"578.5501M"},{"$f":"Cen!C117","v":"ZN"},{"$f":"IF($U$2=4, 0, $J$25)","v":0},{"$f":"Cen!F117","v":448.6},0]
[null,null,null,{"$f":"\"     \"&List!$B$272","v":"     Pro korpusy šířky ≥ 750 mm použijte podpěru dna a podpěru synchronizační hřídele."},null,null,null,null,null,null,null,null,null,null,null,{"$f":"Cen!A118","v":"Korp. lišty TIP-ON BLUMOTION, 550mm, 65 kg"},{"$f":"Cen!B118","v":"576.5501M"},{"$f":"Cen!C118","v":"ZN"},{"$f":"IF($U$2=4, 0, $J$26)","v":0},{"$f":"Cen!F118","v":585.79999999999995},0]
[null,null,null,{"$f":"\"     \"&List!$B$273","v":"     Podpěry přidejte v sekci \"Výběr doplňků\""},null,null,null,null,null,null,null,null,null,null,null,{"$f":"Cen!A119","v":"Korp. lišty TIP-ON BLUMOTION, 600mm, 30 kg"},{"$f":"Cen!B119","v":"578.6001M"},{"$f":"Cen!C119","v":"ZN"},{"$f":"IF($U$2=4, 0, $K$25)","v":0},{"$f":"Cen!F119","v":542},0]
[null,null,null,null,null,null,null,null,null,null,null,null,null,null,null,{"$f":"Cen!A120","v":"Korp. lišty TIP-ON BLUMOTION, 600mm, 65 kg"},{"$f":"Cen!B120","v":"576.6001M"},{"$f":"Cen!C120","v":"ZN"},{"$f":"IF($U$2=4, 0, $K$26)","v":0},{"$f":"Cen!F120","v":661.1},0]
[null,null,{"$f":"List!B244&\": \"","v":"Upozornění: "},{"$f":"List!B284","v":"Kovové zásuvné prvky pro NL 270 až 400mm se nevyrábí."},null,null,null,null,null,null,null,null,null,null,null,{"$f":"Cen!A121","v":"Korp. lišty TIP-ON BLUMOTION, 650mm, 65 kg"},{"$f":"Cen!B121","v":"576.6501M"},{"$f":"Cen!C121","v":"ZN"},{"$f":"IF($U$2=4, 0, $L$26)","v":0},{"$f":"Cen!F121","v":682.9},0]
[null,null,null,{"$f":"List!B285","v":"Do objednávky budou přidány prvky pro 450mm, které je potřeba na danou délku zkrátit."}]
[null,null,null,null,null,null,null,null,null,null,null,null,null,null,null,{"$f":"Cen!A124","v":"Sada jednotek TIP-ON BLUMOTION, S0"},{"$f":"Cen!B124","v":"T60B3030"},{"$f":"Cen!C124","v":"W"},{"$f":"IF($U$2=4, 0, $D$30)","v":0},{"$f":"Cen!F124","v":404.5},{"$f":"S40*T40","v":0}]
[null,null,null,null,null,null,null,null,null,null,null,null,null,null,null,{"$f":"Cen!A125","v":"Sada jednotek TIP-ON BLUMOTION, S1"},{"$f":"Cen!B125","v":"T60B3130"},{"$f":"Cen!C125","v":"R735"},{"$f":"IF($U$2=4, 0, $E$30)","v":0},{"$f":"Cen!F125","v":404.5},0]
[null,null,null,null,null,null,null,null,null,null,null,null,null,null,null,{"$f":"Cen!A126","v":"Sada jednotek TIP-ON BLUMOTION, L1"},{"$f":"Cen!B126","v":"T60B3330"},{"$f":"Cen!C126","v":"R735"},{"$f":"IF($U$2=4, 0, $F$30)","v":0},{"$f":"Cen!F126","v":404.5},0]
[null,null,null,null,null,null,null,null,null,null,null,null,null,null,null,{"$f":"Cen!A127","v":"Sada jednotek TIP-ON BLUMOTION, L3"},{"$f":"Cen!B127","v":"T60B3530"},{"$f":"Cen!C127","v":"R737"},{"$f":"IF($U$2=4, 0, $G$30)","v":0},{"$f":"Cen!F127","v":404.5},0]
[null,null,null,null,null,null,null,null,null,null,null,null,null,null,null,{"$f":"Cen!A128","v":"Sada jednotek TIP-ON BLUMOTION, L5"},{"$f":"Cen!B128","v":"T60B3560"},{"$f":"Cen!C128","v":"S"},{"$f":"IF($U$2=4, 0, $H$30)","v":0},{"$f":"Cen!F128","v":404.5},0]
[]
[null,null,null,null,null,null,null,null,null,null,null,null,null,null,null,{"$f":"Cen!A130","v":"Synchronizační adaptér"},{"$f":"Cen!B130","v":"T60.000D"},{"$f":"Cen!C130","v":"R735"},{"$f":"SUM($S$40:$S$44)*2","v":0},{"$f":"Cen!F130","v":5.8},0]
[null,null,null,null,null,null,null,null,null,null,null,null,null,null,null,{"$f":"Cen!A131","v":"Hřídel synchronizace"},{"$f":"Cen!B131","v":"T60.1125W"},{"$f":"Cen!C131","v":"GR"},{"$f":"SUM($S$40:$S$44)","v":0},{"$f":"Cen!F131","v":95.6},0]
[null,null,null,null,null,null,null,null,null,null,null,null,null,null,null,{"$f":"Cen!A132","v":"Jednodílná synchronizace"},{"$f":"Cen!B132","v":"T60.300D"},{"$f":"Cen!C132","v":"R735"},null,{"$f":"Cen!F132","v":23.2},0]
[null,null,null,null,null,null,null,null,null,null,null,null,null,null,null,{"$f":"Cen!A134","v":"Držák hřídele synchronizace"},{"$f":"Cen!B134","v":"T60B000H"},{"$f":"Cen!C134","v":"NI"},null,{"$f":"Cen!F134","v":6},0]
[null,null,null,null,null,null,null,null,null,null,null,null,null,null,null,{"$f":"Cen!A135","v":"Podpěrný úhelník pro dno"},{"$f":"Cen!B135","v":"Z96.2011"},{"$f":"Cen!C135","v":"R737"},null,{"$f":"Cen!F135","v":29.8},0]
[]
[null,null,null,null,null,null,null,null,null,null,null,null,null,null,null,{"$f":"Cen!A143","v":"Držáky zadní stěny N, šedé"},{"$f":"Cen!B143","v":"Z30N000S.04"},{"$f":"Cen!C143","v":"R906"},null,{"$f":"Cen!F143","v":36.5},{"$f":"S52*T52","v":0}]
[null,null,null,null,null,null,null,null,null,null,null,null,null,null,null,{"$f":"Cen!A147","v":"Držáky zadní stěny M, šedé"},{"$f":"Cen!B147","v":"Z30M000S.04"},{"$f":"Cen!C147","v":"R906"},null,{"$f":"Cen!F147","v":40.200000000000003},{"$f":"S53*T53","v":0}]
[null,null,null,null,null,null,null,null,null,null,null,null,null,null,null,{"$f":"Cen!A151","v":"Držáky zadní stěny K, šedé"},{"$f":"Cen!B151","v":"Z30K000S"},{"$f":"Cen!C151","v":"R906"},null,{"$f":"Cen!F151","v":67.400000000000006},0]
[null,null,null,null,null,null,null,null,null,null,null,null,null,null,null,{"$f":"Cen!A154","v":"Držáky zadní stěny B, šedé"},{"$f":"Cen!B154","v":"Z30B000S.04"},{"$f":"Cen!C154","v":"R906"},null,{"$f":"Cen!F154","v":48.8},0]
[null,null,null,null,null,null,null,null,null,null,null,null,null,null,null,{"$f":"Cen!A158","v":"Držáky zadní stěny C, šedé"},{"$f":"Cen!B158","v":"Z30C000S"},{"$f":"Cen!C158","v":"R906"},null,{"$f":"Cen!F158","v":71},0]
[null,null,null,null,null,null,null,null,null,null,null,null,null,null,null,{"$f":"Cen!A162","v":"Držáky zadní stěny D, šedé"},{"$f":"Cen!B162","v":"Z30D000S"},{"$f":"Cen!C162","v":"R906"},{"$f":"SUM($S$3:$S$11)","v":0},{"$f":"Cen!F162","v":78.099999999999994},{"$f":"S57*T57","v":0}]
[]
[null,null,null,null,null,null,null,null,null,null,null,null,null,null,null,{"$f":"Cen!A173","v":"Čelní kování INSERTA"},{"$f":"Cen!B173","v":"ZSF.39A2"},{"$f":"Cen!C173","v":"BL"},{"$f":"SUM($S$3:$S$11)*2","v":0},{"$f":"Cen!F173","v":22.4},0]
[]
[]
[]
[null,null,null,null,null,null,null,null,null,null,null,null,null,null,null,{"$f":"Cen!A215","v":"Podélný reling vlevo/vpravo, 270mm, šedý"},{"$f":"Cen!B215","v":"ZRG.207RSIC"},{"$f":"Cen!C215","v":"R906"},{"$f":"S3","v":0},{"$f":"Cen!F215","v":150},{"$f":"S63*T63","v":0}]
[null,null,null,null,null,null,null,null,null,null,null,null,null,null,null,{"$f":"Cen!A219","v":"Podélný reling vlevo/vpravo, 300mm, šedý"},{"$f":"Cen!B219","v":"ZRG.237RSIC"},{"$f":"Cen!C219","v":"R906"},0,{"$f":"Cen!F219","v":152.5},0]
[null,null,null,null,null,null,null,null,null,null,null,null,null,null,null,{"$f":"Cen!A223","v":"Podélný reling vlevo/vpravo, 350mm, šedý"},{"$f":"Cen!B223","v":"ZRG.287RSIC"},{"$f":"Cen!C223","v":"R906"},0,{"$f":"Cen!F223","v":155},0]
[null,null,null,null,null,null,null,null,null,null,null,null,null,null,null,{"$f":"Cen!A227","v":"Podélný reling vlevo/vpravo, 400mm, šedý"},{"$f":"Cen!B227","v":"ZRG.337RSIC"},{"$f":"Cen!C227","v":"R906"},0,{"$f":"Cen!F227","v":157.5},0]
[null,null,null,null,null,null,null,null,null,null,null,null,null,null,null,{"$f":"Cen!A231","v":"Podélný reling vlevo/vpravo, 450mm, šedý"},{"$f":"Cen!B231","v":"ZRG.387RSIC"},{"$f":"Cen!C231","v":"R906"},0,{"$f":"Cen!F231","v":160},0]
[null,null,null,null,null,null,null,null,null,null,null,null,null,null,null,{"$f":"Cen!A235","v":"Podélný reling vlevo/vpravo, 500mm, šedý"},{"$f":"Cen!B235","v":"ZRG.437RSIC"},{"$f":"Cen!C235","v":"R906"},0,{"$f":"Cen!F235","v":178.7},0]
[null,null,null,null,null,null,null,null,null,null,null,null,null,null,null,{"$f":"Cen!A239","v":"Podélný reling vlevo/vpravo, 550mm, šedý"},{"$f":"Cen!B239","v":"ZRG.487RSIC"},{"$f":"Cen!C239","v":"R906"},0,{"$f":"Cen!F239","v":169.4},0]
[null,null,null,null,null,null,null,null,null,null,null,null,null,null,null,{"$f":"Cen!A243","v":"Podélný reling vlevo/vpravo, 600mm, šedý"},{"$f":"Cen!B243","v":"ZRG.537RSIC"},{"$f":"Cen!C243","v":"R906"},0,{"$f":"Cen!F243","v":176.3},0]
[null,null,null,null,null,null,null,null,null,null,null,null,null,null,null,{"$f":"Cen!A247","v":"Podélný reling vlevo/vpravo, 650mm, šedý"},{"$f":"Cen!B247","v":"ZRG.587RSIC"},{"$f":"Cen!C247","v":"R906"},0,{"$f":"Cen!F247","v":183.2},0]
[]
[null,null,null,null,null,null,null,null,null,null,null,null,null,null,null,{"$f":"Cen!A328","v":"Sada držáků zásuvného prvku D, bílošedá"},{"$f":"Cen!B328","v":"Z36D0080"},{"$f":"Cen!C328","v":"WGR"},{"$f":"SUM($S$3:$S$11)","v":0},{"$f":"Cen!F328","v":63.3},{"$f":"S73*T73","v":0}]
[]
[]
[]
[]
[]
[null,null,null,null,null,null,null,null,null,null,null,null,null,null,null,{"$f":"Cen!A292","v":"Kovový zásuvný prvek D, 450mm, šedý"},{"$f":"Cen!B292","v":"Z37A417D"},{"$f":"Cen!C292","v":"R906"},{"$f":"SUM(S3:S7)*2","v":0},{"$f":"Cen!F292","v":156.5},{"$f":"S79*T79","v":0}]
[null,null,null,null,null,null,null,null,null,null,null,null,null,null,null,{"$f":"Cen!A295","v":"Kovový zásuvný prvek D, 500mm, šedý"},{"$f":"Cen!B295","v":"Z37A467D"},{"$f":"Cen!C295","v":"R906"},{"$f":"S8*2","v":0},{"$f":"Cen!F295","v":164.4},{"$f":"S80*T80","v":0}]
[null,null,null,null,null,null,null,null,null,null,null,null,null,null,null,{"$f":"Cen!A298","v":"Kovový zásuvný prvek D, 550mm, šedý"},{"$f":"Cen!B298","v":"Z37A517D"},{"$f":"Cen!C298","v":"R906"},{"$f":"S9*2","v":0},{"$f":"Cen!F298","v":177.6},{"$f":"S81*T81","v":0}]
[null,null,null,null,null,null,null,null,null,null,null,null,null,null,null,{"$f":"Cen!A301","v":0},{"$f":"Cen!B301","v":0},{"$f":"Cen!C301","v":0},null,{"$f":"Cen!F301","v":0},{"$f":"S82*T82","v":0}]
[null,null,null,null,null,null,null,null,null,null,null,null,null,null,null,{"$f":"Cen!A304","v":"Kovový zásuvný prvek D, 650mm, šedý"},{"$f":"Cen!B304","v":"Z37A617D"},{"$f":"Cen!C304","v":"R906"},{"$f":"SUM(S10, S11)*2","v":0},{"$f":"Cen!F304","v":204},{"$f":"S83*T83","v":0}]
[]
[]
[]
[]
[]
[]
[null,null,null,null,null,null,null,null,null,null,null,null,null,null,null,null,null,null,null,null,{"$f":"SUM(U3:U89)","v":0}]
[]
[]
[]
[]
[]
[]
[]
[null,null,null,null,null,null,null,null,null,null,null,null,null,null,null,{"$f":"List!$B$276&\"!\"","v":"S0 a S1 pouze pro jmenovitou délku 270 a 300 mm!"}]
[null,null,null,null,null,null,null,null,null,null,null,null,null,null,null,{"$f":"List!$B$277&\"!\"","v":"Pro výsuvy délky 270 a 300 mm vyberte jednotky S0 nebo S1!"}]
[null,{"$f":"List!B25","v":"Informace k objednávání"},null,null,null,null,null,null,null,null,null,null,null,null,null,{"$f":"List!$B$278&\"!\"","v":"Počet jednotek L neodpovídá počtu korpusových lišt!"}]
[null,null,null,null,null,null,null,null,null,null,null,null,null,null,null,{"$f":"List!$B$279&\"!\"","v":"Počet jednotek S neodpovídá počtu korpusových lišt!"}]
[]
[null,null,null,{"$f":"List!B268&\" \"&List!B283","v":"Sada jednotek TIP-ON BLUMOTION a sada unašečů TIP-ON BLUMOTION"},null,null,null,null,null,null,null,null,null,null,null,{"$f":"List!$B$289&\"!\"","v":"Kovové zásuvné prvky pro nerez (Inox) se nevyrábí!"}]
[null,null,null,{"$f":"List!$B$280&\":\"","v":"Využití pro:"},null,null,null,null,null,{"$f":"List!B281&\"*\"","v":"Doporučené hodnoty hmotnosti*"},null,null,null,null,null,{"$f":"List!$B$290&\"!\"","v":"Kování naplánované na tomto listu se neprojeví v objednávce!"}]
[null,null,null,{"$f":"List!B45&\" (NL)\"","v":"Jmenovitá délka (NL)"},null,null,{"$f":"List!B275","v":"Jednotka"},{"$f":"List!B88","v":"Číslo artiklu"}]
[null,null,null,"270 - 300 mm",null,null,"S0","T60L7040",null,"≤ 10 kg"]
[null,null,null,null,null,null,"S1","T60L7140",null,"10-20 kg"]
[null,null,null,"350 - 650 mm",null,null,"L1","T60L7340",null,"≤ 20 kg"]
[null,null,null,null,null,null,"L3","T60L7540",null,"15 - 40 kg"]
[null,null,null,null,null,null,"L5","T60L7570",null,null,"25 - 70 kg"]
[null,null,null,null,null,null,null,{"$f":"\"* \"&List!B282","v":"* Celková hmotnost výsuvu (hmotnost výsuvu včetně náplně)"}]
[]
[null,null,null,null,null,null,null,null,null,null,null,null,null,{"$f":"List!$B$99","v":"Zpět"}]

{"sheet":"AD310R","index":9,"n_rows":113,"n_cols":21,"rows_kept":113,"cut":false,"hidden":false,"merged":[[108,9,108,10],[109,7,109,8],[109,10,109,11],[98,0,139,0],[99,1,100,11],[102,1,102,2],[102,3,102,11],[103,1,111,2],[103,3,103,8],[103,9,104,11],[104,3,104,5],[104,7,104,8],[105,3,106,5],[110,7,111,11],[105,7,105,8],[106,7,106,8],[107,3,109,5],[107,7,107,8],[108,7,108,8]]}
[]
[null,null,null,null,null,null,null,null,null,null,null,{"$f":"List!$B$48&\" D, \"&List!$B$64","v":"Čelní výsuv D, podélný reling"},null,{"$f":"List!$B$11&\":\"","v":"Zpět na:"},null,"Počty zásuvek →",{"$f":"SUM(D19:K19)","v":0},{"$f":"SUM(H20:L20)","v":0},{"$f":"SUM(D25:K25)","v":0},{"$f":"SUM(H26:L26)","v":0}]
[null,null,null,null,null,null,null,null,null,null,null,null,null,{"$f":"\" \"&List!$B$13","v":" Úvod"},null,{"$f":"Cen!A28","v":"Bočnice M 270mm, šedé"},{"$f":"Cen!B28","v":"378M2702SA"},{"$f":"Cen!C28","v":"R906"},{"$f":"SUM($D$19, $D$25)","v":0},{"$f":"Cen!F28","v":350.6},{"$f":"S3*T3","v":0}]
[null,null,null,null,null,null,null,null,{"$f":"List!$B$72&\":\"","v":"bočnice:"},null,"M",null,null,{"$f":"\" \"&List!$B$4","v":" Výběr zásuvek a výsuvů"},null,{"$f":"Cen!A32","v":"Bočnice M 300mm, šedé"},{"$f":"Cen!B32","v":"378M3002SA"},{"$f":"Cen!C32","v":"R906"},{"$f":"SUM($E$19, $E$25)","v":0},{"$f":"Cen!F32","v":350.6},0]
[null,null,null,null,null,null,null,null,{"$f":"List!$B$27&\":\"","v":"barva:"},null,{"$f":"Form!$O$2","v":"šedá"},null,null,null,null,{"$f":"Cen!A36","v":"Bočnice M 350mm, šedé"},{"$f":"Cen!B36","v":"378M3502SA"},{"$f":"Cen!C36","v":"R906"},{"$f":"SUM($F$19, $F$25)","v":0},{"$f":"Cen!F36","v":350.6},0]
[null,null,null,null,null,null,null,null,null,null,null,null,null,{"$f":"List!$B$12&\":\"","v":"Pokračovat na:"},null,{"$f":"Cen!A40","v":"Bočnice M 400mm, šedé"},{"$f":"Cen!B40","v":"378M4002SA"},{"$f":"Cen!C40","v":"R906"},{"$f":"SUM($G$19, $G$25)","v":0},{"$f":"Cen!F40","v":354.3},0]
[null,null,null,null,null,null,null,null,{"$f":"List!$B$36&\":\"","v":"čelní kování:"},null,{"$f":"Form!$O$13","v":"INSERTA"},null,null,{"$f":"\" \"&List!$B$5","v":" Výběr doplňků"},null,{"$f":"Cen!A44","v":"Bočnice M 450mm, šedé"},{"$f":"Cen!B44","v":"378M4502SA"},{"$f":"Cen!C44","v":"R906"},{"$f":"SUM($H$19:$H$20, $H$25:$H$26)","v":0},{"$f":"Cen!F44","v":358.1},0]
[null,null,null,null,null,null,null,null,null,null,null,null,null,{"$f":"\" \"&List!$B$6","v":" Výběr SERVO-DRIVE"},null,{"$f":"Cen!A48","v":"Bočnice M 500mm, šedé"},{"$f":"Cen!B48","v":"378M5002SA"},{"$f":"Cen!C48","v":"R906"},{"$f":"SUM($I$19:$I$20, $I$25:$I$26)","v":0},{"$f":"Cen!F48","v":397.4},0]
[null,null,null,null,null,null,null,null,null,null,null,null,null,{"$f":"\" \"&List!$B$7","v":" Výběr ORGA-LINE"},null,{"$f":"Cen!A52","v":"Bočnice M 550mm, šedé"},{"$f":"Cen!B52","v":"378M5502SA"},{"$f":"Cen!C52","v":"R906"},{"$f":"SUM($J$19:$J$20, $J$25:$J$26)","v":0},{"$f":"Cen!F52","v":399.2},0]
[null,null,null,null,null,null,null,null,null,null,null,null,null,{"$f":"\" \"&List!$B$18","v":" Souhrn"},null,{"$f":"Cen!A56","v":"Bočnice M 600mm, šedé"},{"$f":"Cen!B56","v":"378M6002SA"},{"$f":"Cen!C56","v":"R906"},{"$f":"SUM($K$19:$K$20, $K$25:$K$26)","v":0},{"$f":"Cen!F56","v":508.3},0]
[null,null,null,null,null,null,null,null,null,null,null,null,null,null,null,{"$f":"Cen!A60","v":"Bočnice M 650mm, šedé"},{"$f":"Cen!B60","v":"378M6502SA"},{"$f":"Cen!C60","v":"R906"},{"$f":"SUM($L$20, $L$26)","v":0},{"$f":"Cen!F60","v":536.29999999999995},0]
[]
[null,null,null,null,null,null,null,null,null,null,null,null,null,null,null,{"$f":"Cen!A94","v":"Korpusové lišty 270mm, BLUMOTION, 30kg"},{"$f":"Cen!B94","v":"578.2701B"},{"$f":"Cen!C94","v":"ZN"},{"$f":"$D$19","v":0},{"$f":"Cen!F94","v":459.2},0]
[null,null,null,null,null,null,null,null,null,null,null,null,null,null,null,{"$f":"Cen!A95","v":"Korpusové lišty 300mm, BLUMOTION, 30kg"},{"$f":"Cen!B95","v":"578.3001B"},{"$f":"Cen!C95","v":"ZN"},{"$f":"$E$19","v":0},{"$f":"Cen!F95","v":459.2},0]
[null,null,null,null,null,null,null,null,null,null,null,null,null,null,null,{"$f":"Cen!A96","v":"Korpusové lišty 350mm, BLUMOTION, 30kg"},{"$f":"Cen!B96","v":"578.3501B"},{"$f":"Cen!C96","v":"ZN"},{"$f":"$F$19","v":0},{"$f":"Cen!F96","v":459.2},0]
[null,null,null,null,null,null,null,null,null,null,null,null,null,null,null,{"$f":"Cen!A97","v":"Korpusové lišty 400mm, BLUMOTION, 30kg"},{"$f":"Cen!B97","v":"578.4001B"},{"$f":"Cen!C97","v":"ZN"},{"$f":"$G$19","v":0},{"$f":"Cen!F97","v":462.6},0]
[null,"BLUMOTION",null,null,null,null,null,null,null,null,null,null,null,null,null,{"$f":"Cen!A98","v":"Korpusové lišty 450mm, BLUMOTION, 30kg"},{"$f":"Cen!B98","v":"578.4501B"},{"$f":"Cen!C98","v":"ZN"},{"$f":"$H$19","v":0},{"$f":"Cen!F98","v":466},0]
[null,null,{"$f":"List!$B$45&\":\"","v":"Jmenovitá délka:"},"270 mm","300 mm","350 mm","400 mm","450 mm","500 mm","550 mm","600 mm","650 mm",null,null,null,{"$f":"Cen!A99","v":"Korpusové lišty 450mm, BLUMOTION, 65kg"},{"$f":"Cen!B99","v":"576.4501B"},{"$f":"Cen!C99","v":"ZN"},{"$f":"$H$20","v":0},{"$f":"Cen!F99","v":560.79999999999995},0]
[null,"AD310BR","30 kg",null,null,null,null,null,null,null,null,null,null,null,null,{"$f":"Cen!A100","v":"Korpusové lišty 500mm, BLUMOTION, 30kg"},{"$f":"Cen!B100","v":"578.5001B"},{"$f":"Cen!C100","v":"ZN"},{"$f":"$I$19","v":0},{"$f":"Cen!F100","v":469.5},0]
[null,"AD610BR","65 kg",null,null,null,null,null,null,null,null,null,null,null,null,{"$f":"Cen!A101","v":"Korpusové lišty 500mm, BLUMOTION, 65kg"},{"$f":"Cen!B101","v":"576.5001B"},{"$f":"Cen!C101","v":"ZN"},{"$f":"$I$20","v":0},{"$f":"Cen!F101","v":620.4},0]
[null,null,null,null,null,null,null,null,null,null,null,null,null,null,null,{"$f":"Cen!A102","v":"Korpusové lišty 550mm, BLUMOTION, 30kg"},{"$f":"Cen!B102","v":"578.5501B"},{"$f":"Cen!C102","v":"ZN"},{"$f":"$J$19","v":0},{"$f":"Cen!F102","v":493.5},0]
[null,null,null,null,null,null,null,null,null,null,null,null,null,null,null,{"$f":"Cen!A103","v":"Korpusové lišty 550mm, BLUMOTION, 65kg"},{"$f":"Cen!B103","v":"576.5501B"},{"$f":"Cen!C103","v":"ZN"},{"$f":"$J$20","v":0},{"$f":"Cen!F103","v":644.29999999999995},0]
[null,"TIP-ON BLUMOTION",null,null,null,null,null,null,null,null,null,null,null,null,null,{"$f":"Cen!A104","v":"Korpusové lišty 600mm, BLUMOTION, 30kg"},{"$f":"Cen!B104","v":"578.6001B"},{"$f":"Cen!C104","v":"ZN"},{"$f":"$K$19","v":0},{"$f":"Cen!F104","v":523.9},0]
[null,null,{"$f":"List!$B$45&\":\"","v":"Jmenovitá délka:"},"270 mm","300 mm","350 mm","400 mm","450 mm","500 mm","550 mm","600 mm","650 mm",null,null,null,{"$f":"Cen!A105","v":"Korpusové lišty 600mm, BLUMOTION, 65kg"},{"$f":"Cen!B105","v":"576.6001B"},{"$f":"Cen!C105","v":"ZN"},{"$f":"$K$20","v":0},{"$f":"Cen!F105","v":661.1},0]
[null,"AD310MR","30 kg",null,null,null,null,null,null,null,null,null,null,null,null,{"$f":"Cen!A106","v":"Korpusové lišty 650mm, BLUMOTION, 65kg"},{"$f":"Cen!B106","v":"576.6501B"},{"$f":"Cen!C106","v":"ZN"},{"$f":"$L$20","v":0},{"$f":"Cen!F106","v":751.2},0]
[null,"AD610MR","65 kg",null,null,null,null,null,null,null,null,null,null,null,null,{"$f":"Cen!A109","v":"Korp. lišty TIP-ON BLUMOTION, 270mm, 30 kg"},{"$f":"Cen!B109","v":"578.2701M"},{"$f":"Cen!C109","v":"ZN"},{"$f":"$D$25","v":0},{"$f":"Cen!F109","v":417.4},0]
[null,null,null,null,null,null,null,null,null,null,null,null,null,null,null,{"$f":"Cen!A110","v":"Korp. lišty TIP-ON BLUMOTION, 300mm, 30 kg"},{"$f":"Cen!B110","v":"578.3001M"},{"$f":"Cen!C110","v":"ZN"},{"$f":"$E$25","v":0},{"$f":"Cen!F110","v":417.4},0]
[null,null,null,{"$f":"List!$B$268","v":"Sada jednotek TIP-ON BLUMOTION"},null,null,null,null,null,null,null,null,null,{"$f":"List!$B$259","v":"Výběr sady jednotek"},null,{"$f":"Cen!A111","v":"Korp. lišty TIP-ON BLUMOTION, 350mm, 30 kg"},{"$f":"Cen!B111","v":"578.3501M"},{"$f":"Cen!C111","v":"ZN"},{"$f":"$F$25","v":0},{"$f":"Cen!F111","v":417.4},0]
[null,null,null,"S0","S1","L1","L3","L5",null,null,null,null,null,null,null,{"$f":"Cen!A112","v":"Korp. lišty TIP-ON BLUMOTION, 400mm, 30 kg"},{"$f":"Cen!B112","v":"578.4001M"},{"$f":"Cen!C112","v":"ZN"},{"$f":"$G$25","v":0},{"$f":"Cen!F112","v":420.5},0]
[null,null,null,null,null,null,null,null,{"$f":"IF(SUM($F$25:$K$25,$H$26:$L$26)=SUM($F$30:$H$30),\" \",$P$100)","v":" "},null,null,null,null,null,null,{"$f":"Cen!A113","v":"Korp. lišty TIP-ON BLUMOTION, 450mm, 30 kg"},{"$f":"Cen!B113","v":"578.4501M"},{"$f":"Cen!C113","v":"ZN"},{"$f":"$H$25","v":0},{"$f":"Cen!F113","v":423.7},0]
[null,null,{"$f":"IF(AND(SUM($D$25,$E$25)>0,SUM($D$30,$E$30)=0),$P$99, IF(AND(SUM($D$25,$E$25)=0,SUM($D$30,$E$30)>0),$P$98, \" \"))&IF(SUM($D$25,$E$25)<>SUM($D$30,$E$30),\" \"&$P$101,\" \")","v":"  "},null,null,null,null,null,null,null,null,null,null,null,null,{"$f":"Cen!A114","v":"Korp. lišty TIP-ON BLUMOTION, 450mm, 65 kg"},{"$f":"Cen!B114","v":"578.4501M"},{"$f":"Cen!C114","v":"ZN"},{"$f":"$H$26","v":0},{"$f":"Cen!F114","v":560.79999999999995},0]
[null,null,null,null,null,null,null,null,null,null,null,null,null,null,null,{"$f":"Cen!A115","v":"Korp. lišty TIP-ON BLUMOTION, 500mm, 30 kg"},{"$f":"Cen!B115","v":"578.5001M"},{"$f":"Cen!C115","v":"ZN"},{"$f":"$I$25","v":0},{"$f":"Cen!F115","v":426.8},0]
[null,null,null,{"$f":"\"     \"&List!$B$270","v":"     Synchronizace je přidána automaticky. "},null,null,null,null,null,null,null,null,null,null,null,{"$f":"Cen!A116","v":"Korp. lišty TIP-ON BLUMOTION, 500mm, 65 kg"},{"$f":"Cen!B116","v":"576.5001M"},{"$f":"Cen!C116","v":"ZN"},{"$f":"$I$26","v":0},{"$f":"Cen!F116","v":564},0]
[null,null,null,{"$f":"\"     \"&List!$B$271","v":"     Pozor! Pro každý výsuv je započítána jedna hřídel. Počet hřídelí upravte v objednávce!"},null,null,null,null,null,null,null,null,null,null,null,{"$f":"Cen!A117","v":"Korp. lišty TIP-ON BLUMOTION, 550mm, 30 kg"},{"$f":"Cen!B117","v":"578.5501M"},{"$f":"Cen!C117","v":"ZN"},{"$f":"$J$25","v":0},{"$f":"Cen!F117","v":448.6},0]
[null,null,null,{"$f":"\"     \"&List!$B$272","v":"     Pro korpusy šířky ≥ 750 mm použijte podpěru dna a podpěru synchronizační hřídele."},null,null,null,null,null,null,null,null,null,null,null,{"$f":"Cen!A118","v":"Korp. lišty TIP-ON BLUMOTION, 550mm, 65 kg"},{"$f":"Cen!B118","v":"576.5501M"},{"$f":"Cen!C118","v":"ZN"},{"$f":"$J$26","v":0},{"$f":"Cen!F118","v":585.79999999999995},0]
[null,null,null,{"$f":"\"     \"&List!$B$273","v":"     Podpěry přidejte v sekci \"Výběr doplňků\""},null,null,null,null,null,null,null,null,null,null,null,{"$f":"Cen!A119","v":"Korp. lišty TIP-ON BLUMOTION, 600mm, 30 kg"},{"$f":"Cen!B119","v":"578.6001M"},{"$f":"Cen!C119","v":"ZN"},{"$f":"$K$25","v":0},{"$f":"Cen!F119","v":542},0]
[null,null,null,null,null,null,null,null,null,null,null,null,null,null,null,{"$f":"Cen!A120","v":"Korp. lišty TIP-ON BLUMOTION, 600mm, 65 kg"},{"$f":"Cen!B120","v":"576.6001M"},{"$f":"Cen!C120","v":"ZN"},{"$f":"$K$26","v":0},{"$f":"Cen!F120","v":661.1},0]
[null,null,null,null,null,null,null,null,null,null,null,null,null,null,null,{"$f":"Cen!A121","v":"Korp. lišty TIP-ON BLUMOTION, 650mm, 65 kg"},{"$f":"Cen!B121","v":"576.6501M"},{"$f":"Cen!C121","v":"ZN"},{"$f":"$L$26","v":0},{"$f":"Cen!F121","v":682.9},0]
[]
[null,{"$f":"List!$B$23&\": *\"","v":"Volitelně: *"},null,null,null,null,null,null,null,null,null,null,null,null,null,{"$f":"Cen!A124","v":"Sada jednotek TIP-ON BLUMOTION, S0"},{"$f":"Cen!B124","v":"T60B3030"},{"$f":"Cen!C124","v":"W"},{"$f":"$D$30","v":0},{"$f":"Cen!F124","v":404.5},{"$f":"S40*T40","v":0}]
[null,{"$f":"Cen!A328","v":"Sada držáků zásuvného prvku D, bílošedá"},null,null,null,null,null,{"$f":"Cen!B328","v":"Z36D0080"},{"$f":"Cen!C328","v":"WGR"},null,null,null,null,null,null,{"$f":"Cen!A125","v":"Sada jednotek TIP-ON BLUMOTION, S1"},{"$f":"Cen!B125","v":"T60B3130"},{"$f":"Cen!C125","v":"R735"},{"$f":"$E$30","v":0},{"$f":"Cen!F125","v":404.5},0]
[null,null,null,null,null,null,null,null,null,null,null,null,null,null,null,{"$f":"Cen!A126","v":"Sada jednotek TIP-ON BLUMOTION, L1"},{"$f":"Cen!B126","v":"T60B3330"},{"$f":"Cen!C126","v":"R735"},{"$f":"$F$30","v":0},{"$f":"Cen!F126","v":404.5},0]
[null,{"$f":"\"     * \"&List!$B$148","v":"     * Sada držáků, pro vlastní zásuvný prvek"},null,null,null,null,null,null,null,null,null,null,null,null,null,{"$f":"Cen!A127","v":"Sada jednotek TIP-ON BLUMOTION, L3"},{"$f":"Cen!B127","v":"T60B3530"},{"$f":"Cen!C127","v":"R737"},{"$f":"$G$30","v":0},{"$f":"Cen!F127","v":404.5},0]
[null,{"$f":"\"       \"&List!$B$150&\"!\"","v":"       Cena držáků zásuvného prvku není zahrnuta do cen jednotlivých výsuvů!"},null,null,null,null,null,null,null,null,null,null,null,null,null,{"$f":"Cen!A128","v":"Sada jednotek TIP-ON BLUMOTION, L5"},{"$f":"Cen!B128","v":"T60B3560"},{"$f":"Cen!C128","v":"S"},{"$f":"$H$30","v":0},{"$f":"Cen!F128","v":404.5},0]
[]
[null,{"$f":"IF(OR($K$14>0, $L$14>0), List!$B$196, \" \")","v":" "},null,null,null,null,null,null,null,null,null,null,null,null,null,{"$f":"Cen!A130","v":"Synchronizační adaptér"},{"$f":"Cen!B130","v":"T60.000D"},{"$f":"Cen!C130","v":"R735"},{"$f":"SUM($S$40:$S$44)*2","v":0},{"$f":"Cen!F130","v":5.8},0]
[null,{"$f":"IF(OR($K$14>0, $L$14>0), List!$B$200, \" \")","v":" "},null,null,null,null,null,null,null,null,null,null,null,null,null,{"$f":"Cen!A131","v":"Hřídel synchronizace"},{"$f":"Cen!B131","v":"T60.1125W"},{"$f":"Cen!C131","v":"GR"},{"$f":"SUM($S$40:$S$44)","v":0},{"$f":"Cen!F131","v":95.6},0]
[null,null,null,null,null,null,null,null,null,null,null,null,null,null,null,{"$f":"Cen!A132","v":"Jednodílná synchronizace"},{"$f":"Cen!B132","v":"T60.300D"},{"$f":"Cen!C132","v":"R735"},null,{"$f":"Cen!F132","v":23.2},0]
[null,null,null,null,null,null,null,null,null,null,null,null,null,null,null,{"$f":"Cen!A134","v":"Držák hřídele synchronizace"},{"$f":"Cen!B134","v":"T60B000H"},{"$f":"Cen!C134","v":"NI"},null,{"$f":"Cen!F134","v":6},0]
[null,null,null,null,null,null,null,null,null,null,null,null,null,null,null,{"$f":"Cen!A135","v":"Podpěrný úhelník pro dno"},{"$f":"Cen!B135","v":"Z96.2011"},{"$f":"Cen!C135","v":"R737"},null,{"$f":"Cen!F135","v":29.8},0]
[]
[null,null,null,null,null,null,null,null,null,null,null,null,null,null,null,{"$f":"Cen!A143","v":"Držáky zadní stěny N, šedé"},{"$f":"Cen!B143","v":"Z30N000S.04"},{"$f":"Cen!C143","v":"R906"},null,{"$f":"Cen!F143","v":36.5},{"$f":"S52*T52","v":0}]
[null,null,null,null,null,null,null,null,null,null,null,null,null,null,null,{"$f":"Cen!A147","v":"Držáky zadní stěny M, šedé"},{"$f":"Cen!B147","v":"Z30M000S.04"},{"$f":"Cen!C147","v":"R906"},null,{"$f":"Cen!F147","v":40.200000000000003},{"$f":"S53*T53","v":0}]
[null,null,null,null,null,null,null,null,null,null,null,null,null,null,null,{"$f":"Cen!A151","v":"Držáky zadní stěny K, šedé"},{"$f":"Cen!B151","v":"Z30K000S"},{"$f":"Cen!C151","v":"R906"},null,{"$f":"Cen!F151","v":67.400000000000006},0]
[null,null,null,null,null,null,null,null,null,null,null,null,null,null,null,{"$f":"Cen!A154","v":"Držáky zadní stěny B, šedé"},{"$f":"Cen!B154","v":"Z30B000S.04"},{"$f":"Cen!C154","v":"R906"},null,{"$f":"Cen!F154","v":48.8},0]
[null,null,null,null,null,null,null,null,null,null,null,null,null,null,null,{"$f":"Cen!A158","v":"Držáky zadní stěny C, šedé"},{"$f":"Cen!B158","v":"Z30C000S"},{"$f":"Cen!C158","v":"R906"},null,{"$f":"Cen!F158","v":71},0]
[null,null,null,null,null,null,null,null,null,null,null,null,null,null,null,{"$f":"Cen!A162","v":"Držáky zadní stěny D, šedé"},{"$f":"Cen!B162","v":"Z30D000S"},{"$f":"Cen!C162","v":"R906"},{"$f":"SUM($S$3:$S$11)","v":0},{"$f":"Cen!F162","v":78.099999999999994},{"$f":"S57*T57","v":0}]
[]
[null,null,null,null,null,null,null,null,null,null,null,null,null,null,null,{"$f":"Cen!A173","v":"Čelní kování INSERTA"},{"$f":"Cen!B173","v":"ZSF.39A2"},{"$f":"Cen!C173","v":"BL"},{"$f":"SUM($S$3:$S$11)*2","v":0},{"$f":"Cen!F173","v":22.4},0]
[]
[]
[]
[null,null,null,null,null,null,null,null,null,null,null,null,null,null,null,{"$f":"Cen!A215","v":"Podélný reling vlevo/vpravo, 270mm, šedý"},{"$f":"Cen!B215","v":"ZRG.207RSIC"},{"$f":"Cen!C215","v":"R906"},{"$f":"S3","v":0},{"$f":"Cen!F215","v":150},{"$f":"S63*T63","v":0}]
[null,null,null,null,null,null,null,null,null,null,null,null,null,null,null,{"$f":"Cen!A219","v":"Podélný reling vlevo/vpravo, 300mm, šedý"},{"$f":"Cen!B219","v":"ZRG.237RSIC"},{"$f":"Cen!C219","v":"R906"},0,{"$f":"Cen!F219","v":152.5},0]
[null,null,null,null,null,null,null,null,null,null,null,null,null,null,null,{"$f":"Cen!A223","v":"Podélný reling vlevo/vpravo, 350mm, šedý"},{"$f":"Cen!B223","v":"ZRG.287RSIC"},{"$f":"Cen!C223","v":"R906"},0,{"$f":"Cen!F223","v":155},0]
[null,null,null,null,null,null,null,null,null,null,null,null,null,null,null,{"$f":"Cen!A227","v":"Podélný reling vlevo/vpravo, 400mm, šedý"},{"$f":"Cen!B227","v":"ZRG.337RSIC"},{"$f":"Cen!C227","v":"R906"},0,{"$f":"Cen!F227","v":157.5},0]
[null,null,null,null,null,null,null,null,null,null,null,null,null,null,null,{"$f":"Cen!A231","v":"Podélný reling vlevo/vpravo, 450mm, šedý"},{"$f":"Cen!B231","v":"ZRG.387RSIC"},{"$f":"Cen!C231","v":"R906"},0,{"$f":"Cen!F231","v":160},0]
[null,null,null,null,null,null,null,null,null,null,null,null,null,null,null,{"$f":"Cen!A235","v":"Podélný reling vlevo/vpravo, 500mm, šedý"},{"$f":"Cen!B235","v":"ZRG.437RSIC"},{"$f":"Cen!C235","v":"R906"},0,{"$f":"Cen!F235","v":178.7},0]
[null,null,null,null,null,null,null,null,null,null,null,null,null,null,null,{"$f":"Cen!A239","v":"Podélný reling vlevo/vpravo, 550mm, šedý"},{"$f":"Cen!B239","v":"ZRG.487RSIC"},{"$f":"Cen!C239","v":"R906"},0,{"$f":"Cen!F239","v":169.4},0]
[null,null,null,null,null,null,null,null,null,null,null,null,null,null,null,{"$f":"Cen!A243","v":"Podélný reling vlevo/vpravo, 600mm, šedý"},{"$f":"Cen!B243","v":"ZRG.537RSIC"},{"$f":"Cen!C243","v":"R906"},0,{"$f":"Cen!F243","v":176.3},0]
[null,null,null,null,null,null,null,null,null,null,null,null,null,null,null,{"$f":"Cen!A247","v":"Podélný reling vlevo/vpravo, 650mm, šedý"},{"$f":"Cen!B247","v":"ZRG.587RSIC"},{"$f":"Cen!C247","v":"R906"},0,{"$f":"Cen!F247","v":183.2},0]
[]
[null,null,null,null,null,null,null,null,null,null,null,null,null,null,null,{"$f":"Cen!A328","v":"Sada držáků zásuvného prvku D, bílošedá"},{"$f":"Cen!B328","v":"Z36D0080"},{"$f":"Cen!C328","v":"WGR"},{"$f":"J41","v":0},{"$f":"Cen!F328","v":63.3},{"$f":"S73*T73","v":0}]
[]
[]
[]
[]
[]
[]
[]
[]
[]
[]
[]
[]
[]
[]
[]
[]
[null,null,null,null,null,null,null,null,null,null,null,null,null,null,null,null,null,null,null,null,{"$f":"SUM(U3:U89)","v":0}]
[]
[]
[]
[]
[]
[]
[]
[null,null,null,null,null,null,null,null,null,null,null,null,null,null,null,{"$f":"List!$B$276&\"!\"","v":"S0 a S1 pouze pro jmenovitou délku 270 a 300 mm!"}]
[null,null,null,null,null,null,null,null,null,null,null,null,null,null,null,{"$f":"List!$B$277&\"!\"","v":"Pro výsuvy délky 270 a 300 mm vyberte jednotky S0 nebo S1!"}]
[null,{"$f":"List!B25","v":"Informace k objednávání"},null,null,null,null,null,null,null,null,null,null,null,null,null,{"$f":"List!$B$278&\"!\"","v":"Počet jednotek L neodpovídá počtu korpusových lišt!"}]
[null,null,null,null,null,null,null,null,null,null,null,null,null,null,null,{"$f":"List!$B$279&\"!\"","v":"Počet jednotek S neodpovídá počtu korpusových lišt!"}]
[]
[null,null,null,{"$f":"List!B268&\" \"&List!B283","v":"Sada jednotek TIP-ON BLUMOTION a sada unašečů TIP-ON BLUMOTION"}]
[null,null,null,{"$f":"List!$B$280&\":\"","v":"Využití pro:"},null,null,null,null,null,{"$f":"List!B281&\"*\"","v":"Doporučené hodnoty hmotnosti*"}]
[null,null,null,{"$f":"List!B45&\" (NL)\"","v":"Jmenovitá délka (NL)"},null,null,{"$f":"List!B275","v":"Jednotka"},{"$f":"List!B88","v":"Číslo artiklu"}]
[null,null,null,"270 - 300 mm",null,null,"S0","T60L7040",null,"≤ 10 kg"]
[null,null,null,null,null,null,"S1","T60L7140",null,"10-20 kg"]
[null,null,null,"350 - 650 mm",null,null,"L1","T60L7340",null,"≤ 20 kg"]
[null,null,null,null,null,null,"L3","T60L7540",null,"15 - 40 kg"]
[null,null,null,null,null,null,"L5","T60L7570",null,null,"25 - 70 kg"]
[null,null,null,null,null,null,null,{"$f":"\"* \"&List!B282","v":"* Celková hmotnost výsuvu (hmotnost výsuvu včetně náplně)"}]
[]
[null,null,null,null,null,null,null,null,null,null,null,null,null,{"$f":"List!$B$99","v":"Zpět"}]

{"sheet":"AD31VG","index":10,"n_rows":160,"n_cols":22,"rows_kept":160,"cut":false,"hidden":false,"merged":[[108,9,108,10],[109,7,109,8],[109,10,109,11],[98,0,139,0],[99,1,100,11],[102,1,102,2],[102,3,102,11],[103,1,111,2],[103,3,103,8],[103,9,104,11],[104,3,104,5],[104,7,104,8],[105,3,106,5],[110,7,111,11],[105,7,105,8],[106,7,106,8],[107,3,109,5],[107,7,107,8],[108,7,108,8]]}
[]
[null,null,null,null,null,null,null,null,null,null,null,{"$f":"List!$B$49&\" D, \"&List!$B$62","v":"Vnitřní výsuv D, zásuvný prvek sklo"},null,{"$f":"List!$B$11&\":\"","v":"Zpět na:"},null,"Počty zásuvek →",{"$f":"SUM(D19:K19)","v":0},{"$f":"SUM(H20:L20)","v":0},{"$f":"SUM(D25:K25)","v":0},{"$f":"SUM(H26:L26)","v":0}]
[null,null,null,null,null,null,null,null,null,null,null,null,null,{"$f":"\" \"&List!$B$13","v":" Úvod"},null,{"$f":"Cen!A28","v":"Bočnice M 270mm, šedé"},{"$f":"Cen!B28","v":"378M2702SA"},{"$f":"Cen!C28","v":"R906"},{"$f":"SUM($D$19, $D$25)","v":0},{"$f":"Cen!F28","v":350.6},{"$f":"S3*T3","v":0}]
[null,null,null,null,null,null,null,null,{"$f":"List!$B$72&\":\"","v":"bočnice:"},null,"M",null,null,{"$f":"\" \"&List!$B$4","v":" Výběr zásuvek a výsuvů"},null,{"$f":"Cen!A32","v":"Bočnice M 300mm, šedé"},{"$f":"Cen!B32","v":"378M3002SA"},{"$f":"Cen!C32","v":"R906"},{"$f":"SUM($E$19, $E$25)","v":0},{"$f":"Cen!F32","v":350.6},0]
[null,null,null,null,null,null,null,null,{"$f":"List!$B$27&\":\"","v":"barva:"},null,{"$f":"Form!$O$2","v":"šedá"},null,null,null,null,{"$f":"Cen!A36","v":"Bočnice M 350mm, šedé"},{"$f":"Cen!B36","v":"378M3502SA"},{"$f":"Cen!C36","v":"R906"},{"$f":"SUM($F$19, $F$25)","v":0},{"$f":"Cen!F36","v":350.6},0]
[null,null,null,null,null,null,null,null,{"$f":"List!$B$32&\":\"","v":"sklo:"},null,{"$f":"Form!$O$8","v":"čiré"},null,null,{"$f":"List!$B$12&\":\"","v":"Pokračovat na:"},null,{"$f":"Cen!A40","v":"Bočnice M 400mm, šedé"},{"$f":"Cen!B40","v":"378M4002SA"},{"$f":"Cen!C40","v":"R906"},{"$f":"SUM($G$19, $G$25)","v":0},{"$f":"Cen!F40","v":354.3},0]
[null,null,null,null,null,null,null,null,null,null,null,null,null,{"$f":"\" \"&List!$B$5","v":" Výběr doplňků"},null,{"$f":"Cen!A44","v":"Bočnice M 450mm, šedé"},{"$f":"Cen!B44","v":"378M4502SA"},{"$f":"Cen!C44","v":"R906"},{"$f":"SUM($H$19:$H$20, $H$25:$H$26)","v":0},{"$f":"Cen!F44","v":358.1},0]
[null,null,null,null,null,null,null,null,null,null,null,null,null,{"$f":"\" \"&List!$B$6","v":" Výběr SERVO-DRIVE"},null,{"$f":"Cen!A48","v":"Bočnice M 500mm, šedé"},{"$f":"Cen!B48","v":"378M5002SA"},{"$f":"Cen!C48","v":"R906"},{"$f":"SUM($I$19:$I$20, $I$25:$I$26)","v":0},{"$f":"Cen!F48","v":397.4},0]
[null,null,null,null,null,null,null,null,null,null,null,null,null,{"$f":"\" \"&List!$B$7","v":" Výběr ORGA-LINE"},null,{"$f":"Cen!A52","v":"Bočnice M 550mm, šedé"},{"$f":"Cen!B52","v":"378M5502SA"},{"$f":"Cen!C52","v":"R906"},{"$f":"SUM($J$19:$J$20, $J$25:$J$26)","v":0},{"$f":"Cen!F52","v":399.2},0]
[null,null,null,null,null,null,null,null,null,null,null,null,null,{"$f":"\" \"&List!$B$18","v":" Souhrn"},null,{"$f":"Cen!A56","v":"Bočnice M 600mm, šedé"},{"$f":"Cen!B56","v":"378M6002SA"},{"$f":"Cen!C56","v":"R906"},{"$f":"SUM($K$19:$K$20, $K$25:$K$26)","v":0},{"$f":"Cen!F56","v":508.3},0]
[null,null,null,null,null,null,null,null,{"$f":"\"* \"&List!$B$132&\":\"","v":"* Přířezy prvků:"},null,null,null,null,null,null,{"$f":"Cen!A60","v":"Bočnice M 650mm, šedé"},{"$f":"Cen!B60","v":"378M6502SA"},{"$f":"Cen!C60","v":"R906"},{"$f":"SUM($L$20, $L$26)","v":0},{"$f":"Cen!F60","v":536.29999999999995},0]
[null,null,null,null,null,null,null,null,{"$f":"List!$C$136&\":   LW - 132\"","v":"Přední díl:   LW - 132"}]
[null,null,null,null,null,null,null,null,{"$f":"List!$C$137&\":   LW - 122\"","v":"Příčný reling:   LW - 122"},null,null,null,null,null,null,{"$f":"Cen!A94","v":"Korpusové lišty 270mm, BLUMOTION, 30kg"},{"$f":"Cen!B94","v":"578.2701B"},{"$f":"Cen!C94","v":"ZN"},{"$f":"$D$19","v":0},{"$f":"Cen!F94","v":459.2},0]
[null,null,null,null,null,null,null,null,null,null,null,null,null,null,null,{"$f":"Cen!A95","v":"Korpusové lišty 300mm, BLUMOTION, 30kg"},{"$f":"Cen!B95","v":"578.3001B"},{"$f":"Cen!C95","v":"ZN"},{"$f":"$E$19","v":0},{"$f":"Cen!F95","v":459.2},0]
[null,null,null,null,null,null,null,null,null,null,null,null,null,null,null,{"$f":"Cen!A96","v":"Korpusové lišty 350mm, BLUMOTION, 30kg"},{"$f":"Cen!B96","v":"578.3501B"},{"$f":"Cen!C96","v":"ZN"},{"$f":"$F$19","v":0},{"$f":"Cen!F96","v":459.2},0]
[null,null,null,null,null,null,null,null,null,null,null,null,null,null,null,{"$f":"Cen!A97","v":"Korpusové lišty 400mm, BLUMOTION, 30kg"},{"$f":"Cen!B97","v":"578.4001B"},{"$f":"Cen!C97","v":"ZN"},{"$f":"$G$19","v":0},{"$f":"Cen!F97","v":462.6},0]
[null,"BLUMOTION",null,null,null,null,null,null,null,null,null,null,null,null,null,{"$f":"Cen!A98","v":"Korpusové lišty 450mm, BLUMOTION, 30kg"},{"$f":"Cen!B98","v":"578.4501B"},{"$f":"Cen!C98","v":"ZN"},{"$f":"$H$19","v":0},{"$f":"Cen!F98","v":466},0]
[null,null,{"$f":"List!$B$45&\":\"","v":"Jmenovitá délka:"},"270 mm","300 mm","350 mm","400 mm","450 mm","500 mm","550 mm","600 mm","650 mm",null,null,null,{"$f":"Cen!A99","v":"Korpusové lišty 450mm, BLUMOTION, 65kg"},{"$f":"Cen!B99","v":"576.4501B"},{"$f":"Cen!C99","v":"ZN"},{"$f":"$H$20","v":0},{"$f":"Cen!F99","v":560.79999999999995},0]
[null,"AD31VBG","30 kg",null,null,null,null,null,null,null,null,null,null,null,null,{"$f":"Cen!A100","v":"Korpusové lišty 500mm, BLUMOTION, 30kg"},{"$f":"Cen!B100","v":"578.5001B"},{"$f":"Cen!C100","v":"ZN"},{"$f":"$I$19","v":0},{"$f":"Cen!F100","v":469.5},0]
[null,"AD61VBG","65 kg",null,null,null,null,null,null,null,null,null,null,null,null,{"$f":"Cen!A101","v":"Korpusové lišty 500mm, BLUMOTION, 65kg"},{"$f":"Cen!B101","v":"576.5001B"},{"$f":"Cen!C101","v":"ZN"},{"$f":"$I$20","v":0},{"$f":"Cen!F101","v":620.4},0]
[null,null,null,null,null,null,null,null,null,null,null,null,null,null,null,{"$f":"Cen!A102","v":"Korpusové lišty 550mm, BLUMOTION, 30kg"},{"$f":"Cen!B102","v":"578.5501B"},{"$f":"Cen!C102","v":"ZN"},{"$f":"$J$19","v":0},{"$f":"Cen!F102","v":493.5},0]
[null,null,null,null,null,null,null,null,null,null,null,null,null,null,null,{"$f":"Cen!A103","v":"Korpusové lišty 550mm, BLUMOTION, 65kg"},{"$f":"Cen!B103","v":"576.5501B"},{"$f":"Cen!C103","v":"ZN"},{"$f":"$J$20","v":0},{"$f":"Cen!F103","v":644.29999999999995},0]
[null,"TIP-ON BLUMOTION",null,null,null,null,null,null,null,null,null,null,null,null,null,{"$f":"Cen!A104","v":"Korpusové lišty 600mm, BLUMOTION, 30kg"},{"$f":"Cen!B104","v":"578.6001B"},{"$f":"Cen!C104","v":"ZN"},{"$f":"$K$19","v":0},{"$f":"Cen!F104","v":523.9},0]
[null,null,{"$f":"List!$B$45&\":\"","v":"Jmenovitá délka:"},"270 mm","300 mm","350 mm","400 mm","450 mm","500 mm","550 mm","600 mm","650 mm",null,null,null,{"$f":"Cen!A105","v":"Korpusové lišty 600mm, BLUMOTION, 65kg"},{"$f":"Cen!B105","v":"576.6001B"},{"$f":"Cen!C105","v":"ZN"},{"$f":"$K$20","v":0},{"$f":"Cen!F105","v":661.1},0]
[null,"AD31VMG","30 kg",null,null,null,null,null,null,null,null,null,null,null,null,{"$f":"Cen!A106","v":"Korpusové lišty 650mm, BLUMOTION, 65kg"},{"$f":"Cen!B106","v":"576.6501B"},{"$f":"Cen!C106","v":"ZN"},{"$f":"$L$20","v":0},{"$f":"Cen!F106","v":751.2},0]
[null,"AD61VMG","65 kg",null,null,null,null,null,null,null,null,null,null,null,null,{"$f":"Cen!A109","v":"Korp. lišty TIP-ON BLUMOTION, 270mm, 30 kg"},{"$f":"Cen!B109","v":"578.2701M"},{"$f":"Cen!C109","v":"ZN"},{"$f":"$D$25","v":0},{"$f":"Cen!F109","v":417.4},0]
[null,null,null,null,null,null,null,null,null,null,null,null,null,null,null,{"$f":"Cen!A110","v":"Korp. lišty TIP-ON BLUMOTION, 300mm, 30 kg"},{"$f":"Cen!B110","v":"578.3001M"},{"$f":"Cen!C110","v":"ZN"},{"$f":"$E$25","v":0},{"$f":"Cen!F110","v":417.4},0]
[null,null,null,{"$f":"List!$B$268","v":"Sada jednotek TIP-ON BLUMOTION"},null,null,null,null,null,null,null,null,null,{"$f":"List!$B$259","v":"Výběr sady jednotek"},null,{"$f":"Cen!A111","v":"Korp. lišty TIP-ON BLUMOTION, 350mm, 30 kg"},{"$f":"Cen!B111","v":"578.3501M"},{"$f":"Cen!C111","v":"ZN"},{"$f":"$F$25","v":0},{"$f":"Cen!F111","v":417.4},0]
[null,null,null,"S0","S1","L1","L3","L5",null,null,null,null,null,null,null,{"$f":"Cen!A112","v":"Korp. lišty TIP-ON BLUMOTION, 400mm, 30 kg"},{"$f":"Cen!B112","v":"578.4001M"},{"$f":"Cen!C112","v":"ZN"},{"$f":"$G$25","v":0},{"$f":"Cen!F112","v":420.5},0]
[null,null,null,null,null,null,null,null,{"$f":"IF(SUM($F$25:$K$25,$H$26:$L$26)=SUM($F$30:$H$30),\" \",$P$100)","v":" "},null,null,null,null,null,null,{"$f":"Cen!A113","v":"Korp. lišty TIP-ON BLUMOTION, 450mm, 30 kg"},{"$f":"Cen!B113","v":"578.4501M"},{"$f":"Cen!C113","v":"ZN"},{"$f":"$H$25","v":0},{"$f":"Cen!F113","v":423.7},0]
[null,null,{"$f":"IF(AND(SUM($D$25,$E$25)>0,SUM($D$30,$E$30)=0),$P$99, IF(AND(SUM($D$25,$E$25)=0,SUM($D$30,$E$30)>0),$P$98, \" \"))&IF(SUM($D$25,$E$25)<>SUM($D$30,$E$30),\" \"&$P$101,\" \")","v":"  "},null,null,null,null,null,null,null,null,null,null,null,null,{"$f":"Cen!A114","v":"Korp. lišty TIP-ON BLUMOTION, 450mm, 65 kg"},{"$f":"Cen!B114","v":"578.4501M"},{"$f":"Cen!C114","v":"ZN"},{"$f":"$H$26","v":0},{"$f":"Cen!F114","v":560.79999999999995},0]
[null,null,null,null,null,null,null,null,null,null,null,null,null,null,null,{"$f":"Cen!A115","v":"Korp. lišty TIP-ON BLUMOTION, 500mm, 30 kg"},{"$f":"Cen!B115","v":"578.5001M"},{"$f":"Cen!C115","v":"ZN"},{"$f":"$I$25","v":0},{"$f":"Cen!F115","v":426.8},0]
[null,null,null,{"$f":"\"     \"&List!$B$270","v":"     Synchronizace je přidána automaticky. "},null,null,null,null,null,null,null,null,null,null,null,{"$f":"Cen!A116","v":"Korp. lišty TIP-ON BLUMOTION, 500mm, 65 kg"},{"$f":"Cen!B116","v":"576.5001M"},{"$f":"Cen!C116","v":"ZN"},{"$f":"$I$26","v":0},{"$f":"Cen!F116","v":564},0]
[null,null,null,{"$f":"\"     \"&List!$B$271","v":"     Pozor! Pro každý výsuv je započítána jedna hřídel. Počet hřídelí upravte v objednávce!"},null,null,null,null,null,null,null,null,null,null,null,{"$f":"Cen!A117","v":"Korp. lišty TIP-ON BLUMOTION, 550mm, 30 kg"},{"$f":"Cen!B117","v":"578.5501M"},{"$f":"Cen!C117","v":"ZN"},{"$f":"$J$25","v":0},{"$f":"Cen!F117","v":448.6},0]
[null,null,null,{"$f":"\"     \"&List!$B$272","v":"     Pro korpusy šířky ≥ 750 mm použijte podpěru dna a podpěru synchronizační hřídele."},null,null,null,null,null,null,null,null,null,null,null,{"$f":"Cen!A118","v":"Korp. lišty TIP-ON BLUMOTION, 550mm, 65 kg"},{"$f":"Cen!B118","v":"576.5501M"},{"$f":"Cen!C118","v":"ZN"},{"$f":"$J$26","v":0},{"$f":"Cen!F118","v":585.79999999999995},0]
[null,null,null,{"$f":"\"     \"&List!$B$273","v":"     Podpěry přidejte v sekci \"Výběr doplňků\""},null,null,null,null,null,null,null,null,null,null,null,{"$f":"Cen!A119","v":"Korp. lišty TIP-ON BLUMOTION, 600mm, 30 kg"},{"$f":"Cen!B119","v":"578.6001M"},{"$f":"Cen!C119","v":"ZN"},{"$f":"$K$25","v":0},{"$f":"Cen!F119","v":542},0]
[null,null,null,null,null,null,null,null,null,null,null,null,null,null,null,{"$f":"Cen!A120","v":"Korp. lišty TIP-ON BLUMOTION, 600mm, 65 kg"},{"$f":"Cen!B120","v":"576.6001M"},{"$f":"Cen!C120","v":"ZN"},{"$f":"$K$26","v":0},{"$f":"Cen!F120","v":661.1},0]
[null,null,null,null,null,null,null,null,null,null,null,null,null,null,null,{"$f":"Cen!A121","v":"Korp. lišty TIP-ON BLUMOTION, 650mm, 65 kg"},{"$f":"Cen!B121","v":"576.6501M"},{"$f":"Cen!C121","v":"ZN"},{"$f":"$L$26","v":0},{"$f":"Cen!F121","v":682.9},0]
[]
[null,null,null,null,null,null,null,null,null,null,null,null,null,null,null,{"$f":"Cen!A124","v":"Sada jednotek TIP-ON BLUMOTION, S0"},{"$f":"Cen!B124","v":"T60B3030"},{"$f":"Cen!C124","v":"W"},{"$f":"$D$30","v":0},{"$f":"Cen!F124","v":404.5},{"$f":"S40*T40","v":0}]
[null,null,null,null,null,null,null,null,null,null,null,null,null,null,null,{"$f":"Cen!A125","v":"Sada jednotek TIP-ON BLUMOTION, S1"},{"$f":"Cen!B125","v":"T60B3130"},{"$f":"Cen!C125","v":"R735"},{"$f":"$E$30","v":0},{"$f":"Cen!F125","v":404.5},0]
[null,null,null,null,null,null,null,null,null,null,null,null,null,null,null,{"$f":"Cen!A126","v":"Sada jednotek TIP-ON BLUMOTION, L1"},{"$f":"Cen!B126","v":"T60B3330"},{"$f":"Cen!C126","v":"R735"},{"$f":"$F$30","v":0},{"$f":"Cen!F126","v":404.5},0]
[null,null,null,null,null,null,null,null,null,null,null,null,null,null,null,{"$f":"Cen!A127","v":"Sada jednotek TIP-ON BLUMOTION, L3"},{"$f":"Cen!B127","v":"T60B3530"},{"$f":"Cen!C127","v":"R737"},{"$f":"$G$30","v":0},{"$f":"Cen!F127","v":404.5},0]
[null,null,null,null,null,null,null,null,null,null,null,null,null,null,null,{"$f":"Cen!A128","v":"Sada jednotek TIP-ON BLUMOTION, L5"},{"$f":"Cen!B128","v":"T60B3560"},{"$f":"Cen!C128","v":"S"},{"$f":"$H$30","v":0},{"$f":"Cen!F128","v":404.5},0]
[]
[null,null,null,null,null,null,null,null,null,null,null,null,null,null,null,{"$f":"Cen!A130","v":"Synchronizační adaptér"},{"$f":"Cen!B130","v":"T60.000D"},{"$f":"Cen!C130","v":"R735"},{"$f":"SUM($S$40:$S$44)*2","v":0},{"$f":"Cen!F130","v":5.8},0]
[null,null,null,null,null,null,null,null,null,null,null,null,null,null,null,{"$f":"Cen!A131","v":"Hřídel synchronizace"},{"$f":"Cen!B131","v":"T60.1125W"},{"$f":"Cen!C131","v":"GR"},{"$f":"SUM($S$40:$S$44)","v":0},{"$f":"Cen!F131","v":95.6},0]
[null,null,null,null,null,null,null,null,null,null,null,null,null,null,null,{"$f":"Cen!A132","v":"Jednodílná synchronizace"},{"$f":"Cen!B132","v":"T60.300D"},{"$f":"Cen!C132","v":"R735"},null,{"$f":"Cen!F132","v":23.2},0]
[null,null,null,null,null,null,null,null,null,null,null,null,null,null,null,{"$f":"Cen!A134","v":"Držák hřídele synchronizace"},{"$f":"Cen!B134","v":"T60B000H"},{"$f":"Cen!C134","v":"NI"},null,{"$f":"Cen!F134","v":6},0]
[null,null,null,null,null,null,null,null,null,null,null,null,null,null,null,{"$f":"Cen!A135","v":"Podpěrný úhelník pro dno"},{"$f":"Cen!B135","v":"Z96.2011"},{"$f":"Cen!C135","v":"R737"},null,{"$f":"Cen!F135","v":29.8},0]
[]
[null,null,null,null,null,null,null,null,null,null,null,null,null,null,null,{"$f":"Cen!A143","v":"Držáky zadní stěny N, šedé"},{"$f":"Cen!B143","v":"Z30N000S.04"},{"$f":"Cen!C143","v":"R906"},null,{"$f":"Cen!F143","v":36.5},{"$f":"S52*T52","v":0}]
[null,null,null,null,null,null,null,null,null,null,null,null,null,null,null,{"$f":"Cen!A147","v":"Držáky zadní stěny M, šedé"},{"$f":"Cen!B147","v":"Z30M000S.04"},{"$f":"Cen!C147","v":"R906"},null,{"$f":"Cen!F147","v":40.200000000000003},{"$f":"S53*T53","v":0}]
[null,null,null,null,null,null,null,null,null,null,null,null,null,null,null,{"$f":"Cen!A151","v":"Držáky zadní stěny K, šedé"},{"$f":"Cen!B151","v":"Z30K000S"},{"$f":"Cen!C151","v":"R906"},null,{"$f":"Cen!F151","v":67.400000000000006},0]
[null,{"$f":"\"       \"&List!$B$145","v":"       Pro každý výsuv je započítán jeden přední díl a jeden příčný reling"},null,null,null,null,null,null,null,null,null,null,null,null,null,{"$f":"Cen!A154","v":"Držáky zadní stěny B, šedé"},{"$f":"Cen!B154","v":"Z30B000S.04"},{"$f":"Cen!C154","v":"R906"},null,{"$f":"Cen!F154","v":48.8},0]
[null,{"$f":"\"       \"&List!$B$147","v":"       Potřebný počet předních dílů a relingů upravte v objednávce"},null,null,null,null,null,null,null,null,null,null,null,null,null,{"$f":"Cen!A158","v":"Držáky zadní stěny C, šedé"},{"$f":"Cen!B158","v":"Z30C000S"},{"$f":"Cen!C158","v":"R906"},null,{"$f":"Cen!F158","v":71},0]
[null,null,null,null,null,null,null,null,null,null,null,null,null,null,null,{"$f":"Cen!A162","v":"Držáky zadní stěny D, šedé"},{"$f":"Cen!B162","v":"Z30D000S"},{"$f":"Cen!C162","v":"R906"},{"$f":"SUM($S$3:$S$11)","v":0},{"$f":"Cen!F162","v":78.099999999999994},{"$f":"S57*T57","v":0}]
[null,{"$f":"IF(OR($K$14>0, $L$14>0), List!$B$196, \" \")","v":" "}]
[null,{"$f":"IF(OR($K$14>0, $L$14>0), List!$B$200, \" \")","v":" "},null,null,null,null,null,null,null,null,null,null,null,null,null,{"$f":"Cen!A189","v":"Držáky čela vnitřního výsuvu D bílošedé"},{"$f":"Cen!B189","v":"ZIF.74D0"},{"$f":"Cen!C189","v":"WGR"},{"$f":"SUM($S$3:$S$11)","v":0},{"$f":"Cen!F189","v":156.30000000000001},0]
[null,null,null,null,null,null,null,null,null,null,null,null,null,null,null,{"$f":"Cen!A194","v":"Přední díl vnitřní zásuvky, šedý"},{"$f":"Cen!B194","v":"Z31L1036A  "},{"$f":"Cen!C194","v":"R906"},{"$f":"SUM($S$3:$S$11)","v":0},{"$f":"Cen!F194","v":363.8},0]
[null,null,null,null,null,null,null,null,null,null,null,null,null,null,null,{"$f":"Cen!A199","v":"Příčný reling vnitřní zásuvky, šedý"},{"$f":"Cen!B199","v":"ZRG.1046Z "},{"$f":"Cen!C199","v":"R906"},{"$f":"SUM($S$3:$S$11)","v":0},{"$f":"Cen!F199","v":169.4},0]
[]
[null,null,null,null,null,null,null,null,null,null,null,null,null,null,null,{"$f":"Cen!A215","v":"Podélný reling vlevo/vpravo, 270mm, šedý"},{"$f":"Cen!B215","v":"ZRG.207RSIC"},{"$f":"Cen!C215","v":"R906"},{"$f":"S3","v":0},{"$f":"Cen!F215","v":150},{"$f":"S63*T63","v":0}]
[null,null,null,null,null,null,null,null,null,null,null,null,null,null,null,{"$f":"Cen!A219","v":"Podélný reling vlevo/vpravo, 300mm, šedý"},{"$f":"Cen!B219","v":"ZRG.237RSIC"},{"$f":"Cen!C219","v":"R906"},0,{"$f":"Cen!F219","v":152.5},0]
[null,null,null,null,null,null,null,null,null,null,null,null,null,null,null,{"$f":"Cen!A223","v":"Podélný reling vlevo/vpravo, 350mm, šedý"},{"$f":"Cen!B223","v":"ZRG.287RSIC"},{"$f":"Cen!C223","v":"R906"},0,{"$f":"Cen!F223","v":155},0]
[null,null,null,null,null,null,null,null,null,null,null,null,null,null,null,{"$f":"Cen!A227","v":"Podélný reling vlevo/vpravo, 400mm, šedý"},{"$f":"Cen!B227","v":"ZRG.337RSIC"},{"$f":"Cen!C227","v":"R906"},0,{"$f":"Cen!F227","v":157.5},0]
[null,null,null,null,null,null,null,null,null,null,null,null,null,null,null,{"$f":"Cen!A231","v":"Podélný reling vlevo/vpravo, 450mm, šedý"},{"$f":"Cen!B231","v":"ZRG.387RSIC"},{"$f":"Cen!C231","v":"R906"},0,{"$f":"Cen!F231","v":160},0]
[null,null,null,null,null,null,null,null,null,null,null,null,null,null,null,{"$f":"Cen!A235","v":"Podélný reling vlevo/vpravo, 500mm, šedý"},{"$f":"Cen!B235","v":"ZRG.437RSIC"},{"$f":"Cen!C235","v":"R906"},0,{"$f":"Cen!F235","v":178.7},0]
[null,null,null,null,null,null,null,null,null,null,null,null,null,null,null,{"$f":"Cen!A239","v":"Podélný reling vlevo/vpravo, 550mm, šedý"},{"$f":"Cen!B239","v":"ZRG.487RSIC"},{"$f":"Cen!C239","v":"R906"},0,{"$f":"Cen!F239","v":169.4},0]
[null,null,null,null,null,null,null,null,null,null,null,null,null,null,null,{"$f":"Cen!A243","v":"Podélný reling vlevo/vpravo, 600mm, šedý"},{"$f":"Cen!B243","v":"ZRG.537RSIC"},{"$f":"Cen!C243","v":"R906"},0,{"$f":"Cen!F243","v":176.3},0]
[null,null,null,null,null,null,null,null,null,null,null,null,null,null,null,{"$f":"Cen!A247","v":"Podélný reling vlevo/vpravo, 650mm, šedý"},{"$f":"Cen!B247","v":"ZRG.587RSIC"},{"$f":"Cen!C247","v":"R906"},0,{"$f":"Cen!F247","v":183.2},0]
[]
[null,null,null,null,null,null,null,null,null,null,null,null,null,null,null,{"$f":"Cen!A328","v":"Sada držáků zásuvného prvku D, bílošedá"},{"$f":"Cen!B328","v":"Z36D0080"},{"$f":"Cen!C328","v":"WGR"},{"$f":"SUM($S$3:$S$11)","v":0},{"$f":"Cen!F328","v":63.3},{"$f":"S73*T73","v":0}]
[]
[null,null,null,null,null,null,null,null,null,null,null,null,null,null,null,{"$f":"Cen!A254","v":"Zásuvný prvek D, 270mm, čiré sko"},{"$f":"Cen!B254","v":"Z37R237D"},{"$f":"Cen!C254","v":"KL"},{"$f":"S3","v":0},{"$f":"Cen!F254","v":269.10000000000002},{"$f":"S75*T75","v":0}]
[null,null,null,null,null,null,null,null,null,null,null,null,null,null,null,{"$f":"Cen!A256","v":"Zásuvný prvek D, 300mm, čiré sko"},{"$f":"Cen!B256","v":"Z37R267D"},{"$f":"Cen!C256","v":"KL"},0,{"$f":"Cen!F256","v":279},0]
[null,null,null,null,null,null,null,null,null,null,null,null,null,null,null,{"$f":"Cen!A258","v":"Zásuvný prvek D, 350mm, čiré sko"},{"$f":"Cen!B258","v":"Z37R317D"},{"$f":"Cen!C258","v":"KL"},0,{"$f":"Cen!F258","v":240.82},0]
[null,null,null,null,null,null,null,null,null,null,null,null,null,null,null,{"$f":"Cen!A260","v":"Zásuvný prvek D, 400mm, čiré sko"},{"$f":"Cen!B260","v":"Z37R367D"},{"$f":"Cen!C260","v":"KL"},0,{"$f":"Cen!F260","v":265.39999999999998},0]
[null,null,null,null,null,null,null,null,null,null,null,null,null,null,null,{"$f":"Cen!A262","v":"Zásuvný prvek D, 450mm, čiré sko"},{"$f":"Cen!B262","v":"Z37R417D"},{"$f":"Cen!C262","v":"KL"},0,{"$f":"Cen!F262","v":290},0]
[null,null,null,null,null,null,null,null,null,null,null,null,null,null,null,{"$f":"Cen!A264","v":"Zásuvný prvek D, 500mm, čiré sko"},{"$f":"Cen!B264","v":"Z37R467D"},{"$f":"Cen!C264","v":"KL"},0,{"$f":"Cen!F264","v":314.56},0]
[null,null,null,null,null,null,null,null,null,null,null,null,null,null,null,{"$f":"Cen!A266","v":"Zásuvný prvek D, 550mm, čiré sko"},{"$f":"Cen!B266","v":"Z37R517D"},{"$f":"Cen!C266","v":"KL"},0,{"$f":"Cen!F266","v":336.68},0]
[null,null,null,null,null,null,null,null,null,null,null,null,null,null,null,{"$f":"Cen!A268","v":"Zásuvný prvek D, 600mm, čiré sko"},{"$f":"Cen!B268","v":"Z37R567D"},{"$f":"Cen!C268","v":"KL"},0,{"$f":"Cen!F268","v":358.8},0]
[null,null,null,null,null,null,null,null,null,null,null,null,null,null,null,{"$f":"Cen!A270","v":"Zásuvný prvek D, 650mm, čiré sko"},{"$f":"Cen!B270","v":"Z37R617D"},{"$f":"Cen!C270","v":"KL"},0,{"$f":"Cen!F270","v":378.7},0]
[]
[]
[]
[]
[]
[]
[null,null,null,null,null,null,null,null,null,null,null,null,null,null,null,null,null,null,null,null,{"$f":"SUM(U3:U89)","v":0}]
[]
[]
[]
[]
[]
[]
[]
[null,null,null,null,null,null,null,null,null,null,null,null,null,null,null,{"$f":"List!$B$276&\"!\"","v":"S0 a S1 pouze pro jmenovitou délku 270 a 300 mm!"}]
[null,null,null,null,null,null,null,null,null,null,null,null,null,null,null,{"$f":"List!$B$277&\"!\"","v":"Pro výsuvy délky 270 a 300 mm vyberte jednotky S0 nebo S1!"}]
[null,{"$f":"List!B25","v":"Informace k objednávání"},null,null,null,null,null,null,null,null,null,null,null,null,null,{"$f":"List!$B$278&\"!\"","v":"Počet jednotek L neodpovídá počtu korpusových lišt!"}]
[null,null,null,null,null,null,null,null,null,null,null,null,null,null,null,{"$f":"List!$B$279&\"!\"","v":"Počet jednotek S neodpovídá počtu korpusových lišt!"}]
[]
[null,null,null,{"$f":"List!B268&\" \"&List!B283","v":"Sada jednotek TIP-ON BLUMOTION a sada unašečů TIP-ON BLUMOTION"}]
[null,null,null,{"$f":"List!$B$280&\":\"","v":"Využití pro:"},null,null,null,null,null,{"$f":"List!B281&\"*\"","v":"Doporučené hodnoty hmotnosti*"}]
[null,null,null,{"$f":"List!B45&\" (NL)\"","v":"Jmenovitá délka (NL)"},null,null,{"$f":"List!B275","v":"Jednotka"},{"$f":"List!B88","v":"Číslo artiklu"}]
[null,null,null,"270 - 300 mm",null,null,"S0","T60L7040",null,"≤ 10 kg"]
[null,null,null,null,null,null,"S1","T60L7140",null,"10-20 kg"]
[null,null,null,"350 - 650 mm",null,null,"L1","T60L7340",null,"≤ 20 kg"]
[null,null,null,null,null,null,"L3","T60L7540",null,"15 - 40 kg"]
[null,null,null,null,null,null,"L5","T60L7570",null,null,"25 - 70 kg"]
[null,null,null,null,null,null,null,{"$f":"\"* \"&List!B282","v":"* Celková hmotnost výsuvu (hmotnost výsuvu včetně náplně)"}]
[]
[null,null,null,null,null,null,null,null,null,null,null,null,null,{"$f":"List!$B$99","v":"Zpět"}]
[]
[]
[]
[]
[]
[]
[]
[]
[]
[]
[]
[]
[]
[]
[]
[]
[]
[]
[]
[]
[]
[]
[]
[]
[]
[]
[]
[]
[]
[]
[]
[]
[]
[]
[]
[]
[]
[]
[]
[]
[]
[]
[]
[]
[]
[null,null,null,null,null,null,null,null,null,null,null,null,null,null,null,null,null,null,null,null,{"$f":"AD31VG!$J52","v":0},{"$f":"AD31VM!$J48","v":0}]
[null,null,null,null,null,null,null,null,null,null,null,null,null,null,null,null,null,null,null,null,{"$f":"AD31VG!$J53","v":0}]

{"sheet":"AD31VM","index":11,"n_rows":113,"n_cols":22,"rows_kept":113,"cut":false,"hidden":false,"merged":[[108,9,108,10],[109,7,109,8],[109,10,109,11],[98,0,139,0],[99,1,100,11],[102,1,102,2],[102,3,102,11],[103,1,111,2],[103,3,103,8],[103,9,104,11],[104,3,104,5],[104,7,104,8],[105,3,106,5],[110,7,111,11],[105,7,105,8],[106,7,106,8],[107,3,109,5],[107,7,107,8],[108,7,108,8]]}
[]
[null,null,null,null,null,null,null,null,null,null,null,{"$f":"List!$B$49&\" D, \"&List!$B$63","v":"Vnitřní výsuv D, kovový zásuvný prvek"},null,{"$f":"List!$B$11&\":\"","v":"Zpět na:"},null,"Počty zásuvek →",{"$f":"SUM(D19:K19)","v":0},{"$f":"SUM(H20:L20)","v":0},{"$f":"SUM(D25:K25)","v":0},{"$f":"SUM(H26:L26)","v":0},{"$f":"Form!N2","v":1},"←barva"]
[null,null,null,null,null,null,null,null,null,null,null,null,null,{"$f":"\" \"&List!$B$13","v":" Úvod"},null,{"$f":"Cen!A28","v":"Bočnice M 270mm, šedé"},{"$f":"Cen!B28","v":"378M2702SA"},{"$f":"Cen!C28","v":"R906"},{"$f":"IF($U$2=4, 0, SUM($D$19, $D$25))","v":0},{"$f":"Cen!F28","v":350.6},{"$f":"S3*T3","v":0}]
[null,null,null,null,null,null,null,null,{"$f":"List!$B$72&\":\"","v":"bočnice:"},null,"M",null,null,{"$f":"\" \"&List!$B$4","v":" Výběr zásuvek a výsuvů"},null,{"$f":"Cen!A32","v":"Bočnice M 300mm, šedé"},{"$f":"Cen!B32","v":"378M3002SA"},{"$f":"Cen!C32","v":"R906"},{"$f":"IF($U$2=4, 0, SUM($E$19, $E$25))","v":0},{"$f":"Cen!F32","v":350.6},0]
[null,null,null,null,null,null,null,null,{"$f":"List!$B$27&\":\"","v":"barva:"},null,{"$f":"Form!$O$2","v":"šedá"},null,null,null,null,{"$f":"Cen!A36","v":"Bočnice M 350mm, šedé"},{"$f":"Cen!B36","v":"378M3502SA"},{"$f":"Cen!C36","v":"R906"},{"$f":"IF($U$2=4, 0, SUM($F$19, $F$25))","v":0},{"$f":"Cen!F36","v":350.6},0]
[null,null,null,null,null,null,null,null,null,null,null,null,null,{"$f":"List!$B$12&\":\"","v":"Pokračovat na:"},null,{"$f":"Cen!A40","v":"Bočnice M 400mm, šedé"},{"$f":"Cen!B40","v":"378M4002SA"},{"$f":"Cen!C40","v":"R906"},{"$f":"IF($U$2=4, 0, SUM($G$19, $G$25))","v":0},{"$f":"Cen!F40","v":354.3},0]
[null,null,null,null,null,null,null,null,null,null,null,null,null,{"$f":"\" \"&List!$B$5","v":" Výběr doplňků"},null,{"$f":"Cen!A44","v":"Bočnice M 450mm, šedé"},{"$f":"Cen!B44","v":"378M4502SA"},{"$f":"Cen!C44","v":"R906"},{"$f":"IF($U$2=4, 0, SUM($H$19:$H$20, $H$25:$H$26))","v":0},{"$f":"Cen!F44","v":358.1},0]
[null,null,null,null,null,null,null,null,null,null,null,null,null,{"$f":"\" \"&List!$B$6","v":" Výběr SERVO-DRIVE"},null,{"$f":"Cen!A48","v":"Bočnice M 500mm, šedé"},{"$f":"Cen!B48","v":"378M5002SA"},{"$f":"Cen!C48","v":"R906"},{"$f":"IF($U$2=4, 0, SUM($I$19:$I$20, $I$25:$I$26))","v":0},{"$f":"Cen!F48","v":397.4},0]
[null,null,null,null,null,null,null,null,null,null,null,null,null,{"$f":"\" \"&List!$B$7","v":" Výběr ORGA-LINE"},null,{"$f":"Cen!A52","v":"Bočnice M 550mm, šedé"},{"$f":"Cen!B52","v":"378M5502SA"},{"$f":"Cen!C52","v":"R906"},{"$f":"IF($U$2=4, 0, SUM($J$19:$J$20, $J$25:$J$26))","v":0},{"$f":"Cen!F52","v":399.2},0]
[null,null,null,null,null,null,null,null,null,null,null,null,null,{"$f":"\" \"&List!$B$18","v":" Souhrn"},null,{"$f":"Cen!A56","v":"Bočnice M 600mm, šedé"},{"$f":"Cen!B56","v":"378M6002SA"},{"$f":"Cen!C56","v":"R906"},{"$f":"IF($U$2=4, 0, SUM($K$19:$K$20, $K$25:$K$26))","v":0},{"$f":"Cen!F56","v":508.3},0]
[null,null,null,null,null,null,null,null,{"$f":"\"* \"&List!$B$132&\":\"","v":"* Přířezy prvků:"},null,null,null,null,null,null,{"$f":"Cen!A60","v":"Bočnice M 650mm, šedé"},{"$f":"Cen!B60","v":"378M6502SA"},{"$f":"Cen!C60","v":"R906"},{"$f":"IF($U$2=4, 0, SUM($L$20, $L$26))","v":0},{"$f":"Cen!F60","v":536.29999999999995},0]
[null,null,null,null,null,null,null,null,{"$f":"List!$C$136&\":   LW - 132\"","v":"Přední díl:   LW - 132"}]
[null,null,null,null,null,null,null,null,{"$f":"List!$C$137&\":   LW - 122\"","v":"Příčný reling:   LW - 122"},null,null,null,null,null,null,{"$f":"Cen!A94","v":"Korpusové lišty 270mm, BLUMOTION, 30kg"},{"$f":"Cen!B94","v":"578.2701B"},{"$f":"Cen!C94","v":"ZN"},{"$f":"IF($U$2=4, 0, $D$19)","v":0},{"$f":"Cen!F94","v":459.2},0]
[null,null,null,null,null,null,{"$f":"IF($U$2=4, P103, \" \")","v":" "},null,null,null,null,null,null,null,null,{"$f":"Cen!A95","v":"Korpusové lišty 300mm, BLUMOTION, 30kg"},{"$f":"Cen!B95","v":"578.3001B"},{"$f":"Cen!C95","v":"ZN"},{"$f":"IF($U$2=4, 0, $E$19)","v":0},{"$f":"Cen!F95","v":459.2},0]
[null,null,null,null,null,null,{"$f":"IF($U$2=4, P104, \" \")","v":" "},null,null,null,null,null,null,null,null,{"$f":"Cen!A96","v":"Korpusové lišty 350mm, BLUMOTION, 30kg"},{"$f":"Cen!B96","v":"578.3501B"},{"$f":"Cen!C96","v":"ZN"},{"$f":"IF($U$2=4, 0, $F$19)","v":0},{"$f":"Cen!F96","v":459.2},0]
[null,null,null,null,null,null,null,null,null,null,null,null,null,null,null,{"$f":"Cen!A97","v":"Korpusové lišty 400mm, BLUMOTION, 30kg"},{"$f":"Cen!B97","v":"578.4001B"},{"$f":"Cen!C97","v":"ZN"},{"$f":"IF($U$2=4, 0, $G$19)","v":0},{"$f":"Cen!F97","v":462.6},0]
[null,"BLUMOTION",null,null,null,null,null,null,null,null,null,null,null,null,null,{"$f":"Cen!A98","v":"Korpusové lišty 450mm, BLUMOTION, 30kg"},{"$f":"Cen!B98","v":"578.4501B"},{"$f":"Cen!C98","v":"ZN"},{"$f":"IF($U$2=4, 0, $H$19)","v":0},{"$f":"Cen!F98","v":466},0]
[null,null,{"$f":"List!$B$45&\":\"","v":"Jmenovitá délka:"},"270 mm","300 mm","350 mm","400 mm","450 mm","500 mm","550 mm","600 mm","650 mm",null,null,null,{"$f":"Cen!A99","v":"Korpusové lišty 450mm, BLUMOTION, 65kg"},{"$f":"Cen!B99","v":"576.4501B"},{"$f":"Cen!C99","v":"ZN"},{"$f":"IF($U$2=4, 0, $H$20)","v":0},{"$f":"Cen!F99","v":560.79999999999995},0]
[null,"AD31VBS","30 kg",null,null,null,null,null,null,null,null,null,null,null,null,{"$f":"Cen!A100","v":"Korpusové lišty 500mm, BLUMOTION, 30kg"},{"$f":"Cen!B100","v":"578.5001B"},{"$f":"Cen!C100","v":"ZN"},{"$f":"IF($U$2=4, 0, $I$19)","v":0},{"$f":"Cen!F100","v":469.5},0]
[null,"AD61VBS","65 kg",null,null,null,null,null,null,null,null,null,null,null,null,{"$f":"Cen!A101","v":"Korpusové lišty 500mm, BLUMOTION, 65kg"},{"$f":"Cen!B101","v":"576.5001B"},{"$f":"Cen!C101","v":"ZN"},{"$f":"IF($U$2=4, 0, $I$20)","v":0},{"$f":"Cen!F101","v":620.4},0]
[null,null,null,null,null,null,null,null,null,null,null,null,null,null,null,{"$f":"Cen!A102","v":"Korpusové lišty 550mm, BLUMOTION, 30kg"},{"$f":"Cen!B102","v":"578.5501B"},{"$f":"Cen!C102","v":"ZN"},{"$f":"IF($U$2=4, 0, $J$19)","v":0},{"$f":"Cen!F102","v":493.5},0]
[null,null,null,null,null,null,null,null,null,null,null,null,null,null,null,{"$f":"Cen!A103","v":"Korpusové lišty 550mm, BLUMOTION, 65kg"},{"$f":"Cen!B103","v":"576.5501B"},{"$f":"Cen!C103","v":"ZN"},{"$f":"IF($U$2=4, 0, $J$20)","v":0},{"$f":"Cen!F103","v":644.29999999999995},0]
[null,"TIP-ON BLUMOTION",null,null,null,null,null,null,null,null,null,null,null,null,null,{"$f":"Cen!A104","v":"Korpusové lišty 600mm, BLUMOTION, 30kg"},{"$f":"Cen!B104","v":"578.6001B"},{"$f":"Cen!C104","v":"ZN"},{"$f":"IF($U$2=4, 0, $K$19)","v":0},{"$f":"Cen!F104","v":523.9},0]
[null,null,{"$f":"List!$B$45&\":\"","v":"Jmenovitá délka:"},"270 mm","300 mm","350 mm","400 mm","450 mm","500 mm","550 mm","600 mm","650 mm",null,null,null,{"$f":"Cen!A105","v":"Korpusové lišty 600mm, BLUMOTION, 65kg"},{"$f":"Cen!B105","v":"576.6001B"},{"$f":"Cen!C105","v":"ZN"},{"$f":"IF($U$2=4, 0, $K$20)","v":0},{"$f":"Cen!F105","v":661.1},0]
[null,"AD31VMS","30 kg",null,null,null,null,null,null,null,null,null,null,null,null,{"$f":"Cen!A106","v":"Korpusové lišty 650mm, BLUMOTION, 65kg"},{"$f":"Cen!B106","v":"576.6501B"},{"$f":"Cen!C106","v":"ZN"},{"$f":"IF($U$2=4, 0, $L$20)","v":0},{"$f":"Cen!F106","v":751.2},0]
[null,"AD61VMS","65 kg",null,null,null,null,null,null,null,null,null,null,null,null,{"$f":"Cen!A109","v":"Korp. lišty TIP-ON BLUMOTION, 270mm, 30 kg"},{"$f":"Cen!B109","v":"578.2701M"},{"$f":"Cen!C109","v":"ZN"},{"$f":"IF($U$2=4, 0, $D$25)","v":0},{"$f":"Cen!F109","v":417.4},0]
[null,null,null,null,null,null,null,null,null,null,null,null,null,null,null,{"$f":"Cen!A110","v":"Korp. lišty TIP-ON BLUMOTION, 300mm, 30 kg"},{"$f":"Cen!B110","v":"578.3001M"},{"$f":"Cen!C110","v":"ZN"},{"$f":"IF($U$2=4, 0, $E$25)","v":0},{"$f":"Cen!F110","v":417.4},0]
[null,null,null,{"$f":"List!$B$268","v":"Sada jednotek TIP-ON BLUMOTION"},null,null,null,null,null,null,null,null,null,{"$f":"List!$B$259","v":"Výběr sady jednotek"},null,{"$f":"Cen!A111","v":"Korp. lišty TIP-ON BLUMOTION, 350mm, 30 kg"},{"$f":"Cen!B111","v":"578.3501M"},{"$f":"Cen!C111","v":"ZN"},{"$f":"IF($U$2=4, 0, $F$25)","v":0},{"$f":"Cen!F111","v":417.4},0]
[null,null,null,"S0","S1","L1","L3","L5",null,null,null,null,null,null,null,{"$f":"Cen!A112","v":"Korp. lišty TIP-ON BLUMOTION, 400mm, 30 kg"},{"$f":"Cen!B112","v":"578.4001M"},{"$f":"Cen!C112","v":"ZN"},{"$f":"IF($U$2=4, 0, $G$25)","v":0},{"$f":"Cen!F112","v":420.5},0]
[null,null,null,null,null,null,null,null,{"$f":"IF(SUM($F$25:$K$25,$H$26:$L$26)=SUM($F$30:$H$30),\" \",$P$100)","v":" "},null,null,null,null,null,null,{"$f":"Cen!A113","v":"Korp. lišty TIP-ON BLUMOTION, 450mm, 30 kg"},{"$f":"Cen!B113","v":"578.4501M"},{"$f":"Cen!C113","v":"ZN"},{"$f":"IF($U$2=4, 0, $H$25)","v":0},{"$f":"Cen!F113","v":423.7},0]
[null,null,{"$f":"IF(AND(SUM($D$25,$E$25)>0,SUM($D$30,$E$30)=0),$P$99, IF(AND(SUM($D$25,$E$25)=0,SUM($D$30,$E$30)>0),$P$98, \" \"))&IF(SUM($D$25,$E$25)<>SUM($D$30,$E$30),\" \"&$P$101,\" \")","v":"  "},null,null,null,null,null,null,null,null,null,null,null,null,{"$f":"Cen!A114","v":"Korp. lišty TIP-ON BLUMOTION, 450mm, 65 kg"},{"$f":"Cen!B114","v":"578.4501M"},{"$f":"Cen!C114","v":"ZN"},{"$f":"IF($U$2=4, 0, $H$26)","v":0},{"$f":"Cen!F114","v":560.79999999999995},0]
[null,null,null,null,null,null,null,null,null,null,null,null,null,null,null,{"$f":"Cen!A115","v":"Korp. lišty TIP-ON BLUMOTION, 500mm, 30 kg"},{"$f":"Cen!B115","v":"578.5001M"},{"$f":"Cen!C115","v":"ZN"},{"$f":"IF($U$2=4, 0, $I$25)","v":0},{"$f":"Cen!F115","v":426.8},0]
[null,null,null,{"$f":"\"     \"&List!$B$270","v":"     Synchronizace je přidána automaticky. "},null,null,null,null,null,null,null,null,null,null,null,{"$f":"Cen!A116","v":"Korp. lišty TIP-ON BLUMOTION, 500mm, 65 kg"},{"$f":"Cen!B116","v":"576.5001M"},{"$f":"Cen!C116","v":"ZN"},{"$f":"IF($U$2=4, 0, $I$26)","v":0},{"$f":"Cen!F116","v":564},0]
[null,null,null,{"$f":"\"     \"&List!$B$271","v":"     Pozor! Pro každý výsuv je započítána jedna hřídel. Počet hřídelí upravte v objednávce!"},null,null,null,null,null,null,null,null,null,null,null,{"$f":"Cen!A117","v":"Korp. lišty TIP-ON BLUMOTION, 550mm, 30 kg"},{"$f":"Cen!B117","v":"578.5501M"},{"$f":"Cen!C117","v":"ZN"},{"$f":"IF($U$2=4, 0, $J$25)","v":0},{"$f":"Cen!F117","v":448.6},0]
[null,null,null,{"$f":"\"     \"&List!$B$272","v":"     Pro korpusy šířky ≥ 750 mm použijte podpěru dna a podpěru synchronizační hřídele."},null,null,null,null,null,null,null,null,null,null,null,{"$f":"Cen!A118","v":"Korp. lišty TIP-ON BLUMOTION, 550mm, 65 kg"},{"$f":"Cen!B118","v":"576.5501M"},{"$f":"Cen!C118","v":"ZN"},{"$f":"IF($U$2=4, 0, $J$26)","v":0},{"$f":"Cen!F118","v":585.79999999999995},0]
[null,null,null,{"$f":"\"     \"&List!$B$273","v":"     Podpěry přidejte v sekci \"Výběr doplňků\""},null,null,null,null,null,null,null,null,null,null,null,{"$f":"Cen!A119","v":"Korp. lišty TIP-ON BLUMOTION, 600mm, 30 kg"},{"$f":"Cen!B119","v":"578.6001M"},{"$f":"Cen!C119","v":"ZN"},{"$f":"IF($U$2=4, 0, $K$25)","v":0},{"$f":"Cen!F119","v":542},0]
[null,null,null,null,null,null,null,null,null,null,null,null,null,null,null,{"$f":"Cen!A120","v":"Korp. lišty TIP-ON BLUMOTION, 600mm, 65 kg"},{"$f":"Cen!B120","v":"576.6001M"},{"$f":"Cen!C120","v":"ZN"},{"$f":"IF($U$2=4, 0, $K$26)","v":0},{"$f":"Cen!F120","v":661.1},0]
[null,null,{"$f":"List!B244&\": \"","v":"Upozornění: "},{"$f":"List!B284","v":"Kovové zásuvné prvky pro NL 270 až 400mm se nevyrábí."},null,null,null,null,null,null,null,null,null,null,null,{"$f":"Cen!A121","v":"Korp. lišty TIP-ON BLUMOTION, 650mm, 65 kg"},{"$f":"Cen!B121","v":"576.6501M"},{"$f":"Cen!C121","v":"ZN"},{"$f":"IF($U$2=4, 0, $L$26)","v":0},{"$f":"Cen!F121","v":682.9},0]
[null,null,null,{"$f":"List!B285","v":"Do objednávky budou přidány prvky pro 450mm, které je potřeba na danou délku zkrátit."}]
[null,null,null,null,null,null,null,null,null,null,null,null,null,null,null,{"$f":"Cen!A124","v":"Sada jednotek TIP-ON BLUMOTION, S0"},{"$f":"Cen!B124","v":"T60B3030"},{"$f":"Cen!C124","v":"W"},{"$f":"IF($U$2=4, 0, $D$30)","v":0},{"$f":"Cen!F124","v":404.5},{"$f":"S40*T40","v":0}]
[null,null,null,null,null,null,null,null,null,null,null,null,null,null,null,{"$f":"Cen!A125","v":"Sada jednotek TIP-ON BLUMOTION, S1"},{"$f":"Cen!B125","v":"T60B3130"},{"$f":"Cen!C125","v":"R735"},{"$f":"IF($U$2=4, 0, $E$30)","v":0},{"$f":"Cen!F125","v":404.5},0]
[null,null,null,null,null,null,null,null,null,null,null,null,null,null,null,{"$f":"Cen!A126","v":"Sada jednotek TIP-ON BLUMOTION, L1"},{"$f":"Cen!B126","v":"T60B3330"},{"$f":"Cen!C126","v":"R735"},{"$f":"IF($U$2=4, 0, $F$30)","v":0},{"$f":"Cen!F126","v":404.5},0]
[null,null,null,null,null,null,null,null,null,null,null,null,null,null,null,{"$f":"Cen!A127","v":"Sada jednotek TIP-ON BLUMOTION, L3"},{"$f":"Cen!B127","v":"T60B3530"},{"$f":"Cen!C127","v":"R737"},{"$f":"IF($U$2=4, 0, $G$30)","v":0},{"$f":"Cen!F127","v":404.5},0]
[null,null,null,null,null,null,null,null,null,null,null,null,null,null,null,{"$f":"Cen!A128","v":"Sada jednotek TIP-ON BLUMOTION, L5"},{"$f":"Cen!B128","v":"T60B3560"},{"$f":"Cen!C128","v":"S"},{"$f":"IF($U$2=4, 0, $H$30)","v":0},{"$f":"Cen!F128","v":404.5},0]
[]
[null,null,null,null,null,null,null,null,null,null,null,null,null,null,null,{"$f":"Cen!A130","v":"Synchronizační adaptér"},{"$f":"Cen!B130","v":"T60.000D"},{"$f":"Cen!C130","v":"R735"},{"$f":"SUM($S$40:$S$44)*2","v":0},{"$f":"Cen!F130","v":5.8},0]
[null,null,null,null,null,null,null,null,null,null,null,null,null,null,null,{"$f":"Cen!A131","v":"Hřídel synchronizace"},{"$f":"Cen!B131","v":"T60.1125W"},{"$f":"Cen!C131","v":"GR"},{"$f":"SUM($S$40:$S$44)","v":0},{"$f":"Cen!F131","v":95.6},0]
[null,null,null,null,null,null,null,null,null,null,null,null,null,null,null,{"$f":"Cen!A132","v":"Jednodílná synchronizace"},{"$f":"Cen!B132","v":"T60.300D"},{"$f":"Cen!C132","v":"R735"},null,{"$f":"Cen!F132","v":23.2},0]
[null,null,null,null,null,null,null,null,null,null,null,null,null,null,null,{"$f":"Cen!A134","v":"Držák hřídele synchronizace"},{"$f":"Cen!B134","v":"T60B000H"},{"$f":"Cen!C134","v":"NI"},null,{"$f":"Cen!F134","v":6},0]
[null,null,null,null,null,null,null,null,null,null,null,null,null,null,null,{"$f":"Cen!A135","v":"Podpěrný úhelník pro dno"},{"$f":"Cen!B135","v":"Z96.2011"},{"$f":"Cen!C135","v":"R737"},null,{"$f":"Cen!F135","v":29.8},0]
[]
[null,null,null,null,null,null,null,null,null,null,null,null,null,null,null,{"$f":"Cen!A143","v":"Držáky zadní stěny N, šedé"},{"$f":"Cen!B143","v":"Z30N000S.04"},{"$f":"Cen!C143","v":"R906"},null,{"$f":"Cen!F143","v":36.5},{"$f":"S52*T52","v":0}]
[null,null,null,null,null,null,null,null,null,null,null,null,null,null,null,{"$f":"Cen!A147","v":"Držáky zadní stěny M, šedé"},{"$f":"Cen!B147","v":"Z30M000S.04"},{"$f":"Cen!C147","v":"R906"},null,{"$f":"Cen!F147","v":40.200000000000003},0]
[null,null,null,null,null,null,null,null,null,null,null,null,null,null,null,{"$f":"Cen!A151","v":"Držáky zadní stěny K, šedé"},{"$f":"Cen!B151","v":"Z30K000S"},{"$f":"Cen!C151","v":"R906"},null,{"$f":"Cen!F151","v":67.400000000000006},0]
[null,{"$f":"\"       \"&List!$B$145","v":"       Pro každý výsuv je započítán jeden přední díl a jeden příčný reling"},null,null,null,null,null,null,null,null,null,null,null,null,null,{"$f":"Cen!A154","v":"Držáky zadní stěny B, šedé"},{"$f":"Cen!B154","v":"Z30B000S.04"},{"$f":"Cen!C154","v":"R906"},null,{"$f":"Cen!F154","v":48.8},0]
[null,{"$f":"\"       \"&List!$B$147","v":"       Potřebný počet předních dílů a relingů upravte v objednávce"},null,null,null,null,null,null,null,null,null,null,null,null,null,{"$f":"Cen!A158","v":"Držáky zadní stěny C, šedé"},{"$f":"Cen!B158","v":"Z30C000S"},{"$f":"Cen!C158","v":"R906"},null,{"$f":"Cen!F158","v":71},0]
[null,null,null,null,null,null,null,null,null,null,null,null,null,null,null,{"$f":"Cen!A162","v":"Držáky zadní stěny D, šedé"},{"$f":"Cen!B162","v":"Z30D000S"},{"$f":"Cen!C162","v":"R906"},{"$f":"SUM($S$3:$S$11)","v":0},{"$f":"Cen!F162","v":78.099999999999994},0]
[null,{"$f":"IF(OR($K$14>0, $L$14>0), List!$B$196, \" \")","v":" "}]
[null,{"$f":"IF(OR($K$14>0, $L$14>0), List!$B$200, \" \")","v":" "},null,null,null,null,null,null,null,null,null,null,null,null,null,{"$f":"Cen!A189","v":"Držáky čela vnitřního výsuvu D bílošedé"},{"$f":"Cen!B189","v":"ZIF.74D0"},{"$f":"Cen!C189","v":"WGR"},{"$f":"SUM($S$3:$S$11)","v":0},{"$f":"Cen!F189","v":156.30000000000001},{"$f":"S59*T59","v":0}]
[null,null,null,null,null,null,null,null,null,null,null,null,null,null,null,{"$f":"Cen!A194","v":"Přední díl vnitřní zásuvky, šedý"},{"$f":"Cen!B194","v":"Z31L1036A  "},{"$f":"Cen!C194","v":"R906"},{"$f":"SUM($S$3:$S$11)","v":0},{"$f":"Cen!F194","v":363.8},{"$f":"S60*T60","v":0}]
[null,null,null,null,null,null,null,null,null,null,null,null,null,null,null,{"$f":"Cen!A199","v":"Příčný reling vnitřní zásuvky, šedý"},{"$f":"Cen!B199","v":"ZRG.1046Z "},{"$f":"Cen!C199","v":"R906"},{"$f":"SUM($S$3:$S$11)","v":0},{"$f":"Cen!F199","v":169.4},0]
[]
[null,null,null,null,null,null,null,null,null,null,null,null,null,null,null,{"$f":"Cen!A215","v":"Podélný reling vlevo/vpravo, 270mm, šedý"},{"$f":"Cen!B215","v":"ZRG.207RSIC"},{"$f":"Cen!C215","v":"R906"},{"$f":"S3","v":0},{"$f":"Cen!F215","v":150},{"$f":"S63*T63","v":0}]
[null,null,null,null,null,null,null,null,null,null,null,null,null,null,null,{"$f":"Cen!A219","v":"Podélný reling vlevo/vpravo, 300mm, šedý"},{"$f":"Cen!B219","v":"ZRG.237RSIC"},{"$f":"Cen!C219","v":"R906"},0,{"$f":"Cen!F219","v":152.5},0]
[null,null,null,null,null,null,null,null,null,null,null,null,null,null,null,{"$f":"Cen!A223","v":"Podélný reling vlevo/vpravo, 350mm, šedý"},{"$f":"Cen!B223","v":"ZRG.287RSIC"},{"$f":"Cen!C223","v":"R906"},0,{"$f":"Cen!F223","v":155},0]
[null,null,null,null,null,null,null,null,null,null,null,null,null,null,null,{"$f":"Cen!A227","v":"Podélný reling vlevo/vpravo, 400mm, šedý"},{"$f":"Cen!B227","v":"ZRG.337RSIC"},{"$f":"Cen!C227","v":"R906"},0,{"$f":"Cen!F227","v":157.5},0]
[null,null,null,null,null,null,null,null,null,null,null,null,null,null,null,{"$f":"Cen!A231","v":"Podélný reling vlevo/vpravo, 450mm, šedý"},{"$f":"Cen!B231","v":"ZRG.387RSIC"},{"$f":"Cen!C231","v":"R906"},0,{"$f":"Cen!F231","v":160},0]
[null,null,null,null,null,null,null,null,null,null,null,null,null,null,null,{"$f":"Cen!A235","v":"Podélný reling vlevo/vpravo, 500mm, šedý"},{"$f":"Cen!B235","v":"ZRG.437RSIC"},{"$f":"Cen!C235","v":"R906"},0,{"$f":"Cen!F235","v":178.7},0]
[null,null,null,null,null,null,null,null,null,null,null,null,null,null,null,{"$f":"Cen!A239","v":"Podélný reling vlevo/vpravo, 550mm, šedý"},{"$f":"Cen!B239","v":"ZRG.487RSIC"},{"$f":"Cen!C239","v":"R906"},0,{"$f":"Cen!F239","v":169.4},0]
[null,null,null,null,null,null,null,null,null,null,null,null,null,null,null,{"$f":"Cen!A243","v":"Podélný reling vlevo/vpravo, 600mm, šedý"},{"$f":"Cen!B243","v":"ZRG.537RSIC"},{"$f":"Cen!C243","v":"R906"},0,{"$f":"Cen!F243","v":176.3},0]
[null,null,null,null,null,null,null,null,null,null,null,null,null,null,null,{"$f":"Cen!A247","v":"Podélný reling vlevo/vpravo, 650mm, šedý"},{"$f":"Cen!B247","v":"ZRG.587RSIC"},{"$f":"Cen!C247","v":"R906"},0,{"$f":"Cen!F247","v":183.2},0]
[]
[null,null,null,null,null,null,null,null,null,null,null,null,null,null,null,{"$f":"Cen!A328","v":"Sada držáků zásuvného prvku D, bílošedá"},{"$f":"Cen!B328","v":"Z36D0080"},{"$f":"Cen!C328","v":"WGR"},{"$f":"SUM($S$3:$S$11)","v":0},{"$f":"Cen!F328","v":63.3},{"$f":"S73*T73","v":0}]
[]
[]
[]
[]
[]
[null,null,null,null,null,null,null,null,null,null,null,null,null,null,null,{"$f":"Cen!A292","v":"Kovový zásuvný prvek D, 450mm, šedý"},{"$f":"Cen!B292","v":"Z37A417D"},{"$f":"Cen!C292","v":"R906"},{"$f":"SUM(S3:S7)*2","v":0},{"$f":"Cen!F292","v":156.5},{"$f":"S79*T79","v":0}]
[null,null,null,null,null,null,null,null,null,null,null,null,null,null,null,{"$f":"Cen!A295","v":"Kovový zásuvný prvek D, 500mm, šedý"},{"$f":"Cen!B295","v":"Z37A467D"},{"$f":"Cen!C295","v":"R906"},{"$f":"S8*2","v":0},{"$f":"Cen!F295","v":164.4},{"$f":"S80*T80","v":0}]
[null,null,null,null,null,null,null,null,null,null,null,null,null,null,null,{"$f":"Cen!A298","v":"Kovový zásuvný prvek D, 550mm, šedý"},{"$f":"Cen!B298","v":"Z37A517D"},{"$f":"Cen!C298","v":"R906"},{"$f":"S9*2","v":0},{"$f":"Cen!F298","v":177.6},{"$f":"S81*T81","v":0}]
[null,null,null,null,null,null,null,null,null,null,null,null,null,null,null,{"$f":"Cen!A301","v":0},{"$f":"Cen!B301","v":0},{"$f":"Cen!C301","v":0},null,{"$f":"Cen!F301","v":0},{"$f":"S82*T82","v":0}]
[null,null,null,null,null,null,null,null,null,null,null,null,null,null,null,{"$f":"Cen!A304","v":"Kovový zásuvný prvek D, 650mm, šedý"},{"$f":"Cen!B304","v":"Z37A617D"},{"$f":"Cen!C304","v":"R906"},{"$f":"SUM(S10, S11)*2","v":0},{"$f":"Cen!F304","v":204},{"$f":"S83*T83","v":0}]
[]
[]
[]
[]
[]
[]
[null,null,null,null,null,null,null,null,null,null,null,null,null,null,null,null,null,null,null,null,{"$f":"SUM(U3:U89)","v":0}]
[]
[]
[]
[]
[]
[]
[]
[null,null,null,null,null,null,null,null,null,null,null,null,null,null,null,{"$f":"List!$B$276&\"!\"","v":"S0 a S1 pouze pro jmenovitou délku 270 a 300 mm!"}]
[null,null,null,null,null,null,null,null,null,null,null,null,null,null,null,{"$f":"List!$B$277&\"!\"","v":"Pro výsuvy délky 270 a 300 mm vyberte jednotky S0 nebo S1!"}]
[null,{"$f":"List!B25","v":"Informace k objednávání"},null,null,null,null,null,null,null,null,null,null,null,null,null,{"$f":"List!$B$278&\"!\"","v":"Počet jednotek L neodpovídá počtu korpusových lišt!"}]
[null,null,null,null,null,null,null,null,null,null,null,null,null,null,null,{"$f":"List!$B$279&\"!\"","v":"Počet jednotek S neodpovídá počtu korpusových lišt!"}]
[]
[null,null,null,{"$f":"List!B268&\" \"&List!B283","v":"Sada jednotek TIP-ON BLUMOTION a sada unašečů TIP-ON BLUMOTION"},null,null,null,null,null,null,null,null,null,null,null,{"$f":"List!$B$289&\"!\"","v":"Kovové zásuvné prvky pro nerez (Inox) se nevyrábí!"}]
[null,null,null,{"$f":"List!$B$280&\":\"","v":"Využití pro:"},null,null,null,null,null,{"$f":"List!B281&\"*\"","v":"Doporučené hodnoty hmotnosti*"},null,null,null,null,null,{"$f":"List!$B$290&\"!\"","v":"Kování naplánované na tomto listu se neprojeví v objednávce!"}]
[null,null,null,{"$f":"List!B45&\" (NL)\"","v":"Jmenovitá délka (NL)"},null,null,{"$f":"List!B275","v":"Jednotka"},{"$f":"List!B88","v":"Číslo artiklu"}]
[null,null,null,"270 - 300 mm",null,null,"S0","T60L7040",null,"≤ 10 kg"]
[null,null,null,null,null,null,"S1","T60L7140",null,"10-20 kg"]
[null,null,null,"350 - 650 mm",null,null,"L1","T60L7340",null,"≤ 20 kg"]
[null,null,null,null,null,null,"L3","T60L7540",null,"15 - 40 kg"]
[null,null,null,null,null,null,"L5","T60L7570",null,null,"25 - 70 kg"]
[null,null,null,null,null,null,null,{"$f":"\"* \"&List!B282","v":"* Celková hmotnost výsuvu (hmotnost výsuvu včetně náplně)"}]
[]
[null,null,null,null,null,null,null,null,null,null,null,null,null,{"$f":"List!$B$99","v":"Zpět"}]

{"sheet":"AD31VR","index":12,"n_rows":113,"n_cols":21,"rows_kept":113,"cut":false,"hidden":false,"merged":[[108,9,108,10],[109,7,109,8],[109,10,109,11],[98,0,139,0],[99,1,100,11],[102,1,102,2],[102,3,102,11],[103,1,111,2],[103,3,103,8],[103,9,104,11],[104,3,104,5],[104,7,104,8],[105,3,106,5],[110,7,111,11],[105,7,105,8],[106,7,106,8],[107,3,109,5],[107,7,107,8],[108,7,108,8]]}
[]
[null,null,null,null,null,null,null,null,null,null,null,{"$f":"List!$B$49&\" D, \"&List!$B$64","v":"Vnitřní výsuv D, podélný reling"},null,{"$f":"List!$B$11&\":\"","v":"Zpět na:"},null,"Počty zásuvek →",{"$f":"SUM(D19:K19)","v":0},{"$f":"SUM(H20:L20)","v":0},{"$f":"SUM(D25:K25)","v":0},{"$f":"SUM(H26:L26)","v":0}]
[null,null,null,null,null,null,null,null,null,null,null,null,null,{"$f":"\" \"&List!$B$13","v":" Úvod"},null,{"$f":"Cen!A28","v":"Bočnice M 270mm, šedé"},{"$f":"Cen!B28","v":"378M2702SA"},{"$f":"Cen!C28","v":"R906"},{"$f":"SUM($D$19, $D$25)","v":0},{"$f":"Cen!F28","v":350.6},{"$f":"S3*T3","v":0}]
[null,null,null,null,null,null,null,null,{"$f":"List!$B$72&\":\"","v":"bočnice:"},null,"M",null,null,{"$f":"\" \"&List!$B$4","v":" Výběr zásuvek a výsuvů"},null,{"$f":"Cen!A32","v":"Bočnice M 300mm, šedé"},{"$f":"Cen!B32","v":"378M3002SA"},{"$f":"Cen!C32","v":"R906"},{"$f":"SUM($E$19, $E$25)","v":0},{"$f":"Cen!F32","v":350.6},0]
[null,null,null,null,null,null,null,null,{"$f":"List!$B$27&\":\"","v":"barva:"},null,{"$f":"Form!$O$2","v":"šedá"},null,null,null,null,{"$f":"Cen!A36","v":"Bočnice M 350mm, šedé"},{"$f":"Cen!B36","v":"378M3502SA"},{"$f":"Cen!C36","v":"R906"},{"$f":"SUM($F$19, $F$25)","v":0},{"$f":"Cen!F36","v":350.6},0]
[null,null,null,null,null,null,null,null,null,null,null,null,null,{"$f":"List!$B$12&\":\"","v":"Pokračovat na:"},null,{"$f":"Cen!A40","v":"Bočnice M 400mm, šedé"},{"$f":"Cen!B40","v":"378M4002SA"},{"$f":"Cen!C40","v":"R906"},{"$f":"SUM($G$19, $G$25)","v":0},{"$f":"Cen!F40","v":354.3},0]
[null,null,null,null,null,null,null,null,null,null,null,null,null,{"$f":"\" \"&List!$B$5","v":" Výběr doplňků"},null,{"$f":"Cen!A44","v":"Bočnice M 450mm, šedé"},{"$f":"Cen!B44","v":"378M4502SA"},{"$f":"Cen!C44","v":"R906"},{"$f":"SUM($H$19:$H$20, $H$25:$H$26)","v":0},{"$f":"Cen!F44","v":358.1},0]
[null,null,null,null,null,null,null,null,null,null,null,null,null,{"$f":"\" \"&List!$B$6","v":" Výběr SERVO-DRIVE"},null,{"$f":"Cen!A48","v":"Bočnice M 500mm, šedé"},{"$f":"Cen!B48","v":"378M5002SA"},{"$f":"Cen!C48","v":"R906"},{"$f":"SUM($I$19:$I$20, $I$25:$I$26)","v":0},{"$f":"Cen!F48","v":397.4},0]
[null,null,null,null,null,null,null,null,null,null,null,null,null,{"$f":"\" \"&List!$B$7","v":" Výběr ORGA-LINE"},null,{"$f":"Cen!A52","v":"Bočnice M 550mm, šedé"},{"$f":"Cen!B52","v":"378M5502SA"},{"$f":"Cen!C52","v":"R906"},{"$f":"SUM($J$19:$J$20, $J$25:$J$26)","v":0},{"$f":"Cen!F52","v":399.2},0]
[null,null,null,null,null,null,null,null,null,null,null,null,null,{"$f":"\" \"&List!$B$18","v":" Souhrn"},null,{"$f":"Cen!A56","v":"Bočnice M 600mm, šedé"},{"$f":"Cen!B56","v":"378M6002SA"},{"$f":"Cen!C56","v":"R906"},{"$f":"SUM($K$19:$K$20, $K$25:$K$26)","v":0},{"$f":"Cen!F56","v":508.3},0]
[null,null,null,null,null,null,null,null,{"$f":"\"* \"&List!$B$132&\":\"","v":"* Přířezy prvků:"},null,null,null,null,null,null,{"$f":"Cen!A60","v":"Bočnice M 650mm, šedé"},{"$f":"Cen!B60","v":"378M6502SA"},{"$f":"Cen!C60","v":"R906"},{"$f":"SUM($L$20, $L$26)","v":0},{"$f":"Cen!F60","v":536.29999999999995},0]
[null,null,null,null,null,null,null,null,{"$f":"List!$C$136&\":   LW - 132\"","v":"Přední díl:   LW - 132"}]
[null,null,null,null,null,null,null,null,{"$f":"List!$C$137&\":   LW - 122\"","v":"Příčný reling:   LW - 122"},null,null,null,null,null,null,{"$f":"Cen!A94","v":"Korpusové lišty 270mm, BLUMOTION, 30kg"},{"$f":"Cen!B94","v":"578.2701B"},{"$f":"Cen!C94","v":"ZN"},{"$f":"$D$19","v":0},{"$f":"Cen!F94","v":459.2},0]
[null,null,null,null,null,null,null,null,null,null,null,null,null,null,null,{"$f":"Cen!A95","v":"Korpusové lišty 300mm, BLUMOTION, 30kg"},{"$f":"Cen!B95","v":"578.3001B"},{"$f":"Cen!C95","v":"ZN"},{"$f":"$E$19","v":0},{"$f":"Cen!F95","v":459.2},0]
[null,null,null,null,null,null,null,null,null,null,null,null,null,null,null,{"$f":"Cen!A96","v":"Korpusové lišty 350mm, BLUMOTION, 30kg"},{"$f":"Cen!B96","v":"578.3501B"},{"$f":"Cen!C96","v":"ZN"},{"$f":"$F$19","v":0},{"$f":"Cen!F96","v":459.2},0]
[null,null,null,null,null,null,null,null,null,null,null,null,null,null,null,{"$f":"Cen!A97","v":"Korpusové lišty 400mm, BLUMOTION, 30kg"},{"$f":"Cen!B97","v":"578.4001B"},{"$f":"Cen!C97","v":"ZN"},{"$f":"$G$19","v":0},{"$f":"Cen!F97","v":462.6},0]
[null,"BLUMOTION",null,null,null,null,null,null,null,null,null,null,null,null,null,{"$f":"Cen!A98","v":"Korpusové lišty 450mm, BLUMOTION, 30kg"},{"$f":"Cen!B98","v":"578.4501B"},{"$f":"Cen!C98","v":"ZN"},{"$f":"$H$19","v":0},{"$f":"Cen!F98","v":466},0]
[null,null,{"$f":"List!$B$45&\":\"","v":"Jmenovitá délka:"},"270 mm","300 mm","350 mm","400 mm","450 mm","500 mm","550 mm","600 mm","650 mm",null,null,null,{"$f":"Cen!A99","v":"Korpusové lišty 450mm, BLUMOTION, 65kg"},{"$f":"Cen!B99","v":"576.4501B"},{"$f":"Cen!C99","v":"ZN"},{"$f":"$H$20","v":0},{"$f":"Cen!F99","v":560.79999999999995},0]
[null,"AD31VBR","30 kg",null,null,null,null,null,null,null,null,null,null,null,null,{"$f":"Cen!A100","v":"Korpusové lišty 500mm, BLUMOTION, 30kg"},{"$f":"Cen!B100","v":"578.5001B"},{"$f":"Cen!C100","v":"ZN"},{"$f":"$I$19","v":0},{"$f":"Cen!F100","v":469.5},0]
[null,"AD61VBR","65 kg",null,null,null,null,null,null,null,null,null,null,null,null,{"$f":"Cen!A101","v":"Korpusové lišty 500mm, BLUMOTION, 65kg"},{"$f":"Cen!B101","v":"576.5001B"},{"$f":"Cen!C101","v":"ZN"},{"$f":"$I$20","v":0},{"$f":"Cen!F101","v":620.4},0]
[null,null,null,null,null,null,null,null,null,null,null,null,null,null,null,{"$f":"Cen!A102","v":"Korpusové lišty 550mm, BLUMOTION, 30kg"},{"$f":"Cen!B102","v":"578.5501B"},{"$f":"Cen!C102","v":"ZN"},{"$f":"$J$19","v":0},{"$f":"Cen!F102","v":493.5},0]
[null,null,null,null,null,null,null,null,null,null,null,null,null,null,null,{"$f":"Cen!A103","v":"Korpusové lišty 550mm, BLUMOTION, 65kg"},{"$f":"Cen!B103","v":"576.5501B"},{"$f":"Cen!C103","v":"ZN"},{"$f":"$J$20","v":0},{"$f":"Cen!F103","v":644.29999999999995},0]
[null,"TIP-ON BLUMOTION",null,null,null,null,null,null,null,null,null,null,null,null,null,{"$f":"Cen!A104","v":"Korpusové lišty 600mm, BLUMOTION, 30kg"},{"$f":"Cen!B104","v":"578.6001B"},{"$f":"Cen!C104","v":"ZN"},{"$f":"$K$19","v":0},{"$f":"Cen!F104","v":523.9},0]
[null,null,{"$f":"List!$B$45&\":\"","v":"Jmenovitá délka:"},"270 mm","300 mm","350 mm","400 mm","450 mm","500 mm","550 mm","600 mm","650 mm",null,null,null,{"$f":"Cen!A105","v":"Korpusové lišty 600mm, BLUMOTION, 65kg"},{"$f":"Cen!B105","v":"576.6001B"},{"$f":"Cen!C105","v":"ZN"},{"$f":"$K$20","v":0},{"$f":"Cen!F105","v":661.1},0]
[null,"AD31VMR","30 kg",null,null,null,null,null,null,null,null,null,null,null,null,{"$f":"Cen!A106","v":"Korpusové lišty 650mm, BLUMOTION, 65kg"},{"$f":"Cen!B106","v":"576.6501B"},{"$f":"Cen!C106","v":"ZN"},{"$f":"$L$20","v":0},{"$f":"Cen!F106","v":751.2},0]
[null,"AD61VMR","65 kg",null,null,null,null,null,null,null,null,null,null,null,null,{"$f":"Cen!A109","v":"Korp. lišty TIP-ON BLUMOTION, 270mm, 30 kg"},{"$f":"Cen!B109","v":"578.2701M"},{"$f":"Cen!C109","v":"ZN"},{"$f":"$D$25","v":0},{"$f":"Cen!F109","v":417.4},0]
[null,null,null,null,null,null,null,null,null,null,null,null,null,null,null,{"$f":"Cen!A110","v":"Korp. lišty TIP-ON BLUMOTION, 300mm, 30 kg"},{"$f":"Cen!B110","v":"578.3001M"},{"$f":"Cen!C110","v":"ZN"},{"$f":"$E$25","v":0},{"$f":"Cen!F110","v":417.4},0]
[null,null,null,{"$f":"List!$B$268","v":"Sada jednotek TIP-ON BLUMOTION"},null,null,null,null,null,null,null,null,null,{"$f":"List!$B$259","v":"Výběr sady jednotek"},null,{"$f":"Cen!A111","v":"Korp. lišty TIP-ON BLUMOTION, 350mm, 30 kg"},{"$f":"Cen!B111","v":"578.3501M"},{"$f":"Cen!C111","v":"ZN"},{"$f":"$F$25","v":0},{"$f":"Cen!F111","v":417.4},0]
[null,null,null,"S0","S1","L1","L3","L5",null,null,null,null,null,null,null,{"$f":"Cen!A112","v":"Korp. lišty TIP-ON BLUMOTION, 400mm, 30 kg"},{"$f":"Cen!B112","v":"578.4001M"},{"$f":"Cen!C112","v":"ZN"},{"$f":"$G$25","v":0},{"$f":"Cen!F112","v":420.5},0]
[null,null,null,null,null,null,null,null,{"$f":"IF(SUM($F$25:$K$25,$H$26:$L$26)=SUM($F$30:$H$30),\" \",$P$100)","v":" "},null,null,null,null,null,null,{"$f":"Cen!A113","v":"Korp. lišty TIP-ON BLUMOTION, 450mm, 30 kg"},{"$f":"Cen!B113","v":"578.4501M"},{"$f":"Cen!C113","v":"ZN"},{"$f":"$H$25","v":0},{"$f":"Cen!F113","v":423.7},0]
[null,null,{"$f":"IF(AND(SUM($D$25,$E$25)>0,SUM($D$30,$E$30)=0),$P$99, IF(AND(SUM($D$25,$E$25)=0,SUM($D$30,$E$30)>0),$P$98, \" \"))&IF(SUM($D$25,$E$25)<>SUM($D$30,$E$30),\" \"&$P$101,\" \")","v":"  "},null,null,null,null,null,null,null,null,null,null,null,null,{"$f":"Cen!A114","v":"Korp. lišty TIP-ON BLUMOTION, 450mm, 65 kg"},{"$f":"Cen!B114","v":"578.4501M"},{"$f":"Cen!C114","v":"ZN"},{"$f":"$H$26","v":0},{"$f":"Cen!F114","v":560.79999999999995},0]
[null,null,null,null,null,null,null,null,null,null,null,null,null,null,null,{"$f":"Cen!A115","v":"Korp. lišty TIP-ON BLUMOTION, 500mm, 30 kg"},{"$f":"Cen!B115","v":"578.5001M"},{"$f":"Cen!C115","v":"ZN"},{"$f":"$I$25","v":0},{"$f":"Cen!F115","v":426.8},0]
[null,null,null,{"$f":"\"     \"&List!$B$270","v":"     Synchronizace je přidána automaticky. "},null,null,null,null,null,null,null,null,null,null,null,{"$f":"Cen!A116","v":"Korp. lišty TIP-ON BLUMOTION, 500mm, 65 kg"},{"$f":"Cen!B116","v":"576.5001M"},{"$f":"Cen!C116","v":"ZN"},{"$f":"$I$26","v":0},{"$f":"Cen!F116","v":564},0]
[null,null,null,{"$f":"\"     \"&List!$B$271","v":"     Pozor! Pro každý výsuv je započítána jedna hřídel. Počet hřídelí upravte v objednávce!"},null,null,null,null,null,null,null,null,null,null,null,{"$f":"Cen!A117","v":"Korp. lišty TIP-ON BLUMOTION, 550mm, 30 kg"},{"$f":"Cen!B117","v":"578.5501M"},{"$f":"Cen!C117","v":"ZN"},{"$f":"$J$25","v":0},{"$f":"Cen!F117","v":448.6},0]
[null,null,null,{"$f":"\"     \"&List!$B$272","v":"     Pro korpusy šířky ≥ 750 mm použijte podpěru dna a podpěru synchronizační hřídele."},null,null,null,null,null,null,null,null,null,null,null,{"$f":"Cen!A118","v":"Korp. lišty TIP-ON BLUMOTION, 550mm, 65 kg"},{"$f":"Cen!B118","v":"576.5501M"},{"$f":"Cen!C118","v":"ZN"},{"$f":"$J$26","v":0},{"$f":"Cen!F118","v":585.79999999999995},0]
[null,null,null,{"$f":"\"     \"&List!$B$273","v":"     Podpěry přidejte v sekci \"Výběr doplňků\""},null,null,null,null,null,null,null,null,null,null,null,{"$f":"Cen!A119","v":"Korp. lišty TIP-ON BLUMOTION, 600mm, 30 kg"},{"$f":"Cen!B119","v":"578.6001M"},{"$f":"Cen!C119","v":"ZN"},{"$f":"$K$25","v":0},{"$f":"Cen!F119","v":542},0]
[null,null,null,null,null,null,null,null,null,null,null,null,null,null,null,{"$f":"Cen!A120","v":"Korp. lišty TIP-ON BLUMOTION, 600mm, 65 kg"},{"$f":"Cen!B120","v":"576.6001M"},{"$f":"Cen!C120","v":"ZN"},{"$f":"$K$26","v":0},{"$f":"Cen!F120","v":661.1},0]
[null,null,null,null,null,null,null,null,null,null,null,null,null,null,null,{"$f":"Cen!A121","v":"Korp. lišty TIP-ON BLUMOTION, 650mm, 65 kg"},{"$f":"Cen!B121","v":"576.6501M"},{"$f":"Cen!C121","v":"ZN"},{"$f":"$L$26","v":0},{"$f":"Cen!F121","v":682.9},0]
[]
[null,{"$f":"List!$B$23&\": **\"","v":"Volitelně: **"},null,null,null,null,null,null,null,null,null,null,null,null,null,{"$f":"Cen!A124","v":"Sada jednotek TIP-ON BLUMOTION, S0"},{"$f":"Cen!B124","v":"T60B3030"},{"$f":"Cen!C124","v":"W"},{"$f":"$D$30","v":0},{"$f":"Cen!F124","v":404.5},{"$f":"S40*T40","v":0}]
[null,{"$f":"Cen!A328","v":"Sada držáků zásuvného prvku D, bílošedá"},null,null,null,null,null,{"$f":"Cen!B328","v":"Z36D0080"},{"$f":"Cen!C328","v":"WGR"},null,null,null,null,null,null,{"$f":"Cen!A125","v":"Sada jednotek TIP-ON BLUMOTION, S1"},{"$f":"Cen!B125","v":"T60B3130"},{"$f":"Cen!C125","v":"R735"},{"$f":"$E$30","v":0},{"$f":"Cen!F125","v":404.5},0]
[null,null,null,null,null,null,null,null,null,null,null,null,null,null,null,{"$f":"Cen!A126","v":"Sada jednotek TIP-ON BLUMOTION, L1"},{"$f":"Cen!B126","v":"T60B3330"},{"$f":"Cen!C126","v":"R735"},{"$f":"$F$30","v":0},{"$f":"Cen!F126","v":404.5},0]
[null,{"$f":"\"      * \"&List!$B$145","v":"      * Pro každý výsuv je započítán jeden přední díl a jeden příčný reling"},null,null,null,null,null,null,null,null,null,null,null,null,null,{"$f":"Cen!A127","v":"Sada jednotek TIP-ON BLUMOTION, L3"},{"$f":"Cen!B127","v":"T60B3530"},{"$f":"Cen!C127","v":"R737"},{"$f":"$G$30","v":0},{"$f":"Cen!F127","v":404.5},0]
[null,{"$f":"\"        \"&List!$B$147","v":"        Potřebný počet předních dílů a relingů upravte v objednávce"},null,null,null,null,null,null,null,null,null,null,null,null,null,{"$f":"Cen!A128","v":"Sada jednotek TIP-ON BLUMOTION, L5"},{"$f":"Cen!B128","v":"T60B3560"},{"$f":"Cen!C128","v":"S"},{"$f":"$H$30","v":0},{"$f":"Cen!F128","v":404.5},0]
[null,{"$f":"\"    ** \"&List!$B$148","v":"    ** Sada držáků, pro vlastní zásuvný prvek"}]
[null,{"$f":"\"       \"&List!$B$150&\"!\"","v":"       Cena držáků zásuvného prvku není zahrnuta do cen jednotlivých výsuvů!"},null,null,null,null,null,null,null,null,null,null,null,null,null,{"$f":"Cen!A130","v":"Synchronizační adaptér"},{"$f":"Cen!B130","v":"T60.000D"},{"$f":"Cen!C130","v":"R735"},{"$f":"SUM($S$40:$S$44)*2","v":0},{"$f":"Cen!F130","v":5.8},0]
[null,null,null,null,null,null,null,null,null,null,null,null,null,null,null,{"$f":"Cen!A131","v":"Hřídel synchronizace"},{"$f":"Cen!B131","v":"T60.1125W"},{"$f":"Cen!C131","v":"GR"},{"$f":"SUM($S$40:$S$44)","v":0},{"$f":"Cen!F131","v":95.6},0]
[null,{"$f":"IF(OR($K$14>0, $L$14>0), List!$B$196, \" \")","v":" "},null,null,null,null,null,null,null,null,null,null,null,null,null,{"$f":"Cen!A132","v":"Jednodílná synchronizace"},{"$f":"Cen!B132","v":"T60.300D"},{"$f":"Cen!C132","v":"R735"},null,{"$f":"Cen!F132","v":23.2},0]
[null,{"$f":"IF(OR($K$14>0, $L$14>0), List!$B$200, \" \")","v":" "},null,null,null,null,null,null,null,null,null,null,null,null,null,{"$f":"Cen!A134","v":"Držák hřídele synchronizace"},{"$f":"Cen!B134","v":"T60B000H"},{"$f":"Cen!C134","v":"NI"},null,{"$f":"Cen!F134","v":6},0]
[null,null,null,null,null,null,null,null,null,null,null,null,null,null,null,{"$f":"Cen!A135","v":"Podpěrný úhelník pro dno"},{"$f":"Cen!B135","v":"Z96.2011"},{"$f":"Cen!C135","v":"R737"},null,{"$f":"Cen!F135","v":29.8},0]
[]
[null,null,null,null,null,null,null,null,null,null,null,null,null,null,null,{"$f":"Cen!A143","v":"Držáky zadní stěny N, šedé"},{"$f":"Cen!B143","v":"Z30N000S.04"},{"$f":"Cen!C143","v":"R906"},null,{"$f":"Cen!F143","v":36.5},{"$f":"S52*T52","v":0}]
[null,null,null,null,null,null,null,null,null,null,null,null,null,null,null,{"$f":"Cen!A147","v":"Držáky zadní stěny M, šedé"},{"$f":"Cen!B147","v":"Z30M000S.04"},{"$f":"Cen!C147","v":"R906"},null,{"$f":"Cen!F147","v":40.200000000000003},0]
[null,null,null,null,null,null,null,null,null,null,null,null,null,null,null,{"$f":"Cen!A151","v":"Držáky zadní stěny K, šedé"},{"$f":"Cen!B151","v":"Z30K000S"},{"$f":"Cen!C151","v":"R906"},null,{"$f":"Cen!F151","v":67.400000000000006},0]
[null,null,null,null,null,null,null,null,null,null,null,null,null,null,null,{"$f":"Cen!A154","v":"Držáky zadní stěny B, šedé"},{"$f":"Cen!B154","v":"Z30B000S.04"},{"$f":"Cen!C154","v":"R906"},null,{"$f":"Cen!F154","v":48.8},0]
[null,null,null,null,null,null,null,null,null,null,null,null,null,null,null,{"$f":"Cen!A158","v":"Držáky zadní stěny C, šedé"},{"$f":"Cen!B158","v":"Z30C000S"},{"$f":"Cen!C158","v":"R906"},null,{"$f":"Cen!F158","v":71},0]
[null,null,null,null,null,null,null,null,null,null,null,null,null,null,null,{"$f":"Cen!A162","v":"Držáky zadní stěny D, šedé"},{"$f":"Cen!B162","v":"Z30D000S"},{"$f":"Cen!C162","v":"R906"},{"$f":"SUM($S$3:$S$11)","v":0},{"$f":"Cen!F162","v":78.099999999999994},0]
[]
[null,null,null,null,null,null,null,null,null,null,null,null,null,null,null,{"$f":"Cen!A189","v":"Držáky čela vnitřního výsuvu D bílošedé"},{"$f":"Cen!B189","v":"ZIF.74D0"},{"$f":"Cen!C189","v":"WGR"},{"$f":"SUM($S$3:$S$11)","v":0},{"$f":"Cen!F189","v":156.30000000000001},{"$f":"S59*T59","v":0}]
[null,null,null,null,null,null,null,null,null,null,null,null,null,null,null,{"$f":"Cen!A194","v":"Přední díl vnitřní zásuvky, šedý"},{"$f":"Cen!B194","v":"Z31L1036A  "},{"$f":"Cen!C194","v":"R906"},{"$f":"SUM($S$3:$S$11)","v":0},{"$f":"Cen!F194","v":363.8},{"$f":"S60*T60","v":0}]
[null,null,null,null,null,null,null,null,null,null,null,null,null,null,null,{"$f":"Cen!A199","v":"Příčný reling vnitřní zásuvky, šedý"},{"$f":"Cen!B199","v":"ZRG.1046Z "},{"$f":"Cen!C199","v":"R906"},{"$f":"SUM($S$3:$S$11)","v":0},{"$f":"Cen!F199","v":169.4},0]
[]
[null,null,null,null,null,null,null,null,null,null,null,null,null,null,null,{"$f":"Cen!A215","v":"Podélný reling vlevo/vpravo, 270mm, šedý"},{"$f":"Cen!B215","v":"ZRG.207RSIC"},{"$f":"Cen!C215","v":"R906"},{"$f":"S3","v":0},{"$f":"Cen!F215","v":150},{"$f":"S63*T63","v":0}]
[null,null,null,null,null,null,null,null,null,null,null,null,null,null,null,{"$f":"Cen!A219","v":"Podélný reling vlevo/vpravo, 300mm, šedý"},{"$f":"Cen!B219","v":"ZRG.237RSIC"},{"$f":"Cen!C219","v":"R906"},0,{"$f":"Cen!F219","v":152.5},0]
[null,null,null,null,null,null,null,null,null,null,null,null,null,null,null,{"$f":"Cen!A223","v":"Podélný reling vlevo/vpravo, 350mm, šedý"},{"$f":"Cen!B223","v":"ZRG.287RSIC"},{"$f":"Cen!C223","v":"R906"},0,{"$f":"Cen!F223","v":155},0]
[null,null,null,null,null,null,null,null,null,null,null,null,null,null,null,{"$f":"Cen!A227","v":"Podélný reling vlevo/vpravo, 400mm, šedý"},{"$f":"Cen!B227","v":"ZRG.337RSIC"},{"$f":"Cen!C227","v":"R906"},0,{"$f":"Cen!F227","v":157.5},0]
[null,null,null,null,null,null,null,null,null,null,null,null,null,null,null,{"$f":"Cen!A231","v":"Podélný reling vlevo/vpravo, 450mm, šedý"},{"$f":"Cen!B231","v":"ZRG.387RSIC"},{"$f":"Cen!C231","v":"R906"},0,{"$f":"Cen!F231","v":160},0]
[null,null,null,null,null,null,null,null,null,null,null,null,null,null,null,{"$f":"Cen!A235","v":"Podélný reling vlevo/vpravo, 500mm, šedý"},{"$f":"Cen!B235","v":"ZRG.437RSIC"},{"$f":"Cen!C235","v":"R906"},0,{"$f":"Cen!F235","v":178.7},0]
[null,null,null,null,null,null,null,null,null,null,null,null,null,null,null,{"$f":"Cen!A239","v":"Podélný reling vlevo/vpravo, 550mm, šedý"},{"$f":"Cen!B239","v":"ZRG.487RSIC"},{"$f":"Cen!C239","v":"R906"},0,{"$f":"Cen!F239","v":169.4},0]
[null,null,null,null,null,null,null,null,null,null,null,null,null,null,null,{"$f":"Cen!A243","v":"Podélný reling vlevo/vpravo, 600mm, šedý"},{"$f":"Cen!B243","v":"ZRG.537RSIC"},{"$f":"Cen!C243","v":"R906"},0,{"$f":"Cen!F243","v":176.3},0]
[null,null,null,null,null,null,null,null,null,null,null,null,null,null,null,{"$f":"Cen!A247","v":"Podélný reling vlevo/vpravo, 650mm, šedý"},{"$f":"Cen!B247","v":"ZRG.587RSIC"},{"$f":"Cen!C247","v":"R906"},0,{"$f":"Cen!F247","v":183.2},0]
[]
[null,null,null,null,null,null,null,null,null,null,null,null,null,null,null,{"$f":"Cen!A328","v":"Sada držáků zásuvného prvku D, bílošedá"},{"$f":"Cen!B328","v":"Z36D0080"},{"$f":"Cen!C328","v":"WGR"},{"$f":"J41","v":0},{"$f":"Cen!F328","v":63.3},{"$f":"S73*T73","v":0}]
[]
[]
[]
[]
[]
[]
[]
[]
[]
[]
[]
[]
[]
[]
[]
[]
[null,null,null,null,null,null,null,null,null,null,null,null,null,null,null,null,null,null,null,null,{"$f":"SUM(U3:U89)","v":0}]
[]
[]
[]
[]
[]
[]
[]
[null,null,null,null,null,null,null,null,null,null,null,null,null,null,null,{"$f":"List!$B$276&\"!\"","v":"S0 a S1 pouze pro jmenovitou délku 270 a 300 mm!"}]
[null,null,null,null,null,null,null,null,null,null,null,null,null,null,null,{"$f":"List!$B$277&\"!\"","v":"Pro výsuvy délky 270 a 300 mm vyberte jednotky S0 nebo S1!"}]
[null,{"$f":"List!B25","v":"Informace k objednávání"},null,null,null,null,null,null,null,null,null,null,null,null,null,{"$f":"List!$B$278&\"!\"","v":"Počet jednotek L neodpovídá počtu korpusových lišt!"}]
[null,null,null,null,null,null,null,null,null,null,null,null,null,null,null,{"$f":"List!$B$279&\"!\"","v":"Počet jednotek S neodpovídá počtu korpusových lišt!"}]
[]
[null,null,null,{"$f":"List!B268&\" \"&List!B283","v":"Sada jednotek TIP-ON BLUMOTION a sada unašečů TIP-ON BLUMOTION"}]
[null,null,null,{"$f":"List!$B$280&\":\"","v":"Využití pro:"},null,null,null,null,null,{"$f":"List!B281&\"*\"","v":"Doporučené hodnoty hmotnosti*"}]
[null,null,null,{"$f":"List!B45&\" (NL)\"","v":"Jmenovitá délka (NL)"},null,null,{"$f":"List!B275","v":"Jednotka"},{"$f":"List!B88","v":"Číslo artiklu"}]
[null,null,null,"270 - 300 mm",null,null,"S0","T60L7040",null,"≤ 10 kg"]
[null,null,null,null,null,null,"S1","T60L7140",null,"10-20 kg"]
[null,null,null,"350 - 650 mm",null,null,"L1","T60L7340",null,"≤ 20 kg"]
[null,null,null,null,null,null,"L3","T60L7540",null,"15 - 40 kg"]
[null,null,null,null,null,null,"L5","T60L7570",null,null,"25 - 70 kg"]
[null,null,null,null,null,null,null,{"$f":"\"* \"&List!B282","v":"* Celková hmotnost výsuvu (hmotnost výsuvu včetně náplně)"}]
[]
[null,null,null,null,null,null,null,null,null,null,null,null,null,{"$f":"List!$B$99","v":"Zpět"}]

{"sheet":"AC310G","index":13,"n_rows":113,"n_cols":21,"rows_kept":113,"cut":false,"hidden":false,"merged":[[108,9,108,10],[109,7,109,8],[109,10,109,11],[98,0,139,0],[99,1,100,11],[102,1,102,2],[102,3,102,11],[103,1,111,2],[103,3,103,8],[103,9,104,11],[104,3,104,5],[104,7,104,8],[105,3,106,5],[110,7,111,11],[105,7,105,8],[106,7,106,8],[107,3,109,5],[107,7,107,8],[108,7,108,8]]}
[]
[null,null,null,null,null,null,null,null,null,null,null,{"$f":"List!$B$48&\" C, \"&List!$B$62","v":"Čelní výsuv C, zásuvný prvek sklo"},null,{"$f":"List!$B$11&\":\"","v":"Zpět na:"},null,"Počty zásuvek →",{"$f":"SUM(D19:K19)","v":0},{"$f":"SUM(H20:L20)","v":0},{"$f":"SUM(D25:K25)","v":0},{"$f":"SUM(H26:L26)","v":0}]
[null,null,null,null,null,null,null,null,null,null,null,null,null,{"$f":"\" \"&List!$B$13","v":" Úvod"},null,{"$f":"Cen!A28","v":"Bočnice M 270mm, šedé"},{"$f":"Cen!B28","v":"378M2702SA"},{"$f":"Cen!C28","v":"R906"},{"$f":"SUM($D$19, $D$25)","v":0},{"$f":"Cen!F28","v":350.6},{"$f":"S3*T3","v":0}]
[null,null,null,null,null,null,null,null,{"$f":"List!$B$72&\":\"","v":"bočnice:"},null,"M",null,null,{"$f":"\" \"&List!$B$4","v":" Výběr zásuvek a výsuvů"},null,{"$f":"Cen!A32","v":"Bočnice M 300mm, šedé"},{"$f":"Cen!B32","v":"378M3002SA"},{"$f":"Cen!C32","v":"R906"},{"$f":"SUM($E$19, $E$25)","v":0},{"$f":"Cen!F32","v":350.6},0]
[null,null,null,null,null,null,null,null,{"$f":"List!$B$27&\":\"","v":"barva:"},null,{"$f":"Form!$O$2","v":"šedá"},null,null,null,null,{"$f":"Cen!A36","v":"Bočnice M 350mm, šedé"},{"$f":"Cen!B36","v":"378M3502SA"},{"$f":"Cen!C36","v":"R906"},{"$f":"SUM($F$19, $F$25)","v":0},{"$f":"Cen!F36","v":350.6},0]
[null,null,null,null,null,null,null,null,"sklo:",null,"saténované",null,null,{"$f":"List!$B$12&\":\"","v":"Pokračovat na:"},null,{"$f":"Cen!A40","v":"Bočnice M 400mm, šedé"},{"$f":"Cen!B40","v":"378M4002SA"},{"$f":"Cen!C40","v":"R906"},{"$f":"SUM($G$19, $G$25)","v":0},{"$f":"Cen!F40","v":354.3},0]
[null,null,null,null,null,null,null,null,{"$f":"List!$B$36&\":\"","v":"čelní kování:"},null,{"$f":"Form!$O$13","v":"INSERTA"},null,null,{"$f":"\" \"&List!$B$5","v":" Výběr doplňků"},null,{"$f":"Cen!A44","v":"Bočnice M 450mm, šedé"},{"$f":"Cen!B44","v":"378M4502SA"},{"$f":"Cen!C44","v":"R906"},{"$f":"SUM($H$19:$H$20, $H$25:$H$26)","v":0},{"$f":"Cen!F44","v":358.1},0]
[null,null,null,null,null,null,null,null,null,null,null,null,null,{"$f":"\" \"&List!$B$6","v":" Výběr SERVO-DRIVE"},null,{"$f":"Cen!A48","v":"Bočnice M 500mm, šedé"},{"$f":"Cen!B48","v":"378M5002SA"},{"$f":"Cen!C48","v":"R906"},{"$f":"SUM($I$19:$I$20, $I$25:$I$26)","v":0},{"$f":"Cen!F48","v":397.4},0]
[null,null,null,null,null,null,null,null,null,null,null,null,null,{"$f":"\" \"&List!$B$7","v":" Výběr ORGA-LINE"},null,{"$f":"Cen!A52","v":"Bočnice M 550mm, šedé"},{"$f":"Cen!B52","v":"378M5502SA"},{"$f":"Cen!C52","v":"R906"},{"$f":"SUM($J$19:$J$20, $J$25:$J$26)","v":0},{"$f":"Cen!F52","v":399.2},0]
[null,null,null,null,null,null,null,null,null,null,null,null,null,{"$f":"\" \"&List!$B$18","v":" Souhrn"},null,{"$f":"Cen!A56","v":"Bočnice M 600mm, šedé"},{"$f":"Cen!B56","v":"378M6002SA"},{"$f":"Cen!C56","v":"R906"},{"$f":"SUM($K$19:$K$20, $K$25:$K$26)","v":0},{"$f":"Cen!F56","v":508.3},0]
[null,null,null,null,null,null,null,null,null,null,null,null,null,null,null,{"$f":"Cen!A60","v":"Bočnice M 650mm, šedé"},{"$f":"Cen!B60","v":"378M6502SA"},{"$f":"Cen!C60","v":"R906"},{"$f":"SUM($L$20, $L$26)","v":0},{"$f":"Cen!F60","v":536.29999999999995},0]
[]
[null,null,null,null,null,null,null,null,null,null,null,null,null,null,null,{"$f":"Cen!A94","v":"Korpusové lišty 270mm, BLUMOTION, 30kg"},{"$f":"Cen!B94","v":"578.2701B"},{"$f":"Cen!C94","v":"ZN"},{"$f":"$D$19","v":0},{"$f":"Cen!F94","v":459.2},0]
[null,null,null,null,null,null,null,null,null,null,null,null,null,null,null,{"$f":"Cen!A95","v":"Korpusové lišty 300mm, BLUMOTION, 30kg"},{"$f":"Cen!B95","v":"578.3001B"},{"$f":"Cen!C95","v":"ZN"},{"$f":"$E$19","v":0},{"$f":"Cen!F95","v":459.2},0]
[null,null,null,null,null,null,null,null,null,null,null,null,null,null,null,{"$f":"Cen!A96","v":"Korpusové lišty 350mm, BLUMOTION, 30kg"},{"$f":"Cen!B96","v":"578.3501B"},{"$f":"Cen!C96","v":"ZN"},{"$f":"$F$19","v":0},{"$f":"Cen!F96","v":459.2},0]
[null,null,null,null,null,null,null,null,null,null,null,null,null,null,null,{"$f":"Cen!A97","v":"Korpusové lišty 400mm, BLUMOTION, 30kg"},{"$f":"Cen!B97","v":"578.4001B"},{"$f":"Cen!C97","v":"ZN"},{"$f":"$G$19","v":0},{"$f":"Cen!F97","v":462.6},0]
[null,"BLUMOTION",null,null,null,null,null,null,null,null,null,null,null,null,null,{"$f":"Cen!A98","v":"Korpusové lišty 450mm, BLUMOTION, 30kg"},{"$f":"Cen!B98","v":"578.4501B"},{"$f":"Cen!C98","v":"ZN"},{"$f":"$H$19","v":0},{"$f":"Cen!F98","v":466},0]
[null,null,{"$f":"List!$B$45&\":\"","v":"Jmenovitá délka:"},"270 mm","300 mm","350 mm","400 mm","450 mm","500 mm","550 mm","600 mm","650 mm",null,null,null,{"$f":"Cen!A99","v":"Korpusové lišty 450mm, BLUMOTION, 65kg"},{"$f":"Cen!B99","v":"576.4501B"},{"$f":"Cen!C99","v":"ZN"},{"$f":"$H$20","v":0},{"$f":"Cen!F99","v":560.79999999999995},0]
[null,"AC310BG","30 kg",null,null,null,null,null,null,null,null,null,null,null,null,{"$f":"Cen!A100","v":"Korpusové lišty 500mm, BLUMOTION, 30kg"},{"$f":"Cen!B100","v":"578.5001B"},{"$f":"Cen!C100","v":"ZN"},{"$f":"$I$19","v":0},{"$f":"Cen!F100","v":469.5},0]
[null,"AC610BG","65 kg",null,null,null,null,null,null,null,null,null,null,null,null,{"$f":"Cen!A101","v":"Korpusové lišty 500mm, BLUMOTION, 65kg"},{"$f":"Cen!B101","v":"576.5001B"},{"$f":"Cen!C101","v":"ZN"},{"$f":"$I$20","v":0},{"$f":"Cen!F101","v":620.4},0]
[null,null,null,null,null,null,null,null,null,null,null,null,null,null,null,{"$f":"Cen!A102","v":"Korpusové lišty 550mm, BLUMOTION, 30kg"},{"$f":"Cen!B102","v":"578.5501B"},{"$f":"Cen!C102","v":"ZN"},{"$f":"$J$19","v":0},{"$f":"Cen!F102","v":493.5},0]
[null,null,null,null,null,null,null,null,null,null,null,null,null,null,null,{"$f":"Cen!A103","v":"Korpusové lišty 550mm, BLUMOTION, 65kg"},{"$f":"Cen!B103","v":"576.5501B"},{"$f":"Cen!C103","v":"ZN"},{"$f":"$J$20","v":0},{"$f":"Cen!F103","v":644.29999999999995},0]
[null,"TIP-ON BLUMOTION",null,null,null,null,null,null,null,null,null,null,null,null,null,{"$f":"Cen!A104","v":"Korpusové lišty 600mm, BLUMOTION, 30kg"},{"$f":"Cen!B104","v":"578.6001B"},{"$f":"Cen!C104","v":"ZN"},{"$f":"$K$19","v":0},{"$f":"Cen!F104","v":523.9},0]
[null,null,{"$f":"List!$B$45&\":\"","v":"Jmenovitá délka:"},"270 mm","300 mm","350 mm","400 mm","450 mm","500 mm","550 mm","600 mm","650 mm",null,null,null,{"$f":"Cen!A105","v":"Korpusové lišty 600mm, BLUMOTION, 65kg"},{"$f":"Cen!B105","v":"576.6001B"},{"$f":"Cen!C105","v":"ZN"},{"$f":"$K$20","v":0},{"$f":"Cen!F105","v":661.1},0]
[null,"AC310MG","30 kg",null,null,null,null,null,null,null,null,null,null,null,null,{"$f":"Cen!A106","v":"Korpusové lišty 650mm, BLUMOTION, 65kg"},{"$f":"Cen!B106","v":"576.6501B"},{"$f":"Cen!C106","v":"ZN"},{"$f":"$L$20","v":0},{"$f":"Cen!F106","v":751.2},0]
[null,"AC610MG","65 kg",null,null,null,null,null,null,null,null,null,null,null,null,{"$f":"Cen!A109","v":"Korp. lišty TIP-ON BLUMOTION, 270mm, 30 kg"},{"$f":"Cen!B109","v":"578.2701M"},{"$f":"Cen!C109","v":"ZN"},{"$f":"$D$25","v":0},{"$f":"Cen!F109","v":417.4},0]
[null,null,null,null,null,null,null,null,null,null,null,null,null,null,null,{"$f":"Cen!A110","v":"Korp. lišty TIP-ON BLUMOTION, 300mm, 30 kg"},{"$f":"Cen!B110","v":"578.3001M"},{"$f":"Cen!C110","v":"ZN"},{"$f":"$E$25","v":0},{"$f":"Cen!F110","v":417.4},0]
[null,null,null,{"$f":"List!$B$268","v":"Sada jednotek TIP-ON BLUMOTION"},null,null,null,null,null,null,null,null,null,{"$f":"List!$B$259","v":"Výběr sady jednotek"},null,{"$f":"Cen!A111","v":"Korp. lišty TIP-ON BLUMOTION, 350mm, 30 kg"},{"$f":"Cen!B111","v":"578.3501M"},{"$f":"Cen!C111","v":"ZN"},{"$f":"$F$25","v":0},{"$f":"Cen!F111","v":417.4},0]
[null,null,null,"S0","S1","L1","L3","L5",null,null,null,null,null,null,null,{"$f":"Cen!A112","v":"Korp. lišty TIP-ON BLUMOTION, 400mm, 30 kg"},{"$f":"Cen!B112","v":"578.4001M"},{"$f":"Cen!C112","v":"ZN"},{"$f":"$G$25","v":0},{"$f":"Cen!F112","v":420.5},0]
[null,null,null,null,null,null,null,null,{"$f":"IF(SUM($F$25:$K$25,$H$26:$L$26)=SUM($F$30:$H$30),\" \",$P$100)","v":" "},null,null,null,null,null,null,{"$f":"Cen!A113","v":"Korp. lišty TIP-ON BLUMOTION, 450mm, 30 kg"},{"$f":"Cen!B113","v":"578.4501M"},{"$f":"Cen!C113","v":"ZN"},{"$f":"$H$25","v":0},{"$f":"Cen!F113","v":423.7},0]
[null,null,{"$f":"IF(AND(SUM($D$25,$E$25)>0,SUM($D$30,$E$30)=0),$P$99, IF(AND(SUM($D$25,$E$25)=0,SUM($D$30,$E$30)>0),$P$98, \" \"))&IF(SUM($D$25,$E$25)<>SUM($D$30,$E$30),\" \"&$P$101,\" \")","v":"  "},null,null,null,null,null,null,null,null,null,null,null,null,{"$f":"Cen!A114","v":"Korp. lišty TIP-ON BLUMOTION, 450mm, 65 kg"},{"$f":"Cen!B114","v":"578.4501M"},{"$f":"Cen!C114","v":"ZN"},{"$f":"$H$26","v":0},{"$f":"Cen!F114","v":560.79999999999995},0]
[null,null,null,null,null,null,null,null,null,null,null,null,null,null,null,{"$f":"Cen!A115","v":"Korp. lišty TIP-ON BLUMOTION, 500mm, 30 kg"},{"$f":"Cen!B115","v":"578.5001M"},{"$f":"Cen!C115","v":"ZN"},{"$f":"$I$25","v":0},{"$f":"Cen!F115","v":426.8},0]
[null,null,null,{"$f":"\"     \"&List!$B$270","v":"     Synchronizace je přidána automaticky. "},null,null,null,null,null,null,null,null,null,null,null,{"$f":"Cen!A116","v":"Korp. lišty TIP-ON BLUMOTION, 500mm, 65 kg"},{"$f":"Cen!B116","v":"576.5001M"},{"$f":"Cen!C116","v":"ZN"},{"$f":"$I$26","v":0},{"$f":"Cen!F116","v":564},0]
[null,null,null,{"$f":"\"     \"&List!$B$271","v":"     Pozor! Pro každý výsuv je započítána jedna hřídel. Počet hřídelí upravte v objednávce!"},null,null,null,null,null,null,null,null,null,null,null,{"$f":"Cen!A117","v":"Korp. lišty TIP-ON BLUMOTION, 550mm, 30 kg"},{"$f":"Cen!B117","v":"578.5501M"},{"$f":"Cen!C117","v":"ZN"},{"$f":"$J$25","v":0},{"$f":"Cen!F117","v":448.6},0]
[null,null,null,{"$f":"\"     \"&List!$B$272","v":"     Pro korpusy šířky ≥ 750 mm použijte podpěru dna a podpěru synchronizační hřídele."},null,null,null,null,null,null,null,null,null,null,null,{"$f":"Cen!A118","v":"Korp. lišty TIP-ON BLUMOTION, 550mm, 65 kg"},{"$f":"Cen!B118","v":"576.5501M"},{"$f":"Cen!C118","v":"ZN"},{"$f":"$J$26","v":0},{"$f":"Cen!F118","v":585.79999999999995},0]
[null,null,null,{"$f":"\"     \"&List!$B$273","v":"     Podpěry přidejte v sekci \"Výběr doplňků\""},null,null,null,null,null,null,null,null,null,null,null,{"$f":"Cen!A119","v":"Korp. lišty TIP-ON BLUMOTION, 600mm, 30 kg"},{"$f":"Cen!B119","v":"578.6001M"},{"$f":"Cen!C119","v":"ZN"},{"$f":"$K$25","v":0},{"$f":"Cen!F119","v":542},0]
[null,null,null,null,null,null,null,null,null,null,null,null,null,null,null,{"$f":"Cen!A120","v":"Korp. lišty TIP-ON BLUMOTION, 600mm, 65 kg"},{"$f":"Cen!B120","v":"576.6001M"},{"$f":"Cen!C120","v":"ZN"},{"$f":"$K$26","v":0},{"$f":"Cen!F120","v":661.1},0]
[null,null,null,null,null,null,null,null,null,null,null,null,null,null,null,{"$f":"Cen!A121","v":"Korp. lišty TIP-ON BLUMOTION, 650mm, 65 kg"},{"$f":"Cen!B121","v":"576.6501M"},{"$f":"Cen!C121","v":"ZN"},{"$f":"$L$26","v":0},{"$f":"Cen!F121","v":682.9},0]
[]
[null,null,null,null,null,null,null,null,null,null,null,null,null,null,null,{"$f":"Cen!A124","v":"Sada jednotek TIP-ON BLUMOTION, S0"},{"$f":"Cen!B124","v":"T60B3030"},{"$f":"Cen!C124","v":"W"},{"$f":"$D$30","v":0},{"$f":"Cen!F124","v":404.5},{"$f":"S40*T40","v":0}]
[null,null,null,null,null,null,null,null,null,null,null,null,null,null,null,{"$f":"Cen!A125","v":"Sada jednotek TIP-ON BLUMOTION, S1"},{"$f":"Cen!B125","v":"T60B3130"},{"$f":"Cen!C125","v":"R735"},{"$f":"$E$30","v":0},{"$f":"Cen!F125","v":404.5},0]
[null,null,null,null,null,null,null,null,null,null,null,null,null,null,null,{"$f":"Cen!A126","v":"Sada jednotek TIP-ON BLUMOTION, L1"},{"$f":"Cen!B126","v":"T60B3330"},{"$f":"Cen!C126","v":"R735"},{"$f":"$F$30","v":0},{"$f":"Cen!F126","v":404.5},0]
[null,null,null,null,null,null,null,null,null,null,null,null,null,null,null,{"$f":"Cen!A127","v":"Sada jednotek TIP-ON BLUMOTION, L3"},{"$f":"Cen!B127","v":"T60B3530"},{"$f":"Cen!C127","v":"R737"},{"$f":"$G$30","v":0},{"$f":"Cen!F127","v":404.5},0]
[null,null,null,null,null,null,null,null,null,null,null,null,null,null,null,{"$f":"Cen!A128","v":"Sada jednotek TIP-ON BLUMOTION, L5"},{"$f":"Cen!B128","v":"T60B3560"},{"$f":"Cen!C128","v":"S"},{"$f":"$H$30","v":0},{"$f":"Cen!F128","v":404.5},0]
[]
[null,null,null,null,null,null,null,null,null,null,null,null,null,null,null,{"$f":"Cen!A130","v":"Synchronizační adaptér"},{"$f":"Cen!B130","v":"T60.000D"},{"$f":"Cen!C130","v":"R735"},{"$f":"SUM($S$40:$S$44)*2","v":0},{"$f":"Cen!F130","v":5.8},0]
[null,null,null,null,null,null,null,null,null,null,null,null,null,null,null,{"$f":"Cen!A131","v":"Hřídel synchronizace"},{"$f":"Cen!B131","v":"T60.1125W"},{"$f":"Cen!C131","v":"GR"},{"$f":"SUM($S$40:$S$44)","v":0},{"$f":"Cen!F131","v":95.6},0]
[null,null,null,null,null,null,null,null,null,null,null,null,null,null,null,{"$f":"Cen!A132","v":"Jednodílná synchronizace"},{"$f":"Cen!B132","v":"T60.300D"},{"$f":"Cen!C132","v":"R735"},null,{"$f":"Cen!F132","v":23.2},0]
[null,null,null,null,null,null,null,null,null,null,null,null,null,null,null,{"$f":"Cen!A134","v":"Držák hřídele synchronizace"},{"$f":"Cen!B134","v":"T60B000H"},{"$f":"Cen!C134","v":"NI"},null,{"$f":"Cen!F134","v":6},0]
[null,null,null,null,null,null,null,null,null,null,null,null,null,null,null,{"$f":"Cen!A135","v":"Podpěrný úhelník pro dno"},{"$f":"Cen!B135","v":"Z96.2011"},{"$f":"Cen!C135","v":"R737"},null,{"$f":"Cen!F135","v":29.8},0]
[]
[null,null,null,null,null,null,null,null,null,null,null,null,null,null,null,{"$f":"Cen!A143","v":"Držáky zadní stěny N, šedé"},{"$f":"Cen!B143","v":"Z30N000S.04"},{"$f":"Cen!C143","v":"R906"},null,{"$f":"Cen!F143","v":36.5},{"$f":"S52*T52","v":0}]
[null,{"$f":"IF(OR($K$14>0, $L$14>0), List!$B$196, \" \")","v":" "},null,null,null,null,null,null,null,null,null,null,null,null,null,{"$f":"Cen!A147","v":"Držáky zadní stěny M, šedé"},{"$f":"Cen!B147","v":"Z30M000S.04"},{"$f":"Cen!C147","v":"R906"},null,{"$f":"Cen!F147","v":40.200000000000003},{"$f":"S53*T53","v":0}]
[null,{"$f":"IF(OR($K$14>0, $L$14>0), List!$B$200, \" \")","v":" "},null,null,null,null,null,null,null,null,null,null,null,null,null,{"$f":"Cen!A151","v":"Držáky zadní stěny K, šedé"},{"$f":"Cen!B151","v":"Z30K000S"},{"$f":"Cen!C151","v":"R906"},null,{"$f":"Cen!F151","v":67.400000000000006},0]
[null,null,null,null,null,null,null,null,null,null,null,null,null,null,null,{"$f":"Cen!A154","v":"Držáky zadní stěny B, šedé"},{"$f":"Cen!B154","v":"Z30B000S.04"},{"$f":"Cen!C154","v":"R906"},null,{"$f":"Cen!F154","v":48.8},0]
[null,null,null,null,null,null,null,null,null,null,null,null,null,null,null,{"$f":"Cen!A158","v":"Držáky zadní stěny C, šedé"},{"$f":"Cen!B158","v":"Z30C000S"},{"$f":"Cen!C158","v":"R906"},{"$f":"SUM($S$3:$S$11)","v":0},{"$f":"Cen!F158","v":71},0]
[null,null,null,null,null,null,null,null,null,null,null,null,null,null,null,{"$f":"Cen!A162","v":"Držáky zadní stěny D, šedé"},{"$f":"Cen!B162","v":"Z30D000S"},{"$f":"Cen!C162","v":"R906"},null,{"$f":"Cen!F162","v":78.099999999999994},{"$f":"S57*T57","v":0}]
[]
[null,null,null,null,null,null,null,null,null,null,null,null,null,null,null,{"$f":"Cen!A173","v":"Čelní kování INSERTA"},{"$f":"Cen!B173","v":"ZSF.39A2"},{"$f":"Cen!C173","v":"BL"},{"$f":"SUM($S$3:$S$11)*2","v":0},{"$f":"Cen!F173","v":22.4},0]
[]
[]
[]
[null,null,null,null,null,null,null,null,null,null,null,null,null,null,null,{"$f":"Cen!A215","v":"Podélný reling vlevo/vpravo, 270mm, šedý"},{"$f":"Cen!B215","v":"ZRG.207RSIC"},{"$f":"Cen!C215","v":"R906"},{"$f":"S3","v":0},{"$f":"Cen!F215","v":150},{"$f":"S63*T63","v":0}]
[null,null,null,null,null,null,null,null,null,null,null,null,null,null,null,{"$f":"Cen!A219","v":"Podélný reling vlevo/vpravo, 300mm, šedý"},{"$f":"Cen!B219","v":"ZRG.237RSIC"},{"$f":"Cen!C219","v":"R906"},0,{"$f":"Cen!F219","v":152.5},0]
[null,null,null,null,null,null,null,null,null,null,null,null,null,null,null,{"$f":"Cen!A223","v":"Podélný reling vlevo/vpravo, 350mm, šedý"},{"$f":"Cen!B223","v":"ZRG.287RSIC"},{"$f":"Cen!C223","v":"R906"},0,{"$f":"Cen!F223","v":155},0]
[null,null,null,null,null,null,null,null,null,null,null,null,null,null,null,{"$f":"Cen!A227","v":"Podélný reling vlevo/vpravo, 400mm, šedý"},{"$f":"Cen!B227","v":"ZRG.337RSIC"},{"$f":"Cen!C227","v":"R906"},0,{"$f":"Cen!F227","v":157.5},0]
[null,null,null,null,null,null,null,null,null,null,null,null,null,null,null,{"$f":"Cen!A231","v":"Podélný reling vlevo/vpravo, 450mm, šedý"},{"$f":"Cen!B231","v":"ZRG.387RSIC"},{"$f":"Cen!C231","v":"R906"},0,{"$f":"Cen!F231","v":160},0]
[null,null,null,null,null,null,null,null,null,null,null,null,null,null,null,{"$f":"Cen!A235","v":"Podélný reling vlevo/vpravo, 500mm, šedý"},{"$f":"Cen!B235","v":"ZRG.437RSIC"},{"$f":"Cen!C235","v":"R906"},0,{"$f":"Cen!F235","v":178.7},0]
[null,null,null,null,null,null,null,null,null,null,null,null,null,null,null,{"$f":"Cen!A239","v":"Podélný reling vlevo/vpravo, 550mm, šedý"},{"$f":"Cen!B239","v":"ZRG.487RSIC"},{"$f":"Cen!C239","v":"R906"},0,{"$f":"Cen!F239","v":169.4},0]
[null,null,null,null,null,null,null,null,null,null,null,null,null,null,null,{"$f":"Cen!A243","v":"Podélný reling vlevo/vpravo, 600mm, šedý"},{"$f":"Cen!B243","v":"ZRG.537RSIC"},{"$f":"Cen!C243","v":"R906"},0,{"$f":"Cen!F243","v":176.3},0]
[null,null,null,null,null,null,null,null,null,null,null,null,null,null,null,{"$f":"Cen!A247","v":"Podélný reling vlevo/vpravo, 650mm, šedý"},{"$f":"Cen!B247","v":"ZRG.587RSIC"},{"$f":"Cen!C247","v":"R906"},0,{"$f":"Cen!F247","v":183.2},0]
[]
[null,null,null,null,null,null,null,null,null,null,null,null,null,null,null,{"$f":"Cen!A324","v":"Sada držáků zásuvného prvku C, bílošedá"},{"$f":"Cen!B324","v":"Z36C0080"},{"$f":"Cen!C324","v":"WGR"},{"$f":"SUM($S$3:$S$11)","v":0},{"$f":"Cen!F324","v":60.1},{"$f":"S73*T73","v":0}]
[]
[null,null,null,null,null,null,null,null,null,null,null,null,null,null,null,{"$f":"Cen!A273","v":"Zásuvný prvek C, 270mm, čiré sko"},{"$f":"Cen!B273","v":"Z37R237C"},{"$f":"Cen!C273","v":"KL"},{"$f":"S3","v":0},{"$f":"Cen!F273","v":219.2},{"$f":"S75*T75","v":0}]
[null,null,null,null,null,null,null,null,null,null,null,null,null,null,null,{"$f":"Cen!A275","v":"Zásuvný prvek C 300mm, čiré sko"},{"$f":"Cen!B275","v":"Z37R267C"},{"$f":"Cen!C275","v":"KL"},0,{"$f":"Cen!F275","v":229.2},0]
[null,null,null,null,null,null,null,null,null,null,null,null,null,null,null,{"$f":"Cen!A277","v":"Zásuvný prvek C, 350mm, čiré sko"},{"$f":"Cen!B277","v":"Z37R317C"},{"$f":"Cen!C277","v":"KL"},0,{"$f":"Cen!F277","v":239.2},0]
[null,null,null,null,null,null,null,null,null,null,null,null,null,null,null,{"$f":"Cen!A279","v":"Zásuvný prvek C, 400mm, čiré sko"},{"$f":"Cen!B279","v":"Z37R367C"},{"$f":"Cen!C279","v":"KL"},0,{"$f":"Cen!F279","v":249.1},0]
[null,null,null,null,null,null,null,null,null,null,null,null,null,null,null,{"$f":"Cen!A281","v":"Zásuvný prvek C, 450mm, čiré sko"},{"$f":"Cen!B281","v":"Z37R417C"},{"$f":"Cen!C281","v":"KL"},0,{"$f":"Cen!F281","v":259.10000000000002},0]
[null,null,null,null,null,null,null,null,null,null,null,null,null,null,null,{"$f":"Cen!A283","v":"Zásuvný prvek C, 500mm, čiré sko"},{"$f":"Cen!B283","v":"Z37R467C"},{"$f":"Cen!C283","v":"KL"},0,{"$f":"Cen!F283","v":269.10000000000002},0]
[null,null,null,null,null,null,null,null,null,null,null,null,null,null,null,{"$f":"Cen!A285","v":"Zásuvný prvek C, 550mm, čiré sko"},{"$f":"Cen!B285","v":"Z37R517C"},{"$f":"Cen!C285","v":"KL"},0,{"$f":"Cen!F285","v":289},0]
[null,null,null,null,null,null,null,null,null,null,null,null,null,null,null,{"$f":"Cen!A287","v":"Zásuvný prvek C, 600mm, čiré sko"},{"$f":"Cen!B287","v":"Z37R567C"},{"$f":"Cen!C287","v":"KL"},0,{"$f":"Cen!F287","v":308.89999999999998},0]
[null,null,null,null,null,null,null,null,null,null,null,null,null,null,null,{"$f":"Cen!A289","v":"Zásuvný prvek C, 650mm, čiré sko"},{"$f":"Cen!B289","v":"Z37R617C"},{"$f":"Cen!C289","v":"KL"},0,{"$f":"Cen!F289","v":328.9},0]
[]
[]
[]
[]
[]
[]
[null,null,null,null,null,null,null,null,null,null,null,null,null,null,null,null,null,null,null,null,{"$f":"SUM(U3:U89)","v":0}]
[]
[]
[]
[]
[]
[]
[]
[null,null,null,null,null,null,null,null,null,null,null,null,null,null,null,{"$f":"List!$B$276&\"!\"","v":"S0 a S1 pouze pro jmenovitou délku 270 a 300 mm!"}]
[null,null,null,null,null,null,null,null,null,null,null,null,null,null,null,{"$f":"List!$B$277&\"!\"","v":"Pro výsuvy délky 270 a 300 mm vyberte jednotky S0 nebo S1!"}]
[null,{"$f":"List!B25","v":"Informace k objednávání"},null,null,null,null,null,null,null,null,null,null,null,null,null,{"$f":"List!$B$278&\"!\"","v":"Počet jednotek L neodpovídá počtu korpusových lišt!"}]
[null,null,null,null,null,null,null,null,null,null,null,null,null,null,null,{"$f":"List!$B$279&\"!\"","v":"Počet jednotek S neodpovídá počtu korpusových lišt!"}]
[]
[null,null,null,{"$f":"List!B268&\" \"&List!B283","v":"Sada jednotek TIP-ON BLUMOTION a sada unašečů TIP-ON BLUMOTION"}]
[null,null,null,{"$f":"List!$B$280&\":\"","v":"Využití pro:"},null,null,null,null,null,{"$f":"List!B281&\"*\"","v":"Doporučené hodnoty hmotnosti*"}]
[null,null,null,{"$f":"List!B45&\" (NL)\"","v":"Jmenovitá délka (NL)"},null,null,{"$f":"List!B275","v":"Jednotka"},{"$f":"List!B88","v":"Číslo artiklu"}]
[null,null,null,"270 - 300 mm",null,null,"S0","T60L7040",null,"≤ 10 kg"]
[null,null,null,null,null,null,"S1","T60L7140",null,"10-20 kg"]
[null,null,null,"350 - 650 mm",null,null,"L1","T60L7340",null,"≤ 20 kg"]
[null,null,null,null,null,null,"L3","T60L7540",null,"15 - 40 kg"]
[null,null,null,null,null,null,"L5","T60L7570",null,null,"25 - 70 kg"]
[null,null,null,null,null,null,null,{"$f":"\"* \"&List!B282","v":"* Celková hmotnost výsuvu (hmotnost výsuvu včetně náplně)"}]
[]
[null,null,null,null,null,null,null,null,null,null,null,null,null,{"$f":"List!$B$99","v":"Zpět"}]

{"sheet":"AC310M","index":14,"n_rows":113,"n_cols":22,"rows_kept":113,"cut":false,"hidden":false,"merged":[[108,9,108,10],[109,7,109,8],[109,10,109,11],[98,0,139,0],[99,1,100,11],[102,1,102,2],[102,3,102,11],[103,1,111,2],[103,3,103,8],[103,9,104,11],[104,3,104,5],[104,7,104,8],[105,3,106,5],[110,7,111,11],[105,7,105,8],[106,7,106,8],[107,3,109,5],[107,7,107,8],[108,7,108,8]]}
[]
[null,null,null,null,null,null,null,null,null,null,null,{"$f":"List!$B$48&\" C, \"&List!$B$63","v":"Čelní výsuv C, kovový zásuvný prvek"},null,{"$f":"List!$B$11&\":\"","v":"Zpět na:"},null,"Počty zásuvek →",{"$f":"SUM(D19:K19)","v":0},{"$f":"SUM(H20:L20)","v":0},{"$f":"SUM(D25:K25)","v":0},{"$f":"SUM(H26:L26)","v":0},{"$f":"Form!N2","v":1},"←barva"]
[null,null,null,null,null,null,null,null,null,null,null,null,null,{"$f":"\" \"&List!$B$13","v":" Úvod"},null,{"$f":"Cen!A28","v":"Bočnice M 270mm, šedé"},{"$f":"Cen!B28","v":"378M2702SA"},{"$f":"Cen!C28","v":"R906"},{"$f":"IF($U$2=4, 0, SUM($D$19, $D$25))","v":0},{"$f":"Cen!F28","v":350.6},{"$f":"S3*T3","v":0}]
[null,null,null,null,null,null,null,null,{"$f":"List!$B$72&\":\"","v":"bočnice:"},null,"M",null,null,{"$f":"\" \"&List!$B$4","v":" Výběr zásuvek a výsuvů"},null,{"$f":"Cen!A32","v":"Bočnice M 300mm, šedé"},{"$f":"Cen!B32","v":"378M3002SA"},{"$f":"Cen!C32","v":"R906"},{"$f":"IF($U$2=4, 0, SUM($E$19, $E$25))","v":0},{"$f":"Cen!F32","v":350.6},0]
[null,null,null,null,null,null,null,null,{"$f":"List!$B$27&\":\"","v":"barva:"},null,{"$f":"Form!$O$2","v":"šedá"},null,null,null,null,{"$f":"Cen!A36","v":"Bočnice M 350mm, šedé"},{"$f":"Cen!B36","v":"378M3502SA"},{"$f":"Cen!C36","v":"R906"},{"$f":"IF($U$2=4, 0, SUM($F$19, $F$25))","v":0},{"$f":"Cen!F36","v":350.6},0]
[null,null,null,null,null,null,null,null,null,null,null,null,null,{"$f":"List!$B$12&\":\"","v":"Pokračovat na:"},null,{"$f":"Cen!A40","v":"Bočnice M 400mm, šedé"},{"$f":"Cen!B40","v":"378M4002SA"},{"$f":"Cen!C40","v":"R906"},{"$f":"IF($U$2=4, 0, SUM($G$19, $G$25))","v":0},{"$f":"Cen!F40","v":354.3},0]
[null,null,null,null,null,null,null,null,{"$f":"List!$B$36&\":\"","v":"čelní kování:"},null,{"$f":"Form!$O$13","v":"INSERTA"},null,null,{"$f":"\" \"&List!$B$5","v":" Výběr doplňků"},null,{"$f":"Cen!A44","v":"Bočnice M 450mm, šedé"},{"$f":"Cen!B44","v":"378M4502SA"},{"$f":"Cen!C44","v":"R906"},{"$f":"IF($U$2=4, 0, SUM($H$19:$H$20, $H$25:$H$26))","v":0},{"$f":"Cen!F44","v":358.1},0]
[null,null,null,null,null,null,null,null,null,null,null,null,null,{"$f":"\" \"&List!$B$6","v":" Výběr SERVO-DRIVE"},null,{"$f":"Cen!A48","v":"Bočnice M 500mm, šedé"},{"$f":"Cen!B48","v":"378M5002SA"},{"$f":"Cen!C48","v":"R906"},{"$f":"IF($U$2=4, 0, SUM($I$19:$I$20, $I$25:$I$26))","v":0},{"$f":"Cen!F48","v":397.4},0]
[null,null,null,null,null,null,null,null,null,null,null,null,null,{"$f":"\" \"&List!$B$7","v":" Výběr ORGA-LINE"},null,{"$f":"Cen!A52","v":"Bočnice M 550mm, šedé"},{"$f":"Cen!B52","v":"378M5502SA"},{"$f":"Cen!C52","v":"R906"},{"$f":"IF($U$2=4, 0, SUM($J$19:$J$20, $J$25:$J$26))","v":0},{"$f":"Cen!F52","v":399.2},0]
[null,null,null,null,null,null,null,null,null,null,null,null,null,{"$f":"\" \"&List!$B$18","v":" Souhrn"},null,{"$f":"Cen!A56","v":"Bočnice M 600mm, šedé"},{"$f":"Cen!B56","v":"378M6002SA"},{"$f":"Cen!C56","v":"R906"},{"$f":"IF($U$2=4, 0, SUM($K$19:$K$20, $K$25:$K$26))","v":0},{"$f":"Cen!F56","v":508.3},0]
[null,null,null,null,null,null,null,null,null,null,null,null,null,null,null,{"$f":"Cen!A60","v":"Bočnice M 650mm, šedé"},{"$f":"Cen!B60","v":"378M6502SA"},{"$f":"Cen!C60","v":"R906"},{"$f":"IF($U$2=4, 0, SUM($L$20, $L$26))","v":0},{"$f":"Cen!F60","v":536.29999999999995},0]
[]
[null,null,null,null,null,null,null,null,null,null,null,null,null,null,null,{"$f":"Cen!A94","v":"Korpusové lišty 270mm, BLUMOTION, 30kg"},{"$f":"Cen!B94","v":"578.2701B"},{"$f":"Cen!C94","v":"ZN"},{"$f":"IF($U$2=4, 0, $D$19)","v":0},{"$f":"Cen!F94","v":459.2},0]
[null,null,null,null,null,null,{"$f":"IF($U$2=4, P103, \" \")","v":" "},null,null,null,null,null,null,null,null,{"$f":"Cen!A95","v":"Korpusové lišty 300mm, BLUMOTION, 30kg"},{"$f":"Cen!B95","v":"578.3001B"},{"$f":"Cen!C95","v":"ZN"},{"$f":"IF($U$2=4, 0, $E$19)","v":0},{"$f":"Cen!F95","v":459.2},0]
[null,null,null,null,null,null,{"$f":"IF($U$2=4, P104, \" \")","v":" "},null,null,null,null,null,null,null,null,{"$f":"Cen!A96","v":"Korpusové lišty 350mm, BLUMOTION, 30kg"},{"$f":"Cen!B96","v":"578.3501B"},{"$f":"Cen!C96","v":"ZN"},{"$f":"IF($U$2=4, 0, $F$19)","v":0},{"$f":"Cen!F96","v":459.2},0]
[null,null,null,null,null,null,null,null,null,null,null,null,null,null,null,{"$f":"Cen!A97","v":"Korpusové lišty 400mm, BLUMOTION, 30kg"},{"$f":"Cen!B97","v":"578.4001B"},{"$f":"Cen!C97","v":"ZN"},{"$f":"IF($U$2=4, 0, $G$19)","v":0},{"$f":"Cen!F97","v":462.6},0]
[null,"BLUMOTION",null,null,null,null,null,null,null,null,null,null,null,null,null,{"$f":"Cen!A98","v":"Korpusové lišty 450mm, BLUMOTION, 30kg"},{"$f":"Cen!B98","v":"578.4501B"},{"$f":"Cen!C98","v":"ZN"},{"$f":"IF($U$2=4, 0, $H$19)","v":0},{"$f":"Cen!F98","v":466},0]
[null,null,{"$f":"List!$B$45&\":\"","v":"Jmenovitá délka:"},"270 mm","300 mm","350 mm","400 mm","450 mm","500 mm","550 mm","600 mm","650 mm",null,null,null,{"$f":"Cen!A99","v":"Korpusové lišty 450mm, BLUMOTION, 65kg"},{"$f":"Cen!B99","v":"576.4501B"},{"$f":"Cen!C99","v":"ZN"},{"$f":"IF($U$2=4, 0, $H$20)","v":0},{"$f":"Cen!F99","v":560.79999999999995},0]
[null,"AC310BS","30 kg",null,null,null,null,null,null,null,null,null,null,null,null,{"$f":"Cen!A100","v":"Korpusové lišty 500mm, BLUMOTION, 30kg"},{"$f":"Cen!B100","v":"578.5001B"},{"$f":"Cen!C100","v":"ZN"},{"$f":"IF($U$2=4, 0, $I$19)","v":0},{"$f":"Cen!F100","v":469.5},0]
[null,"AC610BS","65 kg",null,null,null,null,null,null,null,null,null,null,null,null,{"$f":"Cen!A101","v":"Korpusové lišty 500mm, BLUMOTION, 65kg"},{"$f":"Cen!B101","v":"576.5001B"},{"$f":"Cen!C101","v":"ZN"},{"$f":"IF($U$2=4, 0, $I$20)","v":0},{"$f":"Cen!F101","v":620.4},0]
[null,null,null,null,null,null,null,null,null,null,null,null,null,null,null,{"$f":"Cen!A102","v":"Korpusové lišty 550mm, BLUMOTION, 30kg"},{"$f":"Cen!B102","v":"578.5501B"},{"$f":"Cen!C102","v":"ZN"},{"$f":"IF($U$2=4, 0, $J$19)","v":0},{"$f":"Cen!F102","v":493.5},0]
[null,null,null,null,null,null,null,null,null,null,null,null,null,null,null,{"$f":"Cen!A103","v":"Korpusové lišty 550mm, BLUMOTION, 65kg"},{"$f":"Cen!B103","v":"576.5501B"},{"$f":"Cen!C103","v":"ZN"},{"$f":"IF($U$2=4, 0, $J$20)","v":0},{"$f":"Cen!F103","v":644.29999999999995},0]
[null,"TIP-ON BLUMOTION",null,null,null,null,null,null,null,null,null,null,null,null,null,{"$f":"Cen!A104","v":"Korpusové lišty 600mm, BLUMOTION, 30kg"},{"$f":"Cen!B104","v":"578.6001B"},{"$f":"Cen!C104","v":"ZN"},{"$f":"IF($U$2=4, 0, $K$19)","v":0},{"$f":"Cen!F104","v":523.9},0]
[null,null,{"$f":"List!$B$45&\":\"","v":"Jmenovitá délka:"},"270 mm","300 mm","350 mm","400 mm","450 mm","500 mm","550 mm","600 mm","650 mm",null,null,null,{"$f":"Cen!A105","v":"Korpusové lišty 600mm, BLUMOTION, 65kg"},{"$f":"Cen!B105","v":"576.6001B"},{"$f":"Cen!C105","v":"ZN"},{"$f":"IF($U$2=4, 0, $K$20)","v":0},{"$f":"Cen!F105","v":661.1},0]
[null,"AC310MS","30 kg",null,null,null,null,null,null,null,null,null,null,null,null,{"$f":"Cen!A106","v":"Korpusové lišty 650mm, BLUMOTION, 65kg"},{"$f":"Cen!B106","v":"576.6501B"},{"$f":"Cen!C106","v":"ZN"},{"$f":"IF($U$2=4, 0, $L$20)","v":0},{"$f":"Cen!F106","v":751.2},0]
[null,"AC610MS","65 kg",null,null,null,null,null,null,null,null,null,null,null,null,{"$f":"Cen!A109","v":"Korp. lišty TIP-ON BLUMOTION, 270mm, 30 kg"},{"$f":"Cen!B109","v":"578.2701M"},{"$f":"Cen!C109","v":"ZN"},{"$f":"IF($U$2=4, 0, $D$25)","v":0},{"$f":"Cen!F109","v":417.4},0]
[null,null,null,null,null,null,null,null,null,null,null,null,null,null,null,{"$f":"Cen!A110","v":"Korp. lišty TIP-ON BLUMOTION, 300mm, 30 kg"},{"$f":"Cen!B110","v":"578.3001M"},{"$f":"Cen!C110","v":"ZN"},{"$f":"IF($U$2=4, 0, $E$25)","v":0},{"$f":"Cen!F110","v":417.4},0]
[null,null,null,{"$f":"List!$B$268","v":"Sada jednotek TIP-ON BLUMOTION"},null,null,null,null,null,null,null,null,null,{"$f":"List!$B$259","v":"Výběr sady jednotek"},null,{"$f":"Cen!A111","v":"Korp. lišty TIP-ON BLUMOTION, 350mm, 30 kg"},{"$f":"Cen!B111","v":"578.3501M"},{"$f":"Cen!C111","v":"ZN"},{"$f":"IF($U$2=4, 0, $F$25)","v":0},{"$f":"Cen!F111","v":417.4},0]
[null,null,null,"S0","S1","L1","L3","L5",null,null,null,null,null,null,null,{"$f":"Cen!A112","v":"Korp. lišty TIP-ON BLUMOTION, 400mm, 30 kg"},{"$f":"Cen!B112","v":"578.4001M"},{"$f":"Cen!C112","v":"ZN"},{"$f":"IF($U$2=4, 0, $G$25)","v":0},{"$f":"Cen!F112","v":420.5},0]
[null,null,null,null,null,null,null,null,{"$f":"IF(SUM($F$25:$K$25,$H$26:$L$26)=SUM($F$30:$H$30),\" \",$P$100)","v":" "},null,null,null,null,null,null,{"$f":"Cen!A113","v":"Korp. lišty TIP-ON BLUMOTION, 450mm, 30 kg"},{"$f":"Cen!B113","v":"578.4501M"},{"$f":"Cen!C113","v":"ZN"},{"$f":"IF($U$2=4, 0, $H$25)","v":0},{"$f":"Cen!F113","v":423.7},0]
[null,null,{"$f":"IF(AND(SUM($D$25,$E$25)>0,SUM($D$30,$E$30)=0),$P$99, IF(AND(SUM($D$25,$E$25)=0,SUM($D$30,$E$30)>0),$P$98, \" \"))&IF(SUM($D$25,$E$25)<>SUM($D$30,$E$30),\" \"&$P$101,\" \")","v":"  "},null,null,null,null,null,null,null,null,null,null,null,null,{"$f":"Cen!A114","v":"Korp. lišty TIP-ON BLUMOTION, 450mm, 65 kg"},{"$f":"Cen!B114","v":"578.4501M"},{"$f":"Cen!C114","v":"ZN"},{"$f":"IF($U$2=4, 0, $H$26)","v":0},{"$f":"Cen!F114","v":560.79999999999995},0]
[null,null,null,null,null,null,null,null,null,null,null,null,null,null,null,{"$f":"Cen!A115","v":"Korp. lišty TIP-ON BLUMOTION, 500mm, 30 kg"},{"$f":"Cen!B115","v":"578.5001M"},{"$f":"Cen!C115","v":"ZN"},{"$f":"IF($U$2=4, 0, $I$25)","v":0},{"$f":"Cen!F115","v":426.8},0]
[null,null,null,{"$f":"\"     \"&List!$B$270","v":"     Synchronizace je přidána automaticky. "},null,null,null,null,null,null,null,null,null,null,null,{"$f":"Cen!A116","v":"Korp. lišty TIP-ON BLUMOTION, 500mm, 65 kg"},{"$f":"Cen!B116","v":"576.5001M"},{"$f":"Cen!C116","v":"ZN"},{"$f":"IF($U$2=4, 0, $I$26)","v":0},{"$f":"Cen!F116","v":564},0]
[null,null,null,{"$f":"\"     \"&List!$B$271","v":"     Pozor! Pro každý výsuv je započítána jedna hřídel. Počet hřídelí upravte v objednávce!"},null,null,null,null,null,null,null,null,null,null,null,{"$f":"Cen!A117","v":"Korp. lišty TIP-ON BLUMOTION, 550mm, 30 kg"},{"$f":"Cen!B117","v":"578.5501M"},{"$f":"Cen!C117","v":"ZN"},{"$f":"IF($U$2=4, 0, $J$25)","v":0},{"$f":"Cen!F117","v":448.6},0]
[null,null,null,{"$f":"\"     \"&List!$B$272","v":"     Pro korpusy šířky ≥ 750 mm použijte podpěru dna a podpěru synchronizační hřídele."},null,null,null,null,null,null,null,null,null,null,null,{"$f":"Cen!A118","v":"Korp. lišty TIP-ON BLUMOTION, 550mm, 65 kg"},{"$f":"Cen!B118","v":"576.5501M"},{"$f":"Cen!C118","v":"ZN"},{"$f":"IF($U$2=4, 0, $J$26)","v":0},{"$f":"Cen!F118","v":585.79999999999995},0]
[null,null,null,{"$f":"\"     \"&List!$B$273","v":"     Podpěry přidejte v sekci \"Výběr doplňků\""},null,null,null,null,null,null,null,null,null,null,null,{"$f":"Cen!A119","v":"Korp. lišty TIP-ON BLUMOTION, 600mm, 30 kg"},{"$f":"Cen!B119","v":"578.6001M"},{"$f":"Cen!C119","v":"ZN"},{"$f":"IF($U$2=4, 0, $K$25)","v":0},{"$f":"Cen!F119","v":542},0]
[null,null,null,null,null,null,null,null,null,null,null,null,null,null,null,{"$f":"Cen!A120","v":"Korp. lišty TIP-ON BLUMOTION, 600mm, 65 kg"},{"$f":"Cen!B120","v":"576.6001M"},{"$f":"Cen!C120","v":"ZN"},{"$f":"IF($U$2=4, 0, $K$26)","v":0},{"$f":"Cen!F120","v":661.1},0]
[null,null,{"$f":"List!B244&\": \"","v":"Upozornění: "},{"$f":"List!B284","v":"Kovové zásuvné prvky pro NL 270 až 400mm se nevyrábí."},null,null,null,null,null,null,null,null,null,null,null,{"$f":"Cen!A121","v":"Korp. lišty TIP-ON BLUMOTION, 650mm, 65 kg"},{"$f":"Cen!B121","v":"576.6501M"},{"$f":"Cen!C121","v":"ZN"},{"$f":"IF($U$2=4, 0, $L$26)","v":0},{"$f":"Cen!F121","v":682.9},0]
[null,null,null,{"$f":"List!B285","v":"Do objednávky budou přidány prvky pro 450mm, které je potřeba na danou délku zkrátit."}]
[null,null,null,null,null,null,null,null,null,null,null,null,null,null,null,{"$f":"Cen!A124","v":"Sada jednotek TIP-ON BLUMOTION, S0"},{"$f":"Cen!B124","v":"T60B3030"},{"$f":"Cen!C124","v":"W"},{"$f":"IF($U$2=4, 0, $D$30)","v":0},{"$f":"Cen!F124","v":404.5},{"$f":"S40*T40","v":0}]
[null,null,null,null,null,null,null,null,null,null,null,null,null,null,null,{"$f":"Cen!A125","v":"Sada jednotek TIP-ON BLUMOTION, S1"},{"$f":"Cen!B125","v":"T60B3130"},{"$f":"Cen!C125","v":"R735"},{"$f":"IF($U$2=4, 0, $E$30)","v":0},{"$f":"Cen!F125","v":404.5},0]
[null,null,null,null,null,null,null,null,null,null,null,null,null,null,null,{"$f":"Cen!A126","v":"Sada jednotek TIP-ON BLUMOTION, L1"},{"$f":"Cen!B126","v":"T60B3330"},{"$f":"Cen!C126","v":"R735"},{"$f":"IF($U$2=4, 0, $F$30)","v":0},{"$f":"Cen!F126","v":404.5},0]
[null,null,null,null,null,null,null,null,null,null,null,null,null,null,null,{"$f":"Cen!A127","v":"Sada jednotek TIP-ON BLUMOTION, L3"},{"$f":"Cen!B127","v":"T60B3530"},{"$f":"Cen!C127","v":"R737"},{"$f":"IF($U$2=4, 0, $G$30)","v":0},{"$f":"Cen!F127","v":404.5},0]
[null,null,null,null,null,null,null,null,null,null,null,null,null,null,null,{"$f":"Cen!A128","v":"Sada jednotek TIP-ON BLUMOTION, L5"},{"$f":"Cen!B128","v":"T60B3560"},{"$f":"Cen!C128","v":"S"},{"$f":"IF($U$2=4, 0, $H$30)","v":0},{"$f":"Cen!F128","v":404.5},0]
[]
[null,null,null,null,null,null,null,null,null,null,null,null,null,null,null,{"$f":"Cen!A130","v":"Synchronizační adaptér"},{"$f":"Cen!B130","v":"T60.000D"},{"$f":"Cen!C130","v":"R735"},{"$f":"SUM($S$40:$S$44)*2","v":0},{"$f":"Cen!F130","v":5.8},0]
[null,null,null,null,null,null,null,null,null,null,null,null,null,null,null,{"$f":"Cen!A131","v":"Hřídel synchronizace"},{"$f":"Cen!B131","v":"T60.1125W"},{"$f":"Cen!C131","v":"GR"},{"$f":"SUM($S$40:$S$44)","v":0},{"$f":"Cen!F131","v":95.6},0]
[null,null,null,null,null,null,null,null,null,null,null,null,null,null,null,{"$f":"Cen!A132","v":"Jednodílná synchronizace"},{"$f":"Cen!B132","v":"T60.300D"},{"$f":"Cen!C132","v":"R735"},null,{"$f":"Cen!F132","v":23.2},0]
[null,null,null,null,null,null,null,null,null,null,null,null,null,null,null,{"$f":"Cen!A134","v":"Držák hřídele synchronizace"},{"$f":"Cen!B134","v":"T60B000H"},{"$f":"Cen!C134","v":"NI"},null,{"$f":"Cen!F134","v":6},0]
[null,null,null,null,null,null,null,null,null,null,null,null,null,null,null,{"$f":"Cen!A135","v":"Podpěrný úhelník pro dno"},{"$f":"Cen!B135","v":"Z96.2011"},{"$f":"Cen!C135","v":"R737"},null,{"$f":"Cen!F135","v":29.8},0]
[]
[null,null,null,null,null,null,null,null,null,null,null,null,null,null,null,{"$f":"Cen!A143","v":"Držáky zadní stěny N, šedé"},{"$f":"Cen!B143","v":"Z30N000S.04"},{"$f":"Cen!C143","v":"R906"},null,{"$f":"Cen!F143","v":36.5},{"$f":"S52*T52","v":0}]
[null,{"$f":"IF(OR($K$14>0, $L$14>0), List!$B$196, \" \")","v":" "},null,null,null,null,null,null,null,null,null,null,null,null,null,{"$f":"Cen!A147","v":"Držáky zadní stěny M, šedé"},{"$f":"Cen!B147","v":"Z30M000S.04"},{"$f":"Cen!C147","v":"R906"},null,{"$f":"Cen!F147","v":40.200000000000003},{"$f":"S53*T53","v":0}]
[null,{"$f":"IF(OR($K$14>0, $L$14>0), List!$B$200, \" \")","v":" "},null,null,null,null,null,null,null,null,null,null,null,null,null,{"$f":"Cen!A151","v":"Držáky zadní stěny K, šedé"},{"$f":"Cen!B151","v":"Z30K000S"},{"$f":"Cen!C151","v":"R906"},null,{"$f":"Cen!F151","v":67.400000000000006},0]
[null,null,null,null,null,null,null,null,null,null,null,null,null,null,null,{"$f":"Cen!A154","v":"Držáky zadní stěny B, šedé"},{"$f":"Cen!B154","v":"Z30B000S.04"},{"$f":"Cen!C154","v":"R906"},null,{"$f":"Cen!F154","v":48.8},0]
[null,null,null,null,null,null,null,null,null,null,null,null,null,null,null,{"$f":"Cen!A158","v":"Držáky zadní stěny C, šedé"},{"$f":"Cen!B158","v":"Z30C000S"},{"$f":"Cen!C158","v":"R906"},{"$f":"SUM($S$3:$S$11)","v":0},{"$f":"Cen!F158","v":71},0]
[null,null,null,null,null,null,null,null,null,null,null,null,null,null,null,{"$f":"Cen!A162","v":"Držáky zadní stěny D, šedé"},{"$f":"Cen!B162","v":"Z30D000S"},{"$f":"Cen!C162","v":"R906"},null,{"$f":"Cen!F162","v":78.099999999999994},{"$f":"S57*T57","v":0}]
[]
[null,null,null,null,null,null,null,null,null,null,null,null,null,null,null,{"$f":"Cen!A173","v":"Čelní kování INSERTA"},{"$f":"Cen!B173","v":"ZSF.39A2"},{"$f":"Cen!C173","v":"BL"},{"$f":"SUM($S$3:$S$11)*2","v":0},{"$f":"Cen!F173","v":22.4},0]
[]
[]
[]
[null,null,null,null,null,null,null,null,null,null,null,null,null,null,null,{"$f":"Cen!A215","v":"Podélný reling vlevo/vpravo, 270mm, šedý"},{"$f":"Cen!B215","v":"ZRG.207RSIC"},{"$f":"Cen!C215","v":"R906"},{"$f":"S3","v":0},{"$f":"Cen!F215","v":150},{"$f":"S63*T63","v":0}]
[null,null,null,null,null,null,null,null,null,null,null,null,null,null,null,{"$f":"Cen!A219","v":"Podélný reling vlevo/vpravo, 300mm, šedý"},{"$f":"Cen!B219","v":"ZRG.237RSIC"},{"$f":"Cen!C219","v":"R906"},0,{"$f":"Cen!F219","v":152.5},0]
[null,null,null,null,null,null,null,null,null,null,null,null,null,null,null,{"$f":"Cen!A223","v":"Podélný reling vlevo/vpravo, 350mm, šedý"},{"$f":"Cen!B223","v":"ZRG.287RSIC"},{"$f":"Cen!C223","v":"R906"},0,{"$f":"Cen!F223","v":155},0]
[null,null,null,null,null,null,null,null,null,null,null,null,null,null,null,{"$f":"Cen!A227","v":"Podélný reling vlevo/vpravo, 400mm, šedý"},{"$f":"Cen!B227","v":"ZRG.337RSIC"},{"$f":"Cen!C227","v":"R906"},0,{"$f":"Cen!F227","v":157.5},0]
[null,null,null,null,null,null,null,null,null,null,null,null,null,null,null,{"$f":"Cen!A231","v":"Podélný reling vlevo/vpravo, 450mm, šedý"},{"$f":"Cen!B231","v":"ZRG.387RSIC"},{"$f":"Cen!C231","v":"R906"},0,{"$f":"Cen!F231","v":160},0]
[null,null,null,null,null,null,null,null,null,null,null,null,null,null,null,{"$f":"Cen!A235","v":"Podélný reling vlevo/vpravo, 500mm, šedý"},{"$f":"Cen!B235","v":"ZRG.437RSIC"},{"$f":"Cen!C235","v":"R906"},0,{"$f":"Cen!F235","v":178.7},0]
[null,null,null,null,null,null,null,null,null,null,null,null,null,null,null,{"$f":"Cen!A239","v":"Podélný reling vlevo/vpravo, 550mm, šedý"},{"$f":"Cen!B239","v":"ZRG.487RSIC"},{"$f":"Cen!C239","v":"R906"},0,{"$f":"Cen!F239","v":169.4},0]
[null,null,null,null,null,null,null,null,null,null,null,null,null,null,null,{"$f":"Cen!A243","v":"Podélný reling vlevo/vpravo, 600mm, šedý"},{"$f":"Cen!B243","v":"ZRG.537RSIC"},{"$f":"Cen!C243","v":"R906"},0,{"$f":"Cen!F243","v":176.3},0]
[null,null,null,null,null,null,null,null,null,null,null,null,null,null,null,{"$f":"Cen!A247","v":"Podélný reling vlevo/vpravo, 650mm, šedý"},{"$f":"Cen!B247","v":"ZRG.587RSIC"},{"$f":"Cen!C247","v":"R906"},0,{"$f":"Cen!F247","v":183.2},0]
[]
[null,null,null,null,null,null,null,null,null,null,null,null,null,null,null,{"$f":"Cen!A324","v":"Sada držáků zásuvného prvku C, bílošedá"},{"$f":"Cen!B324","v":"Z36C0080"},{"$f":"Cen!C324","v":"WGR"},{"$f":"SUM($S$3:$S$11)","v":0},{"$f":"Cen!F324","v":60.1},{"$f":"S73*T73","v":0}]
[]
[]
[]
[]
[]
[null,null,null,null,null,null,null,null,null,null,null,null,null,null,null,{"$f":"Cen!A308","v":"Kovový zásuvný prvek C, 450mm, šedý"},{"$f":"Cen!B308","v":"Z37A417C"},{"$f":"Cen!C308","v":"R906"},{"$f":"SUM(S3:S7)*2","v":0},{"$f":"Cen!F308","v":143.80000000000001},{"$f":"S79*T79","v":0}]
[null,null,null,null,null,null,null,null,null,null,null,null,null,null,null,{"$f":"Cen!A311","v":"Kovový zásuvný prvek C, 500mm, šedý"},{"$f":"Cen!B311","v":"Z37A467C"},{"$f":"Cen!C311","v":"R906"},{"$f":"S8","v":0},{"$f":"Cen!F311","v":149.5},{"$f":"S80*T80","v":0}]
[null,null,null,null,null,null,null,null,null,null,null,null,null,null,null,{"$f":"Cen!A314","v":"Kovový zásuvný prvek C, 550mm, šedý"},{"$f":"Cen!B314","v":"Z37A517C"},{"$f":"Cen!C314","v":"R906"},{"$f":"S9","v":0},{"$f":"Cen!F314","v":160.4},{"$f":"S81*T81","v":0}]
[null,null,null,null,null,null,null,null,null,null,null,null,null,null,null,{"$f":"Cen!A317","v":0},{"$f":"Cen!B317","v":0},{"$f":"Cen!C317","v":0},null,{"$f":"Cen!F317","v":0},{"$f":"S82*T82","v":0}]
[null,null,null,null,null,null,null,null,null,null,null,null,null,null,null,{"$f":"Cen!A320","v":"Kovový zásuvný prvek C, 650mm, šedý"},{"$f":"Cen!B320","v":"Z37A617C"},{"$f":"Cen!C320","v":"R906"},{"$f":"SUM(S10, S11)*2","v":0},{"$f":"Cen!F320","v":182.4},{"$f":"S83*T83","v":0}]
[]
[]
[]
[]
[]
[]
[null,null,null,null,null,null,null,null,null,null,null,null,null,null,null,null,null,null,null,null,{"$f":"SUM(U3:U89)","v":0}]
[]
[]
[]
[]
[]
[]
[]
[null,null,null,null,null,null,null,null,null,null,null,null,null,null,null,{"$f":"List!$B$276&\"!\"","v":"S0 a S1 pouze pro jmenovitou délku 270 a 300 mm!"}]
[null,null,null,null,null,null,null,null,null,null,null,null,null,null,null,{"$f":"List!$B$277&\"!\"","v":"Pro výsuvy délky 270 a 300 mm vyberte jednotky S0 nebo S1!"}]
[null,{"$f":"List!B25","v":"Informace k objednávání"},null,null,null,null,null,null,null,null,null,null,null,null,null,{"$f":"List!$B$278&\"!\"","v":"Počet jednotek L neodpovídá počtu korpusových lišt!"}]
[null,null,null,null,null,null,null,null,null,null,null,null,null,null,null,{"$f":"List!$B$279&\"!\"","v":"Počet jednotek S neodpovídá počtu korpusových lišt!"}]
[]
[null,null,null,{"$f":"List!B268&\" \"&List!B283","v":"Sada jednotek TIP-ON BLUMOTION a sada unašečů TIP-ON BLUMOTION"},null,null,null,null,null,null,null,null,null,null,null,{"$f":"List!$B$289&\"!\"","v":"Kovové zásuvné prvky pro nerez (Inox) se nevyrábí!"}]
[null,null,null,{"$f":"List!$B$280&\":\"","v":"Využití pro:"},null,null,null,null,null,{"$f":"List!B281&\"*\"","v":"Doporučené hodnoty hmotnosti*"},null,null,null,null,null,{"$f":"List!$B$290&\"!\"","v":"Kování naplánované na tomto listu se neprojeví v objednávce!"}]
[null,null,null,{"$f":"List!B45&\" (NL)\"","v":"Jmenovitá délka (NL)"},null,null,{"$f":"List!B275","v":"Jednotka"},{"$f":"List!B88","v":"Číslo artiklu"}]
[null,null,null,"270 - 300 mm",null,null,"S0","T60L7040",null,"≤ 10 kg"]
[null,null,null,null,null,null,"S1","T60L7140",null,"10-20 kg"]
[null,null,null,"350 - 650 mm",null,null,"L1","T60L7340",null,"≤ 20 kg"]
[null,null,null,null,null,null,"L3","T60L7540",null,"15 - 40 kg"]
[null,null,null,null,null,null,"L5","T60L7570",null,null,"25 - 70 kg"]
[null,null,null,null,null,null,null,{"$f":"\"* \"&List!B282","v":"* Celková hmotnost výsuvu (hmotnost výsuvu včetně náplně)"}]
[]
[null,null,null,null,null,null,null,null,null,null,null,null,null,{"$f":"List!$B$99","v":"Zpět"}]

{"sheet":"AC310R","index":15,"n_rows":113,"n_cols":21,"rows_kept":113,"cut":false,"hidden":false,"merged":[[108,9,108,10],[109,7,109,8],[109,10,109,11],[98,0,139,0],[99,1,100,11],[102,1,102,2],[102,3,102,11],[103,1,111,2],[103,3,103,8],[103,9,104,11],[104,3,104,5],[104,7,104,8],[105,3,106,5],[110,7,111,11],[105,7,105,8],[106,7,106,8],[107,3,109,5],[107,7,107,8],[108,7,108,8]]}
[]
[null,null,null,null,null,null,null,null,null,null,null,{"$f":"List!$B$48&\" C, \"&List!$B$64","v":"Čelní výsuv C, podélný reling"},null,{"$f":"List!$B$11&\":\"","v":"Zpět na:"},null,"Počty zásuvek →",{"$f":"SUM(D19:K19)","v":0},{"$f":"SUM(H20:L20)","v":0},{"$f":"SUM(D25:K25)","v":0},{"$f":"SUM(H26:L26)","v":0}]
[null,null,null,null,null,null,null,null,null,null,null,null,null,{"$f":"\" \"&List!$B$13","v":" Úvod"},null,{"$f":"Cen!A28","v":"Bočnice M 270mm, šedé"},{"$f":"Cen!B28","v":"378M2702SA"},{"$f":"Cen!C28","v":"R906"},{"$f":"SUM($D$19, $D$25)","v":0},{"$f":"Cen!F28","v":350.6},{"$f":"S3*T3","v":0}]
[null,null,null,null,null,null,null,null,{"$f":"List!$B$72&\":\"","v":"bočnice:"},null,"M",null,null,{"$f":"\" \"&List!$B$4","v":" Výběr zásuvek a výsuvů"},null,{"$f":"Cen!A32","v":"Bočnice M 300mm, šedé"},{"$f":"Cen!B32","v":"378M3002SA"},{"$f":"Cen!C32","v":"R906"},{"$f":"SUM($E$19, $E$25)","v":0},{"$f":"Cen!F32","v":350.6},0]
[null,null,null,null,null,null,null,null,{"$f":"List!$B$27&\":\"","v":"barva:"},null,{"$f":"Form!$O$2","v":"šedá"},null,null,null,null,{"$f":"Cen!A36","v":"Bočnice M 350mm, šedé"},{"$f":"Cen!B36","v":"378M3502SA"},{"$f":"Cen!C36","v":"R906"},{"$f":"SUM($F$19, $F$25)","v":0},{"$f":"Cen!F36","v":350.6},0]
[null,null,null,null,null,null,null,null,null,null,null,null,null,{"$f":"List!$B$12&\":\"","v":"Pokračovat na:"},null,{"$f":"Cen!A40","v":"Bočnice M 400mm, šedé"},{"$f":"Cen!B40","v":"378M4002SA"},{"$f":"Cen!C40","v":"R906"},{"$f":"SUM($G$19, $G$25)","v":0},{"$f":"Cen!F40","v":354.3},0]
[null,null,null,null,null,null,null,null,{"$f":"List!$B$36&\":\"","v":"čelní kování:"},null,{"$f":"Form!$O$13","v":"INSERTA"},null,null,{"$f":"\" \"&List!$B$5","v":" Výběr doplňků"},null,{"$f":"Cen!A44","v":"Bočnice M 450mm, šedé"},{"$f":"Cen!B44","v":"378M4502SA"},{"$f":"Cen!C44","v":"R906"},{"$f":"SUM($H$19:$H$20, $H$25:$H$26)","v":0},{"$f":"Cen!F44","v":358.1},0]
[null,null,null,null,null,null,null,null,null,null,null,null,null,{"$f":"\" \"&List!$B$6","v":" Výběr SERVO-DRIVE"},null,{"$f":"Cen!A48","v":"Bočnice M 500mm, šedé"},{"$f":"Cen!B48","v":"378M5002SA"},{"$f":"Cen!C48","v":"R906"},{"$f":"SUM($I$19:$I$20, $I$25:$I$26)","v":0},{"$f":"Cen!F48","v":397.4},0]
[null,null,null,null,null,null,null,null,null,null,null,null,null,{"$f":"\" \"&List!$B$7","v":" Výběr ORGA-LINE"},null,{"$f":"Cen!A52","v":"Bočnice M 550mm, šedé"},{"$f":"Cen!B52","v":"378M5502SA"},{"$f":"Cen!C52","v":"R906"},{"$f":"SUM($J$19:$J$20, $J$25:$J$26)","v":0},{"$f":"Cen!F52","v":399.2},0]
[null,null,null,null,null,null,null,null,null,null,null,null,null,{"$f":"\" \"&List!$B$18","v":" Souhrn"},null,{"$f":"Cen!A56","v":"Bočnice M 600mm, šedé"},{"$f":"Cen!B56","v":"378M6002SA"},{"$f":"Cen!C56","v":"R906"},{"$f":"SUM($K$19:$K$20, $K$25:$K$26)","v":0},{"$f":"Cen!F56","v":508.3},0]
[null,null,null,null,null,null,null,null,null,null,null,null,null,null,null,{"$f":"Cen!A60","v":"Bočnice M 650mm, šedé"},{"$f":"Cen!B60","v":"378M6502SA"},{"$f":"Cen!C60","v":"R906"},{"$f":"SUM($L$20, $L$26)","v":0},{"$f":"Cen!F60","v":536.29999999999995},0]
[]
[null,null,null,null,null,null,null,null,null,null,null,null,null,null,null,{"$f":"Cen!A94","v":"Korpusové lišty 270mm, BLUMOTION, 30kg"},{"$f":"Cen!B94","v":"578.2701B"},{"$f":"Cen!C94","v":"ZN"},{"$f":"$D$19","v":0},{"$f":"Cen!F94","v":459.2},0]
[null,null,null,null,null,null,null,null,null,null,null,null,null,null,null,{"$f":"Cen!A95","v":"Korpusové lišty 300mm, BLUMOTION, 30kg"},{"$f":"Cen!B95","v":"578.3001B"},{"$f":"Cen!C95","v":"ZN"},{"$f":"$E$19","v":0},{"$f":"Cen!F95","v":459.2},0]
[null,null,null,null,null,null,null,null,null,null,null,null,null,null,null,{"$f":"Cen!A96","v":"Korpusové lišty 350mm, BLUMOTION, 30kg"},{"$f":"Cen!B96","v":"578.3501B"},{"$f":"Cen!C96","v":"ZN"},{"$f":"$F$19","v":0},{"$f":"Cen!F96","v":459.2},0]
[null,null,null,null,null,null,null,null,null,null,null,null,null,null,null,{"$f":"Cen!A97","v":"Korpusové lišty 400mm, BLUMOTION, 30kg"},{"$f":"Cen!B97","v":"578.4001B"},{"$f":"Cen!C97","v":"ZN"},{"$f":"$G$19","v":0},{"$f":"Cen!F97","v":462.6},0]
[null,"BLUMOTION",null,null,null,null,null,null,null,null,null,null,null,null,null,{"$f":"Cen!A98","v":"Korpusové lišty 450mm, BLUMOTION, 30kg"},{"$f":"Cen!B98","v":"578.4501B"},{"$f":"Cen!C98","v":"ZN"},{"$f":"$H$19","v":0},{"$f":"Cen!F98","v":466},0]
[null,null,{"$f":"List!$B$45&\":\"","v":"Jmenovitá délka:"},"270 mm","300 mm","350 mm","400 mm","450 mm","500 mm","550 mm","600 mm","650 mm",null,null,null,{"$f":"Cen!A99","v":"Korpusové lišty 450mm, BLUMOTION, 65kg"},{"$f":"Cen!B99","v":"576.4501B"},{"$f":"Cen!C99","v":"ZN"},{"$f":"$H$20","v":0},{"$f":"Cen!F99","v":560.79999999999995},0]
[null,"AC310BR","30 kg",null,null,null,null,null,null,null,null,null,null,null,null,{"$f":"Cen!A100","v":"Korpusové lišty 500mm, BLUMOTION, 30kg"},{"$f":"Cen!B100","v":"578.5001B"},{"$f":"Cen!C100","v":"ZN"},{"$f":"$I$19","v":0},{"$f":"Cen!F100","v":469.5},0]
[null,"AC610BR","65 kg",null,null,null,null,null,null,null,null,null,null,null,null,{"$f":"Cen!A101","v":"Korpusové lišty 500mm, BLUMOTION, 65kg"},{"$f":"Cen!B101","v":"576.5001B"},{"$f":"Cen!C101","v":"ZN"},{"$f":"$I$20","v":0},{"$f":"Cen!F101","v":620.4},0]
[null,null,null,null,null,null,null,null,null,null,null,null,null,null,null,{"$f":"Cen!A102","v":"Korpusové lišty 550mm, BLUMOTION, 30kg"},{"$f":"Cen!B102","v":"578.5501B"},{"$f":"Cen!C102","v":"ZN"},{"$f":"$J$19","v":0},{"$f":"Cen!F102","v":493.5},0]
[null,null,null,null,null,null,null,null,null,null,null,null,null,null,null,{"$f":"Cen!A103","v":"Korpusové lišty 550mm, BLUMOTION, 65kg"},{"$f":"Cen!B103","v":"576.5501B"},{"$f":"Cen!C103","v":"ZN"},{"$f":"$J$20","v":0},{"$f":"Cen!F103","v":644.29999999999995},0]
[null,"TIP-ON BLUMOTION",null,null,null,null,null,null,null,null,null,null,null,null,null,{"$f":"Cen!A104","v":"Korpusové lišty 600mm, BLUMOTION, 30kg"},{"$f":"Cen!B104","v":"578.6001B"},{"$f":"Cen!C104","v":"ZN"},{"$f":"$K$19","v":0},{"$f":"Cen!F104","v":523.9},0]
[null,null,{"$f":"List!$B$45&\":\"","v":"Jmenovitá délka:"},"270 mm","300 mm","350 mm","400 mm","450 mm","500 mm","550 mm","600 mm","650 mm",null,null,null,{"$f":"Cen!A105","v":"Korpusové lišty 600mm, BLUMOTION, 65kg"},{"$f":"Cen!B105","v":"576.6001B"},{"$f":"Cen!C105","v":"ZN"},{"$f":"$K$20","v":0},{"$f":"Cen!F105","v":661.1},0]
[null,"AC310MR","30 kg",null,null,null,null,null,null,null,null,null,null,null,null,{"$f":"Cen!A106","v":"Korpusové lišty 650mm, BLUMOTION, 65kg"},{"$f":"Cen!B106","v":"576.6501B"},{"$f":"Cen!C106","v":"ZN"},{"$f":"$L$20","v":0},{"$f":"Cen!F106","v":751.2},0]
[null,"AC610MR","65 kg",null,null,null,null,null,null,null,null,null,null,null,null,{"$f":"Cen!A109","v":"Korp. lišty TIP-ON BLUMOTION, 270mm, 30 kg"},{"$f":"Cen!B109","v":"578.2701M"},{"$f":"Cen!C109","v":"ZN"},{"$f":"$D$25","v":0},{"$f":"Cen!F109","v":417.4},0]
[null,null,null,null,null,null,null,null,null,null,null,null,null,null,null,{"$f":"Cen!A110","v":"Korp. lišty TIP-ON BLUMOTION, 300mm, 30 kg"},{"$f":"Cen!B110","v":"578.3001M"},{"$f":"Cen!C110","v":"ZN"},{"$f":"$E$25","v":0},{"$f":"Cen!F110","v":417.4},0]
[null,null,null,{"$f":"List!$B$268","v":"Sada jednotek TIP-ON BLUMOTION"},null,null,null,null,null,null,null,null,null,{"$f":"List!$B$259","v":"Výběr sady jednotek"},null,{"$f":"Cen!A111","v":"Korp. lišty TIP-ON BLUMOTION, 350mm, 30 kg"},{"$f":"Cen!B111","v":"578.3501M"},{"$f":"Cen!C111","v":"ZN"},{"$f":"$F$25","v":0},{"$f":"Cen!F111","v":417.4},0]
[null,null,null,"S0","S1","L1","L3","L5",null,null,null,null,null,null,null,{"$f":"Cen!A112","v":"Korp. lišty TIP-ON BLUMOTION, 400mm, 30 kg"},{"$f":"Cen!B112","v":"578.4001M"},{"$f":"Cen!C112","v":"ZN"},{"$f":"$G$25","v":0},{"$f":"Cen!F112","v":420.5},0]
[null,null,null,null,null,null,null,null,{"$f":"IF(SUM($F$25:$K$25,$H$26:$L$26)=SUM($F$30:$H$30),\" \",$P$100)","v":" "},null,null,null,null,null,null,{"$f":"Cen!A113","v":"Korp. lišty TIP-ON BLUMOTION, 450mm, 30 kg"},{"$f":"Cen!B113","v":"578.4501M"},{"$f":"Cen!C113","v":"ZN"},{"$f":"$H$25","v":0},{"$f":"Cen!F113","v":423.7},0]
[null,null,{"$f":"IF(AND(SUM($D$25,$E$25)>0,SUM($D$30,$E$30)=0),$P$99, IF(AND(SUM($D$25,$E$25)=0,SUM($D$30,$E$30)>0),$P$98, \" \"))&IF(SUM($D$25,$E$25)<>SUM($D$30,$E$30),\" \"&$P$101,\" \")","v":"  "},null,null,null,null,null,null,null,null,null,null,null,null,{"$f":"Cen!A114","v":"Korp. lišty TIP-ON BLUMOTION, 450mm, 65 kg"},{"$f":"Cen!B114","v":"578.4501M"},{"$f":"Cen!C114","v":"ZN"},{"$f":"$H$26","v":0},{"$f":"Cen!F114","v":560.79999999999995},0]
[null,null,null,null,null,null,null,null,null,null,null,null,null,null,null,{"$f":"Cen!A115","v":"Korp. lišty TIP-ON BLUMOTION, 500mm, 30 kg"},{"$f":"Cen!B115","v":"578.5001M"},{"$f":"Cen!C115","v":"ZN"},{"$f":"$I$25","v":0},{"$f":"Cen!F115","v":426.8},0]
[null,null,null,{"$f":"\"     \"&List!$B$270","v":"     Synchronizace je přidána automaticky. "},null,null,null,null,null,null,null,null,null,null,null,{"$f":"Cen!A116","v":"Korp. lišty TIP-ON BLUMOTION, 500mm, 65 kg"},{"$f":"Cen!B116","v":"576.5001M"},{"$f":"Cen!C116","v":"ZN"},{"$f":"$I$26","v":0},{"$f":"Cen!F116","v":564},0]
[null,null,null,{"$f":"\"     \"&List!$B$271","v":"     Pozor! Pro každý výsuv je započítána jedna hřídel. Počet hřídelí upravte v objednávce!"},null,null,null,null,null,null,null,null,null,null,null,{"$f":"Cen!A117","v":"Korp. lišty TIP-ON BLUMOTION, 550mm, 30 kg"},{"$f":"Cen!B117","v":"578.5501M"},{"$f":"Cen!C117","v":"ZN"},{"$f":"$J$25","v":0},{"$f":"Cen!F117","v":448.6},0]
[null,null,null,{"$f":"\"     \"&List!$B$272","v":"     Pro korpusy šířky ≥ 750 mm použijte podpěru dna a podpěru synchronizační hřídele."},null,null,null,null,null,null,null,null,null,null,null,{"$f":"Cen!A118","v":"Korp. lišty TIP-ON BLUMOTION, 550mm, 65 kg"},{"$f":"Cen!B118","v":"576.5501M"},{"$f":"Cen!C118","v":"ZN"},{"$f":"$J$26","v":0},{"$f":"Cen!F118","v":585.79999999999995},0]
[null,null,null,{"$f":"\"     \"&List!$B$273","v":"     Podpěry přidejte v sekci \"Výběr doplňků\""},null,null,null,null,null,null,null,null,null,null,null,{"$f":"Cen!A119","v":"Korp. lišty TIP-ON BLUMOTION, 600mm, 30 kg"},{"$f":"Cen!B119","v":"578.6001M"},{"$f":"Cen!C119","v":"ZN"},{"$f":"$K$25","v":0},{"$f":"Cen!F119","v":542},0]
[null,null,null,null,null,null,null,null,null,null,null,null,null,null,null,{"$f":"Cen!A120","v":"Korp. lišty TIP-ON BLUMOTION, 600mm, 65 kg"},{"$f":"Cen!B120","v":"576.6001M"},{"$f":"Cen!C120","v":"ZN"},{"$f":"$K$26","v":0},{"$f":"Cen!F120","v":661.1},0]
[null,null,null,null,null,null,null,null,null,null,null,null,null,null,null,{"$f":"Cen!A121","v":"Korp. lišty TIP-ON BLUMOTION, 650mm, 65 kg"},{"$f":"Cen!B121","v":"576.6501M"},{"$f":"Cen!C121","v":"ZN"},{"$f":"$L$26","v":0},{"$f":"Cen!F121","v":682.9},0]
[]
[null,{"$f":"List!$B$23&\": *\"","v":"Volitelně: *"},null,null,null,null,null,null,null,null,null,null,null,null,null,{"$f":"Cen!A124","v":"Sada jednotek TIP-ON BLUMOTION, S0"},{"$f":"Cen!B124","v":"T60B3030"},{"$f":"Cen!C124","v":"W"},{"$f":"$D$30","v":0},{"$f":"Cen!F124","v":404.5},{"$f":"S40*T40","v":0}]
[null,{"$f":"Cen!A324","v":"Sada držáků zásuvného prvku C, bílošedá"},null,null,null,null,null,{"$f":"Cen!B324","v":"Z36C0080"},{"$f":"Cen!C324","v":"WGR"},null,null,null,null,null,null,{"$f":"Cen!A125","v":"Sada jednotek TIP-ON BLUMOTION, S1"},{"$f":"Cen!B125","v":"T60B3130"},{"$f":"Cen!C125","v":"R735"},{"$f":"$E$30","v":0},{"$f":"Cen!F125","v":404.5},0]
[null,null,null,null,null,null,null,null,null,null,null,null,null,null,null,{"$f":"Cen!A126","v":"Sada jednotek TIP-ON BLUMOTION, L1"},{"$f":"Cen!B126","v":"T60B3330"},{"$f":"Cen!C126","v":"R735"},{"$f":"$F$30","v":0},{"$f":"Cen!F126","v":404.5},0]
[null,{"$f":"\"     * \"&List!$B$148","v":"     * Sada držáků, pro vlastní zásuvný prvek"},null,null,null,null,null,null,null,null,null,null,null,null,null,{"$f":"Cen!A127","v":"Sada jednotek TIP-ON BLUMOTION, L3"},{"$f":"Cen!B127","v":"T60B3530"},{"$f":"Cen!C127","v":"R737"},{"$f":"$G$30","v":0},{"$f":"Cen!F127","v":404.5},0]
[null,{"$f":"\"       \"&List!$B$150&\"!\"","v":"       Cena držáků zásuvného prvku není zahrnuta do cen jednotlivých výsuvů!"},null,null,null,null,null,null,null,null,null,null,null,null,null,{"$f":"Cen!A128","v":"Sada jednotek TIP-ON BLUMOTION, L5"},{"$f":"Cen!B128","v":"T60B3560"},{"$f":"Cen!C128","v":"S"},{"$f":"$H$30","v":0},{"$f":"Cen!F128","v":404.5},0]
[]
[null,{"$f":"IF(OR($K$14>0, $L$14>0), List!$B$196, \" \")","v":" "},null,null,null,null,null,null,null,null,null,null,null,null,null,{"$f":"Cen!A130","v":"Synchronizační adaptér"},{"$f":"Cen!B130","v":"T60.000D"},{"$f":"Cen!C130","v":"R735"},{"$f":"SUM($S$40:$S$44)*2","v":0},{"$f":"Cen!F130","v":5.8},0]
[null,{"$f":"IF(OR($K$14>0, $L$14>0), List!$B$200, \" \")","v":" "},null,null,null,null,null,null,null,null,null,null,null,null,null,{"$f":"Cen!A131","v":"Hřídel synchronizace"},{"$f":"Cen!B131","v":"T60.1125W"},{"$f":"Cen!C131","v":"GR"},{"$f":"SUM($S$40:$S$44)","v":0},{"$f":"Cen!F131","v":95.6},0]
[null,null,null,null,null,null,null,null,null,null,null,null,null,null,null,{"$f":"Cen!A132","v":"Jednodílná synchronizace"},{"$f":"Cen!B132","v":"T60.300D"},{"$f":"Cen!C132","v":"R735"},null,{"$f":"Cen!F132","v":23.2},0]
[null,null,null,null,null,null,null,null,null,null,null,null,null,null,null,{"$f":"Cen!A134","v":"Držák hřídele synchronizace"},{"$f":"Cen!B134","v":"T60B000H"},{"$f":"Cen!C134","v":"NI"},null,{"$f":"Cen!F134","v":6},0]
[null,null,null,null,null,null,null,null,null,null,null,null,null,null,null,{"$f":"Cen!A135","v":"Podpěrný úhelník pro dno"},{"$f":"Cen!B135","v":"Z96.2011"},{"$f":"Cen!C135","v":"R737"},null,{"$f":"Cen!F135","v":29.8},0]
[]
[null,null,null,null,null,null,null,null,null,null,null,null,null,null,null,{"$f":"Cen!A143","v":"Držáky zadní stěny N, šedé"},{"$f":"Cen!B143","v":"Z30N000S.04"},{"$f":"Cen!C143","v":"R906"},null,{"$f":"Cen!F143","v":36.5},{"$f":"S52*T52","v":0}]
[null,null,null,null,null,null,null,null,null,null,null,null,null,null,null,{"$f":"Cen!A147","v":"Držáky zadní stěny M, šedé"},{"$f":"Cen!B147","v":"Z30M000S.04"},{"$f":"Cen!C147","v":"R906"},null,{"$f":"Cen!F147","v":40.200000000000003},{"$f":"S53*T53","v":0}]
[null,null,null,null,null,null,null,null,null,null,null,null,null,null,null,{"$f":"Cen!A151","v":"Držáky zadní stěny K, šedé"},{"$f":"Cen!B151","v":"Z30K000S"},{"$f":"Cen!C151","v":"R906"},null,{"$f":"Cen!F151","v":67.400000000000006},0]
[null,null,null,null,null,null,null,null,null,null,null,null,null,null,null,{"$f":"Cen!A154","v":"Držáky zadní stěny B, šedé"},{"$f":"Cen!B154","v":"Z30B000S.04"},{"$f":"Cen!C154","v":"R906"},null,{"$f":"Cen!F154","v":48.8},0]
[null,null,null,null,null,null,null,null,null,null,null,null,null,null,null,{"$f":"Cen!A158","v":"Držáky zadní stěny C, šedé"},{"$f":"Cen!B158","v":"Z30C000S"},{"$f":"Cen!C158","v":"R906"},{"$f":"SUM($S$3:$S$11)","v":0},{"$f":"Cen!F158","v":71},0]
[null,null,null,null,null,null,null,null,null,null,null,null,null,null,null,{"$f":"Cen!A162","v":"Držáky zadní stěny D, šedé"},{"$f":"Cen!B162","v":"Z30D000S"},{"$f":"Cen!C162","v":"R906"},null,{"$f":"Cen!F162","v":78.099999999999994},{"$f":"S57*T57","v":0}]
[]
[null,null,null,null,null,null,null,null,null,null,null,null,null,null,null,{"$f":"Cen!A173","v":"Čelní kování INSERTA"},{"$f":"Cen!B173","v":"ZSF.39A2"},{"$f":"Cen!C173","v":"BL"},{"$f":"SUM($S$3:$S$11)*2","v":0},{"$f":"Cen!F173","v":22.4},0]
[]
[]
[]
[null,null,null,null,null,null,null,null,null,null,null,null,null,null,null,{"$f":"Cen!A215","v":"Podélný reling vlevo/vpravo, 270mm, šedý"},{"$f":"Cen!B215","v":"ZRG.207RSIC"},{"$f":"Cen!C215","v":"R906"},{"$f":"S3","v":0},{"$f":"Cen!F215","v":150},{"$f":"S63*T63","v":0}]
[null,null,null,null,null,null,null,null,null,null,null,null,null,null,null,{"$f":"Cen!A219","v":"Podélný reling vlevo/vpravo, 300mm, šedý"},{"$f":"Cen!B219","v":"ZRG.237RSIC"},{"$f":"Cen!C219","v":"R906"},0,{"$f":"Cen!F219","v":152.5},0]
[null,null,null,null,null,null,null,null,null,null,null,null,null,null,null,{"$f":"Cen!A223","v":"Podélný reling vlevo/vpravo, 350mm, šedý"},{"$f":"Cen!B223","v":"ZRG.287RSIC"},{"$f":"Cen!C223","v":"R906"},0,{"$f":"Cen!F223","v":155},0]
[null,null,null,null,null,null,null,null,null,null,null,null,null,null,null,{"$f":"Cen!A227","v":"Podélný reling vlevo/vpravo, 400mm, šedý"},{"$f":"Cen!B227","v":"ZRG.337RSIC"},{"$f":"Cen!C227","v":"R906"},0,{"$f":"Cen!F227","v":157.5},0]
[null,null,null,null,null,null,null,null,null,null,null,null,null,null,null,{"$f":"Cen!A231","v":"Podélný reling vlevo/vpravo, 450mm, šedý"},{"$f":"Cen!B231","v":"ZRG.387RSIC"},{"$f":"Cen!C231","v":"R906"},0,{"$f":"Cen!F231","v":160},0]
[null,null,null,null,null,null,null,null,null,null,null,null,null,null,null,{"$f":"Cen!A235","v":"Podélný reling vlevo/vpravo, 500mm, šedý"},{"$f":"Cen!B235","v":"ZRG.437RSIC"},{"$f":"Cen!C235","v":"R906"},0,{"$f":"Cen!F235","v":178.7},0]
[null,null,null,null,null,null,null,null,null,null,null,null,null,null,null,{"$f":"Cen!A239","v":"Podélný reling vlevo/vpravo, 550mm, šedý"},{"$f":"Cen!B239","v":"ZRG.487RSIC"},{"$f":"Cen!C239","v":"R906"},0,{"$f":"Cen!F239","v":169.4},0]
[null,null,null,null,null,null,null,null,null,null,null,null,null,null,null,{"$f":"Cen!A243","v":"Podélný reling vlevo/vpravo, 600mm, šedý"},{"$f":"Cen!B243","v":"ZRG.537RSIC"},{"$f":"Cen!C243","v":"R906"},0,{"$f":"Cen!F243","v":176.3},0]
[null,null,null,null,null,null,null,null,null,null,null,null,null,null,null,{"$f":"Cen!A247","v":"Podélný reling vlevo/vpravo, 650mm, šedý"},{"$f":"Cen!B247","v":"ZRG.587RSIC"},{"$f":"Cen!C247","v":"R906"},0,{"$f":"Cen!F247","v":183.2},0]
[]
[null,null,null,null,null,null,null,null,null,null,null,null,null,null,null,{"$f":"Cen!A324","v":"Sada držáků zásuvného prvku C, bílošedá"},{"$f":"Cen!B324","v":"Z36C0080"},{"$f":"Cen!C324","v":"WGR"},{"$f":"J41","v":0},{"$f":"Cen!F324","v":60.1},{"$f":"S73*T73","v":0}]
[]
[]
[]
[]
[]
[]
[]
[]
[]
[]
[]
[]
[]
[]
[]
[]
[null,null,null,null,null,null,null,null,null,null,null,null,null,null,null,null,null,null,null,null,{"$f":"SUM(U3:U89)","v":0}]
[]
[]
[]
[]
[]
[]
[]
[null,null,null,null,null,null,null,null,null,null,null,null,null,null,null,{"$f":"List!$B$276&\"!\"","v":"S0 a S1 pouze pro jmenovitou délku 270 a 300 mm!"}]
[null,null,null,null,null,null,null,null,null,null,null,null,null,null,null,{"$f":"List!$B$277&\"!\"","v":"Pro výsuvy délky 270 a 300 mm vyberte jednotky S0 nebo S1!"}]
[null,{"$f":"List!B25","v":"Informace k objednávání"},null,null,null,null,null,null,null,null,null,null,null,null,null,{"$f":"List!$B$278&\"!\"","v":"Počet jednotek L neodpovídá počtu korpusových lišt!"}]
[null,null,null,null,null,null,null,null,null,null,null,null,null,null,null,{"$f":"List!$B$279&\"!\"","v":"Počet jednotek S neodpovídá počtu korpusových lišt!"}]
[]
[null,null,null,{"$f":"List!B268&\" \"&List!B283","v":"Sada jednotek TIP-ON BLUMOTION a sada unašečů TIP-ON BLUMOTION"}]
[null,null,null,{"$f":"List!$B$280&\":\"","v":"Využití pro:"},null,null,null,null,null,{"$f":"List!B281&\"*\"","v":"Doporučené hodnoty hmotnosti*"}]
[null,null,null,{"$f":"List!B45&\" (NL)\"","v":"Jmenovitá délka (NL)"},null,null,{"$f":"List!B275","v":"Jednotka"},{"$f":"List!B88","v":"Číslo artiklu"}]
[null,null,null,"270 - 300 mm",null,null,"S0","T60L7040",null,"≤ 10 kg"]
[null,null,null,null,null,null,"S1","T60L7140",null,"10-20 kg"]
[null,null,null,"350 - 650 mm",null,null,"L1","T60L7340",null,"≤ 20 kg"]
[null,null,null,null,null,null,"L3","T60L7540",null,"15 - 40 kg"]
[null,null,null,null,null,null,"L5","T60L7570",null,null,"25 - 70 kg"]
[null,null,null,null,null,null,null,{"$f":"\"* \"&List!B282","v":"* Celková hmotnost výsuvu (hmotnost výsuvu včetně náplně)"}]
[]
[null,null,null,null,null,null,null,null,null,null,null,null,null,{"$f":"List!$B$99","v":"Zpět"}]

{"sheet":"AC31VG","index":16,"n_rows":113,"n_cols":21,"rows_kept":113,"cut":false,"hidden":false,"merged":[[108,9,108,10],[109,7,109,8],[109,10,109,11],[98,0,139,0],[99,1,100,11],[102,1,102,2],[102,3,102,11],[103,1,111,2],[103,3,103,8],[103,9,104,11],[104,3,104,5],[104,7,104,8],[105,3,106,5],[110,7,111,11],[105,7,105,8],[106,7,106,8],[107,3,109,5],[107,7,107,8],[108,7,108,8]]}
[]
[null,null,null,null,null,null,null,null,null,null,null,{"$f":"List!$B$49&\" C, \"&List!$B$63","v":"Vnitřní výsuv C, kovový zásuvný prvek"},null,{"$f":"List!$B$11&\":\"","v":"Zpět na:"},null,"Počty zásuvek →",{"$f":"SUM(D19:K19)","v":0},{"$f":"SUM(H20:L20)","v":0},{"$f":"SUM(D25:K25)","v":0},{"$f":"SUM(H26:L26)","v":0}]
[null,null,null,null,null,null,null,null,null,null,null,null,null,{"$f":"\" \"&List!$B$13","v":" Úvod"},null,{"$f":"Cen!A28","v":"Bočnice M 270mm, šedé"},{"$f":"Cen!B28","v":"378M2702SA"},{"$f":"Cen!C28","v":"R906"},{"$f":"SUM($D$19, $D$25)","v":0},{"$f":"Cen!F28","v":350.6},{"$f":"S3*T3","v":0}]
[null,null,null,null,null,null,null,null,{"$f":"List!$B$72&\":\"","v":"bočnice:"},null,"M",null,null,{"$f":"\" \"&List!$B$4","v":" Výběr zásuvek a výsuvů"},null,{"$f":"Cen!A32","v":"Bočnice M 300mm, šedé"},{"$f":"Cen!B32","v":"378M3002SA"},{"$f":"Cen!C32","v":"R906"},{"$f":"SUM($E$19, $E$25)","v":0},{"$f":"Cen!F32","v":350.6},0]
[null,null,null,null,null,null,null,null,{"$f":"List!$B$27&\":\"","v":"barva:"},null,{"$f":"Form!$O$2","v":"šedá"},null,null,null,null,{"$f":"Cen!A36","v":"Bočnice M 350mm, šedé"},{"$f":"Cen!B36","v":"378M3502SA"},{"$f":"Cen!C36","v":"R906"},{"$f":"SUM($F$19, $F$25)","v":0},{"$f":"Cen!F36","v":350.6},0]
[null,null,null,null,null,null,null,null,"sklo:",null,"saténované",null,null,{"$f":"List!$B$12&\":\"","v":"Pokračovat na:"},null,{"$f":"Cen!A40","v":"Bočnice M 400mm, šedé"},{"$f":"Cen!B40","v":"378M4002SA"},{"$f":"Cen!C40","v":"R906"},{"$f":"SUM($G$19, $G$25)","v":0},{"$f":"Cen!F40","v":354.3},0]
[null,null,null,null,null,null,null,null,null,null,null,null,null,{"$f":"\" \"&List!$B$5","v":" Výběr doplňků"},null,{"$f":"Cen!A44","v":"Bočnice M 450mm, šedé"},{"$f":"Cen!B44","v":"378M4502SA"},{"$f":"Cen!C44","v":"R906"},{"$f":"SUM($H$19:$H$20, $H$25:$H$26)","v":0},{"$f":"Cen!F44","v":358.1},0]
[null,null,null,null,null,null,null,null,null,null,null,null,null,{"$f":"\" \"&List!$B$6","v":" Výběr SERVO-DRIVE"},null,{"$f":"Cen!A48","v":"Bočnice M 500mm, šedé"},{"$f":"Cen!B48","v":"378M5002SA"},{"$f":"Cen!C48","v":"R906"},{"$f":"SUM($I$19:$I$20, $I$25:$I$26)","v":0},{"$f":"Cen!F48","v":397.4},0]
[null,null,null,null,null,null,null,null,null,null,null,null,null,{"$f":"\" \"&List!$B$7","v":" Výběr ORGA-LINE"},null,{"$f":"Cen!A52","v":"Bočnice M 550mm, šedé"},{"$f":"Cen!B52","v":"378M5502SA"},{"$f":"Cen!C52","v":"R906"},{"$f":"SUM($J$19:$J$20, $J$25:$J$26)","v":0},{"$f":"Cen!F52","v":399.2},0]
[null,null,null,null,null,null,null,null,null,null,null,null,null,{"$f":"\" \"&List!$B$18","v":" Souhrn"},null,{"$f":"Cen!A56","v":"Bočnice M 600mm, šedé"},{"$f":"Cen!B56","v":"378M6002SA"},{"$f":"Cen!C56","v":"R906"},{"$f":"SUM($K$19:$K$20, $K$25:$K$26)","v":0},{"$f":"Cen!F56","v":508.3},0]
[null,null,null,null,null,null,null,null,{"$f":"\"* \"&List!$B$132&\":\"","v":"* Přířezy prvků:"},null,null,null,null,null,null,{"$f":"Cen!A60","v":"Bočnice M 650mm, šedé"},{"$f":"Cen!B60","v":"378M6502SA"},{"$f":"Cen!C60","v":"R906"},{"$f":"SUM($L$20, $L$26)","v":0},{"$f":"Cen!F60","v":536.29999999999995},0]
[null,null,null,null,null,null,null,null,{"$f":"List!$C$136&\":   LW - 132\"","v":"Přední díl:   LW - 132"}]
[null,null,null,null,null,null,null,null,{"$f":"List!$C$137&\":   LW - 122\"","v":"Příčný reling:   LW - 122"},null,null,null,null,null,null,{"$f":"Cen!A94","v":"Korpusové lišty 270mm, BLUMOTION, 30kg"},{"$f":"Cen!B94","v":"578.2701B"},{"$f":"Cen!C94","v":"ZN"},{"$f":"$D$19","v":0},{"$f":"Cen!F94","v":459.2},0]
[null,null,null,null,null,null,null,null,null,null,null,null,null,null,null,{"$f":"Cen!A95","v":"Korpusové lišty 300mm, BLUMOTION, 30kg"},{"$f":"Cen!B95","v":"578.3001B"},{"$f":"Cen!C95","v":"ZN"},{"$f":"$E$19","v":0},{"$f":"Cen!F95","v":459.2},0]
[null,null,null,null,null,null,null,null,null,null,null,null,null,null,null,{"$f":"Cen!A96","v":"Korpusové lišty 350mm, BLUMOTION, 30kg"},{"$f":"Cen!B96","v":"578.3501B"},{"$f":"Cen!C96","v":"ZN"},{"$f":"$F$19","v":0},{"$f":"Cen!F96","v":459.2},0]
[null,null,null,null,null,null,null,null,null,null,null,null,null,null,null,{"$f":"Cen!A97","v":"Korpusové lišty 400mm, BLUMOTION, 30kg"},{"$f":"Cen!B97","v":"578.4001B"},{"$f":"Cen!C97","v":"ZN"},{"$f":"$G$19","v":0},{"$f":"Cen!F97","v":462.6},0]
[null,"BLUMOTION",null,null,null,null,null,null,null,null,null,null,null,null,null,{"$f":"Cen!A98","v":"Korpusové lišty 450mm, BLUMOTION, 30kg"},{"$f":"Cen!B98","v":"578.4501B"},{"$f":"Cen!C98","v":"ZN"},{"$f":"$H$19","v":0},{"$f":"Cen!F98","v":466},0]
[null,null,{"$f":"List!$B$45&\":\"","v":"Jmenovitá délka:"},"270 mm","300 mm","350 mm","400 mm","450 mm","500 mm","550 mm","600 mm","650 mm",null,null,null,{"$f":"Cen!A99","v":"Korpusové lišty 450mm, BLUMOTION, 65kg"},{"$f":"Cen!B99","v":"576.4501B"},{"$f":"Cen!C99","v":"ZN"},{"$f":"$H$20","v":0},{"$f":"Cen!F99","v":560.79999999999995},0]
[null,"AC31VBG","30 kg",null,null,null,null,null,null,null,null,null,null,null,null,{"$f":"Cen!A100","v":"Korpusové lišty 500mm, BLUMOTION, 30kg"},{"$f":"Cen!B100","v":"578.5001B"},{"$f":"Cen!C100","v":"ZN"},{"$f":"$I$19","v":0},{"$f":"Cen!F100","v":469.5},0]
[null,"AC61VBG","65 kg",null,null,null,null,null,null,null,null,null,null,null,null,{"$f":"Cen!A101","v":"Korpusové lišty 500mm, BLUMOTION, 65kg"},{"$f":"Cen!B101","v":"576.5001B"},{"$f":"Cen!C101","v":"ZN"},{"$f":"$I$20","v":0},{"$f":"Cen!F101","v":620.4},0]
[null,null,null,null,null,null,null,null,null,null,null,null,null,null,null,{"$f":"Cen!A102","v":"Korpusové lišty 550mm, BLUMOTION, 30kg"},{"$f":"Cen!B102","v":"578.5501B"},{"$f":"Cen!C102","v":"ZN"},{"$f":"$J$19","v":0},{"$f":"Cen!F102","v":493.5},0]
[null,null,null,null,null,null,null,null,null,null,null,null,null,null,null,{"$f":"Cen!A103","v":"Korpusové lišty 550mm, BLUMOTION, 65kg"},{"$f":"Cen!B103","v":"576.5501B"},{"$f":"Cen!C103","v":"ZN"},{"$f":"$J$20","v":0},{"$f":"Cen!F103","v":644.29999999999995},0]
[null,"TIP-ON BLUMOTION",null,null,null,null,null,null,null,null,null,null,null,null,null,{"$f":"Cen!A104","v":"Korpusové lišty 600mm, BLUMOTION, 30kg"},{"$f":"Cen!B104","v":"578.6001B"},{"$f":"Cen!C104","v":"ZN"},{"$f":"$K$19","v":0},{"$f":"Cen!F104","v":523.9},0]
[null,null,{"$f":"List!$B$45&\":\"","v":"Jmenovitá délka:"},"270 mm","300 mm","350 mm","400 mm","450 mm","500 mm","550 mm","600 mm","650 mm",null,null,null,{"$f":"Cen!A105","v":"Korpusové lišty 600mm, BLUMOTION, 65kg"},{"$f":"Cen!B105","v":"576.6001B"},{"$f":"Cen!C105","v":"ZN"},{"$f":"$K$20","v":0},{"$f":"Cen!F105","v":661.1},0]
[null,"AC31VMG","30 kg",null,null,null,null,null,null,null,null,null,null,null,null,{"$f":"Cen!A106","v":"Korpusové lišty 650mm, BLUMOTION, 65kg"},{"$f":"Cen!B106","v":"576.6501B"},{"$f":"Cen!C106","v":"ZN"},{"$f":"$L$20","v":0},{"$f":"Cen!F106","v":751.2},0]
[null,"AC61VMG","65 kg",null,null,null,null,null,null,null,null,null,null,null,null,{"$f":"Cen!A109","v":"Korp. lišty TIP-ON BLUMOTION, 270mm, 30 kg"},{"$f":"Cen!B109","v":"578.2701M"},{"$f":"Cen!C109","v":"ZN"},{"$f":"$D$25","v":0},{"$f":"Cen!F109","v":417.4},0]
[null,null,null,null,null,null,null,null,null,null,null,null,null,null,null,{"$f":"Cen!A110","v":"Korp. lišty TIP-ON BLUMOTION, 300mm, 30 kg"},{"$f":"Cen!B110","v":"578.3001M"},{"$f":"Cen!C110","v":"ZN"},{"$f":"$E$25","v":0},{"$f":"Cen!F110","v":417.4},0]
[null,null,null,{"$f":"List!$B$268","v":"Sada jednotek TIP-ON BLUMOTION"},null,null,null,null,null,null,null,null,null,{"$f":"List!$B$259","v":"Výběr sady jednotek"},null,{"$f":"Cen!A111","v":"Korp. lišty TIP-ON BLUMOTION, 350mm, 30 kg"},{"$f":"Cen!B111","v":"578.3501M"},{"$f":"Cen!C111","v":"ZN"},{"$f":"$F$25","v":0},{"$f":"Cen!F111","v":417.4},0]
[null,null,null,"S0","S1","L1","L3","L5",null,null,null,null,null,null,null,{"$f":"Cen!A112","v":"Korp. lišty TIP-ON BLUMOTION, 400mm, 30 kg"},{"$f":"Cen!B112","v":"578.4001M"},{"$f":"Cen!C112","v":"ZN"},{"$f":"$G$25","v":0},{"$f":"Cen!F112","v":420.5},0]
[null,null,null,null,null,null,null,null,{"$f":"IF(SUM($F$25:$K$25,$H$26:$L$26)=SUM($F$30:$H$30),\" \",$P$100)","v":" "},null,null,null,null,null,null,{"$f":"Cen!A113","v":"Korp. lišty TIP-ON BLUMOTION, 450mm, 30 kg"},{"$f":"Cen!B113","v":"578.4501M"},{"$f":"Cen!C113","v":"ZN"},{"$f":"$H$25","v":0},{"$f":"Cen!F113","v":423.7},0]
[null,null,{"$f":"IF(AND(SUM($D$25,$E$25)>0,SUM($D$30,$E$30)=0),$P$99, IF(AND(SUM($D$25,$E$25)=0,SUM($D$30,$E$30)>0),$P$98, \" \"))&IF(SUM($D$25,$E$25)<>SUM($D$30,$E$30),\" \"&$P$101,\" \")","v":"  "},null,null,null,null,null,null,null,null,null,null,null,null,{"$f":"Cen!A114","v":"Korp. lišty TIP-ON BLUMOTION, 450mm, 65 kg"},{"$f":"Cen!B114","v":"578.4501M"},{"$f":"Cen!C114","v":"ZN"},{"$f":"$H$26","v":0},{"$f":"Cen!F114","v":560.79999999999995},0]
[null,null,null,null,null,null,null,null,null,null,null,null,null,null,null,{"$f":"Cen!A115","v":"Korp. lišty TIP-ON BLUMOTION, 500mm, 30 kg"},{"$f":"Cen!B115","v":"578.5001M"},{"$f":"Cen!C115","v":"ZN"},{"$f":"$I$25","v":0},{"$f":"Cen!F115","v":426.8},0]
[null,null,null,{"$f":"\"     \"&List!$B$270","v":"     Synchronizace je přidána automaticky. "},null,null,null,null,null,null,null,null,null,null,null,{"$f":"Cen!A116","v":"Korp. lišty TIP-ON BLUMOTION, 500mm, 65 kg"},{"$f":"Cen!B116","v":"576.5001M"},{"$f":"Cen!C116","v":"ZN"},{"$f":"$I$26","v":0},{"$f":"Cen!F116","v":564},0]
[null,null,null,{"$f":"\"     \"&List!$B$271","v":"     Pozor! Pro každý výsuv je započítána jedna hřídel. Počet hřídelí upravte v objednávce!"},null,null,null,null,null,null,null,null,null,null,null,{"$f":"Cen!A117","v":"Korp. lišty TIP-ON BLUMOTION, 550mm, 30 kg"},{"$f":"Cen!B117","v":"578.5501M"},{"$f":"Cen!C117","v":"ZN"},{"$f":"$J$25","v":0},{"$f":"Cen!F117","v":448.6},0]
[null,null,null,{"$f":"\"     \"&List!$B$272","v":"     Pro korpusy šířky ≥ 750 mm použijte podpěru dna a podpěru synchronizační hřídele."},null,null,null,null,null,null,null,null,null,null,null,{"$f":"Cen!A118","v":"Korp. lišty TIP-ON BLUMOTION, 550mm, 65 kg"},{"$f":"Cen!B118","v":"576.5501M"},{"$f":"Cen!C118","v":"ZN"},{"$f":"$J$26","v":0},{"$f":"Cen!F118","v":585.79999999999995},0]
[null,null,null,{"$f":"\"     \"&List!$B$273","v":"     Podpěry přidejte v sekci \"Výběr doplňků\""},null,null,null,null,null,null,null,null,null,null,null,{"$f":"Cen!A119","v":"Korp. lišty TIP-ON BLUMOTION, 600mm, 30 kg"},{"$f":"Cen!B119","v":"578.6001M"},{"$f":"Cen!C119","v":"ZN"},{"$f":"$K$25","v":0},{"$f":"Cen!F119","v":542},0]
[null,null,null,null,null,null,null,null,null,null,null,null,null,null,null,{"$f":"Cen!A120","v":"Korp. lišty TIP-ON BLUMOTION, 600mm, 65 kg"},{"$f":"Cen!B120","v":"576.6001M"},{"$f":"Cen!C120","v":"ZN"},{"$f":"$K$26","v":0},{"$f":"Cen!F120","v":661.1},0]
[null,null,null,null,null,null,null,null,null,null,null,null,null,null,null,{"$f":"Cen!A121","v":"Korp. lišty TIP-ON BLUMOTION, 650mm, 65 kg"},{"$f":"Cen!B121","v":"576.6501M"},{"$f":"Cen!C121","v":"ZN"},{"$f":"$L$26","v":0},{"$f":"Cen!F121","v":682.9},0]
[null,null,null,{"$f":"List!$B$145","v":"Pro každý výsuv je započítán jeden přední díl a jeden příčný reling"}]
[null,null,null,{"$f":"List!$B$147","v":"Potřebný počet předních dílů a relingů upravte v objednávce"},null,null,null,null,null,null,null,null,null,null,null,{"$f":"Cen!A124","v":"Sada jednotek TIP-ON BLUMOTION, S0"},{"$f":"Cen!B124","v":"T60B3030"},{"$f":"Cen!C124","v":"W"},{"$f":"$D$30","v":0},{"$f":"Cen!F124","v":404.5},{"$f":"S40*T40","v":0}]
[null,null,null,null,null,null,null,null,null,null,null,null,null,null,null,{"$f":"Cen!A125","v":"Sada jednotek TIP-ON BLUMOTION, S1"},{"$f":"Cen!B125","v":"T60B3130"},{"$f":"Cen!C125","v":"R735"},{"$f":"$E$30","v":0},{"$f":"Cen!F125","v":404.5},0]
[null,null,null,null,null,null,null,null,null,null,null,null,null,null,null,{"$f":"Cen!A126","v":"Sada jednotek TIP-ON BLUMOTION, L1"},{"$f":"Cen!B126","v":"T60B3330"},{"$f":"Cen!C126","v":"R735"},{"$f":"$F$30","v":0},{"$f":"Cen!F126","v":404.5},0]
[null,null,null,null,null,null,null,null,null,null,null,null,null,null,null,{"$f":"Cen!A127","v":"Sada jednotek TIP-ON BLUMOTION, L3"},{"$f":"Cen!B127","v":"T60B3530"},{"$f":"Cen!C127","v":"R737"},{"$f":"$G$30","v":0},{"$f":"Cen!F127","v":404.5},0]
[null,null,null,null,null,null,null,null,null,null,null,null,null,null,null,{"$f":"Cen!A128","v":"Sada jednotek TIP-ON BLUMOTION, L5"},{"$f":"Cen!B128","v":"T60B3560"},{"$f":"Cen!C128","v":"S"},{"$f":"$H$30","v":0},{"$f":"Cen!F128","v":404.5},0]
[]
[null,null,null,null,null,null,null,null,null,null,null,null,null,null,null,{"$f":"Cen!A130","v":"Synchronizační adaptér"},{"$f":"Cen!B130","v":"T60.000D"},{"$f":"Cen!C130","v":"R735"},{"$f":"SUM($S$40:$S$44)*2","v":0},{"$f":"Cen!F130","v":5.8},0]
[null,null,null,null,null,null,null,null,null,null,null,null,null,null,null,{"$f":"Cen!A131","v":"Hřídel synchronizace"},{"$f":"Cen!B131","v":"T60.1125W"},{"$f":"Cen!C131","v":"GR"},{"$f":"SUM($S$40:$S$44)","v":0},{"$f":"Cen!F131","v":95.6},0]
[null,null,null,null,null,null,null,null,null,null,null,null,null,null,null,{"$f":"Cen!A132","v":"Jednodílná synchronizace"},{"$f":"Cen!B132","v":"T60.300D"},{"$f":"Cen!C132","v":"R735"},null,{"$f":"Cen!F132","v":23.2},0]
[null,null,null,null,null,null,null,null,null,null,null,null,null,null,null,{"$f":"Cen!A134","v":"Držák hřídele synchronizace"},{"$f":"Cen!B134","v":"T60B000H"},{"$f":"Cen!C134","v":"NI"},null,{"$f":"Cen!F134","v":6},0]
[null,null,null,null,null,null,null,null,null,null,null,null,null,null,null,{"$f":"Cen!A135","v":"Podpěrný úhelník pro dno"},{"$f":"Cen!B135","v":"Z96.2011"},{"$f":"Cen!C135","v":"R737"},null,{"$f":"Cen!F135","v":29.8},0]
[]
[null,null,null,null,null,null,null,null,null,null,null,null,null,null,null,{"$f":"Cen!A143","v":"Držáky zadní stěny N, šedé"},{"$f":"Cen!B143","v":"Z30N000S.04"},{"$f":"Cen!C143","v":"R906"},null,{"$f":"Cen!F143","v":36.5},{"$f":"S52*T52","v":0}]
[null,null,null,null,null,null,null,null,null,null,null,null,null,null,null,{"$f":"Cen!A147","v":"Držáky zadní stěny M, šedé"},{"$f":"Cen!B147","v":"Z30M000S.04"},{"$f":"Cen!C147","v":"R906"},null,{"$f":"Cen!F147","v":40.200000000000003},{"$f":"S53*T53","v":0}]
[null,null,null,null,null,null,null,null,null,null,null,null,null,null,null,{"$f":"Cen!A151","v":"Držáky zadní stěny K, šedé"},{"$f":"Cen!B151","v":"Z30K000S"},{"$f":"Cen!C151","v":"R906"},null,{"$f":"Cen!F151","v":67.400000000000006},0]
[null,{"$f":"\"       \"&List!$B$145","v":"       Pro každý výsuv je započítán jeden přední díl a jeden příčný reling"},null,null,null,null,null,null,null,null,null,null,null,null,null,{"$f":"Cen!A154","v":"Držáky zadní stěny B, šedé"},{"$f":"Cen!B154","v":"Z30B000S.04"},{"$f":"Cen!C154","v":"R906"},null,{"$f":"Cen!F154","v":48.8},0]
[null,{"$f":"\"       \"&List!$B$147","v":"       Potřebný počet předních dílů a relingů upravte v objednávce"},null,null,null,null,null,null,null,null,null,null,null,null,null,{"$f":"Cen!A158","v":"Držáky zadní stěny C, šedé"},{"$f":"Cen!B158","v":"Z30C000S"},{"$f":"Cen!C158","v":"R906"},{"$f":"SUM($S$3:$S$11)","v":0},{"$f":"Cen!F158","v":71},0]
[null,null,null,null,null,null,null,null,null,null,null,null,null,null,null,{"$f":"Cen!A162","v":"Držáky zadní stěny D, šedé"},{"$f":"Cen!B162","v":"Z30D000S"},{"$f":"Cen!C162","v":"R906"},null,{"$f":"Cen!F162","v":78.099999999999994},{"$f":"S57*T57","v":0}]
[null,{"$f":"IF(OR($K$14>0, $L$14>0), List!$B$196, \" \")","v":" "}]
[null,{"$f":"IF(OR($K$14>0, $L$14>0), List!$B$200, \" \")","v":" "},null,null,null,null,null,null,null,null,null,null,null,null,null,{"$f":"Cen!A185","v":"Držáky čela vnitřního výsuvu C, bílošedé"},{"$f":"Cen!B185","v":"ZIF.74C0"},{"$f":"Cen!C185","v":"WGR"},{"$f":"SUM($S$3:$S$11)","v":0},{"$f":"Cen!F185","v":149.19999999999999},0]
[null,null,null,null,null,null,null,null,null,null,null,null,null,null,null,{"$f":"Cen!A194","v":"Přední díl vnitřní zásuvky, šedý"},{"$f":"Cen!B194","v":"Z31L1036A  "},{"$f":"Cen!C194","v":"R906"},{"$f":"SUM($S$3:$S$11)","v":0},{"$f":"Cen!F194","v":363.8},0]
[null,null,null,null,null,null,null,null,null,null,null,null,null,null,null,{"$f":"Cen!A199","v":"Příčný reling vnitřní zásuvky, šedý"},{"$f":"Cen!B199","v":"ZRG.1046Z "},{"$f":"Cen!C199","v":"R906"},{"$f":"SUM($S$3:$S$11)","v":0},{"$f":"Cen!F199","v":169.4},0]
[]
[null,null,null,null,null,null,null,null,null,null,null,null,null,null,null,{"$f":"Cen!A215","v":"Podélný reling vlevo/vpravo, 270mm, šedý"},{"$f":"Cen!B215","v":"ZRG.207RSIC"},{"$f":"Cen!C215","v":"R906"},{"$f":"S3","v":0},{"$f":"Cen!F215","v":150},{"$f":"S63*T63","v":0}]
[null,null,null,null,null,null,null,null,null,null,null,null,null,null,null,{"$f":"Cen!A219","v":"Podélný reling vlevo/vpravo, 300mm, šedý"},{"$f":"Cen!B219","v":"ZRG.237RSIC"},{"$f":"Cen!C219","v":"R906"},0,{"$f":"Cen!F219","v":152.5},0]
[null,null,null,null,null,null,null,null,null,null,null,null,null,null,null,{"$f":"Cen!A223","v":"Podélný reling vlevo/vpravo, 350mm, šedý"},{"$f":"Cen!B223","v":"ZRG.287RSIC"},{"$f":"Cen!C223","v":"R906"},0,{"$f":"Cen!F223","v":155},0]
[null,null,null,null,null,null,null,null,null,null,null,null,null,null,null,{"$f":"Cen!A227","v":"Podélný reling vlevo/vpravo, 400mm, šedý"},{"$f":"Cen!B227","v":"ZRG.337RSIC"},{"$f":"Cen!C227","v":"R906"},0,{"$f":"Cen!F227","v":157.5},0]
[null,null,null,null,null,null,null,null,null,null,null,null,null,null,null,{"$f":"Cen!A231","v":"Podélný reling vlevo/vpravo, 450mm, šedý"},{"$f":"Cen!B231","v":"ZRG.387RSIC"},{"$f":"Cen!C231","v":"R906"},0,{"$f":"Cen!F231","v":160},0]
[null,null,null,null,null,null,null,null,null,null,null,null,null,null,null,{"$f":"Cen!A235","v":"Podélný reling vlevo/vpravo, 500mm, šedý"},{"$f":"Cen!B235","v":"ZRG.437RSIC"},{"$f":"Cen!C235","v":"R906"},0,{"$f":"Cen!F235","v":178.7},0]
[null,null,null,null,null,null,null,null,null,null,null,null,null,null,null,{"$f":"Cen!A239","v":"Podélný reling vlevo/vpravo, 550mm, šedý"},{"$f":"Cen!B239","v":"ZRG.487RSIC"},{"$f":"Cen!C239","v":"R906"},0,{"$f":"Cen!F239","v":169.4},0]
[null,null,null,null,null,null,null,null,null,null,null,null,null,null,null,{"$f":"Cen!A243","v":"Podélný reling vlevo/vpravo, 600mm, šedý"},{"$f":"Cen!B243","v":"ZRG.537RSIC"},{"$f":"Cen!C243","v":"R906"},0,{"$f":"Cen!F243","v":176.3},0]
[null,null,null,null,null,null,null,null,null,null,null,null,null,null,null,{"$f":"Cen!A247","v":"Podélný reling vlevo/vpravo, 650mm, šedý"},{"$f":"Cen!B247","v":"ZRG.587RSIC"},{"$f":"Cen!C247","v":"R906"},0,{"$f":"Cen!F247","v":183.2},0]
[]
[null,null,null,null,null,null,null,null,null,null,null,null,null,null,null,{"$f":"Cen!A324","v":"Sada držáků zásuvného prvku C, bílošedá"},{"$f":"Cen!B324","v":"Z36C0080"},{"$f":"Cen!C324","v":"WGR"},{"$f":"SUM($S$3:$S$11)","v":0},{"$f":"Cen!F324","v":60.1},{"$f":"S73*T73","v":0}]
[]
[null,null,null,null,null,null,null,null,null,null,null,null,null,null,null,{"$f":"Cen!A273","v":"Zásuvný prvek C, 270mm, čiré sko"},{"$f":"Cen!B273","v":"Z37R237C"},{"$f":"Cen!C273","v":"KL"},{"$f":"S3","v":0},{"$f":"Cen!F273","v":219.2},{"$f":"S75*T75","v":0}]
[null,null,null,null,null,null,null,null,null,null,null,null,null,null,null,{"$f":"Cen!A275","v":"Zásuvný prvek C 300mm, čiré sko"},{"$f":"Cen!B275","v":"Z37R267C"},{"$f":"Cen!C275","v":"KL"},0,{"$f":"Cen!F275","v":229.2},0]
[null,null,null,null,null,null,null,null,null,null,null,null,null,null,null,{"$f":"Cen!A277","v":"Zásuvný prvek C, 350mm, čiré sko"},{"$f":"Cen!B277","v":"Z37R317C"},{"$f":"Cen!C277","v":"KL"},0,{"$f":"Cen!F277","v":239.2},0]
[null,null,null,null,null,null,null,null,null,null,null,null,null,null,null,{"$f":"Cen!A279","v":"Zásuvný prvek C, 400mm, čiré sko"},{"$f":"Cen!B279","v":"Z37R367C"},{"$f":"Cen!C279","v":"KL"},0,{"$f":"Cen!F279","v":249.1},0]
[null,null,null,null,null,null,null,null,null,null,null,null,null,null,null,{"$f":"Cen!A281","v":"Zásuvný prvek C, 450mm, čiré sko"},{"$f":"Cen!B281","v":"Z37R417C"},{"$f":"Cen!C281","v":"KL"},0,{"$f":"Cen!F281","v":259.10000000000002},0]
[null,null,null,null,null,null,null,null,null,null,null,null,null,null,null,{"$f":"Cen!A283","v":"Zásuvný prvek C, 500mm, čiré sko"},{"$f":"Cen!B283","v":"Z37R467C"},{"$f":"Cen!C283","v":"KL"},0,{"$f":"Cen!F283","v":269.10000000000002},0]
[null,null,null,null,null,null,null,null,null,null,null,null,null,null,null,{"$f":"Cen!A285","v":"Zásuvný prvek C, 550mm, čiré sko"},{"$f":"Cen!B285","v":"Z37R517C"},{"$f":"Cen!C285","v":"KL"},0,{"$f":"Cen!F285","v":289},0]
[null,null,null,null,null,null,null,null,null,null,null,null,null,null,null,{"$f":"Cen!A287","v":"Zásuvný prvek C, 600mm, čiré sko"},{"$f":"Cen!B287","v":"Z37R567C"},{"$f":"Cen!C287","v":"KL"},0,{"$f":"Cen!F287","v":308.89999999999998},0]
[null,null,null,null,null,null,null,null,null,null,null,null,null,null,null,{"$f":"Cen!A289","v":"Zásuvný prvek C, 650mm, čiré sko"},{"$f":"Cen!B289","v":"Z37R617C"},{"$f":"Cen!C289","v":"KL"},0,{"$f":"Cen!F289","v":328.9},0]
[]
[]
[]
[]
[]
[]
[null,null,null,null,null,null,null,null,null,null,null,null,null,null,null,null,null,null,null,null,{"$f":"SUM(U3:U89)","v":0}]
[]
[]
[]
[]
[]
[]
[]
[null,null,null,null,null,null,null,null,null,null,null,null,null,null,null,{"$f":"List!$B$276&\"!\"","v":"S0 a S1 pouze pro jmenovitou délku 270 a 300 mm!"}]
[null,null,null,null,null,null,null,null,null,null,null,null,null,null,null,{"$f":"List!$B$277&\"!\"","v":"Pro výsuvy délky 270 a 300 mm vyberte jednotky S0 nebo S1!"}]
[null,{"$f":"List!B25","v":"Informace k objednávání"},null,null,null,null,null,null,null,null,null,null,null,null,null,{"$f":"List!$B$278&\"!\"","v":"Počet jednotek L neodpovídá počtu korpusových lišt!"}]
[null,null,null,null,null,null,null,null,null,null,null,null,null,null,null,{"$f":"List!$B$279&\"!\"","v":"Počet jednotek S neodpovídá počtu korpusových lišt!"}]
[]
[null,null,null,{"$f":"List!B268&\" \"&List!B283","v":"Sada jednotek TIP-ON BLUMOTION a sada unašečů TIP-ON BLUMOTION"}]
[null,null,null,{"$f":"List!$B$280&\":\"","v":"Využití pro:"},null,null,null,null,null,{"$f":"List!B281&\"*\"","v":"Doporučené hodnoty hmotnosti*"}]
[null,null,null,{"$f":"List!B45&\" (NL)\"","v":"Jmenovitá délka (NL)"},null,null,{"$f":"List!B275","v":"Jednotka"},{"$f":"List!B88","v":"Číslo artiklu"}]
[null,null,null,"270 - 300 mm",null,null,"S0","T60L7040",null,"≤ 10 kg"]
[null,null,null,null,null,null,"S1","T60L7140",null,"10-20 kg"]
[null,null,null,"350 - 650 mm",null,null,"L1","T60L7340",null,"≤ 20 kg"]
[null,null,null,null,null,null,"L3","T60L7540",null,"15 - 40 kg"]
[null,null,null,null,null,null,"L5","T60L7570",null,null,"25 - 70 kg"]
[null,null,null,null,null,null,null,{"$f":"\"* \"&List!B282","v":"* Celková hmotnost výsuvu (hmotnost výsuvu včetně náplně)"}]
[]
[null,null,null,null,null,null,null,null,null,null,null,null,null,{"$f":"List!$B$99","v":"Zpět"}]

{"sheet":"AC31VM","index":17,"n_rows":113,"n_cols":22,"rows_kept":113,"cut":false,"hidden":false,"merged":[[108,9,108,10],[109,7,109,8],[109,10,109,11],[98,0,139,0],[99,1,100,11],[102,1,102,2],[102,3,102,11],[103,1,111,2],[103,3,103,8],[103,9,104,11],[104,3,104,5],[104,7,104,8],[105,3,106,5],[110,7,111,11],[105,7,105,8],[106,7,106,8],[107,3,109,5],[107,7,107,8],[108,7,108,8]]}
[]
[null,null,null,null,null,null,null,null,null,null,null,{"$f":"List!$B$49&\" C, \"&List!$B$63","v":"Vnitřní výsuv C, kovový zásuvný prvek"},null,{"$f":"List!$B$11&\":\"","v":"Zpět na:"},null,"Počty zásuvek →",{"$f":"SUM(D19:K19)","v":0},{"$f":"SUM(H20:L20)","v":0},{"$f":"SUM(D25:K25)","v":0},{"$f":"SUM(H26:L26)","v":0},{"$f":"Form!N2","v":1},"←barva"]
[null,null,null,null,null,null,null,null,null,null,null,null,null,{"$f":"\" \"&List!$B$13","v":" Úvod"},null,{"$f":"Cen!A28","v":"Bočnice M 270mm, šedé"},{"$f":"Cen!B28","v":"378M2702SA"},{"$f":"Cen!C28","v":"R906"},{"$f":"IF($U$2=4, 0, SUM($D$19, $D$25))","v":0},{"$f":"Cen!F28","v":350.6},{"$f":"S3*T3","v":0}]
[null,null,null,null,null,null,null,null,{"$f":"List!$B$72&\":\"","v":"bočnice:"},null,"M",null,null,{"$f":"\" \"&List!$B$4","v":" Výběr zásuvek a výsuvů"},null,{"$f":"Cen!A32","v":"Bočnice M 300mm, šedé"},{"$f":"Cen!B32","v":"378M3002SA"},{"$f":"Cen!C32","v":"R906"},{"$f":"IF($U$2=4, 0, SUM($E$19, $E$25))","v":0},{"$f":"Cen!F32","v":350.6},0]
[null,null,null,null,null,null,null,null,{"$f":"List!$B$27&\":\"","v":"barva:"},null,{"$f":"Form!$O$2","v":"šedá"},null,null,null,null,{"$f":"Cen!A36","v":"Bočnice M 350mm, šedé"},{"$f":"Cen!B36","v":"378M3502SA"},{"$f":"Cen!C36","v":"R906"},{"$f":"IF($U$2=4, 0, SUM($F$19, $F$25))","v":0},{"$f":"Cen!F36","v":350.6},0]
[null,null,null,null,null,null,null,null,null,null,null,null,null,{"$f":"List!$B$12&\":\"","v":"Pokračovat na:"},null,{"$f":"Cen!A40","v":"Bočnice M 400mm, šedé"},{"$f":"Cen!B40","v":"378M4002SA"},{"$f":"Cen!C40","v":"R906"},{"$f":"IF($U$2=4, 0, SUM($G$19, $G$25))","v":0},{"$f":"Cen!F40","v":354.3},0]
[null,null,null,null,null,null,null,null,null,null,null,null,null,{"$f":"\" \"&List!$B$5","v":" Výběr doplňků"},null,{"$f":"Cen!A44","v":"Bočnice M 450mm, šedé"},{"$f":"Cen!B44","v":"378M4502SA"},{"$f":"Cen!C44","v":"R906"},{"$f":"IF($U$2=4, 0, SUM($H$19:$H$20, $H$25:$H$26))","v":0},{"$f":"Cen!F44","v":358.1},0]
[null,null,null,null,null,null,null,null,null,null,null,null,null,{"$f":"\" \"&List!$B$6","v":" Výběr SERVO-DRIVE"},null,{"$f":"Cen!A48","v":"Bočnice M 500mm, šedé"},{"$f":"Cen!B48","v":"378M5002SA"},{"$f":"Cen!C48","v":"R906"},{"$f":"IF($U$2=4, 0, SUM($I$19:$I$20, $I$25:$I$26))","v":0},{"$f":"Cen!F48","v":397.4},0]
[null,null,null,null,null,null,null,null,null,null,null,null,null,{"$f":"\" \"&List!$B$7","v":" Výběr ORGA-LINE"},null,{"$f":"Cen!A52","v":"Bočnice M 550mm, šedé"},{"$f":"Cen!B52","v":"378M5502SA"},{"$f":"Cen!C52","v":"R906"},{"$f":"IF($U$2=4, 0, SUM($J$19:$J$20, $J$25:$J$26))","v":0},{"$f":"Cen!F52","v":399.2},0]
[null,null,null,null,null,null,null,null,null,null,null,null,null,{"$f":"\" \"&List!$B$18","v":" Souhrn"},null,{"$f":"Cen!A56","v":"Bočnice M 600mm, šedé"},{"$f":"Cen!B56","v":"378M6002SA"},{"$f":"Cen!C56","v":"R906"},{"$f":"IF($U$2=4, 0, SUM($K$19:$K$20, $K$25:$K$26))","v":0},{"$f":"Cen!F56","v":508.3},0]
[null,null,null,null,null,null,null,null,{"$f":"\"* \"&List!$B$132&\":\"","v":"* Přířezy prvků:"},null,null,null,null,null,null,{"$f":"Cen!A60","v":"Bočnice M 650mm, šedé"},{"$f":"Cen!B60","v":"378M6502SA"},{"$f":"Cen!C60","v":"R906"},{"$f":"IF($U$2=4, 0, SUM($L$20, $L$26))","v":0},{"$f":"Cen!F60","v":536.29999999999995},0]
[null,null,null,null,null,null,null,null,{"$f":"List!$C$136&\":   LW - 132\"","v":"Přední díl:   LW - 132"}]
[null,null,null,null,null,null,null,null,{"$f":"List!$C$137&\":   LW - 122\"","v":"Příčný reling:   LW - 122"},null,null,null,null,null,null,{"$f":"Cen!A94","v":"Korpusové lišty 270mm, BLUMOTION, 30kg"},{"$f":"Cen!B94","v":"578.2701B"},{"$f":"Cen!C94","v":"ZN"},{"$f":"IF($U$2=4, 0, $D$19)","v":0},{"$f":"Cen!F94","v":459.2},0]
[null,null,null,null,null,null,{"$f":"IF($U$2=4, P103, \" \")","v":" "},null,null,null,null,null,null,null,null,{"$f":"Cen!A95","v":"Korpusové lišty 300mm, BLUMOTION, 30kg"},{"$f":"Cen!B95","v":"578.3001B"},{"$f":"Cen!C95","v":"ZN"},{"$f":"IF($U$2=4, 0, $E$19)","v":0},{"$f":"Cen!F95","v":459.2},0]
[null,null,null,null,null,null,{"$f":"IF($U$2=4, P104, \" \")","v":" "},null,null,null,null,null,null,null,null,{"$f":"Cen!A96","v":"Korpusové lišty 350mm, BLUMOTION, 30kg"},{"$f":"Cen!B96","v":"578.3501B"},{"$f":"Cen!C96","v":"ZN"},{"$f":"IF($U$2=4, 0, $F$19)","v":0},{"$f":"Cen!F96","v":459.2},0]
[null,null,null,null,null,null,null,null,null,null,null,null,null,null,null,{"$f":"Cen!A97","v":"Korpusové lišty 400mm, BLUMOTION, 30kg"},{"$f":"Cen!B97","v":"578.4001B"},{"$f":"Cen!C97","v":"ZN"},{"$f":"IF($U$2=4, 0, $G$19)","v":0},{"$f":"Cen!F97","v":462.6},0]
[null,"BLUMOTION",null,null,null,null,null,null,null,null,null,null,null,null,null,{"$f":"Cen!A98","v":"Korpusové lišty 450mm, BLUMOTION, 30kg"},{"$f":"Cen!B98","v":"578.4501B"},{"$f":"Cen!C98","v":"ZN"},{"$f":"IF($U$2=4, 0, $H$19)","v":0},{"$f":"Cen!F98","v":466},0]
[null,null,{"$f":"List!$B$45&\":\"","v":"Jmenovitá délka:"},"270 mm","300 mm","350 mm","400 mm","450 mm","500 mm","550 mm","600 mm","650 mm",null,null,null,{"$f":"Cen!A99","v":"Korpusové lišty 450mm, BLUMOTION, 65kg"},{"$f":"Cen!B99","v":"576.4501B"},{"$f":"Cen!C99","v":"ZN"},{"$f":"IF($U$2=4, 0, $H$20)","v":0},{"$f":"Cen!F99","v":560.79999999999995},0]
[null,"AC31VBS","30 kg",null,null,null,null,null,null,null,null,null,null,null,null,{"$f":"Cen!A100","v":"Korpusové lišty 500mm, BLUMOTION, 30kg"},{"$f":"Cen!B100","v":"578.5001B"},{"$f":"Cen!C100","v":"ZN"},{"$f":"IF($U$2=4, 0, $I$19)","v":0},{"$f":"Cen!F100","v":469.5},0]
[null,"AC61VBS","65 kg",null,null,null,null,null,null,null,null,null,null,null,null,{"$f":"Cen!A101","v":"Korpusové lišty 500mm, BLUMOTION, 65kg"},{"$f":"Cen!B101","v":"576.5001B"},{"$f":"Cen!C101","v":"ZN"},{"$f":"IF($U$2=4, 0, $I$20)","v":0},{"$f":"Cen!F101","v":620.4},0]
[null,null,null,null,null,null,null,null,null,null,null,null,null,null,null,{"$f":"Cen!A102","v":"Korpusové lišty 550mm, BLUMOTION, 30kg"},{"$f":"Cen!B102","v":"578.5501B"},{"$f":"Cen!C102","v":"ZN"},{"$f":"IF($U$2=4, 0, $J$19)","v":0},{"$f":"Cen!F102","v":493.5},0]
[null,null,null,null,null,null,null,null,null,null,null,null,null,null,null,{"$f":"Cen!A103","v":"Korpusové lišty 550mm, BLUMOTION, 65kg"},{"$f":"Cen!B103","v":"576.5501B"},{"$f":"Cen!C103","v":"ZN"},{"$f":"IF($U$2=4, 0, $J$20)","v":0},{"$f":"Cen!F103","v":644.29999999999995},0]
[null,"TIP-ON BLUMOTION",null,null,null,null,null,null,null,null,null,null,null,null,null,{"$f":"Cen!A104","v":"Korpusové lišty 600mm, BLUMOTION, 30kg"},{"$f":"Cen!B104","v":"578.6001B"},{"$f":"Cen!C104","v":"ZN"},{"$f":"IF($U$2=4, 0, $K$19)","v":0},{"$f":"Cen!F104","v":523.9},0]
[null,null,{"$f":"List!$B$45&\":\"","v":"Jmenovitá délka:"},"270 mm","300 mm","350 mm","400 mm","450 mm","500 mm","550 mm","600 mm","650 mm",null,null,null,{"$f":"Cen!A105","v":"Korpusové lišty 600mm, BLUMOTION, 65kg"},{"$f":"Cen!B105","v":"576.6001B"},{"$f":"Cen!C105","v":"ZN"},{"$f":"IF($U$2=4, 0, $K$20)","v":0},{"$f":"Cen!F105","v":661.1},0]
[null,"AC31VMS","30 kg",null,null,null,null,null,null,null,null,null,null,null,null,{"$f":"Cen!A106","v":"Korpusové lišty 650mm, BLUMOTION, 65kg"},{"$f":"Cen!B106","v":"576.6501B"},{"$f":"Cen!C106","v":"ZN"},{"$f":"IF($U$2=4, 0, $L$20)","v":0},{"$f":"Cen!F106","v":751.2},0]
[null,"AC61VMS","65 kg",null,null,null,null,null,null,null,null,null,null,null,null,{"$f":"Cen!A109","v":"Korp. lišty TIP-ON BLUMOTION, 270mm, 30 kg"},{"$f":"Cen!B109","v":"578.2701M"},{"$f":"Cen!C109","v":"ZN"},{"$f":"IF($U$2=4, 0, $D$25)","v":0},{"$f":"Cen!F109","v":417.4},0]
[null,null,null,null,null,null,null,null,null,null,null,null,null,null,null,{"$f":"Cen!A110","v":"Korp. lišty TIP-ON BLUMOTION, 300mm, 30 kg"},{"$f":"Cen!B110","v":"578.3001M"},{"$f":"Cen!C110","v":"ZN"},{"$f":"IF($U$2=4, 0, $E$25)","v":0},{"$f":"Cen!F110","v":417.4},0]
[null,null,null,{"$f":"List!$B$268","v":"Sada jednotek TIP-ON BLUMOTION"},null,null,null,null,null,null,null,null,null,{"$f":"List!$B$259","v":"Výběr sady jednotek"},null,{"$f":"Cen!A111","v":"Korp. lišty TIP-ON BLUMOTION, 350mm, 30 kg"},{"$f":"Cen!B111","v":"578.3501M"},{"$f":"Cen!C111","v":"ZN"},{"$f":"IF($U$2=4, 0, $F$25)","v":0},{"$f":"Cen!F111","v":417.4},0]
[null,null,null,"S0","S1","L1","L3","L5",null,null,null,null,null,null,null,{"$f":"Cen!A112","v":"Korp. lišty TIP-ON BLUMOTION, 400mm, 30 kg"},{"$f":"Cen!B112","v":"578.4001M"},{"$f":"Cen!C112","v":"ZN"},{"$f":"IF($U$2=4, 0, $G$25)","v":0},{"$f":"Cen!F112","v":420.5},0]
[null,null,null,null,null,null,null,null,{"$f":"IF(SUM($F$25:$K$25,$H$26:$L$26)=SUM($F$30:$H$30),\" \",$P$100)","v":" "},null,null,null,null,null,null,{"$f":"Cen!A113","v":"Korp. lišty TIP-ON BLUMOTION, 450mm, 30 kg"},{"$f":"Cen!B113","v":"578.4501M"},{"$f":"Cen!C113","v":"ZN"},{"$f":"IF($U$2=4, 0, $H$25)","v":0},{"$f":"Cen!F113","v":423.7},0]
[null,null,{"$f":"IF(AND(SUM($D$25,$E$25)>0,SUM($D$30,$E$30)=0),$P$99, IF(AND(SUM($D$25,$E$25)=0,SUM($D$30,$E$30)>0),$P$98, \" \"))&IF(SUM($D$25,$E$25)<>SUM($D$30,$E$30),\" \"&$P$101,\" \")","v":"  "},null,null,null,null,null,null,null,null,null,null,null,null,{"$f":"Cen!A114","v":"Korp. lišty TIP-ON BLUMOTION, 450mm, 65 kg"},{"$f":"Cen!B114","v":"578.4501M"},{"$f":"Cen!C114","v":"ZN"},{"$f":"IF($U$2=4, 0, $H$26)","v":0},{"$f":"Cen!F114","v":560.79999999999995},0]
[null,null,null,null,null,null,null,null,null,null,null,null,null,null,null,{"$f":"Cen!A115","v":"Korp. lišty TIP-ON BLUMOTION, 500mm, 30 kg"},{"$f":"Cen!B115","v":"578.5001M"},{"$f":"Cen!C115","v":"ZN"},{"$f":"IF($U$2=4, 0, $I$25)","v":0},{"$f":"Cen!F115","v":426.8},0]
[null,null,null,{"$f":"\"     \"&List!$B$270","v":"     Synchronizace je přidána automaticky. "},null,null,null,null,null,null,null,null,null,null,null,{"$f":"Cen!A116","v":"Korp. lišty TIP-ON BLUMOTION, 500mm, 65 kg"},{"$f":"Cen!B116","v":"576.5001M"},{"$f":"Cen!C116","v":"ZN"},{"$f":"IF($U$2=4, 0, $I$26)","v":0},{"$f":"Cen!F116","v":564},0]
[null,null,null,{"$f":"\"     \"&List!$B$271","v":"     Pozor! Pro každý výsuv je započítána jedna hřídel. Počet hřídelí upravte v objednávce!"},null,null,null,null,null,null,null,null,null,null,null,{"$f":"Cen!A117","v":"Korp. lišty TIP-ON BLUMOTION, 550mm, 30 kg"},{"$f":"Cen!B117","v":"578.5501M"},{"$f":"Cen!C117","v":"ZN"},{"$f":"IF($U$2=4, 0, $J$25)","v":0},{"$f":"Cen!F117","v":448.6},0]
[null,null,null,{"$f":"\"     \"&List!$B$272","v":"     Pro korpusy šířky ≥ 750 mm použijte podpěru dna a podpěru synchronizační hřídele."},null,null,null,null,null,null,null,null,null,null,null,{"$f":"Cen!A118","v":"Korp. lišty TIP-ON BLUMOTION, 550mm, 65 kg"},{"$f":"Cen!B118","v":"576.5501M"},{"$f":"Cen!C118","v":"ZN"},{"$f":"IF($U$2=4, 0, $J$26)","v":0},{"$f":"Cen!F118","v":585.79999999999995},0]
[null,null,null,{"$f":"\"     \"&List!$B$273","v":"     Podpěry přidejte v sekci \"Výběr doplňků\""},null,null,null,null,null,null,null,null,null,null,null,{"$f":"Cen!A119","v":"Korp. lišty TIP-ON BLUMOTION, 600mm, 30 kg"},{"$f":"Cen!B119","v":"578.6001M"},{"$f":"Cen!C119","v":"ZN"},{"$f":"IF($U$2=4, 0, $K$25)","v":0},{"$f":"Cen!F119","v":542},0]
[null,null,null,null,null,null,null,null,null,null,null,null,null,null,null,{"$f":"Cen!A120","v":"Korp. lišty TIP-ON BLUMOTION, 600mm, 65 kg"},{"$f":"Cen!B120","v":"576.6001M"},{"$f":"Cen!C120","v":"ZN"},{"$f":"IF($U$2=4, 0, $K$26)","v":0},{"$f":"Cen!F120","v":661.1},0]
[null,null,{"$f":"List!B244&\": \"","v":"Upozornění: "},{"$f":"List!B284","v":"Kovové zásuvné prvky pro NL 270 až 400mm se nevyrábí."},null,null,null,null,null,null,null,null,null,null,null,{"$f":"Cen!A121","v":"Korp. lišty TIP-ON BLUMOTION, 650mm, 65 kg"},{"$f":"Cen!B121","v":"576.6501M"},{"$f":"Cen!C121","v":"ZN"},{"$f":"IF($U$2=4, 0, $L$26)","v":0},{"$f":"Cen!F121","v":682.9},0]
[null,null,null,{"$f":"List!B285","v":"Do objednávky budou přidány prvky pro 450mm, které je potřeba na danou délku zkrátit."}]
[null,null,null,null,null,null,null,null,null,null,null,null,null,null,null,{"$f":"Cen!A124","v":"Sada jednotek TIP-ON BLUMOTION, S0"},{"$f":"Cen!B124","v":"T60B3030"},{"$f":"Cen!C124","v":"W"},{"$f":"IF($U$2=4, 0, $D$30)","v":0},{"$f":"Cen!F124","v":404.5},{"$f":"S40*T40","v":0}]
[null,null,null,{"$f":"List!$B$145","v":"Pro každý výsuv je započítán jeden přední díl a jeden příčný reling"},null,null,null,null,null,null,null,null,null,null,null,{"$f":"Cen!A125","v":"Sada jednotek TIP-ON BLUMOTION, S1"},{"$f":"Cen!B125","v":"T60B3130"},{"$f":"Cen!C125","v":"R735"},{"$f":"IF($U$2=4, 0, $E$30)","v":0},{"$f":"Cen!F125","v":404.5},0]
[null,null,null,{"$f":"List!$B$147","v":"Potřebný počet předních dílů a relingů upravte v objednávce"},null,null,null,null,null,null,null,null,null,null,null,{"$f":"Cen!A126","v":"Sada jednotek TIP-ON BLUMOTION, L1"},{"$f":"Cen!B126","v":"T60B3330"},{"$f":"Cen!C126","v":"R735"},{"$f":"IF($U$2=4, 0, $F$30)","v":0},{"$f":"Cen!F126","v":404.5},0]
[null,null,null,null,null,null,null,null,null,null,null,null,null,null,null,{"$f":"Cen!A127","v":"Sada jednotek TIP-ON BLUMOTION, L3"},{"$f":"Cen!B127","v":"T60B3530"},{"$f":"Cen!C127","v":"R737"},{"$f":"IF($U$2=4, 0, $G$30)","v":0},{"$f":"Cen!F127","v":404.5},0]
[null,null,null,null,null,null,null,null,null,null,null,null,null,null,null,{"$f":"Cen!A128","v":"Sada jednotek TIP-ON BLUMOTION, L5"},{"$f":"Cen!B128","v":"T60B3560"},{"$f":"Cen!C128","v":"S"},{"$f":"IF($U$2=4, 0, $H$30)","v":0},{"$f":"Cen!F128","v":404.5},0]
[]
[null,null,null,null,null,null,null,null,null,null,null,null,null,null,null,{"$f":"Cen!A130","v":"Synchronizační adaptér"},{"$f":"Cen!B130","v":"T60.000D"},{"$f":"Cen!C130","v":"R735"},{"$f":"SUM($S$40:$S$44)*2","v":0},{"$f":"Cen!F130","v":5.8},0]
[null,null,null,null,null,null,null,null,null,null,null,null,null,null,null,{"$f":"Cen!A131","v":"Hřídel synchronizace"},{"$f":"Cen!B131","v":"T60.1125W"},{"$f":"Cen!C131","v":"GR"},{"$f":"SUM($S$40:$S$44)","v":0},{"$f":"Cen!F131","v":95.6},0]
[null,null,null,null,null,null,null,null,null,null,null,null,null,null,null,{"$f":"Cen!A132","v":"Jednodílná synchronizace"},{"$f":"Cen!B132","v":"T60.300D"},{"$f":"Cen!C132","v":"R735"},null,{"$f":"Cen!F132","v":23.2},0]
[null,null,null,null,null,null,null,null,null,null,null,null,null,null,null,{"$f":"Cen!A134","v":"Držák hřídele synchronizace"},{"$f":"Cen!B134","v":"T60B000H"},{"$f":"Cen!C134","v":"NI"},null,{"$f":"Cen!F134","v":6},0]
[null,null,null,null,null,null,null,null,null,null,null,null,null,null,null,{"$f":"Cen!A135","v":"Podpěrný úhelník pro dno"},{"$f":"Cen!B135","v":"Z96.2011"},{"$f":"Cen!C135","v":"R737"},null,{"$f":"Cen!F135","v":29.8},0]
[]
[null,null,null,null,null,null,null,null,null,null,null,null,null,null,null,{"$f":"Cen!A143","v":"Držáky zadní stěny N, šedé"},{"$f":"Cen!B143","v":"Z30N000S.04"},{"$f":"Cen!C143","v":"R906"},null,{"$f":"Cen!F143","v":36.5},{"$f":"S52*T52","v":0}]
[null,null,null,null,null,null,null,null,null,null,null,null,null,null,null,{"$f":"Cen!A147","v":"Držáky zadní stěny M, šedé"},{"$f":"Cen!B147","v":"Z30M000S.04"},{"$f":"Cen!C147","v":"R906"},null,{"$f":"Cen!F147","v":40.200000000000003},{"$f":"S53*T53","v":0}]
[null,null,null,null,null,null,null,null,null,null,null,null,null,null,null,{"$f":"Cen!A151","v":"Držáky zadní stěny K, šedé"},{"$f":"Cen!B151","v":"Z30K000S"},{"$f":"Cen!C151","v":"R906"},null,{"$f":"Cen!F151","v":67.400000000000006},0]
[null,null,null,null,null,null,null,null,null,null,null,null,null,null,null,{"$f":"Cen!A154","v":"Držáky zadní stěny B, šedé"},{"$f":"Cen!B154","v":"Z30B000S.04"},{"$f":"Cen!C154","v":"R906"},null,{"$f":"Cen!F154","v":48.8},0]
[null,null,null,null,null,null,null,null,null,null,null,null,null,null,null,{"$f":"Cen!A158","v":"Držáky zadní stěny C, šedé"},{"$f":"Cen!B158","v":"Z30C000S"},{"$f":"Cen!C158","v":"R906"},{"$f":"SUM($S$3:$S$11)","v":0},{"$f":"Cen!F158","v":71},0]
[null,null,null,null,null,null,null,null,null,null,null,null,null,null,null,{"$f":"Cen!A162","v":"Držáky zadní stěny D, šedé"},{"$f":"Cen!B162","v":"Z30D000S"},{"$f":"Cen!C162","v":"R906"},null,{"$f":"Cen!F162","v":78.099999999999994},{"$f":"S57*T57","v":0}]
[null,{"$f":"IF(OR($K$14>0, $L$14>0), List!$B$196, \" \")","v":" "}]
[null,{"$f":"IF(OR($K$14>0, $L$14>0), List!$B$200, \" \")","v":" "},null,null,null,null,null,null,null,null,null,null,null,null,null,{"$f":"Cen!A185","v":"Držáky čela vnitřního výsuvu C, bílošedé"},{"$f":"Cen!B185","v":"ZIF.74C0"},{"$f":"Cen!C185","v":"WGR"},{"$f":"SUM($S$3:$S$11)","v":0},{"$f":"Cen!F185","v":149.19999999999999},0]
[null,null,null,null,null,null,null,null,null,null,null,null,null,null,null,{"$f":"Cen!A194","v":"Přední díl vnitřní zásuvky, šedý"},{"$f":"Cen!B194","v":"Z31L1036A  "},{"$f":"Cen!C194","v":"R906"},{"$f":"SUM($S$3:$S$11)","v":0},{"$f":"Cen!F194","v":363.8},0]
[null,null,null,null,null,null,null,null,null,null,null,null,null,null,null,{"$f":"Cen!A199","v":"Příčný reling vnitřní zásuvky, šedý"},{"$f":"Cen!B199","v":"ZRG.1046Z "},{"$f":"Cen!C199","v":"R906"},{"$f":"SUM($S$3:$S$11)","v":0},{"$f":"Cen!F199","v":169.4},0]
[]
[null,null,null,null,null,null,null,null,null,null,null,null,null,null,null,{"$f":"Cen!A215","v":"Podélný reling vlevo/vpravo, 270mm, šedý"},{"$f":"Cen!B215","v":"ZRG.207RSIC"},{"$f":"Cen!C215","v":"R906"},{"$f":"S3","v":0},{"$f":"Cen!F215","v":150},{"$f":"S63*T63","v":0}]
[null,null,null,null,null,null,null,null,null,null,null,null,null,null,null,{"$f":"Cen!A219","v":"Podélný reling vlevo/vpravo, 300mm, šedý"},{"$f":"Cen!B219","v":"ZRG.237RSIC"},{"$f":"Cen!C219","v":"R906"},0,{"$f":"Cen!F219","v":152.5},0]
[null,null,null,null,null,null,null,null,null,null,null,null,null,null,null,{"$f":"Cen!A223","v":"Podélný reling vlevo/vpravo, 350mm, šedý"},{"$f":"Cen!B223","v":"ZRG.287RSIC"},{"$f":"Cen!C223","v":"R906"},0,{"$f":"Cen!F223","v":155},0]
[null,null,null,null,null,null,null,null,null,null,null,null,null,null,null,{"$f":"Cen!A227","v":"Podélný reling vlevo/vpravo, 400mm, šedý"},{"$f":"Cen!B227","v":"ZRG.337RSIC"},{"$f":"Cen!C227","v":"R906"},0,{"$f":"Cen!F227","v":157.5},0]
[null,null,null,null,null,null,null,null,null,null,null,null,null,null,null,{"$f":"Cen!A231","v":"Podélný reling vlevo/vpravo, 450mm, šedý"},{"$f":"Cen!B231","v":"ZRG.387RSIC"},{"$f":"Cen!C231","v":"R906"},0,{"$f":"Cen!F231","v":160},0]
[null,null,null,null,null,null,null,null,null,null,null,null,null,null,null,{"$f":"Cen!A235","v":"Podélný reling vlevo/vpravo, 500mm, šedý"},{"$f":"Cen!B235","v":"ZRG.437RSIC"},{"$f":"Cen!C235","v":"R906"},0,{"$f":"Cen!F235","v":178.7},0]
[null,null,null,null,null,null,null,null,null,null,null,null,null,null,null,{"$f":"Cen!A239","v":"Podélný reling vlevo/vpravo, 550mm, šedý"},{"$f":"Cen!B239","v":"ZRG.487RSIC"},{"$f":"Cen!C239","v":"R906"},0,{"$f":"Cen!F239","v":169.4},0]
[null,null,null,null,null,null,null,null,null,null,null,null,null,null,null,{"$f":"Cen!A243","v":"Podélný reling vlevo/vpravo, 600mm, šedý"},{"$f":"Cen!B243","v":"ZRG.537RSIC"},{"$f":"Cen!C243","v":"R906"},0,{"$f":"Cen!F243","v":176.3},0]
[null,null,null,null,null,null,null,null,null,null,null,null,null,null,null,{"$f":"Cen!A247","v":"Podélný reling vlevo/vpravo, 650mm, šedý"},{"$f":"Cen!B247","v":"ZRG.587RSIC"},{"$f":"Cen!C247","v":"R906"},0,{"$f":"Cen!F247","v":183.2},0]
[]
[null,null,null,null,null,null,null,null,null,null,null,null,null,null,null,{"$f":"Cen!A324","v":"Sada držáků zásuvného prvku C, bílošedá"},{"$f":"Cen!B324","v":"Z36C0080"},{"$f":"Cen!C324","v":"WGR"},{"$f":"SUM($S$3:$S$11)","v":0},{"$f":"Cen!F324","v":60.1},{"$f":"S73*T73","v":0}]
[]
[null,null,null,null,null,null,null,null,null,null,null,null,null,null,null,null,null,null,null,null,{"$f":"S75*T75","v":0}]
[null,null,null,null,null,null,null,null,null,null,null,null,null,null,null,null,null,null,null,null,0]
[null,null,null,null,null,null,null,null,null,null,null,null,null,null,null,null,null,null,null,null,0]
[null,null,null,null,null,null,null,null,null,null,null,null,null,null,null,null,null,null,null,null,0]
[null,null,null,null,null,null,null,null,null,null,null,null,null,null,null,{"$f":"Cen!A308","v":"Kovový zásuvný prvek C, 450mm, šedý"},{"$f":"Cen!B308","v":"Z37A417C"},{"$f":"Cen!C308","v":"R906"},{"$f":"SUM(S3:S7)*2","v":0},{"$f":"Cen!F308","v":143.80000000000001},0]
[null,null,null,null,null,null,null,null,null,null,null,null,null,null,null,{"$f":"Cen!A311","v":"Kovový zásuvný prvek C, 500mm, šedý"},{"$f":"Cen!B311","v":"Z37A467C"},{"$f":"Cen!C311","v":"R906"},{"$f":"S8","v":0},{"$f":"Cen!F311","v":149.5},0]
[null,null,null,null,null,null,null,null,null,null,null,null,null,null,null,{"$f":"Cen!A314","v":"Kovový zásuvný prvek C, 550mm, šedý"},{"$f":"Cen!B314","v":"Z37A517C"},{"$f":"Cen!C314","v":"R906"},{"$f":"S9","v":0},{"$f":"Cen!F314","v":160.4},0]
[null,null,null,null,null,null,null,null,null,null,null,null,null,null,null,{"$f":"Cen!A317","v":0},{"$f":"Cen!B317","v":0},{"$f":"Cen!C317","v":0},null,{"$f":"Cen!F317","v":0},0]
[null,null,null,null,null,null,null,null,null,null,null,null,null,null,null,{"$f":"Cen!A320","v":"Kovový zásuvný prvek C, 650mm, šedý"},{"$f":"Cen!B320","v":"Z37A617C"},{"$f":"Cen!C320","v":"R906"},{"$f":"SUM(S10, S11)*2","v":0},{"$f":"Cen!F320","v":182.4},0]
[]
[]
[]
[]
[]
[]
[null,null,null,null,null,null,null,null,null,null,null,null,null,null,null,null,null,null,null,null,{"$f":"SUM(U3:U89)","v":0}]
[]
[]
[]
[]
[]
[]
[]
[null,null,null,null,null,null,null,null,null,null,null,null,null,null,null,{"$f":"List!$B$276&\"!\"","v":"S0 a S1 pouze pro jmenovitou délku 270 a 300 mm!"}]
[null,null,null,null,null,null,null,null,null,null,null,null,null,null,null,{"$f":"List!$B$277&\"!\"","v":"Pro výsuvy délky 270 a 300 mm vyberte jednotky S0 nebo S1!"}]
[null,{"$f":"List!B25","v":"Informace k objednávání"},null,null,null,null,null,null,null,null,null,null,null,null,null,{"$f":"List!$B$278&\"!\"","v":"Počet jednotek L neodpovídá počtu korpusových lišt!"}]
[null,null,null,null,null,null,null,null,null,null,null,null,null,null,null,{"$f":"List!$B$279&\"!\"","v":"Počet jednotek S neodpovídá počtu korpusových lišt!"}]
[]
[null,null,null,{"$f":"List!B268&\" \"&List!B283","v":"Sada jednotek TIP-ON BLUMOTION a sada unašečů TIP-ON BLUMOTION"},null,null,null,null,null,null,null,null,null,null,null,{"$f":"List!$B$289&\"!\"","v":"Kovové zásuvné prvky pro nerez (Inox) se nevyrábí!"}]
[null,null,null,{"$f":"List!$B$280&\":\"","v":"Využití pro:"},null,null,null,null,null,{"$f":"List!B281&\"*\"","v":"Doporučené hodnoty hmotnosti*"},null,null,null,null,null,{"$f":"List!$B$290&\"!\"","v":"Kování naplánované na tomto listu se neprojeví v objednávce!"}]
[null,null,null,{"$f":"List!B45&\" (NL)\"","v":"Jmenovitá délka (NL)"},null,null,{"$f":"List!B275","v":"Jednotka"},{"$f":"List!B88","v":"Číslo artiklu"}]
[null,null,null,"270 - 300 mm",null,null,"S0","T60L7040",null,"≤ 10 kg"]
[null,null,null,null,null,null,"S1","T60L7140",null,"10-20 kg"]
[null,null,null,"350 - 650 mm",null,null,"L1","T60L7340",null,"≤ 20 kg"]
[null,null,null,null,null,null,"L3","T60L7540",null,"15 - 40 kg"]
[null,null,null,null,null,null,"L5","T60L7570",null,null,"25 - 70 kg"]
[null,null,null,null,null,null,null,{"$f":"\"* \"&List!B282","v":"* Celková hmotnost výsuvu (hmotnost výsuvu včetně náplně)"}]
[]
[null,null,null,null,null,null,null,null,null,null,null,null,null,{"$f":"List!$B$99","v":"Zpět"}]

{"sheet":"AC31VR","index":18,"n_rows":113,"n_cols":21,"rows_kept":113,"cut":false,"hidden":false,"merged":[[108,9,108,10],[109,7,109,8],[109,10,109,11],[98,0,139,0],[99,1,100,11],[102,1,102,2],[102,3,102,11],[103,1,111,2],[103,3,103,8],[103,9,104,11],[104,3,104,5],[104,7,104,8],[105,3,106,5],[110,7,111,11],[105,7,105,8],[106,7,106,8],[107,3,109,5],[107,7,107,8],[108,7,108,8]]}
[]
[null,null,null,null,null,null,null,null,null,null,null,{"$f":"List!$B$49&\" C, \"&List!$B$64","v":"Vnitřní výsuv C, podélný reling"},null,{"$f":"List!$B$11&\":\"","v":"Zpět na:"},null,"Počty zásuvek →",{"$f":"SUM(D19:K19)","v":0},{"$f":"SUM(H20:L20)","v":0},{"$f":"SUM(D25:K25)","v":0},{"$f":"SUM(H26:L26)","v":0}]
[null,null,null,null,null,null,null,null,null,null,null,null,null,{"$f":"\" \"&List!$B$13","v":" Úvod"},null,{"$f":"Cen!A28","v":"Bočnice M 270mm, šedé"},{"$f":"Cen!B28","v":"378M2702SA"},{"$f":"Cen!C28","v":"R906"},{"$f":"SUM($D$19, $D$25)","v":0},{"$f":"Cen!F28","v":350.6},{"$f":"S3*T3","v":0}]
[null,null,null,null,null,null,null,null,{"$f":"List!$B$72&\":\"","v":"bočnice:"},null,"M",null,null,{"$f":"\" \"&List!$B$4","v":" Výběr zásuvek a výsuvů"},null,{"$f":"Cen!A32","v":"Bočnice M 300mm, šedé"},{"$f":"Cen!B32","v":"378M3002SA"},{"$f":"Cen!C32","v":"R906"},{"$f":"SUM($E$19, $E$25)","v":0},{"$f":"Cen!F32","v":350.6},0]
[null,null,null,null,null,null,null,null,{"$f":"List!$B$27&\":\"","v":"barva:"},null,{"$f":"Form!$O$2","v":"šedá"},null,null,null,null,{"$f":"Cen!A36","v":"Bočnice M 350mm, šedé"},{"$f":"Cen!B36","v":"378M3502SA"},{"$f":"Cen!C36","v":"R906"},{"$f":"SUM($F$19, $F$25)","v":0},{"$f":"Cen!F36","v":350.6},0]
[null,null,null,null,null,null,null,null,null,null,null,null,null,{"$f":"List!$B$12&\":\"","v":"Pokračovat na:"},null,{"$f":"Cen!A40","v":"Bočnice M 400mm, šedé"},{"$f":"Cen!B40","v":"378M4002SA"},{"$f":"Cen!C40","v":"R906"},{"$f":"SUM($G$19, $G$25)","v":0},{"$f":"Cen!F40","v":354.3},0]
[null,null,null,null,null,null,null,null,null,null,null,null,null,{"$f":"\" \"&List!$B$5","v":" Výběr doplňků"},null,{"$f":"Cen!A44","v":"Bočnice M 450mm, šedé"},{"$f":"Cen!B44","v":"378M4502SA"},{"$f":"Cen!C44","v":"R906"},{"$f":"SUM($H$19:$H$20, $H$25:$H$26)","v":0},{"$f":"Cen!F44","v":358.1},0]
[null,null,null,null,null,null,null,null,null,null,null,null,null,{"$f":"\" \"&List!$B$6","v":" Výběr SERVO-DRIVE"},null,{"$f":"Cen!A48","v":"Bočnice M 500mm, šedé"},{"$f":"Cen!B48","v":"378M5002SA"},{"$f":"Cen!C48","v":"R906"},{"$f":"SUM($I$19:$I$20, $I$25:$I$26)","v":0},{"$f":"Cen!F48","v":397.4},0]
[null,null,null,null,null,null,null,null,null,null,null,null,null,{"$f":"\" \"&List!$B$7","v":" Výběr ORGA-LINE"},null,{"$f":"Cen!A52","v":"Bočnice M 550mm, šedé"},{"$f":"Cen!B52","v":"378M5502SA"},{"$f":"Cen!C52","v":"R906"},{"$f":"SUM($J$19:$J$20, $J$25:$J$26)","v":0},{"$f":"Cen!F52","v":399.2},0]
[null,null,null,null,null,null,null,null,null,null,null,null,null,{"$f":"\" \"&List!$B$18","v":" Souhrn"},null,{"$f":"Cen!A56","v":"Bočnice M 600mm, šedé"},{"$f":"Cen!B56","v":"378M6002SA"},{"$f":"Cen!C56","v":"R906"},{"$f":"SUM($K$19:$K$20, $K$25:$K$26)","v":0},{"$f":"Cen!F56","v":508.3},0]
[null,null,null,null,null,null,null,null,{"$f":"\"* \"&List!$B$132&\":\"","v":"* Přířezy prvků:"},null,null,null,null,null,null,{"$f":"Cen!A60","v":"Bočnice M 650mm, šedé"},{"$f":"Cen!B60","v":"378M6502SA"},{"$f":"Cen!C60","v":"R906"},{"$f":"SUM($L$20, $L$26)","v":0},{"$f":"Cen!F60","v":536.29999999999995},0]
[null,null,null,null,null,null,null,null,{"$f":"List!$C$136&\":   LW - 132\"","v":"Přední díl:   LW - 132"}]
[null,null,null,null,null,null,null,null,{"$f":"List!$C$137&\":   LW - 122\"","v":"Příčný reling:   LW - 122"},null,null,null,null,null,null,{"$f":"Cen!A94","v":"Korpusové lišty 270mm, BLUMOTION, 30kg"},{"$f":"Cen!B94","v":"578.2701B"},{"$f":"Cen!C94","v":"ZN"},{"$f":"$D$19","v":0},{"$f":"Cen!F94","v":459.2},0]
[null,null,null,null,null,null,null,null,null,null,null,null,null,null,null,{"$f":"Cen!A95","v":"Korpusové lišty 300mm, BLUMOTION, 30kg"},{"$f":"Cen!B95","v":"578.3001B"},{"$f":"Cen!C95","v":"ZN"},{"$f":"$E$19","v":0},{"$f":"Cen!F95","v":459.2},0]
[null,null,null,null,null,null,null,null,null,null,null,null,null,null,null,{"$f":"Cen!A96","v":"Korpusové lišty 350mm, BLUMOTION, 30kg"},{"$f":"Cen!B96","v":"578.3501B"},{"$f":"Cen!C96","v":"ZN"},{"$f":"$F$19","v":0},{"$f":"Cen!F96","v":459.2},0]
[null,null,null,null,null,null,null,null,null,null,null,null,null,null,null,{"$f":"Cen!A97","v":"Korpusové lišty 400mm, BLUMOTION, 30kg"},{"$f":"Cen!B97","v":"578.4001B"},{"$f":"Cen!C97","v":"ZN"},{"$f":"$G$19","v":0},{"$f":"Cen!F97","v":462.6},0]
[null,"BLUMOTION",null,null,null,null,null,null,null,null,null,null,null,null,null,{"$f":"Cen!A98","v":"Korpusové lišty 450mm, BLUMOTION, 30kg"},{"$f":"Cen!B98","v":"578.4501B"},{"$f":"Cen!C98","v":"ZN"},{"$f":"$H$19","v":0},{"$f":"Cen!F98","v":466},0]
[null,null,{"$f":"List!$B$45&\":\"","v":"Jmenovitá délka:"},"270 mm","300 mm","350 mm","400 mm","450 mm","500 mm","550 mm","600 mm","650 mm",null,null,null,{"$f":"Cen!A99","v":"Korpusové lišty 450mm, BLUMOTION, 65kg"},{"$f":"Cen!B99","v":"576.4501B"},{"$f":"Cen!C99","v":"ZN"},{"$f":"$H$20","v":0},{"$f":"Cen!F99","v":560.79999999999995},0]
[null,"AC31VBR","30 kg",null,null,null,null,null,null,null,null,null,null,null,null,{"$f":"Cen!A100","v":"Korpusové lišty 500mm, BLUMOTION, 30kg"},{"$f":"Cen!B100","v":"578.5001B"},{"$f":"Cen!C100","v":"ZN"},{"$f":"$I$19","v":0},{"$f":"Cen!F100","v":469.5},0]
[null,"AC61VBR","65 kg",null,null,null,null,null,null,null,null,null,null,null,null,{"$f":"Cen!A101","v":"Korpusové lišty 500mm, BLUMOTION, 65kg"},{"$f":"Cen!B101","v":"576.5001B"},{"$f":"Cen!C101","v":"ZN"},{"$f":"$I$20","v":0},{"$f":"Cen!F101","v":620.4},0]
[null,null,null,null,null,null,null,null,null,null,null,null,null,null,null,{"$f":"Cen!A102","v":"Korpusové lišty 550mm, BLUMOTION, 30kg"},{"$f":"Cen!B102","v":"578.5501B"},{"$f":"Cen!C102","v":"ZN"},{"$f":"$J$19","v":0},{"$f":"Cen!F102","v":493.5},0]
[null,null,null,null,null,null,null,null,null,null,null,null,null,null,null,{"$f":"Cen!A103","v":"Korpusové lišty 550mm, BLUMOTION, 65kg"},{"$f":"Cen!B103","v":"576.5501B"},{"$f":"Cen!C103","v":"ZN"},{"$f":"$J$20","v":0},{"$f":"Cen!F103","v":644.29999999999995},0]
[null,"TIP-ON BLUMOTION",null,null,null,null,null,null,null,null,null,null,null,null,null,{"$f":"Cen!A104","v":"Korpusové lišty 600mm, BLUMOTION, 30kg"},{"$f":"Cen!B104","v":"578.6001B"},{"$f":"Cen!C104","v":"ZN"},{"$f":"$K$19","v":0},{"$f":"Cen!F104","v":523.9},0]
[null,null,{"$f":"List!$B$45&\":\"","v":"Jmenovitá délka:"},"270 mm","300 mm","350 mm","400 mm","450 mm","500 mm","550 mm","600 mm","650 mm",null,null,null,{"$f":"Cen!A105","v":"Korpusové lišty 600mm, BLUMOTION, 65kg"},{"$f":"Cen!B105","v":"576.6001B"},{"$f":"Cen!C105","v":"ZN"},{"$f":"$K$20","v":0},{"$f":"Cen!F105","v":661.1},0]
[null,"AC31VMR","30 kg",null,null,null,null,null,null,null,null,null,null,null,null,{"$f":"Cen!A106","v":"Korpusové lišty 650mm, BLUMOTION, 65kg"},{"$f":"Cen!B106","v":"576.6501B"},{"$f":"Cen!C106","v":"ZN"},{"$f":"$L$20","v":0},{"$f":"Cen!F106","v":751.2},0]
[null,"AC61VMR","65 kg",null,null,null,null,null,null,null,null,null,null,null,null,{"$f":"Cen!A109","v":"Korp. lišty TIP-ON BLUMOTION, 270mm, 30 kg"},{"$f":"Cen!B109","v":"578.2701M"},{"$f":"Cen!C109","v":"ZN"},{"$f":"$D$25","v":0},{"$f":"Cen!F109","v":417.4},0]
[null,null,null,null,null,null,null,null,null,null,null,null,null,null,null,{"$f":"Cen!A110","v":"Korp. lišty TIP-ON BLUMOTION, 300mm, 30 kg"},{"$f":"Cen!B110","v":"578.3001M"},{"$f":"Cen!C110","v":"ZN"},{"$f":"$E$25","v":0},{"$f":"Cen!F110","v":417.4},0]
[null,null,null,{"$f":"List!$B$268","v":"Sada jednotek TIP-ON BLUMOTION"},null,null,null,null,null,null,null,null,null,{"$f":"List!$B$259","v":"Výběr sady jednotek"},null,{"$f":"Cen!A111","v":"Korp. lišty TIP-ON BLUMOTION, 350mm, 30 kg"},{"$f":"Cen!B111","v":"578.3501M"},{"$f":"Cen!C111","v":"ZN"},{"$f":"$F$25","v":0},{"$f":"Cen!F111","v":417.4},0]
[null,null,null,"S0","S1","L1","L3","L5",null,null,null,null,null,null,null,{"$f":"Cen!A112","v":"Korp. lišty TIP-ON BLUMOTION, 400mm, 30 kg"},{"$f":"Cen!B112","v":"578.4001M"},{"$f":"Cen!C112","v":"ZN"},{"$f":"$G$25","v":0},{"$f":"Cen!F112","v":420.5},0]
[null,null,null,null,null,null,null,null,{"$f":"IF(SUM($F$25:$K$25,$H$26:$L$26)=SUM($F$30:$H$30),\" \",$P$100)","v":" "},null,null,null,null,null,null,{"$f":"Cen!A113","v":"Korp. lišty TIP-ON BLUMOTION, 450mm, 30 kg"},{"$f":"Cen!B113","v":"578.4501M"},{"$f":"Cen!C113","v":"ZN"},{"$f":"$H$25","v":0},{"$f":"Cen!F113","v":423.7},0]
[null,null,{"$f":"IF(AND(SUM($D$25,$E$25)>0,SUM($D$30,$E$30)=0),$P$99, IF(AND(SUM($D$25,$E$25)=0,SUM($D$30,$E$30)>0),$P$98, \" \"))&IF(SUM($D$25,$E$25)<>SUM($D$30,$E$30),\" \"&$P$101,\" \")","v":"  "},null,null,null,null,null,null,null,null,null,null,null,null,{"$f":"Cen!A114","v":"Korp. lišty TIP-ON BLUMOTION, 450mm, 65 kg"},{"$f":"Cen!B114","v":"578.4501M"},{"$f":"Cen!C114","v":"ZN"},{"$f":"$H$26","v":0},{"$f":"Cen!F114","v":560.79999999999995},0]
[null,null,null,null,null,null,null,null,null,null,null,null,null,null,null,{"$f":"Cen!A115","v":"Korp. lišty TIP-ON BLUMOTION, 500mm, 30 kg"},{"$f":"Cen!B115","v":"578.5001M"},{"$f":"Cen!C115","v":"ZN"},{"$f":"$I$25","v":0},{"$f":"Cen!F115","v":426.8},0]
[null,null,null,{"$f":"\"     \"&List!$B$270","v":"     Synchronizace je přidána automaticky. "},null,null,null,null,null,null,null,null,null,null,null,{"$f":"Cen!A116","v":"Korp. lišty TIP-ON BLUMOTION, 500mm, 65 kg"},{"$f":"Cen!B116","v":"576.5001M"},{"$f":"Cen!C116","v":"ZN"},{"$f":"$I$26","v":0},{"$f":"Cen!F116","v":564},0]
[null,null,null,{"$f":"\"     \"&List!$B$271","v":"     Pozor! Pro každý výsuv je započítána jedna hřídel. Počet hřídelí upravte v objednávce!"},null,null,null,null,null,null,null,null,null,null,null,{"$f":"Cen!A117","v":"Korp. lišty TIP-ON BLUMOTION, 550mm, 30 kg"},{"$f":"Cen!B117","v":"578.5501M"},{"$f":"Cen!C117","v":"ZN"},{"$f":"$J$25","v":0},{"$f":"Cen!F117","v":448.6},0]
[null,null,null,{"$f":"\"     \"&List!$B$272","v":"     Pro korpusy šířky ≥ 750 mm použijte podpěru dna a podpěru synchronizační hřídele."},null,null,null,null,null,null,null,null,null,null,null,{"$f":"Cen!A118","v":"Korp. lišty TIP-ON BLUMOTION, 550mm, 65 kg"},{"$f":"Cen!B118","v":"576.5501M"},{"$f":"Cen!C118","v":"ZN"},{"$f":"$J$26","v":0},{"$f":"Cen!F118","v":585.79999999999995},0]
[null,null,null,{"$f":"\"     \"&List!$B$273","v":"     Podpěry přidejte v sekci \"Výběr doplňků\""},null,null,null,null,null,null,null,null,null,null,null,{"$f":"Cen!A119","v":"Korp. lišty TIP-ON BLUMOTION, 600mm, 30 kg"},{"$f":"Cen!B119","v":"578.6001M"},{"$f":"Cen!C119","v":"ZN"},{"$f":"$K$25","v":0},{"$f":"Cen!F119","v":542},0]
[null,null,null,null,null,null,null,null,null,null,null,null,null,null,null,{"$f":"Cen!A120","v":"Korp. lišty TIP-ON BLUMOTION, 600mm, 65 kg"},{"$f":"Cen!B120","v":"576.6001M"},{"$f":"Cen!C120","v":"ZN"},{"$f":"$K$26","v":0},{"$f":"Cen!F120","v":661.1},0]
[null,null,null,null,null,null,null,null,null,null,null,null,null,null,null,{"$f":"Cen!A121","v":"Korp. lišty TIP-ON BLUMOTION, 650mm, 65 kg"},{"$f":"Cen!B121","v":"576.6501M"},{"$f":"Cen!C121","v":"ZN"},{"$f":"$L$26","v":0},{"$f":"Cen!F121","v":682.9},0]
[]
[null,{"$f":"List!$B$23&\": **\"","v":"Volitelně: **"},null,null,null,null,null,null,null,null,null,null,null,null,null,{"$f":"Cen!A124","v":"Sada jednotek TIP-ON BLUMOTION, S0"},{"$f":"Cen!B124","v":"T60B3030"},{"$f":"Cen!C124","v":"W"},{"$f":"$D$30","v":0},{"$f":"Cen!F124","v":404.5},{"$f":"S40*T40","v":0}]
[null,{"$f":"Cen!A324","v":"Sada držáků zásuvného prvku C, bílošedá"},null,null,null,null,null,{"$f":"Cen!B324","v":"Z36C0080"},{"$f":"Cen!C324","v":"WGR"},null,null,null,null,null,null,{"$f":"Cen!A125","v":"Sada jednotek TIP-ON BLUMOTION, S1"},{"$f":"Cen!B125","v":"T60B3130"},{"$f":"Cen!C125","v":"R735"},{"$f":"$E$30","v":0},{"$f":"Cen!F125","v":404.5},0]
[null,null,null,null,null,null,null,null,null,null,null,null,null,null,null,{"$f":"Cen!A126","v":"Sada jednotek TIP-ON BLUMOTION, L1"},{"$f":"Cen!B126","v":"T60B3330"},{"$f":"Cen!C126","v":"R735"},{"$f":"$F$30","v":0},{"$f":"Cen!F126","v":404.5},0]
[null,{"$f":"\"      * \"&List!$B$145","v":"      * Pro každý výsuv je započítán jeden přední díl a jeden příčný reling"},null,null,null,null,null,null,null,null,null,null,null,null,null,{"$f":"Cen!A127","v":"Sada jednotek TIP-ON BLUMOTION, L3"},{"$f":"Cen!B127","v":"T60B3530"},{"$f":"Cen!C127","v":"R737"},{"$f":"$G$30","v":0},{"$f":"Cen!F127","v":404.5},0]
[null,{"$f":"\"        \"&List!$B$147","v":"        Potřebný počet předních dílů a relingů upravte v objednávce"},null,null,null,null,null,null,null,null,null,null,null,null,null,{"$f":"Cen!A128","v":"Sada jednotek TIP-ON BLUMOTION, L5"},{"$f":"Cen!B128","v":"T60B3560"},{"$f":"Cen!C128","v":"S"},{"$f":"$H$30","v":0},{"$f":"Cen!F128","v":404.5},0]
[null,{"$f":"\"    ** \"&List!$B$148","v":"    ** Sada držáků, pro vlastní zásuvný prvek"}]
[null,{"$f":"\"       \"&List!$B$150&\"!\"","v":"       Cena držáků zásuvného prvku není zahrnuta do cen jednotlivých výsuvů!"},null,null,null,null,null,null,null,null,null,null,null,null,null,{"$f":"Cen!A130","v":"Synchronizační adaptér"},{"$f":"Cen!B130","v":"T60.000D"},{"$f":"Cen!C130","v":"R735"},{"$f":"SUM($S$40:$S$44)*2","v":0},{"$f":"Cen!F130","v":5.8},0]
[null,null,null,null,null,null,null,null,null,null,null,null,null,null,null,{"$f":"Cen!A131","v":"Hřídel synchronizace"},{"$f":"Cen!B131","v":"T60.1125W"},{"$f":"Cen!C131","v":"GR"},{"$f":"SUM($S$40:$S$44)","v":0},{"$f":"Cen!F131","v":95.6},0]
[null,{"$f":"IF(OR($K$14>0, $L$14>0), List!$B$196, \" \")","v":" "},null,null,null,null,null,null,null,null,null,null,null,null,null,{"$f":"Cen!A132","v":"Jednodílná synchronizace"},{"$f":"Cen!B132","v":"T60.300D"},{"$f":"Cen!C132","v":"R735"},null,{"$f":"Cen!F132","v":23.2},0]
[null,{"$f":"IF(OR($K$14>0, $L$14>0), List!$B$200, \" \")","v":" "},null,null,null,null,null,null,null,null,null,null,null,null,null,{"$f":"Cen!A134","v":"Držák hřídele synchronizace"},{"$f":"Cen!B134","v":"T60B000H"},{"$f":"Cen!C134","v":"NI"},null,{"$f":"Cen!F134","v":6},0]
[null,null,null,null,null,null,null,null,null,null,null,null,null,null,null,{"$f":"Cen!A135","v":"Podpěrný úhelník pro dno"},{"$f":"Cen!B135","v":"Z96.2011"},{"$f":"Cen!C135","v":"R737"},null,{"$f":"Cen!F135","v":29.8},0]
[]
[null,null,null,null,null,null,null,null,null,null,null,null,null,null,null,{"$f":"Cen!A143","v":"Držáky zadní stěny N, šedé"},{"$f":"Cen!B143","v":"Z30N000S.04"},{"$f":"Cen!C143","v":"R906"},null,{"$f":"Cen!F143","v":36.5},{"$f":"S52*T52","v":0}]
[null,null,null,null,null,null,null,null,null,null,null,null,null,null,null,{"$f":"Cen!A147","v":"Držáky zadní stěny M, šedé"},{"$f":"Cen!B147","v":"Z30M000S.04"},{"$f":"Cen!C147","v":"R906"},null,{"$f":"Cen!F147","v":40.200000000000003},{"$f":"S53*T53","v":0}]
[null,null,null,null,null,null,null,null,null,null,null,null,null,null,null,{"$f":"Cen!A151","v":"Držáky zadní stěny K, šedé"},{"$f":"Cen!B151","v":"Z30K000S"},{"$f":"Cen!C151","v":"R906"},null,{"$f":"Cen!F151","v":67.400000000000006},0]
[null,null,null,null,null,null,null,null,null,null,null,null,null,null,null,{"$f":"Cen!A154","v":"Držáky zadní stěny B, šedé"},{"$f":"Cen!B154","v":"Z30B000S.04"},{"$f":"Cen!C154","v":"R906"},null,{"$f":"Cen!F154","v":48.8},0]
[null,null,null,null,null,null,null,null,null,null,null,null,null,null,null,{"$f":"Cen!A158","v":"Držáky zadní stěny C, šedé"},{"$f":"Cen!B158","v":"Z30C000S"},{"$f":"Cen!C158","v":"R906"},{"$f":"SUM($S$3:$S$11)","v":0},{"$f":"Cen!F158","v":71},0]
[null,null,null,null,null,null,null,null,null,null,null,null,null,null,null,{"$f":"Cen!A162","v":"Držáky zadní stěny D, šedé"},{"$f":"Cen!B162","v":"Z30D000S"},{"$f":"Cen!C162","v":"R906"},null,{"$f":"Cen!F162","v":78.099999999999994},{"$f":"S57*T57","v":0}]
[]
[null,null,null,null,null,null,null,null,null,null,null,null,null,null,null,{"$f":"Cen!A185","v":"Držáky čela vnitřního výsuvu C, bílošedé"},{"$f":"Cen!B185","v":"ZIF.74C0"},{"$f":"Cen!C185","v":"WGR"},{"$f":"SUM($S$3:$S$11)","v":0},{"$f":"Cen!F185","v":149.19999999999999},0]
[null,null,null,null,null,null,null,null,null,null,null,null,null,null,null,{"$f":"Cen!A194","v":"Přední díl vnitřní zásuvky, šedý"},{"$f":"Cen!B194","v":"Z31L1036A  "},{"$f":"Cen!C194","v":"R906"},{"$f":"SUM($S$3:$S$11)","v":0},{"$f":"Cen!F194","v":363.8},0]
[null,null,null,null,null,null,null,null,null,null,null,null,null,null,null,{"$f":"Cen!A199","v":"Příčný reling vnitřní zásuvky, šedý"},{"$f":"Cen!B199","v":"ZRG.1046Z "},{"$f":"Cen!C199","v":"R906"},{"$f":"SUM($S$3:$S$11)","v":0},{"$f":"Cen!F199","v":169.4},0]
[]
[null,null,null,null,null,null,null,null,null,null,null,null,null,null,null,{"$f":"Cen!A215","v":"Podélný reling vlevo/vpravo, 270mm, šedý"},{"$f":"Cen!B215","v":"ZRG.207RSIC"},{"$f":"Cen!C215","v":"R906"},{"$f":"S3","v":0},{"$f":"Cen!F215","v":150},{"$f":"S63*T63","v":0}]
[null,null,null,null,null,null,null,null,null,null,null,null,null,null,null,{"$f":"Cen!A219","v":"Podélný reling vlevo/vpravo, 300mm, šedý"},{"$f":"Cen!B219","v":"ZRG.237RSIC"},{"$f":"Cen!C219","v":"R906"},0,{"$f":"Cen!F219","v":152.5},0]
[null,null,null,null,null,null,null,null,null,null,null,null,null,null,null,{"$f":"Cen!A223","v":"Podélný reling vlevo/vpravo, 350mm, šedý"},{"$f":"Cen!B223","v":"ZRG.287RSIC"},{"$f":"Cen!C223","v":"R906"},0,{"$f":"Cen!F223","v":155},0]
[null,null,null,null,null,null,null,null,null,null,null,null,null,null,null,{"$f":"Cen!A227","v":"Podélný reling vlevo/vpravo, 400mm, šedý"},{"$f":"Cen!B227","v":"ZRG.337RSIC"},{"$f":"Cen!C227","v":"R906"},0,{"$f":"Cen!F227","v":157.5},0]
[null,null,null,null,null,null,null,null,null,null,null,null,null,null,null,{"$f":"Cen!A231","v":"Podélný reling vlevo/vpravo, 450mm, šedý"},{"$f":"Cen!B231","v":"ZRG.387RSIC"},{"$f":"Cen!C231","v":"R906"},0,{"$f":"Cen!F231","v":160},0]
[null,null,null,null,null,null,null,null,null,null,null,null,null,null,null,{"$f":"Cen!A235","v":"Podélný reling vlevo/vpravo, 500mm, šedý"},{"$f":"Cen!B235","v":"ZRG.437RSIC"},{"$f":"Cen!C235","v":"R906"},0,{"$f":"Cen!F235","v":178.7},0]
[null,null,null,null,null,null,null,null,null,null,null,null,null,null,null,{"$f":"Cen!A239","v":"Podélný reling vlevo/vpravo, 550mm, šedý"},{"$f":"Cen!B239","v":"ZRG.487RSIC"},{"$f":"Cen!C239","v":"R906"},0,{"$f":"Cen!F239","v":169.4},0]
[null,null,null,null,null,null,null,null,null,null,null,null,null,null,null,{"$f":"Cen!A243","v":"Podélný reling vlevo/vpravo, 600mm, šedý"},{"$f":"Cen!B243","v":"ZRG.537RSIC"},{"$f":"Cen!C243","v":"R906"},0,{"$f":"Cen!F243","v":176.3},0]
[null,null,null,null,null,null,null,null,null,null,null,null,null,null,null,{"$f":"Cen!A247","v":"Podélný reling vlevo/vpravo, 650mm, šedý"},{"$f":"Cen!B247","v":"ZRG.587RSIC"},{"$f":"Cen!C247","v":"R906"},0,{"$f":"Cen!F247","v":183.2},0]
[]
[null,null,null,null,null,null,null,null,null,null,null,null,null,null,null,{"$f":"Cen!A324","v":"Sada držáků zásuvného prvku C, bílošedá"},{"$f":"Cen!B324","v":"Z36C0080"},{"$f":"Cen!C324","v":"WGR"},{"$f":"J41","v":0},{"$f":"Cen!F324","v":60.1},{"$f":"S73*T73","v":0}]
[]
[null,null,null,null,null,null,null,null,null,null,null,null,null,null,null,null,null,null,null,null,{"$f":"S75*T75","v":0}]
[null,null,null,null,null,null,null,null,null,null,null,null,null,null,null,null,null,null,null,null,0]
[null,null,null,null,null,null,null,null,null,null,null,null,null,null,null,null,null,null,null,null,0]
[null,null,null,null,null,null,null,null,null,null,null,null,null,null,null,null,null,null,null,null,0]
[]
[]
[]
[]
[]
[]
[]
[]
[]
[]
[]
[null,null,null,null,null,null,null,null,null,null,null,null,null,null,null,null,null,null,null,null,{"$f":"SUM(U3:U89)","v":0}]
[]
[]
[]
[]
[]
[]
[]
[null,null,null,null,null,null,null,null,null,null,null,null,null,null,null,{"$f":"List!$B$276&\"!\"","v":"S0 a S1 pouze pro jmenovitou délku 270 a 300 mm!"}]
[null,null,null,null,null,null,null,null,null,null,null,null,null,null,null,{"$f":"List!$B$277&\"!\"","v":"Pro výsuvy délky 270 a 300 mm vyberte jednotky S0 nebo S1!"}]
[null,{"$f":"List!B25","v":"Informace k objednávání"},null,null,null,null,null,null,null,null,null,null,null,null,null,{"$f":"List!$B$278&\"!\"","v":"Počet jednotek L neodpovídá počtu korpusových lišt!"}]
[null,null,null,null,null,null,null,null,null,null,null,null,null,null,null,{"$f":"List!$B$279&\"!\"","v":"Počet jednotek S neodpovídá počtu korpusových lišt!"}]
[]
[null,null,null,{"$f":"List!B268&\" \"&List!B283","v":"Sada jednotek TIP-ON BLUMOTION a sada unašečů TIP-ON BLUMOTION"}]
[null,null,null,{"$f":"List!$B$280&\":\"","v":"Využití pro:"},null,null,null,null,null,{"$f":"List!B281&\"*\"","v":"Doporučené hodnoty hmotnosti*"}]
[null,null,null,{"$f":"List!B45&\" (NL)\"","v":"Jmenovitá délka (NL)"},null,null,{"$f":"List!B275","v":"Jednotka"},{"$f":"List!B88","v":"Číslo artiklu"}]
[null,null,null,"270 - 300 mm",null,null,"S0","T60L7040",null,"≤ 10 kg"]
[null,null,null,null,null,null,"S1","T60L7140",null,"10-20 kg"]
[null,null,null,"350 - 650 mm",null,null,"L1","T60L7340",null,"≤ 20 kg"]
[null,null,null,null,null,null,"L3","T60L7540",null,"15 - 40 kg"]
[null,null,null,null,null,null,"L5","T60L7570",null,null,"25 - 70 kg"]
[null,null,null,null,null,null,null,{"$f":"\"* \"&List!B282","v":"* Celková hmotnost výsuvu (hmotnost výsuvu včetně náplně)"}]
[]
[null,null,null,null,null,null,null,null,null,null,null,null,null,{"$f":"List!$B$99","v":"Zpět"}]

{"sheet":"AM530S","index":19,"n_rows":60,"n_cols":21,"rows_kept":60,"cut":false,"hidden":false,"merged":[]}
[]
[null,null,null,null,null,null,null,null,null,null,null,{"$f":"List!$B$46&\" SPACE CORNER \"&List!$B$67&\" - M\"","v":"Zásuvka SPACE CORNER se SYNCROMOTION - M"},null,null,null,"Počty zásuvek →",{"$f":"SUM(D19:K19)","v":0},{"$f":"SUM(H20:L20)","v":0},{"$f":"SUM(D25:K25)","v":0},{"$f":"SUM(H26:L26)","v":0}]
[null,null,null,null,null,null,null,null,null,null,null,null,null,{"$f":"List!$B$11&\":\"","v":"Zpět na:"},null,{"$f":"Cen!A28","v":"Bočnice M 270mm, šedé"},{"$f":"Cen!B28","v":"378M2702SA"},{"$f":"Cen!C28","v":"R906"},null,{"$f":"Cen!F28","v":350.6},{"$f":"S3*T3","v":0}]
[null,null,null,null,null,null,null,null,{"$f":"List!$B$72&\":\"","v":"bočnice:"},null,"M 650 mm",null,null,{"$f":"\" \"&List!$B$13","v":" Úvod"},null,{"$f":"Cen!A32","v":"Bočnice M 300mm, šedé"},{"$f":"Cen!B32","v":"378M3002SA"},{"$f":"Cen!C32","v":"R906"},null,{"$f":"Cen!F32","v":350.6},0]
[null,null,null,null,null,null,null,null,{"$f":"List!$B$27&\":\"","v":"barva:"},null,{"$f":"Form!$O$2","v":"šedá"},null,null,{"$f":"\" \"&List!$B$4","v":" Výběr zásuvek a výsuvů"},null,{"$f":"Cen!A36","v":"Bočnice M 350mm, šedé"},{"$f":"Cen!B36","v":"378M3502SA"},{"$f":"Cen!C36","v":"R906"},null,{"$f":"Cen!F36","v":350.6},0]
[null,null,null,null,null,null,null,null,null,null,null,null,null,null,null,{"$f":"Cen!A40","v":"Bočnice M 400mm, šedé"},{"$f":"Cen!B40","v":"378M4002SA"},{"$f":"Cen!C40","v":"R906"},null,{"$f":"Cen!F40","v":354.3},0]
[null,null,null,null,null,null,null,null,{"$f":"List!$B$36&\":\"","v":"čelní kování:"},null,"SYNCROMOTION",null,null,{"$f":"List!$B$12&\":\"","v":"Pokračovat na:"},null,{"$f":"Cen!A44","v":"Bočnice M 450mm, šedé"},{"$f":"Cen!B44","v":"378M4502SA"},{"$f":"Cen!C44","v":"R906"},null,{"$f":"Cen!F44","v":358.1},0]
[null,null,null,null,null,null,null,null,null,null,null,null,null,{"$f":"\" \"&List!$B$5","v":" Výběr doplňků"},null,{"$f":"Cen!A48","v":"Bočnice M 500mm, šedé"},{"$f":"Cen!B48","v":"378M5002SA"},{"$f":"Cen!C48","v":"R906"},null,{"$f":"Cen!F48","v":397.4},0]
[null,null,null,null,null,null,null,null,null,null,null,null,null,{"$f":"\" \"&List!$B$6","v":" Výběr SERVO-DRIVE"},null,{"$f":"Cen!A52","v":"Bočnice M 550mm, šedé"},{"$f":"Cen!B52","v":"378M5502SA"},{"$f":"Cen!C52","v":"R906"},null,{"$f":"Cen!F52","v":399.2},0]
[null,null,null,null,null,null,null,null,null,null,null,null,null,{"$f":"\" \"&List!$B$7","v":" Výběr ORGA-LINE"},null,{"$f":"Cen!A56","v":"Bočnice M 600mm, šedé"},{"$f":"Cen!B56","v":"378M6002SA"},{"$f":"Cen!C56","v":"R906"},{"$f":"SUM($K$19:$K$20)","v":0},{"$f":"Cen!F56","v":508.3},0]
[null,null,null,null,null,null,null,null,null,null,null,null,null,{"$f":"\" \"&List!$B$18","v":" Souhrn"},null,{"$f":"Cen!A60","v":"Bočnice M 650mm, šedé"},{"$f":"Cen!B60","v":"378M6502SA"},{"$f":"Cen!C60","v":"R906"},{"$f":"$L$20","v":0},{"$f":"Cen!F60","v":536.29999999999995},0]
[]
[null,null,null,null,null,null,null,null,null,null,null,null,null,null,null,{"$f":"Cen!A94","v":"Korpusové lišty 270mm, BLUMOTION, 30kg"},{"$f":"Cen!B94","v":"578.2701B"},{"$f":"Cen!C94","v":"ZN"},null,{"$f":"Cen!F94","v":459.2},0]
[null,null,null,null,null,null,null,null,null,null,null,null,null,null,null,{"$f":"Cen!A95","v":"Korpusové lišty 300mm, BLUMOTION, 30kg"},{"$f":"Cen!B95","v":"578.3001B"},{"$f":"Cen!C95","v":"ZN"},null,{"$f":"Cen!F95","v":459.2},0]
[null,null,null,null,null,null,null,null,null,null,null,null,null,null,null,{"$f":"Cen!A96","v":"Korpusové lišty 350mm, BLUMOTION, 30kg"},{"$f":"Cen!B96","v":"578.3501B"},{"$f":"Cen!C96","v":"ZN"},null,{"$f":"Cen!F96","v":459.2},0]
[null,null,null,null,null,null,null,null,null,null,null,null,null,null,null,{"$f":"Cen!A97","v":"Korpusové lišty 400mm, BLUMOTION, 30kg"},{"$f":"Cen!B97","v":"578.4001B"},{"$f":"Cen!C97","v":"ZN"},null,{"$f":"Cen!F97","v":462.6},0]
[null,"BLUMOTION",null,null,null,null,null,null,null,null,null,null,null,null,null,{"$f":"Cen!A98","v":"Korpusové lišty 450mm, BLUMOTION, 30kg"},{"$f":"Cen!B98","v":"578.4501B"},{"$f":"Cen!C98","v":"ZN"},null,{"$f":"Cen!F98","v":466},0]
[null,null,{"$f":"List!$B$45&\":\"","v":"Jmenovitá délka:"},null,null,null,null,null,null,null,"600 mm","650 mm",null,null,null,{"$f":"Cen!A99","v":"Korpusové lišty 450mm, BLUMOTION, 65kg"},{"$f":"Cen!B99","v":"576.4501B"},{"$f":"Cen!C99","v":"ZN"},null,{"$f":"Cen!F99","v":560.79999999999995},0]
[null,null,"30 kg",null,null,null,null,null,null,null,null,null,null,null,null,{"$f":"Cen!A100","v":"Korpusové lišty 500mm, BLUMOTION, 30kg"},{"$f":"Cen!B100","v":"578.5001B"},{"$f":"Cen!C100","v":"ZN"},null,{"$f":"Cen!F100","v":469.5},0]
[null,"AM630S","65 kg",null,null,null,null,null,null,null,null,null,null,null,null,{"$f":"Cen!A101","v":"Korpusové lišty 500mm, BLUMOTION, 65kg"},{"$f":"Cen!B101","v":"576.5001B"},{"$f":"Cen!C101","v":"ZN"},null,{"$f":"Cen!F101","v":620.4},0]
[null,null,null,null,null,null,null,null,null,null,null,null,null,null,null,{"$f":"Cen!A102","v":"Korpusové lišty 550mm, BLUMOTION, 30kg"},{"$f":"Cen!B102","v":"578.5501B"},{"$f":"Cen!C102","v":"ZN"},null,{"$f":"Cen!F102","v":493.5},0]
[null,null,null,null,null,null,null,null,null,null,null,null,null,null,null,{"$f":"Cen!A103","v":"Korpusové lišty 550mm, BLUMOTION, 65kg"},{"$f":"Cen!B103","v":"576.5501B"},{"$f":"Cen!C103","v":"ZN"},null,{"$f":"Cen!F103","v":644.29999999999995},0]
[null,null,null,null,null,null,null,null,null,null,null,null,null,null,null,{"$f":"Cen!A104","v":"Korpusové lišty 600mm, BLUMOTION, 30kg"},{"$f":"Cen!B104","v":"578.6001B"},{"$f":"Cen!C104","v":"ZN"},null,{"$f":"Cen!F104","v":523.9},0]
[null,null,null,null,null,null,null,null,null,null,null,null,null,null,null,{"$f":"Cen!A105","v":"Korpusové lišty 600mm, BLUMOTION, 65kg"},{"$f":"Cen!B105","v":"576.6001B"},{"$f":"Cen!C105","v":"ZN"},{"$f":"$K$20","v":0},{"$f":"Cen!F105","v":661.1},0]
[null,null,null,null,null,null,null,null,null,null,null,null,null,null,null,{"$f":"Cen!A106","v":"Korpusové lišty 650mm, BLUMOTION, 65kg"},{"$f":"Cen!B106","v":"576.6501B"},{"$f":"Cen!C106","v":"ZN"},{"$f":"$L$20","v":0},{"$f":"Cen!F106","v":751.2},0]
[]
[null,null,null,null,null,null,null,null,null,null,null,null,null,null,null,{"$f":"Cen!A349","v":"Držáky zadní stěny M SPACE-CORNER, šedé"},{"$f":"Cen!B349","v":"Z30M000S.45"},{"$f":"Cen!C349","v":"R906"},{"$f":"SUM($S$3:$S$11)","v":0},{"$f":"Cen!F349","v":69.5},{"$f":"S27*T27","v":0}]
[null,null,null,null,null,null,null,null,null,null,null,null,null,null,null,{"$f":"Cen!A353","v":"Držáky zadní stěny D SPACE-CORNER, šedé"},{"$f":"Cen!B353","v":"Z30D000SL45"},{"$f":"Cen!C353","v":"R906"},null,{"$f":"Cen!F353","v":112.1},{"$f":"S28*T28","v":0}]
[]
[null,null,null,null,null,null,null,null,null,null,null,null,null,null,null,{"$f":"Cen!A343","v":"Sada kování SYNCROMOTION, M, šedá"},{"$f":"Cen!B343","v":"Z33M00E0A6"},{"$f":"Cen!C343","v":"R737"},{"$f":"SUM($S$3:$S$11)","v":0},{"$f":"Cen!F343","v":1051.7},{"$f":"S30*T30","v":0}]
[null,null,null,null,null,null,null,null,null,null,null,null,null,null,null,{"$f":"Cen!A346","v":"Sada kování SYNCROMOTION, D, šedá"},{"$f":"Cen!B346","v":"Z33D00E0A6"},{"$f":"Cen!C346","v":"R737"},null,{"$f":"Cen!F346","v":1414.4},{"$f":"S31*T31","v":0}]
[]
[]
[]
[]
[]
[]
[]
[]
[]
[]
[]
[]
[]
[]
[]
[]
[]
[]
[]
[]
[]
[]
[]
[]
[]
[]
[]
[]
[null,null,null,null,null,null,null,null,null,null,null,null,null,null,null,null,null,null,null,null,{"$f":"SUM(U3:U58)","v":0}]

{"sheet":"AD535SG","index":20,"n_rows":60,"n_cols":21,"rows_kept":60,"cut":false,"hidden":false,"merged":[]}
[]
[null,null,null,null,null,null,null,null,null,null,null,{"$f":"List!$B$48&\" SPACE CORNER \"&List!$B$67&\" - D\"","v":"Čelní výsuv SPACE CORNER se SYNCROMOTION - D"},null,null,null,"Počty zásuvek →",{"$f":"SUM(D19:K19)","v":0},{"$f":"SUM(H20:L20)","v":0},{"$f":"SUM(D25:K25)","v":0},{"$f":"SUM(H26:L26)","v":0}]
[null,null,null,null,null,null,null,null,null,null,null,{"$f":"List!$B$62","v":"zásuvný prvek sklo"},null,{"$f":"List!$B$11&\":\"","v":"Zpět na:"},null,{"$f":"Cen!A28","v":"Bočnice M 270mm, šedé"},{"$f":"Cen!B28","v":"378M2702SA"},{"$f":"Cen!C28","v":"R906"},null,{"$f":"Cen!F28","v":350.6},{"$f":"S3*T3","v":0}]
[null,null,null,null,null,null,null,null,{"$f":"List!$B$72&\":\"","v":"bočnice:"},null,"M 650 mm",null,null,{"$f":"\" \"&List!$B$13","v":" Úvod"},null,{"$f":"Cen!A32","v":"Bočnice M 300mm, šedé"},{"$f":"Cen!B32","v":"378M3002SA"},{"$f":"Cen!C32","v":"R906"},null,{"$f":"Cen!F32","v":350.6},0]
[null,null,null,null,null,null,null,null,{"$f":"List!$B$27&\":\"","v":"barva:"},null,{"$f":"Form!$O$2","v":"šedá"},null,null,{"$f":"\" \"&List!$B$4","v":" Výběr zásuvek a výsuvů"},null,{"$f":"Cen!A36","v":"Bočnice M 350mm, šedé"},{"$f":"Cen!B36","v":"378M3502SA"},{"$f":"Cen!C36","v":"R906"},null,{"$f":"Cen!F36","v":350.6},0]
[null,null,null,null,null,null,null,null,{"$f":"List!$B$32&\":\"","v":"sklo:"},null,{"$f":"Form!$O$8","v":"čiré"},null,null,null,null,{"$f":"Cen!A40","v":"Bočnice M 400mm, šedé"},{"$f":"Cen!B40","v":"378M4002SA"},{"$f":"Cen!C40","v":"R906"},null,{"$f":"Cen!F40","v":354.3},0]
[null,null,null,null,null,null,null,null,{"$f":"List!$B$36&\":\"","v":"čelní kování:"},null,"SYNCROMOTION",null,null,{"$f":"List!$B$12&\":\"","v":"Pokračovat na:"},null,{"$f":"Cen!A44","v":"Bočnice M 450mm, šedé"},{"$f":"Cen!B44","v":"378M4502SA"},{"$f":"Cen!C44","v":"R906"},null,{"$f":"Cen!F44","v":358.1},0]
[null,null,null,null,null,null,null,null,null,null,null,null,null,{"$f":"\" \"&List!$B$5","v":" Výběr doplňků"},null,{"$f":"Cen!A48","v":"Bočnice M 500mm, šedé"},{"$f":"Cen!B48","v":"378M5002SA"},{"$f":"Cen!C48","v":"R906"},null,{"$f":"Cen!F48","v":397.4},0]
[null,null,null,null,null,null,null,null,null,null,null,null,null,{"$f":"\" \"&List!$B$6","v":" Výběr SERVO-DRIVE"},null,{"$f":"Cen!A52","v":"Bočnice M 550mm, šedé"},{"$f":"Cen!B52","v":"378M5502SA"},{"$f":"Cen!C52","v":"R906"},null,{"$f":"Cen!F52","v":399.2},0]
[null,null,null,null,null,null,null,null,null,null,null,null,null,{"$f":"\" \"&List!$B$7","v":" Výběr ORGA-LINE"},null,{"$f":"Cen!A56","v":"Bočnice M 600mm, šedé"},{"$f":"Cen!B56","v":"378M6002SA"},{"$f":"Cen!C56","v":"R906"},{"$f":"SUM($K$19:$K$20)","v":0},{"$f":"Cen!F56","v":508.3},0]
[null,null,null,null,null,null,null,null,null,null,null,null,null,{"$f":"\" \"&List!$B$18","v":" Souhrn"},null,{"$f":"Cen!A60","v":"Bočnice M 650mm, šedé"},{"$f":"Cen!B60","v":"378M6502SA"},{"$f":"Cen!C60","v":"R906"},{"$f":"$L$20","v":0},{"$f":"Cen!F60","v":536.29999999999995},0]
[]
[null,null,null,null,null,null,null,null,null,null,null,null,null,null,null,{"$f":"Cen!A94","v":"Korpusové lišty 270mm, BLUMOTION, 30kg"},{"$f":"Cen!B94","v":"578.2701B"},{"$f":"Cen!C94","v":"ZN"},null,{"$f":"Cen!F94","v":459.2},0]
[null,null,null,null,null,null,null,null,null,null,null,null,null,null,null,{"$f":"Cen!A95","v":"Korpusové lišty 300mm, BLUMOTION, 30kg"},{"$f":"Cen!B95","v":"578.3001B"},{"$f":"Cen!C95","v":"ZN"},null,{"$f":"Cen!F95","v":459.2},0]
[null,null,null,null,null,null,null,null,null,null,null,null,null,null,null,{"$f":"Cen!A96","v":"Korpusové lišty 350mm, BLUMOTION, 30kg"},{"$f":"Cen!B96","v":"578.3501B"},{"$f":"Cen!C96","v":"ZN"},null,{"$f":"Cen!F96","v":459.2},0]
[null,null,null,null,null,null,null,null,null,null,null,null,null,null,null,{"$f":"Cen!A97","v":"Korpusové lišty 400mm, BLUMOTION, 30kg"},{"$f":"Cen!B97","v":"578.4001B"},{"$f":"Cen!C97","v":"ZN"},null,{"$f":"Cen!F97","v":462.6},0]
[null,"BLUMOTION",null,null,null,null,null,null,null,null,null,null,null,null,null,{"$f":"Cen!A98","v":"Korpusové lišty 450mm, BLUMOTION, 30kg"},{"$f":"Cen!B98","v":"578.4501B"},{"$f":"Cen!C98","v":"ZN"},null,{"$f":"Cen!F98","v":466},0]
[null,null,{"$f":"List!$B$45&\":\"","v":"Jmenovitá délka:"},null,null,null,null,null,null,null,"600 mm","650 mm",null,null,null,{"$f":"Cen!A99","v":"Korpusové lišty 450mm, BLUMOTION, 65kg"},{"$f":"Cen!B99","v":"576.4501B"},{"$f":"Cen!C99","v":"ZN"},null,{"$f":"Cen!F99","v":560.79999999999995},0]
[null,null,"30 kg",null,null,null,null,null,null,null,null,null,null,null,null,{"$f":"Cen!A100","v":"Korpusové lišty 500mm, BLUMOTION, 30kg"},{"$f":"Cen!B100","v":"578.5001B"},{"$f":"Cen!C100","v":"ZN"},null,{"$f":"Cen!F100","v":469.5},0]
[null,"AD653SG","65 kg",null,null,null,null,null,null,null,null,null,null,null,null,{"$f":"Cen!A101","v":"Korpusové lišty 500mm, BLUMOTION, 65kg"},{"$f":"Cen!B101","v":"576.5001B"},{"$f":"Cen!C101","v":"ZN"},null,{"$f":"Cen!F101","v":620.4},0]
[null,null,null,null,null,null,null,null,null,null,null,null,null,null,null,{"$f":"Cen!A102","v":"Korpusové lišty 550mm, BLUMOTION, 30kg"},{"$f":"Cen!B102","v":"578.5501B"},{"$f":"Cen!C102","v":"ZN"},null,{"$f":"Cen!F102","v":493.5},0]
[null,null,null,null,null,null,null,null,null,null,null,null,null,null,null,{"$f":"Cen!A103","v":"Korpusové lišty 550mm, BLUMOTION, 65kg"},{"$f":"Cen!B103","v":"576.5501B"},{"$f":"Cen!C103","v":"ZN"},null,{"$f":"Cen!F103","v":644.29999999999995},0]
[null,null,null,null,null,null,null,null,null,null,null,null,null,null,null,{"$f":"Cen!A104","v":"Korpusové lišty 600mm, BLUMOTION, 30kg"},{"$f":"Cen!B104","v":"578.6001B"},{"$f":"Cen!C104","v":"ZN"},null,{"$f":"Cen!F104","v":523.9},0]
[null,null,null,null,null,null,null,null,null,null,null,null,null,null,null,{"$f":"Cen!A105","v":"Korpusové lišty 600mm, BLUMOTION, 65kg"},{"$f":"Cen!B105","v":"576.6001B"},{"$f":"Cen!C105","v":"ZN"},{"$f":"$K$20","v":0},{"$f":"Cen!F105","v":661.1},0]
[null,null,null,null,null,null,null,null,null,null,null,null,null,null,null,{"$f":"Cen!A106","v":"Korpusové lišty 650mm, BLUMOTION, 65kg"},{"$f":"Cen!B106","v":"576.6501B"},{"$f":"Cen!C106","v":"ZN"},{"$f":"$L$20","v":0},{"$f":"Cen!F106","v":751.2},0]
[]
[null,null,null,null,null,null,null,null,null,null,null,null,null,null,null,{"$f":"Cen!A349","v":"Držáky zadní stěny M SPACE-CORNER, šedé"},{"$f":"Cen!B349","v":"Z30M000S.45"},{"$f":"Cen!C349","v":"R906"},null,{"$f":"Cen!F349","v":69.5},{"$f":"S27*T27","v":0}]
[null,null,null,null,null,null,null,null,null,null,null,null,null,null,null,{"$f":"Cen!A353","v":"Držáky zadní stěny D SPACE-CORNER, šedé"},{"$f":"Cen!B353","v":"Z30D000SL45"},{"$f":"Cen!C353","v":"R906"},{"$f":"SUM($S$3:$S$11)","v":0},{"$f":"Cen!F353","v":112.1},{"$f":"S28*T28","v":0}]
[]
[null,null,null,null,null,null,null,null,null,null,null,null,null,null,null,{"$f":"Cen!A343","v":"Sada kování SYNCROMOTION, M, šedá"},{"$f":"Cen!B343","v":"Z33M00E0A6"},{"$f":"Cen!C343","v":"R737"},null,{"$f":"Cen!F343","v":1051.7},{"$f":"S30*T30","v":0}]
[null,null,null,null,null,null,null,null,null,null,null,null,null,null,null,{"$f":"Cen!A346","v":"Sada kování SYNCROMOTION, D, šedá"},{"$f":"Cen!B346","v":"Z33D00E0A6"},{"$f":"Cen!C346","v":"R737"},{"$f":"SUM($S$3:$S$11)","v":0},{"$f":"Cen!F346","v":1414.4},{"$f":"S31*T31","v":0}]
[]
[]
[]
[]
[]
[]
[]
[]
[]
[null,null,null,null,null,null,null,null,null,null,null,null,null,null,null,{"$f":"Cen!A243","v":"Podélný reling vlevo/vpravo, 600mm, šedý"},{"$f":"Cen!B243","v":"ZRG.537RSIC"},{"$f":"Cen!C243","v":"R906"},{"$f":"S10","v":0},{"$f":"Cen!F243","v":176.3},{"$f":"S41*T41","v":0}]
[null,null,null,null,null,null,null,null,null,null,null,null,null,null,null,{"$f":"Cen!A247","v":"Podélný reling vlevo/vpravo, 650mm, šedý"},{"$f":"Cen!B247","v":"ZRG.587RSIC"},{"$f":"Cen!C247","v":"R906"},{"$f":"S11","v":0},{"$f":"Cen!F247","v":183.2},{"$f":"S42*T42","v":0}]
[]
[null,null,null,null,null,null,null,null,null,null,null,null,null,null,null,{"$f":"Cen!A328","v":"Sada držáků zásuvného prvku D, bílošedá"},{"$f":"Cen!B328","v":"Z36D0080"},{"$f":"Cen!C328","v":"WGR"},{"$f":"SUM($S$3:$S$11)","v":0},{"$f":"Cen!F328","v":63.3},{"$f":"S44*T44","v":0}]
[]
[]
[]
[]
[]
[]
[]
[]
[null,null,null,null,null,null,null,null,null,null,null,null,null,null,null,{"$f":"Cen!A268","v":"Zásuvný prvek D, 600mm, čiré sko"},{"$f":"Cen!B268","v":"Z37R567D"},{"$f":"Cen!C268","v":"KL"},{"$f":"S10","v":0},{"$f":"Cen!F268","v":358.8},{"$f":"S53*T53","v":0}]
[null,null,null,null,null,null,null,null,null,null,null,null,null,null,null,{"$f":"Cen!A270","v":"Zásuvný prvek D, 650mm, čiré sko"},{"$f":"Cen!B270","v":"Z37R617D"},{"$f":"Cen!C270","v":"KL"},{"$f":"S11","v":0},{"$f":"Cen!F270","v":378.7},{"$f":"S54*T54","v":0}]
[]
[]
[]
[]
[]
[null,null,null,null,null,null,null,null,null,null,null,null,null,null,null,null,null,null,null,null,{"$f":"SUM(U3:U58)","v":0}]

{"sheet":"AD535SM","index":21,"n_rows":104,"n_cols":22,"rows_kept":104,"cut":false,"hidden":false,"merged":[]}
[]
[null,null,null,null,null,null,null,null,null,null,null,{"$f":"List!$B$48&\" SPACE CORNER \"&List!$B$67&\" - D\"","v":"Čelní výsuv SPACE CORNER se SYNCROMOTION - D"},null,null,null,"Počty zásuvek →",{"$f":"SUM(D19:K19)","v":0},{"$f":"SUM(H20:L20)","v":0},{"$f":"SUM(D25:K25)","v":0},{"$f":"SUM(H26:L26)","v":0},{"$f":"Form!N2","v":1},"←barva"]
[null,null,null,null,null,null,null,null,null,null,null,{"$f":"List!$B$63","v":"kovový zásuvný prvek"},null,{"$f":"List!$B$11&\":\"","v":"Zpět na:"},null,{"$f":"Cen!A28","v":"Bočnice M 270mm, šedé"},{"$f":"Cen!B28","v":"378M2702SA"},{"$f":"Cen!C28","v":"R906"},null,{"$f":"Cen!F28","v":350.6},{"$f":"S3*T3","v":0}]
[null,null,null,null,null,null,null,null,{"$f":"List!$B$72&\":\"","v":"bočnice:"},null,"M 650 mm",null,null,{"$f":"\" \"&List!$B$13","v":" Úvod"},null,{"$f":"Cen!A32","v":"Bočnice M 300mm, šedé"},{"$f":"Cen!B32","v":"378M3002SA"},{"$f":"Cen!C32","v":"R906"},null,{"$f":"Cen!F32","v":350.6},0]
[null,null,null,null,null,null,null,null,{"$f":"List!$B$27&\":\"","v":"barva:"},null,{"$f":"Form!$O$2","v":"šedá"},null,null,{"$f":"\" \"&List!$B$4","v":" Výběr zásuvek a výsuvů"},null,{"$f":"Cen!A36","v":"Bočnice M 350mm, šedé"},{"$f":"Cen!B36","v":"378M3502SA"},{"$f":"Cen!C36","v":"R906"},null,{"$f":"Cen!F36","v":350.6},0]
[null,null,null,null,null,null,null,null,null,null,null,null,null,null,null,{"$f":"Cen!A40","v":"Bočnice M 400mm, šedé"},{"$f":"Cen!B40","v":"378M4002SA"},{"$f":"Cen!C40","v":"R906"},null,{"$f":"Cen!F40","v":354.3},0]
[null,null,null,null,null,null,null,null,{"$f":"List!$B$36&\":\"","v":"čelní kování:"},null,"SYNCROMOTION",null,null,{"$f":"List!$B$12&\":\"","v":"Pokračovat na:"},null,{"$f":"Cen!A44","v":"Bočnice M 450mm, šedé"},{"$f":"Cen!B44","v":"378M4502SA"},{"$f":"Cen!C44","v":"R906"},null,{"$f":"Cen!F44","v":358.1},0]
[null,null,null,null,null,null,null,null,null,null,null,null,null,{"$f":"\" \"&List!$B$5","v":" Výběr doplňků"},null,{"$f":"Cen!A48","v":"Bočnice M 500mm, šedé"},{"$f":"Cen!B48","v":"378M5002SA"},{"$f":"Cen!C48","v":"R906"},null,{"$f":"Cen!F48","v":397.4},0]
[null,null,null,null,null,null,null,null,null,null,null,null,null,{"$f":"\" \"&List!$B$6","v":" Výběr SERVO-DRIVE"},null,{"$f":"Cen!A52","v":"Bočnice M 550mm, šedé"},{"$f":"Cen!B52","v":"378M5502SA"},{"$f":"Cen!C52","v":"R906"},null,{"$f":"Cen!F52","v":399.2},0]
[null,null,null,null,null,null,null,null,null,null,null,null,null,{"$f":"\" \"&List!$B$7","v":" Výběr ORGA-LINE"},null,{"$f":"Cen!A56","v":"Bočnice M 600mm, šedé"},{"$f":"Cen!B56","v":"378M6002SA"},{"$f":"Cen!C56","v":"R906"},{"$f":"IF($U$2=4, 0, SUM($K$19:$K$20))","v":0},{"$f":"Cen!F56","v":508.3},0]
[null,null,null,null,null,null,null,null,null,null,null,null,null,{"$f":"\" \"&List!$B$18","v":" Souhrn"},null,{"$f":"Cen!A60","v":"Bočnice M 650mm, šedé"},{"$f":"Cen!B60","v":"378M6502SA"},{"$f":"Cen!C60","v":"R906"},{"$f":"IF($U$2=4, 0, $L$20)","v":0},{"$f":"Cen!F60","v":536.29999999999995},0]
[]
[null,null,null,null,null,null,null,null,null,null,null,null,null,null,null,{"$f":"Cen!A94","v":"Korpusové lišty 270mm, BLUMOTION, 30kg"},{"$f":"Cen!B94","v":"578.2701B"},{"$f":"Cen!C94","v":"ZN"},null,{"$f":"Cen!F94","v":459.2},0]
[null,null,null,null,null,null,{"$f":"IF($U$2=4, P103, \" \")","v":" "},null,null,null,null,null,null,null,null,{"$f":"Cen!A95","v":"Korpusové lišty 300mm, BLUMOTION, 30kg"},{"$f":"Cen!B95","v":"578.3001B"},{"$f":"Cen!C95","v":"ZN"},null,{"$f":"Cen!F95","v":459.2},0]
[null,null,null,null,null,null,{"$f":"IF($U$2=4, P104, \" \")","v":" "},null,null,null,null,null,null,null,null,{"$f":"Cen!A96","v":"Korpusové lišty 350mm, BLUMOTION, 30kg"},{"$f":"Cen!B96","v":"578.3501B"},{"$f":"Cen!C96","v":"ZN"},null,{"$f":"Cen!F96","v":459.2},0]
[null,null,null,null,null,null,null,null,null,null,null,null,null,null,null,{"$f":"Cen!A97","v":"Korpusové lišty 400mm, BLUMOTION, 30kg"},{"$f":"Cen!B97","v":"578.4001B"},{"$f":"Cen!C97","v":"ZN"},null,{"$f":"Cen!F97","v":462.6},0]
[null,"BLUMOTION",null,null,null,null,null,null,null,null,null,null,null,null,null,{"$f":"Cen!A98","v":"Korpusové lišty 450mm, BLUMOTION, 30kg"},{"$f":"Cen!B98","v":"578.4501B"},{"$f":"Cen!C98","v":"ZN"},null,{"$f":"Cen!F98","v":466},0]
[null,null,{"$f":"List!$B$45&\":\"","v":"Jmenovitá délka:"},null,null,null,null,null,null,null,"600 mm","650 mm",null,null,null,{"$f":"Cen!A99","v":"Korpusové lišty 450mm, BLUMOTION, 65kg"},{"$f":"Cen!B99","v":"576.4501B"},{"$f":"Cen!C99","v":"ZN"},null,{"$f":"Cen!F99","v":560.79999999999995},0]
[null,null,"30 kg",null,null,null,null,null,null,null,null,null,null,null,null,{"$f":"Cen!A100","v":"Korpusové lišty 500mm, BLUMOTION, 30kg"},{"$f":"Cen!B100","v":"578.5001B"},{"$f":"Cen!C100","v":"ZN"},null,{"$f":"Cen!F100","v":469.5},0]
[null,"AD653SS","65 kg",null,null,null,null,null,null,null,null,null,null,null,null,{"$f":"Cen!A101","v":"Korpusové lišty 500mm, BLUMOTION, 65kg"},{"$f":"Cen!B101","v":"576.5001B"},{"$f":"Cen!C101","v":"ZN"},null,{"$f":"Cen!F101","v":620.4},0]
[null,null,null,null,null,null,null,null,null,null,null,null,null,null,null,{"$f":"Cen!A102","v":"Korpusové lišty 550mm, BLUMOTION, 30kg"},{"$f":"Cen!B102","v":"578.5501B"},{"$f":"Cen!C102","v":"ZN"},null,{"$f":"Cen!F102","v":493.5},0]
[null,null,null,null,null,null,null,null,null,null,null,null,null,null,null,{"$f":"Cen!A103","v":"Korpusové lišty 550mm, BLUMOTION, 65kg"},{"$f":"Cen!B103","v":"576.5501B"},{"$f":"Cen!C103","v":"ZN"},null,{"$f":"Cen!F103","v":644.29999999999995},0]
[null,null,null,null,null,null,null,null,null,null,null,null,null,null,null,{"$f":"Cen!A104","v":"Korpusové lišty 600mm, BLUMOTION, 30kg"},{"$f":"Cen!B104","v":"578.6001B"},{"$f":"Cen!C104","v":"ZN"},null,{"$f":"Cen!F104","v":523.9},0]
[null,null,null,null,null,null,null,null,null,null,null,null,null,null,null,{"$f":"Cen!A105","v":"Korpusové lišty 600mm, BLUMOTION, 65kg"},{"$f":"Cen!B105","v":"576.6001B"},{"$f":"Cen!C105","v":"ZN"},{"$f":"IF($U$2=4, 0, $K$20)","v":0},{"$f":"Cen!F105","v":661.1},0]
[null,null,null,null,null,null,null,null,null,null,null,null,null,null,null,{"$f":"Cen!A106","v":"Korpusové lišty 650mm, BLUMOTION, 65kg"},{"$f":"Cen!B106","v":"576.6501B"},{"$f":"Cen!C106","v":"ZN"},{"$f":"IF($U$2=4, 0, $L$20)","v":0},{"$f":"Cen!F106","v":751.2},0]
[]
[null,null,null,null,null,null,null,null,null,null,null,null,null,null,null,{"$f":"Cen!A349","v":"Držáky zadní stěny M SPACE-CORNER, šedé"},{"$f":"Cen!B349","v":"Z30M000S.45"},{"$f":"Cen!C349","v":"R906"},null,{"$f":"Cen!F349","v":69.5},{"$f":"S27*T27","v":0}]
[null,null,null,null,null,null,null,null,null,null,null,null,null,null,null,{"$f":"Cen!A353","v":"Držáky zadní stěny D SPACE-CORNER, šedé"},{"$f":"Cen!B353","v":"Z30D000SL45"},{"$f":"Cen!C353","v":"R906"},{"$f":"SUM($S$3:$S$11)","v":0},{"$f":"Cen!F353","v":112.1},{"$f":"S28*T28","v":0}]
[]
[null,null,null,null,null,null,null,null,null,null,null,null,null,null,null,{"$f":"Cen!A343","v":"Sada kování SYNCROMOTION, M, šedá"},{"$f":"Cen!B343","v":"Z33M00E0A6"},{"$f":"Cen!C343","v":"R737"},null,{"$f":"Cen!F343","v":1051.7},{"$f":"S30*T30","v":0}]
[null,null,null,null,null,null,null,null,null,null,null,null,null,null,null,{"$f":"Cen!A346","v":"Sada kování SYNCROMOTION, D, šedá"},{"$f":"Cen!B346","v":"Z33D00E0A6"},{"$f":"Cen!C346","v":"R737"},{"$f":"SUM($S$3:$S$11)","v":0},{"$f":"Cen!F346","v":1414.4},{"$f":"S31*T31","v":0}]
[]
[]
[]
[]
[]
[]
[]
[]
[]
[null,null,null,null,null,null,null,null,null,null,null,null,null,null,null,{"$f":"Cen!A243","v":"Podélný reling vlevo/vpravo, 600mm, šedý"},{"$f":"Cen!B243","v":"ZRG.537RSIC"},{"$f":"Cen!C243","v":"R906"},{"$f":"S10","v":0},{"$f":"Cen!F243","v":176.3},{"$f":"S41*T41","v":0}]
[null,null,null,null,null,null,null,null,null,null,null,null,null,null,null,{"$f":"Cen!A247","v":"Podélný reling vlevo/vpravo, 650mm, šedý"},{"$f":"Cen!B247","v":"ZRG.587RSIC"},{"$f":"Cen!C247","v":"R906"},{"$f":"S11","v":0},{"$f":"Cen!F247","v":183.2},{"$f":"S42*T42","v":0}]
[]
[null,null,null,null,null,null,null,null,null,null,null,null,null,null,null,{"$f":"Cen!A328","v":"Sada držáků zásuvného prvku D, bílošedá"},{"$f":"Cen!B328","v":"Z36D0080"},{"$f":"Cen!C328","v":"WGR"},{"$f":"SUM($S$3:$S$11)","v":0},{"$f":"Cen!F328","v":63.3},{"$f":"S44*T44","v":0}]
[]
[]
[]
[]
[]
[]
[]
[]
[null,null,null,null,null,null,null,null,null,null,null,null,null,null,null,{"$f":"Cen!A301","v":0},{"$f":"Cen!B301","v":0},{"$f":"Cen!C301","v":0},null,{"$f":"Cen!F301","v":0},{"$f":"S53*T53","v":0}]
[null,null,null,null,null,null,null,null,null,null,null,null,null,null,null,{"$f":"Cen!A304","v":"Kovový zásuvný prvek D, 650mm, šedý"},{"$f":"Cen!B304","v":"Z37A617D"},{"$f":"Cen!C304","v":"R906"},{"$f":"SUM(S10,S11)*2","v":0},{"$f":"Cen!F304","v":204},{"$f":"S54*T54","v":0}]
[]
[]
[]
[]
[]
[null,null,null,null,null,null,null,null,null,null,null,null,null,null,null,null,null,null,null,null,{"$f":"SUM(U3:U58)","v":0}]
[]
[]
[]
[]
[]
[]
[]
[]
[]
[]
[]
[]
[]
[]
[]
[]
[]
[]
[]
[]
[]
[]
[]
[]
[]
[]
[]
[]
[]
[]
[]
[]
[]
[]
[]
[]
[]
[]
[]
[]
[]
[]
[null,null,null,null,null,null,null,null,null,null,null,null,null,null,null,{"$f":"List!$B$289&\"!\"","v":"Kovové zásuvné prvky pro nerez (Inox) se nevyrábí!"}]
[null,null,null,null,null,null,null,null,null,null,null,null,null,null,null,{"$f":"List!$B$290&\"!\"","v":"Kování naplánované na tomto listu se neprojeví v objednávce!"}]

{"sheet":"AD535SR","index":22,"n_rows":60,"n_cols":21,"rows_kept":60,"cut":false,"hidden":false,"merged":[]}
[]
[null,null,null,null,null,null,null,null,null,null,null,{"$f":"List!$B$48&\" SPACE CORNER \"&List!$B$67&\" - D\"","v":"Čelní výsuv SPACE CORNER se SYNCROMOTION - D"},null,null,null,"Počty zásuvek →",{"$f":"SUM(D19:K19)","v":0},{"$f":"SUM(H20:L20)","v":0},{"$f":"SUM(D25:K25)","v":0},{"$f":"SUM(H26:L26)","v":0}]
[null,null,null,null,null,null,null,null,null,null,null,{"$f":"List!$B$64","v":"podélný reling"},null,{"$f":"List!$B$11&\":\"","v":"Zpět na:"},null,{"$f":"Cen!A28","v":"Bočnice M 270mm, šedé"},{"$f":"Cen!B28","v":"378M2702SA"},{"$f":"Cen!C28","v":"R906"},null,{"$f":"Cen!F28","v":350.6},{"$f":"S3*T3","v":0}]
[null,null,null,null,null,null,null,null,{"$f":"List!$B$72&\":\"","v":"bočnice:"},null,"M 650 mm",null,null,{"$f":"\" \"&List!$B$13","v":" Úvod"},null,{"$f":"Cen!A32","v":"Bočnice M 300mm, šedé"},{"$f":"Cen!B32","v":"378M3002SA"},{"$f":"Cen!C32","v":"R906"},null,{"$f":"Cen!F32","v":350.6},0]
[null,null,null,null,null,null,null,null,{"$f":"List!$B$27&\":\"","v":"barva:"},null,{"$f":"Form!$O$2","v":"šedá"},null,null,{"$f":"\" \"&List!$B$4","v":" Výběr zásuvek a výsuvů"},null,{"$f":"Cen!A36","v":"Bočnice M 350mm, šedé"},{"$f":"Cen!B36","v":"378M3502SA"},{"$f":"Cen!C36","v":"R906"},null,{"$f":"Cen!F36","v":350.6},0]
[null,null,null,null,null,null,null,null,null,null,null,null,null,null,null,{"$f":"Cen!A40","v":"Bočnice M 400mm, šedé"},{"$f":"Cen!B40","v":"378M4002SA"},{"$f":"Cen!C40","v":"R906"},null,{"$f":"Cen!F40","v":354.3},0]
[null,null,null,null,null,null,null,null,{"$f":"List!$B$36&\":\"","v":"čelní kování:"},null,"SYNCROMOTION",null,null,{"$f":"List!$B$12&\":\"","v":"Pokračovat na:"},null,{"$f":"Cen!A44","v":"Bočnice M 450mm, šedé"},{"$f":"Cen!B44","v":"378M4502SA"},{"$f":"Cen!C44","v":"R906"},null,{"$f":"Cen!F44","v":358.1},0]
[null,null,null,null,null,null,null,null,null,null,null,null,null,{"$f":"\" \"&List!$B$5","v":" Výběr doplňků"},null,{"$f":"Cen!A48","v":"Bočnice M 500mm, šedé"},{"$f":"Cen!B48","v":"378M5002SA"},{"$f":"Cen!C48","v":"R906"},null,{"$f":"Cen!F48","v":397.4},0]
[null,null,null,null,null,null,null,null,null,null,null,null,null,{"$f":"\" \"&List!$B$6","v":" Výběr SERVO-DRIVE"},null,{"$f":"Cen!A52","v":"Bočnice M 550mm, šedé"},{"$f":"Cen!B52","v":"378M5502SA"},{"$f":"Cen!C52","v":"R906"},null,{"$f":"Cen!F52","v":399.2},0]
[null,null,null,null,null,null,null,null,null,null,null,null,null,{"$f":"\" \"&List!$B$7","v":" Výběr ORGA-LINE"},null,{"$f":"Cen!A56","v":"Bočnice M 600mm, šedé"},{"$f":"Cen!B56","v":"378M6002SA"},{"$f":"Cen!C56","v":"R906"},{"$f":"SUM($K$19:$K$20)","v":0},{"$f":"Cen!F56","v":508.3},0]
[null,null,null,null,null,null,null,null,null,null,null,null,null,{"$f":"\" \"&List!$B$18","v":" Souhrn"},null,{"$f":"Cen!A60","v":"Bočnice M 650mm, šedé"},{"$f":"Cen!B60","v":"378M6502SA"},{"$f":"Cen!C60","v":"R906"},{"$f":"$L$20","v":0},{"$f":"Cen!F60","v":536.29999999999995},0]
[]
[null,null,null,null,null,null,null,null,null,null,null,null,null,null,null,{"$f":"Cen!A94","v":"Korpusové lišty 270mm, BLUMOTION, 30kg"},{"$f":"Cen!B94","v":"578.2701B"},{"$f":"Cen!C94","v":"ZN"},null,{"$f":"Cen!F94","v":459.2},0]
[null,null,null,null,null,null,null,null,null,null,null,null,null,null,null,{"$f":"Cen!A95","v":"Korpusové lišty 300mm, BLUMOTION, 30kg"},{"$f":"Cen!B95","v":"578.3001B"},{"$f":"Cen!C95","v":"ZN"},null,{"$f":"Cen!F95","v":459.2},0]
[null,null,null,null,null,null,null,null,null,null,null,null,null,null,null,{"$f":"Cen!A96","v":"Korpusové lišty 350mm, BLUMOTION, 30kg"},{"$f":"Cen!B96","v":"578.3501B"},{"$f":"Cen!C96","v":"ZN"},null,{"$f":"Cen!F96","v":459.2},0]
[null,null,null,null,null,null,null,null,null,null,null,null,null,null,null,{"$f":"Cen!A97","v":"Korpusové lišty 400mm, BLUMOTION, 30kg"},{"$f":"Cen!B97","v":"578.4001B"},{"$f":"Cen!C97","v":"ZN"},null,{"$f":"Cen!F97","v":462.6},0]
[null,"BLUMOTION",null,null,null,null,null,null,null,null,null,null,null,null,null,{"$f":"Cen!A98","v":"Korpusové lišty 450mm, BLUMOTION, 30kg"},{"$f":"Cen!B98","v":"578.4501B"},{"$f":"Cen!C98","v":"ZN"},null,{"$f":"Cen!F98","v":466},0]
[null,null,{"$f":"List!$B$45&\":\"","v":"Jmenovitá délka:"},null,null,null,null,null,null,null,"600 mm","650 mm",null,null,null,{"$f":"Cen!A99","v":"Korpusové lišty 450mm, BLUMOTION, 65kg"},{"$f":"Cen!B99","v":"576.4501B"},{"$f":"Cen!C99","v":"ZN"},null,{"$f":"Cen!F99","v":560.79999999999995},0]
[null,null,"30 kg",null,null,null,null,null,null,null,null,null,null,null,null,{"$f":"Cen!A100","v":"Korpusové lišty 500mm, BLUMOTION, 30kg"},{"$f":"Cen!B100","v":"578.5001B"},{"$f":"Cen!C100","v":"ZN"},null,{"$f":"Cen!F100","v":469.5},0]
[null,"AD653SR","65 kg",null,null,null,null,null,null,null,null,null,null,null,null,{"$f":"Cen!A101","v":"Korpusové lišty 500mm, BLUMOTION, 65kg"},{"$f":"Cen!B101","v":"576.5001B"},{"$f":"Cen!C101","v":"ZN"},null,{"$f":"Cen!F101","v":620.4},0]
[null,null,null,null,null,null,null,null,null,null,null,null,null,null,null,{"$f":"Cen!A102","v":"Korpusové lišty 550mm, BLUMOTION, 30kg"},{"$f":"Cen!B102","v":"578.5501B"},{"$f":"Cen!C102","v":"ZN"},null,{"$f":"Cen!F102","v":493.5},0]
[null,null,null,null,null,null,null,null,null,null,null,null,null,null,null,{"$f":"Cen!A103","v":"Korpusové lišty 550mm, BLUMOTION, 65kg"},{"$f":"Cen!B103","v":"576.5501B"},{"$f":"Cen!C103","v":"ZN"},null,{"$f":"Cen!F103","v":644.29999999999995},0]
[null,null,null,null,null,null,null,null,null,null,null,null,null,null,null,{"$f":"Cen!A104","v":"Korpusové lišty 600mm, BLUMOTION, 30kg"},{"$f":"Cen!B104","v":"578.6001B"},{"$f":"Cen!C104","v":"ZN"},null,{"$f":"Cen!F104","v":523.9},0]
[null,null,null,null,null,null,null,null,null,null,null,null,null,null,null,{"$f":"Cen!A105","v":"Korpusové lišty 600mm, BLUMOTION, 65kg"},{"$f":"Cen!B105","v":"576.6001B"},{"$f":"Cen!C105","v":"ZN"},{"$f":"$K$20","v":0},{"$f":"Cen!F105","v":661.1},0]
[null,null,null,null,null,null,null,null,null,null,null,null,null,null,null,{"$f":"Cen!A106","v":"Korpusové lišty 650mm, BLUMOTION, 65kg"},{"$f":"Cen!B106","v":"576.6501B"},{"$f":"Cen!C106","v":"ZN"},{"$f":"$L$20","v":0},{"$f":"Cen!F106","v":751.2},0]
[]
[null,null,null,null,null,null,null,null,null,null,null,null,null,null,null,{"$f":"Cen!A349","v":"Držáky zadní stěny M SPACE-CORNER, šedé"},{"$f":"Cen!B349","v":"Z30M000S.45"},{"$f":"Cen!C349","v":"R906"},null,{"$f":"Cen!F349","v":69.5},{"$f":"S27*T27","v":0}]
[null,null,null,null,null,null,null,null,null,null,null,null,null,null,null,{"$f":"Cen!A353","v":"Držáky zadní stěny D SPACE-CORNER, šedé"},{"$f":"Cen!B353","v":"Z30D000SL45"},{"$f":"Cen!C353","v":"R906"},{"$f":"SUM($S$3:$S$11)","v":0},{"$f":"Cen!F353","v":112.1},{"$f":"S28*T28","v":0}]
[]
[null,null,null,null,null,null,null,null,null,null,null,null,null,null,null,{"$f":"Cen!A343","v":"Sada kování SYNCROMOTION, M, šedá"},{"$f":"Cen!B343","v":"Z33M00E0A6"},{"$f":"Cen!C343","v":"R737"},null,{"$f":"Cen!F343","v":1051.7},{"$f":"S30*T30","v":0}]
[null,null,null,null,null,null,null,null,null,null,null,null,null,null,null,{"$f":"Cen!A346","v":"Sada kování SYNCROMOTION, D, šedá"},{"$f":"Cen!B346","v":"Z33D00E0A6"},{"$f":"Cen!C346","v":"R737"},{"$f":"SUM($S$3:$S$11)","v":0},{"$f":"Cen!F346","v":1414.4},{"$f":"S31*T31","v":0}]
[]
[null,{"$f":"List!$B$23&\": *\"","v":"Volitelně: *"}]
[null,{"$f":"Cen!A328","v":"Sada držáků zásuvného prvku D, bílošedá"},null,null,null,null,null,{"$f":"Cen!B328","v":"Z36D0080"},{"$f":"Cen!C328","v":"WGR"}]
[]
[null,{"$f":"\"     * \"&List!$B$148","v":"     * Sada držáků, pro vlastní zásuvný prvek"}]
[null,{"$f":"\"       \"&List!$B$150&\"!\"","v":"       Cena držáků zásuvného prvku není zahrnuta do cen jednotlivých výsuvů!"}]
[]
[]
[]
[null,null,null,null,null,null,null,null,null,null,null,null,null,null,null,{"$f":"Cen!A243","v":"Podélný reling vlevo/vpravo, 600mm, šedý"},{"$f":"Cen!B243","v":"ZRG.537RSIC"},{"$f":"Cen!C243","v":"R906"},{"$f":"S10","v":0},{"$f":"Cen!F243","v":176.3},{"$f":"S41*T41","v":0}]
[null,null,null,null,null,null,null,null,null,null,null,null,null,null,null,{"$f":"Cen!A247","v":"Podélný reling vlevo/vpravo, 650mm, šedý"},{"$f":"Cen!B247","v":"ZRG.587RSIC"},{"$f":"Cen!C247","v":"R906"},{"$f":"S11","v":0},{"$f":"Cen!F247","v":183.2},{"$f":"S42*T42","v":0}]
[]
[null,null,null,null,null,null,null,null,null,null,null,null,null,null,null,{"$f":"Cen!A328","v":"Sada držáků zásuvného prvku D, bílošedá"},{"$f":"Cen!B328","v":"Z36D0080"},{"$f":"Cen!C328","v":"WGR"},{"$f":"$J$34","v":0},{"$f":"Cen!F328","v":63.3},{"$f":"S44*T44","v":0}]
[]
[]
[]
[]
[]
[]
[]
[]
[]
[]
[]
[]
[]
[]
[]
[null,null,null,null,null,null,null,null,null,null,null,null,null,null,null,null,null,null,null,null,{"$f":"SUM(U3:U58)","v":0}]

{"sheet":"AM530","index":23,"n_rows":60,"n_cols":21,"rows_kept":60,"cut":false,"hidden":false,"merged":[]}
[]
[null,null,null,null,null,null,null,null,null,null,null,{"$f":"List!$B$46&\" SPACE CORNER \"&List!$B$68&\" - M\"","v":"Zásuvka SPACE CORNER s nehybnými čely - M"},null,null,null,"Počty zásuvek →",{"$f":"SUM(D19:K19)","v":0},{"$f":"SUM(H20:L20)","v":0},{"$f":"SUM(D25:K25)","v":0},{"$f":"SUM(H26:L26)","v":0}]
[null,null,null,null,null,null,null,null,null,null,null,null,null,{"$f":"List!$B$11&\":\"","v":"Zpět na:"},null,{"$f":"Cen!A28","v":"Bočnice M 270mm, šedé"},{"$f":"Cen!B28","v":"378M2702SA"},{"$f":"Cen!C28","v":"R906"},null,{"$f":"Cen!F28","v":350.6},{"$f":"S3*T3","v":0}]
[null,null,null,null,null,null,null,null,{"$f":"List!$B$72&\":\"","v":"bočnice:"},null,"M 650 mm",null,null,{"$f":"\" \"&List!$B$13","v":" Úvod"},null,{"$f":"Cen!A32","v":"Bočnice M 300mm, šedé"},{"$f":"Cen!B32","v":"378M3002SA"},{"$f":"Cen!C32","v":"R906"},null,{"$f":"Cen!F32","v":350.6},0]
[null,null,null,null,null,null,null,null,{"$f":"List!$B$27&\":\"","v":"barva:"},null,{"$f":"Form!$O$2","v":"šedá"},null,null,{"$f":"\" \"&List!$B$4","v":" Výběr zásuvek a výsuvů"},null,{"$f":"Cen!A36","v":"Bočnice M 350mm, šedé"},{"$f":"Cen!B36","v":"378M3502SA"},{"$f":"Cen!C36","v":"R906"},null,{"$f":"Cen!F36","v":350.6},0]
[null,null,null,null,null,null,null,null,null,null,null,null,null,null,null,{"$f":"Cen!A40","v":"Bočnice M 400mm, šedé"},{"$f":"Cen!B40","v":"378M4002SA"},{"$f":"Cen!C40","v":"R906"},null,{"$f":"Cen!F40","v":354.3},0]
[null,null,null,null,null,null,null,null,{"$f":"List!$B$36&\":\"","v":"čelní kování:"},null,{"$f":"List!B68","v":"s nehybnými čely"},null,null,{"$f":"List!$B$12&\":\"","v":"Pokračovat na:"},null,{"$f":"Cen!A44","v":"Bočnice M 450mm, šedé"},{"$f":"Cen!B44","v":"378M4502SA"},{"$f":"Cen!C44","v":"R906"},null,{"$f":"Cen!F44","v":358.1},0]
[null,null,null,null,null,null,null,null,null,null,null,null,null,{"$f":"\" \"&List!$B$5","v":" Výběr doplňků"},null,{"$f":"Cen!A48","v":"Bočnice M 500mm, šedé"},{"$f":"Cen!B48","v":"378M5002SA"},{"$f":"Cen!C48","v":"R906"},null,{"$f":"Cen!F48","v":397.4},0]
[null,null,null,null,null,null,null,null,null,null,null,null,null,{"$f":"\" \"&List!$B$6","v":" Výběr SERVO-DRIVE"},null,{"$f":"Cen!A52","v":"Bočnice M 550mm, šedé"},{"$f":"Cen!B52","v":"378M5502SA"},{"$f":"Cen!C52","v":"R906"},null,{"$f":"Cen!F52","v":399.2},0]
[null,null,null,null,null,null,null,null,null,null,null,null,null,{"$f":"\" \"&List!$B$7","v":" Výběr ORGA-LINE"},null,{"$f":"Cen!A56","v":"Bočnice M 600mm, šedé"},{"$f":"Cen!B56","v":"378M6002SA"},{"$f":"Cen!C56","v":"R906"},{"$f":"SUM($K$19:$K$20)","v":0},{"$f":"Cen!F56","v":508.3},0]
[null,null,null,null,null,null,null,null,null,null,null,null,null,{"$f":"\" \"&List!$B$18","v":" Souhrn"},null,{"$f":"Cen!A60","v":"Bočnice M 650mm, šedé"},{"$f":"Cen!B60","v":"378M6502SA"},{"$f":"Cen!C60","v":"R906"},{"$f":"$L$20","v":0},{"$f":"Cen!F60","v":536.29999999999995},0]
[]
[null,null,null,null,null,null,null,null,null,null,null,null,null,null,null,{"$f":"Cen!A94","v":"Korpusové lišty 270mm, BLUMOTION, 30kg"},{"$f":"Cen!B94","v":"578.2701B"},{"$f":"Cen!C94","v":"ZN"},null,{"$f":"Cen!F94","v":459.2},0]
[null,null,null,null,null,null,null,null,null,null,null,null,null,null,null,{"$f":"Cen!A95","v":"Korpusové lišty 300mm, BLUMOTION, 30kg"},{"$f":"Cen!B95","v":"578.3001B"},{"$f":"Cen!C95","v":"ZN"},null,{"$f":"Cen!F95","v":459.2},0]
[null,null,null,null,null,null,null,null,null,null,null,null,null,null,null,{"$f":"Cen!A96","v":"Korpusové lišty 350mm, BLUMOTION, 30kg"},{"$f":"Cen!B96","v":"578.3501B"},{"$f":"Cen!C96","v":"ZN"},null,{"$f":"Cen!F96","v":459.2},0]
[null,null,null,null,null,null,null,null,null,null,null,null,null,null,null,{"$f":"Cen!A97","v":"Korpusové lišty 400mm, BLUMOTION, 30kg"},{"$f":"Cen!B97","v":"578.4001B"},{"$f":"Cen!C97","v":"ZN"},null,{"$f":"Cen!F97","v":462.6},0]
[null,"BLUMOTION",null,null,null,null,null,null,null,null,null,null,null,null,null,{"$f":"Cen!A98","v":"Korpusové lišty 450mm, BLUMOTION, 30kg"},{"$f":"Cen!B98","v":"578.4501B"},{"$f":"Cen!C98","v":"ZN"},null,{"$f":"Cen!F98","v":466},0]
[null,null,{"$f":"List!$B$45&\":\"","v":"Jmenovitá délka:"},null,null,null,null,null,null,null,"600 mm","650 mm",null,null,null,{"$f":"Cen!A99","v":"Korpusové lišty 450mm, BLUMOTION, 65kg"},{"$f":"Cen!B99","v":"576.4501B"},{"$f":"Cen!C99","v":"ZN"},null,{"$f":"Cen!F99","v":560.79999999999995},0]
[null,null,"30 kg",null,null,null,null,null,null,null,null,null,null,null,null,{"$f":"Cen!A100","v":"Korpusové lišty 500mm, BLUMOTION, 30kg"},{"$f":"Cen!B100","v":"578.5001B"},{"$f":"Cen!C100","v":"ZN"},null,{"$f":"Cen!F100","v":469.5},0]
[null,"AM630S","65 kg",null,null,null,null,null,null,null,null,null,null,null,null,{"$f":"Cen!A101","v":"Korpusové lišty 500mm, BLUMOTION, 65kg"},{"$f":"Cen!B101","v":"576.5001B"},{"$f":"Cen!C101","v":"ZN"},null,{"$f":"Cen!F101","v":620.4},0]
[null,null,null,null,null,null,null,null,null,null,null,null,null,null,null,{"$f":"Cen!A102","v":"Korpusové lišty 550mm, BLUMOTION, 30kg"},{"$f":"Cen!B102","v":"578.5501B"},{"$f":"Cen!C102","v":"ZN"},null,{"$f":"Cen!F102","v":493.5},0]
[null,null,null,null,null,null,null,null,null,null,null,null,null,null,null,{"$f":"Cen!A103","v":"Korpusové lišty 550mm, BLUMOTION, 65kg"},{"$f":"Cen!B103","v":"576.5501B"},{"$f":"Cen!C103","v":"ZN"},null,{"$f":"Cen!F103","v":644.29999999999995},0]
[null,null,null,null,null,null,null,null,null,null,null,null,null,null,null,{"$f":"Cen!A104","v":"Korpusové lišty 600mm, BLUMOTION, 30kg"},{"$f":"Cen!B104","v":"578.6001B"},{"$f":"Cen!C104","v":"ZN"},null,{"$f":"Cen!F104","v":523.9},0]
[null,null,null,null,null,null,null,null,null,null,null,null,null,null,null,{"$f":"Cen!A105","v":"Korpusové lišty 600mm, BLUMOTION, 65kg"},{"$f":"Cen!B105","v":"576.6001B"},{"$f":"Cen!C105","v":"ZN"},{"$f":"$K$20","v":0},{"$f":"Cen!F105","v":661.1},0]
[null,null,null,null,null,null,null,null,null,null,null,null,null,null,null,{"$f":"Cen!A106","v":"Korpusové lišty 650mm, BLUMOTION, 65kg"},{"$f":"Cen!B106","v":"576.6501B"},{"$f":"Cen!C106","v":"ZN"},{"$f":"$L$20","v":0},{"$f":"Cen!F106","v":751.2},0]
[]
[]
[]
[]
[null,null,null,null,null,null,null,null,null,null,null,null,null,null,null,{"$f":"Cen!A334","v":"Sada kování SPACE CORNER, M, šedá"},{"$f":"Cen!B334","v":"ZSF.340E.M1"},{"$f":"Cen!C334","v":"ST/6"},{"$f":"SUM($S$3:$S$11)","v":0},{"$f":"Cen!F334","v":300.2},{"$f":"S30*T30","v":0}]
[null,null,null,null,null,null,null,null,null,null,null,null,null,null,null,{"$f":"Cen!A338","v":"Sada kování SPACE CORNER, D, šedá"},{"$f":"Cen!B338","v":"ZSF.345E.D1"},{"$f":"Cen!C338","v":"ST/6"},null,{"$f":"Cen!F338","v":408.1},{"$f":"S31*T31","v":0}]
[]
[]
[]
[]
[]
[]
[]
[]
[]
[]
[]
[]
[]
[]
[]
[]
[]
[]
[]
[]
[]
[]
[]
[]
[]
[]
[]
[]
[null,null,null,null,null,null,null,null,null,null,null,null,null,null,null,null,null,null,null,null,{"$f":"SUM(U3:U58)","v":0}]

{"sheet":"AD535G","index":24,"n_rows":60,"n_cols":21,"rows_kept":60,"cut":false,"hidden":false,"merged":[]}
[]
[null,null,null,null,null,null,null,null,null,null,null,{"$f":"List!$B$48&\" SPACE CORNER \"&List!$B$68&\" - D\"","v":"Čelní výsuv SPACE CORNER s nehybnými čely - D"},null,null,null,"Počty zásuvek →",{"$f":"SUM(D19:K19)","v":0},{"$f":"SUM(H20:L20)","v":0},{"$f":"SUM(D25:K25)","v":0},{"$f":"SUM(H26:L26)","v":0}]
[null,null,null,null,null,null,null,null,null,null,null,{"$f":"List!$B$62","v":"zásuvný prvek sklo"},null,{"$f":"List!$B$11&\":\"","v":"Zpět na:"},null,{"$f":"Cen!A28","v":"Bočnice M 270mm, šedé"},{"$f":"Cen!B28","v":"378M2702SA"},{"$f":"Cen!C28","v":"R906"},null,{"$f":"Cen!F28","v":350.6},{"$f":"S3*T3","v":0}]
[null,null,null,null,null,null,null,null,{"$f":"List!$B$72&\":\"","v":"bočnice:"},null,"M 650 mm",null,null,{"$f":"\" \"&List!$B$13","v":" Úvod"},null,{"$f":"Cen!A32","v":"Bočnice M 300mm, šedé"},{"$f":"Cen!B32","v":"378M3002SA"},{"$f":"Cen!C32","v":"R906"},null,{"$f":"Cen!F32","v":350.6},0]
[null,null,null,null,null,null,null,null,{"$f":"List!$B$27&\":\"","v":"barva:"},null,{"$f":"Form!$O$2","v":"šedá"},null,null,{"$f":"\" \"&List!$B$4","v":" Výběr zásuvek a výsuvů"},null,{"$f":"Cen!A36","v":"Bočnice M 350mm, šedé"},{"$f":"Cen!B36","v":"378M3502SA"},{"$f":"Cen!C36","v":"R906"},null,{"$f":"Cen!F36","v":350.6},0]
[null,null,null,null,null,null,null,null,{"$f":"List!$B$32&\":\"","v":"sklo:"},null,{"$f":"Form!$O$8","v":"čiré"},null,null,null,null,{"$f":"Cen!A40","v":"Bočnice M 400mm, šedé"},{"$f":"Cen!B40","v":"378M4002SA"},{"$f":"Cen!C40","v":"R906"},null,{"$f":"Cen!F40","v":354.3},0]
[null,null,null,null,null,null,null,null,{"$f":"List!$B$36&\":\"","v":"čelní kování:"},null,{"$f":"List!B68","v":"s nehybnými čely"},null,null,{"$f":"List!$B$12&\":\"","v":"Pokračovat na:"},null,{"$f":"Cen!A44","v":"Bočnice M 450mm, šedé"},{"$f":"Cen!B44","v":"378M4502SA"},{"$f":"Cen!C44","v":"R906"},null,{"$f":"Cen!F44","v":358.1},0]
[null,null,null,null,null,null,null,null,null,null,null,null,null,{"$f":"\" \"&List!$B$5","v":" Výběr doplňků"},null,{"$f":"Cen!A48","v":"Bočnice M 500mm, šedé"},{"$f":"Cen!B48","v":"378M5002SA"},{"$f":"Cen!C48","v":"R906"},null,{"$f":"Cen!F48","v":397.4},0]
[null,null,null,null,null,null,null,null,null,null,null,null,null,{"$f":"\" \"&List!$B$6","v":" Výběr SERVO-DRIVE"},null,{"$f":"Cen!A52","v":"Bočnice M 550mm, šedé"},{"$f":"Cen!B52","v":"378M5502SA"},{"$f":"Cen!C52","v":"R906"},null,{"$f":"Cen!F52","v":399.2},0]
[null,null,null,null,null,null,null,null,null,null,null,null,null,{"$f":"\" \"&List!$B$7","v":" Výběr ORGA-LINE"},null,{"$f":"Cen!A56","v":"Bočnice M 600mm, šedé"},{"$f":"Cen!B56","v":"378M6002SA"},{"$f":"Cen!C56","v":"R906"},{"$f":"SUM($K$19:$K$20)","v":0},{"$f":"Cen!F56","v":508.3},0]
[null,null,null,null,null,null,null,null,null,null,null,null,null,{"$f":"\" \"&List!$B$18","v":" Souhrn"},null,{"$f":"Cen!A60","v":"Bočnice M 650mm, šedé"},{"$f":"Cen!B60","v":"378M6502SA"},{"$f":"Cen!C60","v":"R906"},{"$f":"$L$20","v":0},{"$f":"Cen!F60","v":536.29999999999995},0]
[]
[null,null,null,null,null,null,null,null,null,null,null,null,null,null,null,{"$f":"Cen!A94","v":"Korpusové lišty 270mm, BLUMOTION, 30kg"},{"$f":"Cen!B94","v":"578.2701B"},{"$f":"Cen!C94","v":"ZN"},null,{"$f":"Cen!F94","v":459.2},0]
[null,null,null,null,null,null,null,null,null,null,null,null,null,null,null,{"$f":"Cen!A95","v":"Korpusové lišty 300mm, BLUMOTION, 30kg"},{"$f":"Cen!B95","v":"578.3001B"},{"$f":"Cen!C95","v":"ZN"},null,{"$f":"Cen!F95","v":459.2},0]
[null,null,null,null,null,null,null,null,null,null,null,null,null,null,null,{"$f":"Cen!A96","v":"Korpusové lišty 350mm, BLUMOTION, 30kg"},{"$f":"Cen!B96","v":"578.3501B"},{"$f":"Cen!C96","v":"ZN"},null,{"$f":"Cen!F96","v":459.2},0]
[null,null,null,null,null,null,null,null,null,null,null,null,null,null,null,{"$f":"Cen!A97","v":"Korpusové lišty 400mm, BLUMOTION, 30kg"},{"$f":"Cen!B97","v":"578.4001B"},{"$f":"Cen!C97","v":"ZN"},null,{"$f":"Cen!F97","v":462.6},0]
[null,"BLUMOTION",null,null,null,null,null,null,null,null,null,null,null,null,null,{"$f":"Cen!A98","v":"Korpusové lišty 450mm, BLUMOTION, 30kg"},{"$f":"Cen!B98","v":"578.4501B"},{"$f":"Cen!C98","v":"ZN"},null,{"$f":"Cen!F98","v":466},0]
[null,null,{"$f":"List!$B$45&\":\"","v":"Jmenovitá délka:"},null,null,null,null,null,null,null,"600 mm","650 mm",null,null,null,{"$f":"Cen!A99","v":"Korpusové lišty 450mm, BLUMOTION, 65kg"},{"$f":"Cen!B99","v":"576.4501B"},{"$f":"Cen!C99","v":"ZN"},null,{"$f":"Cen!F99","v":560.79999999999995},0]
[null,null,"30 kg",null,null,null,null,null,null,null,null,null,null,null,null,{"$f":"Cen!A100","v":"Korpusové lišty 500mm, BLUMOTION, 30kg"},{"$f":"Cen!B100","v":"578.5001B"},{"$f":"Cen!C100","v":"ZN"},null,{"$f":"Cen!F100","v":469.5},0]
[null,"AM630S","65 kg",null,null,null,null,null,null,null,null,null,null,null,null,{"$f":"Cen!A101","v":"Korpusové lišty 500mm, BLUMOTION, 65kg"},{"$f":"Cen!B101","v":"576.5001B"},{"$f":"Cen!C101","v":"ZN"},null,{"$f":"Cen!F101","v":620.4},0]
[null,null,null,null,null,null,null,null,null,null,null,null,null,null,null,{"$f":"Cen!A102","v":"Korpusové lišty 550mm, BLUMOTION, 30kg"},{"$f":"Cen!B102","v":"578.5501B"},{"$f":"Cen!C102","v":"ZN"},null,{"$f":"Cen!F102","v":493.5},0]
[null,null,null,null,null,null,null,null,null,null,null,null,null,null,null,{"$f":"Cen!A103","v":"Korpusové lišty 550mm, BLUMOTION, 65kg"},{"$f":"Cen!B103","v":"576.5501B"},{"$f":"Cen!C103","v":"ZN"},null,{"$f":"Cen!F103","v":644.29999999999995},0]
[null,null,null,null,null,null,null,null,null,null,null,null,null,null,null,{"$f":"Cen!A104","v":"Korpusové lišty 600mm, BLUMOTION, 30kg"},{"$f":"Cen!B104","v":"578.6001B"},{"$f":"Cen!C104","v":"ZN"},null,{"$f":"Cen!F104","v":523.9},0]
[null,null,null,null,null,null,null,null,null,null,null,null,null,null,null,{"$f":"Cen!A105","v":"Korpusové lišty 600mm, BLUMOTION, 65kg"},{"$f":"Cen!B105","v":"576.6001B"},{"$f":"Cen!C105","v":"ZN"},{"$f":"$K$20","v":0},{"$f":"Cen!F105","v":661.1},0]
[null,null,null,null,null,null,null,null,null,null,null,null,null,null,null,{"$f":"Cen!A106","v":"Korpusové lišty 650mm, BLUMOTION, 65kg"},{"$f":"Cen!B106","v":"576.6501B"},{"$f":"Cen!C106","v":"ZN"},{"$f":"$L$20","v":0},{"$f":"Cen!F106","v":751.2},0]
[]
[]
[]
[]
[null,null,null,null,null,null,null,null,null,null,null,null,null,null,null,{"$f":"Cen!A334","v":"Sada kování SPACE CORNER, M, šedá"},{"$f":"Cen!B334","v":"ZSF.340E.M1"},{"$f":"Cen!C334","v":"ST/6"},null,{"$f":"Cen!F334","v":300.2},{"$f":"S30*T30","v":0}]
[null,null,null,null,null,null,null,null,null,null,null,null,null,null,null,{"$f":"Cen!A338","v":"Sada kování SPACE CORNER, D, šedá"},{"$f":"Cen!B338","v":"ZSF.345E.D1"},{"$f":"Cen!C338","v":"ST/6"},{"$f":"SUM($S$3:$S$11)","v":0},{"$f":"Cen!F338","v":408.1},{"$f":"S31*T31","v":0}]
[]
[]
[]
[]
[]
[]
[]
[]
[]
[null,null,null,null,null,null,null,null,null,null,null,null,null,null,null,{"$f":"Cen!A243","v":"Podélný reling vlevo/vpravo, 600mm, šedý"},{"$f":"Cen!B243","v":"ZRG.537RSIC"},{"$f":"Cen!C243","v":"R906"},{"$f":"S10","v":0},{"$f":"Cen!F243","v":176.3},{"$f":"S41*T41","v":0}]
[null,null,null,null,null,null,null,null,null,null,null,null,null,null,null,{"$f":"Cen!A247","v":"Podélný reling vlevo/vpravo, 650mm, šedý"},{"$f":"Cen!B247","v":"ZRG.587RSIC"},{"$f":"Cen!C247","v":"R906"},{"$f":"S11","v":0},{"$f":"Cen!F247","v":183.2},{"$f":"S42*T42","v":0}]
[]
[null,null,null,null,null,null,null,null,null,null,null,null,null,null,null,{"$f":"Cen!A328","v":"Sada držáků zásuvného prvku D, bílošedá"},{"$f":"Cen!B328","v":"Z36D0080"},{"$f":"Cen!C328","v":"WGR"},{"$f":"SUM($S$3:$S$11)","v":0},{"$f":"Cen!F328","v":63.3},{"$f":"S44*T44","v":0}]
[]
[]
[]
[]
[]
[]
[]
[]
[null,null,null,null,null,null,null,null,null,null,null,null,null,null,null,{"$f":"Cen!A268","v":"Zásuvný prvek D, 600mm, čiré sko"},{"$f":"Cen!B268","v":"Z37R567D"},{"$f":"Cen!C268","v":"KL"},{"$f":"S10","v":0},{"$f":"Cen!F268","v":358.8},{"$f":"S53*T53","v":0}]
[null,null,null,null,null,null,null,null,null,null,null,null,null,null,null,{"$f":"Cen!A270","v":"Zásuvný prvek D, 650mm, čiré sko"},{"$f":"Cen!B270","v":"Z37R617D"},{"$f":"Cen!C270","v":"KL"},{"$f":"S11","v":0},{"$f":"Cen!F270","v":378.7},{"$f":"S54*T54","v":0}]
[]
[]
[]
[]
[]
[null,null,null,null,null,null,null,null,null,null,null,null,null,null,null,null,null,null,null,null,{"$f":"SUM(U3:U58)","v":0}]

{"sheet":"AD535M","index":25,"n_rows":104,"n_cols":22,"rows_kept":104,"cut":false,"hidden":false,"merged":[]}
[]
[null,null,null,null,null,null,null,null,null,null,null,{"$f":"List!$B$48&\" SPACE CORNER \"&List!$B$68&\" - D\"","v":"Čelní výsuv SPACE CORNER s nehybnými čely - D"},null,null,null,"Počty zásuvek →",{"$f":"SUM(D19:K19)","v":0},{"$f":"SUM(H20:L20)","v":0},{"$f":"SUM(D25:K25)","v":0},{"$f":"SUM(H26:L26)","v":0},{"$f":"Form!N2","v":1},"←barva"]
[null,null,null,null,null,null,null,null,null,null,null,{"$f":"List!$B$63","v":"kovový zásuvný prvek"},null,{"$f":"List!$B$11&\":\"","v":"Zpět na:"},null,{"$f":"Cen!A28","v":"Bočnice M 270mm, šedé"},{"$f":"Cen!B28","v":"378M2702SA"},{"$f":"Cen!C28","v":"R906"},null,{"$f":"Cen!F28","v":350.6},{"$f":"S3*T3","v":0}]
[null,null,null,null,null,null,null,null,{"$f":"List!$B$72&\":\"","v":"bočnice:"},null,"M 650 mm",null,null,{"$f":"\" \"&List!$B$13","v":" Úvod"},null,{"$f":"Cen!A32","v":"Bočnice M 300mm, šedé"},{"$f":"Cen!B32","v":"378M3002SA"},{"$f":"Cen!C32","v":"R906"},null,{"$f":"Cen!F32","v":350.6},0]
[null,null,null,null,null,null,null,null,{"$f":"List!$B$27&\":\"","v":"barva:"},null,{"$f":"Form!$O$2","v":"šedá"},null,null,{"$f":"\" \"&List!$B$4","v":" Výběr zásuvek a výsuvů"},null,{"$f":"Cen!A36","v":"Bočnice M 350mm, šedé"},{"$f":"Cen!B36","v":"378M3502SA"},{"$f":"Cen!C36","v":"R906"},null,{"$f":"Cen!F36","v":350.6},0]
[null,null,null,null,null,null,null,null,null,null,null,null,null,null,null,{"$f":"Cen!A40","v":"Bočnice M 400mm, šedé"},{"$f":"Cen!B40","v":"378M4002SA"},{"$f":"Cen!C40","v":"R906"},null,{"$f":"Cen!F40","v":354.3},0]
[null,null,null,null,null,null,null,null,{"$f":"List!$B$36&\":\"","v":"čelní kování:"},null,{"$f":"List!B68","v":"s nehybnými čely"},null,null,{"$f":"List!$B$12&\":\"","v":"Pokračovat na:"},null,{"$f":"Cen!A44","v":"Bočnice M 450mm, šedé"},{"$f":"Cen!B44","v":"378M4502SA"},{"$f":"Cen!C44","v":"R906"},null,{"$f":"Cen!F44","v":358.1},0]
[null,null,null,null,null,null,null,null,null,null,null,null,null,{"$f":"\" \"&List!$B$5","v":" Výběr doplňků"},null,{"$f":"Cen!A48","v":"Bočnice M 500mm, šedé"},{"$f":"Cen!B48","v":"378M5002SA"},{"$f":"Cen!C48","v":"R906"},null,{"$f":"Cen!F48","v":397.4},0]
[null,null,null,null,null,null,null,null,null,null,null,null,null,{"$f":"\" \"&List!$B$6","v":" Výběr SERVO-DRIVE"},null,{"$f":"Cen!A52","v":"Bočnice M 550mm, šedé"},{"$f":"Cen!B52","v":"378M5502SA"},{"$f":"Cen!C52","v":"R906"},null,{"$f":"Cen!F52","v":399.2},0]
[null,null,null,null,null,null,null,null,null,null,null,null,null,{"$f":"\" \"&List!$B$7","v":" Výběr ORGA-LINE"},null,{"$f":"Cen!A56","v":"Bočnice M 600mm, šedé"},{"$f":"Cen!B56","v":"378M6002SA"},{"$f":"Cen!C56","v":"R906"},{"$f":"IF($U$2=4, 0, SUM($K$19:$K$20))","v":0},{"$f":"Cen!F56","v":508.3},0]
[null,null,null,null,null,null,null,null,null,null,null,null,null,{"$f":"\" \"&List!$B$18","v":" Souhrn"},null,{"$f":"Cen!A60","v":"Bočnice M 650mm, šedé"},{"$f":"Cen!B60","v":"378M6502SA"},{"$f":"Cen!C60","v":"R906"},{"$f":"IF($U$2=4, 0, $L$20)","v":0},{"$f":"Cen!F60","v":536.29999999999995},0]
[]
[null,null,null,null,null,null,null,null,null,null,null,null,null,null,null,{"$f":"Cen!A94","v":"Korpusové lišty 270mm, BLUMOTION, 30kg"},{"$f":"Cen!B94","v":"578.2701B"},{"$f":"Cen!C94","v":"ZN"},null,{"$f":"Cen!F94","v":459.2},0]
[null,null,null,null,null,null,{"$f":"IF($U$2=4, P103, \" \")","v":" "},null,null,null,null,null,null,null,null,{"$f":"Cen!A95","v":"Korpusové lišty 300mm, BLUMOTION, 30kg"},{"$f":"Cen!B95","v":"578.3001B"},{"$f":"Cen!C95","v":"ZN"},null,{"$f":"Cen!F95","v":459.2},0]
[null,null,null,null,null,null,{"$f":"IF($U$2=4, P104, \" \")","v":" "},null,null,null,null,null,null,null,null,{"$f":"Cen!A96","v":"Korpusové lišty 350mm, BLUMOTION, 30kg"},{"$f":"Cen!B96","v":"578.3501B"},{"$f":"Cen!C96","v":"ZN"},null,{"$f":"Cen!F96","v":459.2},0]
[null,null,null,null,null,null,null,null,null,null,null,null,null,null,null,{"$f":"Cen!A97","v":"Korpusové lišty 400mm, BLUMOTION, 30kg"},{"$f":"Cen!B97","v":"578.4001B"},{"$f":"Cen!C97","v":"ZN"},null,{"$f":"Cen!F97","v":462.6},0]
[null,"BLUMOTION",null,null,null,null,null,null,null,null,null,null,null,null,null,{"$f":"Cen!A98","v":"Korpusové lišty 450mm, BLUMOTION, 30kg"},{"$f":"Cen!B98","v":"578.4501B"},{"$f":"Cen!C98","v":"ZN"},null,{"$f":"Cen!F98","v":466},0]
[null,null,{"$f":"List!$B$45&\":\"","v":"Jmenovitá délka:"},null,null,null,null,null,null,null,"600 mm","650 mm",null,null,null,{"$f":"Cen!A99","v":"Korpusové lišty 450mm, BLUMOTION, 65kg"},{"$f":"Cen!B99","v":"576.4501B"},{"$f":"Cen!C99","v":"ZN"},null,{"$f":"Cen!F99","v":560.79999999999995},0]
[null,null,"30 kg",null,null,null,null,null,null,null,null,null,null,null,null,{"$f":"Cen!A100","v":"Korpusové lišty 500mm, BLUMOTION, 30kg"},{"$f":"Cen!B100","v":"578.5001B"},{"$f":"Cen!C100","v":"ZN"},null,{"$f":"Cen!F100","v":469.5},0]
[null,"AD635S","65 kg",null,null,null,null,null,null,null,null,null,null,null,null,{"$f":"Cen!A101","v":"Korpusové lišty 500mm, BLUMOTION, 65kg"},{"$f":"Cen!B101","v":"576.5001B"},{"$f":"Cen!C101","v":"ZN"},null,{"$f":"Cen!F101","v":620.4},0]
[null,null,null,null,null,null,null,null,null,null,null,null,null,null,null,{"$f":"Cen!A102","v":"Korpusové lišty 550mm, BLUMOTION, 30kg"},{"$f":"Cen!B102","v":"578.5501B"},{"$f":"Cen!C102","v":"ZN"},null,{"$f":"Cen!F102","v":493.5},0]
[null,null,null,null,null,null,null,null,null,null,null,null,null,null,null,{"$f":"Cen!A103","v":"Korpusové lišty 550mm, BLUMOTION, 65kg"},{"$f":"Cen!B103","v":"576.5501B"},{"$f":"Cen!C103","v":"ZN"},null,{"$f":"Cen!F103","v":644.29999999999995},0]
[null,null,null,null,null,null,null,null,null,null,null,null,null,null,null,{"$f":"Cen!A104","v":"Korpusové lišty 600mm, BLUMOTION, 30kg"},{"$f":"Cen!B104","v":"578.6001B"},{"$f":"Cen!C104","v":"ZN"},null,{"$f":"Cen!F104","v":523.9},0]
[null,null,null,null,null,null,null,null,null,null,null,null,null,null,null,{"$f":"Cen!A105","v":"Korpusové lišty 600mm, BLUMOTION, 65kg"},{"$f":"Cen!B105","v":"576.6001B"},{"$f":"Cen!C105","v":"ZN"},{"$f":"IF($U$2=4, 0, $K$20)","v":0},{"$f":"Cen!F105","v":661.1},0]
[null,null,null,null,null,null,null,null,null,null,null,null,null,null,null,{"$f":"Cen!A106","v":"Korpusové lišty 650mm, BLUMOTION, 65kg"},{"$f":"Cen!B106","v":"576.6501B"},{"$f":"Cen!C106","v":"ZN"},{"$f":"IF($U$2=4, 0, $L$20)","v":0},{"$f":"Cen!F106","v":751.2},0]
[]
[]
[]
[]
[null,null,null,null,null,null,null,null,null,null,null,null,null,null,null,{"$f":"Cen!A334","v":"Sada kování SPACE CORNER, M, šedá"},{"$f":"Cen!B334","v":"ZSF.340E.M1"},{"$f":"Cen!C334","v":"ST/6"},null,{"$f":"Cen!F334","v":300.2},{"$f":"S30*T30","v":0}]
[null,null,null,null,null,null,null,null,null,null,null,null,null,null,null,{"$f":"Cen!A338","v":"Sada kování SPACE CORNER, D, šedá"},{"$f":"Cen!B338","v":"ZSF.345E.D1"},{"$f":"Cen!C338","v":"ST/6"},{"$f":"SUM($S$3:$S$11)","v":0},{"$f":"Cen!F338","v":408.1},{"$f":"S31*T31","v":0}]
[]
[]
[]
[]
[]
[]
[]
[]
[]
[null,null,null,null,null,null,null,null,null,null,null,null,null,null,null,{"$f":"Cen!A243","v":"Podélný reling vlevo/vpravo, 600mm, šedý"},{"$f":"Cen!B243","v":"ZRG.537RSIC"},{"$f":"Cen!C243","v":"R906"},{"$f":"S10","v":0},{"$f":"Cen!F243","v":176.3},{"$f":"S41*T41","v":0}]
[null,null,null,null,null,null,null,null,null,null,null,null,null,null,null,{"$f":"Cen!A247","v":"Podélný reling vlevo/vpravo, 650mm, šedý"},{"$f":"Cen!B247","v":"ZRG.587RSIC"},{"$f":"Cen!C247","v":"R906"},{"$f":"S11","v":0},{"$f":"Cen!F247","v":183.2},{"$f":"S42*T42","v":0}]
[]
[null,null,null,null,null,null,null,null,null,null,null,null,null,null,null,{"$f":"Cen!A328","v":"Sada držáků zásuvného prvku D, bílošedá"},{"$f":"Cen!B328","v":"Z36D0080"},{"$f":"Cen!C328","v":"WGR"},{"$f":"SUM($S$3:$S$11)","v":0},{"$f":"Cen!F328","v":63.3},{"$f":"S44*T44","v":0}]
[]
[]
[]
[]
[]
[]
[]
[]
[null,null,null,null,null,null,null,null,null,null,null,null,null,null,null,{"$f":"Cen!A301","v":0},{"$f":"Cen!B301","v":0},{"$f":"Cen!C301","v":0},null,{"$f":"Cen!F301","v":0},{"$f":"S53*T53","v":0}]
[null,null,null,null,null,null,null,null,null,null,null,null,null,null,null,{"$f":"Cen!A304","v":"Kovový zásuvný prvek D, 650mm, šedý"},{"$f":"Cen!B304","v":"Z37A617D"},{"$f":"Cen!C304","v":"R906"},{"$f":"SUM(S10, S11)*2","v":0},{"$f":"Cen!F304","v":204},{"$f":"S54*T54","v":0}]
[]
[]
[]
[]
[]
[null,null,null,null,null,null,null,null,null,null,null,null,null,null,null,null,null,null,null,null,{"$f":"SUM(U3:U58)","v":0}]
[]
[]
[]
[]
[]
[]
[]
[]
[]
[]
[]
[]
[]
[]
[]
[]
[]
[]
[]
[]
[]
[]
[]
[]
[]
[]
[]
[]
[]
[]
[]
[]
[]
[]
[]
[]
[]
[]
[]
[]
[]
[]
[null,null,null,null,null,null,null,null,null,null,null,null,null,null,null,{"$f":"List!$B$289&\"!\"","v":"Kovové zásuvné prvky pro nerez (Inox) se nevyrábí!"}]
[null,null,null,null,null,null,null,null,null,null,null,null,null,null,null,{"$f":"List!$B$290&\"!\"","v":"Kování naplánované na tomto listu se neprojeví v objednávce!"}]

{"sheet":"AD535R","index":26,"n_rows":60,"n_cols":21,"rows_kept":60,"cut":false,"hidden":false,"merged":[]}
[]
[null,null,null,null,null,null,null,null,null,null,null,{"$f":"List!$B$48&\" SPACE CORNER \"&List!$B$68&\" - D\"","v":"Čelní výsuv SPACE CORNER s nehybnými čely - D"},null,null,null,"Počty zásuvek →",{"$f":"SUM(D19:K19)","v":0},{"$f":"SUM(H20:L20)","v":0},{"$f":"SUM(D25:K25)","v":0},{"$f":"SUM(H26:L26)","v":0}]
[null,null,null,null,null,null,null,null,null,null,null,{"$f":"List!$B$64","v":"podélný reling"},null,{"$f":"List!$B$11&\":\"","v":"Zpět na:"},null,{"$f":"Cen!A28","v":"Bočnice M 270mm, šedé"},{"$f":"Cen!B28","v":"378M2702SA"},{"$f":"Cen!C28","v":"R906"},null,{"$f":"Cen!F28","v":350.6},{"$f":"S3*T3","v":0}]
[null,null,null,null,null,null,null,null,{"$f":"List!$B$72&\":\"","v":"bočnice:"},null,"M 650 mm",null,null,{"$f":"\" \"&List!$B$13","v":" Úvod"},null,{"$f":"Cen!A32","v":"Bočnice M 300mm, šedé"},{"$f":"Cen!B32","v":"378M3002SA"},{"$f":"Cen!C32","v":"R906"},null,{"$f":"Cen!F32","v":350.6},0]
[null,null,null,null,null,null,null,null,{"$f":"List!$B$27&\":\"","v":"barva:"},null,{"$f":"Form!$O$2","v":"šedá"},null,null,{"$f":"\" \"&List!$B$4","v":" Výběr zásuvek a výsuvů"},null,{"$f":"Cen!A36","v":"Bočnice M 350mm, šedé"},{"$f":"Cen!B36","v":"378M3502SA"},{"$f":"Cen!C36","v":"R906"},null,{"$f":"Cen!F36","v":350.6},0]
[null,null,null,null,null,null,null,null,null,null,null,null,null,null,null,{"$f":"Cen!A40","v":"Bočnice M 400mm, šedé"},{"$f":"Cen!B40","v":"378M4002SA"},{"$f":"Cen!C40","v":"R906"},null,{"$f":"Cen!F40","v":354.3},0]
[null,null,null,null,null,null,null,null,{"$f":"List!$B$36&\":\"","v":"čelní kování:"},null,{"$f":"List!B68","v":"s nehybnými čely"},null,null,{"$f":"List!$B$12&\":\"","v":"Pokračovat na:"},null,{"$f":"Cen!A44","v":"Bočnice M 450mm, šedé"},{"$f":"Cen!B44","v":"378M4502SA"},{"$f":"Cen!C44","v":"R906"},null,{"$f":"Cen!F44","v":358.1},0]
[null,null,null,null,null,null,null,null,null,null,null,null,null,{"$f":"\" \"&List!$B$5","v":" Výběr doplňků"},null,{"$f":"Cen!A48","v":"Bočnice M 500mm, šedé"},{"$f":"Cen!B48","v":"378M5002SA"},{"$f":"Cen!C48","v":"R906"},null,{"$f":"Cen!F48","v":397.4},0]
[null,null,null,null,null,null,null,null,null,null,null,null,null,{"$f":"\" \"&List!$B$6","v":" Výběr SERVO-DRIVE"},null,{"$f":"Cen!A52","v":"Bočnice M 550mm, šedé"},{"$f":"Cen!B52","v":"378M5502SA"},{"$f":"Cen!C52","v":"R906"},null,{"$f":"Cen!F52","v":399.2},0]
[null,null,null,null,null,null,null,null,null,null,null,null,null,{"$f":"\" \"&List!$B$7","v":" Výběr ORGA-LINE"},null,{"$f":"Cen!A56","v":"Bočnice M 600mm, šedé"},{"$f":"Cen!B56","v":"378M6002SA"},{"$f":"Cen!C56","v":"R906"},{"$f":"SUM($K$19:$K$20)","v":0},{"$f":"Cen!F56","v":508.3},0]
[null,null,null,null,null,null,null,null,null,null,null,null,null,{"$f":"\" \"&List!$B$18","v":" Souhrn"},null,{"$f":"Cen!A60","v":"Bočnice M 650mm, šedé"},{"$f":"Cen!B60","v":"378M6502SA"},{"$f":"Cen!C60","v":"R906"},{"$f":"$L$20","v":0},{"$f":"Cen!F60","v":536.29999999999995},0]
[]
[null,null,null,null,null,null,null,null,null,null,null,null,null,null,null,{"$f":"Cen!A94","v":"Korpusové lišty 270mm, BLUMOTION, 30kg"},{"$f":"Cen!B94","v":"578.2701B"},{"$f":"Cen!C94","v":"ZN"},null,{"$f":"Cen!F94","v":459.2},0]
[null,null,null,null,null,null,null,null,null,null,null,null,null,null,null,{"$f":"Cen!A95","v":"Korpusové lišty 300mm, BLUMOTION, 30kg"},{"$f":"Cen!B95","v":"578.3001B"},{"$f":"Cen!C95","v":"ZN"},null,{"$f":"Cen!F95","v":459.2},0]
[null,null,null,null,null,null,null,null,null,null,null,null,null,null,null,{"$f":"Cen!A96","v":"Korpusové lišty 350mm, BLUMOTION, 30kg"},{"$f":"Cen!B96","v":"578.3501B"},{"$f":"Cen!C96","v":"ZN"},null,{"$f":"Cen!F96","v":459.2},0]
[null,null,null,null,null,null,null,null,null,null,null,null,null,null,null,{"$f":"Cen!A97","v":"Korpusové lišty 400mm, BLUMOTION, 30kg"},{"$f":"Cen!B97","v":"578.4001B"},{"$f":"Cen!C97","v":"ZN"},null,{"$f":"Cen!F97","v":462.6},0]
[null,"BLUMOTION",null,null,null,null,null,null,null,null,null,null,null,null,null,{"$f":"Cen!A98","v":"Korpusové lišty 450mm, BLUMOTION, 30kg"},{"$f":"Cen!B98","v":"578.4501B"},{"$f":"Cen!C98","v":"ZN"},null,{"$f":"Cen!F98","v":466},0]
[null,null,{"$f":"List!$B$45&\":\"","v":"Jmenovitá délka:"},null,null,null,null,null,null,null,"600 mm","650 mm",null,null,null,{"$f":"Cen!A99","v":"Korpusové lišty 450mm, BLUMOTION, 65kg"},{"$f":"Cen!B99","v":"576.4501B"},{"$f":"Cen!C99","v":"ZN"},null,{"$f":"Cen!F99","v":560.79999999999995},0]
[null,null,"30 kg",null,null,null,null,null,null,null,null,null,null,null,null,{"$f":"Cen!A100","v":"Korpusové lišty 500mm, BLUMOTION, 30kg"},{"$f":"Cen!B100","v":"578.5001B"},{"$f":"Cen!C100","v":"ZN"},null,{"$f":"Cen!F100","v":469.5},0]
[null,"AD635R","65 kg",null,null,null,null,null,null,null,null,null,null,null,null,{"$f":"Cen!A101","v":"Korpusové lišty 500mm, BLUMOTION, 65kg"},{"$f":"Cen!B101","v":"576.5001B"},{"$f":"Cen!C101","v":"ZN"},null,{"$f":"Cen!F101","v":620.4},0]
[null,null,null,null,null,null,null,null,null,null,null,null,null,null,null,{"$f":"Cen!A102","v":"Korpusové lišty 550mm, BLUMOTION, 30kg"},{"$f":"Cen!B102","v":"578.5501B"},{"$f":"Cen!C102","v":"ZN"},null,{"$f":"Cen!F102","v":493.5},0]
[null,null,null,null,null,null,null,null,null,null,null,null,null,null,null,{"$f":"Cen!A103","v":"Korpusové lišty 550mm, BLUMOTION, 65kg"},{"$f":"Cen!B103","v":"576.5501B"},{"$f":"Cen!C103","v":"ZN"},null,{"$f":"Cen!F103","v":644.29999999999995},0]
[null,null,null,null,null,null,null,null,null,null,null,null,null,null,null,{"$f":"Cen!A104","v":"Korpusové lišty 600mm, BLUMOTION, 30kg"},{"$f":"Cen!B104","v":"578.6001B"},{"$f":"Cen!C104","v":"ZN"},null,{"$f":"Cen!F104","v":523.9},0]
[null,null,null,null,null,null,null,null,null,null,null,null,null,null,null,{"$f":"Cen!A105","v":"Korpusové lišty 600mm, BLUMOTION, 65kg"},{"$f":"Cen!B105","v":"576.6001B"},{"$f":"Cen!C105","v":"ZN"},{"$f":"$K$20","v":0},{"$f":"Cen!F105","v":661.1},0]
[null,null,null,null,null,null,null,null,null,null,null,null,null,null,null,{"$f":"Cen!A106","v":"Korpusové lišty 650mm, BLUMOTION, 65kg"},{"$f":"Cen!B106","v":"576.6501B"},{"$f":"Cen!C106","v":"ZN"},{"$f":"$L$20","v":0},{"$f":"Cen!F106","v":751.2},0]
[]
[]
[]
[]
[null,null,null,null,null,null,null,null,null,null,null,null,null,null,null,{"$f":"Cen!A334","v":"Sada kování SPACE CORNER, M, šedá"},{"$f":"Cen!B334","v":"ZSF.340E.M1"},{"$f":"Cen!C334","v":"ST/6"},null,{"$f":"Cen!F334","v":300.2},{"$f":"S30*T30","v":0}]
[null,null,null,null,null,null,null,null,null,null,null,null,null,null,null,{"$f":"Cen!A338","v":"Sada kování SPACE CORNER, D, šedá"},{"$f":"Cen!B338","v":"ZSF.345E.D1"},{"$f":"Cen!C338","v":"ST/6"},{"$f":"SUM($S$3:$S$11)","v":0},{"$f":"Cen!F338","v":408.1},{"$f":"S31*T31","v":0}]
[]
[null,{"$f":"List!$B$23&\": *\"","v":"Volitelně: *"}]
[null,{"$f":"Cen!A328","v":"Sada držáků zásuvného prvku D, bílošedá"},null,null,null,null,null,{"$f":"Cen!B328","v":"Z36D0080"},{"$f":"Cen!C328","v":"WGR"}]
[]
[null,{"$f":"\"     * \"&List!$B$148","v":"     * Sada držáků, pro vlastní zásuvný prvek"}]
[]
[]
[]
[]
[null,null,null,null,null,null,null,null,null,null,null,null,null,null,null,{"$f":"Cen!A243","v":"Podélný reling vlevo/vpravo, 600mm, šedý"},{"$f":"Cen!B243","v":"ZRG.537RSIC"},{"$f":"Cen!C243","v":"R906"},{"$f":"S10","v":0},{"$f":"Cen!F243","v":176.3},{"$f":"S41*T41","v":0}]
[null,null,null,null,null,null,null,null,null,null,null,null,null,null,null,{"$f":"Cen!A247","v":"Podélný reling vlevo/vpravo, 650mm, šedý"},{"$f":"Cen!B247","v":"ZRG.587RSIC"},{"$f":"Cen!C247","v":"R906"},{"$f":"S11","v":0},{"$f":"Cen!F247","v":183.2},{"$f":"S42*T42","v":0}]
[]
[null,null,null,null,null,null,null,null,null,null,null,null,null,null,null,{"$f":"Cen!A328","v":"Sada držáků zásuvného prvku D, bílošedá"},{"$f":"Cen!B328","v":"Z36D0080"},{"$f":"Cen!C328","v":"WGR"},{"$f":"J34","v":0},{"$f":"Cen!F328","v":63.3},{"$f":"S44*T44","v":0}]
[]
[]
[]
[]
[]
[]
[]
[]
[]
[]
[]
[]
[]
[]
[]
[null,null,null,null,null,null,null,null,null,null,null,null,null,null,null,null,null,null,null,null,{"$f":"SUM(U3:U58)","v":0}]

{"sheet":"AM340","index":27,"n_rows":70,"n_cols":21,"rows_kept":70,"cut":false,"hidden":false,"merged":[]}
[]
[null,null,null,null,null,null,null,null,null,null,null,{"$f":"List!$B$50&\" M\"","v":"Dřezová zásuvka M"},null,null,null,"Počty zásuvek →",{"$f":"SUM(D19:K19)","v":0},{"$f":"SUM(H20:L20)","v":0},{"$f":"SUM(D25:K25)","v":0},{"$f":"SUM(H26:L26)","v":0}]
[null,null,null,null,null,null,null,null,null,null,null,null,null,{"$f":"List!$B$11&\":\"","v":"Zpět na:"},null,{"$f":"Cen!A28","v":"Bočnice M 270mm, šedé"},{"$f":"Cen!B28","v":"378M2702SA"},{"$f":"Cen!C28","v":"R906"},{"$f":"SUM($D$19, $D$25)","v":0},{"$f":"Cen!F28","v":350.6},{"$f":"S3*T3","v":0}]
[null,null,null,null,null,null,null,null,{"$f":"List!$B$72&\":\"","v":"bočnice:"},null,"M",null,null,{"$f":"\" \"&List!$B$13","v":" Úvod"},null,{"$f":"Cen!A32","v":"Bočnice M 300mm, šedé"},{"$f":"Cen!B32","v":"378M3002SA"},{"$f":"Cen!C32","v":"R906"},{"$f":"SUM($E$19, $E$25)","v":0},{"$f":"Cen!F32","v":350.6},0]
[null,null,null,null,null,null,null,null,{"$f":"List!$B$27&\":\"","v":"barva:"},null,{"$f":"Form!$O$2","v":"šedá"},null,null,{"$f":"\" \"&List!$B$4","v":" Výběr zásuvek a výsuvů"},null,{"$f":"Cen!A36","v":"Bočnice M 350mm, šedé"},{"$f":"Cen!B36","v":"378M3502SA"},{"$f":"Cen!C36","v":"R906"},{"$f":"SUM($F$19, $F$25)","v":0},{"$f":"Cen!F36","v":350.6},0]
[null,null,null,null,null,null,null,null,null,null,null,null,null,null,null,{"$f":"Cen!A40","v":"Bočnice M 400mm, šedé"},{"$f":"Cen!B40","v":"378M4002SA"},{"$f":"Cen!C40","v":"R906"},{"$f":"SUM($G$19, $G$25)*2","v":0},{"$f":"Cen!F40","v":354.3},0]
[null,null,null,null,null,null,null,null,{"$f":"List!$B$36&\":\"","v":"čelní kování:"},null,{"$f":"Form!$O$13","v":"INSERTA"},null,null,{"$f":"List!$B$12&\":\"","v":"Pokračovat na:"},null,{"$f":"Cen!A44","v":"Bočnice M 450mm, šedé"},{"$f":"Cen!B44","v":"378M4502SA"},{"$f":"Cen!C44","v":"R906"},{"$f":"SUM($H$19:$H$20, $H$25:$H$26)*2","v":0},{"$f":"Cen!F44","v":358.1},0]
[null,null,null,null,null,null,null,null,null,null,null,null,null,{"$f":"\" \"&List!$B$5","v":" Výběr doplňků"},null,{"$f":"Cen!A48","v":"Bočnice M 500mm, šedé"},{"$f":"Cen!B48","v":"378M5002SA"},{"$f":"Cen!C48","v":"R906"},{"$f":"SUM($I$19:$I$20, $I$25:$I$26)*2","v":0},{"$f":"Cen!F48","v":397.4},0]
[null,null,null,null,null,null,null,null,null,null,null,null,null,{"$f":"\" \"&List!$B$6","v":" Výběr SERVO-DRIVE"},null,{"$f":"Cen!A52","v":"Bočnice M 550mm, šedé"},{"$f":"Cen!B52","v":"378M5502SA"},{"$f":"Cen!C52","v":"R906"},{"$f":"SUM($J$19:$J$20, $J$25:$J$26)*2","v":0},{"$f":"Cen!F52","v":399.2},0]
[null,null,null,null,null,null,null,null,null,null,null,null,null,{"$f":"\" \"&List!$B$7","v":" Výběr ORGA-LINE"},null,{"$f":"Cen!A56","v":"Bočnice M 600mm, šedé"},{"$f":"Cen!B56","v":"378M6002SA"},{"$f":"Cen!C56","v":"R906"},{"$f":"SUM($K$19:$K$20, $K$25:$K$26)","v":0},{"$f":"Cen!F56","v":508.3},0]
[null,null,null,null,null,null,null,null,null,null,null,null,null,{"$f":"\" \"&List!$B$18","v":" Souhrn"},null,{"$f":"Cen!A60","v":"Bočnice M 650mm, šedé"},{"$f":"Cen!B60","v":"378M6502SA"},{"$f":"Cen!C60","v":"R906"},{"$f":"SUM($L$20, $L$26)","v":0},{"$f":"Cen!F60","v":536.29999999999995},0]
[]
[null,null,null,null,null,null,null,null,null,null,null,null,null,null,null,{"$f":"Cen!A94","v":"Korpusové lišty 270mm, BLUMOTION, 30kg"},{"$f":"Cen!B94","v":"578.2701B"},{"$f":"Cen!C94","v":"ZN"},{"$f":"$D$19","v":0},{"$f":"Cen!F94","v":459.2},0]
[null,null,null,null,null,null,null,null,null,null,null,null,null,null,null,{"$f":"Cen!A95","v":"Korpusové lišty 300mm, BLUMOTION, 30kg"},{"$f":"Cen!B95","v":"578.3001B"},{"$f":"Cen!C95","v":"ZN"},{"$f":"$E$19","v":0},{"$f":"Cen!F95","v":459.2},0]
[null,null,null,null,null,null,null,null,null,null,null,null,null,null,null,{"$f":"Cen!A96","v":"Korpusové lišty 350mm, BLUMOTION, 30kg"},{"$f":"Cen!B96","v":"578.3501B"},{"$f":"Cen!C96","v":"ZN"},{"$f":"$F$19","v":0},{"$f":"Cen!F96","v":459.2},0]
[null,null,null,null,null,null,null,null,null,null,null,null,null,null,null,{"$f":"Cen!A97","v":"Korpusové lišty 400mm, BLUMOTION, 30kg"},{"$f":"Cen!B97","v":"578.4001B"},{"$f":"Cen!C97","v":"ZN"},{"$f":"$G$19","v":0},{"$f":"Cen!F97","v":462.6},0]
[null,"BLUMOTION",null,null,null,null,null,null,null,null,null,null,null,null,null,{"$f":"Cen!A98","v":"Korpusové lišty 450mm, BLUMOTION, 30kg"},{"$f":"Cen!B98","v":"578.4501B"},{"$f":"Cen!C98","v":"ZN"},{"$f":"$H$19","v":0},{"$f":"Cen!F98","v":466},0]
[null,null,{"$f":"List!$B$45&\":\"","v":"Jmenovitá délka:"},"270 mm","300 mm","350 mm","400 mm","450 mm","500 mm","550 mm","600 mm","650 mm",null,null,null,{"$f":"Cen!A99","v":"Korpusové lišty 450mm, BLUMOTION, 65kg"},{"$f":"Cen!B99","v":"576.4501B"},{"$f":"Cen!C99","v":"ZN"},{"$f":"$H$20","v":0},{"$f":"Cen!F99","v":560.79999999999995},0]
[null,"AM340B","30 kg",null,null,null,null,null,null,null,null,null,null,null,null,{"$f":"Cen!A100","v":"Korpusové lišty 500mm, BLUMOTION, 30kg"},{"$f":"Cen!B100","v":"578.5001B"},{"$f":"Cen!C100","v":"ZN"},{"$f":"$I$19","v":0},{"$f":"Cen!F100","v":469.5},0]
[null,null,null,null,null,null,null,null,null,null,null,null,null,null,null,{"$f":"Cen!A101","v":"Korpusové lišty 500mm, BLUMOTION, 65kg"},{"$f":"Cen!B101","v":"576.5001B"},{"$f":"Cen!C101","v":"ZN"},{"$f":"$I$20","v":0},{"$f":"Cen!F101","v":620.4},0]
[null,null,null,null,null,null,null,null,null,null,null,null,null,null,null,{"$f":"Cen!A102","v":"Korpusové lišty 550mm, BLUMOTION, 30kg"},{"$f":"Cen!B102","v":"578.5501B"},{"$f":"Cen!C102","v":"ZN"},{"$f":"$J$19","v":0},{"$f":"Cen!F102","v":493.5},0]
[null,null,null,null,null,null,null,null,null,null,null,null,null,null,null,{"$f":"Cen!A103","v":"Korpusové lišty 550mm, BLUMOTION, 65kg"},{"$f":"Cen!B103","v":"576.5501B"},{"$f":"Cen!C103","v":"ZN"},{"$f":"$J$20","v":0},{"$f":"Cen!F103","v":644.29999999999995},0]
[null,null,null,null,null,null,null,null,null,null,null,null,null,null,null,{"$f":"Cen!A104","v":"Korpusové lišty 600mm, BLUMOTION, 30kg"},{"$f":"Cen!B104","v":"578.6001B"},{"$f":"Cen!C104","v":"ZN"},{"$f":"$K$19","v":0},{"$f":"Cen!F104","v":523.9},0]
[null,null,null,null,null,null,null,null,null,null,null,null,null,null,null,{"$f":"Cen!A105","v":"Korpusové lišty 600mm, BLUMOTION, 65kg"},{"$f":"Cen!B105","v":"576.6001B"},{"$f":"Cen!C105","v":"ZN"},{"$f":"$K$20","v":0},{"$f":"Cen!F105","v":661.1},0]
[null,null,null,null,null,null,null,null,null,null,null,null,null,null,null,{"$f":"Cen!A106","v":"Korpusové lišty 650mm, BLUMOTION, 65kg"},{"$f":"Cen!B106","v":"576.6501B"},{"$f":"Cen!C106","v":"ZN"},{"$f":"$L$20","v":0},{"$f":"Cen!F106","v":751.2},0]
[null,null,null,null,null,null,null,null,null,null,null,null,null,null,null,{"$f":"Cen!A109","v":"Korp. lišty TIP-ON BLUMOTION, 270mm, 30 kg"},{"$f":"Cen!B109","v":"578.2701M"},{"$f":"Cen!C109","v":"ZN"},{"$f":"$D$25","v":0},{"$f":"Cen!F109","v":417.4},0]
[null,null,null,null,null,null,null,null,null,null,null,null,null,null,null,{"$f":"Cen!A110","v":"Korp. lišty TIP-ON BLUMOTION, 300mm, 30 kg"},{"$f":"Cen!B110","v":"578.3001M"},{"$f":"Cen!C110","v":"ZN"},{"$f":"$E$25","v":0},{"$f":"Cen!F110","v":417.4},0]
[null,null,null,null,null,null,null,null,null,null,null,null,null,null,null,{"$f":"Cen!A111","v":"Korp. lišty TIP-ON BLUMOTION, 350mm, 30 kg"},{"$f":"Cen!B111","v":"578.3501M"},{"$f":"Cen!C111","v":"ZN"},{"$f":"$F$25","v":0},{"$f":"Cen!F111","v":417.4},0]
[null,null,null,null,null,null,null,null,null,null,null,null,null,null,null,{"$f":"Cen!A112","v":"Korp. lišty TIP-ON BLUMOTION, 400mm, 30 kg"},{"$f":"Cen!B112","v":"578.4001M"},{"$f":"Cen!C112","v":"ZN"},{"$f":"$G$25","v":0},{"$f":"Cen!F112","v":420.5},0]
[null,null,null,null,null,null,null,null,null,null,null,null,null,null,null,{"$f":"Cen!A113","v":"Korp. lišty TIP-ON BLUMOTION, 450mm, 30 kg"},{"$f":"Cen!B113","v":"578.4501M"},{"$f":"Cen!C113","v":"ZN"},{"$f":"$H$25","v":0},{"$f":"Cen!F113","v":423.7},0]
[null,null,null,null,null,null,null,null,null,null,null,null,null,null,null,{"$f":"Cen!A114","v":"Korp. lišty TIP-ON BLUMOTION, 450mm, 65 kg"},{"$f":"Cen!B114","v":"578.4501M"},{"$f":"Cen!C114","v":"ZN"},{"$f":"$H$26","v":0},{"$f":"Cen!F114","v":560.79999999999995},0]
[null,null,null,null,null,null,null,null,null,null,null,null,null,null,null,{"$f":"Cen!A115","v":"Korp. lišty TIP-ON BLUMOTION, 500mm, 30 kg"},{"$f":"Cen!B115","v":"578.5001M"},{"$f":"Cen!C115","v":"ZN"},{"$f":"$I$25","v":0},{"$f":"Cen!F115","v":426.8},0]
[null,null,null,null,null,null,null,null,null,null,null,null,null,null,null,{"$f":"Cen!A116","v":"Korp. lišty TIP-ON BLUMOTION, 500mm, 65 kg"},{"$f":"Cen!B116","v":"576.5001M"},{"$f":"Cen!C116","v":"ZN"},{"$f":"$I$26","v":0},{"$f":"Cen!F116","v":564},0]
[null,null,null,null,null,null,null,null,null,null,null,null,null,null,null,{"$f":"Cen!A117","v":"Korp. lišty TIP-ON BLUMOTION, 550mm, 30 kg"},{"$f":"Cen!B117","v":"578.5501M"},{"$f":"Cen!C117","v":"ZN"},{"$f":"$J$25","v":0},{"$f":"Cen!F117","v":448.6},0]
[null,null,null,null,null,null,null,null,null,null,null,null,null,null,null,{"$f":"Cen!A118","v":"Korp. lišty TIP-ON BLUMOTION, 550mm, 65 kg"},{"$f":"Cen!B118","v":"576.5501M"},{"$f":"Cen!C118","v":"ZN"},{"$f":"$J$26","v":0},{"$f":"Cen!F118","v":585.79999999999995},0]
[null,null,null,null,null,null,null,null,null,null,null,null,null,null,null,{"$f":"Cen!A119","v":"Korp. lišty TIP-ON BLUMOTION, 600mm, 30 kg"},{"$f":"Cen!B119","v":"578.6001M"},{"$f":"Cen!C119","v":"ZN"},{"$f":"$K$25","v":0},{"$f":"Cen!F119","v":542},0]
[null,null,null,null,null,null,null,null,null,null,null,null,null,null,null,{"$f":"Cen!A120","v":"Korp. lišty TIP-ON BLUMOTION, 600mm, 65 kg"},{"$f":"Cen!B120","v":"576.6001M"},{"$f":"Cen!C120","v":"ZN"},{"$f":"$K$26","v":0},{"$f":"Cen!F120","v":661.1},0]
[null,null,null,null,null,null,null,null,null,null,null,null,null,null,null,{"$f":"Cen!A121","v":"Korp. lišty TIP-ON BLUMOTION, 650mm, 65 kg"},{"$f":"Cen!B121","v":"576.6501M"},{"$f":"Cen!C121","v":"ZN"},{"$f":"$L$26","v":0},{"$f":"Cen!F121","v":682.9},0]
[]
[null,null,null,null,null,null,null,null,null,null,null,null,null,null,null,{"$f":"Cen!A124","v":"Sada jednotek TIP-ON BLUMOTION, S0"},{"$f":"Cen!B124","v":"T60B3030"},{"$f":"Cen!C124","v":"W"},{"$f":"$D$30","v":0},{"$f":"Cen!F124","v":404.5},{"$f":"S40*T40","v":0}]
[null,null,null,null,null,null,null,null,null,null,null,null,null,null,null,{"$f":"Cen!A125","v":"Sada jednotek TIP-ON BLUMOTION, S1"},{"$f":"Cen!B125","v":"T60B3130"},{"$f":"Cen!C125","v":"R735"},{"$f":"$E$30","v":0},{"$f":"Cen!F125","v":404.5},0]
[null,null,null,null,null,null,null,null,null,null,null,null,null,null,null,{"$f":"Cen!A126","v":"Sada jednotek TIP-ON BLUMOTION, L1"},{"$f":"Cen!B126","v":"T60B3330"},{"$f":"Cen!C126","v":"R735"},{"$f":"$F$30","v":0},{"$f":"Cen!F126","v":404.5},0]
[null,null,null,null,null,null,null,null,null,null,null,null,null,null,null,{"$f":"Cen!A127","v":"Sada jednotek TIP-ON BLUMOTION, L3"},{"$f":"Cen!B127","v":"T60B3530"},{"$f":"Cen!C127","v":"R737"},{"$f":"$G$30","v":0},{"$f":"Cen!F127","v":404.5},0]
[null,null,null,null,null,null,null,null,null,null,null,null,null,null,null,{"$f":"Cen!A128","v":"Sada jednotek TIP-ON BLUMOTION, L5"},{"$f":"Cen!B128","v":"T60B3560"},{"$f":"Cen!C128","v":"S"},{"$f":"$H$30","v":0},{"$f":"Cen!F128","v":404.5},0]
[]
[null,null,null,null,null,null,null,null,null,null,null,null,null,null,null,{"$f":"Cen!A130","v":"Synchronizační adaptér"},{"$f":"Cen!B130","v":"T60.000D"},{"$f":"Cen!C130","v":"R735"},{"$f":"SUM($S$40:$S$44)*2","v":0},{"$f":"Cen!F130","v":5.8},0]
[null,null,null,null,null,null,null,null,null,null,null,null,null,null,null,{"$f":"Cen!A131","v":"Hřídel synchronizace"},{"$f":"Cen!B131","v":"T60.1125W"},{"$f":"Cen!C131","v":"GR"},{"$f":"SUM($S$40:$S$44)","v":0},{"$f":"Cen!F131","v":95.6},0]
[null,null,null,null,null,null,null,null,null,null,null,null,null,null,null,{"$f":"Cen!A132","v":"Jednodílná synchronizace"},{"$f":"Cen!B132","v":"T60.300D"},{"$f":"Cen!C132","v":"R735"},null,{"$f":"Cen!F132","v":23.2},0]
[null,null,null,null,null,null,null,null,null,null,null,null,null,null,null,{"$f":"Cen!A134","v":"Držák hřídele synchronizace"},{"$f":"Cen!B134","v":"T60B000H"},{"$f":"Cen!C134","v":"NI"},null,{"$f":"Cen!F134","v":6},0]
[null,null,null,null,null,null,null,null,null,null,null,null,null,null,null,{"$f":"Cen!A135","v":"Podpěrný úhelník pro dno"},{"$f":"Cen!B135","v":"Z96.2011"},{"$f":"Cen!C135","v":"R737"},null,{"$f":"Cen!F135","v":29.8},0]
[]
[null,null,null,null,null,null,null,null,null,null,null,null,null,null,null,{"$f":"Cen!A143","v":"Držáky zadní stěny N, šedé"},{"$f":"Cen!B143","v":"Z30N000S.04"},{"$f":"Cen!C143","v":"R906"},null,{"$f":"Cen!F143","v":36.5},{"$f":"S52*T52","v":0}]
[null,null,null,null,null,null,null,null,null,null,null,null,null,null,null,{"$f":"Cen!A147","v":"Držáky zadní stěny M, šedé"},{"$f":"Cen!B147","v":"Z30M000S.04"},{"$f":"Cen!C147","v":"R906"},{"$f":"SUM($S$3:$S$11)","v":0},{"$f":"Cen!F147","v":40.200000000000003},0]
[null,null,null,null,null,null,null,null,null,null,null,null,null,null,null,{"$f":"Cen!A151","v":"Držáky zadní stěny K, šedé"},{"$f":"Cen!B151","v":"Z30K000S"},{"$f":"Cen!C151","v":"R906"},null,{"$f":"Cen!F151","v":67.400000000000006},0]
[null,null,null,null,null,null,null,null,null,null,null,null,null,null,null,{"$f":"Cen!A154","v":"Držáky zadní stěny B, šedé"},{"$f":"Cen!B154","v":"Z30B000S.04"},{"$f":"Cen!C154","v":"R906"},null,{"$f":"Cen!F154","v":48.8},0]
[null,null,null,null,null,null,null,null,null,null,null,null,null,null,null,{"$f":"Cen!A158","v":"Držáky zadní stěny C, šedé"},{"$f":"Cen!B158","v":"Z30C000S"},{"$f":"Cen!C158","v":"R906"},null,{"$f":"Cen!F158","v":71},0]
[null,null,null,null,null,null,null,null,null,null,null,null,null,null,null,{"$f":"Cen!A162","v":"Držáky zadní stěny D, šedé"},{"$f":"Cen!B162","v":"Z30D000S"},{"$f":"Cen!C162","v":"R906"},null,{"$f":"Cen!F162","v":78.099999999999994},0]
[null,null,null,null,null,null,null,null,null,null,null,null,null,null,null,null,null,null,null,null,0]
[null,null,null,null,null,null,null,null,null,null,null,null,null,null,null,{"$f":"Cen!A173","v":"Čelní kování INSERTA"},{"$f":"Cen!B173","v":"ZSF.39A2"},{"$f":"Cen!C173","v":"BL"},{"$f":"SUM($S$3:$S$11)*2","v":0},{"$f":"Cen!F173","v":22.4},0]
[]
[]
[]
[]
[]
[]
[]
[]
[]
[]
[null,null,null,null,null,null,null,null,null,null,null,null,null,null,null,null,null,null,null,null,{"$f":"SUM(U3:U68)","v":0}]

{"sheet":"AD342G","index":28,"n_rows":183,"n_cols":21,"rows_kept":183,"cut":false,"hidden":false,"merged":[[108,7,108,8],[109,7,109,8],[109,9,109,10],[110,7,110,8],[110,10,110,11],[148,0,189,0],[182,8,182,9],[99,0,140,0],[100,1,101,11],[103,1,103,2],[103,3,103,11],[104,1,112,2],[104,3,104,8],[104,9,105,11],[105,3,105,5],[105,7,105,8],[106,3,107,5],[106,7,106,8],[107,7,107,8],[108,3,110,5],[111,7,112,11]]}
[]
[null,null,null,null,null,null,null,null,null,null,null,{"$f":"List!$B$51&\" D, \"&List!$B$62","v":"Dřezový výsuv D, zásuvný prvek sklo"},null,null,null,"Počty zásuvek →",{"$f":"SUM(D19:K19)","v":0},{"$f":"SUM(H20:L20)","v":0},{"$f":"SUM(D25:K25)","v":0},{"$f":"SUM(H26:L26)","v":0}]
[null,null,null,null,null,null,null,null,null,null,null,null,null,{"$f":"List!$B$11&\":\"","v":"Zpět na:"},null,{"$f":"Cen!A28","v":"Bočnice M 270mm, šedé"},{"$f":"Cen!B28","v":"378M2702SA"},{"$f":"Cen!C28","v":"R906"},{"$f":"SUM($D$19, $D$25)","v":0},{"$f":"Cen!F28","v":350.6},{"$f":"S3*T3","v":0}]
[null,null,null,null,null,null,null,null,{"$f":"List!$B$72&\":\"","v":"bočnice:"},null,"M",null,null,{"$f":"\" \"&List!$B$13","v":" Úvod"},null,{"$f":"Cen!A32","v":"Bočnice M 300mm, šedé"},{"$f":"Cen!B32","v":"378M3002SA"},{"$f":"Cen!C32","v":"R906"},{"$f":"SUM($E$19, $E$25)","v":0},{"$f":"Cen!F32","v":350.6},0]
[null,null,null,null,null,null,null,null,{"$f":"List!$B$27&\":\"","v":"barva:"},null,{"$f":"Form!$O$2","v":"šedá"},null,null,{"$f":"\" \"&List!$B$4","v":" Výběr zásuvek a výsuvů"},null,{"$f":"Cen!A36","v":"Bočnice M 350mm, šedé"},{"$f":"Cen!B36","v":"378M3502SA"},{"$f":"Cen!C36","v":"R906"},{"$f":"SUM($F$19, $F$25)","v":0},{"$f":"Cen!F36","v":350.6},0]
[null,null,null,null,null,null,null,null,{"$f":"List!$B$32&\":\"","v":"sklo:"},null,{"$f":"Form!$O$8","v":"čiré"},null,null,null,null,{"$f":"Cen!A40","v":"Bočnice M 400mm, šedé"},{"$f":"Cen!B40","v":"378M4002SA"},{"$f":"Cen!C40","v":"R906"},{"$f":"SUM($G$19, $G$25)","v":0},{"$f":"Cen!F40","v":354.3},0]
[null,null,null,null,null,null,null,null,{"$f":"List!$B$36&\":\"","v":"čelní kování:"},null,{"$f":"Form!$O$13","v":"INSERTA"},null,null,{"$f":"List!$B$12&\":\"","v":"Pokračovat na:"},null,{"$f":"Cen!A44","v":"Bočnice M 450mm, šedé"},{"$f":"Cen!B44","v":"378M4502SA"},{"$f":"Cen!C44","v":"R906"},{"$f":"SUM($H$19:$H$20, $H$25:$H$26)","v":0},{"$f":"Cen!F44","v":358.1},0]
[null,null,null,null,null,null,null,null,null,null,null,null,null,{"$f":"\" \"&List!$B$5","v":" Výběr doplňků"},null,{"$f":"Cen!A48","v":"Bočnice M 500mm, šedé"},{"$f":"Cen!B48","v":"378M5002SA"},{"$f":"Cen!C48","v":"R906"},{"$f":"SUM($I$19:$I$20, $I$25:$I$26)","v":0},{"$f":"Cen!F48","v":397.4},0]
[null,null,null,null,null,null,null,null,null,null,null,null,null,{"$f":"\" \"&List!$B$6","v":" Výběr SERVO-DRIVE"},null,{"$f":"Cen!A52","v":"Bočnice M 550mm, šedé"},{"$f":"Cen!B52","v":"378M5502SA"},{"$f":"Cen!C52","v":"R906"},{"$f":"SUM($J$19:$J$20, $J$25:$J$26)","v":0},{"$f":"Cen!F52","v":399.2},0]
[null,null,null,null,null,null,null,null,null,null,null,null,null,{"$f":"\" \"&List!$B$7","v":" Výběr ORGA-LINE"},null,{"$f":"Cen!A56","v":"Bočnice M 600mm, šedé"},{"$f":"Cen!B56","v":"378M6002SA"},{"$f":"Cen!C56","v":"R906"},{"$f":"SUM($K$19:$K$20, $K$25:$K$26)","v":0},{"$f":"Cen!F56","v":508.3},0]
[null,null,null,null,null,null,null,null,null,null,null,null,null,{"$f":"\" \"&List!$B$18","v":" Souhrn"},null,{"$f":"Cen!A60","v":"Bočnice M 650mm, šedé"},{"$f":"Cen!B60","v":"378M6502SA"},{"$f":"Cen!C60","v":"R906"},{"$f":"SUM($L$20, $L$26)","v":0},{"$f":"Cen!F60","v":536.29999999999995},0]
[]
[null,null,null,null,null,null,null,null,null,null,null,null,null,null,null,{"$f":"Cen!A359","v":"Bočnice dřezové, 500 mm, šedé"},{"$f":"Cen!B359","v":"378M5004SG"},{"$f":"Cen!C359","v":"WA/G"},{"$f":"SUM($I$19:$I$20, $I$25:$I$26)","v":0},{"$f":"Cen!F359","v":509.4},0]
[]
[null,null,null,null,null,null,null,null,null,null,null,null,null,null,null,{"$f":"Cen!A96","v":"Korpusové lišty 350mm, BLUMOTION, 30kg"},{"$f":"Cen!B96","v":"578.3501B"},{"$f":"Cen!C96","v":"ZN"},{"$f":"$F$19","v":0},{"$f":"Cen!F96","v":459.2},0]
[null,null,null,null,null,null,null,null,null,null,null,null,null,null,null,{"$f":"Cen!A97","v":"Korpusové lišty 400mm, BLUMOTION, 30kg"},{"$f":"Cen!B97","v":"578.4001B"},{"$f":"Cen!C97","v":"ZN"},{"$f":"$G$19","v":0},{"$f":"Cen!F97","v":462.6},0]
[null,"BLUMOTION",null,null,null,null,null,null,null,null,null,null,null,null,null,{"$f":"Cen!A98","v":"Korpusové lišty 450mm, BLUMOTION, 30kg"},{"$f":"Cen!B98","v":"578.4501B"},{"$f":"Cen!C98","v":"ZN"},{"$f":"$H$19","v":0},{"$f":"Cen!F98","v":466},0]
[null,null,{"$f":"List!$B$45&\":\"","v":"Jmenovitá délka:"},"270 mm","300 mm","350 mm","400 mm","450 mm","500 mm","550 mm","600 mm","650 mm",null,null,null,{"$f":"Cen!A99","v":"Korpusové lišty 450mm, BLUMOTION, 65kg"},{"$f":"Cen!B99","v":"576.4501B"},{"$f":"Cen!C99","v":"ZN"},{"$f":"$H$20","v":0},{"$f":"Cen!F99","v":560.79999999999995},0]
[null,"AD342BG","30 kg",null,null,null,null,null,null,null,null,null,null,null,null,{"$f":"Cen!A100","v":"Korpusové lišty 500mm, BLUMOTION, 30kg"},{"$f":"Cen!B100","v":"578.5001B"},{"$f":"Cen!C100","v":"ZN"},{"$f":"$I$19","v":0},{"$f":"Cen!F100","v":469.5},0]
[null,"AD642BG","65 kg",null,null,null,null,null,null,null,null,null,null,null,null,{"$f":"Cen!A101","v":"Korpusové lišty 500mm, BLUMOTION, 65kg"},{"$f":"Cen!B101","v":"576.5001B"},{"$f":"Cen!C101","v":"ZN"},{"$f":"$I$20","v":0},{"$f":"Cen!F101","v":620.4},0]
[null,null,null,null,null,null,null,null,null,null,null,null,null,null,null,{"$f":"Cen!A102","v":"Korpusové lišty 550mm, BLUMOTION, 30kg"},{"$f":"Cen!B102","v":"578.5501B"},{"$f":"Cen!C102","v":"ZN"},{"$f":"$J$19","v":0},{"$f":"Cen!F102","v":493.5},0]
[null,null,null,null,null,null,null,null,null,null,null,null,null,null,null,{"$f":"Cen!A103","v":"Korpusové lišty 550mm, BLUMOTION, 65kg"},{"$f":"Cen!B103","v":"576.5501B"},{"$f":"Cen!C103","v":"ZN"},{"$f":"$J$20","v":0},{"$f":"Cen!F103","v":644.29999999999995},0]
[null,"TIP-ON BLUMOTION",null,null,null,null,null,null,null,null,null,null,null,null,null,{"$f":"Cen!A104","v":"Korpusové lišty 600mm, BLUMOTION, 30kg"},{"$f":"Cen!B104","v":"578.6001B"},{"$f":"Cen!C104","v":"ZN"},{"$f":"$K$19","v":0},{"$f":"Cen!F104","v":523.9},0]
[null,null,{"$f":"List!$B$45&\":\"","v":"Jmenovitá délka:"},"270 mm","300 mm","350 mm","400 mm","450 mm","500 mm","550 mm","600 mm","650 mm",null,null,null,{"$f":"Cen!A105","v":"Korpusové lišty 600mm, BLUMOTION, 65kg"},{"$f":"Cen!B105","v":"576.6001B"},{"$f":"Cen!C105","v":"ZN"},{"$f":"$K$20","v":0},{"$f":"Cen!F105","v":661.1},0]
[null,"AD342MG","30 kg",null,null,null,null,null,null,null,null,null,null,null,null,{"$f":"Cen!A106","v":"Korpusové lišty 650mm, BLUMOTION, 65kg"},{"$f":"Cen!B106","v":"576.6501B"},{"$f":"Cen!C106","v":"ZN"},{"$f":"$L$20","v":0},{"$f":"Cen!F106","v":751.2},0]
[null,"AD642MG","65 kg",null,null,null,null,null,null,null,null,null,null,null,null,{"$f":"Cen!A109","v":"Korp. lišty TIP-ON BLUMOTION, 270mm, 30 kg"},{"$f":"Cen!B109","v":"578.2701M"},{"$f":"Cen!C109","v":"ZN"},{"$f":"$D$25","v":0},{"$f":"Cen!F109","v":417.4},0]
[null,null,null,null,null,null,null,null,null,null,null,null,null,null,null,{"$f":"Cen!A110","v":"Korp. lišty TIP-ON BLUMOTION, 300mm, 30 kg"},{"$f":"Cen!B110","v":"578.3001M"},{"$f":"Cen!C110","v":"ZN"},{"$f":"$E$25","v":0},{"$f":"Cen!F110","v":417.4},0]
[null,null,null,null,null,null,null,null,null,null,null,null,null,null,null,{"$f":"Cen!A111","v":"Korp. lišty TIP-ON BLUMOTION, 350mm, 30 kg"},{"$f":"Cen!B111","v":"578.3501M"},{"$f":"Cen!C111","v":"ZN"},{"$f":"$F$25","v":0},{"$f":"Cen!F111","v":417.4},0]
[null,null,null,null,null,null,null,null,null,null,null,null,null,null,null,{"$f":"Cen!A112","v":"Korp. lišty TIP-ON BLUMOTION, 400mm, 30 kg"},{"$f":"Cen!B112","v":"578.4001M"},{"$f":"Cen!C112","v":"ZN"},{"$f":"$G$25","v":0},{"$f":"Cen!F112","v":420.5},0]
[null,null,null,null,null,null,null,null,null,null,null,null,null,null,null,{"$f":"Cen!A113","v":"Korp. lišty TIP-ON BLUMOTION, 450mm, 30 kg"},{"$f":"Cen!B113","v":"578.4501M"},{"$f":"Cen!C113","v":"ZN"},{"$f":"$H$25","v":0},{"$f":"Cen!F113","v":423.7},0]
[null,null,null,null,null,null,null,null,null,null,null,null,null,null,null,{"$f":"Cen!A114","v":"Korp. lišty TIP-ON BLUMOTION, 450mm, 65 kg"},{"$f":"Cen!B114","v":"578.4501M"},{"$f":"Cen!C114","v":"ZN"},{"$f":"$H$26","v":0},{"$f":"Cen!F114","v":560.79999999999995},0]
[null,null,null,{"$f":"\"     \"&List!$B$269","v":"     Jednotky TIP-ON BLUMOTION jsou přidány automaticky"},null,null,null,null,null,null,null,null,null,null,null,{"$f":"Cen!A115","v":"Korp. lišty TIP-ON BLUMOTION, 500mm, 30 kg"},{"$f":"Cen!B115","v":"578.5001M"},{"$f":"Cen!C115","v":"ZN"},{"$f":"$I$25","v":0},{"$f":"Cen!F115","v":426.8},0]
[null,null,null,{"$f":"\"     \"&List!$B$270","v":"     Synchronizace je přidána automaticky. "},null,null,null,null,null,null,null,null,null,null,null,{"$f":"Cen!A116","v":"Korp. lišty TIP-ON BLUMOTION, 500mm, 65 kg"},{"$f":"Cen!B116","v":"576.5001M"},{"$f":"Cen!C116","v":"ZN"},{"$f":"$I$26","v":0},{"$f":"Cen!F116","v":564},0]
[null,null,null,{"$f":"\"     \"&List!$B$272","v":"     Pro korpusy šířky ≥ 750 mm použijte podpěru dna a podpěru synchronizační hřídele."},null,null,null,null,null,null,null,null,null,null,null,{"$f":"Cen!A117","v":"Korp. lišty TIP-ON BLUMOTION, 550mm, 30 kg"},{"$f":"Cen!B117","v":"578.5501M"},{"$f":"Cen!C117","v":"ZN"},{"$f":"$J$25","v":0},{"$f":"Cen!F117","v":448.6},0]
[null,null,null,{"$f":"\"     \"&List!$B$274","v":"     Podpěry jsou přidány automaticky"},null,null,null,null,null,null,null,null,null,null,null,{"$f":"Cen!A118","v":"Korp. lišty TIP-ON BLUMOTION, 550mm, 65 kg"},{"$f":"Cen!B118","v":"576.5501M"},{"$f":"Cen!C118","v":"ZN"},{"$f":"$J$26","v":0},{"$f":"Cen!F118","v":585.79999999999995},0]
[null,null,null,null,null,null,null,null,null,null,null,null,null,null,null,{"$f":"Cen!A119","v":"Korp. lišty TIP-ON BLUMOTION, 600mm, 30 kg"},{"$f":"Cen!B119","v":"578.6001M"},{"$f":"Cen!C119","v":"ZN"},{"$f":"$K$25","v":0},{"$f":"Cen!F119","v":542},0]
[null,null,null,null,null,null,null,null,null,null,null,null,null,null,null,{"$f":"Cen!A120","v":"Korp. lišty TIP-ON BLUMOTION, 600mm, 65 kg"},{"$f":"Cen!B120","v":"576.6001M"},{"$f":"Cen!C120","v":"ZN"},{"$f":"$K$26","v":0},{"$f":"Cen!F120","v":661.1},0]
[null,null,null,null,null,null,null,null,null,null,null,null,null,null,null,{"$f":"Cen!A121","v":"Korp. lišty TIP-ON BLUMOTION, 650mm, 65 kg"},{"$f":"Cen!B121","v":"576.6501M"},{"$f":"Cen!C121","v":"ZN"},{"$f":"$L$26","v":0},{"$f":"Cen!F121","v":682.9},0]
[]
[null,null,null,null,null,null,null,null,null,null,null,null,null,null,null,{"$f":"Cen!A124","v":"Sada jednotek TIP-ON BLUMOTION, S0"},{"$f":"Cen!B124","v":"T60B3030"},{"$f":"Cen!C124","v":"W"},{"$f":"$D$30","v":0},{"$f":"Cen!F124","v":404.5},{"$f":"S40*T40","v":0}]
[null,null,null,null,null,null,null,null,null,null,null,null,null,null,null,{"$f":"Cen!A125","v":"Sada jednotek TIP-ON BLUMOTION, S1"},{"$f":"Cen!B125","v":"T60B3130"},{"$f":"Cen!C125","v":"R735"},{"$f":"$E$30","v":0},{"$f":"Cen!F125","v":404.5},0]
[null,null,null,null,null,null,null,null,null,null,null,null,null,null,null,{"$f":"Cen!A126","v":"Sada jednotek TIP-ON BLUMOTION, L1"},{"$f":"Cen!B126","v":"T60B3330"},{"$f":"Cen!C126","v":"R735"},{"$f":"$F$30","v":0},{"$f":"Cen!F126","v":404.5},0]
[null,null,null,null,null,null,null,null,null,null,null,null,null,null,null,{"$f":"Cen!A127","v":"Sada jednotek TIP-ON BLUMOTION, L3"},{"$f":"Cen!B127","v":"T60B3530"},{"$f":"Cen!C127","v":"R737"},{"$f":"S32","v":0},{"$f":"Cen!F127","v":404.5},0]
[null,null,null,null,null,null,null,null,null,null,null,null,null,null,null,{"$f":"Cen!A128","v":"Sada jednotek TIP-ON BLUMOTION, L5"},{"$f":"Cen!B128","v":"T60B3560"},{"$f":"Cen!C128","v":"S"},{"$f":"S33","v":0},{"$f":"Cen!F128","v":404.5},0]
[]
[null,null,null,null,null,null,null,null,null,null,null,null,null,null,null,{"$f":"Cen!A130","v":"Synchronizační adaptér"},{"$f":"Cen!B130","v":"T60.000D"},{"$f":"Cen!C130","v":"R735"},{"$f":"SUM($S$40:$S$44)*2","v":0},{"$f":"Cen!F130","v":5.8},0]
[null,null,null,null,null,null,null,null,null,null,null,null,null,null,null,{"$f":"Cen!A131","v":"Hřídel synchronizace"},{"$f":"Cen!B131","v":"T60.1125W"},{"$f":"Cen!C131","v":"GR"},{"$f":"SUM($S$40:$S$44)","v":0},{"$f":"Cen!F131","v":95.6},0]
[null,null,null,null,null,null,null,null,null,null,null,null,null,null,null,{"$f":"Cen!A132","v":"Jednodílná synchronizace"},{"$f":"Cen!B132","v":"T60.300D"},{"$f":"Cen!C132","v":"R735"},null,{"$f":"Cen!F132","v":23.2},0]
[null,null,null,null,null,null,null,null,null,null,null,null,null,null,null,{"$f":"Cen!A134","v":"Držák hřídele synchronizace"},{"$f":"Cen!B134","v":"T60B000H"},{"$f":"Cen!C134","v":"NI"},null,{"$f":"Cen!F134","v":6},0]
[null,null,null,null,null,null,null,null,null,null,null,null,null,null,null,{"$f":"Cen!A135","v":"Podpěrný úhelník pro dno"},{"$f":"Cen!B135","v":"Z96.2011"},{"$f":"Cen!C135","v":"R737"},null,{"$f":"Cen!F135","v":29.8},0]
[]
[null,null,null,null,null,null,null,null,null,null,null,null,null,null,null,{"$f":"Cen!A143","v":"Držáky zadní stěny N, šedé"},{"$f":"Cen!B143","v":"Z30N000S.04"},{"$f":"Cen!C143","v":"R906"},{"$f":"SUM($S$3:$S$11)","v":0},{"$f":"Cen!F143","v":36.5},{"$f":"S52*T52","v":0}]
[null,null,null,null,null,null,null,null,null,null,null,null,null,null,null,{"$f":"Cen!A147","v":"Držáky zadní stěny M, šedé"},{"$f":"Cen!B147","v":"Z30M000S.04"},{"$f":"Cen!C147","v":"R906"},null,{"$f":"Cen!F147","v":40.200000000000003},{"$f":"S53*T53","v":0}]
[null,null,null,null,null,null,null,null,null,null,null,null,null,null,null,{"$f":"Cen!A151","v":"Držáky zadní stěny K, šedé"},{"$f":"Cen!B151","v":"Z30K000S"},{"$f":"Cen!C151","v":"R906"},null,{"$f":"Cen!F151","v":67.400000000000006},0]
[null,null,null,null,null,null,null,null,null,null,null,null,null,null,null,{"$f":"Cen!A154","v":"Držáky zadní stěny B, šedé"},{"$f":"Cen!B154","v":"Z30B000S.04"},{"$f":"Cen!C154","v":"R906"},null,{"$f":"Cen!F154","v":48.8},0]
[null,null,null,null,null,null,null,null,null,null,null,null,null,null,null,{"$f":"Cen!A158","v":"Držáky zadní stěny C, šedé"},{"$f":"Cen!B158","v":"Z30C000S"},{"$f":"Cen!C158","v":"R906"},null,{"$f":"Cen!F158","v":71},0]
[null,null,null,null,null,null,null,null,null,null,null,null,null,null,null,{"$f":"Cen!A162","v":"Držáky zadní stěny D, šedé"},{"$f":"Cen!B162","v":"Z30D000S"},{"$f":"Cen!C162","v":"R906"},{"$f":"SUM($S$3:$S$11)*2","v":0},{"$f":"Cen!F162","v":78.099999999999994},{"$f":"S57*T57","v":0}]
[]
[null,null,null,null,null,null,null,null,null,null,null,null,null,null,null,{"$f":"Cen!A173","v":"Čelní kování INSERTA"},{"$f":"Cen!B173","v":"ZSF.39A2"},{"$f":"Cen!C173","v":"BL"},{"$f":"SUM($S$3:$S$11)*2","v":0},{"$f":"Cen!F173","v":22.4},0]
[]
[null,null,null,null,null,null,null,null,null,null,null,null,null,null,null,{"$f":"Cen!A365","v":"Adaptér příčky dřezového výsuvu"},{"$f":"Cen!B365","v":"Z30N0002.6Z"},{"$f":"Cen!C365","v":"R737"},{"$f":"SUM($S$3:$S$11)","v":0},{"$f":"Cen!F365","v":54},0]
[]
[null,null,null,null,null,null,null,null,null,null,null,null,null,null,null,{"$f":"Cen!A215","v":"Podélný reling vlevo/vpravo, 270mm, šedý"},{"$f":"Cen!B215","v":"ZRG.207RSIC"},{"$f":"Cen!C215","v":"R906"},{"$f":"S3","v":0},{"$f":"Cen!F215","v":150},{"$f":"S63*T63","v":0}]
[null,null,null,null,null,null,null,null,null,null,null,null,null,null,null,{"$f":"Cen!A219","v":"Podélný reling vlevo/vpravo, 300mm, šedý"},{"$f":"Cen!B219","v":"ZRG.237RSIC"},{"$f":"Cen!C219","v":"R906"},0,{"$f":"Cen!F219","v":152.5},0]
[null,null,null,null,null,null,null,null,null,null,null,null,null,null,null,{"$f":"Cen!A223","v":"Podélný reling vlevo/vpravo, 350mm, šedý"},{"$f":"Cen!B223","v":"ZRG.287RSIC"},{"$f":"Cen!C223","v":"R906"},0,{"$f":"Cen!F223","v":155},0]
[null,null,null,null,null,null,null,null,null,null,null,null,null,null,null,{"$f":"Cen!A227","v":"Podélný reling vlevo/vpravo, 400mm, šedý"},{"$f":"Cen!B227","v":"ZRG.337RSIC"},{"$f":"Cen!C227","v":"R906"},0,{"$f":"Cen!F227","v":157.5},0]
[null,null,null,null,null,null,null,null,null,null,null,null,null,null,null,{"$f":"Cen!A231","v":"Podélný reling vlevo/vpravo, 450mm, šedý"},{"$f":"Cen!B231","v":"ZRG.387RSIC"},{"$f":"Cen!C231","v":"R906"},0,{"$f":"Cen!F231","v":160},0]
[null,null,null,null,null,null,null,null,null,null,null,null,null,null,null,{"$f":"Cen!A235","v":"Podélný reling vlevo/vpravo, 500mm, šedý"},{"$f":"Cen!B235","v":"ZRG.437RSIC"},{"$f":"Cen!C235","v":"R906"},0,{"$f":"Cen!F235","v":178.7},0]
[null,null,null,null,null,null,null,null,null,null,null,null,null,null,null,{"$f":"Cen!A239","v":"Podélný reling vlevo/vpravo, 550mm, šedý"},{"$f":"Cen!B239","v":"ZRG.487RSIC"},{"$f":"Cen!C239","v":"R906"},{"$f":"S9","v":0},{"$f":"Cen!F239","v":169.4},0]
[null,null,null,null,null,null,null,null,null,null,null,null,null,null,null,{"$f":"Cen!A243","v":"Podélný reling vlevo/vpravo, 600mm, šedý"},{"$f":"Cen!B243","v":"ZRG.537RSIC"},{"$f":"Cen!C243","v":"R906"},{"$f":"S10","v":0},{"$f":"Cen!F243","v":176.3},0]
[null,null,null,null,null,null,null,null,null,null,null,null,null,null,null,{"$f":"Cen!A247","v":"Podélný reling vlevo/vpravo, 650mm, šedý"},{"$f":"Cen!B247","v":"ZRG.587RSIC"},{"$f":"Cen!C247","v":"R906"},{"$f":"S11","v":0},{"$f":"Cen!F247","v":183.2},0]
[]
[null,null,null,null,null,null,null,null,null,null,null,null,null,null,null,{"$f":"Cen!A328","v":"Sada držáků zásuvného prvku D, bílošedá"},{"$f":"Cen!B328","v":"Z36D0080"},{"$f":"Cen!C328","v":"WGR"},{"$f":"SUM($S$3:$S$11)","v":0},{"$f":"Cen!F328","v":63.3},{"$f":"S73*T73","v":0}]
[]
[null,null,null,null,null,null,null,null,null,null,null,null,null,null,null,{"$f":"Cen!A254","v":"Zásuvný prvek D, 270mm, čiré sko"},{"$f":"Cen!B254","v":"Z37R237D"},{"$f":"Cen!C254","v":"KL"},{"$f":"S3","v":0},{"$f":"Cen!F254","v":269.10000000000002},{"$f":"S75*T75","v":0}]
[null,null,null,null,null,null,null,null,null,null,null,null,null,null,null,{"$f":"Cen!A256","v":"Zásuvný prvek D, 300mm, čiré sko"},{"$f":"Cen!B256","v":"Z37R267D"},{"$f":"Cen!C256","v":"KL"},0,{"$f":"Cen!F256","v":279},0]
[null,null,null,null,null,null,null,null,null,null,null,null,null,null,null,{"$f":"Cen!A258","v":"Zásuvný prvek D, 350mm, čiré sko"},{"$f":"Cen!B258","v":"Z37R317D"},{"$f":"Cen!C258","v":"KL"},0,{"$f":"Cen!F258","v":240.82},0]
[null,null,null,null,null,null,null,null,null,null,null,null,null,null,null,{"$f":"Cen!A260","v":"Zásuvný prvek D, 400mm, čiré sko"},{"$f":"Cen!B260","v":"Z37R367D"},{"$f":"Cen!C260","v":"KL"},0,{"$f":"Cen!F260","v":265.39999999999998},0]
[null,null,null,null,null,null,null,null,null,null,null,null,null,null,null,{"$f":"Cen!A262","v":"Zásuvný prvek D, 450mm, čiré sko"},{"$f":"Cen!B262","v":"Z37R417D"},{"$f":"Cen!C262","v":"KL"},0,{"$f":"Cen!F262","v":290},0]
[null,null,null,null,null,null,null,null,null,null,null,null,null,null,null,{"$f":"Cen!A264","v":"Zásuvný prvek D, 500mm, čiré sko"},{"$f":"Cen!B264","v":"Z37R467D"},{"$f":"Cen!C264","v":"KL"},0,{"$f":"Cen!F264","v":314.56},0]
[null,null,null,null,null,null,null,null,null,null,null,null,null,null,null,{"$f":"Cen!A266","v":"Zásuvný prvek D, 550mm, čiré sko"},{"$f":"Cen!B266","v":"Z37R517D"},{"$f":"Cen!C266","v":"KL"},0,{"$f":"Cen!F266","v":336.68},0]
[null,null,null,null,null,null,null,null,null,null,null,null,null,null,null,{"$f":"Cen!A268","v":"Zásuvný prvek D, 600mm, čiré sko"},{"$f":"Cen!B268","v":"Z37R567D"},{"$f":"Cen!C268","v":"KL"},0,{"$f":"Cen!F268","v":358.8},0]
[null,null,null,null,null,null,null,null,null,null,null,null,null,null,null,{"$f":"Cen!A270","v":"Zásuvný prvek D, 650mm, čiré sko"},{"$f":"Cen!B270","v":"Z37R617D"},{"$f":"Cen!C270","v":"KL"},0,{"$f":"Cen!F270","v":378.7},0]
[]
[]
[]
[]
[]
[]
[null,null,null,null,null,null,null,null,null,null,null,null,null,null,null,null,null,null,null,null,{"$f":"SUM(U3:V88)","v":0}]
[]
[]
[]
[]
[]
[]
[]
[null,null,null,null,null,null,null,null,null,null,null,null,null,null,null,{"$f":"List!$B$276&\"!\"","v":"S0 a S1 pouze pro jmenovitou délku 270 a 300 mm!"}]
[null,null,null,null,null,null,null,null,null,null,null,null,null,null,null,{"$f":"List!$B$277&\"!\"","v":"Pro výsuvy délky 270 a 300 mm vyberte jednotky S0 nebo S1!"}]
[null,null,null,null,null,null,null,null,null,null,null,null,null,null,null,{"$f":"List!$B$278&\"!\"","v":"Počet jednotek L neodpovídá počtu korpusových lišt!"}]
[null,{"$f":"List!B25","v":"Informace k objednávání"},null,null,null,null,null,null,null,null,null,null,null,null,null,{"$f":"List!$B$279&\"!\"","v":"Počet jednotek S neodpovídá počtu korpusových lišt!"}]
[]
[]
[null,null,null,{"$f":"List!B268&\" \"&List!B283","v":"Sada jednotek TIP-ON BLUMOTION a sada unašečů TIP-ON BLUMOTION"}]
[null,null,null,{"$f":"List!$B$280&\":\"","v":"Využití pro:"},null,null,null,null,null,{"$f":"List!B281&\"*\"","v":"Doporučené hodnoty hmotnosti*"}]
[null,null,null,{"$f":"List!B45&\" (NL)\"","v":"Jmenovitá délka (NL)"},null,null,{"$f":"List!B275","v":"Jednotka"},{"$f":"List!B88","v":"Číslo artiklu"}]
[null,null,null,"270 - 300 mm",null,null,"S0","T60L7040",null,"≤ 10 kg"]
[null,null,null,null,null,null,"S1","T60L7140",null,"10-20 kg"]
[null,null,null,"350 - 650 mm",null,null,"L1","T60L7340",null,"≤ 20 kg"]
[null,null,null,null,null,null,"L3","T60L7540",null,"5 - 40 kg"]
[null,null,null,null,null,null,"L5","T60L7570",null,null,"25 - 70 kg"]
[null,null,null,null,null,null,null,{"$f":"\"* \"&List!B282","v":"* Celková hmotnost výsuvu (hmotnost výsuvu včetně náplně)"}]
[]
[null,null,null,null,null,null,null,null,null,null,null,null,null,{"$f":"List!$B$99","v":"Zpět"}]
[]
[]
[]
[]
[]
[]
[]
[]
[]
[]
[]
[]
[]
[]
[]
[]
[]
[]
[]
[]
[]
[]
[]
[]
[]
[]
[]
[]
[]
[]
[]
[]
[]
[]
[]
[]
[]
[]
[]
[]
[]
[]
[]
[]
[]
[]
[]
[]
[]
[]
[]
[]
[]
[]
[]
[]
[]
[]
[]
[]
[null,{"$f":"\"  \"&List!$C$197&\":\"","v":"  Minimální rozměry přířezu dna:"}]
[null,"  X1, X2 = 108 mm"]
[null,"         Y = 108 mm"]
[]
[null,{"$f":"\"  \"&List!$C$198&\"!\"","v":"  Není-li možné minimální rozměry dodržet, nelze použít výsuvy s TIP-ON BLUMOTION!"}]
[]
[null,{"$f":"\"  \"&List!$B$196","v":"  0"}]
[]
[null,null,null,null,null,null,null,null,{"$f":"List!$B$99","v":"Zpět"}]

{"sheet":"AD342M","index":29,"n_rows":193,"n_cols":22,"rows_kept":193,"cut":false,"hidden":false,"merged":[[108,7,108,8],[108,9,108,10],[109,7,109,8],[109,10,109,11],[110,7,111,11],[158,0,199,0],[192,8,192,9],[98,0,139,0],[99,1,100,11],[102,1,102,2],[102,3,102,11],[103,1,111,2],[103,3,103,8],[103,9,104,11],[104,3,104,5],[104,7,104,8],[105,3,106,5],[105,7,105,8],[106,7,106,8],[107,3,109,5],[107,7,107,8]]}
[]
[null,null,null,null,null,null,null,null,null,null,null,{"$f":"List!$B$51&\" D, \"&List!$B$63","v":"Dřezový výsuv D, kovový zásuvný prvek"},null,null,null,"Počty zásuvek →",{"$f":"SUM(D19:K19)","v":0},{"$f":"SUM(H20:L20)","v":0},{"$f":"SUM(D25:K25)","v":0},{"$f":"SUM(H26:L26)","v":0},{"$f":"Form!N2","v":1},"←barva"]
[null,null,null,null,null,null,null,null,null,null,null,null,null,{"$f":"List!$B$11&\":\"","v":"Zpět na:"},null,{"$f":"Cen!A28","v":"Bočnice M 270mm, šedé"},{"$f":"Cen!B28","v":"378M2702SA"},{"$f":"Cen!C28","v":"R906"},null,{"$f":"Cen!F28","v":350.6},{"$f":"S3*T3","v":0}]
[null,null,null,null,null,null,null,null,{"$f":"List!$B$72&\":\"","v":"bočnice:"},null,"M",null,null,{"$f":"\" \"&List!$B$13","v":" Úvod"},null,{"$f":"Cen!A32","v":"Bočnice M 300mm, šedé"},{"$f":"Cen!B32","v":"378M3002SA"},{"$f":"Cen!C32","v":"R906"},null,{"$f":"Cen!F32","v":350.6},0]
[null,null,null,null,null,null,null,null,{"$f":"List!$B$27&\":\"","v":"barva:"},null,{"$f":"Form!$O$2","v":"šedá"},null,null,{"$f":"\" \"&List!$B$4","v":" Výběr zásuvek a výsuvů"},null,{"$f":"Cen!A36","v":"Bočnice M 350mm, šedé"},{"$f":"Cen!B36","v":"378M3502SA"},{"$f":"Cen!C36","v":"R906"},null,{"$f":"Cen!F36","v":350.6},0]
[null,null,null,null,null,null,null,null,null,null,null,null,null,null,null,{"$f":"Cen!A40","v":"Bočnice M 400mm, šedé"},{"$f":"Cen!B40","v":"378M4002SA"},{"$f":"Cen!C40","v":"R906"},null,{"$f":"Cen!F40","v":354.3},0]
[null,null,null,null,null,null,null,null,{"$f":"List!$B$36&\":\"","v":"čelní kování:"},null,{"$f":"Form!$O$13","v":"INSERTA"},null,null,{"$f":"List!$B$12&\":\"","v":"Pokračovat na:"},null,{"$f":"Cen!A44","v":"Bočnice M 450mm, šedé"},{"$f":"Cen!B44","v":"378M4502SA"},{"$f":"Cen!C44","v":"R906"},null,{"$f":"Cen!F44","v":358.1},0]
[null,null,null,null,null,null,null,null,null,null,null,null,null,{"$f":"\" \"&List!$B$5","v":" Výběr doplňků"},null,{"$f":"Cen!A48","v":"Bočnice M 500mm, šedé"},{"$f":"Cen!B48","v":"378M5002SA"},{"$f":"Cen!C48","v":"R906"},{"$f":"IF($U$2=4, 0, SUM($I$19:$I$20, $I$25:$I$26))","v":0},{"$f":"Cen!F48","v":397.4},0]
[null,null,null,null,null,null,null,null,null,null,null,null,null,{"$f":"\" \"&List!$B$6","v":" Výběr SERVO-DRIVE"},null,{"$f":"Cen!A52","v":"Bočnice M 550mm, šedé"},{"$f":"Cen!B52","v":"378M5502SA"},{"$f":"Cen!C52","v":"R906"},null,{"$f":"Cen!F52","v":399.2},0]
[null,null,null,null,null,null,null,null,null,null,null,null,null,{"$f":"\" \"&List!$B$7","v":" Výběr ORGA-LINE"},null,{"$f":"Cen!A56","v":"Bočnice M 600mm, šedé"},{"$f":"Cen!B56","v":"378M6002SA"},{"$f":"Cen!C56","v":"R906"},null,{"$f":"Cen!F56","v":508.3},0]
[null,null,null,null,null,null,null,null,null,null,null,null,null,{"$f":"\" \"&List!$B$18","v":" Souhrn"},null,{"$f":"Cen!A60","v":"Bočnice M 650mm, šedé"},{"$f":"Cen!B60","v":"378M6502SA"},{"$f":"Cen!C60","v":"R906"},null,{"$f":"Cen!F60","v":536.29999999999995},0]
[]
[null,null,null,null,null,null,null,null,null,null,null,null,null,null,null,{"$f":"Cen!A359","v":"Bočnice dřezové, 500 mm, šedé"},{"$f":"Cen!B359","v":"378M5004SG"},{"$f":"Cen!C359","v":"WA/G"},{"$f":"IF($U$2=4, 0, SUM($I$19:$I$20, $I$25:$I$26))","v":0},{"$f":"Cen!F359","v":509.4},0]
[null,null,null,null,null,null,{"$f":"IF($U$2=4, P103, \" \")","v":" "}]
[null,null,null,null,null,null,{"$f":"IF($U$2=4, P104, \" \")","v":" "},null,null,null,null,null,null,null,null,{"$f":"Cen!A96","v":"Korpusové lišty 350mm, BLUMOTION, 30kg"},{"$f":"Cen!B96","v":"578.3501B"},{"$f":"Cen!C96","v":"ZN"},null,{"$f":"Cen!F96","v":459.2},0]
[null,null,null,null,null,null,null,null,null,null,null,null,null,null,null,{"$f":"Cen!A97","v":"Korpusové lišty 400mm, BLUMOTION, 30kg"},{"$f":"Cen!B97","v":"578.4001B"},{"$f":"Cen!C97","v":"ZN"},null,{"$f":"Cen!F97","v":462.6},0]
[null,"BLUMOTION",null,null,null,null,null,null,null,null,null,null,null,null,null,{"$f":"Cen!A98","v":"Korpusové lišty 450mm, BLUMOTION, 30kg"},{"$f":"Cen!B98","v":"578.4501B"},{"$f":"Cen!C98","v":"ZN"},null,{"$f":"Cen!F98","v":466},0]
[null,null,{"$f":"List!$B$45&\":\"","v":"Jmenovitá délka:"},"270 mm","300 mm","350 mm","400 mm","450 mm","500 mm","550 mm","600 mm","650 mm",null,null,null,{"$f":"Cen!A99","v":"Korpusové lišty 450mm, BLUMOTION, 65kg"},{"$f":"Cen!B99","v":"576.4501B"},{"$f":"Cen!C99","v":"ZN"},null,{"$f":"Cen!F99","v":560.79999999999995},0]
[null,"AD342BS","30 kg",null,null,null,null,null,null,null,null,null,null,null,null,{"$f":"Cen!A100","v":"Korpusové lišty 500mm, BLUMOTION, 30kg"},{"$f":"Cen!B100","v":"578.5001B"},{"$f":"Cen!C100","v":"ZN"},{"$f":"IF($U$2=4, 0, $I$19)","v":0},{"$f":"Cen!F100","v":469.5},0]
[null,"AD642BS","65 kg",null,null,null,null,null,null,null,null,null,null,null,null,{"$f":"Cen!A101","v":"Korpusové lišty 500mm, BLUMOTION, 65kg"},{"$f":"Cen!B101","v":"576.5001B"},{"$f":"Cen!C101","v":"ZN"},{"$f":"IF($U$2=4, 0, $I$20)","v":0},{"$f":"Cen!F101","v":620.4},0]
[null,null,null,null,null,null,null,null,null,null,null,null,null,null,null,{"$f":"Cen!A102","v":"Korpusové lišty 550mm, BLUMOTION, 30kg"},{"$f":"Cen!B102","v":"578.5501B"},{"$f":"Cen!C102","v":"ZN"},null,{"$f":"Cen!F102","v":493.5},0]
[null,null,null,null,null,null,null,null,null,null,null,null,null,null,null,{"$f":"Cen!A103","v":"Korpusové lišty 550mm, BLUMOTION, 65kg"},{"$f":"Cen!B103","v":"576.5501B"},{"$f":"Cen!C103","v":"ZN"},null,{"$f":"Cen!F103","v":644.29999999999995},0]
[null,"TIP-ON BLUMOTION",null,null,null,null,null,null,null,null,null,null,null,null,null,{"$f":"Cen!A104","v":"Korpusové lišty 600mm, BLUMOTION, 30kg"},{"$f":"Cen!B104","v":"578.6001B"},{"$f":"Cen!C104","v":"ZN"},null,{"$f":"Cen!F104","v":523.9},0]
[null,null,{"$f":"List!$B$45&\":\"","v":"Jmenovitá délka:"},"270 mm","300 mm","350 mm","400 mm","450 mm","500 mm","550 mm","600 mm","650 mm",null,null,null,{"$f":"Cen!A105","v":"Korpusové lišty 600mm, BLUMOTION, 65kg"},{"$f":"Cen!B105","v":"576.6001B"},{"$f":"Cen!C105","v":"ZN"},null,{"$f":"Cen!F105","v":661.1},0]
[null,"AD342MS","30 kg",null,null,null,null,null,null,null,null,null,null,null,null,{"$f":"Cen!A106","v":"Korpusové lišty 650mm, BLUMOTION, 65kg"},{"$f":"Cen!B106","v":"576.6501B"},{"$f":"Cen!C106","v":"ZN"},null,{"$f":"Cen!F106","v":751.2},0]
[null,"AD642MS","65 kg",null,null,null,null,null,null,null,null,null,null,null,null,{"$f":"Cen!A109","v":"Korp. lišty TIP-ON BLUMOTION, 270mm, 30 kg"},{"$f":"Cen!B109","v":"578.2701M"},{"$f":"Cen!C109","v":"ZN"},null,{"$f":"Cen!F109","v":417.4},0]
[null,null,null,null,null,null,null,null,null,null,null,null,null,null,null,{"$f":"Cen!A110","v":"Korp. lišty TIP-ON BLUMOTION, 300mm, 30 kg"},{"$f":"Cen!B110","v":"578.3001M"},{"$f":"Cen!C110","v":"ZN"},null,{"$f":"Cen!F110","v":417.4},0]
[null,null,null,null,null,null,null,null,null,null,null,null,null,null,null,{"$f":"Cen!A111","v":"Korp. lišty TIP-ON BLUMOTION, 350mm, 30 kg"},{"$f":"Cen!B111","v":"578.3501M"},{"$f":"Cen!C111","v":"ZN"},null,{"$f":"Cen!F111","v":417.4},0]
[null,null,null,null,null,null,null,null,null,null,null,null,null,null,null,{"$f":"Cen!A112","v":"Korp. lišty TIP-ON BLUMOTION, 400mm, 30 kg"},{"$f":"Cen!B112","v":"578.4001M"},{"$f":"Cen!C112","v":"ZN"},null,{"$f":"Cen!F112","v":420.5},0]
[null,null,null,null,null,null,null,null,null,null,null,null,null,null,null,{"$f":"Cen!A113","v":"Korp. lišty TIP-ON BLUMOTION, 450mm, 30 kg"},{"$f":"Cen!B113","v":"578.4501M"},{"$f":"Cen!C113","v":"ZN"},null,{"$f":"Cen!F113","v":423.7},0]
[null,null,null,null,null,null,null,null,null,null,null,null,null,null,null,{"$f":"Cen!A114","v":"Korp. lišty TIP-ON BLUMOTION, 450mm, 65 kg"},{"$f":"Cen!B114","v":"578.4501M"},{"$f":"Cen!C114","v":"ZN"},null,{"$f":"Cen!F114","v":560.79999999999995},0]
[null,null,null,{"$f":"\"     \"&List!$B$269","v":"     Jednotky TIP-ON BLUMOTION jsou přidány automaticky"},null,null,null,null,null,null,null,null,null,null,null,{"$f":"Cen!A115","v":"Korp. lišty TIP-ON BLUMOTION, 500mm, 30 kg"},{"$f":"Cen!B115","v":"578.5001M"},{"$f":"Cen!C115","v":"ZN"},{"$f":"IF($U$2=4, 0, $I$25)","v":0},{"$f":"Cen!F115","v":426.8},0]
[null,null,null,{"$f":"\"     \"&List!$B$270","v":"     Synchronizace je přidána automaticky. "},null,null,null,null,null,null,null,null,null,null,null,{"$f":"Cen!A116","v":"Korp. lišty TIP-ON BLUMOTION, 500mm, 65 kg"},{"$f":"Cen!B116","v":"576.5001M"},{"$f":"Cen!C116","v":"ZN"},{"$f":"IF($U$2=4, 0, $I$26)","v":0},{"$f":"Cen!F116","v":564},0]
[null,null,null,{"$f":"\"     \"&List!$B$272","v":"     Pro korpusy šířky ≥ 750 mm použijte podpěru dna a podpěru synchronizační hřídele."},null,null,null,null,null,null,null,null,null,null,null,{"$f":"Cen!A117","v":"Korp. lišty TIP-ON BLUMOTION, 550mm, 30 kg"},{"$f":"Cen!B117","v":"578.5501M"},{"$f":"Cen!C117","v":"ZN"},null,{"$f":"Cen!F117","v":448.6},0]
[null,null,null,{"$f":"\"     \"&List!$B$274","v":"     Podpěry jsou přidány automaticky"},null,null,null,null,null,null,null,null,null,null,null,{"$f":"Cen!A118","v":"Korp. lišty TIP-ON BLUMOTION, 550mm, 65 kg"},{"$f":"Cen!B118","v":"576.5501M"},{"$f":"Cen!C118","v":"ZN"},null,{"$f":"Cen!F118","v":585.79999999999995},0]
[null,null,null,null,null,null,null,null,null,null,null,null,null,null,null,{"$f":"Cen!A119","v":"Korp. lišty TIP-ON BLUMOTION, 600mm, 30 kg"},{"$f":"Cen!B119","v":"578.6001M"},{"$f":"Cen!C119","v":"ZN"},null,{"$f":"Cen!F119","v":542},0]
[null,null,null,null,null,null,null,null,null,null,null,null,null,null,null,{"$f":"Cen!A120","v":"Korp. lišty TIP-ON BLUMOTION, 600mm, 65 kg"},{"$f":"Cen!B120","v":"576.6001M"},{"$f":"Cen!C120","v":"ZN"},null,{"$f":"Cen!F120","v":661.1},0]
[null,null,null,null,null,null,null,null,null,null,null,null,null,null,null,{"$f":"Cen!A121","v":"Korp. lišty TIP-ON BLUMOTION, 650mm, 65 kg"},{"$f":"Cen!B121","v":"576.6501M"},{"$f":"Cen!C121","v":"ZN"},null,{"$f":"Cen!F121","v":682.9},0]
[]
[null,null,null,null,null,null,null,null,null,null,null,null,null,null,null,{"$f":"Cen!A124","v":"Sada jednotek TIP-ON BLUMOTION, S0"},{"$f":"Cen!B124","v":"T60B3030"},{"$f":"Cen!C124","v":"W"},null,{"$f":"Cen!F124","v":404.5},{"$f":"S40*T40","v":0}]
[null,null,null,null,null,null,null,null,null,null,null,null,null,null,null,{"$f":"Cen!A125","v":"Sada jednotek TIP-ON BLUMOTION, S1"},{"$f":"Cen!B125","v":"T60B3130"},{"$f":"Cen!C125","v":"R735"},null,{"$f":"Cen!F125","v":404.5},0]
[null,null,null,null,null,null,null,null,null,null,null,null,null,null,null,{"$f":"Cen!A126","v":"Sada jednotek TIP-ON BLUMOTION, L1"},{"$f":"Cen!B126","v":"T60B3330"},{"$f":"Cen!C126","v":"R735"},null,{"$f":"Cen!F126","v":404.5},0]
[null,null,null,null,null,null,null,null,null,null,null,null,null,null,null,{"$f":"Cen!A127","v":"Sada jednotek TIP-ON BLUMOTION, L3"},{"$f":"Cen!B127","v":"T60B3530"},{"$f":"Cen!C127","v":"R737"},{"$f":"S32","v":0},{"$f":"Cen!F127","v":404.5},0]
[null,null,null,null,null,null,null,null,null,null,null,null,null,null,null,{"$f":"Cen!A128","v":"Sada jednotek TIP-ON BLUMOTION, L5"},{"$f":"Cen!B128","v":"T60B3560"},{"$f":"Cen!C128","v":"S"},{"$f":"S33","v":0},{"$f":"Cen!F128","v":404.5},0]
[]
[null,null,null,null,null,null,null,null,null,null,null,null,null,null,null,{"$f":"Cen!A130","v":"Synchronizační adaptér"},{"$f":"Cen!B130","v":"T60.000D"},{"$f":"Cen!C130","v":"R735"},{"$f":"SUM($S$40:$S$44)*2","v":0},{"$f":"Cen!F130","v":5.8},0]
[null,null,null,null,null,null,null,null,null,null,null,null,null,null,null,{"$f":"Cen!A131","v":"Hřídel synchronizace"},{"$f":"Cen!B131","v":"T60.1125W"},{"$f":"Cen!C131","v":"GR"},{"$f":"SUM($S$40:$S$44)","v":0},{"$f":"Cen!F131","v":95.6},0]
[null,null,null,null,null,null,null,null,null,null,null,null,null,null,null,{"$f":"Cen!A132","v":"Jednodílná synchronizace"},{"$f":"Cen!B132","v":"T60.300D"},{"$f":"Cen!C132","v":"R735"},null,{"$f":"Cen!F132","v":23.2},0]
[null,null,null,null,null,null,null,null,null,null,null,null,null,null,null,{"$f":"Cen!A134","v":"Držák hřídele synchronizace"},{"$f":"Cen!B134","v":"T60B000H"},{"$f":"Cen!C134","v":"NI"},null,{"$f":"Cen!F134","v":6},0]
[null,null,null,null,null,null,null,null,null,null,null,null,null,null,null,{"$f":"Cen!A135","v":"Podpěrný úhelník pro dno"},{"$f":"Cen!B135","v":"Z96.2011"},{"$f":"Cen!C135","v":"R737"},null,{"$f":"Cen!F135","v":29.8},0]
[]
[null,null,null,null,null,null,null,null,null,null,null,null,null,null,null,{"$f":"Cen!A143","v":"Držáky zadní stěny N, šedé"},{"$f":"Cen!B143","v":"Z30N000S.04"},{"$f":"Cen!C143","v":"R906"},{"$f":"SUM($S$3:$S$11)","v":0},{"$f":"Cen!F143","v":36.5},{"$f":"S52*T52","v":0}]
[null,null,null,null,null,null,null,null,null,null,null,null,null,null,null,{"$f":"Cen!A147","v":"Držáky zadní stěny M, šedé"},{"$f":"Cen!B147","v":"Z30M000S.04"},{"$f":"Cen!C147","v":"R906"},null,{"$f":"Cen!F147","v":40.200000000000003},{"$f":"S53*T53","v":0}]
[null,null,null,null,null,null,null,null,null,null,null,null,null,null,null,{"$f":"Cen!A151","v":"Držáky zadní stěny K, šedé"},{"$f":"Cen!B151","v":"Z30K000S"},{"$f":"Cen!C151","v":"R906"},null,{"$f":"Cen!F151","v":67.400000000000006},0]
[null,null,null,null,null,null,null,null,null,null,null,null,null,null,null,{"$f":"Cen!A154","v":"Držáky zadní stěny B, šedé"},{"$f":"Cen!B154","v":"Z30B000S.04"},{"$f":"Cen!C154","v":"R906"},null,{"$f":"Cen!F154","v":48.8},0]
[null,{"$f":"IF(OR($K$14>0, $L$14>0), List!$B$196, \" \")","v":" "},null,null,null,null,null,null,null,null,null,null,null,null,null,{"$f":"Cen!A158","v":"Držáky zadní stěny C, šedé"},{"$f":"Cen!B158","v":"Z30C000S"},{"$f":"Cen!C158","v":"R906"},null,{"$f":"Cen!F158","v":71},0]
[null,{"$f":"IF(OR($K$14>0, $L$14>0), List!$B$200, \" \")","v":" "},null,null,null,null,null,null,null,null,null,null,null,null,null,{"$f":"Cen!A162","v":"Držáky zadní stěny D, šedé"},{"$f":"Cen!B162","v":"Z30D000S"},{"$f":"Cen!C162","v":"R906"},{"$f":"SUM($S$3:$S$11)*2","v":0},{"$f":"Cen!F162","v":78.099999999999994},{"$f":"S57*T57","v":0}]
[]
[null,null,null,null,null,null,null,null,null,null,null,null,null,null,null,{"$f":"Cen!A173","v":"Čelní kování INSERTA"},{"$f":"Cen!B173","v":"ZSF.39A2"},{"$f":"Cen!C173","v":"BL"},{"$f":"SUM($S$3:$S$11)*2","v":0},{"$f":"Cen!F173","v":22.4},0]
[]
[null,null,null,null,null,null,null,null,null,null,null,null,null,null,null,{"$f":"Cen!A365","v":"Adaptér příčky dřezového výsuvu"},{"$f":"Cen!B365","v":"Z30N0002.6Z"},{"$f":"Cen!C365","v":"R737"},{"$f":"SUM($S$3:$S$11)","v":0},{"$f":"Cen!F365","v":54},0]
[]
[null,null,null,null,null,null,null,null,null,null,null,null,null,null,null,{"$f":"Cen!A215","v":"Podélný reling vlevo/vpravo, 270mm, šedý"},{"$f":"Cen!B215","v":"ZRG.207RSIC"},{"$f":"Cen!C215","v":"R906"},null,{"$f":"Cen!F215","v":150},{"$f":"S63*T63","v":0}]
[null,null,null,null,null,null,null,null,null,null,null,null,null,null,null,{"$f":"Cen!A219","v":"Podélný reling vlevo/vpravo, 300mm, šedý"},{"$f":"Cen!B219","v":"ZRG.237RSIC"},{"$f":"Cen!C219","v":"R906"},null,{"$f":"Cen!F219","v":152.5},0]
[null,null,null,null,null,null,null,null,null,null,null,null,null,null,null,{"$f":"Cen!A223","v":"Podélný reling vlevo/vpravo, 350mm, šedý"},{"$f":"Cen!B223","v":"ZRG.287RSIC"},{"$f":"Cen!C223","v":"R906"},null,{"$f":"Cen!F223","v":155},0]
[null,null,null,null,null,null,null,null,null,null,null,null,null,null,null,{"$f":"Cen!A227","v":"Podélný reling vlevo/vpravo, 400mm, šedý"},{"$f":"Cen!B227","v":"ZRG.337RSIC"},{"$f":"Cen!C227","v":"R906"},null,{"$f":"Cen!F227","v":157.5},0]
[null,null,null,null,null,null,null,null,null,null,null,null,null,null,null,{"$f":"Cen!A231","v":"Podélný reling vlevo/vpravo, 450mm, šedý"},{"$f":"Cen!B231","v":"ZRG.387RSIC"},{"$f":"Cen!C231","v":"R906"},null,{"$f":"Cen!F231","v":160},0]
[null,null,null,null,null,null,null,null,null,null,null,null,null,null,null,{"$f":"Cen!A235","v":"Podélný reling vlevo/vpravo, 500mm, šedý"},{"$f":"Cen!B235","v":"ZRG.437RSIC"},{"$f":"Cen!C235","v":"R906"},{"$f":"S8","v":0},{"$f":"Cen!F235","v":178.7},0]
[null,null,null,null,null,null,null,null,null,null,null,null,null,null,null,{"$f":"Cen!A239","v":"Podélný reling vlevo/vpravo, 550mm, šedý"},{"$f":"Cen!B239","v":"ZRG.487RSIC"},{"$f":"Cen!C239","v":"R906"},null,{"$f":"Cen!F239","v":169.4},0]
[null,null,null,null,null,null,null,null,null,null,null,null,null,null,null,{"$f":"Cen!A243","v":"Podélný reling vlevo/vpravo, 600mm, šedý"},{"$f":"Cen!B243","v":"ZRG.537RSIC"},{"$f":"Cen!C243","v":"R906"},null,{"$f":"Cen!F243","v":176.3},0]
[null,null,null,null,null,null,null,null,null,null,null,null,null,null,null,{"$f":"Cen!A247","v":"Podélný reling vlevo/vpravo, 650mm, šedý"},{"$f":"Cen!B247","v":"ZRG.587RSIC"},{"$f":"Cen!C247","v":"R906"},null,{"$f":"Cen!F247","v":183.2},0]
[]
[null,null,null,null,null,null,null,null,null,null,null,null,null,null,null,{"$f":"Cen!A328","v":"Sada držáků zásuvného prvku D, bílošedá"},{"$f":"Cen!B328","v":"Z36D0080"},{"$f":"Cen!C328","v":"WGR"},{"$f":"SUM($S$3:$S$11)","v":0},{"$f":"Cen!F328","v":63.3},{"$f":"S73*T73","v":0}]
[]
[]
[]
[]
[]
[null,null,null,null,null,null,null,null,null,null,null,null,null,null,null,{"$f":"Cen!A292","v":"Kovový zásuvný prvek D, 450mm, šedý"},{"$f":"Cen!B292","v":"Z37A417D"},{"$f":"Cen!C292","v":"R906"},{"$f":"SUM(S3:S7)*2","v":0},{"$f":"Cen!F292","v":156.5},{"$f":"S79*T79","v":0}]
[null,null,null,null,null,null,null,null,null,null,null,null,null,null,null,{"$f":"Cen!A295","v":"Kovový zásuvný prvek D, 500mm, šedý"},{"$f":"Cen!B295","v":"Z37A467D"},{"$f":"Cen!C295","v":"R906"},{"$f":"S8*2","v":0},{"$f":"Cen!F295","v":164.4},{"$f":"S80*T80","v":0}]
[null,null,null,null,null,null,null,null,null,null,null,null,null,null,null,{"$f":"Cen!A298","v":"Kovový zásuvný prvek D, 550mm, šedý"},{"$f":"Cen!B298","v":"Z37A517D"},{"$f":"Cen!C298","v":"R906"},{"$f":"S9*2","v":0},{"$f":"Cen!F298","v":177.6},{"$f":"S81*T81","v":0}]
[null,null,null,null,null,null,null,null,null,null,null,null,null,null,null,{"$f":"Cen!A301","v":0},{"$f":"Cen!B301","v":0},{"$f":"Cen!C301","v":0},null,{"$f":"Cen!F301","v":0},{"$f":"S82*T82","v":0}]
[null,null,null,null,null,null,null,null,null,null,null,null,null,null,null,{"$f":"Cen!A304","v":"Kovový zásuvný prvek D, 650mm, šedý"},{"$f":"Cen!B304","v":"Z37A617D"},{"$f":"Cen!C304","v":"R906"},{"$f":"S11*2","v":0},{"$f":"Cen!F304","v":204},{"$f":"S83*T83","v":0}]
[]
[]
[]
[]
[]
[]
[null,null,null,null,null,null,null,null,null,null,null,null,null,null,null,null,null,null,null,null,{"$f":"SUM(U3:V88)","v":0}]
[]
[]
[]
[]
[]
[]
[]
[null,null,null,null,null,null,null,null,null,null,null,null,null,null,null,{"$f":"List!$B$276&\"!\"","v":"S0 a S1 pouze pro jmenovitou délku 270 a 300 mm!"}]
[null,null,null,null,null,null,null,null,null,null,null,null,null,null,null,{"$f":"List!$B$277&\"!\"","v":"Pro výsuvy délky 270 a 300 mm vyberte jednotky S0 nebo S1!"}]
[null,{"$f":"List!B25","v":"Informace k objednávání"},null,null,null,null,null,null,null,null,null,null,null,null,null,{"$f":"List!$B$278&\"!\"","v":"Počet jednotek L neodpovídá počtu korpusových lišt!"}]
[null,null,null,null,null,null,null,null,null,null,null,null,null,null,null,{"$f":"List!$B$279&\"!\"","v":"Počet jednotek S neodpovídá počtu korpusových lišt!"}]
[]
[null,null,null,{"$f":"List!B268&\" \"&List!B283","v":"Sada jednotek TIP-ON BLUMOTION a sada unašečů TIP-ON BLUMOTION"},null,null,null,null,null,null,null,null,null,null,null,{"$f":"List!$B$289&\"!\"","v":"Kovové zásuvné prvky pro nerez (Inox) se nevyrábí!"}]
[null,null,null,{"$f":"List!$B$280&\":\"","v":"Využití pro:"},null,null,null,null,null,{"$f":"List!B281&\"*\"","v":"Doporučené hodnoty hmotnosti*"},null,null,null,null,null,{"$f":"List!$B$290&\"!\"","v":"Kování naplánované na tomto listu se neprojeví v objednávce!"}]
[null,null,null,{"$f":"List!B45&\" (NL)\"","v":"Jmenovitá délka (NL)"},null,null,{"$f":"List!B275","v":"Jednotka"},{"$f":"List!B88","v":"Číslo artiklu"}]
[null,null,null,"270 - 300 mm",null,null,"S0","T60L7040",null,"≤ 10 kg"]
[null,null,null,null,null,null,"S1","T60L7140",null,"10-20 kg"]
[null,null,null,"350 - 650 mm",null,null,"L1","T60L7340",null,"≤ 20 kg"]
[null,null,null,null,null,null,"L3","T60L7540",null,"5 - 40 kg"]
[null,null,null,null,null,null,"L5","T60L7570",null,null,"25 - 70 kg"]
[null,null,null,null,null,null,null,{"$f":"\"* \"&List!B282","v":"* Celková hmotnost výsuvu (hmotnost výsuvu včetně náplně)"}]
[]
[null,null,null,null,null,null,null,null,null,null,null,null,null,{"$f":"List!$B$99","v":"Zpět"}]
[]
[]
[]
[]
[]
[]
[]
[]
[]
[]
[]
[]
[]
[]
[]
[]
[]
[]
[]
[]
[]
[]
[]
[]
[]
[]
[]
[]
[]
[]
[]
[]
[]
[]
[]
[]
[]
[]
[]
[]
[]
[]
[]
[]
[]
[]
[]
[]
[]
[]
[]
[]
[]
[]
[]
[]
[]
[]
[]
[]
[]
[]
[]
[]
[]
[]
[]
[]
[]
[]
[]
[null,{"$f":"\"  \"&List!$C$197&\":\"","v":"  Minimální rozměry přířezu dna:"}]
[null,"  X1, X2 = 108 mm"]
[null,"         Y = 108 mm"]
[]
[null,{"$f":"\"  \"&List!$C$198&\"!\"","v":"  Není-li možné minimální rozměry dodržet, nelze použít výsuvy s TIP-ON BLUMOTION!"}]
[]
[null,{"$f":"\"  \"&List!$B$196","v":"  0"}]
[]
[null,null,null,null,null,null,null,null,{"$f":"List!$B$99","v":"Zpět"}]

{"sheet":"AD342R","index":30,"n_rows":175,"n_cols":21,"rows_kept":175,"cut":false,"hidden":false,"merged":[[106,7,106,8],[106,9,106,10],[107,7,107,8],[107,10,107,11],[108,7,109,11],[96,0,137,0],[141,0,182,0],[174,8,174,9],[97,1,98,11],[100,1,100,2],[100,3,100,11],[101,1,109,2],[101,3,101,8],[101,9,102,11],[102,3,102,5],[102,7,102,8],[103,3,104,5],[103,7,103,8],[104,7,104,8],[105,3,107,5],[105,7,105,8]]}
[]
[null,null,null,null,null,null,null,null,null,null,null,{"$f":"List!$B$51&\" D, \"&List!$B$64","v":"Dřezový výsuv D, podélný reling"},null,null,null,"Počty zásuvek →",{"$f":"SUM(D19:K19)","v":0},{"$f":"SUM(H20:L20)","v":0},{"$f":"SUM(D25:K25)","v":0},{"$f":"SUM(H26:L26)","v":0}]
[null,null,null,null,null,null,null,null,null,null,null,null,null,{"$f":"List!$B$11&\":\"","v":"Zpět na:"},null,{"$f":"Cen!A28","v":"Bočnice M 270mm, šedé"},{"$f":"Cen!B28","v":"378M2702SA"},{"$f":"Cen!C28","v":"R906"},{"$f":"SUM($D$19, $D$25)","v":0},{"$f":"Cen!F28","v":350.6},{"$f":"S3*T3","v":0}]
[null,null,null,null,null,null,null,null,{"$f":"List!$B$72&\":\"","v":"bočnice:"},null,"M",null,null,{"$f":"\" \"&List!$B$13","v":" Úvod"},null,{"$f":"Cen!A32","v":"Bočnice M 300mm, šedé"},{"$f":"Cen!B32","v":"378M3002SA"},{"$f":"Cen!C32","v":"R906"},{"$f":"SUM($E$19, $E$25)","v":0},{"$f":"Cen!F32","v":350.6},0]
[null,null,null,null,null,null,null,null,{"$f":"List!$B$27&\":\"","v":"barva:"},null,{"$f":"Form!$O$2","v":"šedá"},null,null,{"$f":"\" \"&List!$B$4","v":" Výběr zásuvek a výsuvů"},null,{"$f":"Cen!A36","v":"Bočnice M 350mm, šedé"},{"$f":"Cen!B36","v":"378M3502SA"},{"$f":"Cen!C36","v":"R906"},{"$f":"SUM($F$19, $F$25)","v":0},{"$f":"Cen!F36","v":350.6},0]
[null,null,null,null,null,null,null,null,null,null,null,null,null,null,null,{"$f":"Cen!A40","v":"Bočnice M 400mm, šedé"},{"$f":"Cen!B40","v":"378M4002SA"},{"$f":"Cen!C40","v":"R906"},{"$f":"SUM($G$19, $G$25)","v":0},{"$f":"Cen!F40","v":354.3},0]
[null,null,null,null,null,null,null,null,{"$f":"List!$B$36&\":\"","v":"čelní kování:"},null,{"$f":"Form!$O$13","v":"INSERTA"},null,null,{"$f":"List!$B$12&\":\"","v":"Pokračovat na:"},null,{"$f":"Cen!A44","v":"Bočnice M 450mm, šedé"},{"$f":"Cen!B44","v":"378M4502SA"},{"$f":"Cen!C44","v":"R906"},{"$f":"SUM($H$19:$H$20, $H$25:$H$26)","v":0},{"$f":"Cen!F44","v":358.1},0]
[null,null,null,null,null,null,null,null,null,null,null,null,null,{"$f":"\" \"&List!$B$5","v":" Výběr doplňků"},null,{"$f":"Cen!A48","v":"Bočnice M 500mm, šedé"},{"$f":"Cen!B48","v":"378M5002SA"},{"$f":"Cen!C48","v":"R906"},{"$f":"SUM($I$19:$I$20, $I$25:$I$26)","v":0},{"$f":"Cen!F48","v":397.4},0]
[null,null,null,null,null,null,null,null,null,null,null,null,null,{"$f":"\" \"&List!$B$6","v":" Výběr SERVO-DRIVE"},null,{"$f":"Cen!A52","v":"Bočnice M 550mm, šedé"},{"$f":"Cen!B52","v":"378M5502SA"},{"$f":"Cen!C52","v":"R906"},{"$f":"SUM($J$19:$J$20, $J$25:$J$26)","v":0},{"$f":"Cen!F52","v":399.2},0]
[null,null,null,null,null,null,null,null,null,null,null,null,null,{"$f":"\" \"&List!$B$7","v":" Výběr ORGA-LINE"},null,{"$f":"Cen!A56","v":"Bočnice M 600mm, šedé"},{"$f":"Cen!B56","v":"378M6002SA"},{"$f":"Cen!C56","v":"R906"},{"$f":"SUM($K$19:$K$20, $K$25:$K$26)","v":0},{"$f":"Cen!F56","v":508.3},0]
[null,null,null,null,null,null,null,null,null,null,null,null,null,{"$f":"\" \"&List!$B$18","v":" Souhrn"},null,{"$f":"Cen!A60","v":"Bočnice M 650mm, šedé"},{"$f":"Cen!B60","v":"378M6502SA"},{"$f":"Cen!C60","v":"R906"},{"$f":"SUM($L$20, $L$26)","v":0},{"$f":"Cen!F60","v":536.29999999999995},0]
[]
[null,null,null,null,null,null,null,null,null,null,null,null,null,null,null,{"$f":"Cen!A359","v":"Bočnice dřezové, 500 mm, šedé"},{"$f":"Cen!B359","v":"378M5004SG"},{"$f":"Cen!C359","v":"WA/G"},{"$f":"SUM($I$19:$I$20, $I$25:$I$26)","v":0},{"$f":"Cen!F359","v":509.4},0]
[]
[null,null,null,null,null,null,null,null,null,null,null,null,null,null,null,{"$f":"Cen!A96","v":"Korpusové lišty 350mm, BLUMOTION, 30kg"},{"$f":"Cen!B96","v":"578.3501B"},{"$f":"Cen!C96","v":"ZN"},{"$f":"$F$19","v":0},{"$f":"Cen!F96","v":459.2},0]
[null,null,null,null,null,null,null,null,null,null,null,null,null,null,null,{"$f":"Cen!A97","v":"Korpusové lišty 400mm, BLUMOTION, 30kg"},{"$f":"Cen!B97","v":"578.4001B"},{"$f":"Cen!C97","v":"ZN"},{"$f":"$G$19","v":0},{"$f":"Cen!F97","v":462.6},0]
[null,"BLUMOTION",null,null,null,null,null,null,null,null,null,null,null,null,null,{"$f":"Cen!A98","v":"Korpusové lišty 450mm, BLUMOTION, 30kg"},{"$f":"Cen!B98","v":"578.4501B"},{"$f":"Cen!C98","v":"ZN"},{"$f":"$H$19","v":0},{"$f":"Cen!F98","v":466},0]
[null,null,{"$f":"List!$B$45&\":\"","v":"Jmenovitá délka:"},"270 mm","300 mm","350 mm","400 mm","450 mm","500 mm","550 mm","600 mm","650 mm",null,null,null,{"$f":"Cen!A99","v":"Korpusové lišty 450mm, BLUMOTION, 65kg"},{"$f":"Cen!B99","v":"576.4501B"},{"$f":"Cen!C99","v":"ZN"},{"$f":"$H$20","v":0},{"$f":"Cen!F99","v":560.79999999999995},0]
[null,"AD342BR","30 kg",null,null,null,null,null,null,null,null,null,null,null,null,{"$f":"Cen!A100","v":"Korpusové lišty 500mm, BLUMOTION, 30kg"},{"$f":"Cen!B100","v":"578.5001B"},{"$f":"Cen!C100","v":"ZN"},{"$f":"$I$19","v":0},{"$f":"Cen!F100","v":469.5},0]
[null,"AD642BR","65 kg",null,null,null,null,null,null,null,null,null,null,null,null,{"$f":"Cen!A101","v":"Korpusové lišty 500mm, BLUMOTION, 65kg"},{"$f":"Cen!B101","v":"576.5001B"},{"$f":"Cen!C101","v":"ZN"},{"$f":"$I$20","v":0},{"$f":"Cen!F101","v":620.4},0]
[null,null,null,null,null,null,null,null,null,null,null,null,null,null,null,{"$f":"Cen!A102","v":"Korpusové lišty 550mm, BLUMOTION, 30kg"},{"$f":"Cen!B102","v":"578.5501B"},{"$f":"Cen!C102","v":"ZN"},{"$f":"$J$19","v":0},{"$f":"Cen!F102","v":493.5},0]
[null,null,null,null,null,null,null,null,null,null,null,null,null,null,null,{"$f":"Cen!A103","v":"Korpusové lišty 550mm, BLUMOTION, 65kg"},{"$f":"Cen!B103","v":"576.5501B"},{"$f":"Cen!C103","v":"ZN"},{"$f":"$J$20","v":0},{"$f":"Cen!F103","v":644.29999999999995},0]
[null,"TIP-ON BLUMOTION",null,null,null,null,null,null,null,null,null,null,null,null,null,{"$f":"Cen!A104","v":"Korpusové lišty 600mm, BLUMOTION, 30kg"},{"$f":"Cen!B104","v":"578.6001B"},{"$f":"Cen!C104","v":"ZN"},{"$f":"$K$19","v":0},{"$f":"Cen!F104","v":523.9},0]
[null,null,{"$f":"List!$B$45&\":\"","v":"Jmenovitá délka:"},"270 mm","300 mm","350 mm","400 mm","450 mm","500 mm","550 mm","600 mm","650 mm",null,null,null,{"$f":"Cen!A105","v":"Korpusové lišty 600mm, BLUMOTION, 65kg"},{"$f":"Cen!B105","v":"576.6001B"},{"$f":"Cen!C105","v":"ZN"},{"$f":"$K$20","v":0},{"$f":"Cen!F105","v":661.1},0]
[null,"AD342MR","30 kg",null,null,null,null,null,null,null,null,null,null,null,null,{"$f":"Cen!A106","v":"Korpusové lišty 650mm, BLUMOTION, 65kg"},{"$f":"Cen!B106","v":"576.6501B"},{"$f":"Cen!C106","v":"ZN"},{"$f":"$L$20","v":0},{"$f":"Cen!F106","v":751.2},0]
[null,"AD642MR","65 kg",null,null,null,null,null,null,null,null,null,null,null,null,{"$f":"Cen!A109","v":"Korp. lišty TIP-ON BLUMOTION, 270mm, 30 kg"},{"$f":"Cen!B109","v":"578.2701M"},{"$f":"Cen!C109","v":"ZN"},{"$f":"$D$25","v":0},{"$f":"Cen!F109","v":417.4},0]
[null,null,null,null,null,null,null,null,null,null,null,null,null,null,null,{"$f":"Cen!A110","v":"Korp. lišty TIP-ON BLUMOTION, 300mm, 30 kg"},{"$f":"Cen!B110","v":"578.3001M"},{"$f":"Cen!C110","v":"ZN"},{"$f":"$E$25","v":0},{"$f":"Cen!F110","v":417.4},0]
[null,null,null,null,null,null,null,null,null,null,null,null,null,null,null,{"$f":"Cen!A111","v":"Korp. lišty TIP-ON BLUMOTION, 350mm, 30 kg"},{"$f":"Cen!B111","v":"578.3501M"},{"$f":"Cen!C111","v":"ZN"},{"$f":"$F$25","v":0},{"$f":"Cen!F111","v":417.4},0]
[null,null,null,null,null,null,null,null,null,null,null,null,null,null,null,{"$f":"Cen!A112","v":"Korp. lišty TIP-ON BLUMOTION, 400mm, 30 kg"},{"$f":"Cen!B112","v":"578.4001M"},{"$f":"Cen!C112","v":"ZN"},{"$f":"$G$25","v":0},{"$f":"Cen!F112","v":420.5},0]
[null,null,null,{"$f":"\"     \"&List!$B$269","v":"     Jednotky TIP-ON BLUMOTION jsou přidány automaticky"},null,null,null,null,null,null,null,null,null,null,null,{"$f":"Cen!A113","v":"Korp. lišty TIP-ON BLUMOTION, 450mm, 30 kg"},{"$f":"Cen!B113","v":"578.4501M"},{"$f":"Cen!C113","v":"ZN"},{"$f":"$H$25","v":0},{"$f":"Cen!F113","v":423.7},0]
[null,null,null,{"$f":"\"     \"&List!$B$270","v":"     Synchronizace je přidána automaticky. "},null,null,null,null,null,null,null,null,null,null,null,{"$f":"Cen!A114","v":"Korp. lišty TIP-ON BLUMOTION, 450mm, 65 kg"},{"$f":"Cen!B114","v":"578.4501M"},{"$f":"Cen!C114","v":"ZN"},{"$f":"$H$26","v":0},{"$f":"Cen!F114","v":560.79999999999995},0]
[null,null,null,{"$f":"\"     \"&List!$B$272","v":"     Pro korpusy šířky ≥ 750 mm použijte podpěru dna a podpěru synchronizační hřídele."},null,null,null,null,null,null,null,null,null,null,null,{"$f":"Cen!A115","v":"Korp. lišty TIP-ON BLUMOTION, 500mm, 30 kg"},{"$f":"Cen!B115","v":"578.5001M"},{"$f":"Cen!C115","v":"ZN"},{"$f":"$I$25","v":0},{"$f":"Cen!F115","v":426.8},0]
[null,null,null,{"$f":"\"     \"&List!$B$274","v":"     Podpěry jsou přidány automaticky"},null,null,null,null,null,null,null,null,null,null,null,{"$f":"Cen!A116","v":"Korp. lišty TIP-ON BLUMOTION, 500mm, 65 kg"},{"$f":"Cen!B116","v":"576.5001M"},{"$f":"Cen!C116","v":"ZN"},{"$f":"$I$26","v":0},{"$f":"Cen!F116","v":564},0]
[null,null,null,null,null,null,null,null,null,null,null,null,null,null,null,{"$f":"Cen!A117","v":"Korp. lišty TIP-ON BLUMOTION, 550mm, 30 kg"},{"$f":"Cen!B117","v":"578.5501M"},{"$f":"Cen!C117","v":"ZN"},{"$f":"$J$25","v":0},{"$f":"Cen!F117","v":448.6},0]
[null,null,null,null,null,null,null,null,null,null,null,null,null,null,null,{"$f":"Cen!A118","v":"Korp. lišty TIP-ON BLUMOTION, 550mm, 65 kg"},{"$f":"Cen!B118","v":"576.5501M"},{"$f":"Cen!C118","v":"ZN"},{"$f":"$J$26","v":0},{"$f":"Cen!F118","v":585.79999999999995},0]
[null,null,null,null,null,null,null,null,null,null,null,null,null,null,null,{"$f":"Cen!A119","v":"Korp. lišty TIP-ON BLUMOTION, 600mm, 30 kg"},{"$f":"Cen!B119","v":"578.6001M"},{"$f":"Cen!C119","v":"ZN"},{"$f":"$K$25","v":0},{"$f":"Cen!F119","v":542},0]
[null,null,null,null,null,null,null,null,null,null,null,null,null,null,null,{"$f":"Cen!A120","v":"Korp. lišty TIP-ON BLUMOTION, 600mm, 65 kg"},{"$f":"Cen!B120","v":"576.6001M"},{"$f":"Cen!C120","v":"ZN"},{"$f":"$K$26","v":0},{"$f":"Cen!F120","v":661.1},0]
[null,{"$f":"List!$B$23&\": *\"","v":"Volitelně: *"},null,null,null,null,null,null,null,null,null,null,null,null,null,{"$f":"Cen!A121","v":"Korp. lišty TIP-ON BLUMOTION, 650mm, 65 kg"},{"$f":"Cen!B121","v":"576.6501M"},{"$f":"Cen!C121","v":"ZN"},{"$f":"$L$26","v":0},{"$f":"Cen!F121","v":682.9},0]
[null,{"$f":"Cen!A328","v":"Sada držáků zásuvného prvku D, bílošedá"},null,null,null,null,null,{"$f":"Cen!B328","v":"Z36D0080"},{"$f":"Cen!C328","v":"WGR"}]
[null,null,null,null,null,null,null,null,null,null,null,null,null,null,null,{"$f":"Cen!A124","v":"Sada jednotek TIP-ON BLUMOTION, S0"},{"$f":"Cen!B124","v":"T60B3030"},{"$f":"Cen!C124","v":"W"},null,{"$f":"Cen!F124","v":404.5},{"$f":"S40*T40","v":0}]
[null,{"$f":"\"     * \"&List!$B$148","v":"     * Sada držáků, pro vlastní zásuvný prvek"},null,null,null,null,null,null,null,null,null,null,null,null,null,{"$f":"Cen!A125","v":"Sada jednotek TIP-ON BLUMOTION, S1"},{"$f":"Cen!B125","v":"T60B3130"},{"$f":"Cen!C125","v":"R735"},null,{"$f":"Cen!F125","v":404.5},0]
[null,{"$f":"\"       \"&List!$B$150&\"!\"","v":"       Cena držáků zásuvného prvku není zahrnuta do cen jednotlivých výsuvů!"},null,null,null,null,null,null,null,null,null,null,null,null,null,{"$f":"Cen!A126","v":"Sada jednotek TIP-ON BLUMOTION, L1"},{"$f":"Cen!B126","v":"T60B3330"},{"$f":"Cen!C126","v":"R735"},null,{"$f":"Cen!F126","v":404.5},0]
[null,null,null,null,null,null,null,null,null,null,null,null,null,null,null,{"$f":"Cen!A127","v":"Sada jednotek TIP-ON BLUMOTION, L3"},{"$f":"Cen!B127","v":"T60B3530"},{"$f":"Cen!C127","v":"R737"},null,{"$f":"Cen!F127","v":404.5},0]
[null,{"$f":"IF(OR($K$14>0, $L$14>0), List!$B$196, \" \")","v":" "},null,null,null,null,null,null,null,null,null,null,null,null,null,{"$f":"Cen!A128","v":"Sada jednotek TIP-ON BLUMOTION, L5"},{"$f":"Cen!B128","v":"T60B3560"},{"$f":"Cen!C128","v":"S"},null,{"$f":"Cen!F128","v":404.5},0]
[null,{"$f":"IF(OR($K$14>0, $L$14>0), List!$B$200, \" \")","v":" "}]
[null,null,null,null,null,null,null,null,null,null,null,null,null,null,null,{"$f":"Cen!A130","v":"Synchronizační adaptér"},{"$f":"Cen!B130","v":"T60.000D"},{"$f":"Cen!C130","v":"R735"},null,{"$f":"Cen!F130","v":5.8},0]
[null,null,null,null,null,null,null,null,null,null,null,null,null,null,null,{"$f":"Cen!A131","v":"Hřídel synchronizace"},{"$f":"Cen!B131","v":"T60.1125W"},{"$f":"Cen!C131","v":"GR"},null,{"$f":"Cen!F131","v":95.6},0]
[null,null,null,null,null,null,null,null,null,null,null,null,null,null,null,{"$f":"Cen!A132","v":"Jednodílná synchronizace"},{"$f":"Cen!B132","v":"T60.300D"},{"$f":"Cen!C132","v":"R735"},null,{"$f":"Cen!F132","v":23.2},0]
[null,null,null,null,null,null,null,null,null,null,null,null,null,null,null,{"$f":"Cen!A134","v":"Držák hřídele synchronizace"},{"$f":"Cen!B134","v":"T60B000H"},{"$f":"Cen!C134","v":"NI"},null,{"$f":"Cen!F134","v":6},0]
[null,null,null,null,null,null,null,null,null,null,null,null,null,null,null,{"$f":"Cen!A135","v":"Podpěrný úhelník pro dno"},{"$f":"Cen!B135","v":"Z96.2011"},{"$f":"Cen!C135","v":"R737"},null,{"$f":"Cen!F135","v":29.8},0]
[]
[null,null,null,null,null,null,null,null,null,null,null,null,null,null,null,{"$f":"Cen!A143","v":"Držáky zadní stěny N, šedé"},{"$f":"Cen!B143","v":"Z30N000S.04"},{"$f":"Cen!C143","v":"R906"},{"$f":"SUM($S$3:$S$11)","v":0},{"$f":"Cen!F143","v":36.5},{"$f":"S52*T52","v":0}]
[null,null,null,null,null,null,null,null,null,null,null,null,null,null,null,{"$f":"Cen!A147","v":"Držáky zadní stěny M, šedé"},{"$f":"Cen!B147","v":"Z30M000S.04"},{"$f":"Cen!C147","v":"R906"},null,{"$f":"Cen!F147","v":40.200000000000003},{"$f":"S53*T53","v":0}]
[null,null,null,null,null,null,null,null,null,null,null,null,null,null,null,{"$f":"Cen!A151","v":"Držáky zadní stěny K, šedé"},{"$f":"Cen!B151","v":"Z30K000S"},{"$f":"Cen!C151","v":"R906"},null,{"$f":"Cen!F151","v":67.400000000000006},0]
[null,null,null,null,null,null,null,null,null,null,null,null,null,null,null,{"$f":"Cen!A154","v":"Držáky zadní stěny B, šedé"},{"$f":"Cen!B154","v":"Z30B000S.04"},{"$f":"Cen!C154","v":"R906"},null,{"$f":"Cen!F154","v":48.8},0]
[null,null,null,null,null,null,null,null,null,null,null,null,null,null,null,{"$f":"Cen!A158","v":"Držáky zadní stěny C, šedé"},{"$f":"Cen!B158","v":"Z30C000S"},{"$f":"Cen!C158","v":"R906"},null,{"$f":"Cen!F158","v":71},0]
[null,null,null,null,null,null,null,null,null,null,null,null,null,null,null,{"$f":"Cen!A162","v":"Držáky zadní stěny D, šedé"},{"$f":"Cen!B162","v":"Z30D000S"},{"$f":"Cen!C162","v":"R906"},{"$f":"SUM($S$3:$S$11)*2","v":0},{"$f":"Cen!F162","v":78.099999999999994},{"$f":"S57*T57","v":0}]
[]
[null,null,null,null,null,null,null,null,null,null,null,null,null,null,null,{"$f":"Cen!A173","v":"Čelní kování INSERTA"},{"$f":"Cen!B173","v":"ZSF.39A2"},{"$f":"Cen!C173","v":"BL"},{"$f":"SUM($S$3:$S$11)*2","v":0},{"$f":"Cen!F173","v":22.4},0]
[]
[null,null,null,null,null,null,null,null,null,null,null,null,null,null,null,{"$f":"Cen!A365","v":"Adaptér příčky dřezového výsuvu"},{"$f":"Cen!B365","v":"Z30N0002.6Z"},{"$f":"Cen!C365","v":"R737"},{"$f":"SUM($S$3:$S$11)","v":0},{"$f":"Cen!F365","v":54},0]
[]
[null,null,null,null,null,null,null,null,null,null,null,null,null,null,null,{"$f":"Cen!A215","v":"Podélný reling vlevo/vpravo, 270mm, šedý"},{"$f":"Cen!B215","v":"ZRG.207RSIC"},{"$f":"Cen!C215","v":"R906"},{"$f":"S3","v":0},{"$f":"Cen!F215","v":150},{"$f":"S63*T63","v":0}]
[null,null,null,null,null,null,null,null,null,null,null,null,null,null,null,{"$f":"Cen!A219","v":"Podélný reling vlevo/vpravo, 300mm, šedý"},{"$f":"Cen!B219","v":"ZRG.237RSIC"},{"$f":"Cen!C219","v":"R906"},0,{"$f":"Cen!F219","v":152.5},0]
[null,null,null,null,null,null,null,null,null,null,null,null,null,null,null,{"$f":"Cen!A223","v":"Podélný reling vlevo/vpravo, 350mm, šedý"},{"$f":"Cen!B223","v":"ZRG.287RSIC"},{"$f":"Cen!C223","v":"R906"},0,{"$f":"Cen!F223","v":155},0]
[null,null,null,null,null,null,null,null,null,null,null,null,null,null,null,{"$f":"Cen!A227","v":"Podélný reling vlevo/vpravo, 400mm, šedý"},{"$f":"Cen!B227","v":"ZRG.337RSIC"},{"$f":"Cen!C227","v":"R906"},0,{"$f":"Cen!F227","v":157.5},0]
[null,null,null,null,null,null,null,null,null,null,null,null,null,null,null,{"$f":"Cen!A231","v":"Podélný reling vlevo/vpravo, 450mm, šedý"},{"$f":"Cen!B231","v":"ZRG.387RSIC"},{"$f":"Cen!C231","v":"R906"},0,{"$f":"Cen!F231","v":160},0]
[null,null,null,null,null,null,null,null,null,null,null,null,null,null,null,{"$f":"Cen!A235","v":"Podélný reling vlevo/vpravo, 500mm, šedý"},{"$f":"Cen!B235","v":"ZRG.437RSIC"},{"$f":"Cen!C235","v":"R906"},0,{"$f":"Cen!F235","v":178.7},0]
[null,null,null,null,null,null,null,null,null,null,null,null,null,null,null,{"$f":"Cen!A239","v":"Podélný reling vlevo/vpravo, 550mm, šedý"},{"$f":"Cen!B239","v":"ZRG.487RSIC"},{"$f":"Cen!C239","v":"R906"},{"$f":"S9","v":0},{"$f":"Cen!F239","v":169.4},0]
[null,null,null,null,null,null,null,null,null,null,null,null,null,null,null,{"$f":"Cen!A243","v":"Podélný reling vlevo/vpravo, 600mm, šedý"},{"$f":"Cen!B243","v":"ZRG.537RSIC"},{"$f":"Cen!C243","v":"R906"},{"$f":"S10","v":0},{"$f":"Cen!F243","v":176.3},0]
[null,null,null,null,null,null,null,null,null,null,null,null,null,null,null,{"$f":"Cen!A247","v":"Podélný reling vlevo/vpravo, 650mm, šedý"},{"$f":"Cen!B247","v":"ZRG.587RSIC"},{"$f":"Cen!C247","v":"R906"},{"$f":"S11","v":0},{"$f":"Cen!F247","v":183.2},0]
[]
[null,null,null,null,null,null,null,null,null,null,null,null,null,null,null,{"$f":"Cen!A328","v":"Sada držáků zásuvného prvku D, bílošedá"},{"$f":"Cen!B328","v":"Z36D0080"},{"$f":"Cen!C328","v":"WGR"},{"$f":"J39","v":0},{"$f":"Cen!F328","v":63.3},{"$f":"S73*T73","v":0}]
[]
[]
[]
[]
[]
[]
[]
[]
[]
[]
[]
[]
[]
[]
[]
[]
[null,null,null,null,null,null,null,null,null,null,null,null,null,null,null,null,null,null,null,null,{"$f":"SUM(U3:U88)","v":0}]
[]
[]
[]
[]
[]
[]
[]
[null,{"$f":"List!B25","v":"Informace k objednávání"},null,null,null,null,null,null,null,null,null,null,null,null,null,{"$f":"List!$B$276&\"!\"","v":"S0 a S1 pouze pro jmenovitou délku 270 a 300 mm!"}]
[null,null,null,null,null,null,null,null,null,null,null,null,null,null,null,{"$f":"List!$B$277&\"!\"","v":"Pro výsuvy délky 270 a 300 mm vyberte jednotky S0 nebo S1!"}]
[null,null,null,null,null,null,null,null,null,null,null,null,null,null,null,{"$f":"List!$B$278&\"!\"","v":"Počet jednotek L neodpovídá počtu korpusových lišt!"}]
[null,null,null,{"$f":"List!B268&\" \"&List!B283","v":"Sada jednotek TIP-ON BLUMOTION a sada unašečů TIP-ON BLUMOTION"},null,null,null,null,null,null,null,null,null,null,null,{"$f":"List!$B$279&\"!\"","v":"Počet jednotek S neodpovídá počtu korpusových lišt!"}]
[null,null,null,{"$f":"List!$B$280&\":\"","v":"Využití pro:"},null,null,null,null,null,{"$f":"List!B281&\"*\"","v":"Doporučené hodnoty hmotnosti*"}]
[null,null,null,{"$f":"List!B45&\" (NL)\"","v":"Jmenovitá délka (NL)"},null,null,{"$f":"List!B275","v":"Jednotka"},{"$f":"List!B88","v":"Číslo artiklu"}]
[null,null,null,"270 - 300 mm",null,null,"S0","T60L7040",null,"≤ 10 kg"]
[null,null,null,null,null,null,"S1","T60L7140",null,"10-20 kg"]
[null,null,null,"350 - 650 mm",null,null,"L1","T60L7340",null,"≤ 20 kg"]
[null,null,null,null,null,null,"L3","T60L7540",null,"5 - 40 kg"]
[null,null,null,null,null,null,"L5","T60L7570",null,null,"25 - 70 kg"]
[null,null,null,null,null,null,null,{"$f":"\"* \"&List!B282","v":"* Celková hmotnost výsuvu (hmotnost výsuvu včetně náplně)"}]
[]
[]
[]
[null,null,null,null,null,null,null,null,null,null,null,null,null,{"$f":"List!$B$99","v":"Zpět"}]
[]
[]
[]
[]
[]
[]
[]
[]
[]
[]
[]
[]
[]
[]
[]
[]
[]
[]
[]
[]
[]
[]
[]
[]
[]
[]
[]
[]
[]
[]
[]
[]
[]
[]
[]
[]
[]
[]
[]
[]
[]
[]
[]
[]
[]
[]
[]
[]
[]
[]
[]
[]
[]
[]
[null,{"$f":"\"  \"&List!$C$197&\":\"","v":"  Minimální rozměry přířezu dna:"}]
[null,"  X1, X2 = 108 mm"]
[null,"         Y = 108 mm"]
[]
[null,{"$f":"\"  \"&List!$C$198&\"!\"","v":"  Není-li možné minimální rozměry dodržet, nelze použít výsuvy s TIP-ON BLUMOTION!"}]
[]
[null,{"$f":"\"  \"&List!$B$196","v":"  0"}]
[null,null,null,null,null,null,null,null,{"$f":"List!$B$99","v":"Zpět"}]

{"sheet":"ADD32G","index":31,"n_rows":90,"n_cols":21,"rows_kept":90,"cut":false,"hidden":false,"merged":[]}
[]
[null,null,null,null,null,null,null,null,null,null,null,{"$f":"List!$B$48&\" \"&List!$B$59&\", \"&List!$B$60&\" D+D\"","v":"Čelní výsuv pro úzké korpusy, sestava D+D"},null,null,null,"Počty zásuvek →",{"$f":"SUM(D19:K19)","v":0},{"$f":"SUM(H20:L20)","v":0},{"$f":"SUM(D25:K25)","v":0},{"$f":"SUM(H26:L26)","v":0}]
[null,null,null,null,null,null,null,null,null,null,null,{"$f":"List!$B$62","v":"zásuvný prvek sklo"},null,{"$f":"List!$B$11&\":\"","v":"Zpět na:"},null,{"$f":"Cen!A28","v":"Bočnice M 270mm, šedé"},{"$f":"Cen!B28","v":"378M2702SA"},{"$f":"Cen!C28","v":"R906"},{"$f":"SUM($D$19, $D$25)","v":0},{"$f":"Cen!F28","v":350.6},{"$f":"S3*T3","v":0}]
[null,null,null,null,null,null,null,null,{"$f":"List!$B$72&\":\"","v":"bočnice:"},null,"M",null,null,{"$f":"\" \"&List!$B$13","v":" Úvod"},null,{"$f":"Cen!A32","v":"Bočnice M 300mm, šedé"},{"$f":"Cen!B32","v":"378M3002SA"},{"$f":"Cen!C32","v":"R906"},{"$f":"SUM($E$19, $E$25)","v":0},{"$f":"Cen!F32","v":350.6},0]
[null,null,null,null,null,null,null,null,{"$f":"List!$B$27&\":\"","v":"barva:"},null,{"$f":"Form!$O$2","v":"šedá"},null,null,{"$f":"\" \"&List!$B$4","v":" Výběr zásuvek a výsuvů"},null,{"$f":"Cen!A36","v":"Bočnice M 350mm, šedé"},{"$f":"Cen!B36","v":"378M3502SA"},{"$f":"Cen!C36","v":"R906"},{"$f":"SUM($F$19, $F$25)","v":0},{"$f":"Cen!F36","v":350.6},0]
[null,null,null,null,null,null,null,null,{"$f":"List!$B$32&\":\"","v":"sklo:"},null,{"$f":"Form!$O$8","v":"čiré"},null,null,null,null,{"$f":"Cen!A40","v":"Bočnice M 400mm, šedé"},{"$f":"Cen!B40","v":"378M4002SA"},{"$f":"Cen!C40","v":"R906"},{"$f":"SUM($G$19, $G$25)","v":0},{"$f":"Cen!F40","v":354.3},0]
[null,null,null,null,null,null,null,null,{"$f":"List!$B$36&\":\"","v":"čelní kování:"},null,{"$f":"Form!$O$13","v":"INSERTA"},null,null,{"$f":"List!$B$12&\":\"","v":"Pokračovat na:"},null,{"$f":"Cen!A44","v":"Bočnice M 450mm, šedé"},{"$f":"Cen!B44","v":"378M4502SA"},{"$f":"Cen!C44","v":"R906"},{"$f":"SUM($H$19:$H$20, $H$25:$H$26)*2","v":0},{"$f":"Cen!F44","v":358.1},0]
[null,null,null,null,null,null,null,null,null,null,null,null,null,{"$f":"\" \"&List!$B$5","v":" Výběr doplňků"},null,{"$f":"Cen!A48","v":"Bočnice M 500mm, šedé"},{"$f":"Cen!B48","v":"378M5002SA"},{"$f":"Cen!C48","v":"R906"},{"$f":"SUM($I$19:$I$20, $I$25:$I$26)*2","v":0},{"$f":"Cen!F48","v":397.4},0]
[null,null,null,null,null,null,null,null,null,null,null,null,null,{"$f":"\" \"&List!$B$6","v":" Výběr SERVO-DRIVE"},null,{"$f":"Cen!A52","v":"Bočnice M 550mm, šedé"},{"$f":"Cen!B52","v":"378M5502SA"},{"$f":"Cen!C52","v":"R906"},{"$f":"SUM($J$19:$J$20, $J$25:$J$26)*2","v":0},{"$f":"Cen!F52","v":399.2},0]
[null,null,null,null,null,null,null,null,null,null,null,null,null,{"$f":"\" \"&List!$B$7","v":" Výběr ORGA-LINE"},null,{"$f":"Cen!A56","v":"Bočnice M 600mm, šedé"},{"$f":"Cen!B56","v":"378M6002SA"},{"$f":"Cen!C56","v":"R906"},{"$f":"SUM($K$19:$K$20, $K$25:$K$26)*2","v":0},{"$f":"Cen!F56","v":508.3},0]
[null,null,null,null,null,null,null,null,null,null,null,null,null,{"$f":"\" \"&List!$B$18","v":" Souhrn"},null,{"$f":"Cen!A60","v":"Bočnice M 650mm, šedé"},{"$f":"Cen!B60","v":"378M6502SA"},{"$f":"Cen!C60","v":"R906"},{"$f":"SUM($L$20, $L$26)*2","v":0},{"$f":"Cen!F60","v":536.29999999999995},0]
[]
[null,null,null,null,null,null,null,null,null,null,null,null,null,null,null,{"$f":"Cen!A94","v":"Korpusové lišty 270mm, BLUMOTION, 30kg"},{"$f":"Cen!B94","v":"578.2701B"},{"$f":"Cen!C94","v":"ZN"},{"$f":"$D$19","v":0},{"$f":"Cen!F94","v":459.2},0]
[null,null,null,null,null,null,null,null,null,null,null,null,null,null,null,{"$f":"Cen!A95","v":"Korpusové lišty 300mm, BLUMOTION, 30kg"},{"$f":"Cen!B95","v":"578.3001B"},{"$f":"Cen!C95","v":"ZN"},{"$f":"$E$19","v":0},{"$f":"Cen!F95","v":459.2},0]
[null,null,null,null,null,null,null,null,null,null,null,null,null,null,null,{"$f":"Cen!A96","v":"Korpusové lišty 350mm, BLUMOTION, 30kg"},{"$f":"Cen!B96","v":"578.3501B"},{"$f":"Cen!C96","v":"ZN"},{"$f":"$F$19","v":0},{"$f":"Cen!F96","v":459.2},0]
[null,null,null,null,null,null,null,null,null,null,null,null,null,null,null,{"$f":"Cen!A97","v":"Korpusové lišty 400mm, BLUMOTION, 30kg"},{"$f":"Cen!B97","v":"578.4001B"},{"$f":"Cen!C97","v":"ZN"},{"$f":"$G$19","v":0},{"$f":"Cen!F97","v":462.6},0]
[null,"BLUMOTION",null,null,null,null,null,null,null,null,null,null,null,null,null,{"$f":"Cen!A98","v":"Korpusové lišty 450mm, BLUMOTION, 30kg"},{"$f":"Cen!B98","v":"578.4501B"},{"$f":"Cen!C98","v":"ZN"},{"$f":"$H$19","v":0},{"$f":"Cen!F98","v":466},0]
[null,null,{"$f":"List!$B$45&\":\"","v":"Jmenovitá délka:"},"270 mm","300 mm","350 mm","400 mm","450 mm","500 mm","550 mm","600 mm","650 mm",null,null,null,{"$f":"Cen!A99","v":"Korpusové lišty 450mm, BLUMOTION, 65kg"},{"$f":"Cen!B99","v":"576.4501B"},{"$f":"Cen!C99","v":"ZN"},{"$f":"$H$20","v":0},{"$f":"Cen!F99","v":560.79999999999995},0]
[null,"ADD30BG","30 kg",null,null,null,null,null,null,null,null,null,null,null,null,{"$f":"Cen!A100","v":"Korpusové lišty 500mm, BLUMOTION, 30kg"},{"$f":"Cen!B100","v":"578.5001B"},{"$f":"Cen!C100","v":"ZN"},{"$f":"$I$19","v":0},{"$f":"Cen!F100","v":469.5},0]
[null,"ADM65BG","65 kg",null,null,null,null,null,null,null,null,null,null,null,null,{"$f":"Cen!A101","v":"Korpusové lišty 500mm, BLUMOTION, 65kg"},{"$f":"Cen!B101","v":"576.5001B"},{"$f":"Cen!C101","v":"ZN"},{"$f":"$I$20","v":0},{"$f":"Cen!F101","v":620.4},0]
[null,null,null,null,null,null,null,null,null,null,null,null,null,null,null,{"$f":"Cen!A102","v":"Korpusové lišty 550mm, BLUMOTION, 30kg"},{"$f":"Cen!B102","v":"578.5501B"},{"$f":"Cen!C102","v":"ZN"},{"$f":"$J$19","v":0},{"$f":"Cen!F102","v":493.5},0]
[null,null,null,null,null,null,null,null,null,null,null,null,null,null,null,{"$f":"Cen!A103","v":"Korpusové lišty 550mm, BLUMOTION, 65kg"},{"$f":"Cen!B103","v":"576.5501B"},{"$f":"Cen!C103","v":"ZN"},{"$f":"$J$20","v":0},{"$f":"Cen!F103","v":644.29999999999995},0]
[null,null,null,null,null,null,null,null,null,null,null,null,null,null,null,{"$f":"Cen!A104","v":"Korpusové lišty 600mm, BLUMOTION, 30kg"},{"$f":"Cen!B104","v":"578.6001B"},{"$f":"Cen!C104","v":"ZN"},{"$f":"$K$19","v":0},{"$f":"Cen!F104","v":523.9},0]
[null,null,null,null,null,null,null,null,null,null,null,null,null,null,null,{"$f":"Cen!A105","v":"Korpusové lišty 600mm, BLUMOTION, 65kg"},{"$f":"Cen!B105","v":"576.6001B"},{"$f":"Cen!C105","v":"ZN"},{"$f":"$K$20","v":0},{"$f":"Cen!F105","v":661.1},0]
[null,null,null,null,null,null,null,null,null,null,null,null,null,null,null,{"$f":"Cen!A106","v":"Korpusové lišty 650mm, BLUMOTION, 65kg"},{"$f":"Cen!B106","v":"576.6501B"},{"$f":"Cen!C106","v":"ZN"},{"$f":"$L$20","v":0},{"$f":"Cen!F106","v":751.2},0]
[null,null,null,null,null,null,null,null,null,null,null,null,null,null,null,{"$f":"Cen!A109","v":"Korp. lišty TIP-ON BLUMOTION, 270mm, 30 kg"},{"$f":"Cen!B109","v":"578.2701M"},{"$f":"Cen!C109","v":"ZN"},{"$f":"$D$25","v":0},{"$f":"Cen!F109","v":417.4},0]
[null,null,null,null,null,null,null,null,null,null,null,null,null,null,null,{"$f":"Cen!A110","v":"Korp. lišty TIP-ON BLUMOTION, 300mm, 30 kg"},{"$f":"Cen!B110","v":"578.3001M"},{"$f":"Cen!C110","v":"ZN"},{"$f":"$E$25","v":0},{"$f":"Cen!F110","v":417.4},0]
[null,null,null,null,null,null,null,null,null,null,null,null,null,null,null,{"$f":"Cen!A111","v":"Korp. lišty TIP-ON BLUMOTION, 350mm, 30 kg"},{"$f":"Cen!B111","v":"578.3501M"},{"$f":"Cen!C111","v":"ZN"},{"$f":"$F$25","v":0},{"$f":"Cen!F111","v":417.4},0]
[null,null,null,null,null,null,null,null,null,null,null,null,null,null,null,{"$f":"Cen!A112","v":"Korp. lišty TIP-ON BLUMOTION, 400mm, 30 kg"},{"$f":"Cen!B112","v":"578.4001M"},{"$f":"Cen!C112","v":"ZN"},{"$f":"$G$25","v":0},{"$f":"Cen!F112","v":420.5},0]
[null,null,null,null,null,null,null,null,null,null,null,null,null,null,null,{"$f":"Cen!A113","v":"Korp. lišty TIP-ON BLUMOTION, 450mm, 30 kg"},{"$f":"Cen!B113","v":"578.4501M"},{"$f":"Cen!C113","v":"ZN"},{"$f":"$H$25","v":0},{"$f":"Cen!F113","v":423.7},0]
[null,null,null,null,null,null,null,null,null,null,null,null,null,null,null,{"$f":"Cen!A114","v":"Korp. lišty TIP-ON BLUMOTION, 450mm, 65 kg"},{"$f":"Cen!B114","v":"578.4501M"},{"$f":"Cen!C114","v":"ZN"},{"$f":"$H$26","v":0},{"$f":"Cen!F114","v":560.79999999999995},0]
[null,null,null,null,null,null,null,null,null,null,null,null,null,null,null,{"$f":"Cen!A115","v":"Korp. lišty TIP-ON BLUMOTION, 500mm, 30 kg"},{"$f":"Cen!B115","v":"578.5001M"},{"$f":"Cen!C115","v":"ZN"},{"$f":"$I$25","v":0},{"$f":"Cen!F115","v":426.8},0]
[null,null,null,null,null,null,null,null,null,null,null,null,null,null,null,{"$f":"Cen!A116","v":"Korp. lišty TIP-ON BLUMOTION, 500mm, 65 kg"},{"$f":"Cen!B116","v":"576.5001M"},{"$f":"Cen!C116","v":"ZN"},{"$f":"$I$26","v":0},{"$f":"Cen!F116","v":564},0]
[null,null,null,null,null,null,null,null,null,null,null,null,null,null,null,{"$f":"Cen!A117","v":"Korp. lišty TIP-ON BLUMOTION, 550mm, 30 kg"},{"$f":"Cen!B117","v":"578.5501M"},{"$f":"Cen!C117","v":"ZN"},{"$f":"$J$25","v":0},{"$f":"Cen!F117","v":448.6},0]
[null,null,null,null,null,null,null,null,null,null,null,null,null,null,null,{"$f":"Cen!A118","v":"Korp. lišty TIP-ON BLUMOTION, 550mm, 65 kg"},{"$f":"Cen!B118","v":"576.5501M"},{"$f":"Cen!C118","v":"ZN"},{"$f":"$J$26","v":0},{"$f":"Cen!F118","v":585.79999999999995},0]
[null,null,null,null,null,null,null,null,null,null,null,null,null,null,null,{"$f":"Cen!A119","v":"Korp. lišty TIP-ON BLUMOTION, 600mm, 30 kg"},{"$f":"Cen!B119","v":"578.6001M"},{"$f":"Cen!C119","v":"ZN"},{"$f":"$K$25","v":0},{"$f":"Cen!F119","v":542},0]
[null,null,null,null,null,null,null,null,null,null,null,null,null,null,null,{"$f":"Cen!A120","v":"Korp. lišty TIP-ON BLUMOTION, 600mm, 65 kg"},{"$f":"Cen!B120","v":"576.6001M"},{"$f":"Cen!C120","v":"ZN"},{"$f":"$K$26","v":0},{"$f":"Cen!F120","v":661.1},0]
[null,null,null,null,null,null,null,null,null,null,null,null,null,null,null,{"$f":"Cen!A121","v":"Korp. lišty TIP-ON BLUMOTION, 650mm, 65 kg"},{"$f":"Cen!B121","v":"576.6501M"},{"$f":"Cen!C121","v":"ZN"},{"$f":"$L$26","v":0},{"$f":"Cen!F121","v":682.9},0]
[]
[null,null,null,null,null,null,null,null,null,null,null,null,null,null,null,{"$f":"Cen!A124","v":"Sada jednotek TIP-ON BLUMOTION, S0"},{"$f":"Cen!B124","v":"T60B3030"},{"$f":"Cen!C124","v":"W"},{"$f":"$D$30","v":0},{"$f":"Cen!F124","v":404.5},{"$f":"S40*T40","v":0}]
[null,null,null,null,null,null,null,null,null,null,null,null,null,null,null,{"$f":"Cen!A125","v":"Sada jednotek TIP-ON BLUMOTION, S1"},{"$f":"Cen!B125","v":"T60B3130"},{"$f":"Cen!C125","v":"R735"},{"$f":"$E$30","v":0},{"$f":"Cen!F125","v":404.5},0]
[null,null,null,null,null,null,null,null,null,null,null,null,null,null,null,{"$f":"Cen!A126","v":"Sada jednotek TIP-ON BLUMOTION, L1"},{"$f":"Cen!B126","v":"T60B3330"},{"$f":"Cen!C126","v":"R735"},{"$f":"$F$30","v":0},{"$f":"Cen!F126","v":404.5},0]
[null,null,null,null,null,null,null,null,null,null,null,null,null,null,null,{"$f":"Cen!A127","v":"Sada jednotek TIP-ON BLUMOTION, L3"},{"$f":"Cen!B127","v":"T60B3530"},{"$f":"Cen!C127","v":"R737"},{"$f":"$G$30","v":0},{"$f":"Cen!F127","v":404.5},0]
[null,null,null,null,null,null,null,null,null,null,null,null,null,null,null,{"$f":"Cen!A128","v":"Sada jednotek TIP-ON BLUMOTION, L5"},{"$f":"Cen!B128","v":"T60B3560"},{"$f":"Cen!C128","v":"S"},{"$f":"$H$30","v":0},{"$f":"Cen!F128","v":404.5},0]
[]
[null,null,null,null,null,null,null,null,null,null,null,null,null,null,null,{"$f":"Cen!A130","v":"Synchronizační adaptér"},{"$f":"Cen!B130","v":"T60.000D"},{"$f":"Cen!C130","v":"R735"},{"$f":"SUM($S$40:$S$44)*2","v":0},{"$f":"Cen!F130","v":5.8},0]
[null,null,null,null,null,null,null,null,null,null,null,null,null,null,null,{"$f":"Cen!A131","v":"Hřídel synchronizace"},{"$f":"Cen!B131","v":"T60.1125W"},{"$f":"Cen!C131","v":"GR"},{"$f":"SUM($S$40:$S$44)","v":0},{"$f":"Cen!F131","v":95.6},0]
[null,null,null,null,null,null,null,null,null,null,null,null,null,null,null,{"$f":"Cen!A132","v":"Jednodílná synchronizace"},{"$f":"Cen!B132","v":"T60.300D"},{"$f":"Cen!C132","v":"R735"},null,{"$f":"Cen!F132","v":23.2},0]
[null,null,null,null,null,null,null,null,null,null,null,null,null,null,null,{"$f":"Cen!A134","v":"Držák hřídele synchronizace"},{"$f":"Cen!B134","v":"T60B000H"},{"$f":"Cen!C134","v":"NI"},null,{"$f":"Cen!F134","v":6},0]
[null,null,null,null,null,null,null,null,null,null,null,null,null,null,null,{"$f":"Cen!A135","v":"Podpěrný úhelník pro dno"},{"$f":"Cen!B135","v":"Z96.2011"},{"$f":"Cen!C135","v":"R737"},null,{"$f":"Cen!F135","v":29.8},0]
[]
[null,null,null,null,null,null,null,null,null,null,null,null,null,null,null,{"$f":"Cen!A143","v":"Držáky zadní stěny N, šedé"},{"$f":"Cen!B143","v":"Z30N000S.04"},{"$f":"Cen!C143","v":"R906"},null,{"$f":"Cen!F143","v":36.5},{"$f":"S52*T52","v":0}]
[null,null,null,null,null,null,null,null,null,null,null,null,null,null,null,{"$f":"Cen!A147","v":"Držáky zadní stěny M, šedé"},{"$f":"Cen!B147","v":"Z30M000S.04"},{"$f":"Cen!C147","v":"R906"},null,{"$f":"Cen!F147","v":40.200000000000003},{"$f":"S53*T53","v":0}]
[null,null,null,null,null,null,null,null,null,null,null,null,null,null,null,{"$f":"Cen!A151","v":"Držáky zadní stěny K, šedé"},{"$f":"Cen!B151","v":"Z30K000S"},{"$f":"Cen!C151","v":"R906"},null,{"$f":"Cen!F151","v":67.400000000000006},0]
[null,null,null,null,null,null,null,null,null,null,null,null,null,null,null,{"$f":"Cen!A154","v":"Držáky zadní stěny B, šedé"},{"$f":"Cen!B154","v":"Z30B000S.04"},{"$f":"Cen!C154","v":"R906"},null,{"$f":"Cen!F154","v":48.8},0]
[null,null,null,null,null,null,null,null,null,null,null,null,null,null,null,{"$f":"Cen!A158","v":"Držáky zadní stěny C, šedé"},{"$f":"Cen!B158","v":"Z30C000S"},{"$f":"Cen!C158","v":"R906"},null,{"$f":"Cen!F158","v":71},0]
[null,null,null,null,null,null,null,null,null,null,null,null,null,null,null,{"$f":"Cen!A162","v":"Držáky zadní stěny D, šedé"},{"$f":"Cen!B162","v":"Z30D000S"},{"$f":"Cen!C162","v":"R906"},{"$f":"SUM($S$3:$S$11)","v":0},{"$f":"Cen!F162","v":78.099999999999994},{"$f":"S57*T57","v":0}]
[]
[null,null,null,null,null,null,null,null,null,null,null,null,null,null,null,{"$f":"Cen!A173","v":"Čelní kování INSERTA"},{"$f":"Cen!B173","v":"ZSF.39A2"},{"$f":"Cen!C173","v":"BL"},{"$f":"SUM($S$3:$S$11)*2","v":0},{"$f":"Cen!F173","v":22.4},0]
[]
[]
[]
[null,null,null,null,null,null,null,null,null,null,null,null,null,null,null,{"$f":"Cen!A215","v":"Podélný reling vlevo/vpravo, 270mm, šedý"},{"$f":"Cen!B215","v":"ZRG.207RSIC"},{"$f":"Cen!C215","v":"R906"},{"$f":"S3","v":0},{"$f":"Cen!F215","v":150},{"$f":"S63*T63","v":0}]
[null,null,null,null,null,null,null,null,null,null,null,null,null,null,null,{"$f":"Cen!A219","v":"Podélný reling vlevo/vpravo, 300mm, šedý"},{"$f":"Cen!B219","v":"ZRG.237RSIC"},{"$f":"Cen!C219","v":"R906"},0,{"$f":"Cen!F219","v":152.5},0]
[null,null,null,null,null,null,null,null,null,null,null,null,null,null,null,{"$f":"Cen!A223","v":"Podélný reling vlevo/vpravo, 350mm, šedý"},{"$f":"Cen!B223","v":"ZRG.287RSIC"},{"$f":"Cen!C223","v":"R906"},0,{"$f":"Cen!F223","v":155},0]
[null,null,null,null,null,null,null,null,null,null,null,null,null,null,null,{"$f":"Cen!A227","v":"Podélný reling vlevo/vpravo, 400mm, šedý"},{"$f":"Cen!B227","v":"ZRG.337RSIC"},{"$f":"Cen!C227","v":"R906"},0,{"$f":"Cen!F227","v":157.5},0]
[null,null,null,null,null,null,null,null,null,null,null,null,null,null,null,{"$f":"Cen!A231","v":"Podélný reling vlevo/vpravo, 450mm, šedý"},{"$f":"Cen!B231","v":"ZRG.387RSIC"},{"$f":"Cen!C231","v":"R906"},0,{"$f":"Cen!F231","v":160},0]
[null,null,null,null,null,null,null,null,null,null,null,null,null,null,null,{"$f":"Cen!A235","v":"Podélný reling vlevo/vpravo, 500mm, šedý"},{"$f":"Cen!B235","v":"ZRG.437RSIC"},{"$f":"Cen!C235","v":"R906"},0,{"$f":"Cen!F235","v":178.7},0]
[null,null,null,null,null,null,null,null,null,null,null,null,null,null,null,{"$f":"Cen!A239","v":"Podélný reling vlevo/vpravo, 550mm, šedý"},{"$f":"Cen!B239","v":"ZRG.487RSIC"},{"$f":"Cen!C239","v":"R906"},0,{"$f":"Cen!F239","v":169.4},0]
[null,null,null,null,null,null,null,null,null,null,null,null,null,null,null,{"$f":"Cen!A243","v":"Podélný reling vlevo/vpravo, 600mm, šedý"},{"$f":"Cen!B243","v":"ZRG.537RSIC"},{"$f":"Cen!C243","v":"R906"},0,{"$f":"Cen!F243","v":176.3},0]
[null,null,null,null,null,null,null,null,null,null,null,null,null,null,null,{"$f":"Cen!A247","v":"Podélný reling vlevo/vpravo, 650mm, šedý"},{"$f":"Cen!B247","v":"ZRG.587RSIC"},{"$f":"Cen!C247","v":"R906"},0,{"$f":"Cen!F247","v":183.2},0]
[]
[null,null,null,null,null,null,null,null,null,null,null,null,null,null,null,{"$f":"Cen!A328","v":"Sada držáků zásuvného prvku D, bílošedá"},{"$f":"Cen!B328","v":"Z36D0080"},{"$f":"Cen!C328","v":"WGR"},{"$f":"SUM($S$3:$S$11)","v":0},{"$f":"Cen!F328","v":63.3},{"$f":"S73*T73","v":0}]
[]
[null,null,null,null,null,null,null,null,null,null,null,null,null,null,null,{"$f":"Cen!A254","v":"Zásuvný prvek D, 270mm, čiré sko"},{"$f":"Cen!B254","v":"Z37R237D"},{"$f":"Cen!C254","v":"KL"},{"$f":"S3","v":0},{"$f":"Cen!F254","v":269.10000000000002},{"$f":"S75*T75","v":0}]
[null,null,null,null,null,null,null,null,null,null,null,null,null,null,null,{"$f":"Cen!A256","v":"Zásuvný prvek D, 300mm, čiré sko"},{"$f":"Cen!B256","v":"Z37R267D"},{"$f":"Cen!C256","v":"KL"},0,{"$f":"Cen!F256","v":279},0]
[null,null,null,null,null,null,null,null,null,null,null,null,null,null,null,{"$f":"Cen!A258","v":"Zásuvný prvek D, 350mm, čiré sko"},{"$f":"Cen!B258","v":"Z37R317D"},{"$f":"Cen!C258","v":"KL"},0,{"$f":"Cen!F258","v":240.82},0]
[null,null,null,null,null,null,null,null,null,null,null,null,null,null,null,{"$f":"Cen!A260","v":"Zásuvný prvek D, 400mm, čiré sko"},{"$f":"Cen!B260","v":"Z37R367D"},{"$f":"Cen!C260","v":"KL"},0,{"$f":"Cen!F260","v":265.39999999999998},0]
[null,null,null,null,null,null,null,null,null,null,null,null,null,null,null,{"$f":"Cen!A262","v":"Zásuvný prvek D, 450mm, čiré sko"},{"$f":"Cen!B262","v":"Z37R417D"},{"$f":"Cen!C262","v":"KL"},0,{"$f":"Cen!F262","v":290},0]
[null,null,null,null,null,null,null,null,null,null,null,null,null,null,null,{"$f":"Cen!A264","v":"Zásuvný prvek D, 500mm, čiré sko"},{"$f":"Cen!B264","v":"Z37R467D"},{"$f":"Cen!C264","v":"KL"},0,{"$f":"Cen!F264","v":314.56},0]
[null,null,null,null,null,null,null,null,null,null,null,null,null,null,null,{"$f":"Cen!A266","v":"Zásuvný prvek D, 550mm, čiré sko"},{"$f":"Cen!B266","v":"Z37R517D"},{"$f":"Cen!C266","v":"KL"},0,{"$f":"Cen!F266","v":336.68},0]
[null,null,null,null,null,null,null,null,null,null,null,null,null,null,null,{"$f":"Cen!A268","v":"Zásuvný prvek D, 600mm, čiré sko"},{"$f":"Cen!B268","v":"Z37R567D"},{"$f":"Cen!C268","v":"KL"},0,{"$f":"Cen!F268","v":358.8},0]
[null,null,null,null,null,null,null,null,null,null,null,null,null,null,null,{"$f":"Cen!A270","v":"Zásuvný prvek D, 650mm, čiré sko"},{"$f":"Cen!B270","v":"Z37R617D"},{"$f":"Cen!C270","v":"KL"},0,{"$f":"Cen!F270","v":378.7},0]
[]
[]
[]
[]
[]
[]
[null,null,null,null,null,null,null,null,null,null,null,null,null,null,null,null,null,null,null,null,{"$f":"SUM(U3:U88)","v":0}]

{"sheet":"ADD32M","index":32,"n_rows":104,"n_cols":22,"rows_kept":104,"cut":false,"hidden":false,"merged":[]}
[]
[null,null,null,null,null,null,null,null,null,null,null,{"$f":"List!$B$48&\" \"&List!$B$59&\", \"&List!$B$60&\" D+D\"","v":"Čelní výsuv pro úzké korpusy, sestava D+D"},null,null,null,"Počty zásuvek →",{"$f":"SUM(D19:K19)","v":0},{"$f":"SUM(H20:L20)","v":0},{"$f":"SUM(D25:K25)","v":0},{"$f":"SUM(H26:L26)","v":0},{"$f":"Form!N2","v":1},"←barva"]
[null,null,null,null,null,null,null,null,null,null,null,{"$f":"List!$B$63","v":"kovový zásuvný prvek"},null,{"$f":"List!$B$11&\":\"","v":"Zpět na:"},null,{"$f":"Cen!A28","v":"Bočnice M 270mm, šedé"},{"$f":"Cen!B28","v":"378M2702SA"},{"$f":"Cen!C28","v":"R906"},null,{"$f":"Cen!F28","v":350.6},{"$f":"S3*T3","v":0}]
[null,null,null,null,null,null,null,null,{"$f":"List!$B$72&\":\"","v":"bočnice:"},null,"M",null,null,{"$f":"\" \"&List!$B$13","v":" Úvod"},null,{"$f":"Cen!A32","v":"Bočnice M 300mm, šedé"},{"$f":"Cen!B32","v":"378M3002SA"},{"$f":"Cen!C32","v":"R906"},null,{"$f":"Cen!F32","v":350.6},0]
[null,null,null,null,null,null,null,null,{"$f":"List!$B$27&\":\"","v":"barva:"},null,{"$f":"Form!$O$2","v":"šedá"},null,null,{"$f":"\" \"&List!$B$4","v":" Výběr zásuvek a výsuvů"},null,{"$f":"Cen!A36","v":"Bočnice M 350mm, šedé"},{"$f":"Cen!B36","v":"378M3502SA"},{"$f":"Cen!C36","v":"R906"},null,{"$f":"Cen!F36","v":350.6},0]
[null,null,null,null,null,null,null,null,null,null,null,null,null,null,null,{"$f":"Cen!A40","v":"Bočnice M 400mm, šedé"},{"$f":"Cen!B40","v":"378M4002SA"},{"$f":"Cen!C40","v":"R906"},null,{"$f":"Cen!F40","v":354.3},0]
[null,null,null,null,null,null,null,null,{"$f":"List!$B$36&\":\"","v":"čelní kování:"},null,{"$f":"Form!$O$13","v":"INSERTA"},null,null,{"$f":"List!$B$12&\":\"","v":"Pokračovat na:"},null,{"$f":"Cen!A44","v":"Bočnice M 450mm, šedé"},{"$f":"Cen!B44","v":"378M4502SA"},{"$f":"Cen!C44","v":"R906"},{"$f":"IF($U$2=4, 0, $H$19*2)","v":0},{"$f":"Cen!F44","v":358.1},0]
[null,null,null,null,null,null,null,null,null,null,null,null,null,{"$f":"\" \"&List!$B$5","v":" Výběr doplňků"},null,{"$f":"Cen!A48","v":"Bočnice M 500mm, šedé"},{"$f":"Cen!B48","v":"378M5002SA"},{"$f":"Cen!C48","v":"R906"},{"$f":"IF($U$2=4, 0, $I$19*2)","v":0},{"$f":"Cen!F48","v":397.4},0]
[null,null,null,null,null,null,null,null,null,null,null,null,null,{"$f":"\" \"&List!$B$6","v":" Výběr SERVO-DRIVE"},null,{"$f":"Cen!A52","v":"Bočnice M 550mm, šedé"},{"$f":"Cen!B52","v":"378M5502SA"},{"$f":"Cen!C52","v":"R906"},{"$f":"IF($U$2=4, 0, $J$19*2)","v":0},{"$f":"Cen!F52","v":399.2},0]
[null,null,null,null,null,null,null,null,null,null,null,null,null,{"$f":"\" \"&List!$B$7","v":" Výběr ORGA-LINE"},null,{"$f":"Cen!A56","v":"Bočnice M 600mm, šedé"},{"$f":"Cen!B56","v":"378M6002SA"},{"$f":"Cen!C56","v":"R906"},{"$f":"IF($U$2=4, 0, $K$19*2)","v":0},{"$f":"Cen!F56","v":508.3},0]
[null,null,null,null,null,null,null,null,null,null,null,null,null,{"$f":"\" \"&List!$B$18","v":" Souhrn"},null,{"$f":"Cen!A60","v":"Bočnice M 650mm, šedé"},{"$f":"Cen!B60","v":"378M6502SA"},{"$f":"Cen!C60","v":"R906"},{"$f":"IF($U$2=4, 0, $L$20*2)","v":0},{"$f":"Cen!F60","v":536.29999999999995},0]
[]
[null,null,null,null,null,null,null,null,null,null,null,null,null,null,null,{"$f":"Cen!A94","v":"Korpusové lišty 270mm, BLUMOTION, 30kg"},{"$f":"Cen!B94","v":"578.2701B"},{"$f":"Cen!C94","v":"ZN"},null,{"$f":"Cen!F94","v":459.2},0]
[null,null,null,null,null,null,{"$f":"IF($U$2=4, P103, \" \")","v":" "},null,null,null,null,null,null,null,null,{"$f":"Cen!A95","v":"Korpusové lišty 300mm, BLUMOTION, 30kg"},{"$f":"Cen!B95","v":"578.3001B"},{"$f":"Cen!C95","v":"ZN"},null,{"$f":"Cen!F95","v":459.2},0]
[null,null,null,null,null,null,{"$f":"IF($U$2=4, P104, \" \")","v":" "},null,null,null,null,null,null,null,null,{"$f":"Cen!A96","v":"Korpusové lišty 350mm, BLUMOTION, 30kg"},{"$f":"Cen!B96","v":"578.3501B"},{"$f":"Cen!C96","v":"ZN"},null,{"$f":"Cen!F96","v":459.2},0]
[null,null,null,null,null,null,null,null,null,null,null,null,null,null,null,{"$f":"Cen!A97","v":"Korpusové lišty 400mm, BLUMOTION, 30kg"},{"$f":"Cen!B97","v":"578.4001B"},{"$f":"Cen!C97","v":"ZN"},null,{"$f":"Cen!F97","v":462.6},0]
[null,"BLUMOTION",null,null,null,null,null,null,null,null,null,null,null,null,null,{"$f":"Cen!A98","v":"Korpusové lišty 450mm, BLUMOTION, 30kg"},{"$f":"Cen!B98","v":"578.4501B"},{"$f":"Cen!C98","v":"ZN"},{"$f":"IF($U$2=4, 0, $H$19)","v":0},{"$f":"Cen!F98","v":466},0]
[null,null,{"$f":"List!$B$45&\":\"","v":"Jmenovitá délka:"},"270 mm","300 mm","350 mm","400 mm","450 mm","500 mm","550 mm","600 mm","650 mm",null,null,null,{"$f":"Cen!A99","v":"Korpusové lišty 450mm, BLUMOTION, 65kg"},{"$f":"Cen!B99","v":"576.4501B"},{"$f":"Cen!C99","v":"ZN"},null,{"$f":"Cen!F99","v":560.79999999999995},0]
[null,"ADD30BS","30 kg",null,null,null,null,null,null,null,null,null,null,null,null,{"$f":"Cen!A100","v":"Korpusové lišty 500mm, BLUMOTION, 30kg"},{"$f":"Cen!B100","v":"578.5001B"},{"$f":"Cen!C100","v":"ZN"},{"$f":"IF($U$2=4, 0, $I$19)","v":0},{"$f":"Cen!F100","v":469.5},0]
[null,"ADM65BS","65 kg",null,null,null,null,null,null,null,null,null,null,null,null,{"$f":"Cen!A101","v":"Korpusové lišty 500mm, BLUMOTION, 65kg"},{"$f":"Cen!B101","v":"576.5001B"},{"$f":"Cen!C101","v":"ZN"},null,{"$f":"Cen!F101","v":620.4},0]
[null,null,null,null,null,null,null,null,null,null,null,null,null,null,null,{"$f":"Cen!A102","v":"Korpusové lišty 550mm, BLUMOTION, 30kg"},{"$f":"Cen!B102","v":"578.5501B"},{"$f":"Cen!C102","v":"ZN"},{"$f":"IF($U$2=4, 0, $J$19)","v":0},{"$f":"Cen!F102","v":493.5},0]
[null,null,null,null,null,null,null,null,null,null,null,null,null,null,null,{"$f":"Cen!A103","v":"Korpusové lišty 550mm, BLUMOTION, 65kg"},{"$f":"Cen!B103","v":"576.5501B"},{"$f":"Cen!C103","v":"ZN"},null,{"$f":"Cen!F103","v":644.29999999999995},0]
[null,null,null,null,null,null,null,null,null,null,null,null,null,null,null,{"$f":"Cen!A104","v":"Korpusové lišty 600mm, BLUMOTION, 30kg"},{"$f":"Cen!B104","v":"578.6001B"},{"$f":"Cen!C104","v":"ZN"},{"$f":"IF($U$2=4, 0, $K$19)","v":0},{"$f":"Cen!F104","v":523.9},0]
[null,null,null,null,null,null,null,null,null,null,null,null,null,null,null,{"$f":"Cen!A105","v":"Korpusové lišty 600mm, BLUMOTION, 65kg"},{"$f":"Cen!B105","v":"576.6001B"},{"$f":"Cen!C105","v":"ZN"},null,{"$f":"Cen!F105","v":661.1},0]
[null,null,null,null,null,null,null,null,null,null,null,null,null,null,null,{"$f":"Cen!A106","v":"Korpusové lišty 650mm, BLUMOTION, 65kg"},{"$f":"Cen!B106","v":"576.6501B"},{"$f":"Cen!C106","v":"ZN"},{"$f":"IF($U$2=4, 0, $L$20)","v":0},{"$f":"Cen!F106","v":751.2},0]
[null,null,null,null,null,null,null,null,null,null,null,null,null,null,null,{"$f":"Cen!A109","v":"Korp. lišty TIP-ON BLUMOTION, 270mm, 30 kg"},{"$f":"Cen!B109","v":"578.2701M"},{"$f":"Cen!C109","v":"ZN"},null,{"$f":"Cen!F109","v":417.4},0]
[null,null,null,null,null,null,null,null,null,null,null,null,null,null,null,{"$f":"Cen!A110","v":"Korp. lišty TIP-ON BLUMOTION, 300mm, 30 kg"},{"$f":"Cen!B110","v":"578.3001M"},{"$f":"Cen!C110","v":"ZN"},null,{"$f":"Cen!F110","v":417.4},0]
[null,null,null,null,null,null,null,null,null,null,null,null,null,null,null,{"$f":"Cen!A111","v":"Korp. lišty TIP-ON BLUMOTION, 350mm, 30 kg"},{"$f":"Cen!B111","v":"578.3501M"},{"$f":"Cen!C111","v":"ZN"},null,{"$f":"Cen!F111","v":417.4},0]
[null,null,null,null,null,null,null,null,null,null,null,null,null,null,null,{"$f":"Cen!A112","v":"Korp. lišty TIP-ON BLUMOTION, 400mm, 30 kg"},{"$f":"Cen!B112","v":"578.4001M"},{"$f":"Cen!C112","v":"ZN"},null,{"$f":"Cen!F112","v":420.5},0]
[null,null,null,null,null,null,null,null,null,null,null,null,null,null,null,{"$f":"Cen!A113","v":"Korp. lišty TIP-ON BLUMOTION, 450mm, 30 kg"},{"$f":"Cen!B113","v":"578.4501M"},{"$f":"Cen!C113","v":"ZN"},null,{"$f":"Cen!F113","v":423.7},0]
[null,null,null,null,null,null,null,null,null,null,null,null,null,null,null,{"$f":"Cen!A114","v":"Korp. lišty TIP-ON BLUMOTION, 450mm, 65 kg"},{"$f":"Cen!B114","v":"578.4501M"},{"$f":"Cen!C114","v":"ZN"},null,{"$f":"Cen!F114","v":560.79999999999995},0]
[null,null,null,null,null,null,null,null,null,null,null,null,null,null,null,{"$f":"Cen!A115","v":"Korp. lišty TIP-ON BLUMOTION, 500mm, 30 kg"},{"$f":"Cen!B115","v":"578.5001M"},{"$f":"Cen!C115","v":"ZN"},null,{"$f":"Cen!F115","v":426.8},0]
[null,null,null,null,null,null,null,null,null,null,null,null,null,null,null,{"$f":"Cen!A116","v":"Korp. lišty TIP-ON BLUMOTION, 500mm, 65 kg"},{"$f":"Cen!B116","v":"576.5001M"},{"$f":"Cen!C116","v":"ZN"},null,{"$f":"Cen!F116","v":564},0]
[null,null,null,null,null,null,null,null,null,null,null,null,null,null,null,{"$f":"Cen!A117","v":"Korp. lišty TIP-ON BLUMOTION, 550mm, 30 kg"},{"$f":"Cen!B117","v":"578.5501M"},{"$f":"Cen!C117","v":"ZN"},null,{"$f":"Cen!F117","v":448.6},0]
[null,null,null,null,null,null,null,null,null,null,null,null,null,null,null,{"$f":"Cen!A118","v":"Korp. lišty TIP-ON BLUMOTION, 550mm, 65 kg"},{"$f":"Cen!B118","v":"576.5501M"},{"$f":"Cen!C118","v":"ZN"},null,{"$f":"Cen!F118","v":585.79999999999995},0]
[null,null,null,null,null,null,null,null,null,null,null,null,null,null,null,{"$f":"Cen!A119","v":"Korp. lišty TIP-ON BLUMOTION, 600mm, 30 kg"},{"$f":"Cen!B119","v":"578.6001M"},{"$f":"Cen!C119","v":"ZN"},null,{"$f":"Cen!F119","v":542},0]
[null,null,null,null,null,null,null,null,null,null,null,null,null,null,null,{"$f":"Cen!A120","v":"Korp. lišty TIP-ON BLUMOTION, 600mm, 65 kg"},{"$f":"Cen!B120","v":"576.6001M"},{"$f":"Cen!C120","v":"ZN"},null,{"$f":"Cen!F120","v":661.1},0]
[null,null,null,null,null,null,null,null,null,null,null,null,null,null,null,{"$f":"Cen!A121","v":"Korp. lišty TIP-ON BLUMOTION, 650mm, 65 kg"},{"$f":"Cen!B121","v":"576.6501M"},{"$f":"Cen!C121","v":"ZN"},null,{"$f":"Cen!F121","v":682.9},0]
[]
[null,null,null,null,null,null,null,null,null,null,null,null,null,null,null,{"$f":"Cen!A124","v":"Sada jednotek TIP-ON BLUMOTION, S0"},{"$f":"Cen!B124","v":"T60B3030"},{"$f":"Cen!C124","v":"W"},null,{"$f":"Cen!F124","v":404.5},{"$f":"S40*T40","v":0}]
[null,null,null,null,null,null,null,null,null,null,null,null,null,null,null,{"$f":"Cen!A125","v":"Sada jednotek TIP-ON BLUMOTION, S1"},{"$f":"Cen!B125","v":"T60B3130"},{"$f":"Cen!C125","v":"R735"},null,{"$f":"Cen!F125","v":404.5},0]
[null,null,null,null,null,null,null,null,null,null,null,null,null,null,null,{"$f":"Cen!A126","v":"Sada jednotek TIP-ON BLUMOTION, L1"},{"$f":"Cen!B126","v":"T60B3330"},{"$f":"Cen!C126","v":"R735"},null,{"$f":"Cen!F126","v":404.5},0]
[null,null,null,null,null,null,null,null,null,null,null,null,null,null,null,{"$f":"Cen!A127","v":"Sada jednotek TIP-ON BLUMOTION, L3"},{"$f":"Cen!B127","v":"T60B3530"},{"$f":"Cen!C127","v":"R737"},null,{"$f":"Cen!F127","v":404.5},0]
[null,null,null,null,null,null,null,null,null,null,null,null,null,null,null,{"$f":"Cen!A128","v":"Sada jednotek TIP-ON BLUMOTION, L5"},{"$f":"Cen!B128","v":"T60B3560"},{"$f":"Cen!C128","v":"S"},null,{"$f":"Cen!F128","v":404.5},0]
[]
[null,null,null,null,null,null,null,null,null,null,null,null,null,null,null,{"$f":"Cen!A130","v":"Synchronizační adaptér"},{"$f":"Cen!B130","v":"T60.000D"},{"$f":"Cen!C130","v":"R735"},null,{"$f":"Cen!F130","v":5.8},0]
[null,null,null,null,null,null,null,null,null,null,null,null,null,null,null,{"$f":"Cen!A131","v":"Hřídel synchronizace"},{"$f":"Cen!B131","v":"T60.1125W"},{"$f":"Cen!C131","v":"GR"},null,{"$f":"Cen!F131","v":95.6},0]
[null,null,null,null,null,null,null,null,null,null,null,null,null,null,null,{"$f":"Cen!A132","v":"Jednodílná synchronizace"},{"$f":"Cen!B132","v":"T60.300D"},{"$f":"Cen!C132","v":"R735"},null,{"$f":"Cen!F132","v":23.2},0]
[null,null,null,null,null,null,null,null,null,null,null,null,null,null,null,{"$f":"Cen!A134","v":"Držák hřídele synchronizace"},{"$f":"Cen!B134","v":"T60B000H"},{"$f":"Cen!C134","v":"NI"},null,{"$f":"Cen!F134","v":6},0]
[null,null,null,null,null,null,null,null,null,null,null,null,null,null,null,{"$f":"Cen!A135","v":"Podpěrný úhelník pro dno"},{"$f":"Cen!B135","v":"Z96.2011"},{"$f":"Cen!C135","v":"R737"},null,{"$f":"Cen!F135","v":29.8},0]
[]
[null,null,null,null,null,null,null,null,null,null,null,null,null,null,null,{"$f":"Cen!A143","v":"Držáky zadní stěny N, šedé"},{"$f":"Cen!B143","v":"Z30N000S.04"},{"$f":"Cen!C143","v":"R906"},null,{"$f":"Cen!F143","v":36.5},{"$f":"S52*T52","v":0}]
[null,null,null,null,null,null,null,null,null,null,null,null,null,null,null,{"$f":"Cen!A147","v":"Držáky zadní stěny M, šedé"},{"$f":"Cen!B147","v":"Z30M000S.04"},{"$f":"Cen!C147","v":"R906"},null,{"$f":"Cen!F147","v":40.200000000000003},{"$f":"S53*T53","v":0}]
[null,null,null,null,null,null,null,null,null,null,null,null,null,null,null,{"$f":"Cen!A151","v":"Držáky zadní stěny K, šedé"},{"$f":"Cen!B151","v":"Z30K000S"},{"$f":"Cen!C151","v":"R906"},null,{"$f":"Cen!F151","v":67.400000000000006},0]
[null,null,null,null,null,null,null,null,null,null,null,null,null,null,null,{"$f":"Cen!A154","v":"Držáky zadní stěny B, šedé"},{"$f":"Cen!B154","v":"Z30B000S.04"},{"$f":"Cen!C154","v":"R906"},null,{"$f":"Cen!F154","v":48.8},0]
[null,null,null,null,null,null,null,null,null,null,null,null,null,null,null,{"$f":"Cen!A158","v":"Držáky zadní stěny C, šedé"},{"$f":"Cen!B158","v":"Z30C000S"},{"$f":"Cen!C158","v":"R906"},null,{"$f":"Cen!F158","v":71},0]
[null,null,null,null,null,null,null,null,null,null,null,null,null,null,null,{"$f":"Cen!A162","v":"Držáky zadní stěny D, šedé"},{"$f":"Cen!B162","v":"Z30D000S"},{"$f":"Cen!C162","v":"R906"},{"$f":"SUM($S$3:$S$11)","v":0},{"$f":"Cen!F162","v":78.099999999999994},{"$f":"S57*T57","v":0}]
[]
[null,null,null,null,null,null,null,null,null,null,null,null,null,null,null,{"$f":"Cen!A173","v":"Čelní kování INSERTA"},{"$f":"Cen!B173","v":"ZSF.39A2"},{"$f":"Cen!C173","v":"BL"},{"$f":"SUM($S$3:$S$11)*2","v":0},{"$f":"Cen!F173","v":22.4},0]
[]
[]
[]
[null,null,null,null,null,null,null,null,null,null,null,null,null,null,null,{"$f":"Cen!A215","v":"Podélný reling vlevo/vpravo, 270mm, šedý"},{"$f":"Cen!B215","v":"ZRG.207RSIC"},{"$f":"Cen!C215","v":"R906"},null,{"$f":"Cen!F215","v":150},{"$f":"S63*T63","v":0}]
[null,null,null,null,null,null,null,null,null,null,null,null,null,null,null,{"$f":"Cen!A219","v":"Podélný reling vlevo/vpravo, 300mm, šedý"},{"$f":"Cen!B219","v":"ZRG.237RSIC"},{"$f":"Cen!C219","v":"R906"},null,{"$f":"Cen!F219","v":152.5},0]
[null,null,null,null,null,null,null,null,null,null,null,null,null,null,null,{"$f":"Cen!A223","v":"Podélný reling vlevo/vpravo, 350mm, šedý"},{"$f":"Cen!B223","v":"ZRG.287RSIC"},{"$f":"Cen!C223","v":"R906"},null,{"$f":"Cen!F223","v":155},0]
[null,null,null,null,null,null,null,null,null,null,null,null,null,null,null,{"$f":"Cen!A227","v":"Podélný reling vlevo/vpravo, 400mm, šedý"},{"$f":"Cen!B227","v":"ZRG.337RSIC"},{"$f":"Cen!C227","v":"R906"},null,{"$f":"Cen!F227","v":157.5},0]
[null,null,null,null,null,null,null,null,null,null,null,null,null,null,null,{"$f":"Cen!A231","v":"Podélný reling vlevo/vpravo, 450mm, šedý"},{"$f":"Cen!B231","v":"ZRG.387RSIC"},{"$f":"Cen!C231","v":"R906"},{"$f":"S7","v":0},{"$f":"Cen!F231","v":160},0]
[null,null,null,null,null,null,null,null,null,null,null,null,null,null,null,{"$f":"Cen!A235","v":"Podélný reling vlevo/vpravo, 500mm, šedý"},{"$f":"Cen!B235","v":"ZRG.437RSIC"},{"$f":"Cen!C235","v":"R906"},0,{"$f":"Cen!F235","v":178.7},0]
[null,null,null,null,null,null,null,null,null,null,null,null,null,null,null,{"$f":"Cen!A239","v":"Podélný reling vlevo/vpravo, 550mm, šedý"},{"$f":"Cen!B239","v":"ZRG.487RSIC"},{"$f":"Cen!C239","v":"R906"},0,{"$f":"Cen!F239","v":169.4},0]
[null,null,null,null,null,null,null,null,null,null,null,null,null,null,null,{"$f":"Cen!A243","v":"Podélný reling vlevo/vpravo, 600mm, šedý"},{"$f":"Cen!B243","v":"ZRG.537RSIC"},{"$f":"Cen!C243","v":"R906"},0,{"$f":"Cen!F243","v":176.3},0]
[null,null,null,null,null,null,null,null,null,null,null,null,null,null,null,{"$f":"Cen!A247","v":"Podélný reling vlevo/vpravo, 650mm, šedý"},{"$f":"Cen!B247","v":"ZRG.587RSIC"},{"$f":"Cen!C247","v":"R906"},0,{"$f":"Cen!F247","v":183.2},0]
[]
[null,null,null,null,null,null,null,null,null,null,null,null,null,null,null,{"$f":"Cen!A328","v":"Sada držáků zásuvného prvku D, bílošedá"},{"$f":"Cen!B328","v":"Z36D0080"},{"$f":"Cen!C328","v":"WGR"},{"$f":"SUM($S$3:$S$11)","v":0},{"$f":"Cen!F328","v":63.3},{"$f":"S73*T73","v":0}]
[]
[]
[]
[]
[]
[null,null,null,null,null,null,null,null,null,null,null,null,null,null,null,{"$f":"Cen!A292","v":"Kovový zásuvný prvek D, 450mm, šedý"},{"$f":"Cen!B292","v":"Z37A417D"},{"$f":"Cen!C292","v":"R906"},{"$f":"SUM(S3:S7)*2","v":0},{"$f":"Cen!F292","v":156.5},{"$f":"S79*T79","v":0}]
[null,null,null,null,null,null,null,null,null,null,null,null,null,null,null,{"$f":"Cen!A295","v":"Kovový zásuvný prvek D, 500mm, šedý"},{"$f":"Cen!B295","v":"Z37A467D"},{"$f":"Cen!C295","v":"R906"},{"$f":"S8*2","v":0},{"$f":"Cen!F295","v":164.4},{"$f":"S80*T80","v":0}]
[null,null,null,null,null,null,null,null,null,null,null,null,null,null,null,{"$f":"Cen!A298","v":"Kovový zásuvný prvek D, 550mm, šedý"},{"$f":"Cen!B298","v":"Z37A517D"},{"$f":"Cen!C298","v":"R906"},{"$f":"S9*2","v":0},{"$f":"Cen!F298","v":177.6},{"$f":"S81*T81","v":0}]
[null,null,null,null,null,null,null,null,null,null,null,null,null,null,null,{"$f":"Cen!A301","v":0},{"$f":"Cen!B301","v":0},{"$f":"Cen!C301","v":0},null,{"$f":"Cen!F301","v":0},{"$f":"S82*T82","v":0}]
[null,null,null,null,null,null,null,null,null,null,null,null,null,null,null,{"$f":"Cen!A304","v":"Kovový zásuvný prvek D, 650mm, šedý"},{"$f":"Cen!B304","v":"Z37A617D"},{"$f":"Cen!C304","v":"R906"},{"$f":"SUM(S10, S11)*2","v":0},{"$f":"Cen!F304","v":204},{"$f":"S83*T83","v":0}]
[]
[]
[]
[]
[]
[]
[null,null,null,null,null,null,null,null,null,null,null,null,null,null,null,null,null,null,null,null,{"$f":"SUM(U3:U88)","v":0}]
[]
[]
[]
[]
[]
[]
[]
[]
[]
[]
[]
[]
[null,null,null,null,null,null,null,null,null,null,null,null,null,null,null,{"$f":"List!$B$289&\"!\"","v":"Kovové zásuvné prvky pro nerez (Inox) se nevyrábí!"}]
[null,null,null,null,null,null,null,null,null,null,null,null,null,null,null,{"$f":"List!$B$290&\"!\"","v":"Kování naplánované na tomto listu se neprojeví v objednávce!"}]

{"sheet":"ADD32R","index":33,"n_rows":86,"n_cols":21,"rows_kept":86,"cut":false,"hidden":false,"merged":[]}
[]
[null,null,null,null,null,null,null,null,null,null,null,{"$f":"List!$B$48&\" \"&List!$B$59&\", \"&List!$B$60&\" D+D\"","v":"Čelní výsuv pro úzké korpusy, sestava D+D"},null,null,null,"Počty zásuvek →",{"$f":"SUM(D19:K19)","v":0},{"$f":"SUM(H20:L20)","v":0},{"$f":"SUM(D25:K25)","v":0},{"$f":"SUM(H26:L26)","v":0}]
[null,null,null,null,null,null,null,null,null,null,null,{"$f":"List!$B$64","v":"podélný reling"},null,{"$f":"List!$B$11&\":\"","v":"Zpět na:"},null,{"$f":"Cen!A28","v":"Bočnice M 270mm, šedé"},{"$f":"Cen!B28","v":"378M2702SA"},{"$f":"Cen!C28","v":"R906"},{"$f":"SUM($D$19, $D$25)","v":0},{"$f":"Cen!F28","v":350.6},{"$f":"S3*T3","v":0}]
[null,null,null,null,null,null,null,null,{"$f":"List!$B$72&\":\"","v":"bočnice:"},null,"M",null,null,{"$f":"\" \"&List!$B$13","v":" Úvod"},null,{"$f":"Cen!A32","v":"Bočnice M 300mm, šedé"},{"$f":"Cen!B32","v":"378M3002SA"},{"$f":"Cen!C32","v":"R906"},{"$f":"SUM($E$19, $E$25)","v":0},{"$f":"Cen!F32","v":350.6},0]
[null,null,null,null,null,null,null,null,{"$f":"List!$B$27&\":\"","v":"barva:"},null,{"$f":"Form!$O$2","v":"šedá"},null,null,{"$f":"\" \"&List!$B$4","v":" Výběr zásuvek a výsuvů"},null,{"$f":"Cen!A36","v":"Bočnice M 350mm, šedé"},{"$f":"Cen!B36","v":"378M3502SA"},{"$f":"Cen!C36","v":"R906"},{"$f":"SUM($F$19, $F$25)","v":0},{"$f":"Cen!F36","v":350.6},0]
[null,null,null,null,null,null,null,null,null,null,null,null,null,null,null,{"$f":"Cen!A40","v":"Bočnice M 400mm, šedé"},{"$f":"Cen!B40","v":"378M4002SA"},{"$f":"Cen!C40","v":"R906"},{"$f":"SUM($G$19, $G$25)","v":0},{"$f":"Cen!F40","v":354.3},0]
[null,null,null,null,null,null,null,null,{"$f":"List!$B$36&\":\"","v":"čelní kování:"},null,{"$f":"Form!$O$13","v":"INSERTA"},null,null,{"$f":"List!$B$12&\":\"","v":"Pokračovat na:"},null,{"$f":"Cen!A44","v":"Bočnice M 450mm, šedé"},{"$f":"Cen!B44","v":"378M4502SA"},{"$f":"Cen!C44","v":"R906"},{"$f":"SUM($H$19:$H$20, $H$25:$H$26)*2","v":0},{"$f":"Cen!F44","v":358.1},0]
[null,null,null,null,null,null,null,null,null,null,null,null,null,{"$f":"\" \"&List!$B$5","v":" Výběr doplňků"},null,{"$f":"Cen!A48","v":"Bočnice M 500mm, šedé"},{"$f":"Cen!B48","v":"378M5002SA"},{"$f":"Cen!C48","v":"R906"},{"$f":"SUM($I$19:$I$20, $I$25:$I$26)*2","v":0},{"$f":"Cen!F48","v":397.4},0]
[null,null,null,null,null,null,null,null,null,null,null,null,null,{"$f":"\" \"&List!$B$6","v":" Výběr SERVO-DRIVE"},null,{"$f":"Cen!A52","v":"Bočnice M 550mm, šedé"},{"$f":"Cen!B52","v":"378M5502SA"},{"$f":"Cen!C52","v":"R906"},{"$f":"SUM($J$19:$J$20, $J$25:$J$26)*2","v":0},{"$f":"Cen!F52","v":399.2},0]
[null,null,null,null,null,null,null,null,null,null,null,null,null,{"$f":"\" \"&List!$B$7","v":" Výběr ORGA-LINE"},null,{"$f":"Cen!A56","v":"Bočnice M 600mm, šedé"},{"$f":"Cen!B56","v":"378M6002SA"},{"$f":"Cen!C56","v":"R906"},{"$f":"SUM($K$19:$K$20, $K$25:$K$26)*2","v":0},{"$f":"Cen!F56","v":508.3},0]
[null,null,null,null,null,null,null,null,null,null,null,null,null,{"$f":"\" \"&List!$B$18","v":" Souhrn"},null,{"$f":"Cen!A60","v":"Bočnice M 650mm, šedé"},{"$f":"Cen!B60","v":"378M6502SA"},{"$f":"Cen!C60","v":"R906"},{"$f":"SUM($L$20, $L$26)*2","v":0},{"$f":"Cen!F60","v":536.29999999999995},0]
[]
[null,null,null,null,null,null,null,null,null,null,null,null,null,null,null,{"$f":"Cen!A94","v":"Korpusové lišty 270mm, BLUMOTION, 30kg"},{"$f":"Cen!B94","v":"578.2701B"},{"$f":"Cen!C94","v":"ZN"},{"$f":"$D$19","v":0},{"$f":"Cen!F94","v":459.2},0]
[null,null,null,null,null,null,null,null,null,null,null,null,null,null,null,{"$f":"Cen!A95","v":"Korpusové lišty 300mm, BLUMOTION, 30kg"},{"$f":"Cen!B95","v":"578.3001B"},{"$f":"Cen!C95","v":"ZN"},{"$f":"$E$19","v":0},{"$f":"Cen!F95","v":459.2},0]
[null,null,null,null,null,null,null,null,null,null,null,null,null,null,null,{"$f":"Cen!A96","v":"Korpusové lišty 350mm, BLUMOTION, 30kg"},{"$f":"Cen!B96","v":"578.3501B"},{"$f":"Cen!C96","v":"ZN"},{"$f":"$F$19","v":0},{"$f":"Cen!F96","v":459.2},0]
[null,null,null,null,null,null,null,null,null,null,null,null,null,null,null,{"$f":"Cen!A97","v":"Korpusové lišty 400mm, BLUMOTION, 30kg"},{"$f":"Cen!B97","v":"578.4001B"},{"$f":"Cen!C97","v":"ZN"},{"$f":"$G$19","v":0},{"$f":"Cen!F97","v":462.6},0]
[null,"BLUMOTION",null,null,null,null,null,null,null,null,null,null,null,null,null,{"$f":"Cen!A98","v":"Korpusové lišty 450mm, BLUMOTION, 30kg"},{"$f":"Cen!B98","v":"578.4501B"},{"$f":"Cen!C98","v":"ZN"},{"$f":"$H$19","v":0},{"$f":"Cen!F98","v":466},0]
[null,null,{"$f":"List!$B$45&\":\"","v":"Jmenovitá délka:"},"270 mm","300 mm","350 mm","400 mm","450 mm","500 mm","550 mm","600 mm","650 mm",null,null,null,{"$f":"Cen!A99","v":"Korpusové lišty 450mm, BLUMOTION, 65kg"},{"$f":"Cen!B99","v":"576.4501B"},{"$f":"Cen!C99","v":"ZN"},{"$f":"$H$20","v":0},{"$f":"Cen!F99","v":560.79999999999995},0]
[null,"ADD30BR","30 kg",null,null,null,null,null,null,null,null,null,null,null,null,{"$f":"Cen!A100","v":"Korpusové lišty 500mm, BLUMOTION, 30kg"},{"$f":"Cen!B100","v":"578.5001B"},{"$f":"Cen!C100","v":"ZN"},{"$f":"$I$19","v":0},{"$f":"Cen!F100","v":469.5},0]
[null,"ADM65BR","65 kg",null,null,null,null,null,null,null,null,null,null,null,null,{"$f":"Cen!A101","v":"Korpusové lišty 500mm, BLUMOTION, 65kg"},{"$f":"Cen!B101","v":"576.5001B"},{"$f":"Cen!C101","v":"ZN"},{"$f":"$I$20","v":0},{"$f":"Cen!F101","v":620.4},0]
[null,null,null,null,null,null,null,null,null,null,null,null,null,null,null,{"$f":"Cen!A102","v":"Korpusové lišty 550mm, BLUMOTION, 30kg"},{"$f":"Cen!B102","v":"578.5501B"},{"$f":"Cen!C102","v":"ZN"},{"$f":"$J$19","v":0},{"$f":"Cen!F102","v":493.5},0]
[null,null,null,null,null,null,null,null,null,null,null,null,null,null,null,{"$f":"Cen!A103","v":"Korpusové lišty 550mm, BLUMOTION, 65kg"},{"$f":"Cen!B103","v":"576.5501B"},{"$f":"Cen!C103","v":"ZN"},{"$f":"$J$20","v":0},{"$f":"Cen!F103","v":644.29999999999995},0]
[null,null,null,null,null,null,null,null,null,null,null,null,null,null,null,{"$f":"Cen!A104","v":"Korpusové lišty 600mm, BLUMOTION, 30kg"},{"$f":"Cen!B104","v":"578.6001B"},{"$f":"Cen!C104","v":"ZN"},{"$f":"$K$19","v":0},{"$f":"Cen!F104","v":523.9},0]
[null,null,null,null,null,null,null,null,null,null,null,null,null,null,null,{"$f":"Cen!A105","v":"Korpusové lišty 600mm, BLUMOTION, 65kg"},{"$f":"Cen!B105","v":"576.6001B"},{"$f":"Cen!C105","v":"ZN"},{"$f":"$K$20","v":0},{"$f":"Cen!F105","v":661.1},0]
[null,null,null,null,null,null,null,null,null,null,null,null,null,null,null,{"$f":"Cen!A106","v":"Korpusové lišty 650mm, BLUMOTION, 65kg"},{"$f":"Cen!B106","v":"576.6501B"},{"$f":"Cen!C106","v":"ZN"},{"$f":"$L$20","v":0},{"$f":"Cen!F106","v":751.2},0]
[null,null,null,null,null,null,null,null,null,null,null,null,null,null,null,{"$f":"Cen!A109","v":"Korp. lišty TIP-ON BLUMOTION, 270mm, 30 kg"},{"$f":"Cen!B109","v":"578.2701M"},{"$f":"Cen!C109","v":"ZN"},{"$f":"$D$25","v":0},{"$f":"Cen!F109","v":417.4},0]
[null,null,null,null,null,null,null,null,null,null,null,null,null,null,null,{"$f":"Cen!A110","v":"Korp. lišty TIP-ON BLUMOTION, 300mm, 30 kg"},{"$f":"Cen!B110","v":"578.3001M"},{"$f":"Cen!C110","v":"ZN"},{"$f":"$E$25","v":0},{"$f":"Cen!F110","v":417.4},0]
[null,null,null,null,null,null,null,null,null,null,null,null,null,null,null,{"$f":"Cen!A111","v":"Korp. lišty TIP-ON BLUMOTION, 350mm, 30 kg"},{"$f":"Cen!B111","v":"578.3501M"},{"$f":"Cen!C111","v":"ZN"},{"$f":"$F$25","v":0},{"$f":"Cen!F111","v":417.4},0]
[null,{"$f":"List!$B$23&\": *\"","v":"Volitelně: *"},null,null,null,null,null,null,null,null,null,null,null,null,null,{"$f":"Cen!A116","v":"Korp. lišty TIP-ON BLUMOTION, 500mm, 65 kg"},{"$f":"Cen!B116","v":"576.5001M"},{"$f":"Cen!C116","v":"ZN"},{"$f":"$I$26","v":0},{"$f":"Cen!F116","v":564},0]
[null,{"$f":"Cen!A328","v":"Sada držáků zásuvného prvku D, bílošedá"},null,null,null,null,null,{"$f":"Cen!B328","v":"Z36D0080"},{"$f":"Cen!C328","v":"WGR"},null,null,null,null,null,null,{"$f":"Cen!A117","v":"Korp. lišty TIP-ON BLUMOTION, 550mm, 30 kg"},{"$f":"Cen!B117","v":"578.5501M"},{"$f":"Cen!C117","v":"ZN"},{"$f":"$J$25","v":0},{"$f":"Cen!F117","v":448.6},0]
[null,null,null,null,null,null,null,null,null,null,null,null,null,null,null,{"$f":"Cen!A118","v":"Korp. lišty TIP-ON BLUMOTION, 550mm, 65 kg"},{"$f":"Cen!B118","v":"576.5501M"},{"$f":"Cen!C118","v":"ZN"},{"$f":"$J$26","v":0},{"$f":"Cen!F118","v":585.79999999999995},0]
[null,{"$f":"\"     * \"&List!$B$148","v":"     * Sada držáků, pro vlastní zásuvný prvek"},null,null,null,null,null,null,null,null,null,null,null,null,null,{"$f":"Cen!A119","v":"Korp. lišty TIP-ON BLUMOTION, 600mm, 30 kg"},{"$f":"Cen!B119","v":"578.6001M"},{"$f":"Cen!C119","v":"ZN"},{"$f":"$K$25","v":0},{"$f":"Cen!F119","v":542},0]
[null,{"$f":"\"       \"&List!$B$150&\"!\"","v":"       Cena držáků zásuvného prvku není zahrnuta do cen jednotlivých výsuvů!"},null,null,null,null,null,null,null,null,null,null,null,null,null,{"$f":"Cen!A120","v":"Korp. lišty TIP-ON BLUMOTION, 600mm, 65 kg"},{"$f":"Cen!B120","v":"576.6001M"},{"$f":"Cen!C120","v":"ZN"},{"$f":"$K$26","v":0},{"$f":"Cen!F120","v":661.1},0]
[null,null,null,null,null,null,null,null,null,null,null,null,null,null,null,{"$f":"Cen!A121","v":"Korp. lišty TIP-ON BLUMOTION, 650mm, 65 kg"},{"$f":"Cen!B121","v":"576.6501M"},{"$f":"Cen!C121","v":"ZN"},{"$f":"$L$26","v":0},{"$f":"Cen!F121","v":682.9},0]
[]
[null,null,null,null,null,null,null,null,null,null,null,null,null,null,null,{"$f":"Cen!A124","v":"Sada jednotek TIP-ON BLUMOTION, S0"},{"$f":"Cen!B124","v":"T60B3030"},{"$f":"Cen!C124","v":"W"},null,{"$f":"Cen!F124","v":404.5},{"$f":"S36*T36","v":0}]
[null,null,null,null,null,null,null,null,null,null,null,null,null,null,null,{"$f":"Cen!A125","v":"Sada jednotek TIP-ON BLUMOTION, S1"},{"$f":"Cen!B125","v":"T60B3130"},{"$f":"Cen!C125","v":"R735"},null,{"$f":"Cen!F125","v":404.5},0]
[null,null,null,null,null,null,null,null,null,null,null,null,null,null,null,{"$f":"Cen!A126","v":"Sada jednotek TIP-ON BLUMOTION, L1"},{"$f":"Cen!B126","v":"T60B3330"},{"$f":"Cen!C126","v":"R735"},null,{"$f":"Cen!F126","v":404.5},0]
[null,null,null,null,null,null,null,null,null,null,null,null,null,null,null,{"$f":"Cen!A127","v":"Sada jednotek TIP-ON BLUMOTION, L3"},{"$f":"Cen!B127","v":"T60B3530"},{"$f":"Cen!C127","v":"R737"},null,{"$f":"Cen!F127","v":404.5},0]
[null,null,null,null,null,null,null,null,null,null,null,null,null,null,null,{"$f":"Cen!A128","v":"Sada jednotek TIP-ON BLUMOTION, L5"},{"$f":"Cen!B128","v":"T60B3560"},{"$f":"Cen!C128","v":"S"},null,{"$f":"Cen!F128","v":404.5},0]
[]
[null,null,null,null,null,null,null,null,null,null,null,null,null,null,null,{"$f":"Cen!A130","v":"Synchronizační adaptér"},{"$f":"Cen!B130","v":"T60.000D"},{"$f":"Cen!C130","v":"R735"},null,{"$f":"Cen!F130","v":5.8},0]
[null,null,null,null,null,null,null,null,null,null,null,null,null,null,null,{"$f":"Cen!A131","v":"Hřídel synchronizace"},{"$f":"Cen!B131","v":"T60.1125W"},{"$f":"Cen!C131","v":"GR"},null,{"$f":"Cen!F131","v":95.6},0]
[null,null,null,null,null,null,null,null,null,null,null,null,null,null,null,{"$f":"Cen!A132","v":"Jednodílná synchronizace"},{"$f":"Cen!B132","v":"T60.300D"},{"$f":"Cen!C132","v":"R735"},null,{"$f":"Cen!F132","v":23.2},0]
[null,null,null,null,null,null,null,null,null,null,null,null,null,null,null,{"$f":"Cen!A134","v":"Držák hřídele synchronizace"},{"$f":"Cen!B134","v":"T60B000H"},{"$f":"Cen!C134","v":"NI"},null,{"$f":"Cen!F134","v":6},0]
[null,null,null,null,null,null,null,null,null,null,null,null,null,null,null,{"$f":"Cen!A135","v":"Podpěrný úhelník pro dno"},{"$f":"Cen!B135","v":"Z96.2011"},{"$f":"Cen!C135","v":"R737"},null,{"$f":"Cen!F135","v":29.8},0]
[]
[null,null,null,null,null,null,null,null,null,null,null,null,null,null,null,{"$f":"Cen!A143","v":"Držáky zadní stěny N, šedé"},{"$f":"Cen!B143","v":"Z30N000S.04"},{"$f":"Cen!C143","v":"R906"},null,{"$f":"Cen!F143","v":36.5},{"$f":"S48*T48","v":0}]
[null,null,null,null,null,null,null,null,null,null,null,null,null,null,null,{"$f":"Cen!A147","v":"Držáky zadní stěny M, šedé"},{"$f":"Cen!B147","v":"Z30M000S.04"},{"$f":"Cen!C147","v":"R906"},null,{"$f":"Cen!F147","v":40.200000000000003},{"$f":"S49*T49","v":0}]
[null,null,null,null,null,null,null,null,null,null,null,null,null,null,null,{"$f":"Cen!A151","v":"Držáky zadní stěny K, šedé"},{"$f":"Cen!B151","v":"Z30K000S"},{"$f":"Cen!C151","v":"R906"},null,{"$f":"Cen!F151","v":67.400000000000006},0]
[null,null,null,null,null,null,null,null,null,null,null,null,null,null,null,{"$f":"Cen!A154","v":"Držáky zadní stěny B, šedé"},{"$f":"Cen!B154","v":"Z30B000S.04"},{"$f":"Cen!C154","v":"R906"},null,{"$f":"Cen!F154","v":48.8},0]
[null,null,null,null,null,null,null,null,null,null,null,null,null,null,null,{"$f":"Cen!A158","v":"Držáky zadní stěny C, šedé"},{"$f":"Cen!B158","v":"Z30C000S"},{"$f":"Cen!C158","v":"R906"},null,{"$f":"Cen!F158","v":71},0]
[null,null,null,null,null,null,null,null,null,null,null,null,null,null,null,{"$f":"Cen!A162","v":"Držáky zadní stěny D, šedé"},{"$f":"Cen!B162","v":"Z30D000S"},{"$f":"Cen!C162","v":"R906"},{"$f":"SUM($S$3:$S$11)","v":0},{"$f":"Cen!F162","v":78.099999999999994},{"$f":"S53*T53","v":0}]
[]
[null,null,null,null,null,null,null,null,null,null,null,null,null,null,null,{"$f":"Cen!A173","v":"Čelní kování INSERTA"},{"$f":"Cen!B173","v":"ZSF.39A2"},{"$f":"Cen!C173","v":"BL"},{"$f":"SUM($S$3:$S$11)*2","v":0},{"$f":"Cen!F173","v":22.4},0]
[]
[]
[]
[null,null,null,null,null,null,null,null,null,null,null,null,null,null,null,{"$f":"Cen!A215","v":"Podélný reling vlevo/vpravo, 270mm, šedý"},{"$f":"Cen!B215","v":"ZRG.207RSIC"},{"$f":"Cen!C215","v":"R906"},{"$f":"S3","v":0},{"$f":"Cen!F215","v":150},{"$f":"S59*T59","v":0}]
[null,null,null,null,null,null,null,null,null,null,null,null,null,null,null,{"$f":"Cen!A219","v":"Podélný reling vlevo/vpravo, 300mm, šedý"},{"$f":"Cen!B219","v":"ZRG.237RSIC"},{"$f":"Cen!C219","v":"R906"},0,{"$f":"Cen!F219","v":152.5},0]
[null,null,null,null,null,null,null,null,null,null,null,null,null,null,null,{"$f":"Cen!A223","v":"Podélný reling vlevo/vpravo, 350mm, šedý"},{"$f":"Cen!B223","v":"ZRG.287RSIC"},{"$f":"Cen!C223","v":"R906"},0,{"$f":"Cen!F223","v":155},0]
[null,null,null,null,null,null,null,null,null,null,null,null,null,null,null,{"$f":"Cen!A227","v":"Podélný reling vlevo/vpravo, 400mm, šedý"},{"$f":"Cen!B227","v":"ZRG.337RSIC"},{"$f":"Cen!C227","v":"R906"},0,{"$f":"Cen!F227","v":157.5},0]
[null,null,null,null,null,null,null,null,null,null,null,null,null,null,null,{"$f":"Cen!A231","v":"Podélný reling vlevo/vpravo, 450mm, šedý"},{"$f":"Cen!B231","v":"ZRG.387RSIC"},{"$f":"Cen!C231","v":"R906"},0,{"$f":"Cen!F231","v":160},0]
[null,null,null,null,null,null,null,null,null,null,null,null,null,null,null,{"$f":"Cen!A235","v":"Podélný reling vlevo/vpravo, 500mm, šedý"},{"$f":"Cen!B235","v":"ZRG.437RSIC"},{"$f":"Cen!C235","v":"R906"},0,{"$f":"Cen!F235","v":178.7},0]
[null,null,null,null,null,null,null,null,null,null,null,null,null,null,null,{"$f":"Cen!A239","v":"Podélný reling vlevo/vpravo, 550mm, šedý"},{"$f":"Cen!B239","v":"ZRG.487RSIC"},{"$f":"Cen!C239","v":"R906"},0,{"$f":"Cen!F239","v":169.4},0]
[null,null,null,null,null,null,null,null,null,null,null,null,null,null,null,{"$f":"Cen!A243","v":"Podélný reling vlevo/vpravo, 600mm, šedý"},{"$f":"Cen!B243","v":"ZRG.537RSIC"},{"$f":"Cen!C243","v":"R906"},0,{"$f":"Cen!F243","v":176.3},0]
[null,null,null,null,null,null,null,null,null,null,null,null,null,null,null,{"$f":"Cen!A247","v":"Podélný reling vlevo/vpravo, 650mm, šedý"},{"$f":"Cen!B247","v":"ZRG.587RSIC"},{"$f":"Cen!C247","v":"R906"},0,{"$f":"Cen!F247","v":183.2},0]
[]
[null,null,null,null,null,null,null,null,null,null,null,null,null,null,null,{"$f":"Cen!A328","v":"Sada držáků zásuvného prvku D, bílošedá"},{"$f":"Cen!B328","v":"Z36D0080"},{"$f":"Cen!C328","v":"WGR"},{"$f":"J30","v":0},{"$f":"Cen!F328","v":63.3},{"$f":"S69*T69","v":0}]
[]
[]
[]
[]
[]
[]
[]
[]
[]
[]
[]
[]
[]
[]
[]
[]
[null,null,null,null,null,null,null,null,null,null,null,null,null,null,null,null,null,null,null,null,{"$f":"SUM(U3:U84)","v":0}]

{"sheet":"ADM30G","index":34,"n_rows":90,"n_cols":21,"rows_kept":90,"cut":false,"hidden":false,"merged":[]}
[]
[null,null,null,null,null,null,null,null,null,null,null,{"$f":"List!$B$48&\" \"&List!$B$59&\", \"&List!$B$60&\" D+M\"","v":"Čelní výsuv pro úzké korpusy, sestava D+M"},null,null,null,"Počty zásuvek →",{"$f":"SUM(D19:K19)","v":0},{"$f":"SUM(H20:L20)","v":0},{"$f":"SUM(D25:K25)","v":0},{"$f":"SUM(H26:L26)","v":0}]
[null,null,null,null,null,null,null,null,null,null,null,{"$f":"List!$B$62","v":"zásuvný prvek sklo"},null,{"$f":"List!$B$11&\":\"","v":"Zpět na:"},null,{"$f":"Cen!A28","v":"Bočnice M 270mm, šedé"},{"$f":"Cen!B28","v":"378M2702SA"},{"$f":"Cen!C28","v":"R906"},{"$f":"SUM($D$19, $D$25)","v":0},{"$f":"Cen!F28","v":350.6},{"$f":"S3*T3","v":0}]
[null,null,null,null,null,null,null,null,{"$f":"List!$B$72&\":\"","v":"bočnice:"},null,"M",null,null,{"$f":"\" \"&List!$B$13","v":" Úvod"},null,{"$f":"Cen!A32","v":"Bočnice M 300mm, šedé"},{"$f":"Cen!B32","v":"378M3002SA"},{"$f":"Cen!C32","v":"R906"},{"$f":"SUM($E$19, $E$25)","v":0},{"$f":"Cen!F32","v":350.6},0]
[null,null,null,null,null,null,null,null,{"$f":"List!$B$27&\":\"","v":"barva:"},null,{"$f":"Form!$O$2","v":"šedá"},null,null,{"$f":"\" \"&List!$B$4","v":" Výběr zásuvek a výsuvů"},null,{"$f":"Cen!A36","v":"Bočnice M 350mm, šedé"},{"$f":"Cen!B36","v":"378M3502SA"},{"$f":"Cen!C36","v":"R906"},{"$f":"SUM($F$19, $F$25)","v":0},{"$f":"Cen!F36","v":350.6},0]
[null,null,null,null,null,null,null,null,{"$f":"List!$B$32&\":\"","v":"sklo:"},null,{"$f":"Form!$O$8","v":"čiré"},null,null,null,null,{"$f":"Cen!A40","v":"Bočnice M 400mm, šedé"},{"$f":"Cen!B40","v":"378M4002SA"},{"$f":"Cen!C40","v":"R906"},{"$f":"SUM($G$19, $G$25)","v":0},{"$f":"Cen!F40","v":354.3},0]
[null,null,null,null,null,null,null,null,{"$f":"List!$B$36&\":\"","v":"čelní kování:"},null,{"$f":"Form!$O$13","v":"INSERTA"},null,null,{"$f":"List!$B$12&\":\"","v":"Pokračovat na:"},null,{"$f":"Cen!A44","v":"Bočnice M 450mm, šedé"},{"$f":"Cen!B44","v":"378M4502SA"},{"$f":"Cen!C44","v":"R906"},{"$f":"SUM($H$19:$H$20, $H$25:$H$26)*2","v":0},{"$f":"Cen!F44","v":358.1},0]
[null,null,null,null,null,null,null,null,null,null,null,null,null,{"$f":"\" \"&List!$B$5","v":" Výběr doplňků"},null,{"$f":"Cen!A48","v":"Bočnice M 500mm, šedé"},{"$f":"Cen!B48","v":"378M5002SA"},{"$f":"Cen!C48","v":"R906"},{"$f":"SUM($I$19:$I$20, $I$25:$I$26)*2","v":0},{"$f":"Cen!F48","v":397.4},0]
[null,null,null,null,null,null,null,null,null,null,null,null,null,{"$f":"\" \"&List!$B$6","v":" Výběr SERVO-DRIVE"},null,{"$f":"Cen!A52","v":"Bočnice M 550mm, šedé"},{"$f":"Cen!B52","v":"378M5502SA"},{"$f":"Cen!C52","v":"R906"},{"$f":"SUM($J$19:$J$20, $J$25:$J$26)*2","v":0},{"$f":"Cen!F52","v":399.2},0]
[null,null,null,null,null,null,null,null,null,null,null,null,null,{"$f":"\" \"&List!$B$7","v":" Výběr ORGA-LINE"},null,{"$f":"Cen!A56","v":"Bočnice M 600mm, šedé"},{"$f":"Cen!B56","v":"378M6002SA"},{"$f":"Cen!C56","v":"R906"},{"$f":"SUM($K$19:$K$20, $K$25:$K$26)*2","v":0},{"$f":"Cen!F56","v":508.3},0]
[null,null,null,null,null,null,null,null,null,null,null,null,null,{"$f":"\" \"&List!$B$18","v":" Souhrn"},null,{"$f":"Cen!A60","v":"Bočnice M 650mm, šedé"},{"$f":"Cen!B60","v":"378M6502SA"},{"$f":"Cen!C60","v":"R906"},{"$f":"SUM($L$20, $L$26)*2","v":0},{"$f":"Cen!F60","v":536.29999999999995},0]
[]
[null,null,null,null,null,null,null,null,null,null,null,null,null,null,null,{"$f":"Cen!A94","v":"Korpusové lišty 270mm, BLUMOTION, 30kg"},{"$f":"Cen!B94","v":"578.2701B"},{"$f":"Cen!C94","v":"ZN"},{"$f":"$D$19","v":0},{"$f":"Cen!F94","v":459.2},0]
[null,null,null,null,null,null,null,null,null,null,null,null,null,null,null,{"$f":"Cen!A95","v":"Korpusové lišty 300mm, BLUMOTION, 30kg"},{"$f":"Cen!B95","v":"578.3001B"},{"$f":"Cen!C95","v":"ZN"},{"$f":"$E$19","v":0},{"$f":"Cen!F95","v":459.2},0]
[null,null,null,null,null,null,null,null,null,null,null,null,null,null,null,{"$f":"Cen!A96","v":"Korpusové lišty 350mm, BLUMOTION, 30kg"},{"$f":"Cen!B96","v":"578.3501B"},{"$f":"Cen!C96","v":"ZN"},{"$f":"$F$19","v":0},{"$f":"Cen!F96","v":459.2},0]
[null,null,null,null,null,null,null,null,null,null,null,null,null,null,null,{"$f":"Cen!A97","v":"Korpusové lišty 400mm, BLUMOTION, 30kg"},{"$f":"Cen!B97","v":"578.4001B"},{"$f":"Cen!C97","v":"ZN"},{"$f":"$G$19","v":0},{"$f":"Cen!F97","v":462.6},0]
[null,"BLUMOTION",null,null,null,null,null,null,null,null,null,null,null,null,null,{"$f":"Cen!A98","v":"Korpusové lišty 450mm, BLUMOTION, 30kg"},{"$f":"Cen!B98","v":"578.4501B"},{"$f":"Cen!C98","v":"ZN"},{"$f":"$H$19","v":0},{"$f":"Cen!F98","v":466},0]
[null,null,{"$f":"List!$B$45&\":\"","v":"Jmenovitá délka:"},"270 mm","300 mm","350 mm","400 mm","450 mm","500 mm","550 mm","600 mm","650 mm",null,null,null,{"$f":"Cen!A99","v":"Korpusové lišty 450mm, BLUMOTION, 65kg"},{"$f":"Cen!B99","v":"576.4501B"},{"$f":"Cen!C99","v":"ZN"},{"$f":"$H$20","v":0},{"$f":"Cen!F99","v":560.79999999999995},0]
[null,"ADM30BG","30 kg",null,null,null,null,null,null,null,null,null,null,null,null,{"$f":"Cen!A100","v":"Korpusové lišty 500mm, BLUMOTION, 30kg"},{"$f":"Cen!B100","v":"578.5001B"},{"$f":"Cen!C100","v":"ZN"},{"$f":"$I$19","v":0},{"$f":"Cen!F100","v":469.5},0]
[null,"ADM65BG","65 kg",null,null,null,null,null,null,null,null,null,null,null,null,{"$f":"Cen!A101","v":"Korpusové lišty 500mm, BLUMOTION, 65kg"},{"$f":"Cen!B101","v":"576.5001B"},{"$f":"Cen!C101","v":"ZN"},{"$f":"$I$20","v":0},{"$f":"Cen!F101","v":620.4},0]
[null,null,null,null,null,null,null,null,null,null,null,null,null,null,null,{"$f":"Cen!A102","v":"Korpusové lišty 550mm, BLUMOTION, 30kg"},{"$f":"Cen!B102","v":"578.5501B"},{"$f":"Cen!C102","v":"ZN"},{"$f":"$J$19","v":0},{"$f":"Cen!F102","v":493.5},0]
[null,null,null,null,null,null,null,null,null,null,null,null,null,null,null,{"$f":"Cen!A103","v":"Korpusové lišty 550mm, BLUMOTION, 65kg"},{"$f":"Cen!B103","v":"576.5501B"},{"$f":"Cen!C103","v":"ZN"},{"$f":"$J$20","v":0},{"$f":"Cen!F103","v":644.29999999999995},0]
[null,null,null,null,null,null,null,null,null,null,null,null,null,null,null,{"$f":"Cen!A104","v":"Korpusové lišty 600mm, BLUMOTION, 30kg"},{"$f":"Cen!B104","v":"578.6001B"},{"$f":"Cen!C104","v":"ZN"},{"$f":"$K$19","v":0},{"$f":"Cen!F104","v":523.9},0]
[null,null,null,null,null,null,null,null,null,null,null,null,null,null,null,{"$f":"Cen!A105","v":"Korpusové lišty 600mm, BLUMOTION, 65kg"},{"$f":"Cen!B105","v":"576.6001B"},{"$f":"Cen!C105","v":"ZN"},{"$f":"$K$20","v":0},{"$f":"Cen!F105","v":661.1},0]
[null,null,null,null,null,null,null,null,null,null,null,null,null,null,null,{"$f":"Cen!A106","v":"Korpusové lišty 650mm, BLUMOTION, 65kg"},{"$f":"Cen!B106","v":"576.6501B"},{"$f":"Cen!C106","v":"ZN"},{"$f":"$L$20","v":0},{"$f":"Cen!F106","v":751.2},0]
[null,null,null,null,null,null,null,null,null,null,null,null,null,null,null,{"$f":"Cen!A109","v":"Korp. lišty TIP-ON BLUMOTION, 270mm, 30 kg"},{"$f":"Cen!B109","v":"578.2701M"},{"$f":"Cen!C109","v":"ZN"},{"$f":"$D$25","v":0},{"$f":"Cen!F109","v":417.4},0]
[null,null,null,null,null,null,null,null,null,null,null,null,null,null,null,{"$f":"Cen!A110","v":"Korp. lišty TIP-ON BLUMOTION, 300mm, 30 kg"},{"$f":"Cen!B110","v":"578.3001M"},{"$f":"Cen!C110","v":"ZN"},{"$f":"$E$25","v":0},{"$f":"Cen!F110","v":417.4},0]
[null,null,null,null,null,null,null,null,null,null,null,null,null,null,null,{"$f":"Cen!A111","v":"Korp. lišty TIP-ON BLUMOTION, 350mm, 30 kg"},{"$f":"Cen!B111","v":"578.3501M"},{"$f":"Cen!C111","v":"ZN"},{"$f":"$F$25","v":0},{"$f":"Cen!F111","v":417.4},0]
[null,null,null,null,null,null,null,null,null,null,null,null,null,null,null,{"$f":"Cen!A112","v":"Korp. lišty TIP-ON BLUMOTION, 400mm, 30 kg"},{"$f":"Cen!B112","v":"578.4001M"},{"$f":"Cen!C112","v":"ZN"},{"$f":"$G$25","v":0},{"$f":"Cen!F112","v":420.5},0]
[null,null,null,null,null,null,null,null,null,null,null,null,null,null,null,{"$f":"Cen!A113","v":"Korp. lišty TIP-ON BLUMOTION, 450mm, 30 kg"},{"$f":"Cen!B113","v":"578.4501M"},{"$f":"Cen!C113","v":"ZN"},{"$f":"$H$25","v":0},{"$f":"Cen!F113","v":423.7},0]
[null,null,null,null,null,null,null,null,null,null,null,null,null,null,null,{"$f":"Cen!A114","v":"Korp. lišty TIP-ON BLUMOTION, 450mm, 65 kg"},{"$f":"Cen!B114","v":"578.4501M"},{"$f":"Cen!C114","v":"ZN"},{"$f":"$H$26","v":0},{"$f":"Cen!F114","v":560.79999999999995},0]
[null,null,null,null,null,null,null,null,null,null,null,null,null,null,null,{"$f":"Cen!A115","v":"Korp. lišty TIP-ON BLUMOTION, 500mm, 30 kg"},{"$f":"Cen!B115","v":"578.5001M"},{"$f":"Cen!C115","v":"ZN"},{"$f":"$I$25","v":0},{"$f":"Cen!F115","v":426.8},0]
[null,null,null,null,null,null,null,null,null,null,null,null,null,null,null,{"$f":"Cen!A116","v":"Korp. lišty TIP-ON BLUMOTION, 500mm, 65 kg"},{"$f":"Cen!B116","v":"576.5001M"},{"$f":"Cen!C116","v":"ZN"},{"$f":"$I$26","v":0},{"$f":"Cen!F116","v":564},0]
[null,null,null,null,null,null,null,null,null,null,null,null,null,null,null,{"$f":"Cen!A117","v":"Korp. lišty TIP-ON BLUMOTION, 550mm, 30 kg"},{"$f":"Cen!B117","v":"578.5501M"},{"$f":"Cen!C117","v":"ZN"},{"$f":"$J$25","v":0},{"$f":"Cen!F117","v":448.6},0]
[null,null,null,null,null,null,null,null,null,null,null,null,null,null,null,{"$f":"Cen!A118","v":"Korp. lišty TIP-ON BLUMOTION, 550mm, 65 kg"},{"$f":"Cen!B118","v":"576.5501M"},{"$f":"Cen!C118","v":"ZN"},{"$f":"$J$26","v":0},{"$f":"Cen!F118","v":585.79999999999995},0]
[null,null,null,null,null,null,null,null,null,null,null,null,null,null,null,{"$f":"Cen!A119","v":"Korp. lišty TIP-ON BLUMOTION, 600mm, 30 kg"},{"$f":"Cen!B119","v":"578.6001M"},{"$f":"Cen!C119","v":"ZN"},{"$f":"$K$25","v":0},{"$f":"Cen!F119","v":542},0]
[null,null,null,null,null,null,null,null,null,null,null,null,null,null,null,{"$f":"Cen!A120","v":"Korp. lišty TIP-ON BLUMOTION, 600mm, 65 kg"},{"$f":"Cen!B120","v":"576.6001M"},{"$f":"Cen!C120","v":"ZN"},{"$f":"$K$26","v":0},{"$f":"Cen!F120","v":661.1},0]
[null,null,null,null,null,null,null,null,null,null,null,null,null,null,null,{"$f":"Cen!A121","v":"Korp. lišty TIP-ON BLUMOTION, 650mm, 65 kg"},{"$f":"Cen!B121","v":"576.6501M"},{"$f":"Cen!C121","v":"ZN"},{"$f":"$L$26","v":0},{"$f":"Cen!F121","v":682.9},0]
[]
[null,null,null,null,null,null,null,null,null,null,null,null,null,null,null,{"$f":"Cen!A124","v":"Sada jednotek TIP-ON BLUMOTION, S0"},{"$f":"Cen!B124","v":"T60B3030"},{"$f":"Cen!C124","v":"W"},{"$f":"$D$30","v":0},{"$f":"Cen!F124","v":404.5},{"$f":"S40*T40","v":0}]
[null,null,null,null,null,null,null,null,null,null,null,null,null,null,null,{"$f":"Cen!A125","v":"Sada jednotek TIP-ON BLUMOTION, S1"},{"$f":"Cen!B125","v":"T60B3130"},{"$f":"Cen!C125","v":"R735"},{"$f":"$E$30","v":0},{"$f":"Cen!F125","v":404.5},0]
[null,null,null,null,null,null,null,null,null,null,null,null,null,null,null,{"$f":"Cen!A126","v":"Sada jednotek TIP-ON BLUMOTION, L1"},{"$f":"Cen!B126","v":"T60B3330"},{"$f":"Cen!C126","v":"R735"},{"$f":"$F$30","v":0},{"$f":"Cen!F126","v":404.5},0]
[null,null,null,null,null,null,null,null,null,null,null,null,null,null,null,{"$f":"Cen!A127","v":"Sada jednotek TIP-ON BLUMOTION, L3"},{"$f":"Cen!B127","v":"T60B3530"},{"$f":"Cen!C127","v":"R737"},{"$f":"$G$30","v":0},{"$f":"Cen!F127","v":404.5},0]
[null,null,null,null,null,null,null,null,null,null,null,null,null,null,null,{"$f":"Cen!A128","v":"Sada jednotek TIP-ON BLUMOTION, L5"},{"$f":"Cen!B128","v":"T60B3560"},{"$f":"Cen!C128","v":"S"},{"$f":"$H$30","v":0},{"$f":"Cen!F128","v":404.5},0]
[]
[null,null,null,null,null,null,null,null,null,null,null,null,null,null,null,{"$f":"Cen!A130","v":"Synchronizační adaptér"},{"$f":"Cen!B130","v":"T60.000D"},{"$f":"Cen!C130","v":"R735"},{"$f":"SUM($S$40:$S$44)*2","v":0},{"$f":"Cen!F130","v":5.8},0]
[null,null,null,null,null,null,null,null,null,null,null,null,null,null,null,{"$f":"Cen!A131","v":"Hřídel synchronizace"},{"$f":"Cen!B131","v":"T60.1125W"},{"$f":"Cen!C131","v":"GR"},{"$f":"SUM($S$40:$S$44)","v":0},{"$f":"Cen!F131","v":95.6},0]
[null,null,null,null,null,null,null,null,null,null,null,null,null,null,null,{"$f":"Cen!A132","v":"Jednodílná synchronizace"},{"$f":"Cen!B132","v":"T60.300D"},{"$f":"Cen!C132","v":"R735"},null,{"$f":"Cen!F132","v":23.2},0]
[null,null,null,null,null,null,null,null,null,null,null,null,null,null,null,{"$f":"Cen!A134","v":"Držák hřídele synchronizace"},{"$f":"Cen!B134","v":"T60B000H"},{"$f":"Cen!C134","v":"NI"},null,{"$f":"Cen!F134","v":6},0]
[null,null,null,null,null,null,null,null,null,null,null,null,null,null,null,{"$f":"Cen!A135","v":"Podpěrný úhelník pro dno"},{"$f":"Cen!B135","v":"Z96.2011"},{"$f":"Cen!C135","v":"R737"},null,{"$f":"Cen!F135","v":29.8},0]
[]
[null,null,null,null,null,null,null,null,null,null,null,null,null,null,null,{"$f":"Cen!A143","v":"Držáky zadní stěny N, šedé"},{"$f":"Cen!B143","v":"Z30N000S.04"},{"$f":"Cen!C143","v":"R906"},null,{"$f":"Cen!F143","v":36.5},{"$f":"S52*T52","v":0}]
[null,null,null,null,null,null,null,null,null,null,null,null,null,null,null,{"$f":"Cen!A147","v":"Držáky zadní stěny M, šedé"},{"$f":"Cen!B147","v":"Z30M000S.04"},{"$f":"Cen!C147","v":"R906"},{"$f":"SUM($S$3:$S$11)/2","v":0},{"$f":"Cen!F147","v":40.200000000000003},{"$f":"S53*T53","v":0}]
[null,null,null,null,null,null,null,null,null,null,null,null,null,null,null,{"$f":"Cen!A151","v":"Držáky zadní stěny K, šedé"},{"$f":"Cen!B151","v":"Z30K000S"},{"$f":"Cen!C151","v":"R906"},null,{"$f":"Cen!F151","v":67.400000000000006},0]
[null,null,null,null,null,null,null,null,null,null,null,null,null,null,null,{"$f":"Cen!A154","v":"Držáky zadní stěny B, šedé"},{"$f":"Cen!B154","v":"Z30B000S.04"},{"$f":"Cen!C154","v":"R906"},null,{"$f":"Cen!F154","v":48.8},0]
[null,null,null,null,null,null,null,null,null,null,null,null,null,null,null,{"$f":"Cen!A158","v":"Držáky zadní stěny C, šedé"},{"$f":"Cen!B158","v":"Z30C000S"},{"$f":"Cen!C158","v":"R906"},null,{"$f":"Cen!F158","v":71},0]
[null,null,null,null,null,null,null,null,null,null,null,null,null,null,null,{"$f":"Cen!A162","v":"Držáky zadní stěny D, šedé"},{"$f":"Cen!B162","v":"Z30D000S"},{"$f":"Cen!C162","v":"R906"},{"$f":"SUM($S$3:$S$11)/2","v":0},{"$f":"Cen!F162","v":78.099999999999994},{"$f":"S57*T57","v":0}]
[]
[null,null,null,null,null,null,null,null,null,null,null,null,null,null,null,{"$f":"Cen!A173","v":"Čelní kování INSERTA"},{"$f":"Cen!B173","v":"ZSF.39A2"},{"$f":"Cen!C173","v":"BL"},{"$f":"SUM($S$3:$S$11)*2","v":0},{"$f":"Cen!F173","v":22.4},0]
[]
[]
[]
[null,null,null,null,null,null,null,null,null,null,null,null,null,null,null,{"$f":"Cen!A215","v":"Podélný reling vlevo/vpravo, 270mm, šedý"},{"$f":"Cen!B215","v":"ZRG.207RSIC"},{"$f":"Cen!C215","v":"R906"},{"$f":"S3/2","v":0},{"$f":"Cen!F215","v":150},{"$f":"S63*T63","v":0}]
[null,null,null,null,null,null,null,null,null,null,null,null,null,null,null,{"$f":"Cen!A219","v":"Podélný reling vlevo/vpravo, 300mm, šedý"},{"$f":"Cen!B219","v":"ZRG.237RSIC"},{"$f":"Cen!C219","v":"R906"},0,{"$f":"Cen!F219","v":152.5},0]
[null,null,null,null,null,null,null,null,null,null,null,null,null,null,null,{"$f":"Cen!A223","v":"Podélný reling vlevo/vpravo, 350mm, šedý"},{"$f":"Cen!B223","v":"ZRG.287RSIC"},{"$f":"Cen!C223","v":"R906"},0,{"$f":"Cen!F223","v":155},0]
[null,null,null,null,null,null,null,null,null,null,null,null,null,null,null,{"$f":"Cen!A227","v":"Podélný reling vlevo/vpravo, 400mm, šedý"},{"$f":"Cen!B227","v":"ZRG.337RSIC"},{"$f":"Cen!C227","v":"R906"},0,{"$f":"Cen!F227","v":157.5},0]
[null,null,null,null,null,null,null,null,null,null,null,null,null,null,null,{"$f":"Cen!A231","v":"Podélný reling vlevo/vpravo, 450mm, šedý"},{"$f":"Cen!B231","v":"ZRG.387RSIC"},{"$f":"Cen!C231","v":"R906"},0,{"$f":"Cen!F231","v":160},0]
[null,null,null,null,null,null,null,null,null,null,null,null,null,null,null,{"$f":"Cen!A235","v":"Podélný reling vlevo/vpravo, 500mm, šedý"},{"$f":"Cen!B235","v":"ZRG.437RSIC"},{"$f":"Cen!C235","v":"R906"},0,{"$f":"Cen!F235","v":178.7},0]
[null,null,null,null,null,null,null,null,null,null,null,null,null,null,null,{"$f":"Cen!A239","v":"Podélný reling vlevo/vpravo, 550mm, šedý"},{"$f":"Cen!B239","v":"ZRG.487RSIC"},{"$f":"Cen!C239","v":"R906"},0,{"$f":"Cen!F239","v":169.4},0]
[null,null,null,null,null,null,null,null,null,null,null,null,null,null,null,{"$f":"Cen!A243","v":"Podélný reling vlevo/vpravo, 600mm, šedý"},{"$f":"Cen!B243","v":"ZRG.537RSIC"},{"$f":"Cen!C243","v":"R906"},0,{"$f":"Cen!F243","v":176.3},0]
[null,null,null,null,null,null,null,null,null,null,null,null,null,null,null,{"$f":"Cen!A247","v":"Podélný reling vlevo/vpravo, 650mm, šedý"},{"$f":"Cen!B247","v":"ZRG.587RSIC"},{"$f":"Cen!C247","v":"R906"},0,{"$f":"Cen!F247","v":183.2},0]
[]
[null,null,null,null,null,null,null,null,null,null,null,null,null,null,null,{"$f":"Cen!A328","v":"Sada držáků zásuvného prvku D, bílošedá"},{"$f":"Cen!B328","v":"Z36D0080"},{"$f":"Cen!C328","v":"WGR"},{"$f":"SUM($S$3:$S$11)/2","v":0},{"$f":"Cen!F328","v":63.3},{"$f":"S73*T73","v":0}]
[]
[null,null,null,null,null,null,null,null,null,null,null,null,null,null,null,{"$f":"Cen!A254","v":"Zásuvný prvek D, 270mm, čiré sko"},{"$f":"Cen!B254","v":"Z37R237D"},{"$f":"Cen!C254","v":"KL"},{"$f":"S3/2","v":0},{"$f":"Cen!F254","v":269.10000000000002},{"$f":"S75*T75","v":0}]
[null,null,null,null,null,null,null,null,null,null,null,null,null,null,null,{"$f":"Cen!A256","v":"Zásuvný prvek D, 300mm, čiré sko"},{"$f":"Cen!B256","v":"Z37R267D"},{"$f":"Cen!C256","v":"KL"},0,{"$f":"Cen!F256","v":279},0]
[null,null,null,null,null,null,null,null,null,null,null,null,null,null,null,{"$f":"Cen!A258","v":"Zásuvný prvek D, 350mm, čiré sko"},{"$f":"Cen!B258","v":"Z37R317D"},{"$f":"Cen!C258","v":"KL"},0,{"$f":"Cen!F258","v":240.82},0]
[null,null,null,null,null,null,null,null,null,null,null,null,null,null,null,{"$f":"Cen!A260","v":"Zásuvný prvek D, 400mm, čiré sko"},{"$f":"Cen!B260","v":"Z37R367D"},{"$f":"Cen!C260","v":"KL"},0,{"$f":"Cen!F260","v":265.39999999999998},0]
[null,null,null,null,null,null,null,null,null,null,null,null,null,null,null,{"$f":"Cen!A262","v":"Zásuvný prvek D, 450mm, čiré sko"},{"$f":"Cen!B262","v":"Z37R417D"},{"$f":"Cen!C262","v":"KL"},0,{"$f":"Cen!F262","v":290},0]
[null,null,null,null,null,null,null,null,null,null,null,null,null,null,null,{"$f":"Cen!A264","v":"Zásuvný prvek D, 500mm, čiré sko"},{"$f":"Cen!B264","v":"Z37R467D"},{"$f":"Cen!C264","v":"KL"},0,{"$f":"Cen!F264","v":314.56},0]
[null,null,null,null,null,null,null,null,null,null,null,null,null,null,null,{"$f":"Cen!A266","v":"Zásuvný prvek D, 550mm, čiré sko"},{"$f":"Cen!B266","v":"Z37R517D"},{"$f":"Cen!C266","v":"KL"},0,{"$f":"Cen!F266","v":336.68},0]
[null,null,null,null,null,null,null,null,null,null,null,null,null,null,null,{"$f":"Cen!A268","v":"Zásuvný prvek D, 600mm, čiré sko"},{"$f":"Cen!B268","v":"Z37R567D"},{"$f":"Cen!C268","v":"KL"},0,{"$f":"Cen!F268","v":358.8},0]
[null,null,null,null,null,null,null,null,null,null,null,null,null,null,null,{"$f":"Cen!A270","v":"Zásuvný prvek D, 650mm, čiré sko"},{"$f":"Cen!B270","v":"Z37R617D"},{"$f":"Cen!C270","v":"KL"},0,{"$f":"Cen!F270","v":378.7},0]
[]
[]
[]
[]
[]
[]
[null,null,null,null,null,null,null,null,null,null,null,null,null,null,null,null,null,null,null,null,{"$f":"SUM(U3:U88)","v":0}]

{"sheet":"ADM30M","index":35,"n_rows":104,"n_cols":22,"rows_kept":104,"cut":false,"hidden":false,"merged":[]}
[]
[null,null,null,null,null,null,null,null,null,null,null,{"$f":"List!$B$48&\" \"&List!$B$59&\", \"&List!$B$60&\" D+M\"","v":"Čelní výsuv pro úzké korpusy, sestava D+M"},null,null,null,"Počty zásuvek →",{"$f":"SUM(D19:K19)","v":0},{"$f":"SUM(H20:L20)","v":0},{"$f":"SUM(D25:K25)","v":0},{"$f":"SUM(H26:L26)","v":0},{"$f":"Form!N2","v":1},"←barva"]
[null,null,null,null,null,null,null,null,null,null,null,{"$f":"List!$B$63","v":"kovový zásuvný prvek"},null,{"$f":"List!$B$11&\":\"","v":"Zpět na:"},null,{"$f":"Cen!A28","v":"Bočnice M 270mm, šedé"},{"$f":"Cen!B28","v":"378M2702SA"},{"$f":"Cen!C28","v":"R906"},null,{"$f":"Cen!F28","v":350.6},{"$f":"S3*T3","v":0}]
[null,null,null,null,null,null,null,null,{"$f":"List!$B$72&\":\"","v":"bočnice:"},null,"M",null,null,{"$f":"\" \"&List!$B$13","v":" Úvod"},null,{"$f":"Cen!A32","v":"Bočnice M 300mm, šedé"},{"$f":"Cen!B32","v":"378M3002SA"},{"$f":"Cen!C32","v":"R906"},null,{"$f":"Cen!F32","v":350.6},0]
[null,null,null,null,null,null,null,null,{"$f":"List!$B$27&\":\"","v":"barva:"},null,{"$f":"Form!$O$2","v":"šedá"},null,null,{"$f":"\" \"&List!$B$4","v":" Výběr zásuvek a výsuvů"},null,{"$f":"Cen!A36","v":"Bočnice M 350mm, šedé"},{"$f":"Cen!B36","v":"378M3502SA"},{"$f":"Cen!C36","v":"R906"},null,{"$f":"Cen!F36","v":350.6},0]
[null,null,null,null,null,null,null,null,null,null,null,null,null,null,null,{"$f":"Cen!A40","v":"Bočnice M 400mm, šedé"},{"$f":"Cen!B40","v":"378M4002SA"},{"$f":"Cen!C40","v":"R906"},null,{"$f":"Cen!F40","v":354.3},0]
[null,null,null,null,null,null,null,null,{"$f":"List!$B$36&\":\"","v":"čelní kování:"},null,{"$f":"Form!$O$13","v":"INSERTA"},null,null,{"$f":"List!$B$12&\":\"","v":"Pokračovat na:"},null,{"$f":"Cen!A44","v":"Bočnice M 450mm, šedé"},{"$f":"Cen!B44","v":"378M4502SA"},{"$f":"Cen!C44","v":"R906"},{"$f":"IF($U$2=4, 0, $H$19*2)","v":0},{"$f":"Cen!F44","v":358.1},0]
[null,null,null,null,null,null,null,null,null,null,null,null,null,{"$f":"\" \"&List!$B$5","v":" Výběr doplňků"},null,{"$f":"Cen!A48","v":"Bočnice M 500mm, šedé"},{"$f":"Cen!B48","v":"378M5002SA"},{"$f":"Cen!C48","v":"R906"},{"$f":"IF($U$2=4, 0, $I$19*2)","v":0},{"$f":"Cen!F48","v":397.4},0]
[null,null,null,null,null,null,null,null,null,null,null,null,null,{"$f":"\" \"&List!$B$6","v":" Výběr SERVO-DRIVE"},null,{"$f":"Cen!A52","v":"Bočnice M 550mm, šedé"},{"$f":"Cen!B52","v":"378M5502SA"},{"$f":"Cen!C52","v":"R906"},{"$f":"IF($U$2=4, 0, $J$19*2)","v":0},{"$f":"Cen!F52","v":399.2},0]
[null,null,null,null,null,null,null,null,null,null,null,null,null,{"$f":"\" \"&List!$B$7","v":" Výběr ORGA-LINE"},null,{"$f":"Cen!A56","v":"Bočnice M 600mm, šedé"},{"$f":"Cen!B56","v":"378M6002SA"},{"$f":"Cen!C56","v":"R906"},{"$f":"IF($U$2=4, 0, $K$19*2)","v":0},{"$f":"Cen!F56","v":508.3},0]
[null,null,null,null,null,null,null,null,null,null,null,null,null,{"$f":"\" \"&List!$B$18","v":" Souhrn"},null,{"$f":"Cen!A60","v":"Bočnice M 650mm, šedé"},{"$f":"Cen!B60","v":"378M6502SA"},{"$f":"Cen!C60","v":"R906"},{"$f":"IF($U$2=4, 0, $L$20*2)","v":0},{"$f":"Cen!F60","v":536.29999999999995},0]
[]
[null,null,null,null,null,null,null,null,null,null,null,null,null,null,null,{"$f":"Cen!A94","v":"Korpusové lišty 270mm, BLUMOTION, 30kg"},{"$f":"Cen!B94","v":"578.2701B"},{"$f":"Cen!C94","v":"ZN"},null,{"$f":"Cen!F94","v":459.2},0]
[null,null,null,null,null,null,{"$f":"IF($U$2=4, P103, \" \")","v":" "},null,null,null,null,null,null,null,null,{"$f":"Cen!A95","v":"Korpusové lišty 300mm, BLUMOTION, 30kg"},{"$f":"Cen!B95","v":"578.3001B"},{"$f":"Cen!C95","v":"ZN"},null,{"$f":"Cen!F95","v":459.2},0]
[null,null,null,null,null,null,{"$f":"IF($U$2=4, P104, \" \")","v":" "},null,null,null,null,null,null,null,null,{"$f":"Cen!A96","v":"Korpusové lišty 350mm, BLUMOTION, 30kg"},{"$f":"Cen!B96","v":"578.3501B"},{"$f":"Cen!C96","v":"ZN"},null,{"$f":"Cen!F96","v":459.2},0]
[null,null,null,null,null,null,null,null,null,null,null,null,null,null,null,{"$f":"Cen!A97","v":"Korpusové lišty 400mm, BLUMOTION, 30kg"},{"$f":"Cen!B97","v":"578.4001B"},{"$f":"Cen!C97","v":"ZN"},null,{"$f":"Cen!F97","v":462.6},0]
[null,"BLUMOTION",null,null,null,null,null,null,null,null,null,null,null,null,null,{"$f":"Cen!A98","v":"Korpusové lišty 450mm, BLUMOTION, 30kg"},{"$f":"Cen!B98","v":"578.4501B"},{"$f":"Cen!C98","v":"ZN"},{"$f":"IF($U$2=4, 0, $H$19)","v":0},{"$f":"Cen!F98","v":466},0]
[null,null,{"$f":"List!$B$45&\":\"","v":"Jmenovitá délka:"},"270 mm","300 mm","350 mm","400 mm","450 mm","500 mm","550 mm","600 mm","650 mm",null,null,null,{"$f":"Cen!A99","v":"Korpusové lišty 450mm, BLUMOTION, 65kg"},{"$f":"Cen!B99","v":"576.4501B"},{"$f":"Cen!C99","v":"ZN"},null,{"$f":"Cen!F99","v":560.79999999999995},0]
[null,"ADM30BS","30 kg",null,null,null,null,null,null,null,null,null,null,null,null,{"$f":"Cen!A100","v":"Korpusové lišty 500mm, BLUMOTION, 30kg"},{"$f":"Cen!B100","v":"578.5001B"},{"$f":"Cen!C100","v":"ZN"},{"$f":"IF($U$2=4, 0, $I$19)","v":0},{"$f":"Cen!F100","v":469.5},0]
[null,"ADM65BS","65 kg",null,null,null,null,null,null,null,null,null,null,null,null,{"$f":"Cen!A101","v":"Korpusové lišty 500mm, BLUMOTION, 65kg"},{"$f":"Cen!B101","v":"576.5001B"},{"$f":"Cen!C101","v":"ZN"},null,{"$f":"Cen!F101","v":620.4},0]
[null,null,null,null,null,null,null,null,null,null,null,null,null,null,null,{"$f":"Cen!A102","v":"Korpusové lišty 550mm, BLUMOTION, 30kg"},{"$f":"Cen!B102","v":"578.5501B"},{"$f":"Cen!C102","v":"ZN"},{"$f":"IF($U$2=4, 0, $J$19)","v":0},{"$f":"Cen!F102","v":493.5},0]
[null,null,null,null,null,null,null,null,null,null,null,null,null,null,null,{"$f":"Cen!A103","v":"Korpusové lišty 550mm, BLUMOTION, 65kg"},{"$f":"Cen!B103","v":"576.5501B"},{"$f":"Cen!C103","v":"ZN"},null,{"$f":"Cen!F103","v":644.29999999999995},0]
[null,null,null,null,null,null,null,null,null,null,null,null,null,null,null,{"$f":"Cen!A104","v":"Korpusové lišty 600mm, BLUMOTION, 30kg"},{"$f":"Cen!B104","v":"578.6001B"},{"$f":"Cen!C104","v":"ZN"},{"$f":"IF($U$2=4, 0, $K$19)","v":0},{"$f":"Cen!F104","v":523.9},0]
[null,null,null,null,null,null,null,null,null,null,null,null,null,null,null,{"$f":"Cen!A105","v":"Korpusové lišty 600mm, BLUMOTION, 65kg"},{"$f":"Cen!B105","v":"576.6001B"},{"$f":"Cen!C105","v":"ZN"},null,{"$f":"Cen!F105","v":661.1},0]
[null,null,null,null,null,null,null,null,null,null,null,null,null,null,null,{"$f":"Cen!A106","v":"Korpusové lišty 650mm, BLUMOTION, 65kg"},{"$f":"Cen!B106","v":"576.6501B"},{"$f":"Cen!C106","v":"ZN"},{"$f":"IF($U$2=4, 0, $L$20)","v":0},{"$f":"Cen!F106","v":751.2},0]
[null,null,null,null,null,null,null,null,null,null,null,null,null,null,null,{"$f":"Cen!A109","v":"Korp. lišty TIP-ON BLUMOTION, 270mm, 30 kg"},{"$f":"Cen!B109","v":"578.2701M"},{"$f":"Cen!C109","v":"ZN"},null,{"$f":"Cen!F109","v":417.4},0]
[null,null,null,null,null,null,null,null,null,null,null,null,null,null,null,{"$f":"Cen!A110","v":"Korp. lišty TIP-ON BLUMOTION, 300mm, 30 kg"},{"$f":"Cen!B110","v":"578.3001M"},{"$f":"Cen!C110","v":"ZN"},null,{"$f":"Cen!F110","v":417.4},0]
[null,null,null,null,null,null,null,null,null,null,null,null,null,null,null,{"$f":"Cen!A111","v":"Korp. lišty TIP-ON BLUMOTION, 350mm, 30 kg"},{"$f":"Cen!B111","v":"578.3501M"},{"$f":"Cen!C111","v":"ZN"},null,{"$f":"Cen!F111","v":417.4},0]
[null,null,null,null,null,null,null,null,null,null,null,null,null,null,null,{"$f":"Cen!A112","v":"Korp. lišty TIP-ON BLUMOTION, 400mm, 30 kg"},{"$f":"Cen!B112","v":"578.4001M"},{"$f":"Cen!C112","v":"ZN"},null,{"$f":"Cen!F112","v":420.5},0]
[null,null,null,null,null,null,null,null,null,null,null,null,null,null,null,{"$f":"Cen!A113","v":"Korp. lišty TIP-ON BLUMOTION, 450mm, 30 kg"},{"$f":"Cen!B113","v":"578.4501M"},{"$f":"Cen!C113","v":"ZN"},null,{"$f":"Cen!F113","v":423.7},0]
[null,null,null,null,null,null,null,null,null,null,null,null,null,null,null,{"$f":"Cen!A114","v":"Korp. lišty TIP-ON BLUMOTION, 450mm, 65 kg"},{"$f":"Cen!B114","v":"578.4501M"},{"$f":"Cen!C114","v":"ZN"},null,{"$f":"Cen!F114","v":560.79999999999995},0]
[null,null,null,null,null,null,null,null,null,null,null,null,null,null,null,{"$f":"Cen!A115","v":"Korp. lišty TIP-ON BLUMOTION, 500mm, 30 kg"},{"$f":"Cen!B115","v":"578.5001M"},{"$f":"Cen!C115","v":"ZN"},null,{"$f":"Cen!F115","v":426.8},0]
[null,null,null,null,null,null,null,null,null,null,null,null,null,null,null,{"$f":"Cen!A116","v":"Korp. lišty TIP-ON BLUMOTION, 500mm, 65 kg"},{"$f":"Cen!B116","v":"576.5001M"},{"$f":"Cen!C116","v":"ZN"},null,{"$f":"Cen!F116","v":564},0]
[null,null,null,null,null,null,null,null,null,null,null,null,null,null,null,{"$f":"Cen!A117","v":"Korp. lišty TIP-ON BLUMOTION, 550mm, 30 kg"},{"$f":"Cen!B117","v":"578.5501M"},{"$f":"Cen!C117","v":"ZN"},null,{"$f":"Cen!F117","v":448.6},0]
[null,null,null,null,null,null,null,null,null,null,null,null,null,null,null,{"$f":"Cen!A118","v":"Korp. lišty TIP-ON BLUMOTION, 550mm, 65 kg"},{"$f":"Cen!B118","v":"576.5501M"},{"$f":"Cen!C118","v":"ZN"},null,{"$f":"Cen!F118","v":585.79999999999995},0]
[null,null,null,null,null,null,null,null,null,null,null,null,null,null,null,{"$f":"Cen!A119","v":"Korp. lišty TIP-ON BLUMOTION, 600mm, 30 kg"},{"$f":"Cen!B119","v":"578.6001M"},{"$f":"Cen!C119","v":"ZN"},null,{"$f":"Cen!F119","v":542},0]
[null,null,null,null,null,null,null,null,null,null,null,null,null,null,null,{"$f":"Cen!A120","v":"Korp. lišty TIP-ON BLUMOTION, 600mm, 65 kg"},{"$f":"Cen!B120","v":"576.6001M"},{"$f":"Cen!C120","v":"ZN"},null,{"$f":"Cen!F120","v":661.1},0]
[null,null,null,null,null,null,null,null,null,null,null,null,null,null,null,{"$f":"Cen!A121","v":"Korp. lišty TIP-ON BLUMOTION, 650mm, 65 kg"},{"$f":"Cen!B121","v":"576.6501M"},{"$f":"Cen!C121","v":"ZN"},null,{"$f":"Cen!F121","v":682.9},0]
[]
[null,null,null,null,null,null,null,null,null,null,null,null,null,null,null,{"$f":"Cen!A124","v":"Sada jednotek TIP-ON BLUMOTION, S0"},{"$f":"Cen!B124","v":"T60B3030"},{"$f":"Cen!C124","v":"W"},null,{"$f":"Cen!F124","v":404.5},{"$f":"S40*T40","v":0}]
[null,null,null,null,null,null,null,null,null,null,null,null,null,null,null,{"$f":"Cen!A125","v":"Sada jednotek TIP-ON BLUMOTION, S1"},{"$f":"Cen!B125","v":"T60B3130"},{"$f":"Cen!C125","v":"R735"},null,{"$f":"Cen!F125","v":404.5},0]
[null,null,null,null,null,null,null,null,null,null,null,null,null,null,null,{"$f":"Cen!A126","v":"Sada jednotek TIP-ON BLUMOTION, L1"},{"$f":"Cen!B126","v":"T60B3330"},{"$f":"Cen!C126","v":"R735"},null,{"$f":"Cen!F126","v":404.5},0]
[null,null,null,null,null,null,null,null,null,null,null,null,null,null,null,{"$f":"Cen!A127","v":"Sada jednotek TIP-ON BLUMOTION, L3"},{"$f":"Cen!B127","v":"T60B3530"},{"$f":"Cen!C127","v":"R737"},null,{"$f":"Cen!F127","v":404.5},0]
[null,null,null,null,null,null,null,null,null,null,null,null,null,null,null,{"$f":"Cen!A128","v":"Sada jednotek TIP-ON BLUMOTION, L5"},{"$f":"Cen!B128","v":"T60B3560"},{"$f":"Cen!C128","v":"S"},null,{"$f":"Cen!F128","v":404.5},0]
[]
[null,null,null,null,null,null,null,null,null,null,null,null,null,null,null,{"$f":"Cen!A130","v":"Synchronizační adaptér"},{"$f":"Cen!B130","v":"T60.000D"},{"$f":"Cen!C130","v":"R735"},null,{"$f":"Cen!F130","v":5.8},0]
[null,null,null,null,null,null,null,null,null,null,null,null,null,null,null,{"$f":"Cen!A131","v":"Hřídel synchronizace"},{"$f":"Cen!B131","v":"T60.1125W"},{"$f":"Cen!C131","v":"GR"},null,{"$f":"Cen!F131","v":95.6},0]
[null,null,null,null,null,null,null,null,null,null,null,null,null,null,null,{"$f":"Cen!A132","v":"Jednodílná synchronizace"},{"$f":"Cen!B132","v":"T60.300D"},{"$f":"Cen!C132","v":"R735"},null,{"$f":"Cen!F132","v":23.2},0]
[null,null,null,null,null,null,null,null,null,null,null,null,null,null,null,{"$f":"Cen!A134","v":"Držák hřídele synchronizace"},{"$f":"Cen!B134","v":"T60B000H"},{"$f":"Cen!C134","v":"NI"},null,{"$f":"Cen!F134","v":6},0]
[null,null,null,null,null,null,null,null,null,null,null,null,null,null,null,{"$f":"Cen!A135","v":"Podpěrný úhelník pro dno"},{"$f":"Cen!B135","v":"Z96.2011"},{"$f":"Cen!C135","v":"R737"},null,{"$f":"Cen!F135","v":29.8},0]
[]
[null,null,null,null,null,null,null,null,null,null,null,null,null,null,null,{"$f":"Cen!A143","v":"Držáky zadní stěny N, šedé"},{"$f":"Cen!B143","v":"Z30N000S.04"},{"$f":"Cen!C143","v":"R906"},null,{"$f":"Cen!F143","v":36.5},{"$f":"S52*T52","v":0}]
[null,null,null,null,null,null,null,null,null,null,null,null,null,null,null,{"$f":"Cen!A147","v":"Držáky zadní stěny M, šedé"},{"$f":"Cen!B147","v":"Z30M000S.04"},{"$f":"Cen!C147","v":"R906"},{"$f":"SUM($S$3:$S$11)/2","v":0},{"$f":"Cen!F147","v":40.200000000000003},{"$f":"S53*T53","v":0}]
[null,null,null,null,null,null,null,null,null,null,null,null,null,null,null,{"$f":"Cen!A151","v":"Držáky zadní stěny K, šedé"},{"$f":"Cen!B151","v":"Z30K000S"},{"$f":"Cen!C151","v":"R906"},null,{"$f":"Cen!F151","v":67.400000000000006},0]
[null,null,null,null,null,null,null,null,null,null,null,null,null,null,null,{"$f":"Cen!A154","v":"Držáky zadní stěny B, šedé"},{"$f":"Cen!B154","v":"Z30B000S.04"},{"$f":"Cen!C154","v":"R906"},null,{"$f":"Cen!F154","v":48.8},0]
[null,null,null,null,null,null,null,null,null,null,null,null,null,null,null,{"$f":"Cen!A158","v":"Držáky zadní stěny C, šedé"},{"$f":"Cen!B158","v":"Z30C000S"},{"$f":"Cen!C158","v":"R906"},null,{"$f":"Cen!F158","v":71},0]
[null,null,null,null,null,null,null,null,null,null,null,null,null,null,null,{"$f":"Cen!A162","v":"Držáky zadní stěny D, šedé"},{"$f":"Cen!B162","v":"Z30D000S"},{"$f":"Cen!C162","v":"R906"},{"$f":"SUM($S$3:$S$11)/2","v":0},{"$f":"Cen!F162","v":78.099999999999994},{"$f":"S57*T57","v":0}]
[]
[null,null,null,null,null,null,null,null,null,null,null,null,null,null,null,{"$f":"Cen!A173","v":"Čelní kování INSERTA"},{"$f":"Cen!B173","v":"ZSF.39A2"},{"$f":"Cen!C173","v":"BL"},{"$f":"SUM($S$3:$S$11)*2","v":0},{"$f":"Cen!F173","v":22.4},0]
[]
[]
[]
[null,null,null,null,null,null,null,null,null,null,null,null,null,null,null,{"$f":"Cen!A215","v":"Podélný reling vlevo/vpravo, 270mm, šedý"},{"$f":"Cen!B215","v":"ZRG.207RSIC"},{"$f":"Cen!C215","v":"R906"},null,{"$f":"Cen!F215","v":150},{"$f":"S63*T63","v":0}]
[null,null,null,null,null,null,null,null,null,null,null,null,null,null,null,{"$f":"Cen!A219","v":"Podélný reling vlevo/vpravo, 300mm, šedý"},{"$f":"Cen!B219","v":"ZRG.237RSIC"},{"$f":"Cen!C219","v":"R906"},null,{"$f":"Cen!F219","v":152.5},0]
[null,null,null,null,null,null,null,null,null,null,null,null,null,null,null,{"$f":"Cen!A223","v":"Podélný reling vlevo/vpravo, 350mm, šedý"},{"$f":"Cen!B223","v":"ZRG.287RSIC"},{"$f":"Cen!C223","v":"R906"},null,{"$f":"Cen!F223","v":155},0]
[null,null,null,null,null,null,null,null,null,null,null,null,null,null,null,{"$f":"Cen!A227","v":"Podélný reling vlevo/vpravo, 400mm, šedý"},{"$f":"Cen!B227","v":"ZRG.337RSIC"},{"$f":"Cen!C227","v":"R906"},null,{"$f":"Cen!F227","v":157.5},0]
[null,null,null,null,null,null,null,null,null,null,null,null,null,null,null,{"$f":"Cen!A231","v":"Podélný reling vlevo/vpravo, 450mm, šedý"},{"$f":"Cen!B231","v":"ZRG.387RSIC"},{"$f":"Cen!C231","v":"R906"},{"$f":"S7/2","v":0},{"$f":"Cen!F231","v":160},0]
[null,null,null,null,null,null,null,null,null,null,null,null,null,null,null,{"$f":"Cen!A235","v":"Podélný reling vlevo/vpravo, 500mm, šedý"},{"$f":"Cen!B235","v":"ZRG.437RSIC"},{"$f":"Cen!C235","v":"R906"},0,{"$f":"Cen!F235","v":178.7},0]
[null,null,null,null,null,null,null,null,null,null,null,null,null,null,null,{"$f":"Cen!A239","v":"Podélný reling vlevo/vpravo, 550mm, šedý"},{"$f":"Cen!B239","v":"ZRG.487RSIC"},{"$f":"Cen!C239","v":"R906"},0,{"$f":"Cen!F239","v":169.4},0]
[null,null,null,null,null,null,null,null,null,null,null,null,null,null,null,{"$f":"Cen!A243","v":"Podélný reling vlevo/vpravo, 600mm, šedý"},{"$f":"Cen!B243","v":"ZRG.537RSIC"},{"$f":"Cen!C243","v":"R906"},0,{"$f":"Cen!F243","v":176.3},0]
[null,null,null,null,null,null,null,null,null,null,null,null,null,null,null,{"$f":"Cen!A247","v":"Podélný reling vlevo/vpravo, 650mm, šedý"},{"$f":"Cen!B247","v":"ZRG.587RSIC"},{"$f":"Cen!C247","v":"R906"},0,{"$f":"Cen!F247","v":183.2},0]
[]
[null,null,null,null,null,null,null,null,null,null,null,null,null,null,null,{"$f":"Cen!A328","v":"Sada držáků zásuvného prvku D, bílošedá"},{"$f":"Cen!B328","v":"Z36D0080"},{"$f":"Cen!C328","v":"WGR"},{"$f":"SUM($S$3:$S$11)","v":0},{"$f":"Cen!F328","v":63.3},{"$f":"S73*T73","v":0}]
[]
[]
[]
[]
[]
[null,null,null,null,null,null,null,null,null,null,null,null,null,null,null,{"$f":"Cen!A292","v":"Kovový zásuvný prvek D, 450mm, šedý"},{"$f":"Cen!B292","v":"Z37A417D"},{"$f":"Cen!C292","v":"R906"},{"$f":"SUM(S3:S7)/2*2","v":0},{"$f":"Cen!F292","v":156.5},{"$f":"S79*T79","v":0}]
[null,null,null,null,null,null,null,null,null,null,null,null,null,null,null,{"$f":"Cen!A295","v":"Kovový zásuvný prvek D, 500mm, šedý"},{"$f":"Cen!B295","v":"Z37A467D"},{"$f":"Cen!C295","v":"R906"},{"$f":"S8/2*2","v":0},{"$f":"Cen!F295","v":164.4},{"$f":"S80*T80","v":0}]
[null,null,null,null,null,null,null,null,null,null,null,null,null,null,null,{"$f":"Cen!A298","v":"Kovový zásuvný prvek D, 550mm, šedý"},{"$f":"Cen!B298","v":"Z37A517D"},{"$f":"Cen!C298","v":"R906"},{"$f":"S9/2*2","v":0},{"$f":"Cen!F298","v":177.6},{"$f":"S81*T81","v":0}]
[null,null,null,null,null,null,null,null,null,null,null,null,null,null,null,{"$f":"Cen!A301","v":0},{"$f":"Cen!B301","v":0},{"$f":"Cen!C301","v":0},null,{"$f":"Cen!F301","v":0},{"$f":"S82*T82","v":0}]
[null,null,null,null,null,null,null,null,null,null,null,null,null,null,null,{"$f":"Cen!A304","v":"Kovový zásuvný prvek D, 650mm, šedý"},{"$f":"Cen!B304","v":"Z37A617D"},{"$f":"Cen!C304","v":"R906"},{"$f":"SUM(S10, S11)*2","v":0},{"$f":"Cen!F304","v":204},{"$f":"S83*T83","v":0}]
[]
[]
[]
[]
[]
[]
[null,null,null,null,null,null,null,null,null,null,null,null,null,null,null,null,null,null,null,null,{"$f":"SUM(U3:U88)","v":0}]
[]
[]
[]
[]
[]
[]
[]
[]
[]
[]
[]
[]
[null,null,null,null,null,null,null,null,null,null,null,null,null,null,null,{"$f":"List!$B$289&\"!\"","v":"Kovové zásuvné prvky pro nerez (Inox) se nevyrábí!"}]
[null,null,null,null,null,null,null,null,null,null,null,null,null,null,null,{"$f":"List!$B$290&\"!\"","v":"Kování naplánované na tomto listu se neprojeví v objednávce!"}]

{"sheet":"ADM30R","index":36,"n_rows":92,"n_cols":21,"rows_kept":92,"cut":false,"hidden":false,"merged":[]}
[]
[null,null,null,null,null,null,null,null,null,null,null,{"$f":"List!$B$48&\" \"&List!$B$59&\", \"&List!$B$60&\" D+M\"","v":"Čelní výsuv pro úzké korpusy, sestava D+M"},null,null,null,"Počty zásuvek →",{"$f":"SUM(D19:K19)","v":0},{"$f":"SUM(H20:L20)","v":0},{"$f":"SUM(D25:K25)","v":0},{"$f":"SUM(H26:L26)","v":0}]
[null,null,null,null,null,null,null,null,null,null,null,{"$f":"List!$B$64","v":"podélný reling"},null,{"$f":"List!$B$11&\":\"","v":"Zpět na:"},null,{"$f":"Cen!A28","v":"Bočnice M 270mm, šedé"},{"$f":"Cen!B28","v":"378M2702SA"},{"$f":"Cen!C28","v":"R906"},{"$f":"SUM($D$19, $D$25)","v":0},{"$f":"Cen!F28","v":350.6},{"$f":"S3*T3","v":0}]
[null,null,null,null,null,null,null,null,{"$f":"List!$B$72&\":\"","v":"bočnice:"},null,"M",null,null,{"$f":"\" \"&List!$B$13","v":" Úvod"},null,{"$f":"Cen!A32","v":"Bočnice M 300mm, šedé"},{"$f":"Cen!B32","v":"378M3002SA"},{"$f":"Cen!C32","v":"R906"},{"$f":"SUM($E$19, $E$25)","v":0},{"$f":"Cen!F32","v":350.6},0]
[null,null,null,null,null,null,null,null,{"$f":"List!$B$27&\":\"","v":"barva:"},null,{"$f":"Form!$O$2","v":"šedá"},null,null,{"$f":"\" \"&List!$B$4","v":" Výběr zásuvek a výsuvů"},null,{"$f":"Cen!A36","v":"Bočnice M 350mm, šedé"},{"$f":"Cen!B36","v":"378M3502SA"},{"$f":"Cen!C36","v":"R906"},{"$f":"SUM($F$19, $F$25)","v":0},{"$f":"Cen!F36","v":350.6},0]
[null,null,null,null,null,null,null,null,null,null,null,null,null,null,null,{"$f":"Cen!A40","v":"Bočnice M 400mm, šedé"},{"$f":"Cen!B40","v":"378M4002SA"},{"$f":"Cen!C40","v":"R906"},{"$f":"SUM($G$19, $G$25)","v":0},{"$f":"Cen!F40","v":354.3},0]
[null,null,null,null,null,null,null,null,{"$f":"List!$B$36&\":\"","v":"čelní kování:"},null,{"$f":"Form!$O$13","v":"INSERTA"},null,null,{"$f":"List!$B$12&\":\"","v":"Pokračovat na:"},null,{"$f":"Cen!A44","v":"Bočnice M 450mm, šedé"},{"$f":"Cen!B44","v":"378M4502SA"},{"$f":"Cen!C44","v":"R906"},{"$f":"SUM($H$19:$H$20, $H$25:$H$25)*2","v":0},{"$f":"Cen!F44","v":358.1},0]
[null,null,null,null,null,null,null,null,null,null,null,null,null,{"$f":"\" \"&List!$B$5","v":" Výběr doplňků"},null,{"$f":"Cen!A48","v":"Bočnice M 500mm, šedé"},{"$f":"Cen!B48","v":"378M5002SA"},{"$f":"Cen!C48","v":"R906"},{"$f":"SUM($I$19:$I$20, $I$25:$I$25)*2","v":0},{"$f":"Cen!F48","v":397.4},0]
[null,null,null,null,null,null,null,null,null,null,null,null,null,{"$f":"\" \"&List!$B$6","v":" Výběr SERVO-DRIVE"},null,{"$f":"Cen!A52","v":"Bočnice M 550mm, šedé"},{"$f":"Cen!B52","v":"378M5502SA"},{"$f":"Cen!C52","v":"R906"},{"$f":"SUM($J$19:$J$20, $J$25:$J$25)*2","v":0},{"$f":"Cen!F52","v":399.2},0]
[null,null,null,null,null,null,null,null,null,null,null,null,null,{"$f":"\" \"&List!$B$7","v":" Výběr ORGA-LINE"},null,{"$f":"Cen!A56","v":"Bočnice M 600mm, šedé"},{"$f":"Cen!B56","v":"378M6002SA"},{"$f":"Cen!C56","v":"R906"},{"$f":"SUM($K$19:$K$20, $K$25:$K$25)*2","v":0},{"$f":"Cen!F56","v":508.3},0]
[null,null,null,null,null,null,null,null,null,null,null,null,null,{"$f":"\" \"&List!$B$18","v":" Souhrn"},null,{"$f":"Cen!A60","v":"Bočnice M 650mm, šedé"},{"$f":"Cen!B60","v":"378M6502SA"},{"$f":"Cen!C60","v":"R906"},{"$f":"SUM($L$19:$L$20, $L$25)*2","v":0},{"$f":"Cen!F60","v":536.29999999999995},0]
[]
[null,null,null,null,null,null,null,null,null,null,null,null,null,null,null,{"$f":"Cen!A94","v":"Korpusové lišty 270mm, BLUMOTION, 30kg"},{"$f":"Cen!B94","v":"578.2701B"},{"$f":"Cen!C94","v":"ZN"},{"$f":"$D$19","v":0},{"$f":"Cen!F94","v":459.2},0]
[null,null,null,null,null,null,null,null,null,null,null,null,null,null,null,{"$f":"Cen!A95","v":"Korpusové lišty 300mm, BLUMOTION, 30kg"},{"$f":"Cen!B95","v":"578.3001B"},{"$f":"Cen!C95","v":"ZN"},{"$f":"$E$19","v":0},{"$f":"Cen!F95","v":459.2},0]
[null,null,null,null,null,null,null,null,null,null,null,null,null,null,null,{"$f":"Cen!A96","v":"Korpusové lišty 350mm, BLUMOTION, 30kg"},{"$f":"Cen!B96","v":"578.3501B"},{"$f":"Cen!C96","v":"ZN"},{"$f":"$F$19","v":0},{"$f":"Cen!F96","v":459.2},0]
[null,null,null,null,null,null,null,null,null,null,null,null,null,null,null,{"$f":"Cen!A97","v":"Korpusové lišty 400mm, BLUMOTION, 30kg"},{"$f":"Cen!B97","v":"578.4001B"},{"$f":"Cen!C97","v":"ZN"},{"$f":"$G$19","v":0},{"$f":"Cen!F97","v":462.6},0]
[null,"BLUMOTION",null,null,null,null,null,null,null,null,null,null,null,null,null,{"$f":"Cen!A98","v":"Korpusové lišty 450mm, BLUMOTION, 30kg"},{"$f":"Cen!B98","v":"578.4501B"},{"$f":"Cen!C98","v":"ZN"},{"$f":"$H$19","v":0},{"$f":"Cen!F98","v":466},0]
[null,null,{"$f":"List!$B$45&\":\"","v":"Jmenovitá délka:"},"270 mm","300 mm","350 mm","400 mm","450 mm","500 mm","550 mm","600 mm","650 mm",null,null,null,{"$f":"Cen!A99","v":"Korpusové lišty 450mm, BLUMOTION, 65kg"},{"$f":"Cen!B99","v":"576.4501B"},{"$f":"Cen!C99","v":"ZN"},{"$f":"$H$20","v":0},{"$f":"Cen!F99","v":560.79999999999995},0]
[null,"ADM30BR","30 kg",null,null,null,null,null,null,null,null,null,null,null,null,{"$f":"Cen!A100","v":"Korpusové lišty 500mm, BLUMOTION, 30kg"},{"$f":"Cen!B100","v":"578.5001B"},{"$f":"Cen!C100","v":"ZN"},{"$f":"$I$19","v":0},{"$f":"Cen!F100","v":469.5},0]
[null,"ADM65BR","65 kg",null,null,null,null,null,null,null,null,null,null,null,null,{"$f":"Cen!A101","v":"Korpusové lišty 500mm, BLUMOTION, 65kg"},{"$f":"Cen!B101","v":"576.5001B"},{"$f":"Cen!C101","v":"ZN"},{"$f":"$I$20","v":0},{"$f":"Cen!F101","v":620.4},0]
[null,null,null,null,null,null,null,null,null,null,null,null,null,null,null,{"$f":"Cen!A102","v":"Korpusové lišty 550mm, BLUMOTION, 30kg"},{"$f":"Cen!B102","v":"578.5501B"},{"$f":"Cen!C102","v":"ZN"},{"$f":"$J$19","v":0},{"$f":"Cen!F102","v":493.5},0]
[null,null,null,null,null,null,null,null,null,null,null,null,null,null,null,{"$f":"Cen!A103","v":"Korpusové lišty 550mm, BLUMOTION, 65kg"},{"$f":"Cen!B103","v":"576.5501B"},{"$f":"Cen!C103","v":"ZN"},{"$f":"$J$20","v":0},{"$f":"Cen!F103","v":644.29999999999995},0]
[null,null,null,null,null,null,null,null,null,null,null,null,null,null,null,{"$f":"Cen!A104","v":"Korpusové lišty 600mm, BLUMOTION, 30kg"},{"$f":"Cen!B104","v":"578.6001B"},{"$f":"Cen!C104","v":"ZN"},{"$f":"$K$19","v":0},{"$f":"Cen!F104","v":523.9},0]
[null,null,null,null,null,null,null,null,null,null,null,null,null,null,null,{"$f":"Cen!A105","v":"Korpusové lišty 600mm, BLUMOTION, 65kg"},{"$f":"Cen!B105","v":"576.6001B"},{"$f":"Cen!C105","v":"ZN"},{"$f":"$K$19","v":0},{"$f":"Cen!F105","v":661.1},{"$f":"S24*T24","v":0}]
[null,null,null,null,null,null,null,null,null,null,null,null,null,null,null,{"$f":"Cen!A106","v":"Korpusové lišty 650mm, BLUMOTION, 65kg"},{"$f":"Cen!B106","v":"576.6501B"},{"$f":"Cen!C106","v":"ZN"},0,{"$f":"Cen!F106","v":751.2},0]
[null,null,null,null,null,null,null,null,null,null,null,null,null,null,null,{"$f":"Cen!A107","v":0},{"$f":"Cen!B107","v":0},{"$f":"Cen!C107","v":0},null,{"$f":"Cen!F107","v":0},0]
[null,null,null,null,null,null,null,null,null,null,null,null,null,null,null,{"$f":"Cen!A108","v":"   Korpusové lišty TIP-ON BLUMOTION"},{"$f":"Cen!B108","v":0},{"$f":"Cen!C108","v":0},null,{"$f":"Cen!F108","v":0},0]
[null,null,null,null,null,null,null,null,null,null,null,null,null,null,null,{"$f":"Cen!A109","v":"Korp. lišty TIP-ON BLUMOTION, 270mm, 30 kg"},{"$f":"Cen!B109","v":"578.2701M"},{"$f":"Cen!C109","v":"ZN"},null,{"$f":"Cen!F109","v":417.4},0]
[null,{"$f":"List!$B$23&\": *\"","v":"Volitelně: *"},null,null,null,null,null,null,null,null,null,null,null,null,null,{"$f":"Cen!A110","v":"Korp. lišty TIP-ON BLUMOTION, 300mm, 30 kg"},{"$f":"Cen!B110","v":"578.3001M"},{"$f":"Cen!C110","v":"ZN"},null,{"$f":"Cen!F110","v":417.4},0]
[null,{"$f":"Cen!A328","v":"Sada držáků zásuvného prvku D, bílošedá"},null,null,null,null,null,{"$f":"Cen!B328","v":"Z36D0080"},{"$f":"Cen!C328","v":"WGR"},null,{"$f":"Cen!F328","v":63.3},{"$f":"J30*K30","v":0},null,null,null,{"$f":"Cen!A111","v":"Korp. lišty TIP-ON BLUMOTION, 350mm, 30 kg"},{"$f":"Cen!B111","v":"578.3501M"},{"$f":"Cen!C111","v":"ZN"},null,{"$f":"Cen!F111","v":417.4},0]
[null,null,null,null,null,null,null,null,null,null,null,null,null,null,null,{"$f":"Cen!A112","v":"Korp. lišty TIP-ON BLUMOTION, 400mm, 30 kg"},{"$f":"Cen!B112","v":"578.4001M"},{"$f":"Cen!C112","v":"ZN"},null,{"$f":"Cen!F112","v":420.5},0]
[null,{"$f":"\"     * \"&List!$B$148","v":"     * Sada držáků, pro vlastní zásuvný prvek"},null,null,null,null,null,null,null,null,null,null,null,null,null,{"$f":"Cen!A113","v":"Korp. lišty TIP-ON BLUMOTION, 450mm, 30 kg"},{"$f":"Cen!B113","v":"578.4501M"},{"$f":"Cen!C113","v":"ZN"},null,{"$f":"Cen!F113","v":423.7},0]
[null,{"$f":"\"       \"&List!$B$150&\"!\"","v":"       Cena držáků zásuvného prvku není zahrnuta do cen jednotlivých výsuvů!"},null,null,null,null,null,null,null,null,null,null,null,null,null,{"$f":"Cen!A114","v":"Korp. lišty TIP-ON BLUMOTION, 450mm, 65 kg"},{"$f":"Cen!B114","v":"578.4501M"},{"$f":"Cen!C114","v":"ZN"},null,{"$f":"Cen!F114","v":560.79999999999995},0]
[null,null,null,null,null,null,null,null,null,null,null,null,null,null,null,{"$f":"Cen!A115","v":"Korp. lišty TIP-ON BLUMOTION, 500mm, 30 kg"},{"$f":"Cen!B115","v":"578.5001M"},{"$f":"Cen!C115","v":"ZN"},null,{"$f":"Cen!F115","v":426.8},0]
[null,null,null,null,null,null,null,null,null,null,null,null,null,null,null,{"$f":"Cen!A116","v":"Korp. lišty TIP-ON BLUMOTION, 500mm, 65 kg"},{"$f":"Cen!B116","v":"576.5001M"},{"$f":"Cen!C116","v":"ZN"},null,{"$f":"Cen!F116","v":564},0]
[null,null,null,null,null,null,null,null,null,null,null,null,null,null,null,{"$f":"Cen!A117","v":"Korp. lišty TIP-ON BLUMOTION, 550mm, 30 kg"},{"$f":"Cen!B117","v":"578.5501M"},{"$f":"Cen!C117","v":"ZN"},null,{"$f":"Cen!F117","v":448.6},0]
[null,null,null,null,null,null,null,null,null,null,null,null,null,null,null,{"$f":"Cen!A118","v":"Korp. lišty TIP-ON BLUMOTION, 550mm, 65 kg"},{"$f":"Cen!B118","v":"576.5501M"},{"$f":"Cen!C118","v":"ZN"},null,{"$f":"Cen!F118","v":585.79999999999995},0]
[null,null,null,null,null,null,null,null,null,null,null,null,null,null,null,{"$f":"Cen!A119","v":"Korp. lišty TIP-ON BLUMOTION, 600mm, 30 kg"},{"$f":"Cen!B119","v":"578.6001M"},{"$f":"Cen!C119","v":"ZN"},null,{"$f":"Cen!F119","v":542},0]
[null,null,null,null,null,null,null,null,null,null,null,null,null,null,null,{"$f":"Cen!A120","v":"Korp. lišty TIP-ON BLUMOTION, 600mm, 65 kg"},{"$f":"Cen!B120","v":"576.6001M"},{"$f":"Cen!C120","v":"ZN"},null,{"$f":"Cen!F120","v":661.1},0]
[null,null,null,null,null,null,null,null,null,null,null,null,null,null,null,{"$f":"Cen!A121","v":"Korp. lišty TIP-ON BLUMOTION, 650mm, 65 kg"},{"$f":"Cen!B121","v":"576.6501M"},{"$f":"Cen!C121","v":"ZN"},null,{"$f":"Cen!F121","v":682.9},0]
[]
[null,null,null,null,null,null,null,null,null,null,null,null,null,null,null,{"$f":"Cen!A124","v":"Sada jednotek TIP-ON BLUMOTION, S0"},{"$f":"Cen!B124","v":"T60B3030"},{"$f":"Cen!C124","v":"W"},null,{"$f":"Cen!F124","v":404.5},{"$f":"S42*T42","v":0}]
[null,null,null,null,null,null,null,null,null,null,null,null,null,null,null,{"$f":"Cen!A125","v":"Sada jednotek TIP-ON BLUMOTION, S1"},{"$f":"Cen!B125","v":"T60B3130"},{"$f":"Cen!C125","v":"R735"},null,{"$f":"Cen!F125","v":404.5},0]
[null,null,null,null,null,null,null,null,null,null,null,null,null,null,null,{"$f":"Cen!A126","v":"Sada jednotek TIP-ON BLUMOTION, L1"},{"$f":"Cen!B126","v":"T60B3330"},{"$f":"Cen!C126","v":"R735"},null,{"$f":"Cen!F126","v":404.5},{"$f":"S44*T44","v":0}]
[null,null,null,null,null,null,null,null,null,null,null,null,null,null,null,{"$f":"Cen!A127","v":"Sada jednotek TIP-ON BLUMOTION, L3"},{"$f":"Cen!B127","v":"T60B3530"},{"$f":"Cen!C127","v":"R737"},null,{"$f":"Cen!F127","v":404.5},0]
[null,null,null,null,null,null,null,null,null,null,null,null,null,null,null,{"$f":"Cen!A128","v":"Sada jednotek TIP-ON BLUMOTION, L5"},{"$f":"Cen!B128","v":"T60B3560"},{"$f":"Cen!C128","v":"S"},null,{"$f":"Cen!F128","v":404.5},0]
[]
[null,null,null,null,null,null,null,null,null,null,null,null,null,null,null,{"$f":"Cen!A130","v":"Synchronizační adaptér"},{"$f":"Cen!B130","v":"T60.000D"},{"$f":"Cen!C130","v":"R735"},null,{"$f":"Cen!F130","v":5.8},0]
[null,null,null,null,null,null,null,null,null,null,null,null,null,null,null,{"$f":"Cen!A131","v":"Hřídel synchronizace"},{"$f":"Cen!B131","v":"T60.1125W"},{"$f":"Cen!C131","v":"GR"},null,{"$f":"Cen!F131","v":95.6},0]
[null,null,null,null,null,null,null,null,null,null,null,null,null,null,null,{"$f":"Cen!A132","v":"Jednodílná synchronizace"},{"$f":"Cen!B132","v":"T60.300D"},{"$f":"Cen!C132","v":"R735"},null,{"$f":"Cen!F132","v":23.2},0]
[null,null,null,null,null,null,null,null,null,null,null,null,null,null,null,{"$f":"Cen!A134","v":"Držák hřídele synchronizace"},{"$f":"Cen!B134","v":"T60B000H"},{"$f":"Cen!C134","v":"NI"},null,{"$f":"Cen!F134","v":6},0]
[null,null,null,null,null,null,null,null,null,null,null,null,null,null,null,{"$f":"Cen!A135","v":"Podpěrný úhelník pro dno"},{"$f":"Cen!B135","v":"Z96.2011"},{"$f":"Cen!C135","v":"R737"},null,{"$f":"Cen!F135","v":29.8},0]
[]
[null,null,null,null,null,null,null,null,null,null,null,null,null,null,null,{"$f":"Cen!A143","v":"Držáky zadní stěny N, šedé"},{"$f":"Cen!B143","v":"Z30N000S.04"},{"$f":"Cen!C143","v":"R906"},null,{"$f":"Cen!F143","v":36.5},{"$f":"S54*T54","v":0}]
[null,null,null,null,null,null,null,null,null,null,null,null,null,null,null,{"$f":"Cen!A147","v":"Držáky zadní stěny M, šedé"},{"$f":"Cen!B147","v":"Z30M000S.04"},{"$f":"Cen!C147","v":"R906"},{"$f":"SUM($S$3:$S$11)/2","v":0},{"$f":"Cen!F147","v":40.200000000000003},{"$f":"S55*T55","v":0}]
[null,null,null,null,null,null,null,null,null,null,null,null,null,null,null,{"$f":"Cen!A151","v":"Držáky zadní stěny K, šedé"},{"$f":"Cen!B151","v":"Z30K000S"},{"$f":"Cen!C151","v":"R906"},null,{"$f":"Cen!F151","v":67.400000000000006},0]
[null,null,null,null,null,null,null,null,null,null,null,null,null,null,null,{"$f":"Cen!A154","v":"Držáky zadní stěny B, šedé"},{"$f":"Cen!B154","v":"Z30B000S.04"},{"$f":"Cen!C154","v":"R906"},null,{"$f":"Cen!F154","v":48.8},0]
[null,null,null,null,null,null,null,null,null,null,null,null,null,null,null,{"$f":"Cen!A158","v":"Držáky zadní stěny C, šedé"},{"$f":"Cen!B158","v":"Z30C000S"},{"$f":"Cen!C158","v":"R906"},null,{"$f":"Cen!F158","v":71},0]
[null,null,null,null,null,null,null,null,null,null,null,null,null,null,null,{"$f":"Cen!A162","v":"Držáky zadní stěny D, šedé"},{"$f":"Cen!B162","v":"Z30D000S"},{"$f":"Cen!C162","v":"R906"},{"$f":"SUM($S$3:$S$11)/2","v":0},{"$f":"Cen!F162","v":78.099999999999994},{"$f":"S59*T59","v":0}]
[]
[null,null,null,null,null,null,null,null,null,null,null,null,null,null,null,{"$f":"Cen!A173","v":"Čelní kování INSERTA"},{"$f":"Cen!B173","v":"ZSF.39A2"},{"$f":"Cen!C173","v":"BL"},{"$f":"SUM($S$3:$S$11)*2","v":0},{"$f":"Cen!F173","v":22.4},0]
[]
[]
[]
[null,null,null,null,null,null,null,null,null,null,null,null,null,null,null,{"$f":"Cen!A215","v":"Podélný reling vlevo/vpravo, 270mm, šedý"},{"$f":"Cen!B215","v":"ZRG.207RSIC"},{"$f":"Cen!C215","v":"R906"},{"$f":"S3/2","v":0},{"$f":"Cen!F215","v":150},{"$f":"S65*T65","v":0}]
[null,null,null,null,null,null,null,null,null,null,null,null,null,null,null,{"$f":"Cen!A219","v":"Podélný reling vlevo/vpravo, 300mm, šedý"},{"$f":"Cen!B219","v":"ZRG.237RSIC"},{"$f":"Cen!C219","v":"R906"},0,{"$f":"Cen!F219","v":152.5},0]
[null,null,null,null,null,null,null,null,null,null,null,null,null,null,null,{"$f":"Cen!A223","v":"Podélný reling vlevo/vpravo, 350mm, šedý"},{"$f":"Cen!B223","v":"ZRG.287RSIC"},{"$f":"Cen!C223","v":"R906"},0,{"$f":"Cen!F223","v":155},0]
[null,null,null,null,null,null,null,null,null,null,null,null,null,null,null,{"$f":"Cen!A227","v":"Podélný reling vlevo/vpravo, 400mm, šedý"},{"$f":"Cen!B227","v":"ZRG.337RSIC"},{"$f":"Cen!C227","v":"R906"},0,{"$f":"Cen!F227","v":157.5},0]
[null,null,null,null,null,null,null,null,null,null,null,null,null,null,null,{"$f":"Cen!A231","v":"Podélný reling vlevo/vpravo, 450mm, šedý"},{"$f":"Cen!B231","v":"ZRG.387RSIC"},{"$f":"Cen!C231","v":"R906"},0,{"$f":"Cen!F231","v":160},0]
[null,null,null,null,null,null,null,null,null,null,null,null,null,null,null,{"$f":"Cen!A235","v":"Podélný reling vlevo/vpravo, 500mm, šedý"},{"$f":"Cen!B235","v":"ZRG.437RSIC"},{"$f":"Cen!C235","v":"R906"},0,{"$f":"Cen!F235","v":178.7},0]
[null,null,null,null,null,null,null,null,null,null,null,null,null,null,null,{"$f":"Cen!A239","v":"Podélný reling vlevo/vpravo, 550mm, šedý"},{"$f":"Cen!B239","v":"ZRG.487RSIC"},{"$f":"Cen!C239","v":"R906"},0,{"$f":"Cen!F239","v":169.4},0]
[null,null,null,null,null,null,null,null,null,null,null,null,null,null,null,{"$f":"Cen!A243","v":"Podélný reling vlevo/vpravo, 600mm, šedý"},{"$f":"Cen!B243","v":"ZRG.537RSIC"},{"$f":"Cen!C243","v":"R906"},0,{"$f":"Cen!F243","v":176.3},0]
[null,null,null,null,null,null,null,null,null,null,null,null,null,null,null,{"$f":"Cen!A247","v":"Podélný reling vlevo/vpravo, 650mm, šedý"},{"$f":"Cen!B247","v":"ZRG.587RSIC"},{"$f":"Cen!C247","v":"R906"},0,{"$f":"Cen!F247","v":183.2},0]
[]
[null,null,null,null,null,null,null,null,null,null,null,null,null,null,null,{"$f":"Cen!A328","v":"Sada držáků zásuvného prvku D, bílošedá"},{"$f":"Cen!B328","v":"Z36D0080"},{"$f":"Cen!C328","v":"WGR"},{"$f":"J30","v":0},{"$f":"Cen!F328","v":63.3},{"$f":"S75*T75","v":0}]
[]
[]
[]
[]
[]
[]
[]
[]
[]
[]
[]
[]
[]
[]
[]
[]
[null,null,null,null,null,null,null,null,null,null,null,null,null,null,null,null,null,null,null,null,{"$f":"SUM(U3:U89)","v":0}]

{"sheet":"ADM45G","index":37,"n_rows":90,"n_cols":21,"rows_kept":90,"cut":false,"hidden":false,"merged":[]}
[]
[null,null,null,null,null,null,null,null,null,null,null,{"$f":"\"SPACE-TOWER, \"&List!$B$60&\" 4xD + 1xM\"","v":"SPACE-TOWER, sestava 4xD + 1xM"},null,null,null,"Počty skříní →",{"$f":"SUM(D24:F24)","v":0},{"$f":"SUM(J24:L24)","v":0},{"$f":"SUM(D32:F32)","v":0},{"$f":"SUM(J32:L32)","v":0}]
[null,null,null,null,null,null,null,null,null,null,null,{"$f":"List!$B$62","v":"zásuvný prvek sklo"},null,{"$f":"List!$B$11&\":\"","v":"Zpět na:"},null,{"$f":"Cen!A28","v":"Bočnice M 270mm, šedé"},{"$f":"Cen!B28","v":"378M2702SA"},{"$f":"Cen!C28","v":"R906"},null,{"$f":"Cen!F28","v":350.6},{"$f":"S3*T3","v":0}]
[null,null,null,null,null,null,null,null,{"$f":"List!$B$72&\":\"","v":"bočnice:"},null,"M",null,null,{"$f":"\" \"&List!$B$13","v":" Úvod"},null,{"$f":"Cen!A32","v":"Bočnice M 300mm, šedé"},{"$f":"Cen!B32","v":"378M3002SA"},{"$f":"Cen!C32","v":"R906"},null,{"$f":"Cen!F32","v":350.6},0]
[null,null,null,null,null,null,null,null,{"$f":"List!$B$27&\":\"","v":"barva:"},null,{"$f":"Form!$O$2","v":"šedá"},null,null,{"$f":"\" \"&List!$B$4","v":" Výběr zásuvek a výsuvů"},null,{"$f":"Cen!A36","v":"Bočnice M 350mm, šedé"},{"$f":"Cen!B36","v":"378M3502SA"},{"$f":"Cen!C36","v":"R906"},null,{"$f":"Cen!F36","v":350.6},0]
[null,null,null,null,null,null,null,null,{"$f":"List!$B$32&\":\"","v":"sklo:"},null,{"$f":"Form!$O$8","v":"čiré"},null,null,null,null,{"$f":"Cen!A40","v":"Bočnice M 400mm, šedé"},{"$f":"Cen!B40","v":"378M4002SA"},{"$f":"Cen!C40","v":"R906"},null,{"$f":"Cen!F40","v":354.3},0]
[null,null,null,null,null,null,null,null,{"$f":"List!$B$102&\" KB:\"","v":"Šířka korpusu KB:"},null,"450, 600 mm",null,null,{"$f":"List!$B$12&\":\"","v":"Pokračovat na:"},null,{"$f":"Cen!A44","v":"Bočnice M 450mm, šedé"},{"$f":"Cen!B44","v":"378M4502SA"},{"$f":"Cen!C44","v":"R906"},{"$f":"SUM($D$24, $J$24, $D$32, $J$32)*5","v":0},{"$f":"Cen!F44","v":358.1},0]
[null,null,null,null,null,null,null,null,null,null,null,null,null,{"$f":"\" \"&List!$B$5","v":" Výběr doplňků"},null,{"$f":"Cen!A48","v":"Bočnice M 500mm, šedé"},{"$f":"Cen!B48","v":"378M5002SA"},{"$f":"Cen!C48","v":"R906"},{"$f":"SUM($E$24, $K$24, $E$32, $K$32)*5","v":0},{"$f":"Cen!F48","v":397.4},0]
[null,null,null,null,null,null,null,null,null,null,null,null,null,{"$f":"\" \"&List!$B$6","v":" Výběr SERVO-DRIVE"},null,{"$f":"Cen!A52","v":"Bočnice M 550mm, šedé"},{"$f":"Cen!B52","v":"378M5502SA"},{"$f":"Cen!C52","v":"R906"},{"$f":"SUM($F$24, $L$24, $F$32, $L$32)*5","v":0},{"$f":"Cen!F52","v":399.2},0]
[null,null,null,null,null,null,null,null,null,null,null,null,null,{"$f":"\" \"&List!$B$7","v":" Výběr ORGA-LINE"},null,{"$f":"Cen!A56","v":"Bočnice M 600mm, šedé"},{"$f":"Cen!B56","v":"378M6002SA"},{"$f":"Cen!C56","v":"R906"},null,{"$f":"Cen!F56","v":508.3},0]
[null,null,null,null,null,null,null,null,null,null,null,null,null,{"$f":"\" \"&List!$B$18","v":" Souhrn"},null,{"$f":"Cen!A60","v":"Bočnice M 650mm, šedé"},{"$f":"Cen!B60","v":"378M6502SA"},{"$f":"Cen!C60","v":"R906"},null,{"$f":"Cen!F60","v":536.29999999999995},0]
[]
[null,null,null,null,null,null,null,null,null,null,null,null,null,null,null,{"$f":"Cen!A94","v":"Korpusové lišty 270mm, BLUMOTION, 30kg"},{"$f":"Cen!B94","v":"578.2701B"},{"$f":"Cen!C94","v":"ZN"},null,{"$f":"Cen!F94","v":459.2},0]
[null,null,null,null,null,null,null,null,null,null,null,null,null,null,null,{"$f":"Cen!A95","v":"Korpusové lišty 300mm, BLUMOTION, 30kg"},{"$f":"Cen!B95","v":"578.3001B"},{"$f":"Cen!C95","v":"ZN"},null,{"$f":"Cen!F95","v":459.2},0]
[null,null,null,null,null,null,null,null,null,null,null,null,null,null,null,{"$f":"Cen!A96","v":"Korpusové lišty 350mm, BLUMOTION, 30kg"},{"$f":"Cen!B96","v":"578.3501B"},{"$f":"Cen!C96","v":"ZN"},null,{"$f":"Cen!F96","v":459.2},0]
[null,null,null,null,null,null,null,null,null,null,null,null,null,null,null,{"$f":"Cen!A97","v":"Korpusové lišty 400mm, BLUMOTION, 30kg"},{"$f":"Cen!B97","v":"578.4001B"},{"$f":"Cen!C97","v":"ZN"},null,{"$f":"Cen!F97","v":462.6},0]
[null,{"$f":"\"   \"&List!B261","v":"   Zadejte počty skříní podle šířky korpusu a délky výsuvů"},null,null,null,null,null,null,null,null,null,null,null,null,null,{"$f":"Cen!A98","v":"Korpusové lišty 450mm, BLUMOTION, 30kg"},{"$f":"Cen!B98","v":"578.4501B"},{"$f":"Cen!C98","v":"ZN"},{"$f":"IF($D$26=0, $D$24*4, $D$24*$D$26)+IF($J$26=0, $J$24*2,$J$24*$J$26)","v":0},{"$f":"Cen!F98","v":466},0]
[null,{"$f":"\"   \"&List!B265","v":"   Zadejte počet korpusových lišt, pokud chcete jiné, než přednastavené složení"},null,null,null,null,null,null,null,null,null,null,null,null,null,{"$f":"Cen!A99","v":"Korpusové lišty 450mm, BLUMOTION, 65kg"},{"$f":"Cen!B99","v":"576.4501B"},{"$f":"Cen!C99","v":"ZN"},{"$f":"IF($D$26=0, $D$24*1, $D$24*$D$27)+IF($J$26=0, $J$24*3,$J$24*$J$27)","v":0},{"$f":"Cen!F99","v":560.79999999999995},0]
[null,{"$f":"\"         \"&List!B263","v":"         Zadejte počty 30kg korpusových lišt, 65kg lišty se dopočítají"},null,null,null,null,null,null,null,null,null,null,null,null,null,{"$f":"Cen!A100","v":"Korpusové lišty 500mm, BLUMOTION, 30kg"},{"$f":"Cen!B100","v":"578.5001B"},{"$f":"Cen!C100","v":"ZN"},{"$f":"IF($E$26=0, $E$24*4, $E$24*$E$26)+IF($K$26=0, $K$24*2,$K$24*$K$26)","v":0},{"$f":"Cen!F100","v":469.5},0]
[null,null,null,null,null,null,null,null,null,null,null,null,null,null,null,{"$f":"Cen!A101","v":"Korpusové lišty 500mm, BLUMOTION, 65kg"},{"$f":"Cen!B101","v":"576.5001B"},{"$f":"Cen!C101","v":"ZN"},{"$f":"IF($E$26=0, $E$24*1, $E$24*$E$27)+IF($K$26=0, $K$24*3,$K$24*$K$27)","v":0},{"$f":"Cen!F101","v":620.4},0]
[null,{"$f":"\"▼   \"&List!$B$102&\" KB 450 mm\"","v":"▼   Šířka korpusu KB 450 mm"},null,null,null,null,null,{"$f":"\"▼   \"&List!$B$102&\" KB 600 mm\"","v":"▼   Šířka korpusu KB 600 mm"},null,null,null,null,null,null,null,{"$f":"Cen!A102","v":"Korpusové lišty 550mm, BLUMOTION, 30kg"},{"$f":"Cen!B102","v":"578.5501B"},{"$f":"Cen!C102","v":"ZN"},{"$f":"IF($F$26=0, $F$24*4, $F$24*$F$26)+IF($L$26=0, $L$24*2,$L$24*$L$26)","v":0},{"$f":"Cen!F102","v":493.5},0]
[null,"       BLUMOTION",null,null,null,null,null,"       BLUMOTION",null,null,null,null,null,null,null,{"$f":"Cen!A103","v":"Korpusové lišty 550mm, BLUMOTION, 65kg"},{"$f":"Cen!B103","v":"576.5501B"},{"$f":"Cen!C103","v":"ZN"},{"$f":"IF($F$26=0, $F$24*1, $F$24*$F$27)+IF($L$26=0, $L$24*3,$L$24*$L$27)","v":0},{"$f":"Cen!F103","v":644.29999999999995},0]
[null,null,{"$f":"List!$B$45&\":\"","v":"Jmenovitá délka:"},450,500,550,null,null,{"$f":"List!$B$45&\":\"","v":"Jmenovitá délka:"},450,500,550,null,null,null,{"$f":"Cen!A104","v":"Korpusové lišty 600mm, BLUMOTION, 30kg"},{"$f":"Cen!B104","v":"578.6001B"},{"$f":"Cen!C104","v":"ZN"},null,{"$f":"Cen!F104","v":523.9},0]
[null,null,{"$f":"List!$B$260&\":\"","v":"Počet skříní:"},null,null,null,null,null,{"$f":"List!$B$260&\":\"","v":"Počet skříní:"},null,null,null,null,null,null,{"$f":"Cen!A105","v":"Korpusové lišty 600mm, BLUMOTION, 65kg"},{"$f":"Cen!B105","v":"576.6001B"},{"$f":"Cen!C105","v":"ZN"},null,{"$f":"Cen!F105","v":661.1},0]
[null,{"$f":"List!$B$264","v":"Korpusové lišty"},null,null,null,null,null,{"$f":"List!$B$264","v":"Korpusové lišty"},null,null,null,null,null,null,null,{"$f":"Cen!A106","v":"Korpusové lišty 650mm, BLUMOTION, 65kg"},{"$f":"Cen!B106","v":"576.6501B"},{"$f":"Cen!C106","v":"ZN"},null,{"$f":"Cen!F106","v":751.2},0]
[null,"30 kg","4 ks*",null,null,null,null,"30 kg",{"$f":"\"2 ks*\"","v":"2 ks*"},null,null,null,null,null,null,{"$f":"Cen!A109","v":"Korp. lišty TIP-ON BLUMOTION, 270mm, 30 kg"},{"$f":"Cen!B109","v":"578.2701M"},{"$f":"Cen!C109","v":"ZN"},null,{"$f":"Cen!F109","v":417.4},0]
[null,"65 kg","1 ks*",{"$f":"IF(D26>0, IF(D26>5,0, 5-D26),0)","v":0},{"$f":"IF(E26>0, IF(E26>5,0, 5-E26),0)","v":0},{"$f":"IF(F26>0, IF(F26>5,0, 5-F26),0)","v":0},null,"65 kg",{"$f":"\"3 ks*\"","v":"3 ks*"},{"$f":"IF(J26>0, IF(J26>5,0, 5-J26),0)","v":0},{"$f":"IF(K26>0, IF(K26>5,0, 5-K26),0)","v":0},{"$f":"IF(L26>0, IF(L26>5,0, 5-L26),0)","v":0},null,null,null,{"$f":"Cen!A110","v":"Korp. lišty TIP-ON BLUMOTION, 300mm, 30 kg"},{"$f":"Cen!B110","v":"578.3001M"},{"$f":"Cen!C110","v":"ZN"},null,{"$f":"Cen!F110","v":417.4},0]
[null,null,null,{"$f":"IF(D26>5,\"Max. 5!\",\" \")","v":" "},{"$f":"IF(E26>5,\"Max. 5!\",\" \")","v":" "},{"$f":"IF(F26>5,\"Max. 5!\",\" \")","v":" "},null,null,null,{"$f":"IF(J26>5,\"Max. 5!\",\" \")","v":" "},{"$f":"IF(K26>5,\"Max. 5!\",\" \")","v":" "},{"$f":"IF(L26>5,\"Max. 5!\",\" \")","v":" "},null,null,null,{"$f":"Cen!A111","v":"Korp. lišty TIP-ON BLUMOTION, 350mm, 30 kg"},{"$f":"Cen!B111","v":"578.3501M"},{"$f":"Cen!C111","v":"ZN"},null,{"$f":"Cen!F111","v":417.4},0]
[null,null,null,null,null,null,null,null,null,null,null,null,null,null,null,{"$f":"Cen!A112","v":"Korp. lišty TIP-ON BLUMOTION, 400mm, 30 kg"},{"$f":"Cen!B112","v":"578.4001M"},{"$f":"Cen!C112","v":"ZN"},null,{"$f":"Cen!F112","v":420.5},0]
[null,"        TIP-ON BLUMOTION",null,null,null,null,null,"        TIP-ON BLUMOTION",null,null,null,null,null,null,null,{"$f":"Cen!A113","v":"Korp. lišty TIP-ON BLUMOTION, 450mm, 30 kg"},{"$f":"Cen!B113","v":"578.4501M"},{"$f":"Cen!C113","v":"ZN"},{"$f":"IF($D$34=0, $D$32*4, $D$32*$D$34)+IF($J$34=0, $J$32*2,$J$32*$J$34)","v":0},{"$f":"Cen!F113","v":423.7},0]
[null,null,{"$f":"List!$B$45&\":\"","v":"Jmenovitá délka:"},450,500,550,null,null,{"$f":"List!$B$45&\":\"","v":"Jmenovitá délka:"},450,500,550,null,null,null,{"$f":"Cen!A114","v":"Korp. lišty TIP-ON BLUMOTION, 450mm, 65 kg"},{"$f":"Cen!B114","v":"578.4501M"},{"$f":"Cen!C114","v":"ZN"},{"$f":"IF($D$34=0, $D$32*1, $D$32*$D$35)+IF($J$34=0, $J$32*3,$J$32*$J$35)","v":0},{"$f":"Cen!F114","v":560.79999999999995},0]
[null,null,{"$f":"List!$B$260&\":\"","v":"Počet skříní:"},null,null,null,null,null,{"$f":"List!$B$260&\":\"","v":"Počet skříní:"},null,null,null,null,null,null,{"$f":"Cen!A115","v":"Korp. lišty TIP-ON BLUMOTION, 500mm, 30 kg"},{"$f":"Cen!B115","v":"578.5001M"},{"$f":"Cen!C115","v":"ZN"},{"$f":"IF($E$34=0, $E$32*4, $E$32*$E$34)+IF($K$34=0, $K$32*2,$K$32*$K$34)","v":0},{"$f":"Cen!F115","v":426.8},0]
[null,{"$f":"List!$B$264","v":"Korpusové lišty"},null,null,null,null,null,{"$f":"List!$B$264","v":"Korpusové lišty"},null,null,null,null,null,null,null,{"$f":"Cen!A116","v":"Korp. lišty TIP-ON BLUMOTION, 500mm, 65 kg"},{"$f":"Cen!B116","v":"576.5001M"},{"$f":"Cen!C116","v":"ZN"},{"$f":"IF($E$34=0, $E$32*1, $E$32*$E$35)+IF($K$34=0, $K$32*3,$K$32*$K$35)","v":0},{"$f":"Cen!F116","v":564},0]
[null,"30 kg","4 ks*",null,null,null,null,"30 kg",{"$f":"\"2 ks*\"","v":"2 ks*"},null,null,null,null,null,null,{"$f":"Cen!A117","v":"Korp. lišty TIP-ON BLUMOTION, 550mm, 30 kg"},{"$f":"Cen!B117","v":"578.5501M"},{"$f":"Cen!C117","v":"ZN"},{"$f":"IF($F$34=0, $F$32*4, $F$32*$F$34)+IF($L$34=0, $L$32*2,$L$32*$L$34)","v":0},{"$f":"Cen!F117","v":448.6},0]
[null,"65 kg","1 ks*",{"$f":"IF(D34>0,IF(D34>5,0,5-D34),0)","v":0},{"$f":"IF(E34>0,IF(E34>5,0,5-E34),0)","v":0},{"$f":"IF(F34>0,IF(F34>5,0,5-F34),0)","v":0},null,"65 kg",{"$f":"\"3 ks*\"","v":"3 ks*"},{"$f":"IF(J34>0,IF(J34>5,0,5-J34),0)","v":0},{"$f":"IF(K34>0,IF(K34>5,0,5-K34),0)","v":0},{"$f":"IF(L34>0,IF(L34>5,0,5-L34),0)","v":0},null,null,null,{"$f":"Cen!A118","v":"Korp. lišty TIP-ON BLUMOTION, 550mm, 65 kg"},{"$f":"Cen!B118","v":"576.5501M"},{"$f":"Cen!C118","v":"ZN"},{"$f":"IF($F$34=0, $F$32*1, $F$32*$F$35)+IF($L$34=0, $L$32*3,$L$32*$L$35)","v":0},{"$f":"Cen!F118","v":585.79999999999995},0]
[null,null,null,{"$f":"IF(D34>5,\"Max. 5!\",\" \")","v":" "},{"$f":"IF(E34>5,\"Max. 5!\",\" \")","v":" "},{"$f":"IF(F34>5,\"Max. 5!\",\" \")","v":" "},null,null,null,{"$f":"IF(J34>5,\"Max. 5!\",\" \")","v":" "},{"$f":"IF(K34>5,\"Max. 5!\",\" \")","v":" "},{"$f":"IF(L34>5,\"Max. 5!\",\" \")","v":" "},null,null,null,{"$f":"Cen!A119","v":"Korp. lišty TIP-ON BLUMOTION, 600mm, 30 kg"},{"$f":"Cen!B119","v":"578.6001M"},{"$f":"Cen!C119","v":"ZN"},null,{"$f":"Cen!F119","v":542},0]
[null,null,null,null,null,null,null,null,null,null,null,null,null,null,null,{"$f":"Cen!A120","v":"Korp. lišty TIP-ON BLUMOTION, 600mm, 65 kg"},{"$f":"Cen!B120","v":"576.6001M"},{"$f":"Cen!C120","v":"ZN"},null,{"$f":"Cen!F120","v":661.1},0]
[null,{"$f":"\"       * \"&List!$B$266","v":"       * Nastavené počty korpusových lišt"},null,null,null,null,null,null,null,null,null,null,null,null,null,{"$f":"Cen!A121","v":"Korp. lišty TIP-ON BLUMOTION, 650mm, 65 kg"},{"$f":"Cen!B121","v":"576.6501M"},{"$f":"Cen!C121","v":"ZN"},null,{"$f":"Cen!F121","v":682.9},0]
[null,{"$f":"\"     ** \"&List!$B$269","v":"     ** Jednotky TIP-ON BLUMOTION jsou přidány automaticky"}]
[null,{"$f":"\"        \"&List!$B$270","v":"        Synchronizace je přidána automaticky. "},null,null,null,null,null,null,null,null,null,null,null,null,null,{"$f":"Cen!A124","v":"Sada jednotek TIP-ON BLUMOTION, S0"},{"$f":"Cen!B124","v":"T60B3030"},{"$f":"Cen!C124","v":"W"},null,{"$f":"Cen!F124","v":404.5},{"$f":"S40*T40","v":0}]
[null,null,null,null,null,null,null,null,null,null,null,null,null,null,null,{"$f":"Cen!A125","v":"Sada jednotek TIP-ON BLUMOTION, S1"},{"$f":"Cen!B125","v":"T60B3130"},{"$f":"Cen!C125","v":"R735"},null,{"$f":"Cen!F125","v":404.5},0]
[null,null,null,null,null,null,null,null,null,null,null,null,null,null,null,{"$f":"Cen!A126","v":"Sada jednotek TIP-ON BLUMOTION, L1"},{"$f":"Cen!B126","v":"T60B3330"},{"$f":"Cen!C126","v":"R735"},null,{"$f":"Cen!F126","v":404.5},0]
[null,null,null,null,null,null,null,null,null,null,null,null,null,null,null,{"$f":"Cen!A127","v":"Sada jednotek TIP-ON BLUMOTION, L3"},{"$f":"Cen!B127","v":"T60B3530"},{"$f":"Cen!C127","v":"R737"},{"$f":"SUM(S30, S32, S34)","v":0},{"$f":"Cen!F127","v":404.5},0]
[null,null,null,null,null,null,null,null,null,null,null,null,null,null,null,{"$f":"Cen!A128","v":"Sada jednotek TIP-ON BLUMOTION, L5"},{"$f":"Cen!B128","v":"T60B3560"},{"$f":"Cen!C128","v":"S"},{"$f":"SUM(S31, S33, S35)","v":0},{"$f":"Cen!F128","v":404.5},0]
[]
[null,null,null,null,null,null,null,null,null,null,null,null,null,null,null,{"$f":"Cen!A130","v":"Synchronizační adaptér"},{"$f":"Cen!B130","v":"T60.000D"},{"$f":"Cen!C130","v":"R735"},{"$f":"SUM($S$40:$S$44)*2","v":0},{"$f":"Cen!F130","v":5.8},0]
[null,null,null,null,null,null,null,null,null,null,null,null,null,null,null,{"$f":"Cen!A131","v":"Hřídel synchronizace"},{"$f":"Cen!B131","v":"T60.1125W"},{"$f":"Cen!C131","v":"GR"},{"$f":"CEILING(SUM(SUM($D$32:$F$32)/6, SUM($J$32:$L$32)/3), 1)*5","v":0},{"$f":"Cen!F131","v":95.6},0]
[null,null,null,null,null,null,null,null,null,null,null,null,null,null,null,{"$f":"Cen!A132","v":"Jednodílná synchronizace"},{"$f":"Cen!B132","v":"T60.300D"},{"$f":"Cen!C132","v":"R735"},null,{"$f":"Cen!F132","v":23.2},0]
[null,null,null,null,null,null,null,null,null,null,null,null,null,null,null,{"$f":"Cen!A134","v":"Držák hřídele synchronizace"},{"$f":"Cen!B134","v":"T60B000H"},{"$f":"Cen!C134","v":"NI"},null,{"$f":"Cen!F134","v":6},0]
[null,null,null,null,null,null,null,null,null,null,null,null,null,null,null,{"$f":"Cen!A135","v":"Podpěrný úhelník pro dno"},{"$f":"Cen!B135","v":"Z96.2011"},{"$f":"Cen!C135","v":"R737"},null,{"$f":"Cen!F135","v":29.8},0]
[]
[null,null,null,null,null,null,null,null,null,null,null,null,null,null,null,{"$f":"Cen!A143","v":"Držáky zadní stěny N, šedé"},{"$f":"Cen!B143","v":"Z30N000S.04"},{"$f":"Cen!C143","v":"R906"},null,{"$f":"Cen!F143","v":36.5},{"$f":"S52*T52","v":0}]
[null,null,null,null,null,null,null,null,null,null,null,null,null,null,null,{"$f":"Cen!A147","v":"Držáky zadní stěny M, šedé"},{"$f":"Cen!B147","v":"Z30M000S.04"},{"$f":"Cen!C147","v":"R906"},{"$f":"SUM($S$3:$S$11)/5","v":0},{"$f":"Cen!F147","v":40.200000000000003},{"$f":"S53*T53","v":0}]
[null,null,null,null,null,null,null,null,null,null,null,null,null,null,null,{"$f":"Cen!A151","v":"Držáky zadní stěny K, šedé"},{"$f":"Cen!B151","v":"Z30K000S"},{"$f":"Cen!C151","v":"R906"},null,{"$f":"Cen!F151","v":67.400000000000006},0]
[null,null,null,null,null,null,null,null,null,null,null,null,null,null,null,{"$f":"Cen!A154","v":"Držáky zadní stěny B, šedé"},{"$f":"Cen!B154","v":"Z30B000S.04"},{"$f":"Cen!C154","v":"R906"},null,{"$f":"Cen!F154","v":48.8},0]
[null,null,null,null,null,null,null,null,null,null,null,null,null,null,null,{"$f":"Cen!A158","v":"Držáky zadní stěny C, šedé"},{"$f":"Cen!B158","v":"Z30C000S"},{"$f":"Cen!C158","v":"R906"},null,{"$f":"Cen!F158","v":71},0]
[null,null,null,null,null,null,null,null,null,null,null,null,null,null,null,{"$f":"Cen!A162","v":"Držáky zadní stěny D, šedé"},{"$f":"Cen!B162","v":"Z30D000S"},{"$f":"Cen!C162","v":"R906"},{"$f":"SUM($S$3:$S$11)/5*4","v":0},{"$f":"Cen!F162","v":78.099999999999994},{"$f":"S57*T57","v":0}]
[null,null,null,null,null,null,null,null,null,null,null,null,null,null,null,{"$f":"Cen!A178","v":"Držáky čela vnitřní zásuvky M, bílošedé"},{"$f":"Cen!B178","v":"ZIF.71M0"},{"$f":"Cen!C178","v":"WGR"},{"$f":"SUM($S$3:$S$11)/5","v":0},{"$f":"Cen!F178","v":105.6},{"$f":"S58*T58","v":0}]
[null,null,null,null,null,null,null,null,null,null,null,null,null,null,null,{"$f":"Cen!A189","v":"Držáky čela vnitřního výsuvu D bílošedé"},{"$f":"Cen!B189","v":"ZIF.74D0"},{"$f":"Cen!C189","v":"WGR"},{"$f":"SUM($S$3:$S$11)/5*4","v":0},{"$f":"Cen!F189","v":156.30000000000001},0]
[null,null,null,null,null,null,null,null,null,null,null,null,null,null,null,{"$f":"Cen!A194","v":"Přední díl vnitřní zásuvky, šedý"},{"$f":"Cen!B194","v":"Z31L1036A  "},{"$f":"Cen!C194","v":"R906"},{"$f":"CEILING(SUM(SUM($D$24:$F$24, $D$32:$F$32)/3, SUM($J$24:$L$24, $J$32:$L$32)/2), 1)*5","v":0},{"$f":"Cen!F194","v":363.8},0]
[null,null,null,null,null,null,null,null,null,null,null,null,null,null,null,{"$f":"Cen!A199","v":"Příčný reling vnitřní zásuvky, šedý"},{"$f":"Cen!B199","v":"ZRG.1046Z "},{"$f":"Cen!C199","v":"R906"},{"$f":"CEILING(SUM(SUM($D$24:$F$24, $D$32:$F$32)/3, SUM($J$24:$L$24, $J$32:$L$32)/2), 1)*4","v":0},{"$f":"Cen!F199","v":169.4},0]
[]
[null,null,null,null,null,null,null,null,null,null,null,null,null,null,null,{"$f":"Cen!A215","v":"Podélný reling vlevo/vpravo, 270mm, šedý"},{"$f":"Cen!B215","v":"ZRG.207RSIC"},{"$f":"Cen!C215","v":"R906"},{"$f":"S3","v":0},{"$f":"Cen!F215","v":150},{"$f":"S63*T63","v":0}]
[null,null,null,null,null,null,null,null,null,null,null,null,null,null,null,{"$f":"Cen!A219","v":"Podélný reling vlevo/vpravo, 300mm, šedý"},{"$f":"Cen!B219","v":"ZRG.237RSIC"},{"$f":"Cen!C219","v":"R906"},0,{"$f":"Cen!F219","v":152.5},0]
[null,null,null,null,null,null,null,null,null,null,null,null,null,null,null,{"$f":"Cen!A223","v":"Podélný reling vlevo/vpravo, 350mm, šedý"},{"$f":"Cen!B223","v":"ZRG.287RSIC"},{"$f":"Cen!C223","v":"R906"},0,{"$f":"Cen!F223","v":155},0]
[null,null,null,null,null,null,null,null,null,null,null,null,null,null,null,{"$f":"Cen!A227","v":"Podélný reling vlevo/vpravo, 400mm, šedý"},{"$f":"Cen!B227","v":"ZRG.337RSIC"},{"$f":"Cen!C227","v":"R906"},0,{"$f":"Cen!F227","v":157.5},0]
[null,null,null,null,null,null,null,null,null,null,null,null,null,null,null,{"$f":"Cen!A231","v":"Podélný reling vlevo/vpravo, 450mm, šedý"},{"$f":"Cen!B231","v":"ZRG.387RSIC"},{"$f":"Cen!C231","v":"R906"},{"$f":"S7/5*4","v":0},{"$f":"Cen!F231","v":160},0]
[null,null,null,null,null,null,null,null,null,null,null,null,null,null,null,{"$f":"Cen!A235","v":"Podélný reling vlevo/vpravo, 500mm, šedý"},{"$f":"Cen!B235","v":"ZRG.437RSIC"},{"$f":"Cen!C235","v":"R906"},{"$f":"S8/5*4","v":0},{"$f":"Cen!F235","v":178.7},0]
[null,null,null,null,null,null,null,null,null,null,null,null,null,null,null,{"$f":"Cen!A239","v":"Podélný reling vlevo/vpravo, 550mm, šedý"},{"$f":"Cen!B239","v":"ZRG.487RSIC"},{"$f":"Cen!C239","v":"R906"},0,{"$f":"Cen!F239","v":169.4},0]
[null,null,null,null,null,null,null,null,null,null,null,null,null,null,null,{"$f":"Cen!A243","v":"Podélný reling vlevo/vpravo, 600mm, šedý"},{"$f":"Cen!B243","v":"ZRG.537RSIC"},{"$f":"Cen!C243","v":"R906"},0,{"$f":"Cen!F243","v":176.3},0]
[null,null,null,null,null,null,null,null,null,null,null,null,null,null,null,{"$f":"Cen!A247","v":"Podélný reling vlevo/vpravo, 650mm, šedý"},{"$f":"Cen!B247","v":"ZRG.587RSIC"},{"$f":"Cen!C247","v":"R906"},0,{"$f":"Cen!F247","v":183.2},0]
[]
[null,null,null,null,null,null,null,null,null,null,null,null,null,null,null,{"$f":"Cen!A328","v":"Sada držáků zásuvného prvku D, bílošedá"},{"$f":"Cen!B328","v":"Z36D0080"},{"$f":"Cen!C328","v":"WGR"},{"$f":"SUM($S$3:$S$11)/5*4","v":0},{"$f":"Cen!F328","v":63.3},{"$f":"S73*T73","v":0}]
[]
[null,null,null,null,null,null,null,null,null,null,null,null,null,null,null,{"$f":"Cen!A254","v":"Zásuvný prvek D, 270mm, čiré sko"},{"$f":"Cen!B254","v":"Z37R237D"},{"$f":"Cen!C254","v":"KL"},{"$f":"S3","v":0},{"$f":"Cen!F254","v":269.10000000000002},{"$f":"S75*T75","v":0}]
[null,null,null,null,null,null,null,null,null,null,null,null,null,null,null,{"$f":"Cen!A256","v":"Zásuvný prvek D, 300mm, čiré sko"},{"$f":"Cen!B256","v":"Z37R267D"},{"$f":"Cen!C256","v":"KL"},0,{"$f":"Cen!F256","v":279},0]
[null,null,null,null,null,null,null,null,null,null,null,null,null,null,null,{"$f":"Cen!A258","v":"Zásuvný prvek D, 350mm, čiré sko"},{"$f":"Cen!B258","v":"Z37R317D"},{"$f":"Cen!C258","v":"KL"},0,{"$f":"Cen!F258","v":240.82},0]
[null,null,null,null,null,null,null,null,null,null,null,null,null,null,null,{"$f":"Cen!A260","v":"Zásuvný prvek D, 400mm, čiré sko"},{"$f":"Cen!B260","v":"Z37R367D"},{"$f":"Cen!C260","v":"KL"},0,{"$f":"Cen!F260","v":265.39999999999998},0]
[null,null,null,null,null,null,null,null,null,null,null,null,null,null,null,{"$f":"Cen!A262","v":"Zásuvný prvek D, 450mm, čiré sko"},{"$f":"Cen!B262","v":"Z37R417D"},{"$f":"Cen!C262","v":"KL"},{"$f":"S7/5*4","v":0},{"$f":"Cen!F262","v":290},0]
[null,null,null,null,null,null,null,null,null,null,null,null,null,null,null,{"$f":"Cen!A264","v":"Zásuvný prvek D, 500mm, čiré sko"},{"$f":"Cen!B264","v":"Z37R467D"},{"$f":"Cen!C264","v":"KL"},{"$f":"S8/5*4","v":0},{"$f":"Cen!F264","v":314.56},0]
[null,null,null,null,null,null,null,null,null,null,null,null,null,null,null,{"$f":"Cen!A266","v":"Zásuvný prvek D, 550mm, čiré sko"},{"$f":"Cen!B266","v":"Z37R517D"},{"$f":"Cen!C266","v":"KL"},0,{"$f":"Cen!F266","v":336.68},0]
[null,null,null,null,null,null,null,null,null,null,null,null,null,null,null,{"$f":"Cen!A268","v":"Zásuvný prvek D, 600mm, čiré sko"},{"$f":"Cen!B268","v":"Z37R567D"},{"$f":"Cen!C268","v":"KL"},0,{"$f":"Cen!F268","v":358.8},0]
[null,null,null,null,null,null,null,null,null,null,null,null,null,null,null,{"$f":"Cen!A270","v":"Zásuvný prvek D, 650mm, čiré sko"},{"$f":"Cen!B270","v":"Z37R617D"},{"$f":"Cen!C270","v":"KL"},0,{"$f":"Cen!F270","v":378.7},0]
[]
[null,null,null,null,null,null,null,null,null,null,null,null,null,null,null,{"$f":"Cen!A632","v":"CLIP top 155° s nulovým přesahem, EXPANDO"},{"$f":"Cen!B632","v":"71T753EN"},{"$f":"Cen!C632","v":"NI"},{"$f":"SUM(SUM($D$24:$F$24, $D$32:$F$32)*3, SUM($J$24:$L$24, $J$32:$L$32)*4)","v":0},{"$f":"Cen!F632","v":112.7},{"$f":"S85*T85","v":0}]
[null,null,null,null,null,null,null,null,null,null,null,null,null,null,null,{"$f":"Cen!A639","v":"Podložka CLIP s excentrem, EXPANDO"},{"$f":"Cen!B639","v":"174H7100E"},{"$f":"Cen!C639","v":"NI"},{"$f":"S85","v":0},{"$f":"Cen!F639","v":15.1},0]
[null,null,null,null,null,null,null,null,null,null,null,null,null,null,null,{"$f":"Cen!A644","v":"BLUMOTION pro nasazení na závěs 155° a 125°"},{"$f":"Cen!B644","v":"973A7000"},{"$f":"Cen!C644","v":"NI"},{"$f":"SUM(SUM($D$24:$F$24, $D$32:$F$32)*2, SUM($J$24:$L$24, $J$32:$L$32)*3)","v":0},{"$f":"Cen!F644","v":41},0]
[]
[]
[null,null,null,null,null,null,null,null,null,null,null,null,null,null,null,null,null,null,null,null,{"$f":"SUM(U3:U87)","v":0}]

{"sheet":"ADM45M","index":38,"n_rows":104,"n_cols":22,"rows_kept":104,"cut":false,"hidden":false,"merged":[]}
[]
[null,null,null,null,null,null,null,null,null,null,null,{"$f":"\"SPACE-TOWER, \"&List!$B$60&\" 4xD + 1xM\"","v":"SPACE-TOWER, sestava 4xD + 1xM"},null,null,null,"Počty skříní →",{"$f":"SUM(D24:F24)","v":0},{"$f":"SUM(J24:L24)","v":0},{"$f":"SUM(D32:F32)","v":0},{"$f":"SUM(J32:L32)","v":0},{"$f":"Form!N2","v":1},"←barva"]
[null,null,null,null,null,null,null,null,null,null,null,{"$f":"List!$B$63","v":"kovový zásuvný prvek"},null,{"$f":"List!$B$11&\":\"","v":"Zpět na:"},null,{"$f":"Cen!A28","v":"Bočnice M 270mm, šedé"},{"$f":"Cen!B28","v":"378M2702SA"},{"$f":"Cen!C28","v":"R906"},null,{"$f":"Cen!F28","v":350.6},{"$f":"S3*T3","v":0}]
[null,null,null,null,null,null,null,null,{"$f":"List!$B$72&\":\"","v":"bočnice:"},null,"M",null,null,{"$f":"\" \"&List!$B$13","v":" Úvod"},null,{"$f":"Cen!A32","v":"Bočnice M 300mm, šedé"},{"$f":"Cen!B32","v":"378M3002SA"},{"$f":"Cen!C32","v":"R906"},null,{"$f":"Cen!F32","v":350.6},0]
[null,null,null,null,null,null,null,null,{"$f":"List!$B$27&\":\"","v":"barva:"},null,{"$f":"Form!$O$2","v":"šedá"},null,null,{"$f":"\" \"&List!$B$4","v":" Výběr zásuvek a výsuvů"},null,{"$f":"Cen!A36","v":"Bočnice M 350mm, šedé"},{"$f":"Cen!B36","v":"378M3502SA"},{"$f":"Cen!C36","v":"R906"},null,{"$f":"Cen!F36","v":350.6},0]
[null,null,null,null,null,null,null,null,null,null,null,null,null,null,null,{"$f":"Cen!A40","v":"Bočnice M 400mm, šedé"},{"$f":"Cen!B40","v":"378M4002SA"},{"$f":"Cen!C40","v":"R906"},null,{"$f":"Cen!F40","v":354.3},0]
[null,null,null,null,null,null,null,null,{"$f":"List!$B$102&\" KB:\"","v":"Šířka korpusu KB:"},null,"450, 600 mm",null,null,{"$f":"List!$B$12&\":\"","v":"Pokračovat na:"},null,{"$f":"Cen!A44","v":"Bočnice M 450mm, šedé"},{"$f":"Cen!B44","v":"378M4502SA"},{"$f":"Cen!C44","v":"R906"},{"$f":"IF($U$2=4, 0, SUM($D$24, $J$24, $D$32, $J$32)*5)","v":0},{"$f":"Cen!F44","v":358.1},0]
[null,null,null,null,null,null,null,null,null,null,null,null,null,{"$f":"\" \"&List!$B$5","v":" Výběr doplňků"},null,{"$f":"Cen!A48","v":"Bočnice M 500mm, šedé"},{"$f":"Cen!B48","v":"378M5002SA"},{"$f":"Cen!C48","v":"R906"},{"$f":"IF($U$2=4, 0, SUM($E$24, $K$24, $E$32, $K$32)*5)","v":0},{"$f":"Cen!F48","v":397.4},0]
[null,null,null,null,null,null,null,null,null,null,null,null,null,{"$f":"\" \"&List!$B$6","v":" Výběr SERVO-DRIVE"},null,{"$f":"Cen!A52","v":"Bočnice M 550mm, šedé"},{"$f":"Cen!B52","v":"378M5502SA"},{"$f":"Cen!C52","v":"R906"},{"$f":"IF($U$2=4, 0, SUM($F$24, $L$24, $F$32, $L$32)*5)","v":0},{"$f":"Cen!F52","v":399.2},0]
[null,null,null,null,null,null,null,null,null,null,null,null,null,{"$f":"\" \"&List!$B$7","v":" Výběr ORGA-LINE"},null,{"$f":"Cen!A56","v":"Bočnice M 600mm, šedé"},{"$f":"Cen!B56","v":"378M6002SA"},{"$f":"Cen!C56","v":"R906"},null,{"$f":"Cen!F56","v":508.3},0]
[null,null,null,null,null,null,null,null,null,null,null,null,null,{"$f":"\" \"&List!$B$18","v":" Souhrn"},null,{"$f":"Cen!A60","v":"Bočnice M 650mm, šedé"},{"$f":"Cen!B60","v":"378M6502SA"},{"$f":"Cen!C60","v":"R906"},null,{"$f":"Cen!F60","v":536.29999999999995},0]
[]
[null,null,null,null,null,null,null,null,null,null,null,null,null,null,null,{"$f":"Cen!A94","v":"Korpusové lišty 270mm, BLUMOTION, 30kg"},{"$f":"Cen!B94","v":"578.2701B"},{"$f":"Cen!C94","v":"ZN"},null,{"$f":"Cen!F94","v":459.2},0]
[null,null,null,null,null,null,{"$f":"IF($U$2=4, P103, \" \")","v":" "},null,null,null,null,null,null,null,null,{"$f":"Cen!A95","v":"Korpusové lišty 300mm, BLUMOTION, 30kg"},{"$f":"Cen!B95","v":"578.3001B"},{"$f":"Cen!C95","v":"ZN"},null,{"$f":"Cen!F95","v":459.2},0]
[null,null,null,null,null,null,{"$f":"IF($U$2=4, P104, \" \")","v":" "},null,null,null,null,null,null,null,null,{"$f":"Cen!A96","v":"Korpusové lišty 350mm, BLUMOTION, 30kg"},{"$f":"Cen!B96","v":"578.3501B"},{"$f":"Cen!C96","v":"ZN"},null,{"$f":"Cen!F96","v":459.2},0]
[null,null,null,null,null,null,null,null,null,null,null,null,null,null,null,{"$f":"Cen!A97","v":"Korpusové lišty 400mm, BLUMOTION, 30kg"},{"$f":"Cen!B97","v":"578.4001B"},{"$f":"Cen!C97","v":"ZN"},null,{"$f":"Cen!F97","v":462.6},0]
[null,{"$f":"\"   \"&List!B261","v":"   Zadejte počty skříní podle šířky korpusu a délky výsuvů"},null,null,null,null,null,null,null,null,null,null,null,null,null,{"$f":"Cen!A98","v":"Korpusové lišty 450mm, BLUMOTION, 30kg"},{"$f":"Cen!B98","v":"578.4501B"},{"$f":"Cen!C98","v":"ZN"},{"$f":"IF($U$2=4, 0, IF($D$26=0, $D$24*4, $D$24*$D$26)+IF($J$26=0, $J$24*2,$J$24*$J$26))","v":0},{"$f":"Cen!F98","v":466},0]
[null,{"$f":"\"   \"&List!B265","v":"   Zadejte počet korpusových lišt, pokud chcete jiné, než přednastavené složení"},null,null,null,null,null,null,null,null,null,null,null,null,null,{"$f":"Cen!A99","v":"Korpusové lišty 450mm, BLUMOTION, 65kg"},{"$f":"Cen!B99","v":"576.4501B"},{"$f":"Cen!C99","v":"ZN"},{"$f":"IF($U$2=4, 0, IF($D$26=0, $D$24*1, $D$24*$D$27)+IF($J$26=0, $J$24*3,$J$24*$J$27))","v":0},{"$f":"Cen!F99","v":560.79999999999995},0]
[null,{"$f":"\"         \"&List!B263","v":"         Zadejte počty 30kg korpusových lišt, 65kg lišty se dopočítají"},null,null,null,null,null,null,null,null,null,null,null,null,null,{"$f":"Cen!A100","v":"Korpusové lišty 500mm, BLUMOTION, 30kg"},{"$f":"Cen!B100","v":"578.5001B"},{"$f":"Cen!C100","v":"ZN"},{"$f":"IF($U$2=4, 0, IF($E$26=0, $E$24*4, $E$24*$E$26)+IF($K$26=0, $K$24*2,$K$24*$K$26))","v":0},{"$f":"Cen!F100","v":469.5},0]
[null,null,null,null,null,null,null,null,null,null,null,null,null,null,null,{"$f":"Cen!A101","v":"Korpusové lišty 500mm, BLUMOTION, 65kg"},{"$f":"Cen!B101","v":"576.5001B"},{"$f":"Cen!C101","v":"ZN"},{"$f":"IF($U$2=4, 0, IF($E$26=0, $E$24*1, $E$24*$E$27)+IF($K$26=0, $K$24*3,$K$24*$K$27))","v":0},{"$f":"Cen!F101","v":620.4},0]
[null,{"$f":"\"▼   \"&List!$B$102&\" KB 450 mm\"","v":"▼   Šířka korpusu KB 450 mm"},null,null,null,null,null,{"$f":"\"▼   \"&List!$B$102&\" KB 600 mm\"","v":"▼   Šířka korpusu KB 600 mm"},null,null,null,null,null,null,null,{"$f":"Cen!A102","v":"Korpusové lišty 550mm, BLUMOTION, 30kg"},{"$f":"Cen!B102","v":"578.5501B"},{"$f":"Cen!C102","v":"ZN"},{"$f":"IF($U$2=4, 0, IF($F$26=0, $F$24*4, $F$24*$F$26)+IF($L$26=0, $L$24*2,$L$24*$L$26))","v":0},{"$f":"Cen!F102","v":493.5},0]
[null,"       BLUMOTION",null,null,null,null,null,"       BLUMOTION",null,null,null,null,null,null,null,{"$f":"Cen!A103","v":"Korpusové lišty 550mm, BLUMOTION, 65kg"},{"$f":"Cen!B103","v":"576.5501B"},{"$f":"Cen!C103","v":"ZN"},{"$f":"IF($U$2=4, 0, IF($F$26=0, $F$24*1, $F$24*$F$27)+IF($L$26=0, $L$24*3,$L$24*$L$27))","v":0},{"$f":"Cen!F103","v":644.29999999999995},0]
[null,null,{"$f":"List!$B$45&\":\"","v":"Jmenovitá délka:"},450,500,550,null,null,{"$f":"List!$B$45&\":\"","v":"Jmenovitá délka:"},450,500,550,null,null,null,{"$f":"Cen!A104","v":"Korpusové lišty 600mm, BLUMOTION, 30kg"},{"$f":"Cen!B104","v":"578.6001B"},{"$f":"Cen!C104","v":"ZN"},null,{"$f":"Cen!F104","v":523.9},0]
[null,null,{"$f":"List!$B$260&\":\"","v":"Počet skříní:"},null,null,null,null,null,{"$f":"List!$B$260&\":\"","v":"Počet skříní:"},null,null,null,null,null,null,{"$f":"Cen!A105","v":"Korpusové lišty 600mm, BLUMOTION, 65kg"},{"$f":"Cen!B105","v":"576.6001B"},{"$f":"Cen!C105","v":"ZN"},null,{"$f":"Cen!F105","v":661.1},0]
[null,{"$f":"List!$B$264","v":"Korpusové lišty"},null,null,null,null,null,{"$f":"List!$B$264","v":"Korpusové lišty"},null,null,null,null,null,null,null,{"$f":"Cen!A106","v":"Korpusové lišty 650mm, BLUMOTION, 65kg"},{"$f":"Cen!B106","v":"576.6501B"},{"$f":"Cen!C106","v":"ZN"},null,{"$f":"Cen!F106","v":751.2},0]
[null,"30 kg","4 ks*",null,null,null,null,"30 kg",{"$f":"\"2 ks*\"","v":"2 ks*"},null,null,null,null,null,null,{"$f":"Cen!A109","v":"Korp. lišty TIP-ON BLUMOTION, 270mm, 30 kg"},{"$f":"Cen!B109","v":"578.2701M"},{"$f":"Cen!C109","v":"ZN"},null,{"$f":"Cen!F109","v":417.4},0]
[null,"65 kg","1 ks*",{"$f":"IF(D26>0, IF(D26>5,0, 5-D26),0)","v":0},{"$f":"IF(E26>0, IF(E26>5,0, 5-E26),0)","v":0},{"$f":"IF(F26>0, IF(F26>5,0, 5-F26),0)","v":0},null,"65 kg",{"$f":"\"3 ks*\"","v":"3 ks*"},{"$f":"IF(J26>0, IF(J26>5,0, 5-J26),0)","v":0},{"$f":"IF(K26>0, IF(K26>5,0, 5-K26),0)","v":0},{"$f":"IF(L26>0, IF(L26>5,0, 5-L26),0)","v":0},null,null,null,{"$f":"Cen!A110","v":"Korp. lišty TIP-ON BLUMOTION, 300mm, 30 kg"},{"$f":"Cen!B110","v":"578.3001M"},{"$f":"Cen!C110","v":"ZN"},null,{"$f":"Cen!F110","v":417.4},0]
[null,null,null,{"$f":"IF(D26>5,\"Max. 5!\",\" \")","v":" "},{"$f":"IF(E26>5,\"Max. 5!\",\" \")","v":" "},{"$f":"IF(F26>5,\"Max. 5!\",\" \")","v":" "},null,null,null,{"$f":"IF(J26>5,\"Max. 5!\",\" \")","v":" "},{"$f":"IF(K26>5,\"Max. 5!\",\" \")","v":" "},{"$f":"IF(L26>5,\"Max. 5!\",\" \")","v":" "},null,null,null,{"$f":"Cen!A111","v":"Korp. lišty TIP-ON BLUMOTION, 350mm, 30 kg"},{"$f":"Cen!B111","v":"578.3501M"},{"$f":"Cen!C111","v":"ZN"},null,{"$f":"Cen!F111","v":417.4},0]
[null,null,null,null,null,null,null,null,null,null,null,null,null,null,null,{"$f":"Cen!A112","v":"Korp. lišty TIP-ON BLUMOTION, 400mm, 30 kg"},{"$f":"Cen!B112","v":"578.4001M"},{"$f":"Cen!C112","v":"ZN"},null,{"$f":"Cen!F112","v":420.5},0]
[null,"        TIP-ON BLUMOTION",null,null,null,null,null,"        TIP-ON BLUMOTION",null,null,null,null,null,null,null,{"$f":"Cen!A113","v":"Korp. lišty TIP-ON BLUMOTION, 450mm, 30 kg"},{"$f":"Cen!B113","v":"578.4501M"},{"$f":"Cen!C113","v":"ZN"},{"$f":"IF($U$2=4, 0, IF($D$34=0, $D$32*4, $D$32*$D$34)+IF($J$34=0, $J$32*2,$J$32*$J$34))","v":0},{"$f":"Cen!F113","v":423.7},0]
[null,null,{"$f":"List!$B$45&\":\"","v":"Jmenovitá délka:"},450,500,550,null,null,{"$f":"List!$B$45&\":\"","v":"Jmenovitá délka:"},450,500,550,null,null,null,{"$f":"Cen!A114","v":"Korp. lišty TIP-ON BLUMOTION, 450mm, 65 kg"},{"$f":"Cen!B114","v":"578.4501M"},{"$f":"Cen!C114","v":"ZN"},{"$f":"IF($U$2=4, 0, IF($D$34=0, $D$32*1, $D$32*$D$35)+IF($J$34=0, $J$32*3,$J$32*$J$35))","v":0},{"$f":"Cen!F114","v":560.79999999999995},0]
[null,null,{"$f":"List!$B$260&\":\"","v":"Počet skříní:"},null,null,null,null,null,{"$f":"List!$B$260&\":\"","v":"Počet skříní:"},null,null,null,null,null,null,{"$f":"Cen!A115","v":"Korp. lišty TIP-ON BLUMOTION, 500mm, 30 kg"},{"$f":"Cen!B115","v":"578.5001M"},{"$f":"Cen!C115","v":"ZN"},{"$f":"IF($U$2=4, 0, IF($E$34=0, $E$32*4, $E$32*$E$34)+IF($K$34=0, $K$32*2,$K$32*$K$34))","v":0},{"$f":"Cen!F115","v":426.8},0]
[null,{"$f":"List!$B$264","v":"Korpusové lišty"},null,null,null,null,null,{"$f":"List!$B$264","v":"Korpusové lišty"},null,null,null,null,null,null,null,{"$f":"Cen!A116","v":"Korp. lišty TIP-ON BLUMOTION, 500mm, 65 kg"},{"$f":"Cen!B116","v":"576.5001M"},{"$f":"Cen!C116","v":"ZN"},{"$f":"IF($U$2=4, 0, IF($E$34=0, $E$32*1, $E$32*$E$35)+IF($K$34=0, $K$32*3,$K$32*$K$35))","v":0},{"$f":"Cen!F116","v":564},0]
[null,"30 kg","4 ks*",null,null,null,null,"30 kg",{"$f":"\"2 ks*\"","v":"2 ks*"},null,null,null,null,null,null,{"$f":"Cen!A117","v":"Korp. lišty TIP-ON BLUMOTION, 550mm, 30 kg"},{"$f":"Cen!B117","v":"578.5501M"},{"$f":"Cen!C117","v":"ZN"},{"$f":"IF($U$2=4, 0, IF($F$34=0, $F$32*4, $F$32*$F$34)+IF($L$34=0, $L$32*2,$L$32*$L$34))","v":0},{"$f":"Cen!F117","v":448.6},0]
[null,"65 kg","1 ks*",{"$f":"IF(D34>0,IF(D34>5,0,5-D34),0)","v":0},{"$f":"IF(E34>0,IF(E34>5,0,5-E34),0)","v":0},{"$f":"IF(F34>0,IF(F34>5,0,5-F34),0)","v":0},null,"65 kg",{"$f":"\"3 ks*\"","v":"3 ks*"},{"$f":"IF(J34>0,IF(J34>5,0,5-J34),0)","v":0},{"$f":"IF(K34>0,IF(K34>5,0,5-K34),0)","v":0},{"$f":"IF(L34>0,IF(L34>5,0,5-L34),0)","v":0},null,null,null,{"$f":"Cen!A118","v":"Korp. lišty TIP-ON BLUMOTION, 550mm, 65 kg"},{"$f":"Cen!B118","v":"576.5501M"},{"$f":"Cen!C118","v":"ZN"},{"$f":"IF($U$2=4, 0, IF($F$34=0, $F$32*1, $F$32*$F$35)+IF($L$34=0, $L$32*3,$L$32*$L$35))","v":0},{"$f":"Cen!F118","v":585.79999999999995},0]
[null,null,null,{"$f":"IF(D34>5,\"Max. 5!\",\" \")","v":" "},{"$f":"IF(E34>5,\"Max. 5!\",\" \")","v":" "},{"$f":"IF(F34>5,\"Max. 5!\",\" \")","v":" "},null,null,null,{"$f":"IF(J34>5,\"Max. 5!\",\" \")","v":" "},{"$f":"IF(K34>5,\"Max. 5!\",\" \")","v":" "},{"$f":"IF(L34>5,\"Max. 5!\",\" \")","v":" "},null,null,null,{"$f":"Cen!A119","v":"Korp. lišty TIP-ON BLUMOTION, 600mm, 30 kg"},{"$f":"Cen!B119","v":"578.6001M"},{"$f":"Cen!C119","v":"ZN"},null,{"$f":"Cen!F119","v":542},0]
[null,null,null,null,null,null,null,null,null,null,null,null,null,null,null,{"$f":"Cen!A120","v":"Korp. lišty TIP-ON BLUMOTION, 600mm, 65 kg"},{"$f":"Cen!B120","v":"576.6001M"},{"$f":"Cen!C120","v":"ZN"},null,{"$f":"Cen!F120","v":661.1},0]
[null,{"$f":"\"       * \"&List!$B$266","v":"       * Nastavené počty korpusových lišt"},null,null,null,null,null,null,null,null,null,null,null,null,null,{"$f":"Cen!A121","v":"Korp. lišty TIP-ON BLUMOTION, 650mm, 65 kg"},{"$f":"Cen!B121","v":"576.6501M"},{"$f":"Cen!C121","v":"ZN"},null,{"$f":"Cen!F121","v":682.9},0]
[null,{"$f":"\"     ** \"&List!$B$269","v":"     ** Jednotky TIP-ON BLUMOTION jsou přidány automaticky"}]
[null,{"$f":"\"        \"&List!B270","v":"        Synchronizace je přidána automaticky. "},null,null,null,null,null,null,null,null,null,null,null,null,null,{"$f":"Cen!A124","v":"Sada jednotek TIP-ON BLUMOTION, S0"},{"$f":"Cen!B124","v":"T60B3030"},{"$f":"Cen!C124","v":"W"},null,{"$f":"Cen!F124","v":404.5},{"$f":"S40*T40","v":0}]
[null,null,null,null,null,null,null,null,null,null,null,null,null,null,null,{"$f":"Cen!A125","v":"Sada jednotek TIP-ON BLUMOTION, S1"},{"$f":"Cen!B125","v":"T60B3130"},{"$f":"Cen!C125","v":"R735"},null,{"$f":"Cen!F125","v":404.5},0]
[null,null,null,null,null,null,null,null,null,null,null,null,null,null,null,{"$f":"Cen!A126","v":"Sada jednotek TIP-ON BLUMOTION, L1"},{"$f":"Cen!B126","v":"T60B3330"},{"$f":"Cen!C126","v":"R735"},null,{"$f":"Cen!F126","v":404.5},0]
[null,null,null,null,null,null,null,null,null,null,null,null,null,null,null,{"$f":"Cen!A127","v":"Sada jednotek TIP-ON BLUMOTION, L3"},{"$f":"Cen!B127","v":"T60B3530"},{"$f":"Cen!C127","v":"R737"},{"$f":"SUM(S30, S32, S34)","v":0},{"$f":"Cen!F127","v":404.5},0]
[null,null,null,null,null,null,null,null,null,null,null,null,null,null,null,{"$f":"Cen!A128","v":"Sada jednotek TIP-ON BLUMOTION, L5"},{"$f":"Cen!B128","v":"T60B3560"},{"$f":"Cen!C128","v":"S"},{"$f":"SUM(S31, S33, S35)","v":0},{"$f":"Cen!F128","v":404.5},0]
[]
[null,null,null,null,null,null,null,null,null,null,null,null,null,null,null,{"$f":"Cen!A130","v":"Synchronizační adaptér"},{"$f":"Cen!B130","v":"T60.000D"},{"$f":"Cen!C130","v":"R735"},{"$f":"SUM($S$40:$S$44)*2","v":0},{"$f":"Cen!F130","v":5.8},0]
[null,null,null,null,null,null,null,null,null,null,null,null,null,null,null,{"$f":"Cen!A131","v":"Hřídel synchronizace"},{"$f":"Cen!B131","v":"T60.1125W"},{"$f":"Cen!C131","v":"GR"},{"$f":"CEILING(SUM(SUM($D$32:$F$32)/6, SUM($J$32:$L$32)/3), 1)*5","v":0},{"$f":"Cen!F131","v":95.6},0]
[null,null,null,null,null,null,null,null,null,null,null,null,null,null,null,{"$f":"Cen!A132","v":"Jednodílná synchronizace"},{"$f":"Cen!B132","v":"T60.300D"},{"$f":"Cen!C132","v":"R735"},null,{"$f":"Cen!F132","v":23.2},0]
[null,null,null,null,null,null,null,null,null,null,null,null,null,null,null,{"$f":"Cen!A134","v":"Držák hřídele synchronizace"},{"$f":"Cen!B134","v":"T60B000H"},{"$f":"Cen!C134","v":"NI"},null,{"$f":"Cen!F134","v":6},0]
[null,null,null,null,null,null,null,null,null,null,null,null,null,null,null,{"$f":"Cen!A135","v":"Podpěrný úhelník pro dno"},{"$f":"Cen!B135","v":"Z96.2011"},{"$f":"Cen!C135","v":"R737"},null,{"$f":"Cen!F135","v":29.8},0]
[]
[null,null,null,null,null,null,null,null,null,null,null,null,null,null,null,{"$f":"Cen!A143","v":"Držáky zadní stěny N, šedé"},{"$f":"Cen!B143","v":"Z30N000S.04"},{"$f":"Cen!C143","v":"R906"},null,{"$f":"Cen!F143","v":36.5},{"$f":"S52*T52","v":0}]
[null,null,null,null,null,null,null,null,null,null,null,null,null,null,null,{"$f":"Cen!A147","v":"Držáky zadní stěny M, šedé"},{"$f":"Cen!B147","v":"Z30M000S.04"},{"$f":"Cen!C147","v":"R906"},{"$f":"SUM($S$3:$S$11)/5","v":0},{"$f":"Cen!F147","v":40.200000000000003},{"$f":"S53*T53","v":0}]
[null,null,null,null,null,null,null,null,null,null,null,null,null,null,null,{"$f":"Cen!A151","v":"Držáky zadní stěny K, šedé"},{"$f":"Cen!B151","v":"Z30K000S"},{"$f":"Cen!C151","v":"R906"},null,{"$f":"Cen!F151","v":67.400000000000006},0]
[null,null,null,null,null,null,null,null,null,null,null,null,null,null,null,{"$f":"Cen!A154","v":"Držáky zadní stěny B, šedé"},{"$f":"Cen!B154","v":"Z30B000S.04"},{"$f":"Cen!C154","v":"R906"},null,{"$f":"Cen!F154","v":48.8},0]
[null,null,null,null,null,null,null,null,null,null,null,null,null,null,null,{"$f":"Cen!A158","v":"Držáky zadní stěny C, šedé"},{"$f":"Cen!B158","v":"Z30C000S"},{"$f":"Cen!C158","v":"R906"},null,{"$f":"Cen!F158","v":71},0]
[null,null,null,null,null,null,null,null,null,null,null,null,null,null,null,{"$f":"Cen!A162","v":"Držáky zadní stěny D, šedé"},{"$f":"Cen!B162","v":"Z30D000S"},{"$f":"Cen!C162","v":"R906"},{"$f":"SUM($S$3:$S$11)/5*4","v":0},{"$f":"Cen!F162","v":78.099999999999994},{"$f":"S57*T57","v":0}]
[null,null,null,null,null,null,null,null,null,null,null,null,null,null,null,{"$f":"Cen!A178","v":"Držáky čela vnitřní zásuvky M, bílošedé"},{"$f":"Cen!B178","v":"ZIF.71M0"},{"$f":"Cen!C178","v":"WGR"},{"$f":"SUM($S$3:$S$11)/5","v":0},{"$f":"Cen!F178","v":105.6},{"$f":"S58*T58","v":0}]
[null,null,null,null,null,null,null,null,null,null,null,null,null,null,null,{"$f":"Cen!A189","v":"Držáky čela vnitřního výsuvu D bílošedé"},{"$f":"Cen!B189","v":"ZIF.74D0"},{"$f":"Cen!C189","v":"WGR"},{"$f":"SUM($S$3:$S$11)/5*4","v":0},{"$f":"Cen!F189","v":156.30000000000001},0]
[null,null,null,null,null,null,null,null,null,null,null,null,null,null,null,{"$f":"Cen!A194","v":"Přední díl vnitřní zásuvky, šedý"},{"$f":"Cen!B194","v":"Z31L1036A  "},{"$f":"Cen!C194","v":"R906"},{"$f":"CEILING(SUM(SUM($D$24:$F$24, $D$32:$F$32)/3, SUM($J$24:$L$24, $J$32:$L$32)/2), 1)*5","v":0},{"$f":"Cen!F194","v":363.8},0]
[null,null,null,null,null,null,null,null,null,null,null,null,null,null,null,{"$f":"Cen!A199","v":"Příčný reling vnitřní zásuvky, šedý"},{"$f":"Cen!B199","v":"ZRG.1046Z "},{"$f":"Cen!C199","v":"R906"},{"$f":"CEILING(SUM(SUM($D$24:$F$24, $D$32:$F$32)/3, SUM($J$24:$L$24, $J$32:$L$32)/2), 1)*4","v":0},{"$f":"Cen!F199","v":169.4},0]
[]
[null,null,null,null,null,null,null,null,null,null,null,null,null,null,null,{"$f":"Cen!A215","v":"Podélný reling vlevo/vpravo, 270mm, šedý"},{"$f":"Cen!B215","v":"ZRG.207RSIC"},{"$f":"Cen!C215","v":"R906"},{"$f":"S3","v":0},{"$f":"Cen!F215","v":150},{"$f":"S63*T63","v":0}]
[null,null,null,null,null,null,null,null,null,null,null,null,null,null,null,{"$f":"Cen!A219","v":"Podélný reling vlevo/vpravo, 300mm, šedý"},{"$f":"Cen!B219","v":"ZRG.237RSIC"},{"$f":"Cen!C219","v":"R906"},0,{"$f":"Cen!F219","v":152.5},0]
[null,null,null,null,null,null,null,null,null,null,null,null,null,null,null,{"$f":"Cen!A223","v":"Podélný reling vlevo/vpravo, 350mm, šedý"},{"$f":"Cen!B223","v":"ZRG.287RSIC"},{"$f":"Cen!C223","v":"R906"},0,{"$f":"Cen!F223","v":155},0]
[null,null,null,null,null,null,null,null,null,null,null,null,null,null,null,{"$f":"Cen!A227","v":"Podélný reling vlevo/vpravo, 400mm, šedý"},{"$f":"Cen!B227","v":"ZRG.337RSIC"},{"$f":"Cen!C227","v":"R906"},0,{"$f":"Cen!F227","v":157.5},0]
[null,null,null,null,null,null,null,null,null,null,null,null,null,null,null,{"$f":"Cen!A231","v":"Podélný reling vlevo/vpravo, 450mm, šedý"},{"$f":"Cen!B231","v":"ZRG.387RSIC"},{"$f":"Cen!C231","v":"R906"},{"$f":"S7/5*4","v":0},{"$f":"Cen!F231","v":160},0]
[null,null,null,null,null,null,null,null,null,null,null,null,null,null,null,{"$f":"Cen!A235","v":"Podélný reling vlevo/vpravo, 500mm, šedý"},{"$f":"Cen!B235","v":"ZRG.437RSIC"},{"$f":"Cen!C235","v":"R906"},{"$f":"S8/5*4","v":0},{"$f":"Cen!F235","v":178.7},0]
[null,null,null,null,null,null,null,null,null,null,null,null,null,null,null,{"$f":"Cen!A239","v":"Podélný reling vlevo/vpravo, 550mm, šedý"},{"$f":"Cen!B239","v":"ZRG.487RSIC"},{"$f":"Cen!C239","v":"R906"},0,{"$f":"Cen!F239","v":169.4},0]
[null,null,null,null,null,null,null,null,null,null,null,null,null,null,null,{"$f":"Cen!A243","v":"Podélný reling vlevo/vpravo, 600mm, šedý"},{"$f":"Cen!B243","v":"ZRG.537RSIC"},{"$f":"Cen!C243","v":"R906"},0,{"$f":"Cen!F243","v":176.3},0]
[null,null,null,null,null,null,null,null,null,null,null,null,null,null,null,{"$f":"Cen!A247","v":"Podélný reling vlevo/vpravo, 650mm, šedý"},{"$f":"Cen!B247","v":"ZRG.587RSIC"},{"$f":"Cen!C247","v":"R906"},0,{"$f":"Cen!F247","v":183.2},0]
[]
[null,null,null,null,null,null,null,null,null,null,null,null,null,null,null,{"$f":"Cen!A328","v":"Sada držáků zásuvného prvku D, bílošedá"},{"$f":"Cen!B328","v":"Z36D0080"},{"$f":"Cen!C328","v":"WGR"},{"$f":"SUM($S$3:$S$11)/5*4","v":0},{"$f":"Cen!F328","v":63.3},{"$f":"S73*T73","v":0}]
[]
[]
[]
[]
[]
[null,null,null,null,null,null,null,null,null,null,null,null,null,null,null,{"$f":"Cen!A292","v":"Kovový zásuvný prvek D, 450mm, šedý"},{"$f":"Cen!B292","v":"Z37A417D"},{"$f":"Cen!C292","v":"R906"},{"$f":"S7/5*4","v":0},{"$f":"Cen!F292","v":156.5},{"$f":"S79*T79","v":0}]
[null,null,null,null,null,null,null,null,null,null,null,null,null,null,null,{"$f":"Cen!A295","v":"Kovový zásuvný prvek D, 500mm, šedý"},{"$f":"Cen!B295","v":"Z37A467D"},{"$f":"Cen!C295","v":"R906"},{"$f":"S8/5*4","v":0},{"$f":"Cen!F295","v":164.4},0]
[null,null,null,null,null,null,null,null,null,null,null,null,null,null,null,{"$f":"Cen!A298","v":"Kovový zásuvný prvek D, 550mm, šedý"},{"$f":"Cen!B298","v":"Z37A517D"},{"$f":"Cen!C298","v":"R906"},0,{"$f":"Cen!F298","v":177.6},0]
[null,null,null,null,null,null,null,null,null,null,null,null,null,null,null,{"$f":"Cen!A301","v":0},{"$f":"Cen!B301","v":0},{"$f":"Cen!C301","v":0},{"$f":"S10","v":0},{"$f":"Cen!F301","v":0},0]
[null,null,null,null,null,null,null,null,null,null,null,null,null,null,null,{"$f":"Cen!A304","v":"Kovový zásuvný prvek D, 650mm, šedý"},{"$f":"Cen!B304","v":"Z37A617D"},{"$f":"Cen!C304","v":"R906"},0,{"$f":"Cen!F304","v":204},0]
[]
[null,null,null,null,null,null,null,null,null,null,null,null,null,null,null,{"$f":"Cen!A632","v":"CLIP top 155° s nulovým přesahem, EXPANDO"},{"$f":"Cen!B632","v":"71T753EN"},{"$f":"Cen!C632","v":"NI"},{"$f":"SUM(SUM($D$24:$F$24, $D$32:$F$32)*3, SUM($J$24:$L$24, $J$32:$L$32)*4)","v":0},{"$f":"Cen!F632","v":112.7},{"$f":"S85*T85","v":0}]
[null,null,null,null,null,null,null,null,null,null,null,null,null,null,null,{"$f":"Cen!A639","v":"Podložka CLIP s excentrem, EXPANDO"},{"$f":"Cen!B639","v":"174H7100E"},{"$f":"Cen!C639","v":"NI"},{"$f":"S85","v":0},{"$f":"Cen!F639","v":15.1},0]
[null,null,null,null,null,null,null,null,null,null,null,null,null,null,null,{"$f":"Cen!A644","v":"BLUMOTION pro nasazení na závěs 155° a 125°"},{"$f":"Cen!B644","v":"973A7000"},{"$f":"Cen!C644","v":"NI"},{"$f":"SUM(SUM($D$24:$F$24, $D$32:$F$32)*2, SUM($J$24:$L$24, $J$32:$L$32)*3)","v":0},{"$f":"Cen!F644","v":41},0]
[]
[]
[null,null,null,null,null,null,null,null,null,null,null,null,null,null,null,null,null,null,null,null,{"$f":"SUM(U3:U87)","v":0}]
[]
[]
[]
[]
[]
[]
[]
[]
[]
[]
[]
[]
[null,null,null,null,null,null,null,null,null,null,null,null,null,null,null,{"$f":"List!$B$289&\"!\"","v":"Kovové zásuvné prvky pro nerez (Inox) se nevyrábí!"}]
[null,null,null,null,null,null,null,null,null,null,null,null,null,null,null,{"$f":"List!$B$290&\"!\"","v":"Kování naplánované na tomto listu se neprojeví v objednávce!"}]

{"sheet":"ADM45R","index":39,"n_rows":90,"n_cols":21,"rows_kept":90,"cut":false,"hidden":false,"merged":[]}
[]
[null,null,null,null,null,null,null,null,null,null,null,{"$f":"\"SPACE-TOWER, \"&List!$B$60&\" 4xD + 1xM\"","v":"SPACE-TOWER, sestava 4xD + 1xM"},null,null,null,"Počty skříní →",{"$f":"SUM(D24:F24)","v":0},{"$f":"SUM(J24:L24)","v":0},{"$f":"SUM(D32:F32)","v":0},{"$f":"SUM(J32:L32)","v":0}]
[null,null,null,null,null,null,null,null,null,null,null,{"$f":"List!$B$64","v":"podélný reling"},null,{"$f":"List!$B$11&\":\"","v":"Zpět na:"},null,{"$f":"Cen!A28","v":"Bočnice M 270mm, šedé"},{"$f":"Cen!B28","v":"378M2702SA"},{"$f":"Cen!C28","v":"R906"},null,{"$f":"Cen!F28","v":350.6},{"$f":"S3*T3","v":0}]
[null,null,null,null,null,null,null,null,{"$f":"List!$B$72&\":\"","v":"bočnice:"},null,"M",null,null,{"$f":"\" \"&List!$B$13","v":" Úvod"},null,{"$f":"Cen!A32","v":"Bočnice M 300mm, šedé"},{"$f":"Cen!B32","v":"378M3002SA"},{"$f":"Cen!C32","v":"R906"},null,{"$f":"Cen!F32","v":350.6},0]
[null,null,null,null,null,null,null,null,{"$f":"List!$B$27&\":\"","v":"barva:"},null,{"$f":"Form!$O$2","v":"šedá"},null,null,{"$f":"\" \"&List!$B$4","v":" Výběr zásuvek a výsuvů"},null,{"$f":"Cen!A36","v":"Bočnice M 350mm, šedé"},{"$f":"Cen!B36","v":"378M3502SA"},{"$f":"Cen!C36","v":"R906"},null,{"$f":"Cen!F36","v":350.6},0]
[null,null,null,null,null,null,null,null,null,null,null,null,null,null,null,{"$f":"Cen!A40","v":"Bočnice M 400mm, šedé"},{"$f":"Cen!B40","v":"378M4002SA"},{"$f":"Cen!C40","v":"R906"},null,{"$f":"Cen!F40","v":354.3},0]
[null,null,null,null,null,null,null,null,{"$f":"List!$B$102&\" KB:\"","v":"Šířka korpusu KB:"},null,"450, 600 mm",null,null,{"$f":"List!$B$12&\":\"","v":"Pokračovat na:"},null,{"$f":"Cen!A44","v":"Bočnice M 450mm, šedé"},{"$f":"Cen!B44","v":"378M4502SA"},{"$f":"Cen!C44","v":"R906"},{"$f":"SUM($D$24, $J$24, $D$32, $J$32)*5","v":0},{"$f":"Cen!F44","v":358.1},0]
[null,null,null,null,null,null,null,null,null,null,null,null,null,{"$f":"\" \"&List!$B$5","v":" Výběr doplňků"},null,{"$f":"Cen!A48","v":"Bočnice M 500mm, šedé"},{"$f":"Cen!B48","v":"378M5002SA"},{"$f":"Cen!C48","v":"R906"},{"$f":"SUM($E$24, $K$24, $E$32, $K$32)*5","v":0},{"$f":"Cen!F48","v":397.4},0]
[null,null,null,null,null,null,null,null,null,null,null,null,null,{"$f":"\" \"&List!$B$6","v":" Výběr SERVO-DRIVE"},null,{"$f":"Cen!A52","v":"Bočnice M 550mm, šedé"},{"$f":"Cen!B52","v":"378M5502SA"},{"$f":"Cen!C52","v":"R906"},{"$f":"SUM($F$24, $L$24, $F$32, $L$32)*5","v":0},{"$f":"Cen!F52","v":399.2},0]
[null,null,null,null,null,null,null,null,null,null,null,null,null,{"$f":"\" \"&List!$B$7","v":" Výběr ORGA-LINE"},null,{"$f":"Cen!A56","v":"Bočnice M 600mm, šedé"},{"$f":"Cen!B56","v":"378M6002SA"},{"$f":"Cen!C56","v":"R906"},null,{"$f":"Cen!F56","v":508.3},0]
[null,null,null,null,null,null,null,null,null,null,null,null,null,{"$f":"\" \"&List!$B$18","v":" Souhrn"},null,{"$f":"Cen!A60","v":"Bočnice M 650mm, šedé"},{"$f":"Cen!B60","v":"378M6502SA"},{"$f":"Cen!C60","v":"R906"},null,{"$f":"Cen!F60","v":536.29999999999995},0]
[]
[null,null,null,null,null,null,null,null,null,null,null,null,null,null,null,{"$f":"Cen!A94","v":"Korpusové lišty 270mm, BLUMOTION, 30kg"},{"$f":"Cen!B94","v":"578.2701B"},{"$f":"Cen!C94","v":"ZN"},null,{"$f":"Cen!F94","v":459.2},0]
[null,null,null,null,null,null,null,null,null,null,null,null,null,null,null,{"$f":"Cen!A95","v":"Korpusové lišty 300mm, BLUMOTION, 30kg"},{"$f":"Cen!B95","v":"578.3001B"},{"$f":"Cen!C95","v":"ZN"},null,{"$f":"Cen!F95","v":459.2},0]
[null,null,null,null,null,null,null,null,null,null,null,null,null,null,null,{"$f":"Cen!A96","v":"Korpusové lišty 350mm, BLUMOTION, 30kg"},{"$f":"Cen!B96","v":"578.3501B"},{"$f":"Cen!C96","v":"ZN"},null,{"$f":"Cen!F96","v":459.2},0]
[null,null,null,null,null,null,null,null,null,null,null,null,null,null,null,{"$f":"Cen!A97","v":"Korpusové lišty 400mm, BLUMOTION, 30kg"},{"$f":"Cen!B97","v":"578.4001B"},{"$f":"Cen!C97","v":"ZN"},null,{"$f":"Cen!F97","v":462.6},0]
[null,{"$f":"\"   \"&List!B261","v":"   Zadejte počty skříní podle šířky korpusu a délky výsuvů"},null,null,null,null,null,null,null,null,null,null,null,null,null,{"$f":"Cen!A98","v":"Korpusové lišty 450mm, BLUMOTION, 30kg"},{"$f":"Cen!B98","v":"578.4501B"},{"$f":"Cen!C98","v":"ZN"},{"$f":"IF($D$26=0, $D$24*4, $D$24*$D$26)+IF($J$26=0, $J$24*2,$J$24*$J$26)","v":0},{"$f":"Cen!F98","v":466},0]
[null,{"$f":"\"   \"&List!B265","v":"   Zadejte počet korpusových lišt, pokud chcete jiné, než přednastavené složení"},null,null,null,null,null,null,null,null,null,null,null,null,null,{"$f":"Cen!A99","v":"Korpusové lišty 450mm, BLUMOTION, 65kg"},{"$f":"Cen!B99","v":"576.4501B"},{"$f":"Cen!C99","v":"ZN"},{"$f":"IF($D$26=0, $D$24*1, $D$24*$D$27)+IF($J$26=0, $J$24*3,$J$24*$J$27)","v":0},{"$f":"Cen!F99","v":560.79999999999995},0]
[null,{"$f":"\"         \"&List!B263","v":"         Zadejte počty 30kg korpusových lišt, 65kg lišty se dopočítají"},null,null,null,null,null,null,null,null,null,null,null,null,null,{"$f":"Cen!A100","v":"Korpusové lišty 500mm, BLUMOTION, 30kg"},{"$f":"Cen!B100","v":"578.5001B"},{"$f":"Cen!C100","v":"ZN"},{"$f":"IF($E$26=0, $E$24*4, $E$24*$E$26)+IF($K$26=0, $K$24*2,$K$24*$K$26)","v":0},{"$f":"Cen!F100","v":469.5},0]
[null,null,null,null,null,null,null,null,null,null,null,null,null,null,null,{"$f":"Cen!A101","v":"Korpusové lišty 500mm, BLUMOTION, 65kg"},{"$f":"Cen!B101","v":"576.5001B"},{"$f":"Cen!C101","v":"ZN"},{"$f":"IF($E$26=0, $E$24*1, $E$24*$E$27)+IF($K$26=0, $K$24*3,$K$24*$K$27)","v":0},{"$f":"Cen!F101","v":620.4},0]
[null,{"$f":"\"▼   \"&List!$B$102&\" KB 450 mm\"","v":"▼   Šířka korpusu KB 450 mm"},null,null,null,null,null,{"$f":"\"▼   \"&List!$B$102&\" KB 600 mm\"","v":"▼   Šířka korpusu KB 600 mm"},null,null,null,null,null,null,null,{"$f":"Cen!A102","v":"Korpusové lišty 550mm, BLUMOTION, 30kg"},{"$f":"Cen!B102","v":"578.5501B"},{"$f":"Cen!C102","v":"ZN"},{"$f":"IF($F$26=0, $F$24*4, $F$24*$F$26)+IF($L$26=0, $L$24*2,$L$24*$L$26)","v":0},{"$f":"Cen!F102","v":493.5},0]
[null,"       BLUMOTION",null,null,null,null,null,"       BLUMOTION",null,null,null,null,null,null,null,{"$f":"Cen!A103","v":"Korpusové lišty 550mm, BLUMOTION, 65kg"},{"$f":"Cen!B103","v":"576.5501B"},{"$f":"Cen!C103","v":"ZN"},{"$f":"IF($F$26=0, $F$24*1, $F$24*$F$27)+IF($L$26=0, $L$24*3,$L$24*$L$27)","v":0},{"$f":"Cen!F103","v":644.29999999999995},0]
[null,null,{"$f":"List!$B$45&\":\"","v":"Jmenovitá délka:"},450,500,550,null,null,{"$f":"List!$B$45&\":\"","v":"Jmenovitá délka:"},450,500,550,null,null,null,{"$f":"Cen!A104","v":"Korpusové lišty 600mm, BLUMOTION, 30kg"},{"$f":"Cen!B104","v":"578.6001B"},{"$f":"Cen!C104","v":"ZN"},null,{"$f":"Cen!F104","v":523.9},0]
[null,null,{"$f":"List!$B$260&\":\"","v":"Počet skříní:"},null,null,null,null,null,{"$f":"List!$B$260&\":\"","v":"Počet skříní:"},null,null,null,null,null,null,{"$f":"Cen!A105","v":"Korpusové lišty 600mm, BLUMOTION, 65kg"},{"$f":"Cen!B105","v":"576.6001B"},{"$f":"Cen!C105","v":"ZN"},null,{"$f":"Cen!F105","v":661.1},0]
[null,{"$f":"List!$B$264","v":"Korpusové lišty"},null,null,null,null,null,{"$f":"List!$B$264","v":"Korpusové lišty"},null,null,null,null,null,null,null,{"$f":"Cen!A106","v":"Korpusové lišty 650mm, BLUMOTION, 65kg"},{"$f":"Cen!B106","v":"576.6501B"},{"$f":"Cen!C106","v":"ZN"},null,{"$f":"Cen!F106","v":751.2},0]
[null,"30 kg","4 ks*",null,null,null,null,"30 kg",{"$f":"\"2 ks*\"","v":"2 ks*"},null,null,null,null,null,null,{"$f":"Cen!A109","v":"Korp. lišty TIP-ON BLUMOTION, 270mm, 30 kg"},{"$f":"Cen!B109","v":"578.2701M"},{"$f":"Cen!C109","v":"ZN"},null,{"$f":"Cen!F109","v":417.4},0]
[null,"65 kg","1 ks*",{"$f":"IF(D26>0, IF(D26>5,0, 5-D26),0)","v":0},{"$f":"IF(E26>0, IF(E26>5,0, 5-E26),0)","v":0},{"$f":"IF(F26>0, IF(F26>5,0, 5-F26),0)","v":0},null,"65 kg",{"$f":"\"3 ks*\"","v":"3 ks*"},{"$f":"IF(J26>0, IF(J26>5,0, 5-J26),0)","v":0},{"$f":"IF(K26>0, IF(K26>5,0, 5-K26),0)","v":0},{"$f":"IF(L26>0, IF(L26>5,0, 5-L26),0)","v":0},null,null,null,{"$f":"Cen!A110","v":"Korp. lišty TIP-ON BLUMOTION, 300mm, 30 kg"},{"$f":"Cen!B110","v":"578.3001M"},{"$f":"Cen!C110","v":"ZN"},null,{"$f":"Cen!F110","v":417.4},0]
[null,null,null,{"$f":"IF(D26>5,\"Max. 5!\",\" \")","v":" "},{"$f":"IF(E26>5,\"Max. 5!\",\" \")","v":" "},{"$f":"IF(F26>5,\"Max. 5!\",\" \")","v":" "},null,null,null,{"$f":"IF(J26>5,\"Max. 5!\",\" \")","v":" "},{"$f":"IF(K26>5,\"Max. 5!\",\" \")","v":" "},{"$f":"IF(L26>5,\"Max. 5!\",\" \")","v":" "},null,null,null,{"$f":"Cen!A111","v":"Korp. lišty TIP-ON BLUMOTION, 350mm, 30 kg"},{"$f":"Cen!B111","v":"578.3501M"},{"$f":"Cen!C111","v":"ZN"},null,{"$f":"Cen!F111","v":417.4},0]
[null,null,null,null,null,null,null,null,null,null,null,null,null,null,null,{"$f":"Cen!A112","v":"Korp. lišty TIP-ON BLUMOTION, 400mm, 30 kg"},{"$f":"Cen!B112","v":"578.4001M"},{"$f":"Cen!C112","v":"ZN"},null,{"$f":"Cen!F112","v":420.5},0]
[null,"        TIP-ON BLUMOTION",null,null,null,null,null,"        TIP-ON BLUMOTION",null,null,null,null,null,null,null,{"$f":"Cen!A113","v":"Korp. lišty TIP-ON BLUMOTION, 450mm, 30 kg"},{"$f":"Cen!B113","v":"578.4501M"},{"$f":"Cen!C113","v":"ZN"},{"$f":"IF($D$34=0, $D$32*4, $D$32*$D$34)+IF($J$34=0, $J$32*2,$J$32*$J$34)","v":0},{"$f":"Cen!F113","v":423.7},0]
[null,null,{"$f":"List!$B$45&\":\"","v":"Jmenovitá délka:"},450,500,550,null,null,{"$f":"List!$B$45&\":\"","v":"Jmenovitá délka:"},450,500,550,null,null,null,{"$f":"Cen!A114","v":"Korp. lišty TIP-ON BLUMOTION, 450mm, 65 kg"},{"$f":"Cen!B114","v":"578.4501M"},{"$f":"Cen!C114","v":"ZN"},{"$f":"IF($D$34=0, $D$32*1, $D$32*$D$35)+IF($J$34=0, $J$32*3,$J$32*$J$35)","v":0},{"$f":"Cen!F114","v":560.79999999999995},0]
[null,null,{"$f":"List!$B$260&\":\"","v":"Počet skříní:"},null,null,null,null,null,{"$f":"List!$B$260&\":\"","v":"Počet skříní:"},null,null,null,null,null,null,{"$f":"Cen!A115","v":"Korp. lišty TIP-ON BLUMOTION, 500mm, 30 kg"},{"$f":"Cen!B115","v":"578.5001M"},{"$f":"Cen!C115","v":"ZN"},{"$f":"IF($E$34=0, $E$32*4, $E$32*$E$34)+IF($K$34=0, $K$32*2,$K$32*$K$34)","v":0},{"$f":"Cen!F115","v":426.8},0]
[null,{"$f":"List!$B$264","v":"Korpusové lišty"},null,null,null,null,null,{"$f":"List!$B$264","v":"Korpusové lišty"},null,null,null,null,null,null,null,{"$f":"Cen!A116","v":"Korp. lišty TIP-ON BLUMOTION, 500mm, 65 kg"},{"$f":"Cen!B116","v":"576.5001M"},{"$f":"Cen!C116","v":"ZN"},{"$f":"IF($E$34=0, $E$32*1, $E$32*$E$35)+IF($K$34=0, $K$32*3,$K$32*$K$35)","v":0},{"$f":"Cen!F116","v":564},0]
[null,"30 kg","4 ks*",null,null,null,null,"30 kg",{"$f":"\"2 ks*\"","v":"2 ks*"},null,null,null,null,null,null,{"$f":"Cen!A117","v":"Korp. lišty TIP-ON BLUMOTION, 550mm, 30 kg"},{"$f":"Cen!B117","v":"578.5501M"},{"$f":"Cen!C117","v":"ZN"},{"$f":"IF($F$34=0, $F$32*4, $F$32*$F$34)+IF($L$34=0, $L$32*2,$L$32*$L$34)","v":0},{"$f":"Cen!F117","v":448.6},0]
[null,"65 kg","1 ks*",{"$f":"IF(D34>0,IF(D34>5,0,5-D34),0)","v":0},{"$f":"IF(E34>0,IF(E34>5,0,5-E34),0)","v":0},{"$f":"IF(F34>0,IF(F34>5,0,5-F34),0)","v":0},null,"65 kg",{"$f":"\"3 ks*\"","v":"3 ks*"},{"$f":"IF(J34>0,IF(J34>5,0,5-J34),0)","v":0},{"$f":"IF(K34>0,IF(K34>5,0,5-K34),0)","v":0},{"$f":"IF(L34>0,IF(L34>5,0,5-L34),0)","v":0},null,null,null,{"$f":"Cen!A118","v":"Korp. lišty TIP-ON BLUMOTION, 550mm, 65 kg"},{"$f":"Cen!B118","v":"576.5501M"},{"$f":"Cen!C118","v":"ZN"},{"$f":"IF($F$34=0, $F$32*1, $F$32*$F$35)+IF($L$34=0, $L$32*3,$L$32*$L$35)","v":0},{"$f":"Cen!F118","v":585.79999999999995},0]
[null,null,null,{"$f":"IF(D34>5,\"Max. 5!\",\" \")","v":" "},{"$f":"IF(E34>5,\"Max. 5!\",\" \")","v":" "},{"$f":"IF(F34>5,\"Max. 5!\",\" \")","v":" "},null,null,null,{"$f":"IF(J34>5,\"Max. 5!\",\" \")","v":" "},{"$f":"IF(K34>5,\"Max. 5!\",\" \")","v":" "},{"$f":"IF(L34>5,\"Max. 5!\",\" \")","v":" "},null,null,null,{"$f":"Cen!A119","v":"Korp. lišty TIP-ON BLUMOTION, 600mm, 30 kg"},{"$f":"Cen!B119","v":"578.6001M"},{"$f":"Cen!C119","v":"ZN"},null,{"$f":"Cen!F119","v":542},0]
[null,null,null,null,null,null,null,null,null,null,null,null,null,null,null,{"$f":"Cen!A120","v":"Korp. lišty TIP-ON BLUMOTION, 600mm, 65 kg"},{"$f":"Cen!B120","v":"576.6001M"},{"$f":"Cen!C120","v":"ZN"},null,{"$f":"Cen!F120","v":661.1},0]
[null,{"$f":"\"       * \"&List!$B$266","v":"       * Nastavené počty korpusových lišt"},null,null,null,null,null,null,null,null,null,null,null,null,null,{"$f":"Cen!A121","v":"Korp. lišty TIP-ON BLUMOTION, 650mm, 65 kg"},{"$f":"Cen!B121","v":"576.6501M"},{"$f":"Cen!C121","v":"ZN"},null,{"$f":"Cen!F121","v":682.9},0]
[null,{"$f":"\"     ** \"&List!$B$269","v":"     ** Jednotky TIP-ON BLUMOTION jsou přidány automaticky"}]
[null,{"$f":"\"        \"&List!B270","v":"        Synchronizace je přidána automaticky. "},null,null,null,null,null,null,null,null,null,null,null,null,null,{"$f":"Cen!A124","v":"Sada jednotek TIP-ON BLUMOTION, S0"},{"$f":"Cen!B124","v":"T60B3030"},{"$f":"Cen!C124","v":"W"},null,{"$f":"Cen!F124","v":404.5},{"$f":"S40*T40","v":0}]
[null,null,null,null,null,null,null,null,null,null,null,null,null,null,null,{"$f":"Cen!A125","v":"Sada jednotek TIP-ON BLUMOTION, S1"},{"$f":"Cen!B125","v":"T60B3130"},{"$f":"Cen!C125","v":"R735"},null,{"$f":"Cen!F125","v":404.5},0]
[null,null,null,null,null,null,null,null,null,null,null,null,null,null,null,{"$f":"Cen!A126","v":"Sada jednotek TIP-ON BLUMOTION, L1"},{"$f":"Cen!B126","v":"T60B3330"},{"$f":"Cen!C126","v":"R735"},null,{"$f":"Cen!F126","v":404.5},0]
[null,{"$f":"List!$B$23&\": *\"","v":"Volitelně: *"},null,null,null,null,null,null,null,null,null,null,null,null,null,{"$f":"Cen!A127","v":"Sada jednotek TIP-ON BLUMOTION, L3"},{"$f":"Cen!B127","v":"T60B3530"},{"$f":"Cen!C127","v":"R737"},{"$f":"SUM(S30, S32, S34)","v":0},{"$f":"Cen!F127","v":404.5},0]
[null,{"$f":"Cen!A328","v":"Sada držáků zásuvného prvku D, bílošedá"},null,null,null,null,null,{"$f":"Cen!B328","v":"Z36D0080"},{"$f":"Cen!C328","v":"WGR"},null,null,null,null,null,null,{"$f":"Cen!A128","v":"Sada jednotek TIP-ON BLUMOTION, L5"},{"$f":"Cen!B128","v":"T60B3560"},{"$f":"Cen!C128","v":"S"},{"$f":"SUM(S31, S33, S35)","v":0},{"$f":"Cen!F128","v":404.5},0]
[]
[null,{"$f":"\"     * \"&List!$B$148","v":"     * Sada držáků, pro vlastní zásuvný prvek"},null,null,null,null,null,null,null,null,null,null,null,null,null,{"$f":"Cen!A130","v":"Synchronizační adaptér"},{"$f":"Cen!B130","v":"T60.000D"},{"$f":"Cen!C130","v":"R735"},{"$f":"SUM($S$40:$S$44)*2","v":0},{"$f":"Cen!F130","v":5.8},0]
[null,{"$f":"\"       \"&List!$B$150&\"!\"","v":"       Cena držáků zásuvného prvku není zahrnuta do cen jednotlivých výsuvů!"},null,null,null,null,null,null,null,null,null,null,null,null,null,{"$f":"Cen!A131","v":"Hřídel synchronizace"},{"$f":"Cen!B131","v":"T60.1125W"},{"$f":"Cen!C131","v":"GR"},{"$f":"CEILING(SUM(SUM($D$32:$F$32)/6, SUM($J$32:$L$32)/3), 1)*5","v":0},{"$f":"Cen!F131","v":95.6},0]
[null,null,null,null,null,null,null,null,null,null,null,null,null,null,null,{"$f":"Cen!A132","v":"Jednodílná synchronizace"},{"$f":"Cen!B132","v":"T60.300D"},{"$f":"Cen!C132","v":"R735"},null,{"$f":"Cen!F132","v":23.2},0]
[null,null,null,null,null,null,null,null,null,null,null,null,null,null,null,{"$f":"Cen!A134","v":"Držák hřídele synchronizace"},{"$f":"Cen!B134","v":"T60B000H"},{"$f":"Cen!C134","v":"NI"},null,{"$f":"Cen!F134","v":6},0]
[null,null,null,null,null,null,null,null,null,null,null,null,null,null,null,{"$f":"Cen!A135","v":"Podpěrný úhelník pro dno"},{"$f":"Cen!B135","v":"Z96.2011"},{"$f":"Cen!C135","v":"R737"},null,{"$f":"Cen!F135","v":29.8},0]
[]
[null,null,null,null,null,null,null,null,null,null,null,null,null,null,null,{"$f":"Cen!A143","v":"Držáky zadní stěny N, šedé"},{"$f":"Cen!B143","v":"Z30N000S.04"},{"$f":"Cen!C143","v":"R906"},null,{"$f":"Cen!F143","v":36.5},{"$f":"S52*T52","v":0}]
[null,null,null,null,null,null,null,null,null,null,null,null,null,null,null,{"$f":"Cen!A147","v":"Držáky zadní stěny M, šedé"},{"$f":"Cen!B147","v":"Z30M000S.04"},{"$f":"Cen!C147","v":"R906"},{"$f":"SUM($S$3:$S$11)/5","v":0},{"$f":"Cen!F147","v":40.200000000000003},{"$f":"S53*T53","v":0}]
[null,null,null,null,null,null,null,null,null,null,null,null,null,null,null,{"$f":"Cen!A151","v":"Držáky zadní stěny K, šedé"},{"$f":"Cen!B151","v":"Z30K000S"},{"$f":"Cen!C151","v":"R906"},null,{"$f":"Cen!F151","v":67.400000000000006},0]
[null,null,null,null,null,null,null,null,null,null,null,null,null,null,null,{"$f":"Cen!A154","v":"Držáky zadní stěny B, šedé"},{"$f":"Cen!B154","v":"Z30B000S.04"},{"$f":"Cen!C154","v":"R906"},null,{"$f":"Cen!F154","v":48.8},0]
[null,null,null,null,null,null,null,null,null,null,null,null,null,null,null,{"$f":"Cen!A158","v":"Držáky zadní stěny C, šedé"},{"$f":"Cen!B158","v":"Z30C000S"},{"$f":"Cen!C158","v":"R906"},null,{"$f":"Cen!F158","v":71},0]
[null,null,null,null,null,null,null,null,null,null,null,null,null,null,null,{"$f":"Cen!A162","v":"Držáky zadní stěny D, šedé"},{"$f":"Cen!B162","v":"Z30D000S"},{"$f":"Cen!C162","v":"R906"},{"$f":"SUM($S$3:$S$11)/5*4","v":0},{"$f":"Cen!F162","v":78.099999999999994},{"$f":"S57*T57","v":0}]
[null,null,null,null,null,null,null,null,null,null,null,null,null,null,null,{"$f":"Cen!A178","v":"Držáky čela vnitřní zásuvky M, bílošedé"},{"$f":"Cen!B178","v":"ZIF.71M0"},{"$f":"Cen!C178","v":"WGR"},{"$f":"SUM($S$3:$S$11)/5","v":0},{"$f":"Cen!F178","v":105.6},{"$f":"S58*T58","v":0}]
[null,null,null,null,null,null,null,null,null,null,null,null,null,null,null,{"$f":"Cen!A189","v":"Držáky čela vnitřního výsuvu D bílošedé"},{"$f":"Cen!B189","v":"ZIF.74D0"},{"$f":"Cen!C189","v":"WGR"},{"$f":"SUM($S$3:$S$11)/5*4","v":0},{"$f":"Cen!F189","v":156.30000000000001},0]
[null,null,null,null,null,null,null,null,null,null,null,null,null,null,null,{"$f":"Cen!A194","v":"Přední díl vnitřní zásuvky, šedý"},{"$f":"Cen!B194","v":"Z31L1036A  "},{"$f":"Cen!C194","v":"R906"},{"$f":"CEILING(SUM(SUM($D$24:$F$24, $D$32:$F$32)/3, SUM($J$24:$L$24, $J$32:$L$32)/2), 1)*5","v":0},{"$f":"Cen!F194","v":363.8},0]
[null,null,null,null,null,null,null,null,null,null,null,null,null,null,null,{"$f":"Cen!A199","v":"Příčný reling vnitřní zásuvky, šedý"},{"$f":"Cen!B199","v":"ZRG.1046Z "},{"$f":"Cen!C199","v":"R906"},{"$f":"CEILING(SUM(SUM($D$24:$F$24, $D$32:$F$32)/3, SUM($J$24:$L$24, $J$32:$L$32)/2), 1)*4","v":0},{"$f":"Cen!F199","v":169.4},0]
[]
[null,null,null,null,null,null,null,null,null,null,null,null,null,null,null,{"$f":"Cen!A215","v":"Podélný reling vlevo/vpravo, 270mm, šedý"},{"$f":"Cen!B215","v":"ZRG.207RSIC"},{"$f":"Cen!C215","v":"R906"},{"$f":"S3","v":0},{"$f":"Cen!F215","v":150},{"$f":"S63*T63","v":0}]
[null,null,null,null,null,null,null,null,null,null,null,null,null,null,null,{"$f":"Cen!A219","v":"Podélný reling vlevo/vpravo, 300mm, šedý"},{"$f":"Cen!B219","v":"ZRG.237RSIC"},{"$f":"Cen!C219","v":"R906"},0,{"$f":"Cen!F219","v":152.5},0]
[null,null,null,null,null,null,null,null,null,null,null,null,null,null,null,{"$f":"Cen!A223","v":"Podélný reling vlevo/vpravo, 350mm, šedý"},{"$f":"Cen!B223","v":"ZRG.287RSIC"},{"$f":"Cen!C223","v":"R906"},0,{"$f":"Cen!F223","v":155},0]
[null,null,null,null,null,null,null,null,null,null,null,null,null,null,null,{"$f":"Cen!A227","v":"Podélný reling vlevo/vpravo, 400mm, šedý"},{"$f":"Cen!B227","v":"ZRG.337RSIC"},{"$f":"Cen!C227","v":"R906"},0,{"$f":"Cen!F227","v":157.5},0]
[null,null,null,null,null,null,null,null,null,null,null,null,null,null,null,{"$f":"Cen!A231","v":"Podélný reling vlevo/vpravo, 450mm, šedý"},{"$f":"Cen!B231","v":"ZRG.387RSIC"},{"$f":"Cen!C231","v":"R906"},{"$f":"S7/5*4","v":0},{"$f":"Cen!F231","v":160},0]
[null,null,null,null,null,null,null,null,null,null,null,null,null,null,null,{"$f":"Cen!A235","v":"Podélný reling vlevo/vpravo, 500mm, šedý"},{"$f":"Cen!B235","v":"ZRG.437RSIC"},{"$f":"Cen!C235","v":"R906"},{"$f":"S8/5*4","v":0},{"$f":"Cen!F235","v":178.7},0]
[null,null,null,null,null,null,null,null,null,null,null,null,null,null,null,{"$f":"Cen!A239","v":"Podélný reling vlevo/vpravo, 550mm, šedý"},{"$f":"Cen!B239","v":"ZRG.487RSIC"},{"$f":"Cen!C239","v":"R906"},0,{"$f":"Cen!F239","v":169.4},0]
[null,null,null,null,null,null,null,null,null,null,null,null,null,null,null,{"$f":"Cen!A243","v":"Podélný reling vlevo/vpravo, 600mm, šedý"},{"$f":"Cen!B243","v":"ZRG.537RSIC"},{"$f":"Cen!C243","v":"R906"},0,{"$f":"Cen!F243","v":176.3},0]
[null,null,null,null,null,null,null,null,null,null,null,null,null,null,null,{"$f":"Cen!A247","v":"Podélný reling vlevo/vpravo, 650mm, šedý"},{"$f":"Cen!B247","v":"ZRG.587RSIC"},{"$f":"Cen!C247","v":"R906"},0,{"$f":"Cen!F247","v":183.2},0]
[]
[null,null,null,null,null,null,null,null,null,null,null,null,null,null,null,{"$f":"Cen!A328","v":"Sada držáků zásuvného prvku D, bílošedá"},{"$f":"Cen!B328","v":"Z36D0080"},{"$f":"Cen!C328","v":"WGR"},{"$f":"J44","v":0},{"$f":"Cen!F328","v":63.3},{"$f":"S73*T73","v":0}]
[]
[]
[]
[]
[]
[]
[]
[]
[]
[]
[]
[null,null,null,null,null,null,null,null,null,null,null,null,null,null,null,{"$f":"Cen!A632","v":"CLIP top 155° s nulovým přesahem, EXPANDO"},{"$f":"Cen!B632","v":"71T753EN"},{"$f":"Cen!C632","v":"NI"},{"$f":"SUM(SUM($D$24:$F$24, $D$32:$F$32)*3, SUM($J$24:$L$24, $J$32:$L$32)*4)","v":0},{"$f":"Cen!F632","v":112.7},{"$f":"S85*T85","v":0}]
[null,null,null,null,null,null,null,null,null,null,null,null,null,null,null,{"$f":"Cen!A639","v":"Podložka CLIP s excentrem, EXPANDO"},{"$f":"Cen!B639","v":"174H7100E"},{"$f":"Cen!C639","v":"NI"},{"$f":"S85","v":0},{"$f":"Cen!F639","v":15.1},0]
[null,null,null,null,null,null,null,null,null,null,null,null,null,null,null,{"$f":"Cen!A644","v":"BLUMOTION pro nasazení na závěs 155° a 125°"},{"$f":"Cen!B644","v":"973A7000"},{"$f":"Cen!C644","v":"NI"},{"$f":"SUM(SUM($D$24:$F$24, $D$32:$F$32)*2, SUM($J$24:$L$24, $J$32:$L$32)*3)","v":0},{"$f":"Cen!F644","v":41},0]
[]
[]
[null,null,null,null,null,null,null,null,null,null,null,null,null,null,null,null,null,null,null,null,{"$f":"SUM(U3:U87)","v":0}]

{"sheet":"ADD45G","index":40,"n_rows":90,"n_cols":21,"rows_kept":90,"cut":false,"hidden":false,"merged":[]}
[]
[null,null,null,null,null,null,null,null,null,null,null,{"$f":"\"SPACE-TOWER, \"&List!$B$60&\" 5xD\"","v":"SPACE-TOWER, sestava 5xD"},null,null,null,"Počty skříní →",{"$f":"SUM(D24:F24)","v":0},{"$f":"SUM(J24:L24)","v":0},{"$f":"SUM(D32:F32)","v":0},{"$f":"SUM(J32:L32)","v":0}]
[null,null,null,null,null,null,null,null,null,null,null,{"$f":"List!$B$62","v":"zásuvný prvek sklo"},null,{"$f":"List!$B$11&\":\"","v":"Zpět na:"},null,{"$f":"Cen!A28","v":"Bočnice M 270mm, šedé"},{"$f":"Cen!B28","v":"378M2702SA"},{"$f":"Cen!C28","v":"R906"},null,{"$f":"Cen!F28","v":350.6},{"$f":"S3*T3","v":0}]
[null,null,null,null,null,null,null,null,{"$f":"List!$B$72&\":\"","v":"bočnice:"},null,"M",null,null,{"$f":"\" \"&List!$B$13","v":" Úvod"},null,{"$f":"Cen!A32","v":"Bočnice M 300mm, šedé"},{"$f":"Cen!B32","v":"378M3002SA"},{"$f":"Cen!C32","v":"R906"},null,{"$f":"Cen!F32","v":350.6},0]
[null,null,null,null,null,null,null,null,{"$f":"List!$B$27&\":\"","v":"barva:"},null,{"$f":"Form!$O$2","v":"šedá"},null,null,{"$f":"\" \"&List!$B$4","v":" Výběr zásuvek a výsuvů"},null,{"$f":"Cen!A36","v":"Bočnice M 350mm, šedé"},{"$f":"Cen!B36","v":"378M3502SA"},{"$f":"Cen!C36","v":"R906"},null,{"$f":"Cen!F36","v":350.6},0]
[null,null,null,null,null,null,null,null,{"$f":"List!$B$32&\":\"","v":"sklo:"},null,{"$f":"Form!$O$8","v":"čiré"},null,null,null,null,{"$f":"Cen!A40","v":"Bočnice M 400mm, šedé"},{"$f":"Cen!B40","v":"378M4002SA"},{"$f":"Cen!C40","v":"R906"},null,{"$f":"Cen!F40","v":354.3},0]
[null,null,null,null,null,null,null,null,{"$f":"List!$B$102&\" KB:\"","v":"Šířka korpusu KB:"},null,"450, 600 mm",null,null,{"$f":"List!$B$12&\":\"","v":"Pokračovat na:"},null,{"$f":"Cen!A44","v":"Bočnice M 450mm, šedé"},{"$f":"Cen!B44","v":"378M4502SA"},{"$f":"Cen!C44","v":"R906"},{"$f":"SUM($D$24, $J$24, $D$32, $J$32)*5","v":0},{"$f":"Cen!F44","v":358.1},0]
[null,null,null,null,null,null,null,null,null,null,null,null,null,{"$f":"\" \"&List!$B$5","v":" Výběr doplňků"},null,{"$f":"Cen!A48","v":"Bočnice M 500mm, šedé"},{"$f":"Cen!B48","v":"378M5002SA"},{"$f":"Cen!C48","v":"R906"},{"$f":"SUM($E$24, $K$24, $E$32, $K$32)*5","v":0},{"$f":"Cen!F48","v":397.4},0]
[null,null,null,null,null,null,null,null,null,null,null,null,null,{"$f":"\" \"&List!$B$6","v":" Výběr SERVO-DRIVE"},null,{"$f":"Cen!A52","v":"Bočnice M 550mm, šedé"},{"$f":"Cen!B52","v":"378M5502SA"},{"$f":"Cen!C52","v":"R906"},{"$f":"SUM($F$24, $L$24, $F$32, $L$32)*5","v":0},{"$f":"Cen!F52","v":399.2},0]
[null,null,null,null,null,null,null,null,null,null,null,null,null,{"$f":"\" \"&List!$B$7","v":" Výběr ORGA-LINE"},null,{"$f":"Cen!A56","v":"Bočnice M 600mm, šedé"},{"$f":"Cen!B56","v":"378M6002SA"},{"$f":"Cen!C56","v":"R906"},null,{"$f":"Cen!F56","v":508.3},0]
[null,null,null,null,null,null,null,null,null,null,null,null,null,{"$f":"\" \"&List!$B$18","v":" Souhrn"},null,{"$f":"Cen!A60","v":"Bočnice M 650mm, šedé"},{"$f":"Cen!B60","v":"378M6502SA"},{"$f":"Cen!C60","v":"R906"},null,{"$f":"Cen!F60","v":536.29999999999995},0]
[]
[null,null,null,null,null,null,null,null,null,null,null,null,null,null,null,{"$f":"Cen!A94","v":"Korpusové lišty 270mm, BLUMOTION, 30kg"},{"$f":"Cen!B94","v":"578.2701B"},{"$f":"Cen!C94","v":"ZN"},null,{"$f":"Cen!F94","v":459.2},0]
[null,null,null,null,null,null,null,null,null,null,null,null,null,null,null,{"$f":"Cen!A95","v":"Korpusové lišty 300mm, BLUMOTION, 30kg"},{"$f":"Cen!B95","v":"578.3001B"},{"$f":"Cen!C95","v":"ZN"},null,{"$f":"Cen!F95","v":459.2},0]
[null,null,null,null,null,null,null,null,null,null,null,null,null,null,null,{"$f":"Cen!A96","v":"Korpusové lišty 350mm, BLUMOTION, 30kg"},{"$f":"Cen!B96","v":"578.3501B"},{"$f":"Cen!C96","v":"ZN"},null,{"$f":"Cen!F96","v":459.2},0]
[null,null,null,null,null,null,null,null,null,null,null,null,null,null,null,{"$f":"Cen!A97","v":"Korpusové lišty 400mm, BLUMOTION, 30kg"},{"$f":"Cen!B97","v":"578.4001B"},{"$f":"Cen!C97","v":"ZN"},null,{"$f":"Cen!F97","v":462.6},0]
[null,{"$f":"\"   \"&List!B261","v":"   Zadejte počty skříní podle šířky korpusu a délky výsuvů"},null,null,null,null,null,null,null,null,null,null,null,null,null,{"$f":"Cen!A98","v":"Korpusové lišty 450mm, BLUMOTION, 30kg"},{"$f":"Cen!B98","v":"578.4501B"},{"$f":"Cen!C98","v":"ZN"},{"$f":"IF($D$26=0, $D$24*4, $D$24*$D$26)+IF($J$26=0, $J$24*2,$J$24*$J$26)","v":0},{"$f":"Cen!F98","v":466},0]
[null,{"$f":"\"   \"&List!B265","v":"   Zadejte počet korpusových lišt, pokud chcete jiné, než přednastavené složení"},null,null,null,null,null,null,null,null,null,null,null,null,null,{"$f":"Cen!A99","v":"Korpusové lišty 450mm, BLUMOTION, 65kg"},{"$f":"Cen!B99","v":"576.4501B"},{"$f":"Cen!C99","v":"ZN"},{"$f":"IF($D$26=0, $D$24*1, $D$24*$D$27)+IF($J$26=0, $J$24*3,$J$24*$J$27)","v":0},{"$f":"Cen!F99","v":560.79999999999995},0]
[null,{"$f":"\"         \"&List!B263","v":"         Zadejte počty 30kg korpusových lišt, 65kg lišty se dopočítají"},null,null,null,null,null,null,null,null,null,null,null,null,null,{"$f":"Cen!A100","v":"Korpusové lišty 500mm, BLUMOTION, 30kg"},{"$f":"Cen!B100","v":"578.5001B"},{"$f":"Cen!C100","v":"ZN"},{"$f":"IF($E$26=0, $E$24*4, $E$24*$E$26)+IF($K$26=0, $K$24*2,$K$24*$K$26)","v":0},{"$f":"Cen!F100","v":469.5},0]
[null,null,null,null,null,null,null,null,null,null,null,null,null,null,null,{"$f":"Cen!A101","v":"Korpusové lišty 500mm, BLUMOTION, 65kg"},{"$f":"Cen!B101","v":"576.5001B"},{"$f":"Cen!C101","v":"ZN"},{"$f":"IF($E$26=0, $E$24*1, $E$24*$E$27)+IF($K$26=0, $K$24*3,$K$24*$K$27)","v":0},{"$f":"Cen!F101","v":620.4},0]
[null,{"$f":"\"▼   \"&List!$B$102&\" KB 450 mm\"","v":"▼   Šířka korpusu KB 450 mm"},null,null,null,null,null,{"$f":"\"▼   \"&List!$B$102&\" KB 600 mm\"","v":"▼   Šířka korpusu KB 600 mm"},null,null,null,null,null,null,null,{"$f":"Cen!A102","v":"Korpusové lišty 550mm, BLUMOTION, 30kg"},{"$f":"Cen!B102","v":"578.5501B"},{"$f":"Cen!C102","v":"ZN"},{"$f":"IF($F$26=0, $F$24*4, $F$24*$F$26)+IF($L$26=0, $L$24*2,$L$24*$L$26)","v":0},{"$f":"Cen!F102","v":493.5},0]
[null,"       BLUMOTION",null,null,null,null,null,"       BLUMOTION",null,null,null,null,null,null,null,{"$f":"Cen!A103","v":"Korpusové lišty 550mm, BLUMOTION, 65kg"},{"$f":"Cen!B103","v":"576.5501B"},{"$f":"Cen!C103","v":"ZN"},{"$f":"IF($F$26=0, $F$24*1, $F$24*$F$27)+IF($L$26=0, $L$24*3,$L$24*$L$27)","v":0},{"$f":"Cen!F103","v":644.29999999999995},0]
[null,null,{"$f":"List!$B$45&\":\"","v":"Jmenovitá délka:"},450,500,550,null,null,{"$f":"List!$B$45&\":\"","v":"Jmenovitá délka:"},450,500,550,null,null,null,{"$f":"Cen!A104","v":"Korpusové lišty 600mm, BLUMOTION, 30kg"},{"$f":"Cen!B104","v":"578.6001B"},{"$f":"Cen!C104","v":"ZN"},null,{"$f":"Cen!F104","v":523.9},0]
[null,null,{"$f":"List!$B$260&\":\"","v":"Počet skříní:"},null,null,null,null,null,{"$f":"List!$B$260&\":\"","v":"Počet skříní:"},null,null,null,null,null,null,{"$f":"Cen!A105","v":"Korpusové lišty 600mm, BLUMOTION, 65kg"},{"$f":"Cen!B105","v":"576.6001B"},{"$f":"Cen!C105","v":"ZN"},null,{"$f":"Cen!F105","v":661.1},0]
[null,{"$f":"List!$B$264","v":"Korpusové lišty"},null,null,null,null,null,{"$f":"List!$B$264","v":"Korpusové lišty"},null,null,null,null,null,null,null,{"$f":"Cen!A106","v":"Korpusové lišty 650mm, BLUMOTION, 65kg"},{"$f":"Cen!B106","v":"576.6501B"},{"$f":"Cen!C106","v":"ZN"},null,{"$f":"Cen!F106","v":751.2},0]
[null,"30 kg","4 ks*",null,null,null,null,"30 kg",{"$f":"\"2 ks*\"","v":"2 ks*"},null,null,null,null,null,null,{"$f":"Cen!A109","v":"Korp. lišty TIP-ON BLUMOTION, 270mm, 30 kg"},{"$f":"Cen!B109","v":"578.2701M"},{"$f":"Cen!C109","v":"ZN"},null,{"$f":"Cen!F109","v":417.4},0]
[null,"65 kg","1 ks*",{"$f":"IF(D26>0, IF(D26>5,0, 5-D26),0)","v":0},{"$f":"IF(E26>0, IF(E26>5,0, 5-E26),0)","v":0},{"$f":"IF(F26>0, IF(F26>5,0, 5-F26),0)","v":0},null,"65 kg",{"$f":"\"3 ks*\"","v":"3 ks*"},{"$f":"IF(J26>0, IF(J26>5,0, 5-J26),0)","v":0},{"$f":"IF(K26>0, IF(K26>5,0, 5-K26),0)","v":0},{"$f":"IF(L26>0, IF(L26>5,0, 5-L26),0)","v":0},null,null,null,{"$f":"Cen!A110","v":"Korp. lišty TIP-ON BLUMOTION, 300mm, 30 kg"},{"$f":"Cen!B110","v":"578.3001M"},{"$f":"Cen!C110","v":"ZN"},null,{"$f":"Cen!F110","v":417.4},0]
[null,null,null,{"$f":"IF(D26>5,\"Max. 5!\",\" \")","v":" "},{"$f":"IF(E26>5,\"Max. 5!\",\" \")","v":" "},{"$f":"IF(F26>5,\"Max. 5!\",\" \")","v":" "},null,null,null,{"$f":"IF(J26>5,\"Max. 5!\",\" \")","v":" "},{"$f":"IF(K26>5,\"Max. 5!\",\" \")","v":" "},{"$f":"IF(L26>5,\"Max. 5!\",\" \")","v":" "},null,null,null,{"$f":"Cen!A111","v":"Korp. lišty TIP-ON BLUMOTION, 350mm, 30 kg"},{"$f":"Cen!B111","v":"578.3501M"},{"$f":"Cen!C111","v":"ZN"},null,{"$f":"Cen!F111","v":417.4},0]
[null,null,null,null,null,null,null,null,null,null,null,null,null,null,null,{"$f":"Cen!A112","v":"Korp. lišty TIP-ON BLUMOTION, 400mm, 30 kg"},{"$f":"Cen!B112","v":"578.4001M"},{"$f":"Cen!C112","v":"ZN"},null,{"$f":"Cen!F112","v":420.5},0]
[null,"        TIP-ON BLUMOTION",null,null,null,null,null,"        TIP-ON BLUMOTION",null,null,null,null,null,null,null,{"$f":"Cen!A113","v":"Korp. lišty TIP-ON BLUMOTION, 450mm, 30 kg"},{"$f":"Cen!B113","v":"578.4501M"},{"$f":"Cen!C113","v":"ZN"},{"$f":"IF($D$34=0, $D$32*4, $D$32*$D$34)+IF($J$34=0, $J$32*2,$J$32*$J$34)","v":0},{"$f":"Cen!F113","v":423.7},0]
[null,null,{"$f":"List!$B$45&\":\"","v":"Jmenovitá délka:"},450,500,550,null,null,{"$f":"List!$B$45&\":\"","v":"Jmenovitá délka:"},450,500,550,null,null,null,{"$f":"Cen!A114","v":"Korp. lišty TIP-ON BLUMOTION, 450mm, 65 kg"},{"$f":"Cen!B114","v":"578.4501M"},{"$f":"Cen!C114","v":"ZN"},{"$f":"IF($D$34=0, $D$32*1, $D$32*$D$35)+IF($J$34=0, $J$32*3,$J$32*$J$35)","v":0},{"$f":"Cen!F114","v":560.79999999999995},0]
[null,null,{"$f":"List!$B$260&\":\"","v":"Počet skříní:"},null,null,null,null,null,{"$f":"List!$B$260&\":\"","v":"Počet skříní:"},null,null,null,null,null,null,{"$f":"Cen!A115","v":"Korp. lišty TIP-ON BLUMOTION, 500mm, 30 kg"},{"$f":"Cen!B115","v":"578.5001M"},{"$f":"Cen!C115","v":"ZN"},{"$f":"IF($E$34=0, $E$32*4, $E$32*$E$34)+IF($K$34=0, $K$32*2,$K$32*$K$34)","v":0},{"$f":"Cen!F115","v":426.8},0]
[null,{"$f":"List!$B$264","v":"Korpusové lišty"},null,null,null,null,null,{"$f":"List!$B$264","v":"Korpusové lišty"},null,null,null,null,null,null,null,{"$f":"Cen!A116","v":"Korp. lišty TIP-ON BLUMOTION, 500mm, 65 kg"},{"$f":"Cen!B116","v":"576.5001M"},{"$f":"Cen!C116","v":"ZN"},{"$f":"IF($E$34=0, $E$32*1, $E$32*$E$35)+IF($K$34=0, $K$32*3,$K$32*$K$35)","v":0},{"$f":"Cen!F116","v":564},0]
[null,"30 kg","4 ks*",null,null,null,null,"30 kg",{"$f":"\"2 ks*\"","v":"2 ks*"},null,null,null,null,null,null,{"$f":"Cen!A117","v":"Korp. lišty TIP-ON BLUMOTION, 550mm, 30 kg"},{"$f":"Cen!B117","v":"578.5501M"},{"$f":"Cen!C117","v":"ZN"},{"$f":"IF($F$34=0, $F$32*4, $F$32*$F$34)+IF($L$34=0, $L$32*2,$L$32*$L$34)","v":0},{"$f":"Cen!F117","v":448.6},0]
[null,"65 kg","1 ks*",{"$f":"IF(D34>0,IF(D34>5,0,5-D34),0)","v":0},{"$f":"IF(E34>0,IF(E34>5,0,5-E34),0)","v":0},{"$f":"IF(F34>0,IF(F34>5,0,5-F34),0)","v":0},null,"65 kg",{"$f":"\"3 ks*\"","v":"3 ks*"},{"$f":"IF(J34>0,IF(J34>5,0,5-J34),0)","v":0},{"$f":"IF(K34>0,IF(K34>5,0,5-K34),0)","v":0},{"$f":"IF(L34>0,IF(L34>5,0,5-L34),0)","v":0},null,null,null,{"$f":"Cen!A118","v":"Korp. lišty TIP-ON BLUMOTION, 550mm, 65 kg"},{"$f":"Cen!B118","v":"576.5501M"},{"$f":"Cen!C118","v":"ZN"},{"$f":"IF($F$34=0, $F$32*1, $F$32*$F$35)+IF($L$34=0, $L$32*3,$L$32*$L$35)","v":0},{"$f":"Cen!F118","v":585.79999999999995},0]
[null,null,null,{"$f":"IF(D34>5,\"Max. 5!\",\" \")","v":" "},{"$f":"IF(E34>5,\"Max. 5!\",\" \")","v":" "},{"$f":"IF(F34>5,\"Max. 5!\",\" \")","v":" "},null,null,null,{"$f":"IF(J34>5,\"Max. 5!\",\" \")","v":" "},{"$f":"IF(K34>5,\"Max. 5!\",\" \")","v":" "},{"$f":"IF(L34>5,\"Max. 5!\",\" \")","v":" "},null,null,null,{"$f":"Cen!A119","v":"Korp. lišty TIP-ON BLUMOTION, 600mm, 30 kg"},{"$f":"Cen!B119","v":"578.6001M"},{"$f":"Cen!C119","v":"ZN"},null,{"$f":"Cen!F119","v":542},0]
[null,null,null,null,null,null,null,null,null,null,null,null,null,null,null,{"$f":"Cen!A120","v":"Korp. lišty TIP-ON BLUMOTION, 600mm, 65 kg"},{"$f":"Cen!B120","v":"576.6001M"},{"$f":"Cen!C120","v":"ZN"},null,{"$f":"Cen!F120","v":661.1},0]
[null,{"$f":"\"       * \"&List!$B$266","v":"       * Nastavené počty korpusových lišt"},null,null,null,null,null,null,null,null,null,null,null,null,null,{"$f":"Cen!A121","v":"Korp. lišty TIP-ON BLUMOTION, 650mm, 65 kg"},{"$f":"Cen!B121","v":"576.6501M"},{"$f":"Cen!C121","v":"ZN"},null,{"$f":"Cen!F121","v":682.9},0]
[null,{"$f":"\"     ** \"&List!$B$269","v":"     ** Jednotky TIP-ON BLUMOTION jsou přidány automaticky"}]
[null,{"$f":"\"        \"&List!B270","v":"        Synchronizace je přidána automaticky. "},null,null,null,null,null,null,null,null,null,null,null,null,null,{"$f":"Cen!A124","v":"Sada jednotek TIP-ON BLUMOTION, S0"},{"$f":"Cen!B124","v":"T60B3030"},{"$f":"Cen!C124","v":"W"},null,{"$f":"Cen!F124","v":404.5},{"$f":"S40*T40","v":0}]
[null,null,null,null,null,null,null,null,null,null,null,null,null,null,null,{"$f":"Cen!A125","v":"Sada jednotek TIP-ON BLUMOTION, S1"},{"$f":"Cen!B125","v":"T60B3130"},{"$f":"Cen!C125","v":"R735"},null,{"$f":"Cen!F125","v":404.5},0]
[null,null,null,null,null,null,null,null,null,null,null,null,null,null,null,{"$f":"Cen!A126","v":"Sada jednotek TIP-ON BLUMOTION, L1"},{"$f":"Cen!B126","v":"T60B3330"},{"$f":"Cen!C126","v":"R735"},null,{"$f":"Cen!F126","v":404.5},0]
[null,null,null,null,null,null,null,null,null,null,null,null,null,null,null,{"$f":"Cen!A127","v":"Sada jednotek TIP-ON BLUMOTION, L3"},{"$f":"Cen!B127","v":"T60B3530"},{"$f":"Cen!C127","v":"R737"},{"$f":"SUM(S30, S32, S34)","v":0},{"$f":"Cen!F127","v":404.5},0]
[null,null,null,null,null,null,null,null,null,null,null,null,null,null,null,{"$f":"Cen!A128","v":"Sada jednotek TIP-ON BLUMOTION, L5"},{"$f":"Cen!B128","v":"T60B3560"},{"$f":"Cen!C128","v":"S"},{"$f":"SUM(S31, S33, S35)","v":0},{"$f":"Cen!F128","v":404.5},0]
[]
[null,null,null,null,null,null,null,null,null,null,null,null,null,null,null,{"$f":"Cen!A130","v":"Synchronizační adaptér"},{"$f":"Cen!B130","v":"T60.000D"},{"$f":"Cen!C130","v":"R735"},{"$f":"SUM($S$40:$S$44)*2","v":0},{"$f":"Cen!F130","v":5.8},0]
[null,null,null,null,null,null,null,null,null,null,null,null,null,null,null,{"$f":"Cen!A131","v":"Hřídel synchronizace"},{"$f":"Cen!B131","v":"T60.1125W"},{"$f":"Cen!C131","v":"GR"},{"$f":"CEILING(SUM(SUM($D$32:$F$32)/6, SUM($J$32:$L$32)/3), 1)*5","v":0},{"$f":"Cen!F131","v":95.6},0]
[null,null,null,null,null,null,null,null,null,null,null,null,null,null,null,{"$f":"Cen!A132","v":"Jednodílná synchronizace"},{"$f":"Cen!B132","v":"T60.300D"},{"$f":"Cen!C132","v":"R735"},null,{"$f":"Cen!F132","v":23.2},0]
[null,null,null,null,null,null,null,null,null,null,null,null,null,null,null,{"$f":"Cen!A134","v":"Držák hřídele synchronizace"},{"$f":"Cen!B134","v":"T60B000H"},{"$f":"Cen!C134","v":"NI"},null,{"$f":"Cen!F134","v":6},0]
[null,null,null,null,null,null,null,null,null,null,null,null,null,null,null,{"$f":"Cen!A135","v":"Podpěrný úhelník pro dno"},{"$f":"Cen!B135","v":"Z96.2011"},{"$f":"Cen!C135","v":"R737"},null,{"$f":"Cen!F135","v":29.8},0]
[]
[null,null,null,null,null,null,null,null,null,null,null,null,null,null,null,{"$f":"Cen!A143","v":"Držáky zadní stěny N, šedé"},{"$f":"Cen!B143","v":"Z30N000S.04"},{"$f":"Cen!C143","v":"R906"},null,{"$f":"Cen!F143","v":36.5},{"$f":"S52*T52","v":0}]
[null,null,null,null,null,null,null,null,null,null,null,null,null,null,null,{"$f":"Cen!A147","v":"Držáky zadní stěny M, šedé"},{"$f":"Cen!B147","v":"Z30M000S.04"},{"$f":"Cen!C147","v":"R906"},null,{"$f":"Cen!F147","v":40.200000000000003},{"$f":"S53*T53","v":0}]
[null,null,null,null,null,null,null,null,null,null,null,null,null,null,null,{"$f":"Cen!A151","v":"Držáky zadní stěny K, šedé"},{"$f":"Cen!B151","v":"Z30K000S"},{"$f":"Cen!C151","v":"R906"},null,{"$f":"Cen!F151","v":67.400000000000006},0]
[null,null,null,null,null,null,null,null,null,null,null,null,null,null,null,{"$f":"Cen!A154","v":"Držáky zadní stěny B, šedé"},{"$f":"Cen!B154","v":"Z30B000S.04"},{"$f":"Cen!C154","v":"R906"},null,{"$f":"Cen!F154","v":48.8},0]
[null,null,null,null,null,null,null,null,null,null,null,null,null,null,null,{"$f":"Cen!A158","v":"Držáky zadní stěny C, šedé"},{"$f":"Cen!B158","v":"Z30C000S"},{"$f":"Cen!C158","v":"R906"},null,{"$f":"Cen!F158","v":71},0]
[null,null,null,null,null,null,null,null,null,null,null,null,null,null,null,{"$f":"Cen!A162","v":"Držáky zadní stěny D, šedé"},{"$f":"Cen!B162","v":"Z30D000S"},{"$f":"Cen!C162","v":"R906"},{"$f":"SUM($S$3:$S$11)","v":0},{"$f":"Cen!F162","v":78.099999999999994},{"$f":"S57*T57","v":0}]
[]
[null,null,null,null,null,null,null,null,null,null,null,null,null,null,null,{"$f":"Cen!A189","v":"Držáky čela vnitřního výsuvu D bílošedé"},{"$f":"Cen!B189","v":"ZIF.74D0"},{"$f":"Cen!C189","v":"WGR"},{"$f":"SUM($S$3:$S$11)","v":0},{"$f":"Cen!F189","v":156.30000000000001},0]
[null,null,null,null,null,null,null,null,null,null,null,null,null,null,null,{"$f":"Cen!A194","v":"Přední díl vnitřní zásuvky, šedý"},{"$f":"Cen!B194","v":"Z31L1036A  "},{"$f":"Cen!C194","v":"R906"},{"$f":"CEILING(SUM(SUM($D$24:$F$24, $D$32:$F$32)/3, SUM($J$24:$L$24, $J$32:$L$32)/2), 1)*5","v":0},{"$f":"Cen!F194","v":363.8},0]
[null,null,null,null,null,null,null,null,null,null,null,null,null,null,null,{"$f":"Cen!A199","v":"Příčný reling vnitřní zásuvky, šedý"},{"$f":"Cen!B199","v":"ZRG.1046Z "},{"$f":"Cen!C199","v":"R906"},{"$f":"CEILING(SUM(SUM($D$24:$F$24, $D$32:$F$32)/3, SUM($J$24:$L$24, $J$32:$L$32)/2), 1)*5","v":0},{"$f":"Cen!F199","v":169.4},0]
[]
[null,null,null,null,null,null,null,null,null,null,null,null,null,null,null,{"$f":"Cen!A215","v":"Podélný reling vlevo/vpravo, 270mm, šedý"},{"$f":"Cen!B215","v":"ZRG.207RSIC"},{"$f":"Cen!C215","v":"R906"},{"$f":"S3","v":0},{"$f":"Cen!F215","v":150},{"$f":"S63*T63","v":0}]
[null,null,null,null,null,null,null,null,null,null,null,null,null,null,null,{"$f":"Cen!A219","v":"Podélný reling vlevo/vpravo, 300mm, šedý"},{"$f":"Cen!B219","v":"ZRG.237RSIC"},{"$f":"Cen!C219","v":"R906"},0,{"$f":"Cen!F219","v":152.5},0]
[null,null,null,null,null,null,null,null,null,null,null,null,null,null,null,{"$f":"Cen!A223","v":"Podélný reling vlevo/vpravo, 350mm, šedý"},{"$f":"Cen!B223","v":"ZRG.287RSIC"},{"$f":"Cen!C223","v":"R906"},0,{"$f":"Cen!F223","v":155},0]
[null,null,null,null,null,null,null,null,null,null,null,null,null,null,null,{"$f":"Cen!A227","v":"Podélný reling vlevo/vpravo, 400mm, šedý"},{"$f":"Cen!B227","v":"ZRG.337RSIC"},{"$f":"Cen!C227","v":"R906"},0,{"$f":"Cen!F227","v":157.5},0]
[null,null,null,null,null,null,null,null,null,null,null,null,null,null,null,{"$f":"Cen!A231","v":"Podélný reling vlevo/vpravo, 450mm, šedý"},{"$f":"Cen!B231","v":"ZRG.387RSIC"},{"$f":"Cen!C231","v":"R906"},0,{"$f":"Cen!F231","v":160},0]
[null,null,null,null,null,null,null,null,null,null,null,null,null,null,null,{"$f":"Cen!A235","v":"Podélný reling vlevo/vpravo, 500mm, šedý"},{"$f":"Cen!B235","v":"ZRG.437RSIC"},{"$f":"Cen!C235","v":"R906"},0,{"$f":"Cen!F235","v":178.7},0]
[null,null,null,null,null,null,null,null,null,null,null,null,null,null,null,{"$f":"Cen!A239","v":"Podélný reling vlevo/vpravo, 550mm, šedý"},{"$f":"Cen!B239","v":"ZRG.487RSIC"},{"$f":"Cen!C239","v":"R906"},0,{"$f":"Cen!F239","v":169.4},0]
[null,null,null,null,null,null,null,null,null,null,null,null,null,null,null,{"$f":"Cen!A243","v":"Podélný reling vlevo/vpravo, 600mm, šedý"},{"$f":"Cen!B243","v":"ZRG.537RSIC"},{"$f":"Cen!C243","v":"R906"},0,{"$f":"Cen!F243","v":176.3},0]
[null,null,null,null,null,null,null,null,null,null,null,null,null,null,null,{"$f":"Cen!A247","v":"Podélný reling vlevo/vpravo, 650mm, šedý"},{"$f":"Cen!B247","v":"ZRG.587RSIC"},{"$f":"Cen!C247","v":"R906"},0,{"$f":"Cen!F247","v":183.2},0]
[]
[null,null,null,null,null,null,null,null,null,null,null,null,null,null,null,{"$f":"Cen!A328","v":"Sada držáků zásuvného prvku D, bílošedá"},{"$f":"Cen!B328","v":"Z36D0080"},{"$f":"Cen!C328","v":"WGR"},{"$f":"SUM($S$3:$S$11)","v":0},{"$f":"Cen!F328","v":63.3},{"$f":"S73*T73","v":0}]
[]
[null,null,null,null,null,null,null,null,null,null,null,null,null,null,null,{"$f":"Cen!A254","v":"Zásuvný prvek D, 270mm, čiré sko"},{"$f":"Cen!B254","v":"Z37R237D"},{"$f":"Cen!C254","v":"KL"},{"$f":"S3","v":0},{"$f":"Cen!F254","v":269.10000000000002},{"$f":"S75*T75","v":0}]
[null,null,null,null,null,null,null,null,null,null,null,null,null,null,null,{"$f":"Cen!A256","v":"Zásuvný prvek D, 300mm, čiré sko"},{"$f":"Cen!B256","v":"Z37R267D"},{"$f":"Cen!C256","v":"KL"},0,{"$f":"Cen!F256","v":279},0]
[null,null,null,null,null,null,null,null,null,null,null,null,null,null,null,{"$f":"Cen!A258","v":"Zásuvný prvek D, 350mm, čiré sko"},{"$f":"Cen!B258","v":"Z37R317D"},{"$f":"Cen!C258","v":"KL"},0,{"$f":"Cen!F258","v":240.82},0]
[null,null,null,null,null,null,null,null,null,null,null,null,null,null,null,{"$f":"Cen!A260","v":"Zásuvný prvek D, 400mm, čiré sko"},{"$f":"Cen!B260","v":"Z37R367D"},{"$f":"Cen!C260","v":"KL"},0,{"$f":"Cen!F260","v":265.39999999999998},0]
[null,null,null,null,null,null,null,null,null,null,null,null,null,null,null,{"$f":"Cen!A262","v":"Zásuvný prvek D, 450mm, čiré sko"},{"$f":"Cen!B262","v":"Z37R417D"},{"$f":"Cen!C262","v":"KL"},0,{"$f":"Cen!F262","v":290},0]
[null,null,null,null,null,null,null,null,null,null,null,null,null,null,null,{"$f":"Cen!A264","v":"Zásuvný prvek D, 500mm, čiré sko"},{"$f":"Cen!B264","v":"Z37R467D"},{"$f":"Cen!C264","v":"KL"},0,{"$f":"Cen!F264","v":314.56},0]
[null,null,null,null,null,null,null,null,null,null,null,null,null,null,null,{"$f":"Cen!A266","v":"Zásuvný prvek D, 550mm, čiré sko"},{"$f":"Cen!B266","v":"Z37R517D"},{"$f":"Cen!C266","v":"KL"},0,{"$f":"Cen!F266","v":336.68},0]
[null,null,null,null,null,null,null,null,null,null,null,null,null,null,null,{"$f":"Cen!A268","v":"Zásuvný prvek D, 600mm, čiré sko"},{"$f":"Cen!B268","v":"Z37R567D"},{"$f":"Cen!C268","v":"KL"},0,{"$f":"Cen!F268","v":358.8},0]
[null,null,null,null,null,null,null,null,null,null,null,null,null,null,null,{"$f":"Cen!A270","v":"Zásuvný prvek D, 650mm, čiré sko"},{"$f":"Cen!B270","v":"Z37R617D"},{"$f":"Cen!C270","v":"KL"},0,{"$f":"Cen!F270","v":378.7},0]
[]
[null,null,null,null,null,null,null,null,null,null,null,null,null,null,null,{"$f":"Cen!A632","v":"CLIP top 155° s nulovým přesahem, EXPANDO"},{"$f":"Cen!B632","v":"71T753EN"},{"$f":"Cen!C632","v":"NI"},{"$f":"SUM(SUM($D$24:$F$24, $D$32:$F$32)*3, SUM($J$24:$L$24, $J$32:$L$32)*4)","v":0},{"$f":"Cen!F632","v":112.7},{"$f":"S85*T85","v":0}]
[null,null,null,null,null,null,null,null,null,null,null,null,null,null,null,{"$f":"Cen!A639","v":"Podložka CLIP s excentrem, EXPANDO"},{"$f":"Cen!B639","v":"174H7100E"},{"$f":"Cen!C639","v":"NI"},{"$f":"S85","v":0},{"$f":"Cen!F639","v":15.1},0]
[null,null,null,null,null,null,null,null,null,null,null,null,null,null,null,{"$f":"Cen!A644","v":"BLUMOTION pro nasazení na závěs 155° a 125°"},{"$f":"Cen!B644","v":"973A7000"},{"$f":"Cen!C644","v":"NI"},{"$f":"SUM(SUM($D$24:$F$24, $D$32:$F$32)*2, SUM($J$24:$L$24, $J$32:$L$32)*3)","v":0},{"$f":"Cen!F644","v":41},0]
[]
[]
[null,null,null,null,null,null,null,null,null,null,null,null,null,null,null,null,null,null,null,null,{"$f":"SUM(U3:U87)","v":0}]

{"sheet":"ADD45M","index":41,"n_rows":104,"n_cols":22,"rows_kept":104,"cut":false,"hidden":false,"merged":[]}
[]
[null,null,null,null,null,null,null,null,null,null,null,{"$f":"\"SPACE-TOWER, \"&List!$B$60&\" 5xD\"","v":"SPACE-TOWER, sestava 5xD"},null,null,null,"Počty skříní →",{"$f":"SUM(D24:F24)","v":0},{"$f":"SUM(J24:L24)","v":0},{"$f":"SUM(D32:F32)","v":0},{"$f":"SUM(J32:L32)","v":0},{"$f":"Form!N2","v":1},"←barva"]
[null,null,null,null,null,null,null,null,null,null,null,{"$f":"List!$B$63","v":"kovový zásuvný prvek"},null,{"$f":"List!$B$11&\":\"","v":"Zpět na:"},null,{"$f":"Cen!A28","v":"Bočnice M 270mm, šedé"},{"$f":"Cen!B28","v":"378M2702SA"},{"$f":"Cen!C28","v":"R906"},null,{"$f":"Cen!F28","v":350.6},{"$f":"S3*T3","v":0}]
[null,null,null,null,null,null,null,null,{"$f":"List!$B$72&\":\"","v":"bočnice:"},null,"M",null,null,{"$f":"\" \"&List!$B$13","v":" Úvod"},null,{"$f":"Cen!A32","v":"Bočnice M 300mm, šedé"},{"$f":"Cen!B32","v":"378M3002SA"},{"$f":"Cen!C32","v":"R906"},null,{"$f":"Cen!F32","v":350.6},0]
[null,null,null,null,null,null,null,null,{"$f":"List!$B$27&\":\"","v":"barva:"},null,{"$f":"Form!$O$2","v":"šedá"},null,null,{"$f":"\" \"&List!$B$4","v":" Výběr zásuvek a výsuvů"},null,{"$f":"Cen!A36","v":"Bočnice M 350mm, šedé"},{"$f":"Cen!B36","v":"378M3502SA"},{"$f":"Cen!C36","v":"R906"},null,{"$f":"Cen!F36","v":350.6},0]
[null,null,null,null,null,null,null,null,null,null,null,null,null,null,null,{"$f":"Cen!A40","v":"Bočnice M 400mm, šedé"},{"$f":"Cen!B40","v":"378M4002SA"},{"$f":"Cen!C40","v":"R906"},null,{"$f":"Cen!F40","v":354.3},0]
[null,null,null,null,null,null,null,null,{"$f":"List!$B$102&\" KB:\"","v":"Šířka korpusu KB:"},null,"450, 600 mm",null,null,{"$f":"List!$B$12&\":\"","v":"Pokračovat na:"},null,{"$f":"Cen!A44","v":"Bočnice M 450mm, šedé"},{"$f":"Cen!B44","v":"378M4502SA"},{"$f":"Cen!C44","v":"R906"},{"$f":"IF($U$2=4, 0, SUM($D$24, $J$24, $D$32, $J$32)*5)","v":0},{"$f":"Cen!F44","v":358.1},0]
[null,null,null,null,null,null,null,null,null,null,null,null,null,{"$f":"\" \"&List!$B$5","v":" Výběr doplňků"},null,{"$f":"Cen!A48","v":"Bočnice M 500mm, šedé"},{"$f":"Cen!B48","v":"378M5002SA"},{"$f":"Cen!C48","v":"R906"},{"$f":"IF($U$2=4, 0, SUM($E$24, $K$24, $E$32, $K$32)*5)","v":0},{"$f":"Cen!F48","v":397.4},0]
[null,null,null,null,null,null,null,null,null,null,null,null,null,{"$f":"\" \"&List!$B$6","v":" Výběr SERVO-DRIVE"},null,{"$f":"Cen!A52","v":"Bočnice M 550mm, šedé"},{"$f":"Cen!B52","v":"378M5502SA"},{"$f":"Cen!C52","v":"R906"},{"$f":"IF($U$2=4, 0, SUM($F$24, $L$24, $F$32, $L$32)*5)","v":0},{"$f":"Cen!F52","v":399.2},0]
[null,null,null,null,null,null,null,null,null,null,null,null,null,{"$f":"\" \"&List!$B$7","v":" Výběr ORGA-LINE"},null,{"$f":"Cen!A56","v":"Bočnice M 600mm, šedé"},{"$f":"Cen!B56","v":"378M6002SA"},{"$f":"Cen!C56","v":"R906"},null,{"$f":"Cen!F56","v":508.3},0]
[null,null,null,null,null,null,null,null,null,null,null,null,null,{"$f":"\" \"&List!$B$18","v":" Souhrn"},null,{"$f":"Cen!A60","v":"Bočnice M 650mm, šedé"},{"$f":"Cen!B60","v":"378M6502SA"},{"$f":"Cen!C60","v":"R906"},null,{"$f":"Cen!F60","v":536.29999999999995},0]
[]
[null,null,null,null,null,null,null,null,null,null,null,null,null,null,null,{"$f":"Cen!A94","v":"Korpusové lišty 270mm, BLUMOTION, 30kg"},{"$f":"Cen!B94","v":"578.2701B"},{"$f":"Cen!C94","v":"ZN"},null,{"$f":"Cen!F94","v":459.2},0]
[null,null,null,null,null,null,{"$f":"IF($U$2=4, P103, \" \")","v":" "},null,null,null,null,null,null,null,null,{"$f":"Cen!A95","v":"Korpusové lišty 300mm, BLUMOTION, 30kg"},{"$f":"Cen!B95","v":"578.3001B"},{"$f":"Cen!C95","v":"ZN"},null,{"$f":"Cen!F95","v":459.2},0]
[null,null,null,null,null,null,{"$f":"IF($U$2=4, P104, \" \")","v":" "},null,null,null,null,null,null,null,null,{"$f":"Cen!A96","v":"Korpusové lišty 350mm, BLUMOTION, 30kg"},{"$f":"Cen!B96","v":"578.3501B"},{"$f":"Cen!C96","v":"ZN"},null,{"$f":"Cen!F96","v":459.2},0]
[null,null,null,null,null,null,null,null,null,null,null,null,null,null,null,{"$f":"Cen!A97","v":"Korpusové lišty 400mm, BLUMOTION, 30kg"},{"$f":"Cen!B97","v":"578.4001B"},{"$f":"Cen!C97","v":"ZN"},null,{"$f":"Cen!F97","v":462.6},0]
[null,{"$f":"\"   \"&List!B261","v":"   Zadejte počty skříní podle šířky korpusu a délky výsuvů"},null,null,null,null,null,null,null,null,null,null,null,null,null,{"$f":"Cen!A98","v":"Korpusové lišty 450mm, BLUMOTION, 30kg"},{"$f":"Cen!B98","v":"578.4501B"},{"$f":"Cen!C98","v":"ZN"},{"$f":"IF($U$2=4, 0, IF($D$26=0, $D$24*4, $D$24*$D$26)+IF($J$26=0, $J$24*2,$J$24*$J$26))","v":0},{"$f":"Cen!F98","v":466},0]
[null,{"$f":"\"   \"&List!B265","v":"   Zadejte počet korpusových lišt, pokud chcete jiné, než přednastavené složení"},null,null,null,null,null,null,null,null,null,null,null,null,null,{"$f":"Cen!A99","v":"Korpusové lišty 450mm, BLUMOTION, 65kg"},{"$f":"Cen!B99","v":"576.4501B"},{"$f":"Cen!C99","v":"ZN"},{"$f":"IF($U$2=4, 0, IF($D$26=0, $D$24*1, $D$24*$D$27)+IF($J$26=0, $J$24*3,$J$24*$J$27))","v":0},{"$f":"Cen!F99","v":560.79999999999995},0]
[null,{"$f":"\"         \"&List!B263","v":"         Zadejte počty 30kg korpusových lišt, 65kg lišty se dopočítají"},null,null,null,null,null,null,null,null,null,null,null,null,null,{"$f":"Cen!A100","v":"Korpusové lišty 500mm, BLUMOTION, 30kg"},{"$f":"Cen!B100","v":"578.5001B"},{"$f":"Cen!C100","v":"ZN"},{"$f":"IF($U$2=4, 0, IF($E$26=0, $E$24*4, $E$24*$E$26)+IF($K$26=0, $K$24*2,$K$24*$K$26))","v":0},{"$f":"Cen!F100","v":469.5},0]
[null,null,null,null,null,null,null,null,null,null,null,null,null,null,null,{"$f":"Cen!A101","v":"Korpusové lišty 500mm, BLUMOTION, 65kg"},{"$f":"Cen!B101","v":"576.5001B"},{"$f":"Cen!C101","v":"ZN"},{"$f":"IF($U$2=4, 0, IF($E$26=0, $E$24*1, $E$24*$E$27)+IF($K$26=0, $K$24*3,$K$24*$K$27))","v":0},{"$f":"Cen!F101","v":620.4},0]
[null,{"$f":"\"▼   \"&List!$B$102&\" KB 450 mm\"","v":"▼   Šířka korpusu KB 450 mm"},null,null,null,null,null,{"$f":"\"▼   \"&List!$B$102&\" KB 600 mm\"","v":"▼   Šířka korpusu KB 600 mm"},null,null,null,null,null,null,null,{"$f":"Cen!A102","v":"Korpusové lišty 550mm, BLUMOTION, 30kg"},{"$f":"Cen!B102","v":"578.5501B"},{"$f":"Cen!C102","v":"ZN"},{"$f":"IF($U$2=4, 0, IF($F$26=0, $F$24*4, $F$24*$F$26)+IF($L$26=0, $L$24*2,$L$24*$L$26))","v":0},{"$f":"Cen!F102","v":493.5},0]
[null,"       BLUMOTION",null,null,null,null,null,"       BLUMOTION",null,null,null,null,null,null,null,{"$f":"Cen!A103","v":"Korpusové lišty 550mm, BLUMOTION, 65kg"},{"$f":"Cen!B103","v":"576.5501B"},{"$f":"Cen!C103","v":"ZN"},{"$f":"IF($U$2=4, 0, IF($F$26=0, $F$24*1, $F$24*$F$27)+IF($L$26=0, $L$24*3,$L$24*$L$27))","v":0},{"$f":"Cen!F103","v":644.29999999999995},0]
[null,null,{"$f":"List!$B$45&\":\"","v":"Jmenovitá délka:"},450,500,550,null,null,{"$f":"List!$B$45&\":\"","v":"Jmenovitá délka:"},450,500,550,null,null,null,{"$f":"Cen!A104","v":"Korpusové lišty 600mm, BLUMOTION, 30kg"},{"$f":"Cen!B104","v":"578.6001B"},{"$f":"Cen!C104","v":"ZN"},null,{"$f":"Cen!F104","v":523.9},0]
[null,null,{"$f":"List!$B$260&\":\"","v":"Počet skříní:"},null,null,null,null,null,{"$f":"List!$B$260&\":\"","v":"Počet skříní:"},null,null,null,null,null,null,{"$f":"Cen!A105","v":"Korpusové lišty 600mm, BLUMOTION, 65kg"},{"$f":"Cen!B105","v":"576.6001B"},{"$f":"Cen!C105","v":"ZN"},null,{"$f":"Cen!F105","v":661.1},0]
[null,{"$f":"List!$B$264","v":"Korpusové lišty"},null,null,null,null,null,{"$f":"List!$B$264","v":"Korpusové lišty"},null,null,null,null,null,null,null,{"$f":"Cen!A106","v":"Korpusové lišty 650mm, BLUMOTION, 65kg"},{"$f":"Cen!B106","v":"576.6501B"},{"$f":"Cen!C106","v":"ZN"},null,{"$f":"Cen!F106","v":751.2},0]
[null,"30 kg","4 ks*",null,null,null,null,"30 kg",{"$f":"\"2 ks*\"","v":"2 ks*"},null,null,null,null,null,null,{"$f":"Cen!A109","v":"Korp. lišty TIP-ON BLUMOTION, 270mm, 30 kg"},{"$f":"Cen!B109","v":"578.2701M"},{"$f":"Cen!C109","v":"ZN"},null,{"$f":"Cen!F109","v":417.4},0]
[null,"65 kg","1 ks*",{"$f":"IF(D26>0, IF(D26>5,0, 5-D26),0)","v":0},{"$f":"IF(E26>0, IF(E26>5,0, 5-E26),0)","v":0},{"$f":"IF(F26>0, IF(F26>5,0, 5-F26),0)","v":0},null,"65 kg",{"$f":"\"3 ks*\"","v":"3 ks*"},{"$f":"IF(J26>0, IF(J26>5,0, 5-J26),0)","v":0},{"$f":"IF(K26>0, IF(K26>5,0, 5-K26),0)","v":0},{"$f":"IF(L26>0, IF(L26>5,0, 5-L26),0)","v":0},null,null,null,{"$f":"Cen!A110","v":"Korp. lišty TIP-ON BLUMOTION, 300mm, 30 kg"},{"$f":"Cen!B110","v":"578.3001M"},{"$f":"Cen!C110","v":"ZN"},null,{"$f":"Cen!F110","v":417.4},0]
[null,null,null,{"$f":"IF(D26>5,\"Max. 5!\",\" \")","v":" "},{"$f":"IF(E26>5,\"Max. 5!\",\" \")","v":" "},{"$f":"IF(F26>5,\"Max. 5!\",\" \")","v":" "},null,null,null,{"$f":"IF(J26>5,\"Max. 5!\",\" \")","v":" "},{"$f":"IF(K26>5,\"Max. 5!\",\" \")","v":" "},{"$f":"IF(L26>5,\"Max. 5!\",\" \")","v":" "},null,null,null,{"$f":"Cen!A111","v":"Korp. lišty TIP-ON BLUMOTION, 350mm, 30 kg"},{"$f":"Cen!B111","v":"578.3501M"},{"$f":"Cen!C111","v":"ZN"},null,{"$f":"Cen!F111","v":417.4},0]
[null,null,null,null,null,null,null,null,null,null,null,null,null,null,null,{"$f":"Cen!A112","v":"Korp. lišty TIP-ON BLUMOTION, 400mm, 30 kg"},{"$f":"Cen!B112","v":"578.4001M"},{"$f":"Cen!C112","v":"ZN"},null,{"$f":"Cen!F112","v":420.5},0]
[null,"        TIP-ON BLUMOTION",null,null,null,null,null,"        TIP-ON BLUMOTION",null,null,null,null,null,null,null,{"$f":"Cen!A113","v":"Korp. lišty TIP-ON BLUMOTION, 450mm, 30 kg"},{"$f":"Cen!B113","v":"578.4501M"},{"$f":"Cen!C113","v":"ZN"},{"$f":"IF($U$2=4, 0, IF($D$34=0, $D$32*4, $D$32*$D$34)+IF($J$34=0, $J$32*2,$J$32*$J$34))","v":0},{"$f":"Cen!F113","v":423.7},0]
[null,null,{"$f":"List!$B$45&\":\"","v":"Jmenovitá délka:"},450,500,550,null,null,{"$f":"List!$B$45&\":\"","v":"Jmenovitá délka:"},450,500,550,null,null,null,{"$f":"Cen!A114","v":"Korp. lišty TIP-ON BLUMOTION, 450mm, 65 kg"},{"$f":"Cen!B114","v":"578.4501M"},{"$f":"Cen!C114","v":"ZN"},{"$f":"IF($U$2=4, 0, IF($D$34=0, $D$32*1, $D$32*$D$35)+IF($J$34=0, $J$32*3,$J$32*$J$35))","v":0},{"$f":"Cen!F114","v":560.79999999999995},0]
[null,null,{"$f":"List!$B$260&\":\"","v":"Počet skříní:"},null,null,null,null,null,{"$f":"List!$B$260&\":\"","v":"Počet skříní:"},null,null,null,null,null,null,{"$f":"Cen!A115","v":"Korp. lišty TIP-ON BLUMOTION, 500mm, 30 kg"},{"$f":"Cen!B115","v":"578.5001M"},{"$f":"Cen!C115","v":"ZN"},{"$f":"IF($U$2=4, 0, IF($E$34=0, $E$32*4, $E$32*$E$34)+IF($K$34=0, $K$32*2,$K$32*$K$34))","v":0},{"$f":"Cen!F115","v":426.8},0]
[null,{"$f":"List!$B$264","v":"Korpusové lišty"},null,null,null,null,null,{"$f":"List!$B$264","v":"Korpusové lišty"},null,null,null,null,null,null,null,{"$f":"Cen!A116","v":"Korp. lišty TIP-ON BLUMOTION, 500mm, 65 kg"},{"$f":"Cen!B116","v":"576.5001M"},{"$f":"Cen!C116","v":"ZN"},{"$f":"IF($U$2=4, 0, IF($E$34=0, $E$32*1, $E$32*$E$35)+IF($K$34=0, $K$32*3,$K$32*$K$35))","v":0},{"$f":"Cen!F116","v":564},0]
[null,"30 kg","4 ks*",null,null,null,null,"30 kg",{"$f":"\"2 ks*\"","v":"2 ks*"},null,null,null,null,null,null,{"$f":"Cen!A117","v":"Korp. lišty TIP-ON BLUMOTION, 550mm, 30 kg"},{"$f":"Cen!B117","v":"578.5501M"},{"$f":"Cen!C117","v":"ZN"},{"$f":"IF($U$2=4, 0, IF($F$34=0, $F$32*4, $F$32*$F$34)+IF($L$34=0, $L$32*2,$L$32*$L$34))","v":0},{"$f":"Cen!F117","v":448.6},0]
[null,"65 kg","1 ks*",{"$f":"IF(D34>0,IF(D34>5,0,5-D34),0)","v":0},{"$f":"IF(E34>0,IF(E34>5,0,5-E34),0)","v":0},{"$f":"IF(F34>0,IF(F34>5,0,5-F34),0)","v":0},null,"65 kg",{"$f":"\"3 ks*\"","v":"3 ks*"},{"$f":"IF(J34>0,IF(J34>5,0,5-J34),0)","v":0},{"$f":"IF(K34>0,IF(K34>5,0,5-K34),0)","v":0},{"$f":"IF(L34>0,IF(L34>5,0,5-L34),0)","v":0},null,null,null,{"$f":"Cen!A118","v":"Korp. lišty TIP-ON BLUMOTION, 550mm, 65 kg"},{"$f":"Cen!B118","v":"576.5501M"},{"$f":"Cen!C118","v":"ZN"},{"$f":"IF($U$2=4, 0, IF($F$34=0, $F$32*1, $F$32*$F$35)+IF($L$34=0, $L$32*3,$L$32*$L$35))","v":0},{"$f":"Cen!F118","v":585.79999999999995},0]
[null,null,null,{"$f":"IF(D34>5,\"Max. 5!\",\" \")","v":" "},{"$f":"IF(E34>5,\"Max. 5!\",\" \")","v":" "},{"$f":"IF(F34>5,\"Max. 5!\",\" \")","v":" "},null,null,null,{"$f":"IF(J34>5,\"Max. 5!\",\" \")","v":" "},{"$f":"IF(K34>5,\"Max. 5!\",\" \")","v":" "},{"$f":"IF(L34>5,\"Max. 5!\",\" \")","v":" "},null,null,null,{"$f":"Cen!A119","v":"Korp. lišty TIP-ON BLUMOTION, 600mm, 30 kg"},{"$f":"Cen!B119","v":"578.6001M"},{"$f":"Cen!C119","v":"ZN"},null,{"$f":"Cen!F119","v":542},0]
[null,null,null,null,null,null,null,null,null,null,null,null,null,null,null,{"$f":"Cen!A120","v":"Korp. lišty TIP-ON BLUMOTION, 600mm, 65 kg"},{"$f":"Cen!B120","v":"576.6001M"},{"$f":"Cen!C120","v":"ZN"},null,{"$f":"Cen!F120","v":661.1},0]
[null,{"$f":"\"       * \"&List!$B$266","v":"       * Nastavené počty korpusových lišt"},null,null,null,null,null,null,null,null,null,null,null,null,null,{"$f":"Cen!A121","v":"Korp. lišty TIP-ON BLUMOTION, 650mm, 65 kg"},{"$f":"Cen!B121","v":"576.6501M"},{"$f":"Cen!C121","v":"ZN"},null,{"$f":"Cen!F121","v":682.9},0]
[null,{"$f":"\"     ** \"&List!$B$269","v":"     ** Jednotky TIP-ON BLUMOTION jsou přidány automaticky"}]
[null,{"$f":"\"        \"&List!B270","v":"        Synchronizace je přidána automaticky. "},null,null,null,null,null,null,null,null,null,null,null,null,null,{"$f":"Cen!A124","v":"Sada jednotek TIP-ON BLUMOTION, S0"},{"$f":"Cen!B124","v":"T60B3030"},{"$f":"Cen!C124","v":"W"},null,{"$f":"Cen!F124","v":404.5},{"$f":"S40*T40","v":0}]
[null,null,null,null,null,null,null,null,null,null,null,null,null,null,null,{"$f":"Cen!A125","v":"Sada jednotek TIP-ON BLUMOTION, S1"},{"$f":"Cen!B125","v":"T60B3130"},{"$f":"Cen!C125","v":"R735"},null,{"$f":"Cen!F125","v":404.5},0]
[null,null,null,null,null,null,null,null,null,null,null,null,null,null,null,{"$f":"Cen!A126","v":"Sada jednotek TIP-ON BLUMOTION, L1"},{"$f":"Cen!B126","v":"T60B3330"},{"$f":"Cen!C126","v":"R735"},null,{"$f":"Cen!F126","v":404.5},0]
[null,null,null,null,null,null,null,null,null,null,null,null,null,null,null,{"$f":"Cen!A127","v":"Sada jednotek TIP-ON BLUMOTION, L3"},{"$f":"Cen!B127","v":"T60B3530"},{"$f":"Cen!C127","v":"R737"},{"$f":"SUM(S30, S32, S34)","v":0},{"$f":"Cen!F127","v":404.5},0]
[null,null,null,null,null,null,null,null,null,null,null,null,null,null,null,{"$f":"Cen!A128","v":"Sada jednotek TIP-ON BLUMOTION, L5"},{"$f":"Cen!B128","v":"T60B3560"},{"$f":"Cen!C128","v":"S"},{"$f":"SUM(S31, S33, S35)","v":0},{"$f":"Cen!F128","v":404.5},0]
[]
[null,null,null,null,null,null,null,null,null,null,null,null,null,null,null,{"$f":"Cen!A130","v":"Synchronizační adaptér"},{"$f":"Cen!B130","v":"T60.000D"},{"$f":"Cen!C130","v":"R735"},{"$f":"SUM($S$40:$S$44)*2","v":0},{"$f":"Cen!F130","v":5.8},0]
[null,null,null,null,null,null,null,null,null,null,null,null,null,null,null,{"$f":"Cen!A131","v":"Hřídel synchronizace"},{"$f":"Cen!B131","v":"T60.1125W"},{"$f":"Cen!C131","v":"GR"},{"$f":"IF($U$2=4, 0, CEILING(SUM(SUM($D$32:$F$32)/6, SUM($J$32:$L$32)/3), 1)*5)","v":0},{"$f":"Cen!F131","v":95.6},0]
[null,null,null,null,null,null,null,null,null,null,null,null,null,null,null,{"$f":"Cen!A132","v":"Jednodílná synchronizace"},{"$f":"Cen!B132","v":"T60.300D"},{"$f":"Cen!C132","v":"R735"},null,{"$f":"Cen!F132","v":23.2},0]
[null,null,null,null,null,null,null,null,null,null,null,null,null,null,null,{"$f":"Cen!A134","v":"Držák hřídele synchronizace"},{"$f":"Cen!B134","v":"T60B000H"},{"$f":"Cen!C134","v":"NI"},null,{"$f":"Cen!F134","v":6},0]
[null,null,null,null,null,null,null,null,null,null,null,null,null,null,null,{"$f":"Cen!A135","v":"Podpěrný úhelník pro dno"},{"$f":"Cen!B135","v":"Z96.2011"},{"$f":"Cen!C135","v":"R737"},null,{"$f":"Cen!F135","v":29.8},0]
[]
[null,null,null,null,null,null,null,null,null,null,null,null,null,null,null,{"$f":"Cen!A143","v":"Držáky zadní stěny N, šedé"},{"$f":"Cen!B143","v":"Z30N000S.04"},{"$f":"Cen!C143","v":"R906"},null,{"$f":"Cen!F143","v":36.5},{"$f":"S52*T52","v":0}]
[null,null,null,null,null,null,null,null,null,null,null,null,null,null,null,{"$f":"Cen!A147","v":"Držáky zadní stěny M, šedé"},{"$f":"Cen!B147","v":"Z30M000S.04"},{"$f":"Cen!C147","v":"R906"},null,{"$f":"Cen!F147","v":40.200000000000003},{"$f":"S53*T53","v":0}]
[null,null,null,null,null,null,null,null,null,null,null,null,null,null,null,{"$f":"Cen!A151","v":"Držáky zadní stěny K, šedé"},{"$f":"Cen!B151","v":"Z30K000S"},{"$f":"Cen!C151","v":"R906"},null,{"$f":"Cen!F151","v":67.400000000000006},0]
[null,null,null,null,null,null,null,null,null,null,null,null,null,null,null,{"$f":"Cen!A154","v":"Držáky zadní stěny B, šedé"},{"$f":"Cen!B154","v":"Z30B000S.04"},{"$f":"Cen!C154","v":"R906"},null,{"$f":"Cen!F154","v":48.8},0]
[null,null,null,null,null,null,null,null,null,null,null,null,null,null,null,{"$f":"Cen!A158","v":"Držáky zadní stěny C, šedé"},{"$f":"Cen!B158","v":"Z30C000S"},{"$f":"Cen!C158","v":"R906"},null,{"$f":"Cen!F158","v":71},0]
[null,null,null,null,null,null,null,null,null,null,null,null,null,null,null,{"$f":"Cen!A162","v":"Držáky zadní stěny D, šedé"},{"$f":"Cen!B162","v":"Z30D000S"},{"$f":"Cen!C162","v":"R906"},{"$f":"SUM($S$3:$S$11)","v":0},{"$f":"Cen!F162","v":78.099999999999994},{"$f":"S57*T57","v":0}]
[]
[null,null,null,null,null,null,null,null,null,null,null,null,null,null,null,{"$f":"Cen!A189","v":"Držáky čela vnitřního výsuvu D bílošedé"},{"$f":"Cen!B189","v":"ZIF.74D0"},{"$f":"Cen!C189","v":"WGR"},{"$f":"SUM($S$3:$S$11)","v":0},{"$f":"Cen!F189","v":156.30000000000001},0]
[null,null,null,null,null,null,null,null,null,null,null,null,null,null,null,{"$f":"Cen!A194","v":"Přední díl vnitřní zásuvky, šedý"},{"$f":"Cen!B194","v":"Z31L1036A  "},{"$f":"Cen!C194","v":"R906"},{"$f":"IF($U$2=4, 0, CEILING(SUM(SUM($D$24:$F$24, $D$32:$F$32)/3, SUM($J$24:$L$24, $J$32:$L$32)/2), 1)*5)","v":0},{"$f":"Cen!F194","v":363.8},0]
[null,null,null,null,null,null,null,null,null,null,null,null,null,null,null,{"$f":"Cen!A199","v":"Příčný reling vnitřní zásuvky, šedý"},{"$f":"Cen!B199","v":"ZRG.1046Z "},{"$f":"Cen!C199","v":"R906"},{"$f":"IF($U$2=4, 0, CEILING(SUM(SUM($D$24:$F$24, $D$32:$F$32)/3, SUM($J$24:$L$24, $J$32:$L$32)/2), 1)*5)","v":0},{"$f":"Cen!F199","v":169.4},0]
[]
[null,null,null,null,null,null,null,null,null,null,null,null,null,null,null,{"$f":"Cen!A215","v":"Podélný reling vlevo/vpravo, 270mm, šedý"},{"$f":"Cen!B215","v":"ZRG.207RSIC"},{"$f":"Cen!C215","v":"R906"},{"$f":"S3","v":0},{"$f":"Cen!F215","v":150},{"$f":"S63*T63","v":0}]
[null,null,null,null,null,null,null,null,null,null,null,null,null,null,null,{"$f":"Cen!A219","v":"Podélný reling vlevo/vpravo, 300mm, šedý"},{"$f":"Cen!B219","v":"ZRG.237RSIC"},{"$f":"Cen!C219","v":"R906"},0,{"$f":"Cen!F219","v":152.5},0]
[null,null,null,null,null,null,null,null,null,null,null,null,null,null,null,{"$f":"Cen!A223","v":"Podélný reling vlevo/vpravo, 350mm, šedý"},{"$f":"Cen!B223","v":"ZRG.287RSIC"},{"$f":"Cen!C223","v":"R906"},0,{"$f":"Cen!F223","v":155},0]
[null,null,null,null,null,null,null,null,null,null,null,null,null,null,null,{"$f":"Cen!A227","v":"Podélný reling vlevo/vpravo, 400mm, šedý"},{"$f":"Cen!B227","v":"ZRG.337RSIC"},{"$f":"Cen!C227","v":"R906"},0,{"$f":"Cen!F227","v":157.5},0]
[null,null,null,null,null,null,null,null,null,null,null,null,null,null,null,{"$f":"Cen!A231","v":"Podélný reling vlevo/vpravo, 450mm, šedý"},{"$f":"Cen!B231","v":"ZRG.387RSIC"},{"$f":"Cen!C231","v":"R906"},0,{"$f":"Cen!F231","v":160},0]
[null,null,null,null,null,null,null,null,null,null,null,null,null,null,null,{"$f":"Cen!A235","v":"Podélný reling vlevo/vpravo, 500mm, šedý"},{"$f":"Cen!B235","v":"ZRG.437RSIC"},{"$f":"Cen!C235","v":"R906"},0,{"$f":"Cen!F235","v":178.7},0]
[null,null,null,null,null,null,null,null,null,null,null,null,null,null,null,{"$f":"Cen!A239","v":"Podélný reling vlevo/vpravo, 550mm, šedý"},{"$f":"Cen!B239","v":"ZRG.487RSIC"},{"$f":"Cen!C239","v":"R906"},0,{"$f":"Cen!F239","v":169.4},0]
[null,null,null,null,null,null,null,null,null,null,null,null,null,null,null,{"$f":"Cen!A243","v":"Podélný reling vlevo/vpravo, 600mm, šedý"},{"$f":"Cen!B243","v":"ZRG.537RSIC"},{"$f":"Cen!C243","v":"R906"},0,{"$f":"Cen!F243","v":176.3},0]
[null,null,null,null,null,null,null,null,null,null,null,null,null,null,null,{"$f":"Cen!A247","v":"Podélný reling vlevo/vpravo, 650mm, šedý"},{"$f":"Cen!B247","v":"ZRG.587RSIC"},{"$f":"Cen!C247","v":"R906"},0,{"$f":"Cen!F247","v":183.2},0]
[]
[null,null,null,null,null,null,null,null,null,null,null,null,null,null,null,{"$f":"Cen!A328","v":"Sada držáků zásuvného prvku D, bílošedá"},{"$f":"Cen!B328","v":"Z36D0080"},{"$f":"Cen!C328","v":"WGR"},{"$f":"SUM($S$3:$S$11)","v":0},{"$f":"Cen!F328","v":63.3},{"$f":"S73*T73","v":0}]
[]
[]
[]
[]
[]
[null,null,null,null,null,null,null,null,null,null,null,null,null,null,null,{"$f":"Cen!A292","v":"Kovový zásuvný prvek D, 450mm, šedý"},{"$f":"Cen!B292","v":"Z37A417D"},{"$f":"Cen!C292","v":"R906"},{"$f":"S7","v":0},{"$f":"Cen!F292","v":156.5},{"$f":"S79*T79","v":0}]
[null,null,null,null,null,null,null,null,null,null,null,null,null,null,null,{"$f":"Cen!A295","v":"Kovový zásuvný prvek D, 500mm, šedý"},{"$f":"Cen!B295","v":"Z37A467D"},{"$f":"Cen!C295","v":"R906"},0,{"$f":"Cen!F295","v":164.4},0]
[null,null,null,null,null,null,null,null,null,null,null,null,null,null,null,{"$f":"Cen!A298","v":"Kovový zásuvný prvek D, 550mm, šedý"},{"$f":"Cen!B298","v":"Z37A517D"},{"$f":"Cen!C298","v":"R906"},0,{"$f":"Cen!F298","v":177.6},0]
[null,null,null,null,null,null,null,null,null,null,null,null,null,null,null,{"$f":"Cen!A301","v":0},{"$f":"Cen!B301","v":0},{"$f":"Cen!C301","v":0},0,{"$f":"Cen!F301","v":0},0]
[null,null,null,null,null,null,null,null,null,null,null,null,null,null,null,{"$f":"Cen!A304","v":"Kovový zásuvný prvek D, 650mm, šedý"},{"$f":"Cen!B304","v":"Z37A617D"},{"$f":"Cen!C304","v":"R906"},{"$f":"SUM(S10:S11)","v":0},{"$f":"Cen!F304","v":204},0]
[]
[null,null,null,null,null,null,null,null,null,null,null,null,null,null,null,{"$f":"Cen!A632","v":"CLIP top 155° s nulovým přesahem, EXPANDO"},{"$f":"Cen!B632","v":"71T753EN"},{"$f":"Cen!C632","v":"NI"},{"$f":"IF($U$2=4, 0, SUM(SUM($D$24:$F$24, $D$32:$F$32)*3, SUM($J$24:$L$24, $J$32:$L$32)*4))","v":0},{"$f":"Cen!F632","v":112.7},{"$f":"S85*T85","v":0}]
[null,null,null,null,null,null,null,null,null,null,null,null,null,null,null,{"$f":"Cen!A639","v":"Podložka CLIP s excentrem, EXPANDO"},{"$f":"Cen!B639","v":"174H7100E"},{"$f":"Cen!C639","v":"NI"},{"$f":"S85","v":0},{"$f":"Cen!F639","v":15.1},0]
[null,null,null,null,null,null,null,null,null,null,null,null,null,null,null,{"$f":"Cen!A644","v":"BLUMOTION pro nasazení na závěs 155° a 125°"},{"$f":"Cen!B644","v":"973A7000"},{"$f":"Cen!C644","v":"NI"},{"$f":"IF($U$2=4, 0, SUM(SUM($D$24:$F$24, $D$32:$F$32)*2, SUM($J$24:$L$24, $J$32:$L$32)*3))","v":0},{"$f":"Cen!F644","v":41},0]
[]
[]
[null,null,null,null,null,null,null,null,null,null,null,null,null,null,null,null,null,null,null,null,{"$f":"SUM(U3:U87)","v":0}]
[]
[]
[]
[]
[]
[]
[]
[]
[]
[]
[]
[]
[null,null,null,null,null,null,null,null,null,null,null,null,null,null,null,{"$f":"List!$B$289&\"!\"","v":"Kovové zásuvné prvky pro nerez (Inox) se nevyrábí!"}]
[null,null,null,null,null,null,null,null,null,null,null,null,null,null,null,{"$f":"List!$B$290&\"!\"","v":"Kování naplánované na tomto listu se neprojeví v objednávce!"}]

{"sheet":"ADD45R","index":42,"n_rows":90,"n_cols":21,"rows_kept":90,"cut":false,"hidden":false,"merged":[]}
[]
[null,null,null,null,null,null,null,null,null,null,null,{"$f":"\"SPACE-TOWER, \"&List!$B$60&\" 5xD\"","v":"SPACE-TOWER, sestava 5xD"},null,null,null,"Počty skříní →",{"$f":"SUM(D24:F24)","v":0},{"$f":"SUM(J24:L24)","v":0},{"$f":"SUM(D32:F32)","v":0},{"$f":"SUM(J32:L32)","v":0}]
[null,null,null,null,null,null,null,null,null,null,null,{"$f":"List!$B$64","v":"podélný reling"},null,{"$f":"List!$B$11&\":\"","v":"Zpět na:"},null,{"$f":"Cen!A28","v":"Bočnice M 270mm, šedé"},{"$f":"Cen!B28","v":"378M2702SA"},{"$f":"Cen!C28","v":"R906"},null,{"$f":"Cen!F28","v":350.6},{"$f":"S3*T3","v":0}]
[null,null,null,null,null,null,null,null,{"$f":"List!$B$72&\":\"","v":"bočnice:"},null,"M",null,null,{"$f":"\" \"&List!$B$13","v":" Úvod"},null,{"$f":"Cen!A32","v":"Bočnice M 300mm, šedé"},{"$f":"Cen!B32","v":"378M3002SA"},{"$f":"Cen!C32","v":"R906"},null,{"$f":"Cen!F32","v":350.6},0]
[null,null,null,null,null,null,null,null,{"$f":"List!$B$27&\":\"","v":"barva:"},null,{"$f":"Form!$O$2","v":"šedá"},null,null,{"$f":"\" \"&List!$B$4","v":" Výběr zásuvek a výsuvů"},null,{"$f":"Cen!A36","v":"Bočnice M 350mm, šedé"},{"$f":"Cen!B36","v":"378M3502SA"},{"$f":"Cen!C36","v":"R906"},null,{"$f":"Cen!F36","v":350.6},0]
[null,null,null,null,null,null,null,null,null,null,null,null,null,null,null,{"$f":"Cen!A40","v":"Bočnice M 400mm, šedé"},{"$f":"Cen!B40","v":"378M4002SA"},{"$f":"Cen!C40","v":"R906"},null,{"$f":"Cen!F40","v":354.3},0]
[null,null,null,null,null,null,null,null,{"$f":"List!$B$102&\" KB:\"","v":"Šířka korpusu KB:"},null,"450, 600 mm",null,null,{"$f":"List!$B$12&\":\"","v":"Pokračovat na:"},null,{"$f":"Cen!A44","v":"Bočnice M 450mm, šedé"},{"$f":"Cen!B44","v":"378M4502SA"},{"$f":"Cen!C44","v":"R906"},{"$f":"SUM($D$24, $J$24, $D$32, $J$32)*5","v":0},{"$f":"Cen!F44","v":358.1},0]
[null,null,null,null,null,null,null,null,null,null,null,null,null,{"$f":"\" \"&List!$B$5","v":" Výběr doplňků"},null,{"$f":"Cen!A48","v":"Bočnice M 500mm, šedé"},{"$f":"Cen!B48","v":"378M5002SA"},{"$f":"Cen!C48","v":"R906"},{"$f":"SUM($E$24, $K$24, $E$32, $K$32)*5","v":0},{"$f":"Cen!F48","v":397.4},0]
[null,null,null,null,null,null,null,null,null,null,null,null,null,{"$f":"\" \"&List!$B$6","v":" Výběr SERVO-DRIVE"},null,{"$f":"Cen!A52","v":"Bočnice M 550mm, šedé"},{"$f":"Cen!B52","v":"378M5502SA"},{"$f":"Cen!C52","v":"R906"},{"$f":"SUM($F$24, $L$24, $F$32, $L$32)*5","v":0},{"$f":"Cen!F52","v":399.2},0]
[null,null,null,null,null,null,null,null,null,null,null,null,null,{"$f":"\" \"&List!$B$7","v":" Výběr ORGA-LINE"},null,{"$f":"Cen!A56","v":"Bočnice M 600mm, šedé"},{"$f":"Cen!B56","v":"378M6002SA"},{"$f":"Cen!C56","v":"R906"},null,{"$f":"Cen!F56","v":508.3},0]
[null,null,null,null,null,null,null,null,null,null,null,null,null,{"$f":"\" \"&List!$B$18","v":" Souhrn"},null,{"$f":"Cen!A60","v":"Bočnice M 650mm, šedé"},{"$f":"Cen!B60","v":"378M6502SA"},{"$f":"Cen!C60","v":"R906"},null,{"$f":"Cen!F60","v":536.29999999999995},0]
[]
[null,null,null,null,null,null,null,null,null,null,null,null,null,null,null,{"$f":"Cen!A94","v":"Korpusové lišty 270mm, BLUMOTION, 30kg"},{"$f":"Cen!B94","v":"578.2701B"},{"$f":"Cen!C94","v":"ZN"},null,{"$f":"Cen!F94","v":459.2},0]
[null,null,null,null,null,null,null,null,null,null,null,null,null,null,null,{"$f":"Cen!A95","v":"Korpusové lišty 300mm, BLUMOTION, 30kg"},{"$f":"Cen!B95","v":"578.3001B"},{"$f":"Cen!C95","v":"ZN"},null,{"$f":"Cen!F95","v":459.2},0]
[null,null,null,null,null,null,null,null,null,null,null,null,null,null,null,{"$f":"Cen!A96","v":"Korpusové lišty 350mm, BLUMOTION, 30kg"},{"$f":"Cen!B96","v":"578.3501B"},{"$f":"Cen!C96","v":"ZN"},null,{"$f":"Cen!F96","v":459.2},0]
[null,null,null,null,null,null,null,null,null,null,null,null,null,null,null,{"$f":"Cen!A97","v":"Korpusové lišty 400mm, BLUMOTION, 30kg"},{"$f":"Cen!B97","v":"578.4001B"},{"$f":"Cen!C97","v":"ZN"},null,{"$f":"Cen!F97","v":462.6},0]
[null,{"$f":"\"   \"&List!B261","v":"   Zadejte počty skříní podle šířky korpusu a délky výsuvů"},null,null,null,null,null,null,null,null,null,null,null,null,null,{"$f":"Cen!A98","v":"Korpusové lišty 450mm, BLUMOTION, 30kg"},{"$f":"Cen!B98","v":"578.4501B"},{"$f":"Cen!C98","v":"ZN"},{"$f":"IF($D$26=0, $D$24*4, $D$24*$D$26)+IF($J$26=0, $J$24*2,$J$24*$J$26)","v":0},{"$f":"Cen!F98","v":466},0]
[null,{"$f":"\"   \"&List!B265","v":"   Zadejte počet korpusových lišt, pokud chcete jiné, než přednastavené složení"},null,null,null,null,null,null,null,null,null,null,null,null,null,{"$f":"Cen!A99","v":"Korpusové lišty 450mm, BLUMOTION, 65kg"},{"$f":"Cen!B99","v":"576.4501B"},{"$f":"Cen!C99","v":"ZN"},{"$f":"IF($D$26=0, $D$24*1, $D$24*$D$27)+IF($J$26=0, $J$24*3,$J$24*$J$27)","v":0},{"$f":"Cen!F99","v":560.79999999999995},0]
[null,{"$f":"\"         \"&List!B263","v":"         Zadejte počty 30kg korpusových lišt, 65kg lišty se dopočítají"},null,null,null,null,null,null,null,null,null,null,null,null,null,{"$f":"Cen!A100","v":"Korpusové lišty 500mm, BLUMOTION, 30kg"},{"$f":"Cen!B100","v":"578.5001B"},{"$f":"Cen!C100","v":"ZN"},{"$f":"IF($E$26=0, $E$24*4, $E$24*$E$26)+IF($K$26=0, $K$24*2,$K$24*$K$26)","v":0},{"$f":"Cen!F100","v":469.5},0]
[null,null,null,null,null,null,null,null,null,null,null,null,null,null,null,{"$f":"Cen!A101","v":"Korpusové lišty 500mm, BLUMOTION, 65kg"},{"$f":"Cen!B101","v":"576.5001B"},{"$f":"Cen!C101","v":"ZN"},{"$f":"IF($E$26=0, $E$24*1, $E$24*$E$27)+IF($K$26=0, $K$24*3,$K$24*$K$27)","v":0},{"$f":"Cen!F101","v":620.4},0]
[null,{"$f":"\"▼   \"&List!$B$102&\" KB 450 mm\"","v":"▼   Šířka korpusu KB 450 mm"},null,null,null,null,null,{"$f":"\"▼   \"&List!$B$102&\" KB 600 mm\"","v":"▼   Šířka korpusu KB 600 mm"},null,null,null,null,null,null,null,{"$f":"Cen!A102","v":"Korpusové lišty 550mm, BLUMOTION, 30kg"},{"$f":"Cen!B102","v":"578.5501B"},{"$f":"Cen!C102","v":"ZN"},{"$f":"IF($F$26=0, $F$24*4, $F$24*$F$26)+IF($L$26=0, $L$24*2,$L$24*$L$26)","v":0},{"$f":"Cen!F102","v":493.5},0]
[null,"       BLUMOTION",null,null,null,null,null,"       BLUMOTION",null,null,null,null,null,null,null,{"$f":"Cen!A103","v":"Korpusové lišty 550mm, BLUMOTION, 65kg"},{"$f":"Cen!B103","v":"576.5501B"},{"$f":"Cen!C103","v":"ZN"},{"$f":"IF($F$26=0, $F$24*1, $F$24*$F$27)+IF($L$26=0, $L$24*3,$L$24*$L$27)","v":0},{"$f":"Cen!F103","v":644.29999999999995},0]
[null,null,{"$f":"List!$B$45&\":\"","v":"Jmenovitá délka:"},450,500,550,null,null,{"$f":"List!$B$45&\":\"","v":"Jmenovitá délka:"},450,500,550,null,null,null,{"$f":"Cen!A104","v":"Korpusové lišty 600mm, BLUMOTION, 30kg"},{"$f":"Cen!B104","v":"578.6001B"},{"$f":"Cen!C104","v":"ZN"},null,{"$f":"Cen!F104","v":523.9},0]
[null,null,{"$f":"List!$B$260&\":\"","v":"Počet skříní:"},null,null,null,null,null,{"$f":"List!$B$260&\":\"","v":"Počet skříní:"},null,null,null,null,null,null,{"$f":"Cen!A105","v":"Korpusové lišty 600mm, BLUMOTION, 65kg"},{"$f":"Cen!B105","v":"576.6001B"},{"$f":"Cen!C105","v":"ZN"},null,{"$f":"Cen!F105","v":661.1},0]
[null,{"$f":"List!$B$264","v":"Korpusové lišty"},null,null,null,null,null,{"$f":"List!$B$264","v":"Korpusové lišty"},null,null,null,null,null,null,null,{"$f":"Cen!A106","v":"Korpusové lišty 650mm, BLUMOTION, 65kg"},{"$f":"Cen!B106","v":"576.6501B"},{"$f":"Cen!C106","v":"ZN"},null,{"$f":"Cen!F106","v":751.2},0]
[null,"30 kg","4 ks*",null,null,null,null,"30 kg",{"$f":"\"2 ks*\"","v":"2 ks*"},null,null,null,null,null,null,{"$f":"Cen!A109","v":"Korp. lišty TIP-ON BLUMOTION, 270mm, 30 kg"},{"$f":"Cen!B109","v":"578.2701M"},{"$f":"Cen!C109","v":"ZN"},null,{"$f":"Cen!F109","v":417.4},0]
[null,"65 kg","1 ks*",{"$f":"IF(D26>0, IF(D26>5,0, 5-D26),0)","v":0},{"$f":"IF(E26>0, IF(E26>5,0, 5-E26),0)","v":0},{"$f":"IF(F26>0, IF(F26>5,0, 5-F26),0)","v":0},null,"65 kg",{"$f":"\"3 ks*\"","v":"3 ks*"},{"$f":"IF(J26>0, IF(J26>5,0, 5-J26),0)","v":0},{"$f":"IF(K26>0, IF(K26>5,0, 5-K26),0)","v":0},{"$f":"IF(L26>0, IF(L26>5,0, 5-L26),0)","v":0},null,null,null,{"$f":"Cen!A110","v":"Korp. lišty TIP-ON BLUMOTION, 300mm, 30 kg"},{"$f":"Cen!B110","v":"578.3001M"},{"$f":"Cen!C110","v":"ZN"},null,{"$f":"Cen!F110","v":417.4},0]
[null,null,null,{"$f":"IF(D26>5,\"Max. 5!\",\" \")","v":" "},{"$f":"IF(E26>5,\"Max. 5!\",\" \")","v":" "},{"$f":"IF(F26>5,\"Max. 5!\",\" \")","v":" "},null,null,null,{"$f":"IF(J26>5,\"Max. 5!\",\" \")","v":" "},{"$f":"IF(K26>5,\"Max. 5!\",\" \")","v":" "},{"$f":"IF(L26>5,\"Max. 5!\",\" \")","v":" "},null,null,null,{"$f":"Cen!A111","v":"Korp. lišty TIP-ON BLUMOTION, 350mm, 30 kg"},{"$f":"Cen!B111","v":"578.3501M"},{"$f":"Cen!C111","v":"ZN"},null,{"$f":"Cen!F111","v":417.4},0]
[null,null,null,null,null,null,null,null,null,null,null,null,null,null,null,{"$f":"Cen!A112","v":"Korp. lišty TIP-ON BLUMOTION, 400mm, 30 kg"},{"$f":"Cen!B112","v":"578.4001M"},{"$f":"Cen!C112","v":"ZN"},null,{"$f":"Cen!F112","v":420.5},0]
[null,"        TIP-ON BLUMOTION",null,null,null,null,null,"        TIP-ON BLUMOTION",null,null,null,null,null,null,null,{"$f":"Cen!A113","v":"Korp. lišty TIP-ON BLUMOTION, 450mm, 30 kg"},{"$f":"Cen!B113","v":"578.4501M"},{"$f":"Cen!C113","v":"ZN"},{"$f":"IF($D$34=0, $D$32*4, $D$32*$D$34)+IF($J$34=0, $J$32*2,$J$32*$J$34)","v":0},{"$f":"Cen!F113","v":423.7},0]
[null,null,{"$f":"List!$B$45&\":\"","v":"Jmenovitá délka:"},450,500,550,null,null,{"$f":"List!$B$45&\":\"","v":"Jmenovitá délka:"},450,500,550,null,null,null,{"$f":"Cen!A114","v":"Korp. lišty TIP-ON BLUMOTION, 450mm, 65 kg"},{"$f":"Cen!B114","v":"578.4501M"},{"$f":"Cen!C114","v":"ZN"},{"$f":"IF($D$34=0, $D$32*1, $D$32*$D$35)+IF($J$34=0, $J$32*3,$J$32*$J$35)","v":0},{"$f":"Cen!F114","v":560.79999999999995},0]
[null,null,{"$f":"List!$B$260&\":\"","v":"Počet skříní:"},null,null,null,null,null,{"$f":"List!$B$260&\":\"","v":"Počet skříní:"},null,null,null,null,null,null,{"$f":"Cen!A115","v":"Korp. lišty TIP-ON BLUMOTION, 500mm, 30 kg"},{"$f":"Cen!B115","v":"578.5001M"},{"$f":"Cen!C115","v":"ZN"},{"$f":"IF($E$34=0, $E$32*4, $E$32*$E$34)+IF($K$34=0, $K$32*2,$K$32*$K$34)","v":0},{"$f":"Cen!F115","v":426.8},0]
[null,{"$f":"List!$B$264","v":"Korpusové lišty"},null,null,null,null,null,{"$f":"List!$B$264","v":"Korpusové lišty"},null,null,null,null,null,null,null,{"$f":"Cen!A116","v":"Korp. lišty TIP-ON BLUMOTION, 500mm, 65 kg"},{"$f":"Cen!B116","v":"576.5001M"},{"$f":"Cen!C116","v":"ZN"},{"$f":"IF($E$34=0, $E$32*1, $E$32*$E$35)+IF($K$34=0, $K$32*3,$K$32*$K$35)","v":0},{"$f":"Cen!F116","v":564},0]
[null,"30 kg","4 ks*",null,null,null,null,"30 kg",{"$f":"\"2 ks*\"","v":"2 ks*"},null,null,null,null,null,null,{"$f":"Cen!A117","v":"Korp. lišty TIP-ON BLUMOTION, 550mm, 30 kg"},{"$f":"Cen!B117","v":"578.5501M"},{"$f":"Cen!C117","v":"ZN"},{"$f":"IF($F$34=0, $F$32*4, $F$32*$F$34)+IF($L$34=0, $L$32*2,$L$32*$L$34)","v":0},{"$f":"Cen!F117","v":448.6},0]
[null,"65 kg","1 ks*",{"$f":"IF(D34>0,IF(D34>5,0,5-D34),0)","v":0},{"$f":"IF(E34>0,IF(E34>5,0,5-E34),0)","v":0},{"$f":"IF(F34>0,IF(F34>5,0,5-F34),0)","v":0},null,"65 kg",{"$f":"\"3 ks*\"","v":"3 ks*"},{"$f":"IF(J34>0,IF(J34>5,0,5-J34),0)","v":0},{"$f":"IF(K34>0,IF(K34>5,0,5-K34),0)","v":0},{"$f":"IF(L34>0,IF(L34>5,0,5-L34),0)","v":0},null,null,null,{"$f":"Cen!A118","v":"Korp. lišty TIP-ON BLUMOTION, 550mm, 65 kg"},{"$f":"Cen!B118","v":"576.5501M"},{"$f":"Cen!C118","v":"ZN"},{"$f":"IF($F$34=0, $F$32*1, $F$32*$F$35)+IF($L$34=0, $L$32*3,$L$32*$L$35)","v":0},{"$f":"Cen!F118","v":585.79999999999995},0]
[null,null,null,{"$f":"IF(D34>5,\"Max. 5!\",\" \")","v":" "},{"$f":"IF(E34>5,\"Max. 5!\",\" \")","v":" "},{"$f":"IF(F34>5,\"Max. 5!\",\" \")","v":" "},null,null,null,{"$f":"IF(J34>5,\"Max. 5!\",\" \")","v":" "},{"$f":"IF(K34>5,\"Max. 5!\",\" \")","v":" "},{"$f":"IF(L34>5,\"Max. 5!\",\" \")","v":" "},null,null,null,{"$f":"Cen!A119","v":"Korp. lišty TIP-ON BLUMOTION, 600mm, 30 kg"},{"$f":"Cen!B119","v":"578.6001M"},{"$f":"Cen!C119","v":"ZN"},null,{"$f":"Cen!F119","v":542},0]
[null,null,null,null,null,null,null,null,null,null,null,null,null,null,null,{"$f":"Cen!A120","v":"Korp. lišty TIP-ON BLUMOTION, 600mm, 65 kg"},{"$f":"Cen!B120","v":"576.6001M"},{"$f":"Cen!C120","v":"ZN"},null,{"$f":"Cen!F120","v":661.1},0]
[null,{"$f":"\"       * \"&List!$B$266","v":"       * Nastavené počty korpusových lišt"},null,null,null,null,null,null,null,null,null,null,null,null,null,{"$f":"Cen!A121","v":"Korp. lišty TIP-ON BLUMOTION, 650mm, 65 kg"},{"$f":"Cen!B121","v":"576.6501M"},{"$f":"Cen!C121","v":"ZN"},null,{"$f":"Cen!F121","v":682.9},0]
[null,{"$f":"\"     ** \"&List!$B$269","v":"     ** Jednotky TIP-ON BLUMOTION jsou přidány automaticky"}]
[null,{"$f":"\"        \"&List!B270","v":"        Synchronizace je přidána automaticky. "},null,null,null,null,null,null,null,null,null,null,null,null,null,{"$f":"Cen!A124","v":"Sada jednotek TIP-ON BLUMOTION, S0"},{"$f":"Cen!B124","v":"T60B3030"},{"$f":"Cen!C124","v":"W"},null,{"$f":"Cen!F124","v":404.5},{"$f":"S40*T40","v":0}]
[null,null,null,null,null,null,null,null,null,null,null,null,null,null,null,{"$f":"Cen!A125","v":"Sada jednotek TIP-ON BLUMOTION, S1"},{"$f":"Cen!B125","v":"T60B3130"},{"$f":"Cen!C125","v":"R735"},null,{"$f":"Cen!F125","v":404.5},0]
[null,null,null,null,null,null,null,null,null,null,null,null,null,null,null,{"$f":"Cen!A126","v":"Sada jednotek TIP-ON BLUMOTION, L1"},{"$f":"Cen!B126","v":"T60B3330"},{"$f":"Cen!C126","v":"R735"},null,{"$f":"Cen!F126","v":404.5},0]
[null,{"$f":"List!$B$23&\": *\"","v":"Volitelně: *"},null,null,null,null,null,null,null,null,null,null,null,null,null,{"$f":"Cen!A127","v":"Sada jednotek TIP-ON BLUMOTION, L3"},{"$f":"Cen!B127","v":"T60B3530"},{"$f":"Cen!C127","v":"R737"},{"$f":"SUM(S30, S32, S34)","v":0},{"$f":"Cen!F127","v":404.5},0]
[null,{"$f":"Cen!A328","v":"Sada držáků zásuvného prvku D, bílošedá"},{"$f":"Cen!B328","v":"Z36D0080"},null,null,null,null,null,{"$f":"Cen!C328","v":"WGR"},null,null,null,null,null,null,{"$f":"Cen!A128","v":"Sada jednotek TIP-ON BLUMOTION, L5"},{"$f":"Cen!B128","v":"T60B3560"},{"$f":"Cen!C128","v":"S"},{"$f":"SUM(S31, S33, S35)","v":0},{"$f":"Cen!F128","v":404.5},0]
[]
[null,{"$f":"\"     * \"&List!$B$148","v":"     * Sada držáků, pro vlastní zásuvný prvek"},null,null,null,null,null,null,null,null,null,null,null,null,null,{"$f":"Cen!A130","v":"Synchronizační adaptér"},{"$f":"Cen!B130","v":"T60.000D"},{"$f":"Cen!C130","v":"R735"},{"$f":"SUM($S$40:$S$44)*2","v":0},{"$f":"Cen!F130","v":5.8},0]
[null,{"$f":"\"       \"&List!$B$150&\"!\"","v":"       Cena držáků zásuvného prvku není zahrnuta do cen jednotlivých výsuvů!"},null,null,null,null,null,null,null,null,null,null,null,null,null,{"$f":"Cen!A131","v":"Hřídel synchronizace"},{"$f":"Cen!B131","v":"T60.1125W"},{"$f":"Cen!C131","v":"GR"},{"$f":"CEILING(SUM(SUM($D$32:$F$32)/6, SUM($J$32:$L$32)/3), 1)*5","v":0},{"$f":"Cen!F131","v":95.6},0]
[null,null,null,null,null,null,null,null,null,null,null,null,null,null,null,{"$f":"Cen!A132","v":"Jednodílná synchronizace"},{"$f":"Cen!B132","v":"T60.300D"},{"$f":"Cen!C132","v":"R735"},null,{"$f":"Cen!F132","v":23.2},0]
[null,null,null,null,null,null,null,null,null,null,null,null,null,null,null,{"$f":"Cen!A134","v":"Držák hřídele synchronizace"},{"$f":"Cen!B134","v":"T60B000H"},{"$f":"Cen!C134","v":"NI"},null,{"$f":"Cen!F134","v":6},0]
[null,null,null,null,null,null,null,null,null,null,null,null,null,null,null,{"$f":"Cen!A135","v":"Podpěrný úhelník pro dno"},{"$f":"Cen!B135","v":"Z96.2011"},{"$f":"Cen!C135","v":"R737"},null,{"$f":"Cen!F135","v":29.8},0]
[]
[null,null,null,null,null,null,null,null,null,null,null,null,null,null,null,{"$f":"Cen!A143","v":"Držáky zadní stěny N, šedé"},{"$f":"Cen!B143","v":"Z30N000S.04"},{"$f":"Cen!C143","v":"R906"},null,{"$f":"Cen!F143","v":36.5},{"$f":"S52*T52","v":0}]
[null,null,null,null,null,null,null,null,null,null,null,null,null,null,null,{"$f":"Cen!A147","v":"Držáky zadní stěny M, šedé"},{"$f":"Cen!B147","v":"Z30M000S.04"},{"$f":"Cen!C147","v":"R906"},null,{"$f":"Cen!F147","v":40.200000000000003},{"$f":"S53*T53","v":0}]
[null,null,null,null,null,null,null,null,null,null,null,null,null,null,null,{"$f":"Cen!A151","v":"Držáky zadní stěny K, šedé"},{"$f":"Cen!B151","v":"Z30K000S"},{"$f":"Cen!C151","v":"R906"},null,{"$f":"Cen!F151","v":67.400000000000006},0]
[null,null,null,null,null,null,null,null,null,null,null,null,null,null,null,{"$f":"Cen!A154","v":"Držáky zadní stěny B, šedé"},{"$f":"Cen!B154","v":"Z30B000S.04"},{"$f":"Cen!C154","v":"R906"},null,{"$f":"Cen!F154","v":48.8},0]
[null,null,null,null,null,null,null,null,null,null,null,null,null,null,null,{"$f":"Cen!A158","v":"Držáky zadní stěny C, šedé"},{"$f":"Cen!B158","v":"Z30C000S"},{"$f":"Cen!C158","v":"R906"},null,{"$f":"Cen!F158","v":71},0]
[null,null,null,null,null,null,null,null,null,null,null,null,null,null,null,{"$f":"Cen!A162","v":"Držáky zadní stěny D, šedé"},{"$f":"Cen!B162","v":"Z30D000S"},{"$f":"Cen!C162","v":"R906"},{"$f":"SUM($S$3:$S$11)","v":0},{"$f":"Cen!F162","v":78.099999999999994},{"$f":"S57*T57","v":0}]
[]
[null,null,null,null,null,null,null,null,null,null,null,null,null,null,null,{"$f":"Cen!A189","v":"Držáky čela vnitřního výsuvu D bílošedé"},{"$f":"Cen!B189","v":"ZIF.74D0"},{"$f":"Cen!C189","v":"WGR"},{"$f":"SUM($S$3:$S$11)","v":0},{"$f":"Cen!F189","v":156.30000000000001},0]
[null,null,null,null,null,null,null,null,null,null,null,null,null,null,null,{"$f":"Cen!A194","v":"Přední díl vnitřní zásuvky, šedý"},{"$f":"Cen!B194","v":"Z31L1036A  "},{"$f":"Cen!C194","v":"R906"},{"$f":"CEILING(SUM(SUM($D$24:$F$24, $D$32:$F$32)/3, SUM($J$24:$L$24, $J$32:$L$32)/2), 1)*5","v":0},{"$f":"Cen!F194","v":363.8},0]
[null,null,null,null,null,null,null,null,null,null,null,null,null,null,null,{"$f":"Cen!A199","v":"Příčný reling vnitřní zásuvky, šedý"},{"$f":"Cen!B199","v":"ZRG.1046Z "},{"$f":"Cen!C199","v":"R906"},{"$f":"CEILING(SUM(SUM($D$24:$F$24, $D$32:$F$32)/3, SUM($J$24:$L$24, $J$32:$L$32)/2), 1)*5","v":0},{"$f":"Cen!F199","v":169.4},0]
[]
[null,null,null,null,null,null,null,null,null,null,null,null,null,null,null,{"$f":"Cen!A215","v":"Podélný reling vlevo/vpravo, 270mm, šedý"},{"$f":"Cen!B215","v":"ZRG.207RSIC"},{"$f":"Cen!C215","v":"R906"},{"$f":"S3","v":0},{"$f":"Cen!F215","v":150},{"$f":"S63*T63","v":0}]
[null,null,null,null,null,null,null,null,null,null,null,null,null,null,null,{"$f":"Cen!A219","v":"Podélný reling vlevo/vpravo, 300mm, šedý"},{"$f":"Cen!B219","v":"ZRG.237RSIC"},{"$f":"Cen!C219","v":"R906"},0,{"$f":"Cen!F219","v":152.5},0]
[null,null,null,null,null,null,null,null,null,null,null,null,null,null,null,{"$f":"Cen!A223","v":"Podélný reling vlevo/vpravo, 350mm, šedý"},{"$f":"Cen!B223","v":"ZRG.287RSIC"},{"$f":"Cen!C223","v":"R906"},0,{"$f":"Cen!F223","v":155},0]
[null,null,null,null,null,null,null,null,null,null,null,null,null,null,null,{"$f":"Cen!A227","v":"Podélný reling vlevo/vpravo, 400mm, šedý"},{"$f":"Cen!B227","v":"ZRG.337RSIC"},{"$f":"Cen!C227","v":"R906"},0,{"$f":"Cen!F227","v":157.5},0]
[null,null,null,null,null,null,null,null,null,null,null,null,null,null,null,{"$f":"Cen!A231","v":"Podélný reling vlevo/vpravo, 450mm, šedý"},{"$f":"Cen!B231","v":"ZRG.387RSIC"},{"$f":"Cen!C231","v":"R906"},0,{"$f":"Cen!F231","v":160},0]
[null,null,null,null,null,null,null,null,null,null,null,null,null,null,null,{"$f":"Cen!A235","v":"Podélný reling vlevo/vpravo, 500mm, šedý"},{"$f":"Cen!B235","v":"ZRG.437RSIC"},{"$f":"Cen!C235","v":"R906"},0,{"$f":"Cen!F235","v":178.7},0]
[null,null,null,null,null,null,null,null,null,null,null,null,null,null,null,{"$f":"Cen!A239","v":"Podélný reling vlevo/vpravo, 550mm, šedý"},{"$f":"Cen!B239","v":"ZRG.487RSIC"},{"$f":"Cen!C239","v":"R906"},0,{"$f":"Cen!F239","v":169.4},0]
[null,null,null,null,null,null,null,null,null,null,null,null,null,null,null,{"$f":"Cen!A243","v":"Podélný reling vlevo/vpravo, 600mm, šedý"},{"$f":"Cen!B243","v":"ZRG.537RSIC"},{"$f":"Cen!C243","v":"R906"},0,{"$f":"Cen!F243","v":176.3},0]
[null,null,null,null,null,null,null,null,null,null,null,null,null,null,null,{"$f":"Cen!A247","v":"Podélný reling vlevo/vpravo, 650mm, šedý"},{"$f":"Cen!B247","v":"ZRG.587RSIC"},{"$f":"Cen!C247","v":"R906"},0,{"$f":"Cen!F247","v":183.2},0]
[]
[null,null,null,null,null,null,null,null,null,null,null,null,null,null,null,{"$f":"Cen!A328","v":"Sada držáků zásuvného prvku D, bílošedá"},{"$f":"Cen!B328","v":"Z36D0080"},{"$f":"Cen!C328","v":"WGR"},{"$f":"J44","v":0},{"$f":"Cen!F328","v":63.3},{"$f":"S73*T73","v":0}]
[]
[]
[]
[]
[]
[]
[]
[]
[]
[]
[]
[null,null,null,null,null,null,null,null,null,null,null,null,null,null,null,{"$f":"Cen!A632","v":"CLIP top 155° s nulovým přesahem, EXPANDO"},{"$f":"Cen!B632","v":"71T753EN"},{"$f":"Cen!C632","v":"NI"},{"$f":"SUM(SUM($D$24:$F$24, $D$32:$F$32)*3, SUM($J$24:$L$24, $J$32:$L$32)*4)","v":0},{"$f":"Cen!F632","v":112.7},{"$f":"S85*T85","v":0}]
[null,null,null,null,null,null,null,null,null,null,null,null,null,null,null,{"$f":"Cen!A639","v":"Podložka CLIP s excentrem, EXPANDO"},{"$f":"Cen!B639","v":"174H7100E"},{"$f":"Cen!C639","v":"NI"},{"$f":"S85","v":0},{"$f":"Cen!F639","v":15.1},0]
[null,null,null,null,null,null,null,null,null,null,null,null,null,null,null,{"$f":"Cen!A644","v":"BLUMOTION pro nasazení na závěs 155° a 125°"},{"$f":"Cen!B644","v":"973A7000"},{"$f":"Cen!C644","v":"NI"},{"$f":"SUM(SUM($D$24:$F$24, $D$32:$F$32)*2, SUM($J$24:$L$24, $J$32:$L$32)*3)","v":0},{"$f":"Cen!F644","v":41},0]
[]
[]
[null,null,null,null,null,null,null,null,null,null,null,null,null,null,null,null,null,null,null,null,{"$f":"SUM(U3:U87)","v":0}]

{"sheet":"Acs","index":43,"n_rows":294,"n_cols":10,"rows_kept":294,"cut":false,"hidden":false,"merged":[[4,0,12,0],[15,0,19,0],[293,9,293,10],[129,9,129,10],[283,0,332,0],[185,9,185,10],[127,0,188,0],[27,0,31,0]]}
[null,null,null,null,null,null,{"$f":"List!B5","v":"Výběr doplňků"}]
[null,{"$f":"List!$B$141","v":"Ostatní"},null,null,{"$f":"List!$B$90&\":\"","v":"Počet:"},null,null,null,{"$f":"List!$B$11&\":\"","v":"Zpět na:"}]
[1,{"$f":"Cen!A154","v":"Držáky zadní stěny B, šedé"},{"$f":"Cen!B154","v":"Z30B000S.04"},{"$f":"Cen!C154","v":"R906"},null,{"$f":"Cen!F154","v":48.8},{"$f":"E3*F3","v":0},null,{"$f":"\" \"&List!$B$13","v":" Úvod"}]
[2,{"$f":"Cen!A167","v":"Variabilní držák relingu, vlevo/vpravo, šedý"},{"$f":"Cen!B167","v":"ZRR.5200"},{"$f":"Cen!C167","v":"R906"},null,{"$f":"Cen!F167","v":49.3},{"$f":"E4*F4","v":0},null,{"$f":"\" \"&List!$B$4","v":" Výběr zásuvek a výsuvů"}]
[3,{"$f":"Cen!A215","v":"Podélný reling vlevo/vpravo, 270mm, šedý"},{"$f":"Cen!B215","v":"ZRG.207RSIC"},{"$f":"Cen!C215","v":"R906"},null,{"$f":"Cen!F215","v":150},{"$f":"E5*F5","v":0}]
[null,{"$f":"Cen!A219","v":"Podélný reling vlevo/vpravo, 300mm, šedý"},{"$f":"Cen!B219","v":"ZRG.237RSIC"},{"$f":"Cen!C219","v":"R906"},null,{"$f":"Cen!F219","v":152.5},0,null,{"$f":"List!$B$12&\":\"","v":"Pokračovat na:"}]
[null,{"$f":"Cen!A223","v":"Podélný reling vlevo/vpravo, 350mm, šedý"},{"$f":"Cen!B223","v":"ZRG.287RSIC"},{"$f":"Cen!C223","v":"R906"},null,{"$f":"Cen!F223","v":155},0,null,{"$f":"\" \"&List!$B$6","v":" Výběr SERVO-DRIVE"}]
[null,{"$f":"Cen!A227","v":"Podélný reling vlevo/vpravo, 400mm, šedý"},{"$f":"Cen!B227","v":"ZRG.337RSIC"},{"$f":"Cen!C227","v":"R906"},null,{"$f":"Cen!F227","v":157.5},0,null,{"$f":"\" \"&List!$B$7","v":" Výběr ORGA-LINE"}]
[null,{"$f":"Cen!A231","v":"Podélný reling vlevo/vpravo, 450mm, šedý"},{"$f":"Cen!B231","v":"ZRG.387RSIC"},{"$f":"Cen!C231","v":"R906"},null,{"$f":"Cen!F231","v":160},0,null,{"$f":"\" \"&List!$B$18","v":" Souhrn"}]
[null,{"$f":"Cen!A235","v":"Podélný reling vlevo/vpravo, 500mm, šedý"},{"$f":"Cen!B235","v":"ZRG.437RSIC"},{"$f":"Cen!C235","v":"R906"},null,{"$f":"Cen!F235","v":178.7},{"$f":"E10*F10","v":0}]
[null,{"$f":"Cen!A239","v":"Podélný reling vlevo/vpravo, 550mm, šedý"},{"$f":"Cen!B239","v":"ZRG.487RSIC"},{"$f":"Cen!C239","v":"R906"},null,{"$f":"Cen!F239","v":169.4},{"$f":"E11*F11","v":0},null,{"$f":"\"     \"&List!$B$25","v":"     Informace k objednávání"}]
[null,{"$f":"Cen!A243","v":"Podélný reling vlevo/vpravo, 600mm, šedý"},{"$f":"Cen!B243","v":"ZRG.537RSIC"},{"$f":"Cen!C243","v":"R906"},null,{"$f":"Cen!F243","v":176.3},0]
[null,{"$f":"Cen!A247","v":"Podélný reling vlevo/vpravo, 650mm, šedý"},{"$f":"Cen!B247","v":"ZRG.587RSIC"},{"$f":"Cen!C247","v":"R906"},null,{"$f":"Cen!F247","v":183.2},0]
[4,{"$f":"Cen!A204","v":"Úchytka pro vnirřní zásuvku, bílošedá"},{"$f":"Cen!B204","v":"ZIF.80M5"},{"$f":"Cen!C204","v":"WGR"},null,{"$f":"Cen!F204","v":103.7},{"$f":"E14*F14","v":0}]
[5,{"$f":"Cen!A208","v":"Úchytka a unašeč pro vnirřní zásuvku, bílošedá"},{"$f":"Cen!B208","v":"ZIF.80M7"},{"$f":"Cen!C208","v":"WGR"},null,{"$f":"Cen!F208","v":160.4},0]
[6,{"$f":"Cen!A124","v":"Sada jednotek TIP-ON BLUMOTION, S0"},{"$f":"Cen!B124","v":"T60B3030"},{"$f":"Cen!C124","v":"W"},null,{"$f":"Cen!F124","v":404.5},{"$f":"E16*F16","v":0}]
[null,{"$f":"Cen!A125","v":"Sada jednotek TIP-ON BLUMOTION, S1"},{"$f":"Cen!B125","v":"T60B3130"},{"$f":"Cen!C125","v":"R735"},null,{"$f":"Cen!F125","v":404.5},0]
[null,{"$f":"Cen!A126","v":"Sada jednotek TIP-ON BLUMOTION, L1"},{"$f":"Cen!B126","v":"T60B3330"},{"$f":"Cen!C126","v":"R735"},null,{"$f":"Cen!F126","v":404.5},0]
[null,{"$f":"Cen!A127","v":"Sada jednotek TIP-ON BLUMOTION, L3"},{"$f":"Cen!B127","v":"T60B3530"},{"$f":"Cen!C127","v":"R737"},null,{"$f":"Cen!F127","v":404.5},0]
[null,{"$f":"Cen!A128","v":"Sada jednotek TIP-ON BLUMOTION, L5"},{"$f":"Cen!B128","v":"T60B3560"},{"$f":"Cen!C128","v":"S"},null,{"$f":"Cen!F128","v":404.5},0]
["6a",{"$f":"Cen!A130","v":"Synchronizační adaptér"},{"$f":"Cen!B130","v":"T60.000D"},{"$f":"Cen!C130","v":"R735"},null,{"$f":"Cen!F130","v":5.8},0]
["6b",{"$f":"Cen!A131","v":"Hřídel synchronizace"},{"$f":"Cen!B131","v":"T60.1125W"},{"$f":"Cen!C131","v":"GR"},null,{"$f":"Cen!F131","v":95.6},0]
["6c",{"$f":"Cen!A132","v":"Jednodílná synchronizace"},{"$f":"Cen!B132","v":"T60.300D"},{"$f":"Cen!C132","v":"R735"},null,{"$f":"Cen!F132","v":23.2},0]
[7,{"$f":"Cen!A134","v":"Držák hřídele synchronizace"},{"$f":"Cen!B134","v":"T60B000H"},{"$f":"Cen!C134","v":"NI"},null,{"$f":"Cen!F134","v":6},0]
[8,{"$f":"Cen!A135","v":"Podpěrný úhelník pro dno"},{"$f":"Cen!B135","v":"Z96.2011"},{"$f":"Cen!C135","v":"R737"},null,{"$f":"Cen!F135","v":29.8},0]
[9,{"$f":"Cen!A610","v":"Stabilizace čel"},{"$f":"Cen!B610","v":"Z96.10E1"},{"$f":"Cen!C610","v":"R737"},null,{"$f":"Cen!F610","v":29.8},{"$f":"E26*F26","v":0}]
[10,{"$f":"Cen!A611","v":"Tlumící čočka k zavrtání"},{"$f":"Cen!B611","v":"993.706"},{"$f":"Cen!C611","v":"R906"},null,{"$f":"Cen!F611","v":3.8},{"$f":"E27*F27","v":0}]
[11,{"$f":"Cen!A612","v":"Boční stabilizace, 450 mm"},{"$f":"Cen!B612","v":"ZST.450BA"},{"$f":"Cen!C612","v":"R737"},null,{"$f":"Cen!F612","v":561.5},{"$f":"E28*F28","v":0}]
[null,{"$f":"Cen!A613","v":"Boční stabilizace, 500 mm"},{"$f":"Cen!B613","v":"ZST.500BA"},{"$f":"Cen!C613","v":"R737"},null,{"$f":"Cen!F613","v":350},{"$f":"E29*F29","v":0}]
[null,{"$f":"Cen!A614","v":"Boční stabilizace, 550 mm"},{"$f":"Cen!B614","v":"ZST.550BA"},{"$f":"Cen!C614","v":"R737"},null,{"$f":"Cen!F614","v":1070.0999999999999},{"$f":"E30*F30","v":0}]
[null,{"$f":"Cen!A615","v":"Boční stabilizace, 600 mm"},{"$f":"Cen!B615","v":"ZST.600BA"},{"$f":"Cen!C615","v":"R737"},null,{"$f":"Cen!F615","v":1074.7},0]
[null,{"$f":"Cen!A616","v":"Boční stabilizace, 650 mm"},{"$f":"Cen!B616","v":"ZST.650BA"},{"$f":"Cen!C616","v":"R737"},null,{"$f":"Cen!F616","v":0},{"$f":"E32*F32","v":0}]
[null,null,null,null,null,{"$f":"List!$B$93&\":\"","v":"Celkem:"},{"$f":"SUM(G3:G32)","v":0}]
[]
[null,{"$f":"List!B142","v":"Závěsy pro potravinové skříně"},null,null,{"$f":"List!$B$90&\":\"","v":"Počet:"}]
["1a",{"$f":"Cen!A631","v":"CLIP top 155° s nulovým přesahem"},{"$f":"Cen!B631","v":"71T7500N"},{"$f":"Cen!C631","v":"NI"},null,{"$f":"Cen!F631","v":112.5},{"$f":"E36*F36","v":0},null,{"$f":"\"     \"&List!$B$25","v":"     Informace k objednávání"}]
["1b",{"$f":"Cen!A632","v":"CLIP top 155° s nulovým přesahem, EXPANDO"},{"$f":"Cen!B632","v":"71T753EN"},{"$f":"Cen!C632","v":"NI"},null,{"$f":"Cen!F632","v":112.7},{"$f":"E37*F37","v":0}]
["1c",{"$f":"Cen!A633","v":"CLIP top 155° s nulovým přesahem, bez pružiny"},{"$f":"Cen!B633","v":"70T7500NTL"},{"$f":"Cen!C633","v":"NI"},null,{"$f":"Cen!F633","v":112.5},{"$f":"E38*F38","v":0}]
[2,{"$f":"Cen!A634","v":"CLIP top 125° s nulovým přesahem"},{"$f":"Cen!B634","v":"71T7500D"},{"$f":"Cen!C634","v":"NI"},null,{"$f":"Cen!F634","v":153.1},{"$f":"E39*F39","v":0}]
["3a",{"$f":"Cen!A636","v":"Podložka CLIP na vruty"},{"$f":"Cen!B636","v":"173L6100"},{"$f":"Cen!C636","v":"NI"},null,{"$f":"Cen!F636","v":5.0999999999999996},{"$f":"E40*F40","v":0}]
["3b",{"$f":"Cen!A637","v":"Podložka CLIP EXPANDO"},{"$f":"Cen!B637","v":"174E6100.01"},{"$f":"Cen!C637","v":"NI"},null,{"$f":"Cen!F637","v":8.1},0]
["4a",{"$f":"Cen!A638","v":"Podložka CLIP s excentrem"},{"$f":"Cen!B638","v":"173H7100"},{"$f":"Cen!C638","v":"NI"},null,{"$f":"Cen!F638","v":13.6},0]
["4b",{"$f":"Cen!A639","v":"Podložka CLIP s excentrem, EXPANDO"},{"$f":"Cen!B639","v":"174H7100E"},{"$f":"Cen!C639","v":"NI"},null,{"$f":"Cen!F639","v":15.1},0]
["5a",{"$f":"Cen!A640","v":"Podložka CLIP top přímá"},{"$f":"Cen!B640","v":"175H5400"},{"$f":"Cen!C640","v":"NI"},null,{"$f":"Cen!F640","v":18},0]
["5b",{"$f":"Cen!A641","v":"Podložka CLIP top přímá, EXPANDO"},{"$f":"Cen!B641","v":"177H5400E"},{"$f":"Cen!C641","v":"NI"},null,{"$f":"Cen!F641","v":20.7},0]
["6a",{"$f":"Cen!A642","v":"Podložka CLIP top přímá"},{"$f":"Cen!B642","v":"175H3100"},{"$f":"Cen!C642","v":"NI"},null,{"$f":"Cen!F642","v":12.9},0]
["6b",{"$f":"Cen!A643","v":"Podložka CLIP top přímá, EXPANDO"},{"$f":"Cen!B643","v":"177H3100E"},{"$f":"Cen!C643","v":"NI"},null,{"$f":"Cen!F643","v":13.3},0]
[7,{"$f":"Cen!A644","v":"BLUMOTION pro nasazení na závěs 155° a 125°"},{"$f":"Cen!B644","v":"973A7000"},{"$f":"Cen!C644","v":"NI"},null,{"$f":"Cen!F644","v":41},0]
[9,{"$f":"Cen!A645","v":"BLUMOTION v křížovém adaptéru"},{"$f":"Cen!B645","v":"971A0500"},{"$f":"Cen!C645","v":"NI"},null,{"$f":"Cen!F645","v":70},0]
[9,{"$f":"Cen!A646","v":"TIP-ON, prodloužená délka, šedý"},{"$f":"Cen!B646","v":"956A1004"},{"$f":"Cen!C646","v":"PG"},null,{"$f":"Cen!F646","v":114.3},0]
[10,{"$f":"Cen!A649","v":"TIP-ON přímý adaptér, prodl.délka, šedý"},{"$f":"Cen!B649","v":"956A1201"},{"$f":"Cen!C649","v":"PG"},null,{"$f":"Cen!F649","v":22.5},0]
[11,{"$f":"Cen!A653","v":"TIP-ON křížový adaptér, šedý"},{"$f":"Cen!B653","v":"956A1501"},{"$f":"Cen!C653","v":"PG"},null,{"$f":"Cen!F653","v":16.7},{"$f":"E52*F52","v":0}]
[]
[null,null,null,null,null,{"$f":"List!$B$93&\":\"","v":"Celkem:"},{"$f":"SUM(G36:G53)","v":0}]
[]
[]
[]
[]
[]
[]
[]
[]
[]
[]
[]
[]
[]
[]
[]
[]
[]
[]
[]
[]
[]
[]
[]
[]
[]
[]
[]
[]
[]
[]
[]
[]
[]
[]
[]
[]
[]
[]
[]
[]
[]
[]
[]
[]
[]
[]
[]
[]
[]
[]
[]
[]
[]
[]
[]
[]
[]
[]
[]
[]
[]
[]
[]
[]
[]
[]
[]
[]
[]
[]
[]
[]
[]
[]
[]
[null,null,null,null,null,null,null,null,null,{"$f":"List!$B$99","v":"Zpět"}]
[]
[]
[]
[]
[]
[]
[]
[]
[]
[]
[]
[]
[]
[]
[]
[]
[]
[]
[]
[]
[]
[]
[]
[]
[]
[]
[]
[]
[]
[]
[]
[]
[]
[]
[]
[]
[]
[]
[]
[]
[]
[]
[]
[]
[]
[]
[]
[]
[]
[]
[]
[]
[]
[]
[]
[null,null,null,null,null,null,null,null,null,{"$f":"List!$B$99","v":"Zpět"}]
[]
[]
[]
[]
[]
[]
[]
[]
[]
[]
[]
[]
[]
[]
[]
[]
[]
[]
[]
[]
[]
[]
[]
[]
[]
[]
[]
[]
[]
[]
[]
[]
[]
[]
[]
[]
[]
[]
[]
[]
[]
[]
[]
[]
[]
[]
[]
[]
[]
[]
[]
[]
[]
[]
[]
[]
[]
[]
[]
[]
[]
[]
[]
[]
[]
[]
[]
[]
[]
[]
[]
[]
[]
[]
[]
[]
[]
[]
[]
[]
[]
[]
[]
[]
[]
[]
[]
[]
[]
[]
[]
[]
[]
[]
[]
[]
[]
[]
[]
[]
[]
[]
[]
[]
[]
[]
[]
[null,null,null,null,null,null,null,null,null,{"$f":"List!$B$99","v":"Zpět"}]

{"sheet":"SD","index":44,"n_rows":238,"n_cols":10,"rows_kept":238,"cut":false,"hidden":false,"merged":[[132,9,132,10],[131,0,265,0],[237,9,237,10]]}
[null,null,null,null,null,null,"SERVO-DRIVE"]
[null,null,null,null,{"$f":"List!$B$90&\":\"","v":"Počet:"},null,null,null,{"$f":"List!$B$11&\":\"","v":"Zpět na:"}]
[1,{"$f":"Cen!A570","v":"Distanční doraz Blum, 5mm"},{"$f":"Cen!B570","v":"993.0530"},{"$f":"Cen!C570","v":"R737"},null,{"$f":"Cen!F570","v":17.600000000000001},{"$f":"E3*F3","v":0},null,{"$f":"\" \"&List!$B$13","v":" Úvod"}]
[1,{"$f":"Cen!A571","v":"Distanční doraz Blum, 8mm"},{"$f":"Cen!B571","v":"993.0830.01"},{"$f":"Cen!C571","v":"R737"},null,{"$f":"Cen!F571","v":15.8},0,null,{"$f":"\" \"&List!$B$4","v":" Výběr zásuvek a výsuvů"}]
[2,{"$f":"Cen!A590","v":"Nosník, 670mm, s předmont. kabelem "},{"$f":"Cen!B590","v":"Z10T670AA "},{"$f":"Cen!C590","v":"Alu"},null,{"$f":"Cen!F590","v":874.4},0,null," Výběr doplňků"]
[2,{"$f":"Cen!A592","v":"Nosník, 750mm, s předmont. kabelem "},{"$f":"Cen!B592","v":"Z10T750AA "},{"$f":"Cen!C592","v":"Alu"},null,{"$f":"Cen!F592","v":957.9},0]
[2,{"$f":"Cen!A594","v":"Nosník 1170mm, bez kabelu"},{"$f":"Cen!B594","v":"Z10T1170A"},{"$f":"Cen!C594","v":"Alu"},null,{"$f":"Cen!F594","v":1020},0,null,{"$f":"List!$B$12&\":\"","v":"Pokračovat na:"}]
[3.4,{"$f":"Cen!A573","v":"Držák nosníku, vlys naležato"},{"$f":"Cen!B573","v":"Z10D01E0.01"},{"$f":"Cen!C573","v":"R737"},null,{"$f":"Cen!F573","v":83.9},0,null,{"$f":"\" \"&List!$B$7","v":" Výběr ORGA-LINE"}]
["3a,3b,4",{"$f":"Cen!A574","v":"Držák nosníku, vlys nastojato"},{"$f":"Cen!B574","v":"Z10D01EA.01"},{"$f":"Cen!C574","v":"R737"},null,{"$f":"Cen!F574","v":104.7},0,null,{"$f":"\" \"&List!$B$18","v":" Souhrn"}]
[5,{"$f":"Cen!A572","v":"Pohonná servo jednotka"},{"$f":"Cen!B572","v":"Z10A3000.03"},{"$f":"Cen!C572","v":"R737"},null,{"$f":"Cen!F572","v":1711.8},0]
["5a",{"$f":"Cen!A595","v":"Mechanizmus vyhazovače "},{"$f":"Cen!B595","v":"Z10A3H00"},{"$f":"Cen!C595","v":"R737"},null,{"$f":"Cen!F595","v":71.599999999999994},0,null,{"$f":"\"     \"&List!$B$25","v":"     Informace k objednávání"}]
[6.7,{"$f":"Cen!A588","v":"Propojovací svorka s hroty + krytka"},{"$f":"Cen!B588","v":"Z10V100E.01"},{"$f":"Cen!C588","v":"S"},null,{"$f":"Cen!F588","v":159.30000000000001},0]
[8.6999999999999993,{"$f":"Cen!A583","v":"Elektrokabel, délka 8m + 5 krytek"},{"$f":"Cen!B583","v":"Z10K800AE"},{"$f":"Cen!C583","v":"S"},null,{"$f":"Cen!F583","v":669},0]
[9,{"$f":"Cen!A585","v":"Napájecí zdroj 24 W"},{"$f":"Cen!B585","v":"Z10NE020E"},{"$f":"Cen!C585","v":"S"},null,{"$f":"Cen!F585","v":2469.3000000000002},0]
[10,{"$f":"Cen!A584","v":"Napájecí kabel se zástrčkou, 2m"},{"$f":"Cen!B584","v":"Z10M200E "},{"$f":"Cen!C584","v":"S"},null,{"$f":"Cen!F584","v":162.19999999999999},0]
[11,{"$f":"Cen!A586","v":"Držák napájecího zdroje - montáž do dna"},{"$f":"Cen!B586","v":"Z10NG000"},{"$f":"Cen!C586","v":"R737"},null,{"$f":"Cen!F586","v":167},0]
[12,{"$f":"Cen!A587","v":"Držák napájecího zdroje - montáž na stěnu"},{"$f":"Cen!B587","v":"Z10NG120"},{"$f":"Cen!C587","v":"WGR"},null,{"$f":"Cen!F587","v":90.1},0]
[13,{"$f":"Cen!A579","v":"Synchronizační kabel 8cm"},{"$f":"Cen!B579","v":"Z10K008S "},{"$f":"Cen!C579","v":"W"},null,{"$f":"Cen!F579","v":107.4},0]
[13,{"$f":"Cen!A580","v":"Synchronizační kabel 50cm"},{"$f":"Cen!B580","v":"Z10K050S"},{"$f":"Cen!C580","v":"W"},null,{"$f":"Cen!F580","v":149.1},0]
[13,{"$f":"Cen!A581","v":"Synchronizační kabel 120cm"},{"$f":"Cen!B581","v":"Z10K120S"},{"$f":"Cen!C581","v":"W"},null,{"$f":"Cen!F581","v":230.8},0]
[13,{"$f":"Cen!A582","v":"Synchronizační kabel 160cm"},{"$f":"Cen!B582","v":"Z10K160S"},{"$f":"Cen!C582","v":"W"},null,{"$f":"Cen!F582","v":260.7},0]
[14,{"$f":"Cen!A576","v":"Držák servo jednotky zdvojený"},{"$f":"Cen!B576","v":"Z10D7201.01"},{"$f":"Cen!C576","v":"R737"},null,{"$f":"Cen!F576","v":341.4},0]
[15,{"$f":"Cen!A575","v":"Držák servo jednotky jednoduchý"},{"$f":"Cen!B575","v":"Z10D0311"},{"$f":"Cen!C575","v":"R737"},null,{"$f":"Cen!F575","v":171.2},0]
[16,{"$f":"Cen!A578","v":"Držák kabelu s Klebesockel"},{"$f":"Cen!B578","v":"Z10K0009"},{"$f":"Cen!C578","v":"NA"},null,{"$f":"Cen!F578","v":19.3},0]
[17,{"$f":"Cen!A610","v":"Stabilizace čel"},{"$f":"Cen!B610","v":"Z96.10E1"},{"$f":"Cen!C610","v":"R737"},null,{"$f":"Cen!F610","v":29.8},0]
[18.2,{"$f":"Cen!A597","v":"Adaptér + držák horizont. nosníku"},{"$f":"Cen!B597","v":"Z10D5210"},{"$f":"Cen!C597","v":"R737"},null,{"$f":"Cen!F597","v":132.4},0]
[19,{"$f":"Cen!A596","v":"Horizontální nosník"},{"$f":"Cen!B596","v":"Z10T1143B"},{"$f":"Cen!C596","v":"Alu"},null,{"$f":"Cen!F596","v":421.7},0]
[21,{"$f":"Cen!A577","v":"Držák servo jednotky horní"},{"$f":"Cen!B577","v":"Z10D6252"},{"$f":"Cen!C577","v":"R737"},null,{"$f":"Cen!F577","v":481.6},0]
[]
[null,{"$f":"Cen!A598","v":"COMBOX"},{"$f":"Cen!B598","v":"Z10ZC00A"},{"$f":"Cen!C598","v":"S"},null,{"$f":"Cen!F598","v":2973.6},{"$f":"E30*F30","v":0}]
[null,{"$f":"Cen!A599","v":"SD uno - sada pro výsuv na odpad"},{"$f":"Cen!B599","v":"Z10NA20EE01"},{"$f":"Cen!C599","v":"R737"},null,{"$f":"Cen!F599","v":3366.6},0]
[null,{"$f":"Cen!A601","v":"SERVO-DRIVE flex - jednotka (sada)"},{"$f":"Cen!B601","v":"Z10C500A"},{"$f":"Cen!C601","v":"R736"},null,{"$f":"Cen!F601","v":4441.6000000000004},0]
[null,{"$f":"Cen!A602","v":"SERVO-DRIVE flex - bezdrátový přijímač"},{"$f":"Cen!B602","v":"Z10C5007"},{"$f":"Cen!C602","v":"R736"},null,{"$f":"Cen!F602","v":1740.6},0]
[null,{"$f":"Cen!A603","v":"Spínač SERVO-DRIVE, světle šedý"},{"$f":"Cen!B603","v":"21P5020"},{"$f":"Cen!C603","v":"HGR"},null,{"$f":"Cen!F603","v":745.6},0]
[null,{"$f":"Cen!A604","v":"Spínač SERVO-DRIVE, hedvábně bílý"},{"$f":"Cen!B604","v":"21P5020"},{"$f":"Cen!C604","v":"SW"},null,{"$f":"Cen!F604","v":775.4},0]
[null,null,null,null,null,{"$f":"List!$B$93&\":\"","v":"Celkem:"},{"$f":"SUM(G3:G35)","v":0}]
[]
[]
[]
[]
[]
[]
[]
[]
[]
[]
[]
[]
[]
[]
[]
[]
[]
[]
[]
[]
[]
[]
[]
[]
[]
[]
[]
[]
[]
[]
[]
[]
[]
[]
[]
[]
[]
[]
[]
[]
[]
[]
[]
[]
[]
[]
[]
[]
[]
[]
[]
[]
[]
[]
[]
[]
[]
[]
[]
[]
[]
[]
[]
[]
[]
[]
[]
[]
[]
[]
[]
[]
[]
[]
[]
[]
[]
[]
[]
[]
[]
[]
[]
[]
[]
[]
[]
[]
[]
[]
[]
[]
[]
[]
[]
[]
[null,null,null,null,null,null,null,null,null,{"$f":"List!$B$99","v":"Zpět"}]
[]
[]
[]
[]
[]
[]
[]
[]
[]
[]
[]
[]
[]
[]
[]
[]
[]
[]
[]
[]
[]
[]
[]
[]
[]
[]
[]
[]
[]
[]
[]
[]
[]
[]
[]
[]
[]
[]
[]
[]
[]
[]
[]
[]
[]
[]
[]
[]
[]
[]
[]
[]
[]
[]
[]
[]
[]
[]
[]
[]
[]
[]
[]
[]
[]
[]
[]
[]
[]
[]
[]
[]
[]
[]
[]
[]
[]
[]
[]
[]
[]
[]
[]
[]
[]
[]
[]
[]
[]
[]
[]
[]
[]
[]
[]
[]
[]
[]
[]
[]
[]
[]
[]
[]
[null,null,null,null,null,null,null,null,null,{"$f":"List!$B$99","v":"Zpět"}]

{"sheet":"OL","index":45,"n_rows":60,"n_cols":16,"rows_kept":60,"cut":false,"hidden":false,"merged":[[1,11,1,12],[37,4,37,5],[37,11,37,12],[45,11,45,12],[10,11,10,12],[10,4,10,5],[28,10,28,12],[28,3,28,5]]}
[null,{"$f":"\"ORGA-LINE \"&List!$B$103","v":"ORGA-LINE pro zásuvky"},null,null,null,null,null,null,null,null,null,null,null,null,null,"ORGA-LINE"]
[null,null,null,null,null,{"$f":"List!$B$106","v":"Sady misek"},null,null,null,null,null,{"$f":"List!$B$107","v":"Sady rozdělovníků"},null,null,null,{"$f":"List!$B$11&\":\"","v":"Zpět na:"}]
[null,null,null,null,null,null,null,null,null,null,null,null,null,null,null,{"$f":"\" \"&List!$B$13","v":" Úvod"}]
[null,null,null,null,null,null,null,null,null,null,null,null,null,null,null,{"$f":"\" \"&List!$B$4","v":" Výběr zásuvek a výsuvů"}]
[null,null,null,null,{"$f":"List!$B$129&\":\"","v":"Základní prvek:"},{"$f":"List!$B$46&\" M\"","v":"Zásuvka M"},null,null,null,null,null,{"$f":"List!$B$129&\":\"","v":"Základní prvek:"},{"$f":"List!$B$46&\" M\"","v":"Zásuvka M"},null,null,{"$f":"\" \"&List!$B$5","v":" Výběr doplňků"}]
[null,null,null,null,{"$f":"List!$B$102&\" KB:\"","v":"Šířka korpusu KB:"},"275 - 1200",null,null,null,null,null,{"$f":"List!$B$102&\" KB:\"","v":"Šířka korpusu KB:"},"275 - 1200",null,null,{"$f":"\" \"&List!$B$6","v":" Výběr SERVO-DRIVE"}]
[]
[null,null,null,null,null,null,null,null,null,null,null,null,null,null,null,{"$f":"List!$B$12&\":\"","v":"Pokračovat na:"}]
[null,null,null,null,null,null,null,null,null,null,null,null,null,null,null,{"$f":"\" \"&List!$B$18","v":" Souhrn"}]
[null,{"$f":"\"ORGA-LINE \"&List!$B$104&\" D\"","v":"ORGA-LINE pro čelní výsuvy D"},null,null,null,null,null,null,null,null,null,null,null,null,null,{"$f":"\" \"&List!$B$20","v":" Objednávka"}]
[null,null,null,null,{"$f":"List!$B$117&\", \"&List!$B$118","v":"Příčné dělení, Podélné dělení"},null,null,null,null,null,null,{"$f":"List!$B$117&\", \"&List!$B$118","v":"Příčné dělení, Podélné dělení"}]
[]
[]
[]
[null,null,null,null,{"$f":"List!$B$129&\":\"","v":"Základní prvek:"},{"$f":"List!$B$48&\" D\"","v":"Čelní výsuv D"},null,null,null,null,null,{"$f":"List!$B$129&\":\"","v":"Základní prvek:"},{"$f":"List!$B$48&\" D\"","v":"Čelní výsuv D"},null,null,{"$f":"List!$B$156&\":\"","v":"Zóny DYNAMIC SPACE:"}]
[null,null,null,null,{"$f":"List!$B$102&\" KB:\"","v":"Šířka korpusu KB:"},"275 - 1200",null,null,null,null,null,{"$f":"List!$B$102&\" KB:\"","v":"Šířka korpusu KB:"},"275 - 1200"]
[null,null,null,null,null,null,null,null,null,null,null,null,null,null,null,{"$f":"\"       \"&List!$B$157","v":"       Zásoby"}]
[]
[null,null,null,null,null,null,null,null,null,null,null,null,null,null,null,{"$f":"\"       \"&List!$B$158","v":"       Ukládání"}]
[null,null,null,null,null,{"$f":"List!$B$120","v":"Držáky talířů"},null,null,null,null,null,null,{"$f":"List!$B$123","v":"Mezistěny"}]
[null,null,null,null,null,null,null,null,null,null,null,null,null,null,null,{"$f":"\"       \"&List!$B$159","v":"       Mytí"}]
[]
[null,null,null,null,null,null,null,null,null,null,null,null,null,null,null,{"$f":"\"       \"&List!$B$160","v":"       Příprava"}]
[null,null,null,null,{"$f":"List!$B$129&\":\"","v":"Základní prvek:"},{"$f":"List!$B$48&\" D\"","v":"Čelní výsuv D"},null,null,null,null,null,{"$f":"List!$B$129&\":\"","v":"Základní prvek:"},{"$f":"List!$B$48&\" D\"","v":"Čelní výsuv D"}]
[null,null,null,null,{"$f":"List!$B$102&\" KB:\"","v":"Šířka korpusu KB:"},"400 - 1200",null,null,null,null,null,{"$f":"List!$B$102&\" KB:\"","v":"Šířka korpusu KB:"},"300 - 600",null,null,{"$f":"\"       \"&List!$B$161","v":"       Vaření / pečení"}]
[]
[]
[]
[null,null,null,{"$f":"List!$B$117&\", \"&List!$B$122&\", \"&List!$B$121","v":"Příčné dělení, Mezistěna, Vana na láhve"},null,null,null,null,null,null,{"$f":"List!$B$117&\", \"&List!$B$122&\", \"&List!$B$125","v":"Příčné dělení, Mezistěna, Držáky na kořenky"}]
[]
[]
[]
[]
[null,null,null,null,{"$f":"List!$B$129&\":\"","v":"Základní prvek:"},{"$f":"List!$B$48&\" D\"","v":"Čelní výsuv D"},null,null,null,null,null,{"$f":"List!$B$129&\":\"","v":"Základní prvek:"},{"$f":"List!$B$48&\" D\"","v":"Čelní výsuv D"}]
[null,null,null,null,{"$f":"List!$B$102&\" KB:\"","v":"Šířka korpusu KB:"},"600 - 1200",null,null,null,null,null,{"$f":"List!$B$102&\" KB:\"","v":"Šířka korpusu KB:"},"600 - 1200"]
[]
[]
[null,null,null,null,{"$f":"List!$B$121&\", \"&List!$B$122","v":"Vana na láhve, Mezistěna"},null,null,null,null,null,null,{"$f":"List!$B$125","v":"Držáky na kořenky"}]
[]
[]
[null,null,null,null,{"$f":"List!$B$129&\":\"","v":"Základní prvek:"},{"$f":"List!$B$48&\" D\"","v":"Čelní výsuv D"},null,null,null,null,null,{"$f":"List!$B$129&\":\"","v":"Základní prvek:"},{"$f":"List!$B$48&\" D\"","v":"Čelní výsuv D"}]
[null,null,null,null,{"$f":"List!$B$102&\" KB:\"","v":"Šířka korpusu KB:"},"400 - 600",null,null,null,null,null,{"$f":"List!$B$102&\" KB:\"","v":"Šířka korpusu KB:"},"400, 450"]
[]
[]
[]
[null,null,null,null,null,{"$f":"List!$B$121","v":"Vana na láhve"},null,null,null,null,null,{"$f":"List!$B$141&\" ORGA-LINE\"","v":"Ostatní ORGA-LINE"}]
[]
[null,null,null,null,null,null,null,null,null,null,null,null,{"$f":"List!$B$108","v":"Samostatné sady"}]
[null,null,null,null,{"$f":"List!$B$129&\":\"","v":"Základní prvek:"},{"$f":"List!$B$48&\" D\"","v":"Čelní výsuv D"},null,null,null,null,null,null,{"$f":"List!$B$109&\", \"&List!$B$110","v":"Misky, Příčné dělící prvky"}]
[null,null,null,null,{"$f":"List!$B$102&\" KB:\"","v":"Šířka korpusu KB:"},300,null,null,null,null,null,null,{"$f":"List!$B$111","v":"Pomůcky do kuchyně"}]
[]
[]
[]
[]
[null,{"$f":"\"ORGA-LINE \"&List!$B$104&\" C, D\"","v":"ORGA-LINE pro čelní výsuvy C, D"}]
[null,null,null,null,null,{"$f":"List!$B$137","v":"Příčný reling"}]
[]
[]
[null,null,null,null,{"$f":"List!$B$129&\":\"","v":"Základní prvek:"},{"$f":"List!$B$48&\" C,D\"","v":"Čelní výsuv C,D"}]
[null,null,null,null,{"$f":"List!$B$102&\" KB:\"","v":"Šířka korpusu KB:"},"300 - 1200"]

{"sheet":"OLMi","index":46,"n_rows":198,"n_cols":18,"rows_kept":198,"cut":false,"hidden":false,"merged":[[98,0,169,0],[197,7,197,8],[100,11,100,12]]}
[null,null,null,null,null,null,null,{"$f":"\"ORGA-LINE\"&\" - \"&List!$B$106","v":"ORGA-LINE - Sady misek"},null,{"$f":"List!$B$11&\":\"","v":"Zpět na:"}]
[null,null,null,null,null,{"$f":"List!$B$129&\":\"","v":"Základní prvek:"},null,{"$f":"List!$B$46&\" M\"","v":"Zásuvka M"},null,{"$f":"\" \"&List!$B$13","v":" Úvod"},null,{"$f":"Cen!A381","v":"Sada BI1, 450 mm"},{"$f":"Cen!B381","v":"ZSI.450BI1N"},{"$f":"Cen!C381","v":"IG/G"},{"$f":"Cen!D381","v":0},{"$f":"$D$20","v":0},{"$f":"Cen!F381","v":709.4},{"$f":"P2*Q2","v":0}]
[null,null,null,null,null,null,null,{"$f":"List!$B$47&\" M\"","v":"Vnitřní zásuvka M"},null,{"$f":"\" \"&List!$B$4","v":" Výběr zásuvek a výsuvů"},null,{"$f":"Cen!A382","v":"Sada BI1, 500 mm"},{"$f":"Cen!B382","v":"ZSI.500BI1N"},{"$f":"Cen!C382","v":"IG/G"},{"$f":"Cen!D382","v":0},{"$f":"$E$20","v":0},{"$f":"Cen!F382","v":862.8},0]
[null,null,null,null,null,null,null,{"$f":"List!$B$46&\" SPACE-CORNER M\"","v":"Zásuvka SPACE-CORNER M"},null,{"$f":"\" \"&List!$B$5","v":" Výběr doplňků"},null,{"$f":"Cen!A383","v":"Sada BI1, 550 mm"},{"$f":"Cen!B383","v":"ZSI.550BI1N"},{"$f":"Cen!C383","v":"IG/G"},{"$f":"Cen!D383","v":0},{"$f":"$F$20","v":0},{"$f":"Cen!F383","v":1035.8},0]
[null,null,null,null,null,{"$f":"List!$B$102&\" KB:\"","v":"Šířka korpusu KB:"},null,"275 - 1200 mm",null,{"$f":"\" \"&List!$B$6","v":" Výběr SERVO-DRIVE"},null,{"$f":"Cen!A384","v":"Sada BI1, 600 mm"},{"$f":"Cen!B384","v":"ZSI.600BI1N"},{"$f":"Cen!C384","v":"IG/G"},{"$f":"Cen!D384","v":0},{"$f":"$G$20","v":0},{"$f":"Cen!F384","v":0},0]
[null,null,null,null,null,null,null,null,null,{"$f":"\" \"&List!$B$7","v":" Výběr ORGA-LINE"},null,{"$f":"Cen!A385","v":"Sada BI1, 650 mm"},{"$f":"Cen!B385","v":"ZSI.650BI1N"},{"$f":"Cen!C385","v":"IG/G"},{"$f":"Cen!D385","v":0},{"$f":"$H$20","v":0},{"$f":"Cen!F385","v":0},0]
[null,null,null,null,null,null,null,null,null,null,null,{"$f":"Cen!A386","v":"Sada BI2, 450 mm"},{"$f":"Cen!B386","v":"ZSI.450BI2N"},{"$f":"Cen!C386","v":"IG/G"},{"$f":"Cen!D386","v":0},{"$f":"$D$21","v":0},{"$f":"Cen!F386","v":927.7},0]
[null,null,null,null,null,null,null,null,null,{"$f":"List!$B$12&\":\"","v":"Pokračovat na:"},null,{"$f":"Cen!A387","v":"Sada BI2, 500 mm"},{"$f":"Cen!B387","v":"ZSI.500BI2N"},{"$f":"Cen!C387","v":"IG/G"},{"$f":"Cen!D387","v":0},{"$f":"$E$21","v":0},{"$f":"Cen!F387","v":1095.4000000000001},0]
[null,null,null,null,null,null,null,null,null,{"$f":"\" \"&List!$B$18","v":" Souhrn"},null,{"$f":"Cen!A388","v":"Sada BI2, 550 mm"},{"$f":"Cen!B388","v":"ZSI.550BI2N"},{"$f":"Cen!C388","v":"IG/G"},{"$f":"Cen!D388","v":0},{"$f":"$F$21","v":0},{"$f":"Cen!F388","v":0},0]
[null,null,null,null,null,null,null,null,null,{"$f":"\" \"&List!$B$20","v":" Objednávka"},null,{"$f":"Cen!A389","v":"Sada BI2, 600 mm"},{"$f":"Cen!B389","v":"ZSI.600BI2N"},{"$f":"Cen!C389","v":"IG/G"},{"$f":"Cen!D389","v":0},{"$f":"$G$21","v":0},{"$f":"Cen!F389","v":0},0]
[null,null,null,null,null,null,null,null,null,null,null,{"$f":"Cen!A390","v":"Sada BI2, 650 mm"},{"$f":"Cen!B390","v":"ZSI.650BI2N"},{"$f":"Cen!C390","v":"IG/G"},{"$f":"Cen!D390","v":0},{"$f":"$H$21","v":0},{"$f":"Cen!F390","v":0},0]
[null,null,null,null,null,null,null,null,null,null,null,{"$f":"Cen!A391","v":"Sada BI3, 450 mm"},{"$f":"Cen!B391","v":"ZSI.450BI3N"},{"$f":"Cen!C391","v":"IG/G"},{"$f":"Cen!D391","v":0},{"$f":"$D$22","v":0},{"$f":"Cen!F391","v":1099.2},0]
[null,null,null,null,null,null,null,null,null,null,null,{"$f":"Cen!A392","v":"Sada BI3, 500 mm"},{"$f":"Cen!B392","v":"ZSI.500BI3"},{"$f":"Cen!C392","v":"IG/G"},{"$f":"Cen!D392","v":0},{"$f":"$E$22","v":0},{"$f":"Cen!F392","v":1357.8},0]
[null,null,null,null,null,null,null,null,null,{"$f":"\" \"&List!$B$25","v":" Informace k objednávání"},null,{"$f":"Cen!A393","v":"Sada BI3, 550 mm"},{"$f":"Cen!B393","v":"ZSI.550BI3"},{"$f":"Cen!C393","v":"IG/G"},{"$f":"Cen!D393","v":0},{"$f":"$F$22","v":0},{"$f":"Cen!F393","v":1542.1},0]
[null,null,null,null,null,null,null,null,null,null,null,{"$f":"Cen!A394","v":"Sada BI3, 600 mm"},{"$f":"Cen!B394","v":"ZSI.600BI3"},{"$f":"Cen!C394","v":"IG/G"},{"$f":"Cen!D394","v":0},{"$f":"$G$22","v":0},{"$f":"Cen!F394","v":1820.6},0]
[null,null,null,null,null,null,null,null,null,null,null,{"$f":"Cen!A395","v":"Sada BI3, 650 mm"},{"$f":"Cen!B395","v":"ZSI.650BI3"},{"$f":"Cen!C395","v":"IG/G"},{"$f":"Cen!D395","v":0},{"$f":"$H$22","v":0},{"$f":"Cen!F395","v":2011.5},0]
[null,null,null,null,null,null,null,null,null,null,null,{"$f":"Cen!A445","v":"Sada KI4, 450mm"},{"$f":"Cen!B445","v":"ZSI.450KI4N"},{"$f":"Cen!C445","v":"IG/G"},{"$f":"Cen!D445","v":0},{"$f":"$D$23","v":0},{"$f":"Cen!F445","v":1451.7},{"$f":"P17*Q17","v":0}]
[null,null,null,null,null,null,null,null,null,null,null,{"$f":"Cen!A446","v":"Sada KI4, 500mm"},{"$f":"Cen!B446","v":"ZSI.500KI4"},{"$f":"Cen!C446","v":"IG/G"},{"$f":"Cen!D446","v":0},{"$f":"$E$23","v":0},{"$f":"Cen!F446","v":1738.3},{"$f":"P18*Q18","v":0}]
[null,null,{"$f":"List!$B$45&\":\"","v":"Jmenovitá délka:"},"450 mm","500 mm","550 mm","600 mm","650 mm",null,{"$f":"\"         \"&List!$B$166","v":"         Jídelní příbory"},null,{"$f":"Cen!A447","v":"Sada KI4, 550mm"},{"$f":"Cen!B447","v":"ZSI.550KI4"},{"$f":"Cen!C447","v":"IG/G"},{"$f":"Cen!D447","v":0},{"$f":"$F$23","v":0},{"$f":"Cen!F447","v":2010.2},0]
[null,{"$f":"List!$B$186&\" BI1\"","v":"Sada BI1"},"ZSI.xxxBI1N",null,null,null,null,null,null,null,null,{"$f":"Cen!A448","v":"Sada KI4, 600mm"},{"$f":"Cen!B448","v":"ZSI.600KI4"},{"$f":"Cen!C448","v":"IG/G"},{"$f":"Cen!D448","v":0},{"$f":"$G$23","v":0},{"$f":"Cen!F448","v":0},0]
[null,{"$f":"List!$B$186&\" BI2\"","v":"Sada BI2"},"ZSI.xxxBI2N",null,null,null,null,null,null,null,null,{"$f":"Cen!A449","v":"Sada KI4, 650mm"},{"$f":"Cen!B449","v":"ZSI.650KI4"},{"$f":"Cen!C449","v":"IG/G"},{"$f":"Cen!D449","v":0},{"$f":"$H$23","v":0},{"$f":"Cen!F449","v":0},0]
[null,{"$f":"List!$B$186&\" BI3\"","v":"Sada BI3"},"ZSI.xxxBI3",null,null,null,null,null,null,null,null,{"$f":"Cen!A398","v":"Sada pro korpus KB 600mm, NL 450mm"},{"$f":"Cen!B398","v":"ZSI.60VEI4"},{"$f":"Cen!C398","v":"IG/G"},{"$f":"Cen!D398","v":0},{"$f":"$D$24","v":0},{"$f":"Cen!F398","v":1861.1},0]
[null,{"$f":"List!$B$186&\" KI4\"","v":"Sada KI4"},"ZSI.xxxKI4",null,null,null,null,null,null,null,null,{"$f":"Cen!A399","v":"Sada pro korpus KB 600mm, NL 500mm"},{"$f":"Cen!B399","v":"ZSI.60VEI6"},{"$f":"Cen!C399","v":"IG/G"},{"$f":"Cen!D399","v":0},{"$f":"$E$24","v":0},{"$f":"Cen!F399","v":2273.1},{"$f":"P23*Q23","v":0}]
[null,{"$f":"List!$B$187&\" KB 600 mm\"","v":"Sada pro korpus KB 600 mm"},"ZSI.60VEIx",null,null,null,null,null,null,null,null,{"$f":"Cen!A400","v":"Sada pro korpus KB 600mm, NL 550mm"},{"$f":"Cen!B400","v":"ZSI.60VEI7"},{"$f":"Cen!C400","v":"IG/G"},{"$f":"Cen!D400","v":0},{"$f":"$F$24","v":0},{"$f":"Cen!F400","v":2630.5},0]
[null,{"$f":"List!$B$187&\" KB 900 mm\"","v":"Sada pro korpus KB 900 mm"},"ZSI.90VEIx",null,null,null,null,null,null,null,null,{"$f":"Cen!A401","v":"Sada pro korpus KB 900mm, NL 450mm"},{"$f":"Cen!B401","v":"ZSI.90VEI4"},{"$f":"Cen!C401","v":"IG/G"},{"$f":"Cen!D401","v":0},{"$f":"$D$25","v":0},{"$f":"Cen!F401","v":2558.9},0]
[null,{"$f":"List!$B$187&\" KB 1200 mm\"","v":"Sada pro korpus KB 1200 mm"},"ZSI.12VEIx",null,null,null,null,null,null,null,null,{"$f":"Cen!A402","v":"Sada pro korpus KB 900mm, NL 500mm"},{"$f":"Cen!B402","v":"ZSI.90VEI6"},{"$f":"Cen!C402","v":"IG/G"},{"$f":"Cen!D402","v":0},{"$f":"$E$25","v":0},{"$f":"Cen!F402","v":3104.2},0]
[null,{"$f":"List!$B$188","v":"Sada pro SPACE CORNER"},"ZSI.xxxBI3E",null,null,null,null,null,null,null,null,{"$f":"Cen!A403","v":"Sada pro korpus KB 900mm, NL 550mm"},{"$f":"Cen!B403","v":"ZSI.90VEI7"},{"$f":"Cen!C403","v":"IG/G"},{"$f":"Cen!D403","v":0},{"$f":"$F$25","v":0},{"$f":"Cen!F403","v":0},0]
[null,null,null,null,null,null,null,null,null,null,null,{"$f":"Cen!A404","v":"Sada pro korpus KB 1200mm, NL 450mm"},{"$f":"Cen!B404","v":"ZSI.12VEI4"},{"$f":"Cen!C404","v":"IG/G"},{"$f":"Cen!D404","v":0},{"$f":"$D$26","v":0},{"$f":"Cen!F404","v":0},{"$f":"P28*Q28","v":0}]
[null,null,null,null,null,null,null,null,null,null,null,{"$f":"Cen!A405","v":"Sada pro korpus KB 1200mm, NL 500mm"},{"$f":"Cen!B405","v":"ZSI.12VEI6"},{"$f":"Cen!C405","v":"IG/G"},{"$f":"Cen!D405","v":0},{"$f":"$E$26","v":0},{"$f":"Cen!F405","v":3812.2},0]
[null,null,null,null,null,null,null,null,null,null,null,{"$f":"Cen!A406","v":"Sada pro korpus KB 1200mm, NL 550mm"},{"$f":"Cen!B406","v":"ZSI.12VEI7"},{"$f":"Cen!C406","v":"IG/G"},{"$f":"Cen!D406","v":0},{"$f":"$F$25","v":0},{"$f":"Cen!F406","v":0},0]
[null,null,null,null,null,null,null,null,null,null,null,{"$f":"Cen!A396","v":"Sada pro SPACE CORNER, NL 600mm"},{"$f":"Cen!B396","v":"ZSI.450BI3E"},{"$f":"Cen!C396","v":"IG/G"},{"$f":"Cen!D396","v":"!"},{"$f":"$D$27","v":0},{"$f":"Cen!F396","v":0},0]
[null,null,null,null,null,null,null,null,null,null,null,{"$f":"Cen!A397","v":"Sada pro SPACE CORNER, NL 650mm"},{"$f":"Cen!B397","v":"ZSI.500BI3E"},{"$f":"Cen!C397","v":"IG/G"},{"$f":"Cen!D397","v":0},{"$f":"$E$27","v":0},{"$f":"Cen!F397","v":1461.5},0]
[]
[null,null,null,null,null,null,null,null,null,null,null,null,null,null,null,null,null,{"$f":"SUM(R2:R33)","v":0}]
[]
[]
[]
[]
[]
[]
[]
[]
[]
[]
[]
[]
[]
[]
[]
[]
[]
[]
[]
[]
[]
[]
[]
[]
[]
[]
[]
[]
[]
[]
[]
[]
[]
[]
[]
[]
[]
[]
[]
[]
[]
[]
[]
[]
[]
[]
[]
[]
[]
[]
[]
[]
[]
[]
[]
[]
[]
[]
[]
[]
[]
[]
[]
[]
[]
[]
[null,null,null,null,null,null,null,null,null,null,null,{"$f":"List!$B$99","v":"Zpět"}]
[]
[]
[]
[]
[]
[]
[]
[]
[]
[]
[]
[]
[]
[]
[]
[]
[]
[]
[]
[]
[]
[]
[]
[]
[]
[]
[]
[]
[]
[]
[]
[]
[]
[]
[]
[]
[]
[]
[]
[]
[]
[]
[]
[]
[]
[]
[]
[]
[]
[]
[]
[]
[]
[]
[]
[]
[]
[]
[]
[]
[]
[]
[]
[]
[]
[]
[]
[]
[]
[]
[]
[]
[]
[]
[]
[]
[]
[]
[]
[]
[]
[]
[]
[]
[]
[]
[]
[]
[]
[]
[]
[]
[]
[]
[]
[]
[null,null,null,null,null,null,null,{"$f":"List!$B$99","v":"Zpět"}]

{"sheet":"OLRo","index":47,"n_rows":200,"n_cols":18,"rows_kept":200,"cut":false,"hidden":false,"merged":[[96,0,167,0],[199,7,199,8],[97,10,97,11]]}
[null,null,null,null,null,null,null,{"$f":"\"ORGA-LINE\"&\" - \"&List!$B$107","v":"ORGA-LINE - Sady rozdělovníků"},null,{"$f":"List!$B$11&\":\"","v":"Zpět na:"}]
[null,null,null,null,null,{"$f":"List!$B$129&\":\"","v":"Základní prvek:"},null,{"$f":"List!$B$46&\" M\"","v":"Zásuvka M"},null,{"$f":"\" \"&List!$B$13","v":" Úvod"},null,{"$f":"Cen!A381","v":"Sada BI1, 450 mm"},{"$f":"Cen!B381","v":"ZSI.450BI1N"},{"$f":"Cen!C381","v":"IG/G"},{"$f":"Cen!D381","v":0},{"$f":"$D$20","v":0},{"$f":"Cen!F381","v":709.4},{"$f":"P2*Q2","v":0}]
[null,null,null,null,null,null,null,{"$f":"List!$B$47&\" M\"","v":"Vnitřní zásuvka M"},null,{"$f":"\" \"&List!$B$4","v":" Výběr zásuvek a výsuvů"},null,{"$f":"Cen!A382","v":"Sada BI1, 500 mm"},{"$f":"Cen!B382","v":"ZSI.500BI1N"},{"$f":"Cen!C382","v":"IG/G"},{"$f":"Cen!D382","v":0},{"$f":"$E$20","v":0},{"$f":"Cen!F382","v":862.8},0]
[null,null,null,null,null,null,null,{"$f":"List!$B$46&\" SPACE-CORNER M\"","v":"Zásuvka SPACE-CORNER M"},null,{"$f":"\" \"&List!$B$5","v":" Výběr doplňků"},null,{"$f":"Cen!A383","v":"Sada BI1, 550 mm"},{"$f":"Cen!B383","v":"ZSI.550BI1N"},{"$f":"Cen!C383","v":"IG/G"},{"$f":"Cen!D383","v":0},{"$f":"$F$20","v":0},{"$f":"Cen!F383","v":1035.8},0]
[null,null,null,null,null,{"$f":"List!$B$102&\" KB:\"","v":"Šířka korpusu KB:"},null,"275 - 1200 mm",null,{"$f":"\" \"&List!$B$6","v":" Výběr SERVO-DRIVE"},null,{"$f":"Cen!A384","v":"Sada BI1, 600 mm"},{"$f":"Cen!B384","v":"ZSI.600BI1N"},{"$f":"Cen!C384","v":"IG/G"},{"$f":"Cen!D384","v":0},{"$f":"$G$20","v":0},{"$f":"Cen!F384","v":0},0]
[null,null,null,null,null,null,null,null,null,{"$f":"\" \"&List!$B$7","v":" Výběr ORGA-LINE"},null,{"$f":"Cen!A385","v":"Sada BI1, 650 mm"},{"$f":"Cen!B385","v":"ZSI.650BI1N"},{"$f":"Cen!C385","v":"IG/G"},{"$f":"Cen!D385","v":0},{"$f":"$H$20","v":0},{"$f":"Cen!F385","v":0},0]
[null,null,null,null,null,null,null,null,null,null,null,{"$f":"Cen!A409","v":"Sada FI1, 450mm"},{"$f":"Cen!B409","v":"ZSI.450FI1"},{"$f":"Cen!C409","v":"IG/G"},{"$f":"Cen!D386","v":0},{"$f":"$D$21","v":0},{"$f":"Cen!F409","v":0},0]
[null,null,null,null,null,null,null,null,null,{"$f":"List!$B$12&\":\"","v":"Pokračovat na:"},null,{"$f":"Cen!A410","v":"Sada FI1, 500mm"},{"$f":"Cen!B410","v":"ZSI.500FI1"},{"$f":"Cen!C410","v":"IG/G"},{"$f":"Cen!D387","v":0},{"$f":"$E$21","v":0},{"$f":"Cen!F410","v":671.4},{"$f":"P8*Q8","v":0}]
[null,null,null,null,null,null,null,null,null,{"$f":"\" \"&List!$B$18","v":" Souhrn"},null,{"$f":"Cen!A411","v":"Sada FI1, 550mm"},{"$f":"Cen!B411","v":"ZSI.550FI1"},{"$f":"Cen!C411","v":"IG/G"},{"$f":"Cen!D388","v":0},{"$f":"$F$21","v":0},{"$f":"Cen!F411","v":0},0]
[null,null,null,null,null,null,null,null,null,{"$f":"\" \"&List!$B$20","v":" Objednávka"},null,{"$f":"Cen!A412","v":"Sada FI1, 600mm"},{"$f":"Cen!B412","v":"ZSI.600FI1"},{"$f":"Cen!C412","v":"IG/G"},{"$f":"Cen!D389","v":0},{"$f":"$G$21","v":0},{"$f":"Cen!F412","v":0},0]
[null,null,null,null,null,null,null,null,null,null,null,{"$f":"Cen!A413","v":"Sada FI1, 650mm"},{"$f":"Cen!B413","v":"ZSI.650FI1"},{"$f":"Cen!C413","v":"IG/G"},{"$f":"Cen!D390","v":0},{"$f":"$H$21","v":0},{"$f":"Cen!F413","v":0},0]
[null,null,null,null,null,null,null,null,null,null,null,{"$f":"Cen!A414","v":"Sada FI2, 450mm"},{"$f":"Cen!B414","v":"ZSI.450FI2N"},{"$f":"Cen!C414","v":"IG/G"},{"$f":"Cen!D391","v":0},{"$f":"$D$22","v":0},{"$f":"Cen!F414","v":641.79999999999995},0]
[null,null,null,null,null,null,null,null,null,null,null,{"$f":"Cen!A415","v":"Sada FI2, 500mm"},{"$f":"Cen!B415","v":"ZSI.500FI2N"},{"$f":"Cen!C415","v":"IG/G"},{"$f":"Cen!D392","v":0},{"$f":"$E$22","v":0},{"$f":"Cen!F415","v":697.7},0]
[null,null,null,null,null,null,null,null,null,{"$f":"\" \"&List!$B$25","v":" Informace k objednávání"},null,{"$f":"Cen!A416","v":"Sada FI2, 550mm"},{"$f":"Cen!B416","v":"ZSI.550FI2N"},{"$f":"Cen!C416","v":"IG/G"},{"$f":"Cen!D393","v":0},{"$f":"$F$22","v":0},{"$f":"Cen!F416","v":0},0]
[null,null,null,null,null,null,null,null,null,null,null,{"$f":"Cen!A417","v":"Sada FI2, 600mm"},{"$f":"Cen!B417","v":"ZSI.600FI2N"},{"$f":"Cen!C417","v":"IG/G"},{"$f":"Cen!D394","v":0},{"$f":"$G$22","v":0},{"$f":"Cen!F417","v":1174.7},0]
[null,null,null,null,null,null,null,null,null,null,null,{"$f":"Cen!A418","v":"Sada FI2, 650mm"},{"$f":"Cen!B418","v":"ZSI.650FI2N"},{"$f":"Cen!C418","v":"IG/G"},{"$f":"Cen!D395","v":0},{"$f":"$H$22","v":0},{"$f":"Cen!F418","v":1222.9000000000001},0]
[null,null,null,null,null,null,null,null,null,null,null,{"$f":"Cen!A419","v":"Sada FI3, 450mm"},{"$f":"Cen!B419","v":"ZSI.450FI3"},{"$f":"Cen!C419","v":"IG/G"},{"$f":"Cen!D396","v":"!"},{"$f":"$D$21","v":0},{"$f":"Cen!F419","v":935.1},0]
[null,null,null,null,null,null,null,null,null,null,null,{"$f":"Cen!A420","v":"Sada FI3, 500mm"},{"$f":"Cen!B420","v":"ZSI.500FI3"},{"$f":"Cen!C420","v":"IG/G"},{"$f":"Cen!D397","v":0},{"$f":"$E$23","v":0},{"$f":"Cen!F420","v":1019.1},0]
[null,null,{"$f":"List!$B$45&\":\"","v":"Jmenovitá délka:"},"450 mm","500 mm","550 mm","600 mm","650 mm",null,null,null,{"$f":"Cen!A421","v":"Sada FI3, 550mm"},{"$f":"Cen!B421","v":"ZSI.550FI3"},{"$f":"Cen!C421","v":"IG/G"},{"$f":"Cen!D398","v":0},{"$f":"$F$23","v":0},{"$f":"Cen!F421","v":1281.7},{"$f":"P19*Q19","v":0}]
[null,{"$f":"List!$B$186&\" BI1\"","v":"Sada BI1"},"ZSI.xxxBI1N",null,null,null,null,null,null,{"$f":"\"         \"&List!$B$167","v":"         Drobné předměty"},null,{"$f":"Cen!A422","v":"Sada FI3, 600mm"},{"$f":"Cen!B422","v":"ZSI.600FI3"},{"$f":"Cen!C422","v":"IG/G"},{"$f":"Cen!D399","v":0},{"$f":"$G$23","v":0},{"$f":"Cen!F422","v":1626.1},0]
[null,{"$f":"List!$B$186&\" FI1\"","v":"Sada FI1"},"ZSI.xxxFI1",null,null,null,null,null,null,null,null,{"$f":"Cen!A423","v":"Sada FI3, 650mm"},{"$f":"Cen!B423","v":"ZSI.650FI3"},{"$f":"Cen!C423","v":"IG/G"},{"$f":"Cen!D400","v":0},{"$f":"$H$23","v":0},{"$f":"Cen!F423","v":1888.7},0]
[null,{"$f":"List!$B$186&\" FI2 *\"","v":"Sada FI2 *"},"ZSI.xxxFI2N",null,null,null,null,null,null,{"$f":"\"         \"&List!$B$168","v":"         Pracovní příbory, náčiní, nože"},null,{"$f":"Cen!A424","v":"Sada pro korpus KB 600mm, NL 450mm"},{"$f":"Cen!B424","v":"ZSI.60VUI4"},{"$f":"Cen!C424","v":"IG/G"},{"$f":"Cen!D401","v":0},{"$f":"$D$24","v":0},{"$f":"Cen!F424","v":1813.7},{"$f":"P22*Q22","v":0}]
[null,{"$f":"List!$B$186&\" FI2 *\"","v":"Sada FI2 *"},"ZSI.xxxFI3",null,null,null,null,null,null,{"$f":"\"         \"&List!$B$169","v":"         Řezáky na fólie"},null,{"$f":"Cen!A425","v":"Sada pro korpus KB 600mm, NL 500mm"},{"$f":"Cen!B425","v":"ZSI.60VUI6"},{"$f":"Cen!C425","v":"IG/G"},{"$f":"Cen!D402","v":0},{"$f":"$E$24","v":0},{"$f":"Cen!F425","v":2148.6},{"$f":"P23*Q23","v":0}]
[null,"Sada pro korpus KB 600 mm","ZSI.60VUIx",null,null,null,null,null,null,null,null,{"$f":"Cen!A426","v":"Sada pro korpus KB 600mm, NL 550mm"},{"$f":"Cen!B426","v":"ZSI.60VUI7"},{"$f":"Cen!C426","v":"IG/G"},{"$f":"Cen!D403","v":0},{"$f":"$F$24","v":0},{"$f":"Cen!F426","v":0},0]
[null,"Sada pro korpus KB 900 mm","ZSI.90VUIx",null,null,null,null,null,null,{"$f":"\"         \"&List!$B$170","v":"         Pracovní náčiní"},null,{"$f":"Cen!A427","v":"Sada pro korpus KB 900mm, NL 450 mm"},{"$f":"Cen!B427","v":"ZSI.90VUI4"},{"$f":"Cen!C427","v":"IG/G"},{"$f":"Cen!D404","v":0},{"$f":"$D$25","v":0},{"$f":"Cen!F427","v":2558.9},0]
[null,"Sada pro korpus KB 1200 mm","ZSI.12VUIx",null,null,null,null,null,null,null,null,{"$f":"Cen!A428","v":"Sada pro korpus KB 900mm, NL 500 mm"},{"$f":"Cen!B428","v":"ZSI.90VUI6"},{"$f":"Cen!C428","v":"IG/G"},{"$f":"Cen!D405","v":0},{"$f":"$E$25","v":0},{"$f":"Cen!F428","v":2894},0]
[null,{"$f":"List!$B$186&\" KI2\"","v":"Sada KI2"},"ZSI.xxxKI2N",null,null,null,null,null,null,null,null,{"$f":"Cen!A429","v":"Sada pro korpus KB 900mm, NL 550 mm"},{"$f":"Cen!B429","v":"ZSI.90VUI7"},{"$f":"Cen!C429","v":"IG/G"},{"$f":"Cen!D406","v":0},{"$f":"$F$25","v":0},{"$f":"Cen!F429","v":0},0]
[null,{"$f":"List!$B$186&\" KI3\"","v":"Sada KI3"},"ZSI.xxxKI3N",null,null,null,null,null,null,null,null,{"$f":"Cen!A430","v":"Sada pro korpus KB 1200mm, NL 450mm"},{"$f":"Cen!B430","v":"ZSI.12VUI4"},{"$f":"Cen!C430","v":"IG/G"},{"$f":"Cen!D407","v":0},{"$f":"$D$26","v":0},{"$f":"Cen!F430","v":0},{"$f":"P28*Q28","v":0}]
[null,{"$f":"List!$B$186&\" MI3\"","v":"Sada MI3"},"ZSI.xxxMI3",null,null,null,null,null,null,null,null,{"$f":"Cen!A431","v":"Sada pro korpus KB 1200mm, NL 500mm"},{"$f":"Cen!B431","v":"ZSI.12VUI6"},{"$f":"Cen!C431","v":"IG/G"},{"$f":"Cen!D408","v":0},{"$f":"$E$26","v":0},{"$f":"Cen!F431","v":3193.3},0]
[null,{"$f":"List!$B$21&\":\"","v":"Doplňky:"},null,{"$f":"List!$B$90&\":\"","v":"Počet:"},null,null,null,null,null,null,null,{"$f":"Cen!A432","v":"Sada pro korpus KB 1200mm, NL 550mm"},{"$f":"Cen!B432","v":"ZSI.12VUI7"},{"$f":"Cen!C432","v":"IG/G"},{"$f":"Cen!D409","v":0},{"$f":"$F$26","v":0},{"$f":"Cen!F432","v":0},0]
[null,{"$f":"Cen!A545","v":"Držák nožů"},{"$f":"Cen!B545","v":"ZSZ.02M0"},null,null,null,null,null,null,null,null,{"$f":"Cen!A435","v":"Sada KI2, 450mm"},{"$f":"Cen!B435","v":"ZSI.450KI2N"},{"$f":"Cen!C435","v":"IG/G"},{"$f":"Cen!D410","v":0},{"$f":"$D$27","v":0},{"$f":"Cen!F435","v":1039.5999999999999},0]
[null,{"$f":"Cen!A549","v":"Držák s řezákem na potravinové folie"},{"$f":"Cen!B549","v":"ZSZ.01F0"},null,null,null,null,null,null,null,null,{"$f":"Cen!A436","v":"Sada KI2, 500mm"},{"$f":"Cen!B436","v":"ZSI.500KI2N"},{"$f":"Cen!C436","v":"IG/G"},{"$f":"Cen!D411","v":0},{"$f":"$E$27","v":0},{"$f":"Cen!F436","v":1221},{"$f":"P32*Q32","v":0}]
[null,{"$f":"Cen!A550","v":"Držák s řezákem na alufolie"},{"$f":"Cen!B550","v":"ZSZ.02F0"},null,null,null,null,null,null,null,null,{"$f":"Cen!A437","v":"Sada KI2, 550mm"},{"$f":"Cen!B437","v":"ZSI.550KI2N"},{"$f":"Cen!C437","v":"IG/G"},{"$f":"Cen!D412","v":0},{"$f":"$F$27","v":0},{"$f":"Cen!F437","v":0},0]
[null,null,null,null,null,null,null,null,null,null,null,{"$f":"Cen!A438","v":"Sada KI2, 600mm"},{"$f":"Cen!B438","v":"ZSI.600KI2N"},{"$f":"Cen!C438","v":"IG/G"},{"$f":"Cen!D413","v":0},{"$f":"$G$27","v":0},{"$f":"Cen!F438","v":0},0]
[null,null,null,null,null,null,null,null,null,null,null,{"$f":"Cen!A439","v":"Sada KI2, 650mm"},{"$f":"Cen!B439","v":"ZSI.650KI2N"},{"$f":"Cen!C439","v":"IG/G"},{"$f":"Cen!D414","v":0},{"$f":"$H$27","v":0},{"$f":"Cen!F439","v":0},0]
[null,{"$f":"\"     * \"&List!$B$74&\" \"&\"SPACE-CORNER\"","v":"     * Vhodné pro SPACE-CORNER"},null,null,null,null,null,null,null,null,null,{"$f":"Cen!A440","v":"Sada KI3, 450mm"},{"$f":"Cen!B440","v":"ZSI.450KI3N"},{"$f":"Cen!C440","v":"IG/G"},{"$f":"Cen!D415","v":0},{"$f":"$D$28","v":0},{"$f":"Cen!F440","v":1065.9000000000001},0]
[null,null,null,null,null,null,null,null,null,null,null,{"$f":"Cen!A441","v":"Sada KI3, 500mm"},{"$f":"Cen!B441","v":"ZSI.500KI3N"},{"$f":"Cen!C441","v":"IG/G"},{"$f":"Cen!D416","v":0},{"$f":"$E$28","v":0},{"$f":"Cen!F441","v":1247.4000000000001},0]
[null,null,null,null,null,null,null,null,null,null,null,{"$f":"Cen!A442","v":"Sada KI3, 550mm"},{"$f":"Cen!B442","v":"ZSI.550KI3N"},{"$f":"Cen!C442","v":"IG/G"},{"$f":"Cen!D417","v":0},{"$f":"$F$28","v":0},{"$f":"Cen!F442","v":1507.9},0]
[null,null,null,null,null,null,null,null,null,null,null,{"$f":"Cen!A443","v":"Sada KI3, 600mm"},{"$f":"Cen!B443","v":"ZSI.600KI3N"},{"$f":"Cen!C443","v":"IG/G"},{"$f":"Cen!D418","v":0},{"$f":"$G$28","v":0},{"$f":"Cen!F443","v":0},0]
[null,null,null,null,null,null,null,null,null,null,null,{"$f":"Cen!A444","v":"Sada KI3, 650mm"},{"$f":"Cen!B444","v":"ZSI.650KI3N"},{"$f":"Cen!C444","v":"IG/G"},{"$f":"Cen!D419","v":0},{"$f":"$H$28","v":0},{"$f":"Cen!F444","v":0},0]
[null,null,null,null,null,null,null,null,null,null,null,{"$f":"Cen!A450","v":"Sada MI3, 450mm"},{"$f":"Cen!B450","v":"ZSI.450MI2"},{"$f":"Cen!C450","v":"IG/G"},{"$f":"Cen!D425","v":0},{"$f":"$D$29","v":0},{"$f":"Cen!F450","v":0},0]
[null,null,null,null,null,null,null,null,null,null,null,{"$f":"Cen!A451","v":"Sada MI3, 500mm"},{"$f":"Cen!B451","v":"ZSI.500MI3"},{"$f":"Cen!C451","v":"IG/G"},{"$f":"Cen!D426","v":0},{"$f":"$E$29","v":0},{"$f":"Cen!F451","v":1867.6},0]
[null,null,null,null,null,null,null,null,null,null,null,{"$f":"Cen!A452","v":"Sada MI3, 550mm"},{"$f":"Cen!B452","v":"ZSI.550MI3"},{"$f":"Cen!C452","v":"IG/G"},{"$f":"Cen!D427","v":0},{"$f":"$F$29","v":0},{"$f":"Cen!F452","v":2215.6},0]
[null,null,null,null,null,null,null,null,null,null,null,{"$f":"Cen!A453","v":"Sada MI3, 600mm"},{"$f":"Cen!B453","v":"ZSI.600MI3"},{"$f":"Cen!C453","v":"IG/G"},{"$f":"Cen!D428","v":0},{"$f":"$G$29","v":0},{"$f":"Cen!F453","v":2568.9},0]
[null,null,null,null,null,null,null,null,null,null,null,{"$f":"Cen!A454","v":"Sada MI3, 650mm"},{"$f":"Cen!B454","v":"ZSI.650MI3"},{"$f":"Cen!C454","v":"IG/G"},{"$f":"Cen!D429","v":0},{"$f":"$H$29","v":0},{"$f":"Cen!F454","v":0},{"$f":"P45*Q45","v":0}]
[]
[null,null,null,null,null,null,null,null,null,null,null,{"$f":"Cen!A545","v":"Držák nožů"},{"$f":"Cen!B545","v":"ZSZ.02M0"},{"$f":"Cen!C545","v":"IG/G"},{"$f":"Cen!D545","v":0},{"$f":"$D$31","v":0},{"$f":"Cen!F545","v":590.5},{"$f":"P47*Q47","v":0}]
[null,null,null,null,null,null,null,null,null,null,null,{"$f":"Cen!A549","v":"Držák s řezákem na potravinové folie"},{"$f":"Cen!B549","v":"ZSZ.01F0"},{"$f":"Cen!C549","v":"STW/G"},{"$f":"Cen!D549","v":0},{"$f":"$D$32","v":0},{"$f":"Cen!F549","v":954.3},{"$f":"P48*Q48","v":0}]
[null,null,null,null,null,null,null,null,null,null,null,{"$f":"Cen!A550","v":"Držák s řezákem na alufolie"},{"$f":"Cen!B550","v":"ZSZ.02F0"},{"$f":"Cen!C550","v":"ST/O"},{"$f":"Cen!D550","v":0},{"$f":"$D$33","v":0},{"$f":"Cen!F550","v":894.7},{"$f":"P49*Q49","v":0}]
[]
[null,null,null,null,null,null,null,null,null,null,null,null,null,null,null,null,null,{"$f":"SUM(R2:R50)","v":0}]
[]
[]
[]
[]
[]
[]
[]
[]
[]
[]
[]
[]
[]
[]
[]
[]
[]
[]
[]
[]
[]
[]
[]
[]
[]
[]
[]
[]
[]
[]
[]
[]
[]
[]
[]
[]
[]
[]
[]
[]
[]
[]
[]
[]
[]
[]
[null,null,null,null,null,null,null,null,null,null,{"$f":"List!$B$99","v":"Zpět"}]
[]
[]
[]
[]
[]
[]
[]
[]
[]
[]
[]
[]
[]
[]
[]
[]
[]
[]
[]
[]
[]
[]
[]
[]
[]
[]
[]
[]
[]
[]
[]
[]
[]
[]
[]
[]
[]
[]
[]
[]
[]
[]
[]
[]
[]
[]
[]
[]
[]
[]
[]
[]
[]
[]
[]
[]
[]
[]
[]
[]
[]
[]
[]
[]
[]
[]
[]
[]
[]
[]
[]
[]
[]
[]
[]
[]
[]
[]
[]
[]
[]
[]
[]
[]
[]
[]
[]
[]
[]
[]
[]
[]
[]
[]
[]
[]
[]
[]
[]
[]
[]
[null,null,null,null,null,null,null,{"$f":"List!$B$99","v":"Zpět"}]

{"sheet":"OLP1","index":48,"n_rows":31,"n_cols":18,"rows_kept":31,"cut":false,"hidden":false,"merged":[]}
[null,null,null,null,null,null,{"$f":"List!$B$117&\", \"&List!$B$118","v":"Příčné dělení, Podélné dělení"},null,{"$f":"List!$B$11&\":\"","v":"Zpět na:"}]
[null,null,null,null,{"$f":"List!$B$129&\":\"","v":"Základní prvek:"},null,{"$f":"List!$B$48&\" D\"","v":"Čelní výsuv D"},null,{"$f":"\" \"&List!$B$13","v":" Úvod"},null,null,{"$f":"Cen!A466","v":"Příčka ke zkrácení, KB 300mm, šedá"},{"$f":"Cen!B466","v":"Z40L177A"},{"$f":"Cen!C466","v":"R906"},{"$f":"Cen!D466","v":0},{"$f":"E25","v":0},{"$f":"Cen!F466","v":147.4},{"$f":"P2*Q2","v":0}]
[null,null,null,null,null,null,{"$f":"List!$B$49&\" D\"","v":"Vnitřní výsuv D"},null,{"$f":"\" \"&List!$B$4","v":" Výběr zásuvek a výsuvů"},null,null,{"$f":"Cen!A470","v":"Příčka ke zkrácení, KB 600mm, šedá"},{"$f":"Cen!B470","v":"Z40L477A"},{"$f":"Cen!C470","v":"R906"},{"$f":"Cen!D470","v":0},{"$f":"E26","v":0},{"$f":"Cen!F470","v":185.7},0]
[null,null,null,null,null,null,{"$f":"List!$B$48&\" SPACE-CORNER D\"","v":"Čelní výsuv SPACE-CORNER D"},null,{"$f":"\" \"&List!$B$5","v":" Výběr doplňků"},null,null,{"$f":"Cen!A474","v":"Příčka ke zkrácení, KB 900mm, šedá"},{"$f":"Cen!B474","v":"Z40L777A"},{"$f":"Cen!C474","v":"R906"},{"$f":"Cen!D474","v":0},0,{"$f":"Cen!F474","v":272.7},0]
[null,null,null,null,{"$f":"List!$B$102&\" KB:\"","v":"Šířka korpusu KB:"},null,"600 - 1200 mm",null,{"$f":"\" \"&List!$B$6","v":" Výběr SERVO-DRIVE"},null,null,{"$f":"Cen!A478","v":"Příčka ke zkrácení, KB 1200mm, šedá"},{"$f":"Cen!B478","v":"Z40L1077A"},{"$f":"Cen!C478","v":"R906"},{"$f":"Cen!D478","v":0},0,{"$f":"Cen!F478","v":426.5},0]
[null,null,null,null,null,null,null,null,{"$f":"\" \"&List!$B$7","v":" Výběr ORGA-LINE"},null,null,{"$f":"Cen!A483","v":"Koncovka pro příčku, pro reling, D, bílošedá"},{"$f":"Cen!B483","v":"Z40D0002Z"},{"$f":"Cen!C483","v":"WGR"},{"$f":"Cen!D483","v":0},0,{"$f":"Cen!F483","v":47.1},0]
[null,null,null,"1a",{"$f":"List!B113","v":"Příčka ke zkrácení"},null,null,null,null,null,null,{"$f":"Cen!A487","v":"Koncovka pro příčku, pro reling, C, bílošedá"},{"$f":"Cen!B487","v":"Z40C0002Z"},{"$f":"Cen!C487","v":"WGR"},{"$f":"Cen!D487","v":0},0,{"$f":"Cen!F487","v":43.5},0]
[null,null,null,"1b",{"$f":"List!$B$114&\" (\"&List!B115&\")\"","v":"Koncovka pro příčku (pro reling)"},null,null,null,{"$f":"List!$B$12&\":\"","v":"Pokračovat na:"},null,null,{"$f":"Cen!A496","v":"Podélné dělení, šedé"},{"$f":"Cen!B496","v":"Z43L100S"},{"$f":"Cen!C496","v":"R906"},{"$f":"Cen!D496","v":0},{"$f":"E31","v":0},{"$f":"Cen!F496","v":87.5},0]
[null,null,null,"1d",{"$f":"List!B118","v":"Podélné dělení"},null,null,null,{"$f":"\" \"&List!$B$18","v":" Souhrn"}]
[null,null,null,null,null,null,null,null,{"$f":"\" \"&List!$B$20","v":" Objednávka"},null,null,null,null,null,null,null,null,{"$f":"SUM(R2:R9)","v":0}]
[]
[null,null,null,null,{"$f":"List!$C$130&\":\"","v":"Přířezy příčky:"}]
[null,null,null,null,"X = LW - 91"]
[]
[]
[]
[null,null,null," *",{"$f":"List!$C$133&\":\"","v":"Délky příček:"}]
[null,null,null,null,"KB 300 = 177,0 mm",null,null,null,{"$f":"\"         \"&List!$B$171","v":"         Plastové dózy"}]
[null,null,null,null,"KB 600 = 477,0 mm"]
[null,null,null,null,"KB 900 = 777,0 mm",null,null,null,{"$f":"\"         \"&List!$B$172","v":"         Misky a mísy, elektrospotřebiče"}]
[null,null,null,null,"KB 1200 = 1077,0 mm"]
[null,null,null,null,null,null,null,null,{"$f":"\"         \"&List!$B$173","v":"         Hrnce, poklice"}]
[]
[null,{"$f":"List!$B$22&\":\"","v":"Soupis kování:"},null,null,{"$f":"List!$B$90&\":\"","v":"Počet:"}]
["1a",{"$f":"Cen!A466&\" *\"","v":"Příčka ke zkrácení, KB 300mm, šedá *"},{"$f":"Cen!B466","v":"Z40L177A"},{"$f":"Cen!C466","v":"R906"}]
["1a",{"$f":"Cen!A470&\" *\"","v":"Příčka ke zkrácení, KB 600mm, šedá *"},{"$f":"Cen!B470","v":"Z40L477A"},{"$f":"Cen!C470","v":"R906"}]
["1a",{"$f":"Cen!A474&\" *\"","v":"Příčka ke zkrácení, KB 900mm, šedá *"},{"$f":"Cen!B474","v":"Z40L777A"},{"$f":"Cen!C474","v":"R906"}]
["1a",{"$f":"Cen!A478&\" *\"","v":"Příčka ke zkrácení, KB 1200mm, šedá *"},{"$f":"Cen!B478","v":"Z40L1077A"},{"$f":"Cen!C478","v":"R906"}]
["1b",{"$f":"Cen!A483","v":"Koncovka pro příčku, pro reling, D, bílošedá"},{"$f":"Cen!B483","v":"Z40D0002Z"},{"$f":"Cen!C483","v":"WGR"}]
["1b",{"$f":"Cen!A487","v":"Koncovka pro příčku, pro reling, C, bílošedá"},{"$f":"Cen!B487","v":"Z40C0002Z"},{"$f":"Cen!C487","v":"WGR"}]
["1d",{"$f":"Cen!A496","v":"Podélné dělení, šedé"},{"$f":"Cen!B496","v":"Z43L100S"},{"$f":"Cen!C496","v":"R906"}]

{"sheet":"OLP2","index":49,"n_rows":31,"n_cols":18,"rows_kept":31,"cut":false,"hidden":false,"merged":[]}
[null,null,null,null,null,null,{"$f":"List!$B$117&\", \"&List!$B$118","v":"Příčné dělení, Podélné dělení"},null,{"$f":"List!$B$11&\":\"","v":"Zpět na:"}]
[null,null,null,null,{"$f":"List!$B$129&\":\"","v":"Základní prvek:"},null,{"$f":"List!$B$48&\" D\"","v":"Čelní výsuv D"},null,{"$f":"\" \"&List!$B$13","v":" Úvod"},null,null,{"$f":"Cen!A466","v":"Příčka ke zkrácení, KB 300mm, šedá"},{"$f":"Cen!B466","v":"Z40L177A"},{"$f":"Cen!C466","v":"R906"},{"$f":"Cen!D466","v":0},{"$f":"E25","v":0},{"$f":"Cen!F466","v":147.4},{"$f":"P2*Q2","v":0}]
[null,null,null,null,null,null,{"$f":"List!$B$49&\" D\"","v":"Vnitřní výsuv D"},null,{"$f":"\" \"&List!$B$4","v":" Výběr zásuvek a výsuvů"},null,null,{"$f":"Cen!A470","v":"Příčka ke zkrácení, KB 600mm, šedá"},{"$f":"Cen!B470","v":"Z40L477A"},{"$f":"Cen!C470","v":"R906"},{"$f":"Cen!D470","v":0},{"$f":"E26","v":0},{"$f":"Cen!F470","v":185.7},0]
[null,null,null,null,null,null,{"$f":"List!$B$48&\" SPACE-CORNER D\"","v":"Čelní výsuv SPACE-CORNER D"},null,{"$f":"\" \"&List!$B$5","v":" Výběr doplňků"},null,null,{"$f":"Cen!A474","v":"Příčka ke zkrácení, KB 900mm, šedá"},{"$f":"Cen!B474","v":"Z40L777A"},{"$f":"Cen!C474","v":"R906"},{"$f":"Cen!D474","v":0},0,{"$f":"Cen!F474","v":272.7},0]
[null,null,null,null,{"$f":"List!$B$102&\" KB:\"","v":"Šířka korpusu KB:"},null,"600 - 1200 mm",null,{"$f":"\" \"&List!$B$6","v":" Výběr SERVO-DRIVE"},null,null,{"$f":"Cen!A478","v":"Příčka ke zkrácení, KB 1200mm, šedá"},{"$f":"Cen!B478","v":"Z40L1077A"},{"$f":"Cen!C478","v":"R906"},{"$f":"Cen!D478","v":0},0,{"$f":"Cen!F478","v":426.5},0]
[null,null,null,null,null,null,null,null,{"$f":"\" \"&List!$B$7","v":" Výběr ORGA-LINE"},null,null,{"$f":"Cen!A483","v":"Koncovka pro příčku, pro reling, D, bílošedá"},{"$f":"Cen!B483","v":"Z40D0002Z"},{"$f":"Cen!C483","v":"WGR"},{"$f":"Cen!D483","v":0},0,{"$f":"Cen!F483","v":47.1},0]
[null,null,null,"1a",{"$f":"List!B113","v":"Příčka ke zkrácení"},null,null,null,null,null,null,{"$f":"Cen!A487","v":"Koncovka pro příčku, pro reling, C, bílošedá"},{"$f":"Cen!B487","v":"Z40C0002Z"},{"$f":"Cen!C487","v":"WGR"},{"$f":"Cen!D487","v":0},0,{"$f":"Cen!F487","v":43.5},0]
[null,null,null,"1b",{"$f":"List!$B$114&\" (\"&List!B115&\")\"","v":"Koncovka pro příčku (pro reling)"},null,null,null,{"$f":"List!$B$12&\":\"","v":"Pokračovat na:"},null,null,{"$f":"Cen!A496","v":"Podélné dělení, šedé"},{"$f":"Cen!B496","v":"Z43L100S"},{"$f":"Cen!C496","v":"R906"},{"$f":"Cen!D496","v":0},{"$f":"E31","v":0},{"$f":"Cen!F496","v":87.5},0]
[null,null,null,"1d",{"$f":"List!B118","v":"Podélné dělení"},null,null,null,{"$f":"\" \"&List!$B$18","v":" Souhrn"}]
[null,null,null,null,null,null,null,null,{"$f":"\" \"&List!$B$20","v":" Objednávka"},null,null,null,null,null,null,null,null,{"$f":"SUM(R2:R9)","v":0}]
[]
[null,null,null,null,{"$f":"List!$C$130&\":\"","v":"Přířezy příčky:"}]
[null,null,null,null,"X = LW - 91"]
[]
[]
[]
[null,null,null," *",{"$f":"List!$C$133&\":\"","v":"Délky příček:"}]
[null,null,null,null,"KB 300 = 177,0 mm",null,null,null,{"$f":"\"         \"&List!$B$174","v":"         Ukládání potravin "}]
[null,null,null,null,"KB 600 = 477,0 mm",null,null,null,"         Space tower"]
[null,null,null,null,"KB 900 = 777,0 mm"]
[null,null,null,null,"KB 1200 = 1077,0 mm",null,null,null,{"$f":"\"         \"&List!$B$175","v":"         Načatá balení potravin"}]
[null,null,null,null,null,null,null,null,{"$f":"\"         \"&List!$B$176","v":"         Misky a mísy"}]
[]
[null,{"$f":"List!$B$22&\":\"","v":"Soupis kování:"},null,null,{"$f":"List!$B$90&\":\"","v":"Počet:"},null,null,null,{"$f":"\"         \"&List!$B$177","v":"         Hrnce, poklice, náčiní"}]
["1a",{"$f":"Cen!A466&\" *\"","v":"Příčka ke zkrácení, KB 300mm, šedá *"},{"$f":"Cen!B466","v":"Z40L177A"},{"$f":"Cen!C466","v":"R906"}]
["1a",{"$f":"Cen!A470&\" *\"","v":"Příčka ke zkrácení, KB 600mm, šedá *"},{"$f":"Cen!B470","v":"Z40L477A"},{"$f":"Cen!C470","v":"R906"}]
["1a",{"$f":"Cen!A474&\" *\"","v":"Příčka ke zkrácení, KB 900mm, šedá *"},{"$f":"Cen!B474","v":"Z40L777A"},{"$f":"Cen!C474","v":"R906"}]
["1a",{"$f":"Cen!A478&\" *\"","v":"Příčka ke zkrácení, KB 1200mm, šedá *"},{"$f":"Cen!B478","v":"Z40L1077A"},{"$f":"Cen!C478","v":"R906"}]
["1b",{"$f":"Cen!A483","v":"Koncovka pro příčku, pro reling, D, bílošedá"},{"$f":"Cen!B483","v":"Z40D0002Z"},{"$f":"Cen!C483","v":"WGR"}]
["1b",{"$f":"Cen!A487","v":"Koncovka pro příčku, pro reling, C, bílošedá"},{"$f":"Cen!B487","v":"Z40C0002Z"},{"$f":"Cen!C487","v":"WGR"}]
["1d",{"$f":"Cen!A496","v":"Podélné dělení, šedé"},{"$f":"Cen!B496","v":"Z43L100S"},{"$f":"Cen!C496","v":"R906"}]

{"sheet":"OLTa","index":50,"n_rows":24,"n_cols":18,"rows_kept":24,"cut":false,"hidden":false,"merged":[]}
[null,null,null,null,null,null,{"$f":"List!$B$120","v":"Držáky talířů"},null,{"$f":"List!$B$11&\":\"","v":"Zpět na:"}]
[null,null,null,null,{"$f":"List!$B$129&\":\"","v":"Základní prvek:"},null,{"$f":"List!$B$48&\" D\"","v":"Čelní výsuv D"},null,{"$f":"\" \"&List!$B$13","v":" Úvod"},null,null,{"$f":"Cen!A544","v":"Držák talířů"},{"$f":"Cen!B544","v":"ZC7T0350"},{"$f":"Cen!C544","v":"OG-M"},{"$f":"Cen!D544","v":0},{"$f":"E24","v":0},{"$f":"Cen!F544","v":980.5},{"$f":"P2*Q2","v":0}]
[null,null,null,null,null,null,{"$f":"List!$B$49&\" D\"","v":"Vnitřní výsuv D"},null,{"$f":"\" \"&List!$B$4","v":" Výběr zásuvek a výsuvů"}]
[null,null,null,null,null,null,{"$f":"List!$B$48&\" SPACE-CORNER D\"","v":"Čelní výsuv SPACE-CORNER D"},null,{"$f":"\" \"&List!$B$5","v":" Výběr doplňků"}]
[null,null,null,null,{"$f":"List!$B$102&\" KB:\"","v":"Šířka korpusu KB:"},null,"400 - 1200 mm",null,{"$f":"\" \"&List!$B$6","v":" Výběr SERVO-DRIVE"}]
[null,null,null,null,null,null,null,null,{"$f":"\" \"&List!$B$7","v":" Výběr ORGA-LINE"}]
[null,null,null,null,"3d",{"$f":"List!B119","v":"Držák talířů"}]
[null,null,null,null,null,null,null,null,{"$f":"List!$B$12&\":\"","v":"Pokračovat na:"}]
[null,null,null,null,null,null,null,null,{"$f":"\" \"&List!$B$18","v":" Souhrn"}]
[null,null,null,null,null,null,null,null,{"$f":"\" \"&List!$B$20","v":" Objednávka"}]
[]
[null,null,null,null,null,"Doporučený počet kusů:"]
[null,null,null,null,"KB 400 - 550",2]
[null,null,null,null,"KB 600 - 750",3]
[null,null,null,null,"KB 800 - 950",4]
[null,null,null,null,"KB 1000 - 1200",6]
[null,null,null,null,"SPACE-CORNER",null,null,null,{"$f":"\"         \"&List!$B$178","v":"         Ukládání talířů"}]
[null,null,null,null,{"$f":"List!$B$192&\" 1000x1000\"","v":"do 1000x1000"},2]
[null,null,null,null,{"$f":"List!$B$191&\" 1050x1050\"","v":"od 1050x1050"},3]
[]
[]
[]
[null,{"$f":"List!$B$22&\":\"","v":"Soupis kování:"},null,null,{"$f":"List!$B$90&\":\"","v":"Počet:"}]
["3d",{"$f":"Cen!A544","v":"Držák talířů"},{"$f":"Cen!B544","v":"ZC7T0350"},{"$f":"Cen!C544","v":"OG-M"}]

{"sheet":"OLVMP","index":51,"n_rows":36,"n_cols":18,"rows_kept":36,"cut":false,"hidden":false,"merged":[]}
[null,null,null,null,null,null,{"$f":"List!$B$121&\", \"&List!$B$122&\", \"&List!$B$135","v":"Vana na láhve, Mezistěna, Příčky"},null,{"$f":"List!$B$11&\":\"","v":"Zpět na:"}]
[null,null,null,null,{"$f":"List!$B$129&\":\"","v":"Základní prvek:"},null,{"$f":"List!$B$48&\" D\"","v":"Čelní výsuv D"},null,{"$f":"\" \"&List!$B$13","v":" Úvod"},null,null,{"$f":"Cen!A466","v":"Příčka ke zkrácení, KB 300mm, šedá"},{"$f":"Cen!B466","v":"Z40L177A"},{"$f":"Cen!C466","v":"R906"},{"$f":"Cen!D466","v":0},{"$f":"E25","v":0},{"$f":"Cen!F466","v":147.4},{"$f":"P2*Q2","v":0}]
[null,null,null,null,{"$f":"List!$B$102&\" KB:\"","v":"Šířka korpusu KB:"},null,"600 - 1200 mm",null,{"$f":"\" \"&List!$B$4","v":" Výběr zásuvek a výsuvů"},null,null,{"$f":"Cen!A470","v":"Příčka ke zkrácení, KB 600mm, šedá"},{"$f":"Cen!B470","v":"Z40L477A"},{"$f":"Cen!C470","v":"R906"},{"$f":"Cen!D470","v":0},{"$f":"E26","v":0},{"$f":"Cen!F470","v":185.7},0]
[null,null,null,null,null,null,null,null,{"$f":"\" \"&List!$B$5","v":" Výběr doplňků"},null,null,{"$f":"Cen!A474","v":"Příčka ke zkrácení, KB 900mm, šedá"},{"$f":"Cen!B474","v":"Z40L777A"},{"$f":"Cen!C474","v":"R906"},{"$f":"Cen!D474","v":0},0,{"$f":"Cen!F474","v":272.7},0]
[null,null,null,"1a",{"$f":"List!B113","v":"Příčka ke zkrácení"},null,null,null,{"$f":"\" \"&List!$B$6","v":" Výběr SERVO-DRIVE"},null,null,{"$f":"Cen!A478","v":"Příčka ke zkrácení, KB 1200mm, šedá"},{"$f":"Cen!B478","v":"Z40L1077A"},{"$f":"Cen!C478","v":"R906"},{"$f":"Cen!D478","v":0},0,{"$f":"Cen!F478","v":426.5},0]
[null,null,null,"1b",{"$f":"List!$B$114&\" (\"&List!B115&\")\"","v":"Koncovka pro příčku (pro reling)"},null,null,null,{"$f":"\" \"&List!$B$7","v":" Výběr ORGA-LINE"},null,null,{"$f":"Cen!A483","v":"Koncovka pro příčku, pro reling, D, bílošedá"},{"$f":"Cen!B483","v":"Z40D0002Z"},{"$f":"Cen!C483","v":"WGR"},{"$f":"Cen!D483","v":0},0,{"$f":"Cen!F483","v":47.1},0]
[null,null,null,"1c",{"$f":"List!$B$114&\" (\"&List!B116&\")\"","v":"Koncovka pro příčku (pro mezistěnu)"},null,null,null,null,null,null,{"$f":"Cen!A487","v":"Koncovka pro příčku, pro reling, C, bílošedá"},{"$f":"Cen!B487","v":"Z40C0002Z"},{"$f":"Cen!C487","v":"WGR"},{"$f":"Cen!D487","v":0},0,{"$f":"Cen!F487","v":43.5},0]
[null,null,null,"1d",{"$f":"List!B118","v":"Podélné dělení"},null,null,null,{"$f":"List!$B$12&\":\"","v":"Pokračovat na:"},null,null,{"$f":"Cen!A491","v":"Koncovka pro příčku, pro mezistěnu, bílošedá"},{"$f":"Cen!B491","v":"Z40L0002"},{"$f":"Cen!C491","v":"WGR"},{"$f":"Cen!D491","v":0},0,{"$f":"Cen!F491","v":47.1},{"$f":"P8*Q8","v":0}]
[null,null,null,"3a",{"$f":"List!B121","v":"Vana na láhve"},null,null,null,{"$f":"\" \"&List!$B$18","v":" Souhrn"},null,null,{"$f":"Cen!A496","v":"Podélné dělení, šedé"},{"$f":"Cen!B496","v":"Z43L100S"},{"$f":"Cen!C496","v":"R906"},{"$f":"Cen!D496","v":0},0,{"$f":"Cen!F496","v":87.5},0]
[null,null,null,"3b",{"$f":"List!B122","v":"Mezistěna"},null,null,null,{"$f":"\" \"&List!$B$20","v":" Objednávka"},null,null,{"$f":"Cen!A522","v":"Mezistěna, 500mm, šedá"},{"$f":"Cen!B522","v":"Z46L470S   "},{"$f":"Cen!C522","v":"R906"},{"$f":"Cen!D522","v":0},0,{"$f":"Cen!F522","v":730.3},{"$f":"P10*Q10","v":0}]
[null,null,null,null,null,null,null,null,null,null,null,{"$f":"Cen!A540","v":"Vana na láhve, 500mm"},{"$f":"Cen!B540","v":"Z48.30B0I6"},{"$f":"Cen!C540","v":"IG/G"},{"$f":"Cen!D540","v":0},0,{"$f":"Cen!F540","v":1084.9000000000001},0]
[null,null,null,null,{"$f":"List!$C$130&\":\"","v":"Přířezy příčky:"}]
[null,null,null,null,"X = LW - 91",null,null,null,null,null,null,null,null,null,null,null,null,{"$f":"SUM(R2:R12)","v":0}]
[null,null,null,null,"Y = LW - 320"]
[null,null,null,null,"Z = 177"]
[]
[null,null,null," *",{"$f":"List!$C$133&\":\"","v":"Délky příček:"}]
[null,null,null,null,"KB 300 = 177,0 mm",null,null,null,{"$f":"\"         \"&List!$B$179","v":"         Odpadkové koše, mycí prostředky"}]
[null,null,null,null,"KB 600 = 477,0 mm"]
[null,null,null,null,"KB 900 = 777,0 mm",null,null,null,{"$f":"\"         \"&List!$B$180","v":"         Láhve, načatá balení potravin"}]
[null,null,null,null,"KB 1200 = 1077,0 mm"]
[]
[]
[null,{"$f":"List!$B$22&\":\"","v":"Soupis kování:"},null,null,{"$f":"List!$B$90&\":\"","v":"Počet:"}]
["1a",{"$f":"Cen!A466&\" *\"","v":"Příčka ke zkrácení, KB 300mm, šedá *"},{"$f":"Cen!B466","v":"Z40L177A"},{"$f":"Cen!C466","v":"R906"}]
["1a",{"$f":"Cen!A470&\" *\"","v":"Příčka ke zkrácení, KB 600mm, šedá *"},{"$f":"Cen!B470","v":"Z40L477A"},{"$f":"Cen!C470","v":"R906"}]
["1a",{"$f":"Cen!A474&\" *\"","v":"Příčka ke zkrácení, KB 900mm, šedá *"},{"$f":"Cen!B474","v":"Z40L777A"},{"$f":"Cen!C474","v":"R906"}]
["1a",{"$f":"Cen!A478&\" *\"","v":"Příčka ke zkrácení, KB 1200mm, šedá *"},{"$f":"Cen!B478","v":"Z40L1077A"},{"$f":"Cen!C478","v":"R906"}]
["1b",{"$f":"Cen!A483","v":"Koncovka pro příčku, pro reling, D, bílošedá"},{"$f":"Cen!B483","v":"Z40D0002Z"},{"$f":"Cen!C483","v":"WGR"}]
["1b",{"$f":"Cen!A487","v":"Koncovka pro příčku, pro reling, C, bílošedá"},{"$f":"Cen!B487","v":"Z40C0002Z"},{"$f":"Cen!C487","v":"WGR"}]
["1c",{"$f":"Cen!A491","v":"Koncovka pro příčku, pro mezistěnu, bílošedá"},{"$f":"Cen!B491","v":"Z40L0002"},{"$f":"Cen!C491","v":"WGR"}]
["1d",{"$f":"Cen!A496","v":"Podélné dělení, šedé"},{"$f":"Cen!B496","v":"Z43L100S"},{"$f":"Cen!C496","v":"R906"}]
["3b",{"$f":"Cen!A522","v":"Mezistěna, 500mm, šedá"},{"$f":"Cen!B522","v":"Z46L470S   "},{"$f":"Cen!C522","v":"R906"}]
["3a",{"$f":"Cen!A540","v":"Vana na láhve, 500mm"},{"$f":"Cen!B540","v":"Z48.30B0I6"},{"$f":"Cen!C540","v":"IG/G"}]
[]
[null,{"$f":"\"     \"&List!$B$154&\"!\"","v":"     Mezistěnu nelze použít pro vnitřní výsuv!"}]

{"sheet":"OLKMP","index":52,"n_rows":38,"n_cols":18,"rows_kept":38,"cut":false,"hidden":false,"merged":[]}
[null,null,null,null,null,null,{"$f":"List!$B$125&\", \"&List!$B$122&\", \"&List!$B$135","v":"Držáky na kořenky, Mezistěna, Příčky"},null,{"$f":"List!$B$11&\":\"","v":"Zpět na:"}]
[null,null,null,null,{"$f":"List!$B$129&\":\"","v":"Základní prvek:"},null,{"$f":"List!$B$48&\" D\"","v":"Čelní výsuv D"},null,{"$f":"\" \"&List!$B$13","v":" Úvod"},null,null,{"$f":"Cen!A466","v":"Příčka ke zkrácení, KB 300mm, šedá"},{"$f":"Cen!B466","v":"Z40L177A"},{"$f":"Cen!C466","v":"R906"},{"$f":"Cen!D466","v":0},{"$f":"E25","v":0},{"$f":"Cen!F466","v":147.4},{"$f":"P2*Q2","v":0}]
[null,null,null,null,{"$f":"List!$B$102&\" KB:\"","v":"Šířka korpusu KB:"},null,"600 - 1200 mm",null,{"$f":"\" \"&List!$B$4","v":" Výběr zásuvek a výsuvů"},null,null,{"$f":"Cen!A470","v":"Příčka ke zkrácení, KB 600mm, šedá"},{"$f":"Cen!B470","v":"Z40L477A"},{"$f":"Cen!C470","v":"R906"},{"$f":"Cen!D470","v":0},{"$f":"E26","v":0},{"$f":"Cen!F470","v":185.7},0]
[null,null,null,null,null,null,null,null,{"$f":"\" \"&List!$B$5","v":" Výběr doplňků"},null,null,{"$f":"Cen!A474","v":"Příčka ke zkrácení, KB 900mm, šedá"},{"$f":"Cen!B474","v":"Z40L777A"},{"$f":"Cen!C474","v":"R906"},{"$f":"Cen!D474","v":0},0,{"$f":"Cen!F474","v":272.7},0]
[null,null,null,"1a",{"$f":"List!$B$113","v":"Příčka ke zkrácení"},null,null,null,{"$f":"\" \"&List!$B$6","v":" Výběr SERVO-DRIVE"},null,null,{"$f":"Cen!A478","v":"Příčka ke zkrácení, KB 1200mm, šedá"},{"$f":"Cen!B478","v":"Z40L1077A"},{"$f":"Cen!C478","v":"R906"},{"$f":"Cen!D478","v":0},0,{"$f":"Cen!F478","v":426.5},0]
[null,null,null,"1b",{"$f":"List!$B$114&\" (\"&List!B115&\")\"","v":"Koncovka pro příčku (pro reling)"},null,null,null,{"$f":"\" \"&List!$B$7","v":" Výběr ORGA-LINE"},null,null,{"$f":"Cen!A483","v":"Koncovka pro příčku, pro reling, D, bílošedá"},{"$f":"Cen!B483","v":"Z40D0002Z"},{"$f":"Cen!C483","v":"WGR"},{"$f":"Cen!D483","v":0},0,{"$f":"Cen!F483","v":47.1},0]
[null,null,null,"1c",{"$f":"List!$B$114&\" (\"&List!B116&\")\"","v":"Koncovka pro příčku (pro mezistěnu)"},null,null,null,null,null,null,{"$f":"Cen!A487","v":"Koncovka pro příčku, pro reling, C, bílošedá"},{"$f":"Cen!B487","v":"Z40C0002Z"},{"$f":"Cen!C487","v":"WGR"},{"$f":"Cen!D487","v":0},0,{"$f":"Cen!F487","v":43.5},0]
[null,null,null,"1d",{"$f":"List!$B$118","v":"Podélné dělení"},null,null,null,{"$f":"List!$B$12&\":\"","v":"Pokračovat na:"},null,null,{"$f":"Cen!A491","v":"Koncovka pro příčku, pro mezistěnu, bílošedá"},{"$f":"Cen!B491","v":"Z40L0002"},{"$f":"Cen!C491","v":"WGR"},{"$f":"Cen!D491","v":0},0,{"$f":"Cen!F491","v":47.1},0]
[null,null,null,"3b",{"$f":"List!$B$122","v":"Mezistěna"},null,null,null,{"$f":"\" \"&List!$B$18","v":" Souhrn"},null,null,{"$f":"Cen!A496","v":"Podélné dělení, šedé"},{"$f":"Cen!B496","v":"Z43L100S"},{"$f":"Cen!C496","v":"R906"},{"$f":"Cen!D496","v":0},0,{"$f":"Cen!F496","v":87.5},0]
[null,null,null,"3c",{"$f":"List!$B$124","v":"Držák na kořenky"},null,null,null,{"$f":"\" \"&List!$B$20","v":" Objednávka"},null,null,{"$f":"Cen!A522","v":"Mezistěna, 500mm, šedá"},{"$f":"Cen!B522","v":"Z46L470S   "},{"$f":"Cen!C522","v":"R906"},{"$f":"Cen!D522","v":0},0,{"$f":"Cen!F522","v":730.3},0]
[null,null,null,null,null,null,null,null,null,null,null,{"$f":"Cen!A546","v":"Stojánek na kořenky, KB 300mm"},{"$f":"Cen!B546","v":"ZFZ.30G0I"},{"$f":"Cen!C546","v":"INGL"},{"$f":"Cen!D546","v":0},0,{"$f":"Cen!F546","v":509.2},0]
[null,null,null,null,{"$f":"List!$C$130&\":\"","v":"Přířezy příčky:"},null,null,null,null,null,null,{"$f":"Cen!A547","v":"Stojánek na kořenky, KB 400mm"},{"$f":"Cen!B547","v":"ZFZ.40G0I"},{"$f":"Cen!C547","v":"INGL"},{"$f":"Cen!D547","v":0},0,{"$f":"Cen!F547","v":0},{"$f":"P12*Q12","v":0}]
[null,null,null,null,"X = LW - 91",null,null,null,null,null,null,{"$f":"Cen!A548","v":"Stojánek na kořenky, KB 450mm"},{"$f":"Cen!B548","v":"ZFZ.45G0I"},{"$f":"Cen!C548","v":"INGL"},{"$f":"Cen!D548","v":0},0,{"$f":"Cen!F548","v":0},0]
[null,null,null,null,"Y = LW - 320"]
[null,null,null,null,"Z = 177",null,null,null,null,null,null,null,null,null,null,null,null,{"$f":"SUM(R2:R14)","v":0}]
[]
[null,null,null," *",{"$f":"List!$C$133&\":\"","v":"Délky příček:"}]
[null,null,null,null,"KB 300 = 177,0 mm"]
[null,null,null,null,"KB 600 = 477,0 mm"]
[null,null,null,null,"KB 900 = 777,0 mm",null,null,null,{"$f":"\"         \"&List!$B$181","v":"         Koření, načatá balení potravin"}]
[null,null,null,null,"KB 1200 = 1077,0 mm"]
[]
[]
[null,{"$f":"List!$B$22&\":\"","v":"Soupis kování:"},null,null,{"$f":"List!$B$90&\":\"","v":"Počet:"}]
["1a",{"$f":"Cen!A466&\" *\"","v":"Příčka ke zkrácení, KB 300mm, šedá *"},{"$f":"Cen!B466","v":"Z40L177A"},{"$f":"Cen!C466","v":"R906"}]
["1a",{"$f":"Cen!A470&\" *\"","v":"Příčka ke zkrácení, KB 600mm, šedá *"},{"$f":"Cen!B470","v":"Z40L477A"},{"$f":"Cen!C470","v":"R906"}]
["1a",{"$f":"Cen!A474&\" *\"","v":"Příčka ke zkrácení, KB 900mm, šedá *"},{"$f":"Cen!B474","v":"Z40L777A"},{"$f":"Cen!C474","v":"R906"}]
["1a",{"$f":"Cen!A478&\" *\"","v":"Příčka ke zkrácení, KB 1200mm, šedá *"},{"$f":"Cen!B478","v":"Z40L1077A"},{"$f":"Cen!C478","v":"R906"}]
["1b",{"$f":"Cen!A483","v":"Koncovka pro příčku, pro reling, D, bílošedá"},{"$f":"Cen!B483","v":"Z40D0002Z"},{"$f":"Cen!C483","v":"WGR"}]
["1b",{"$f":"Cen!A487","v":"Koncovka pro příčku, pro reling, C, bílošedá"},{"$f":"Cen!B487","v":"Z40C0002Z"},{"$f":"Cen!C487","v":"WGR"}]
["1c",{"$f":"Cen!A491","v":"Koncovka pro příčku, pro mezistěnu, bílošedá"},{"$f":"Cen!B491","v":"Z40L0002"},{"$f":"Cen!C491","v":"WGR"}]
["1d",{"$f":"Cen!A496","v":"Podélné dělení, šedé"},{"$f":"Cen!B496","v":"Z43L100S"},{"$f":"Cen!C496","v":"R906"}]
["3b",{"$f":"Cen!A522","v":"Mezistěna, 500mm, šedá"},{"$f":"Cen!B522","v":"Z46L470S   "},{"$f":"Cen!C522","v":"R906"}]
["3c",{"$f":"Cen!A546","v":"Stojánek na kořenky, KB 300mm"},{"$f":"Cen!B546","v":"ZFZ.30G0I"},{"$f":"Cen!C546","v":"INGL"}]
["3c",{"$f":"Cen!A547","v":"Stojánek na kořenky, KB 400mm"},{"$f":"Cen!B547","v":"ZFZ.40G0I"},{"$f":"Cen!C547","v":"INGL"}]
["3c",{"$f":"Cen!A548","v":"Stojánek na kořenky, KB 450mm"},{"$f":"Cen!B548","v":"ZFZ.45G0I"},{"$f":"Cen!C548","v":"INGL"}]
[]
[null,{"$f":"\"     \"&List!$B$154&\"!\"","v":"     Mezistěnu nelze použít pro vnitřní výsuv!"}]

{"sheet":"OLKo","index":53,"n_rows":30,"n_cols":18,"rows_kept":30,"cut":false,"hidden":false,"merged":[]}
[null,null,null,null,null,null,{"$f":"List!$B$125","v":"Držáky na kořenky"},null,{"$f":"List!$B$11&\":\"","v":"Zpět na:"}]
[null,null,null,null,{"$f":"List!$B$129&\":\"","v":"Základní prvek:"},null,{"$f":"List!$B$48&\" D\"","v":"Čelní výsuv D"},null,{"$f":"\" \"&List!$B$13","v":" Úvod"},null,null,{"$f":"Cen!A466","v":"Příčka ke zkrácení, KB 300mm, šedá"},{"$f":"Cen!B466","v":"Z40L177A"},{"$f":"Cen!C466","v":"R906"},{"$f":"Cen!D466","v":0},{"$f":"E21","v":0},{"$f":"Cen!F466","v":147.4},{"$f":"P2*Q2","v":0}]
[null,null,null,null,null,null,{"$f":"List!$B$49&\" D\"","v":"Vnitřní výsuv D"},null,{"$f":"\" \"&List!$B$4","v":" Výběr zásuvek a výsuvů"},null,null,{"$f":"Cen!A470","v":"Příčka ke zkrácení, KB 600mm, šedá"},{"$f":"Cen!B470","v":"Z40L477A"},{"$f":"Cen!C470","v":"R906"},{"$f":"Cen!D470","v":0},{"$f":"E22","v":0},{"$f":"Cen!F470","v":185.7},0]
[null,null,null,null,{"$f":"List!$B$102&\" KB:\"","v":"Šířka korpusu KB:"},null,"300, 400 a 450 mm",null,{"$f":"\" \"&List!$B$5","v":" Výběr doplňků"},null,null,{"$f":"Cen!A474","v":"Příčka ke zkrácení, KB 900mm, šedá"},{"$f":"Cen!B474","v":"Z40L777A"},{"$f":"Cen!C474","v":"R906"},{"$f":"Cen!D474","v":0},0,{"$f":"Cen!F474","v":272.7},0]
[null,null,null,null,null,null,null,null,{"$f":"\" \"&List!$B$6","v":" Výběr SERVO-DRIVE"},null,null,{"$f":"Cen!A478","v":"Příčka ke zkrácení, KB 1200mm, šedá"},{"$f":"Cen!B478","v":"Z40L1077A"},{"$f":"Cen!C478","v":"R906"},{"$f":"Cen!D478","v":0},0,{"$f":"Cen!F478","v":426.5},0]
[null,null,null,"1a",{"$f":"List!$B$113","v":"Příčka ke zkrácení"},null,null,null,{"$f":"\" \"&List!$B$7","v":" Výběr ORGA-LINE"},null,null,{"$f":"Cen!A483","v":"Koncovka pro příčku, pro reling, D, bílošedá"},{"$f":"Cen!B483","v":"Z40D0002Z"},{"$f":"Cen!C483","v":"WGR"},{"$f":"Cen!D483","v":0},0,{"$f":"Cen!F483","v":47.1},0]
[null,null,null,"1b",{"$f":"List!$B$114&\" (\"&List!B115&\")\"","v":"Koncovka pro příčku (pro reling)"},null,null,null,null,null,null,{"$f":"Cen!A487","v":"Koncovka pro příčku, pro reling, C, bílošedá"},{"$f":"Cen!B487","v":"Z40C0002Z"},{"$f":"Cen!C487","v":"WGR"},{"$f":"Cen!D487","v":0},0,{"$f":"Cen!F487","v":43.5},0]
[null,null,null,"1d",{"$f":"List!$B$118","v":"Podélné dělení"},null,null,null,{"$f":"List!$B$12&\":\"","v":"Pokračovat na:"},null,null,{"$f":"Cen!A496","v":"Podélné dělení, šedé"},{"$f":"Cen!B496","v":"Z43L100S"},{"$f":"Cen!C496","v":"R906"},{"$f":"Cen!D496","v":0},0,{"$f":"Cen!F496","v":87.5},0]
[null,null,null,"3c",{"$f":"List!$B$124","v":"Držák na kořenky"},null,null,null,{"$f":"\" \"&List!$B$18","v":" Souhrn"},null,null,{"$f":"Cen!A546","v":"Stojánek na kořenky, KB 300mm"},{"$f":"Cen!B546","v":"ZFZ.30G0I"},{"$f":"Cen!C546","v":"INGL"},{"$f":"Cen!D546","v":0},0,{"$f":"Cen!F546","v":509.2},0]
[null,null,null,null,null,null,null,null,{"$f":"\" \"&List!$B$20","v":" Objednávka"},null,null,{"$f":"Cen!A547","v":"Stojánek na kořenky, KB 400mm"},{"$f":"Cen!B547","v":"ZFZ.40G0I"},{"$f":"Cen!C547","v":"INGL"},{"$f":"Cen!D547","v":0},0,{"$f":"Cen!F547","v":0},0]
[null,null,null,null,{"$f":"List!$C$130&\":\"","v":"Přířezy příčky:"},null,null,null,null,null,null,{"$f":"Cen!A548","v":"Stojánek na kořenky, KB 450mm"},{"$f":"Cen!B548","v":"ZFZ.45G0I"},{"$f":"Cen!C548","v":"INGL"},{"$f":"Cen!D548","v":0},0,{"$f":"Cen!F548","v":0},0]
[null,null,null,null,"X = LW - 91"]
[null,null,null,null,null,null,null,null,null,null,null,null,null,null,null,null,null,{"$f":"SUM(R2:R12)","v":0}]
[null,null,null," *",{"$f":"List!$C$133&\":\"","v":"Délky příček:"}]
[null,null,null,null,"KB 300 = 177,0 mm"]
[null,null,null,null,"KB 600 = 477,0 mm",null,null,null,{"$f":"\"         \"&List!$B$182","v":"         Koření"}]
[null,null,null,null,"KB 900 = 777,0 mm"]
[null,null,null,null,"KB 1200 = 1077,0 mm"]
[]
[null,{"$f":"List!$B$22&\":\"","v":"Soupis kování:"},null,null,{"$f":"List!$B$90&\":\"","v":"Počet:"}]
["1a",{"$f":"Cen!A466&\" *\"","v":"Příčka ke zkrácení, KB 300mm, šedá *"},{"$f":"Cen!B466","v":"Z40L177A"},{"$f":"Cen!C466","v":"R906"}]
["1a",{"$f":"Cen!A470&\" *\"","v":"Příčka ke zkrácení, KB 600mm, šedá *"},{"$f":"Cen!B470","v":"Z40L477A"},{"$f":"Cen!C470","v":"R906"}]
["1a",{"$f":"Cen!A474&\" *\"","v":"Příčka ke zkrácení, KB 900mm, šedá *"},{"$f":"Cen!B474","v":"Z40L777A"},{"$f":"Cen!C474","v":"R906"}]
["1a",{"$f":"Cen!A478&\" *\"","v":"Příčka ke zkrácení, KB 1200mm, šedá *"},{"$f":"Cen!B478","v":"Z40L1077A"},{"$f":"Cen!C478","v":"R906"}]
["1b",{"$f":"Cen!A483","v":"Koncovka pro příčku, pro reling, D, bílošedá"},{"$f":"Cen!B483","v":"Z40D0002Z"},{"$f":"Cen!C483","v":"WGR"}]
["1b",{"$f":"Cen!A487","v":"Koncovka pro příčku, pro reling, C, bílošedá"},{"$f":"Cen!B487","v":"Z40C0002Z"},{"$f":"Cen!C487","v":"WGR"}]
["1d",{"$f":"Cen!A496","v":"Podélné dělení, šedé"},{"$f":"Cen!B496","v":"Z43L100S"},{"$f":"Cen!C496","v":"R906"}]
["3c",{"$f":"Cen!A546","v":"Stojánek na kořenky, KB 300mm"},{"$f":"Cen!B546","v":"ZFZ.30G0I"},{"$f":"Cen!C546","v":"INGL"}]
["3c",{"$f":"Cen!A547","v":"Stojánek na kořenky, KB 400mm"},{"$f":"Cen!B547","v":"ZFZ.40G0I"},{"$f":"Cen!C547","v":"INGL"}]
["3c",{"$f":"Cen!A548","v":"Stojánek na kořenky, KB 450mm"},{"$f":"Cen!B548","v":"ZFZ.45G0I"},{"$f":"Cen!C548","v":"INGL"}]

{"sheet":"OLVM","index":54,"n_rows":29,"n_cols":18,"rows_kept":29,"cut":false,"hidden":false,"merged":[]}
[null,null,null,null,null,null,{"$f":"List!$B$121&\", \"&List!$B$122","v":"Vana na láhve, Mezistěna"},null,{"$f":"List!$B$11&\":\"","v":"Zpět na:"}]
[null,null,null,null,{"$f":"List!$B$129&\":\"","v":"Základní prvek:"},null,{"$f":"List!$B$48&\" D\"","v":"Čelní výsuv D"},null,{"$f":"\" \"&List!$B$13","v":" Úvod"},null,null,{"$f":"Cen!A466","v":"Příčka ke zkrácení, KB 300mm, šedá"},{"$f":"Cen!B466","v":"Z40L177A"},{"$f":"Cen!C466","v":"R906"},{"$f":"Cen!D466","v":0},{"$f":"E22","v":0},{"$f":"Cen!F466","v":147.4},{"$f":"P2*Q2","v":0}]
[null,null,null,null,{"$f":"List!$B$102&\" KB:\"","v":"Šířka korpusu KB:"},null,"400 - 600 mm",null,{"$f":"\" \"&List!$B$4","v":" Výběr zásuvek a výsuvů"},null,null,{"$f":"Cen!A483","v":"Koncovka pro příčku, pro reling, D, bílošedá"},{"$f":"Cen!B483","v":"Z40D0002Z"},{"$f":"Cen!C483","v":"WGR"},{"$f":"Cen!D483","v":0},{"$f":"E23","v":0},{"$f":"Cen!F483","v":47.1},0]
[null,null,null,null,null,null,null,null,{"$f":"\" \"&List!$B$5","v":" Výběr doplňků"},null,null,{"$f":"Cen!A487","v":"Koncovka pro příčku, pro reling, C, bílošedá"},{"$f":"Cen!B487","v":"Z40C0002Z"},{"$f":"Cen!C487","v":"WGR"},{"$f":"Cen!D487","v":0},0,{"$f":"Cen!F487","v":43.5},0]
[null,null,null,"1a",{"$f":"List!B113","v":"Příčka ke zkrácení"},null,null,null,{"$f":"\" \"&List!$B$6","v":" Výběr SERVO-DRIVE"},null,null,{"$f":"Cen!A491","v":"Koncovka pro příčku, pro mezistěnu, bílošedá"},{"$f":"Cen!B491","v":"Z40L0002"},{"$f":"Cen!C491","v":"WGR"},{"$f":"Cen!D491","v":0},0,{"$f":"Cen!F491","v":47.1},0]
[null,null,null,"1b",{"$f":"List!$B$114&\" (\"&List!B115&\")\"","v":"Koncovka pro příčku (pro reling)"},null,null,null,{"$f":"\" \"&List!$B$7","v":" Výběr ORGA-LINE"},null,null,{"$f":"Cen!A522","v":"Mezistěna, 500mm, šedá"},{"$f":"Cen!B522","v":"Z46L470S   "},{"$f":"Cen!C522","v":"R906"},{"$f":"Cen!D522","v":0},0,{"$f":"Cen!F522","v":730.3},0]
[null,null,null,"1c",{"$f":"List!$B$114&\" (\"&List!B116&\")\"","v":"Koncovka pro příčku (pro mezistěnu)"},null,null,null,null,null,null,{"$f":"Cen!A540","v":"Vana na láhve, 500mm"},{"$f":"Cen!B540","v":"Z48.30B0I6"},{"$f":"Cen!C540","v":"IG/G"},{"$f":"Cen!D540","v":0},0,{"$f":"Cen!F540","v":1084.9000000000001},0]
[null,null,null,null,null,null,null,null,{"$f":"List!$B$12&\":\"","v":"Pokračovat na:"}]
[null,null,null,"3a",{"$f":"List!B121","v":"Vana na láhve"},null,null,null,{"$f":"\" \"&List!$B$18","v":" Souhrn"},null,null,null,null,null,null,null,null,{"$f":"SUM(R2:R8)","v":0}]
[null,null,null,"3b",{"$f":"List!B122","v":"Mezistěna"},null,null,null,{"$f":"\" \"&List!$B$20","v":" Objednávka"}]
[]
[null,null,null,null,{"$f":"List!$C$130&\":\"","v":"Přířezy příčky:"}]
[null,null,null,null,"X = LW - 91"]
[]
[]
[]
[null,null,null," *",{"$f":"List!$C$133&\":\"","v":"Délky příček:"}]
[null,null,null,null,"KB 300 = 177,0 mm",null,null,null,{"$f":"\"         \"&List!$B$183","v":"         Láhve, prkýnka na krájení"}]
[]
[]
[null,{"$f":"List!$B$22&\":\"","v":"Soupis kování:"},null,null,{"$f":"List!$B$90&\":\"","v":"Počet:"}]
["1a",{"$f":"Cen!A466&\" *\"","v":"Příčka ke zkrácení, KB 300mm, šedá *"},{"$f":"Cen!B466","v":"Z40L177A"},{"$f":"Cen!C466","v":"R906"}]
["1b",{"$f":"Cen!A483","v":"Koncovka pro příčku, pro reling, D, bílošedá"},{"$f":"Cen!B483","v":"Z40D0002Z"},{"$f":"Cen!C483","v":"WGR"}]
["1b",{"$f":"Cen!A487","v":"Koncovka pro příčku, pro reling, C, bílošedá"},{"$f":"Cen!B487","v":"Z40C0002Z"},{"$f":"Cen!C487","v":"WGR"}]
["1c",{"$f":"Cen!A491","v":"Koncovka pro příčku, pro mezistěnu, bílošedá"},{"$f":"Cen!B491","v":"Z40L0002"},{"$f":"Cen!C491","v":"WGR"}]
["3b",{"$f":"Cen!A522","v":"Mezistěna, 500mm, šedá"},{"$f":"Cen!B522","v":"Z46L470S   "},{"$f":"Cen!C522","v":"R906"}]
["3a",{"$f":"Cen!A540","v":"Vana na láhve, 500mm"},{"$f":"Cen!B540","v":"Z48.30B0I6"},{"$f":"Cen!C540","v":"IG/G"}]
[]
[null,{"$f":"\"     \"&List!$B$154&\"!\"","v":"     Mezistěnu nelze použít pro vnitřní výsuv!"}]

{"sheet":"OLVa","index":55,"n_rows":23,"n_cols":18,"rows_kept":23,"cut":false,"hidden":false,"merged":[]}
[null,null,null,null,null,null,{"$f":"List!$B$121","v":"Vana na láhve"},null,{"$f":"List!$B$11&\":\"","v":"Zpět na:"}]
[null,null,null,null,{"$f":"List!$B$129&\":\"","v":"Základní prvek:"},null,{"$f":"List!$B$48&\" D\"","v":"Čelní výsuv D"},null,{"$f":"\" \"&List!$B$13","v":" Úvod"},null,null,{"$f":"Cen!A466","v":"Příčka ke zkrácení, KB 300mm, šedá"},{"$f":"Cen!B466","v":"Z40L177A"},{"$f":"Cen!C466","v":"R906"},{"$f":"Cen!D466","v":0},{"$f":"E20","v":0},{"$f":"Cen!F466","v":147.4},{"$f":"P2*Q2","v":0}]
[null,null,null,null,{"$f":"List!$B$102&\" KB:\"","v":"Šířka korpusu KB:"},null,"300 mm",null,{"$f":"\" \"&List!$B$4","v":" Výběr zásuvek a výsuvů"},null,null,{"$f":"Cen!A483","v":"Koncovka pro příčku, pro reling, D, bílošedá"},{"$f":"Cen!B483","v":"Z40D0002Z"},{"$f":"Cen!C483","v":"WGR"},{"$f":"Cen!D483","v":0},{"$f":"E21","v":0},{"$f":"Cen!F483","v":47.1},0]
[null,null,null,null,null,null,null,null,{"$f":"\" \"&List!$B$5","v":" Výběr doplňků"},null,null,{"$f":"Cen!A487","v":"Koncovka pro příčku, pro reling, C, bílošedá"},{"$f":"Cen!B487","v":"Z40C0002Z"},{"$f":"Cen!C487","v":"WGR"},{"$f":"Cen!D487","v":0},0,{"$f":"Cen!F487","v":43.5},0]
[null,null,null,"1a",{"$f":"List!B113","v":"Příčka ke zkrácení"},null,null,null,{"$f":"\" \"&List!$B$6","v":" Výběr SERVO-DRIVE"},null,null,{"$f":"Cen!A540","v":"Vana na láhve, 500mm"},{"$f":"Cen!B540","v":"Z48.30B0I6"},{"$f":"Cen!C540","v":"IG/G"},{"$f":"Cen!D540","v":0},0,{"$f":"Cen!F540","v":1084.9000000000001},0]
[null,null,null,"1c",{"$f":"List!$B$114&\" (\"&List!B116&\")\"","v":"Koncovka pro příčku (pro mezistěnu)"},null,null,null,{"$f":"\" \"&List!$B$7","v":" Výběr ORGA-LINE"}]
[null,null,null,"3a",{"$f":"List!B121","v":"Vana na láhve"},null,null,null,null,null,null,null,null,null,null,null,null,{"$f":"SUM(R2:R6)","v":0}]
[null,null,null,null,null,null,null,null,{"$f":"List!$B$12&\":\"","v":"Pokračovat na:"}]
[null,null,null,null,null,null,null,null,{"$f":"\" \"&List!$B$18","v":" Souhrn"}]
[null,null,null,null,null,null,null,null,{"$f":"\" \"&List!$B$20","v":" Objednávka"}]
[]
[null,null,null,null,{"$f":"List!$C$130&\":\"","v":"Přířezy příčky:"}]
[null,null,null,null,"X = LW - 91"]
[]
[null,null,null," *",{"$f":"List!$C$133&\":\"","v":"Délky příček:"}]
[null,null,null,null,"KB 300 = 177,0 mm",null,null,null,{"$f":"\"         \"&List!$B$184","v":"         Láhve (oleje, octy)"}]
[]
[]
[null,{"$f":"List!$B$22&\":\"","v":"Soupis kování:"},null,null,{"$f":"List!$B$90&\":\"","v":"Počet:"}]
["1a",{"$f":"Cen!A466&\" *\"","v":"Příčka ke zkrácení, KB 300mm, šedá *"},{"$f":"Cen!B466","v":"Z40L177A"},{"$f":"Cen!C466","v":"R906"}]
["1b",{"$f":"Cen!A483","v":"Koncovka pro příčku, pro reling, D, bílošedá"},{"$f":"Cen!B483","v":"Z40D0002Z"},{"$f":"Cen!C483","v":"WGR"}]
["1b",{"$f":"Cen!A487","v":"Koncovka pro příčku, pro reling, C, bílošedá"},{"$f":"Cen!B487","v":"Z40C0002Z"},{"$f":"Cen!C487","v":"WGR"}]
["3a",{"$f":"Cen!A540","v":"Vana na láhve, 500mm"},{"$f":"Cen!B540","v":"Z48.30B0I6"},{"$f":"Cen!C540","v":"IG/G"}]

{"sheet":"OLMe","index":56,"n_rows":26,"n_cols":18,"rows_kept":26,"cut":false,"hidden":false,"merged":[]}
[null,null,null,null,null,null,{"$f":"List!$B$123","v":"Mezistěny"},null,{"$f":"List!$B$11&\":\"","v":"Zpět na:"}]
[null,null,null,null,{"$f":"List!$B$129&\":\"","v":"Základní prvek:"},null,{"$f":"List!$B$48&\" D\"","v":"Čelní výsuv D"},null,{"$f":"\" \"&List!$B$13","v":" Úvod"},null,null,{"$f":"Cen!A518","v":"Mezistěna, 450mm, šedá"},{"$f":"Cen!B518","v":"Z46L420S   "},{"$f":"Cen!C518","v":"R906"},{"$f":"Cen!D518","v":"!"},{"$f":"E20","v":0},{"$f":"Cen!F518","v":0},{"$f":"P2*Q2","v":0}]
[null,null,null,null,{"$f":"List!$B$102&\" KB:\"","v":"Šířka korpusu KB:"},null,"300 - 600 mm",null,{"$f":"\" \"&List!$B$4","v":" Výběr zásuvek a výsuvů"},null,null,{"$f":"Cen!A522","v":"Mezistěna, 500mm, šedá"},{"$f":"Cen!B522","v":"Z46L470S   "},{"$f":"Cen!C522","v":"R906"},{"$f":"Cen!D522","v":0},{"$f":"E21","v":0},{"$f":"Cen!F522","v":730.3},0]
[null,null,null,null,null,null,null,null,{"$f":"\" \"&List!$B$5","v":" Výběr doplňků"},null,null,{"$f":"Cen!A526","v":"Mezistěna, 550mm, šedá"},{"$f":"Cen!B526","v":"Z46L520S   "},{"$f":"Cen!C526","v":"R906"},{"$f":"Cen!D526","v":"!"},0,{"$f":"Cen!F526","v":770},0]
[null,null,null,"3b",{"$f":"List!B122","v":"Mezistěna"},null,null,null,{"$f":"\" \"&List!$B$6","v":" Výběr SERVO-DRIVE"},null,null,{"$f":"Cen!A530","v":"Mezistěna, 600mm, šedá"},{"$f":"Cen!B530","v":"Z46L570S   "},{"$f":"Cen!C530","v":"R906"},{"$f":"Cen!D530","v":"!"},0,{"$f":"Cen!F530","v":0},{"$f":"P5*Q5","v":0}]
[null,null,null,null,null,null,null,null,{"$f":"\" \"&List!$B$7","v":" Výběr ORGA-LINE"},null,null,{"$f":"Cen!A534","v":"Mezistěna, 650mm, šedá"},{"$f":"Cen!B534","v":"Z46L620S   "},{"$f":"Cen!C534","v":"R906"},{"$f":"Cen!D534","v":"!"},0,{"$f":"Cen!F534","v":0},0]
[]
[null,null,null,null,null,null,null,null,{"$f":"List!$B$12&\":\"","v":"Pokračovat na:"},null,null,null,null,null,null,null,null,{"$f":"SUM(R2:R7)","v":0}]
[null,null,null,null,null,null,null,null,{"$f":"\" \"&List!$B$18","v":" Souhrn"}]
[null,null,null,null,null,null,null,null,{"$f":"\" \"&List!$B$20","v":" Objednávka"}]
[]
[]
[]
[]
[]
[null,null,null,null,null,null,null,null,{"$f":"\"         \"&List!$B$185","v":"         Formy, plechy na pečení"}]
[]
[]
[null,{"$f":"List!$B$22&\":\"","v":"Soupis kování:"},null,null,{"$f":"List!$B$90&\":\"","v":"Počet:"}]
["3b",{"$f":"Cen!A518","v":"Mezistěna, 450mm, šedá"},{"$f":"Cen!B518","v":"Z46L420S   "},{"$f":"Cen!C518","v":"R906"}]
["3b",{"$f":"Cen!A522","v":"Mezistěna, 500mm, šedá"},{"$f":"Cen!B522","v":"Z46L470S   "},{"$f":"Cen!C522","v":"R906"}]
["3b",{"$f":"Cen!A526","v":"Mezistěna, 550mm, šedá"},{"$f":"Cen!B526","v":"Z46L520S   "},{"$f":"Cen!C526","v":"R906"}]
["3b",{"$f":"Cen!A530","v":"Mezistěna, 600mm, šedá"},{"$f":"Cen!B530","v":"Z46L570S   "},{"$f":"Cen!C530","v":"R906"}]
["3b",{"$f":"Cen!A534","v":"Mezistěna, 650mm, šedá"},{"$f":"Cen!B534","v":"Z46L620S   "},{"$f":"Cen!C534","v":"R906"}]
[]
[null,{"$f":"\"     \"&List!$B$154&\"!\"","v":"     Mezistěnu nelze použít pro vnitřní výsuv!"}]

{"sheet":"OLRel","index":57,"n_rows":25,"n_cols":18,"rows_kept":25,"cut":false,"hidden":false,"merged":[]}
[null,null,null,null,null,null,{"$f":"List!$B$137","v":"Příčný reling"},null,{"$f":"List!$B$11&\":\"","v":"Zpět na:"}]
[null,null,null,null,{"$f":"List!$B$129&\":\"","v":"Základní prvek:"},null,{"$f":"List!$B$48&\" D\"","v":"Čelní výsuv D"},null,{"$f":"\" \"&List!$B$13","v":" Úvod"},null,null,{"$f":"Cen!A501","v":"Příčný reling ke zkrácení, šedý"},{"$f":"Cen!B501","v":"ZRG.1104Q"},{"$f":"Cen!C501","v":"R906"},{"$f":"Cen!D501","v":0},{"$f":"E20","v":0},{"$f":"Cen!F501","v":119.3},{"$f":"P2*Q2","v":0}]
[null,null,null,null,null,null,null,null,{"$f":"\" \"&List!$B$4","v":" Výběr zásuvek a výsuvů"},null,null,{"$f":"Cen!A506","v":"Koncovka pro příčný reling, bílošedá"},{"$f":"Cen!B506","v":"ZRU.01E0"},{"$f":"Cen!C506","v":"WGR"},{"$f":"Cen!D506","v":0},{"$f":"E21","v":0},{"$f":"Cen!F506","v":37.700000000000003},0]
[null,null,null,null,{"$f":"List!$B$102&\" KB:\"","v":"Šířka korpusu KB:"},null,"300 mm",null,{"$f":"\" \"&List!$B$5","v":" Výběr doplňků"},null,null,{"$f":"Cen!A511","v":"Podélné dělení pro reling, bílošedé"},{"$f":"Cen!B511","v":"ZRU.11F0"},{"$f":"Cen!C511","v":"WGR"},{"$f":"Cen!D511","v":0},0,{"$f":"Cen!F511","v":21.5},0]
[null,null,null,null,null,null,null,null,{"$f":"\" \"&List!$B$6","v":" Výběr SERVO-DRIVE"}]
[null,null,null,null,null,null,null,null,{"$f":"\" \"&List!$B$7","v":" Výběr ORGA-LINE"},null,null,null,null,null,null,null,null,{"$f":"SUM(R2:R5)","v":0}]
[null,null,null,"2a",{"$f":"List!B138","v":"Příčný reling ke zkrácení"}]
[null,null,null,"2b",{"$f":"List!B139","v":"Koncovka pro reling"},null,null,null,{"$f":"List!$B$12&\":\"","v":"Pokračovat na:"}]
[null,null,null,"2c",{"$f":"List!B140","v":"Podélné dělení pro reling"},null,null,null,{"$f":"\" \"&List!$B$18","v":" Souhrn"}]
[null,null,null,null,null,null,null,null,{"$f":"\" \"&List!$B$20","v":" Objednávka"}]
[]
[null,null,null,null,{"$f":"List!$C$131&\":\"","v":"Přířezy relingu:"}]
[null,null,null,null,"X = LW - 63"]
[]
[null,null,null," *",{"$f":"List!$C$134&\":\"","v":"Délka relingu:"}]
[null,null,null,null,"1104 mm"]
[]
[]
[null,{"$f":"List!$B$22&\":\"","v":"Soupis kování:"},null,null,{"$f":"List!$B$90&\":\"","v":"Počet:"}]
["2a",{"$f":"Cen!A501&\" *\"","v":"Příčný reling ke zkrácení, šedý *"},{"$f":"Cen!B501","v":"ZRG.1104Q"},{"$f":"Cen!C501","v":"R906"}]
["2b",{"$f":"Cen!A506","v":"Koncovka pro příčný reling, bílošedá"},{"$f":"Cen!B506","v":"ZRU.01E0"},{"$f":"Cen!C506","v":"WGR"}]
["2c",{"$f":"Cen!A511","v":"Podélné dělení pro reling, bílošedé"},{"$f":"Cen!B511","v":"ZRU.11F0"},{"$f":"Cen!C511","v":"WGR"}]
[]
[]
[null,{"$f":"\"     \"&List!$B$153&\"!\"","v":"     Příčný reling nelze kombinovat s mezistěnou!"}]

{"sheet":"OLOst","index":58,"n_rows":251,"n_cols":18,"rows_kept":251,"cut":false,"hidden":false,"merged":[[1,1,2,1],[132,0,193,0],[135,10,135,11],[250,7,250,8]]}
[null,null,null,null,null,null,null,{"$f":"List!B$141&\" ORGA-LINE\"","v":"Ostatní ORGA-LINE"},null,{"$f":"List!$B$11&\":\"","v":"Zpět na:"}]
[null,{"$f":"List!$B$108","v":"Samostatné sady"},null,null,null,null,null,null,null,{"$f":"\" \"&List!$B$13","v":" Úvod"},null,{"$f":"Cen!A381","v":"Sada BI1, 450 mm"},{"$f":"Cen!B381","v":"ZSI.450BI1N"},{"$f":"Cen!C381","v":"IG/G"},{"$f":"Cen!D381","v":0},{"$f":"$D$5","v":0},{"$f":"Cen!F381","v":709.4},{"$f":"P2*Q2","v":0}]
[null,null,null,null,null,null,null,null,null,{"$f":"\" \"&List!$B$4","v":" Výběr zásuvek a výsuvů"},null,{"$f":"Cen!A382","v":"Sada BI1, 500 mm"},{"$f":"Cen!B382","v":"ZSI.500BI1N"},{"$f":"Cen!C382","v":"IG/G"},{"$f":"Cen!D382","v":0},{"$f":"$E$5","v":0},{"$f":"Cen!F382","v":862.8},0]
[null,{"$f":"List!$B$22&\":\"","v":"Soupis kování:"},{"$f":"List!$B$45&\":\"","v":"Jmenovitá délka:"},"450 mm","500 mm","550 mm","600 mm","650 mm",null,{"$f":"\" \"&List!$B$5","v":" Výběr doplňků"},null,{"$f":"Cen!A383","v":"Sada BI1, 550 mm"},{"$f":"Cen!B383","v":"ZSI.550BI1N"},{"$f":"Cen!C383","v":"IG/G"},{"$f":"Cen!D383","v":0},{"$f":"$F$5","v":0},{"$f":"Cen!F383","v":1035.8},0]
[null,{"$f":"List!$B$186&\" BI1\"","v":"Sada BI1"},"ZSI.xxxBI1N",null,null,null,null,null,null,{"$f":"\" \"&List!$B$6","v":" Výběr SERVO-DRIVE"},null,{"$f":"Cen!A384","v":"Sada BI1, 600 mm"},{"$f":"Cen!B384","v":"ZSI.600BI1N"},{"$f":"Cen!C384","v":"IG/G"},{"$f":"Cen!D384","v":0},{"$f":"$G$5","v":0},{"$f":"Cen!F384","v":0},0]
[null,{"$f":"List!$B$186&\" BI2\"","v":"Sada BI2"},"ZSI.xxxBI2N",null,null,null,null,null,null,{"$f":"\" \"&List!$B$7","v":" Výběr ORGA-LINE"},null,{"$f":"Cen!A385","v":"Sada BI1, 650 mm"},{"$f":"Cen!B385","v":"ZSI.650BI1N"},{"$f":"Cen!C385","v":"IG/G"},{"$f":"Cen!D385","v":0},{"$f":"$H$5","v":0},{"$f":"Cen!F385","v":0},0]
[null,{"$f":"List!$B$186&\" BI3\"","v":"Sada BI3"},"ZSI.xxxBI3",null,null,null,null,null,null,null,null,{"$f":"Cen!A386","v":"Sada BI2, 450 mm"},{"$f":"Cen!B386","v":"ZSI.450BI2N"},{"$f":"Cen!C386","v":"IG/G"},{"$f":"Cen!D386","v":0},{"$f":"$D$6","v":0},{"$f":"Cen!F386","v":927.7},0]
[null,{"$f":"List!$B$186&\" FI1\"","v":"Sada FI1"},"ZSI.xxxFI1",null,null,null,null,null,null,{"$f":"List!$B$12&\":\"","v":"Pokračovat na:"},null,{"$f":"Cen!A387","v":"Sada BI2, 500 mm"},{"$f":"Cen!B387","v":"ZSI.500BI2N"},{"$f":"Cen!C387","v":"IG/G"},{"$f":"Cen!D387","v":0},{"$f":"$E$6","v":0},{"$f":"Cen!F387","v":1095.4000000000001},0]
[null,{"$f":"List!$B$186&\" FI2 *\"","v":"Sada FI2 *"},"ZSI.xxxFI2N",null,null,null,null,null,null,{"$f":"\" \"&List!$B$18","v":" Souhrn"},null,{"$f":"Cen!A388","v":"Sada BI2, 550 mm"},{"$f":"Cen!B388","v":"ZSI.550BI2N"},{"$f":"Cen!C388","v":"IG/G"},{"$f":"Cen!D388","v":0},{"$f":"$F$6","v":0},{"$f":"Cen!F388","v":0},0]
[null,{"$f":"List!$B$186&\" FI2 *\"","v":"Sada FI2 *"},"ZSI.xxxFI3",null,null,null,null,null,null,{"$f":"\" \"&List!$B$20","v":" Objednávka"},null,{"$f":"Cen!A389","v":"Sada BI2, 600 mm"},{"$f":"Cen!B389","v":"ZSI.600BI2N"},{"$f":"Cen!C389","v":"IG/G"},{"$f":"Cen!D389","v":0},{"$f":"$G$6","v":0},{"$f":"Cen!F389","v":0},0]
[null,{"$f":"List!$B$186&\" KI2\"","v":"Sada KI2"},"ZSI.xxxKI2N",null,null,null,null,null,null,null,null,{"$f":"Cen!A390","v":"Sada BI2, 650 mm"},{"$f":"Cen!B390","v":"ZSI.650BI2N"},{"$f":"Cen!C390","v":"IG/G"},{"$f":"Cen!D390","v":0},{"$f":"$H$6","v":0},{"$f":"Cen!F390","v":0},0]
[null,{"$f":"List!$B$186&\" KI3\"","v":"Sada KI3"},"ZSI.xxxKI3N",null,null,null,null,null,null,null,null,{"$f":"Cen!A391","v":"Sada BI3, 450 mm"},{"$f":"Cen!B391","v":"ZSI.450BI3N"},{"$f":"Cen!C391","v":"IG/G"},{"$f":"Cen!D391","v":0},{"$f":"$D$7","v":0},{"$f":"Cen!F391","v":1099.2},0]
[null,{"$f":"List!$B$186&\" KI4\"","v":"Sada KI4"},"ZSI.xxxKI4",null,null,null,null,null,null,null,null,{"$f":"Cen!A392","v":"Sada BI3, 500 mm"},{"$f":"Cen!B392","v":"ZSI.500BI3"},{"$f":"Cen!C392","v":"IG/G"},{"$f":"Cen!D392","v":0},{"$f":"$E$7","v":0},{"$f":"Cen!F392","v":1357.8},0]
[null,{"$f":"List!$B$186&\" MI3\"","v":"Sada MI3"},"ZSI.xxxMI3",null,null,null,null,null,null,null,null,{"$f":"Cen!A393","v":"Sada BI3, 550 mm"},{"$f":"Cen!B393","v":"ZSI.550BI3"},{"$f":"Cen!C393","v":"IG/G"},{"$f":"Cen!D393","v":0},{"$f":"$F$7","v":0},{"$f":"Cen!F393","v":1542.1},0]
[null,{"$f":"List!$B$188","v":"Sada pro SPACE CORNER"},"ZSI.xxxBI3E",null,null,null,null,null,null,null,null,{"$f":"Cen!A394","v":"Sada BI3, 600 mm"},{"$f":"Cen!B394","v":"ZSI.600BI3"},{"$f":"Cen!C394","v":"IG/G"},{"$f":"Cen!D394","v":0},{"$f":"$G$7","v":0},{"$f":"Cen!F394","v":1820.6},0]
[null,null,null,null,null,null,null,null,null,{"$f":"\"     \"&List!$B$25","v":"     Informace k objednávání"},null,{"$f":"Cen!A395","v":"Sada BI3, 650 mm"},{"$f":"Cen!B395","v":"ZSI.650BI3"},{"$f":"Cen!C395","v":"IG/G"},{"$f":"Cen!D395","v":0},{"$f":"$H$7","v":0},{"$f":"Cen!F395","v":2011.5},0]
[null,{"$f":"List!$B$109&\", \"&List!$B$110","v":"Misky, Příčné dělící prvky"},null,null,null,null,null,null,null,null,null,{"$f":"Cen!A396","v":"Sada pro SPACE CORNER, NL 600mm"},{"$f":"Cen!B396","v":"ZSI.450BI3E"},{"$f":"Cen!C396","v":"IG/G"},{"$f":"Cen!D396","v":"!"},{"$f":"$G$15","v":0},{"$f":"Cen!F396","v":0},{"$f":"P17*Q17","v":0}]
[null,{"$f":"List!$B$22&\":\"","v":"Soupis kování:"},null,{"$f":"List!$B$90&\":\"","v":"Počet:"},null,null,null,null,null,null,null,{"$f":"Cen!A397","v":"Sada pro SPACE CORNER, NL 650mm"},{"$f":"Cen!B397","v":"ZSI.500BI3E"},{"$f":"Cen!C397","v":"IG/G"},{"$f":"Cen!D397","v":0},{"$f":"$H$15","v":0},{"$f":"Cen!F397","v":1461.5},0]
[null,{"$f":"Cen!A457","v":"Miska 88x88mm"},{"$f":"Cen!B457","v":"ZSI.010SI"},null,null,null,null,null,null,null,null,{"$f":"Cen!A409","v":"Sada FI1, 450mm"},{"$f":"Cen!B409","v":"ZSI.450FI1"},{"$f":"Cen!C409","v":"IG/G"},{"$f":"Cen!D409","v":0},{"$f":"$D$8","v":0},{"$f":"Cen!F409","v":0},{"$f":"P19*Q19","v":0}]
[null,{"$f":"Cen!A458","v":"Miska 88x176mm"},{"$f":"Cen!B458","v":"ZSI.020SI"},null,null,null,null,null,null,null,null,{"$f":"Cen!A410","v":"Sada FI1, 500mm"},{"$f":"Cen!B410","v":"ZSI.500FI1"},{"$f":"Cen!C410","v":"IG/G"},{"$f":"Cen!D410","v":0},{"$f":"$E$8","v":0},{"$f":"Cen!F410","v":671.4},{"$f":"P20*Q20","v":0}]
[null,{"$f":"Cen!A459","v":"Miska 88x264mm"},{"$f":"Cen!B459","v":"ZSI.030SI"},null,null,null,null,null,null,null,null,{"$f":"Cen!A411","v":"Sada FI1, 550mm"},{"$f":"Cen!B411","v":"ZSI.550FI1"},{"$f":"Cen!C411","v":"IG/G"},{"$f":"Cen!D411","v":0},{"$f":"$F$8","v":0},{"$f":"Cen!F411","v":0},0]
[null,{"$f":"Cen!A460","v":"Miska 88x352mm"},{"$f":"Cen!B460","v":"ZSI.040SI"},null,null,null,null,null,null,null,null,{"$f":"Cen!A412","v":"Sada FI1, 600mm"},{"$f":"Cen!B412","v":"ZSI.600FI1"},{"$f":"Cen!C412","v":"IG/G"},{"$f":"Cen!D412","v":0},{"$f":"$G$8","v":0},{"$f":"Cen!F412","v":0},0]
[null,{"$f":"Cen!A461","v":"Příčný dělící prvek 88mm"},{"$f":"Cen!B461","v":"ZSI.010Q"},null,null,null,null,null,null,null,null,{"$f":"Cen!A413","v":"Sada FI1, 650mm"},{"$f":"Cen!B413","v":"ZSI.650FI1"},{"$f":"Cen!C413","v":"IG/G"},{"$f":"Cen!D413","v":0},{"$f":"$H$8","v":0},{"$f":"Cen!F413","v":0},0]
[null,{"$f":"Cen!A462","v":"Příčný dělící prvek 176mm"},{"$f":"Cen!B462","v":"ZSI.020Q"},null,null,null,null,null,null,null,null,{"$f":"Cen!A414","v":"Sada FI2, 450mm"},{"$f":"Cen!B414","v":"ZSI.450FI2N"},{"$f":"Cen!C414","v":"IG/G"},{"$f":"Cen!D414","v":0},{"$f":"$D$9","v":0},{"$f":"Cen!F414","v":641.79999999999995},0]
[null,null,null,null,null,null,null,null,null,null,null,{"$f":"Cen!A415","v":"Sada FI2, 500mm"},{"$f":"Cen!B415","v":"ZSI.500FI2N"},{"$f":"Cen!C415","v":"IG/G"},{"$f":"Cen!D415","v":0},{"$f":"$E$9","v":0},{"$f":"Cen!F415","v":697.7},0]
[null,{"$f":"List!$B$111","v":"Pomůcky do kuchyně"},null,null,null,null,null,null,null,null,null,{"$f":"Cen!A416","v":"Sada FI2, 550mm"},{"$f":"Cen!B416","v":"ZSI.550FI2N"},{"$f":"Cen!C416","v":"IG/G"},{"$f":"Cen!D416","v":0},{"$f":"$F$9","v":0},{"$f":"Cen!F416","v":0},0]
[null,{"$f":"List!$B$22&\":\"","v":"Soupis kování:"},null,{"$f":"List!$B$90&\":\"","v":"Počet:"},null,null,null,null,null,null,null,{"$f":"Cen!A417","v":"Sada FI2, 600mm"},{"$f":"Cen!B417","v":"ZSI.600FI2N"},{"$f":"Cen!C417","v":"IG/G"},{"$f":"Cen!D417","v":0},{"$f":"$G$9","v":0},{"$f":"Cen!F417","v":1174.7},0]
[null,{"$f":"Cen!A545","v":"Držák nožů"},{"$f":"Cen!B545","v":"ZSZ.02M0"},null,null,null,null,null,null,null,null,{"$f":"Cen!A418","v":"Sada FI2, 650mm"},{"$f":"Cen!B418","v":"ZSI.650FI2N"},{"$f":"Cen!C418","v":"IG/G"},{"$f":"Cen!D418","v":0},{"$f":"$H$9","v":0},{"$f":"Cen!F418","v":1222.9000000000001},0]
[null,{"$f":"Cen!A549","v":"Držák s řezákem na potravinové folie"},{"$f":"Cen!B549","v":"ZSZ.01F0"},null,null,null,null,null,null,null,null,{"$f":"Cen!A419","v":"Sada FI3, 450mm"},{"$f":"Cen!B419","v":"ZSI.450FI3"},{"$f":"Cen!C419","v":"IG/G"},{"$f":"Cen!D419","v":0},{"$f":"$D$10","v":0},{"$f":"Cen!F419","v":935.1},0]
[null,{"$f":"Cen!A550","v":"Držák s řezákem na alufolie"},{"$f":"Cen!B550","v":"ZSZ.02F0"},null,null,null,null,null,null,null,null,{"$f":"Cen!A420","v":"Sada FI3, 500mm"},{"$f":"Cen!B420","v":"ZSI.500FI3"},{"$f":"Cen!C420","v":"IG/G"},{"$f":"Cen!D420","v":0},{"$f":"$E$10","v":0},{"$f":"Cen!F420","v":1019.1},0]
[null,{"$f":"Cen!A546","v":"Stojánek na kořenky, KB 300mm"},{"$f":"Cen!B546","v":"ZFZ.30G0I"},null,null,null,null,null,null,null,null,{"$f":"Cen!A421","v":"Sada FI3, 550mm"},{"$f":"Cen!B421","v":"ZSI.550FI3"},{"$f":"Cen!C421","v":"IG/G"},{"$f":"Cen!D421","v":0},{"$f":"$F$10","v":0},{"$f":"Cen!F421","v":1281.7},0]
[null,{"$f":"Cen!A547","v":"Stojánek na kořenky, KB 400mm"},{"$f":"Cen!B547","v":"ZFZ.40G0I"},null,null,null,null,null,null,null,null,{"$f":"Cen!A422","v":"Sada FI3, 600mm"},{"$f":"Cen!B422","v":"ZSI.600FI3"},{"$f":"Cen!C422","v":"IG/G"},{"$f":"Cen!D422","v":0},{"$f":"$G$10","v":0},{"$f":"Cen!F422","v":1626.1},0]
[null,{"$f":"Cen!A548","v":"Stojánek na kořenky, KB 450mm"},{"$f":"Cen!B548","v":"ZFZ.45G0I"},null,null,null,null,null,null,null,null,{"$f":"Cen!A423","v":"Sada FI3, 650mm"},{"$f":"Cen!B423","v":"ZSI.650FI3"},{"$f":"Cen!C423","v":"IG/G"},{"$f":"Cen!D423","v":0},{"$f":"$H$10","v":0},{"$f":"Cen!F423","v":1888.7},0]
[null,{"$f":"Cen!A544","v":"Držák talířů"},{"$f":"Cen!B544","v":"ZC7T0350"},null,null,null,null,null,null,null,null,{"$f":"Cen!A435","v":"Sada KI2, 450mm"},{"$f":"Cen!B435","v":"ZSI.450KI2N"},{"$f":"Cen!C435","v":"IG/G"},{"$f":"Cen!D435","v":0},{"$f":"$D$11","v":0},{"$f":"Cen!F435","v":1039.5999999999999},0]
[null,{"$f":"Cen!A551","v":"Sada pomůcek do kuchyně"},{"$f":"Cen!B551","v":"ZOU.30U1I"},null,null,null,null,null,null,null,null,{"$f":"Cen!A436","v":"Sada KI2, 500mm"},{"$f":"Cen!B436","v":"ZSI.500KI2N"},{"$f":"Cen!C436","v":"IG/G"},{"$f":"Cen!D436","v":0},{"$f":"$E$11","v":0},{"$f":"Cen!F436","v":1221},0]
[null,null,null,null,null,null,null,null,null,null,null,{"$f":"Cen!A437","v":"Sada KI2, 550mm"},{"$f":"Cen!B437","v":"ZSI.550KI2N"},{"$f":"Cen!C437","v":"IG/G"},{"$f":"Cen!D437","v":0},{"$f":"$F$11","v":0},{"$f":"Cen!F437","v":0},0]
[null,null,null,null,null,null,null,null,null,null,null,{"$f":"Cen!A438","v":"Sada KI2, 600mm"},{"$f":"Cen!B438","v":"ZSI.600KI2N"},{"$f":"Cen!C438","v":"IG/G"},{"$f":"Cen!D438","v":0},{"$f":"$G$11","v":0},{"$f":"Cen!F438","v":0},0]
[null,null,null,null,null,null,null,null,null,null,null,{"$f":"Cen!A439","v":"Sada KI2, 650mm"},{"$f":"Cen!B439","v":"ZSI.650KI2N"},{"$f":"Cen!C439","v":"IG/G"},{"$f":"Cen!D439","v":0},{"$f":"$H$11","v":0},{"$f":"Cen!F439","v":0},0]
[null,null,null,null,null,null,null,null,null,null,null,{"$f":"Cen!A440","v":"Sada KI3, 450mm"},{"$f":"Cen!B440","v":"ZSI.450KI3N"},{"$f":"Cen!C440","v":"IG/G"},{"$f":"Cen!D440","v":0},{"$f":"$D$12","v":0},{"$f":"Cen!F440","v":1065.9000000000001},0]
[null,null,null,null,null,null,null,null,null,null,null,{"$f":"Cen!A441","v":"Sada KI3, 500mm"},{"$f":"Cen!B441","v":"ZSI.500KI3N"},{"$f":"Cen!C441","v":"IG/G"},{"$f":"Cen!D441","v":0},{"$f":"$E$12","v":0},{"$f":"Cen!F441","v":1247.4000000000001},0]
[null,null,null,null,null,null,null,null,null,null,null,{"$f":"Cen!A442","v":"Sada KI3, 550mm"},{"$f":"Cen!B442","v":"ZSI.550KI3N"},{"$f":"Cen!C442","v":"IG/G"},{"$f":"Cen!D442","v":0},{"$f":"$F$12","v":0},{"$f":"Cen!F442","v":1507.9},0]
[null,null,null,null,null,null,null,null,null,null,null,{"$f":"Cen!A443","v":"Sada KI3, 600mm"},{"$f":"Cen!B443","v":"ZSI.600KI3N"},{"$f":"Cen!C443","v":"IG/G"},{"$f":"Cen!D443","v":0},{"$f":"$G$12","v":0},{"$f":"Cen!F443","v":0},0]
[null,null,null,null,null,null,null,null,null,null,null,{"$f":"Cen!A444","v":"Sada KI3, 650mm"},{"$f":"Cen!B444","v":"ZSI.650KI3N"},{"$f":"Cen!C444","v":"IG/G"},{"$f":"Cen!D444","v":0},{"$f":"$H$12","v":0},{"$f":"Cen!F444","v":0},0]
[null,null,null,null,null,null,null,null,null,null,null,{"$f":"Cen!A445","v":"Sada KI4, 450mm"},{"$f":"Cen!B445","v":"ZSI.450KI4N"},{"$f":"Cen!C445","v":"IG/G"},{"$f":"Cen!D445","v":0},{"$f":"$D$13","v":0},{"$f":"Cen!F445","v":1451.7},0]
[null,null,null,null,null,null,null,null,null,null,null,{"$f":"Cen!A446","v":"Sada KI4, 500mm"},{"$f":"Cen!B446","v":"ZSI.500KI4"},{"$f":"Cen!C446","v":"IG/G"},{"$f":"Cen!D446","v":0},{"$f":"$E$13","v":0},{"$f":"Cen!F446","v":1738.3},0]
[null,null,null,null,null,null,null,null,null,null,null,{"$f":"Cen!A447","v":"Sada KI4, 550mm"},{"$f":"Cen!B447","v":"ZSI.550KI4"},{"$f":"Cen!C447","v":"IG/G"},{"$f":"Cen!D447","v":0},{"$f":"$F$13","v":0},{"$f":"Cen!F447","v":2010.2},0]
[null,null,null,null,null,null,null,null,null,null,null,{"$f":"Cen!A448","v":"Sada KI4, 600mm"},{"$f":"Cen!B448","v":"ZSI.600KI4"},{"$f":"Cen!C448","v":"IG/G"},{"$f":"Cen!D448","v":0},{"$f":"$G$13","v":0},{"$f":"Cen!F448","v":0},0]
[null,null,null,null,null,null,null,null,null,null,null,{"$f":"Cen!A449","v":"Sada KI4, 650mm"},{"$f":"Cen!B449","v":"ZSI.650KI4"},{"$f":"Cen!C449","v":"IG/G"},{"$f":"Cen!D449","v":0},{"$f":"$H$13","v":0},{"$f":"Cen!F449","v":0},0]
[null,null,null,null,null,null,null,null,null,null,null,{"$f":"Cen!A450","v":"Sada MI3, 450mm"},{"$f":"Cen!B450","v":"ZSI.450MI2"},{"$f":"Cen!C450","v":"IG/G"},{"$f":"Cen!D450","v":0},{"$f":"$D$14","v":0},{"$f":"Cen!F450","v":0},0]
[null,null,null,null,null,null,null,null,null,null,null,{"$f":"Cen!A451","v":"Sada MI3, 500mm"},{"$f":"Cen!B451","v":"ZSI.500MI3"},{"$f":"Cen!C451","v":"IG/G"},{"$f":"Cen!D451","v":0},{"$f":"$E$14","v":0},{"$f":"Cen!F451","v":1867.6},0]
[null,null,null,null,null,null,null,null,null,null,null,{"$f":"Cen!A452","v":"Sada MI3, 550mm"},{"$f":"Cen!B452","v":"ZSI.550MI3"},{"$f":"Cen!C452","v":"IG/G"},{"$f":"Cen!D452","v":0},{"$f":"$F$14","v":0},{"$f":"Cen!F452","v":2215.6},0]
[null,null,null,null,null,null,null,null,null,null,null,{"$f":"Cen!A453","v":"Sada MI3, 600mm"},{"$f":"Cen!B453","v":"ZSI.600MI3"},{"$f":"Cen!C453","v":"IG/G"},{"$f":"Cen!D453","v":0},{"$f":"$G$14","v":0},{"$f":"Cen!F453","v":2568.9},0]
[null,null,null,null,null,null,null,null,null,null,null,{"$f":"Cen!A454","v":"Sada MI3, 650mm"},{"$f":"Cen!B454","v":"ZSI.650MI3"},{"$f":"Cen!C454","v":"IG/G"},{"$f":"Cen!D454","v":0},{"$f":"$H$14","v":0},{"$f":"Cen!F454","v":0},0]
[null,null,null,null,null,null,null,null,null,null,null,{"$f":"Cen!A455","v":0},{"$f":"Cen!B455","v":0},{"$f":"Cen!C455","v":0},{"$f":"Cen!D455","v":0},null,{"$f":"Cen!F455","v":0},0]
[null,null,null,null,null,null,null,null,null,null,null,{"$f":"Cen!A456","v":0},{"$f":"Cen!B456","v":0},{"$f":"Cen!C456","v":0},{"$f":"Cen!D456","v":0},null,{"$f":"Cen!F456","v":0},{"$f":"P55*Q55","v":0}]
[null,null,null,null,null,null,null,null,null,null,null,{"$f":"Cen!A457","v":"Miska 88x88mm"},{"$f":"Cen!B457","v":"ZSI.010SI"},{"$f":"Cen!C457","v":"IG/G"},{"$f":"Cen!D457","v":0},{"$f":"D19","v":0},{"$f":"Cen!F457","v":93.3},0]
[null,null,null,null,null,null,null,null,null,null,null,{"$f":"Cen!A458","v":"Miska 88x176mm"},{"$f":"Cen!B458","v":"ZSI.020SI"},{"$f":"Cen!C458","v":"IG/G"},{"$f":"Cen!D458","v":0},0,{"$f":"Cen!F458","v":113.4},{"$f":"P57*Q57","v":0}]
[null,null,null,null,null,null,null,null,null,null,null,{"$f":"Cen!A459","v":"Miska 88x264mm"},{"$f":"Cen!B459","v":"ZSI.030SI"},{"$f":"Cen!C459","v":"IG/G"},{"$f":"Cen!D459","v":0},0,{"$f":"Cen!F459","v":129.4},0]
[null,null,null,null,null,null,null,null,null,null,null,{"$f":"Cen!A460","v":"Miska 88x352mm"},{"$f":"Cen!B460","v":"ZSI.040SI"},{"$f":"Cen!C460","v":"IG/G"},{"$f":"Cen!D460","v":0},0,{"$f":"Cen!F460","v":210.1},0]
[null,null,null,null,null,null,null,null,null,null,null,{"$f":"Cen!A461","v":"Příčný dělící prvek 88mm"},{"$f":"Cen!B461","v":"ZSI.010Q"},{"$f":"Cen!C461","v":"R737"},{"$f":"Cen!D461","v":0},0,{"$f":"Cen!F461","v":32.700000000000003},0]
[null,null,null,null,null,null,null,null,null,null,null,{"$f":"Cen!A462","v":"Příčný dělící prvek 176mm"},{"$f":"Cen!B462","v":"ZSI.020Q"},{"$f":"Cen!C462","v":"R737"},{"$f":"Cen!D462","v":0},0,{"$f":"Cen!F462","v":49.1},0]
[null,null,null,null,null,null,null,null,null,null,null,{"$f":"Cen!A463","v":0},{"$f":"Cen!B463","v":0},{"$f":"Cen!C463","v":0},{"$f":"Cen!D463","v":0},null,{"$f":"Cen!F463","v":0},0]
[null,null,null,null,null,null,null,null,null,null,null,{"$f":"Cen!A545","v":"Držák nožů"},{"$f":"Cen!B545","v":"ZSZ.02M0"},{"$f":"Cen!C545","v":"IG/G"},{"$f":"Cen!D545","v":0},{"$f":"D28","v":0},{"$f":"Cen!F545","v":590.5},{"$f":"P63*Q63","v":0}]
[null,null,null,null,null,null,null,null,null,null,null,{"$f":"Cen!A549","v":"Držák s řezákem na potravinové folie"},{"$f":"Cen!B549","v":"ZSZ.01F0"},{"$f":"Cen!C549","v":"STW/G"},{"$f":"Cen!D549","v":0},{"$f":"D29","v":0},{"$f":"Cen!F549","v":954.3},0]
[null,null,null,null,null,null,null,null,null,null,null,{"$f":"Cen!A550","v":"Držák s řezákem na alufolie"},{"$f":"Cen!B550","v":"ZSZ.02F0"},{"$f":"Cen!C550","v":"ST/O"},{"$f":"Cen!D550","v":0},0,{"$f":"Cen!F550","v":894.7},0]
[null,null,null,null,null,null,null,null,null,null,null,{"$f":"Cen!A546","v":"Stojánek na kořenky, KB 300mm"},{"$f":"Cen!B546","v":"ZFZ.30G0I"},{"$f":"Cen!C546","v":"INGL"},{"$f":"Cen!D546","v":0},0,{"$f":"Cen!F546","v":509.2},0]
[null,null,null,null,null,null,null,null,null,null,null,{"$f":"Cen!A547","v":"Stojánek na kořenky, KB 400mm"},{"$f":"Cen!B547","v":"ZFZ.40G0I"},{"$f":"Cen!C547","v":"INGL"},{"$f":"Cen!D547","v":0},0,{"$f":"Cen!F547","v":0},0]
[null,null,null,null,null,null,null,null,null,null,null,{"$f":"Cen!A548","v":"Stojánek na kořenky, KB 450mm"},{"$f":"Cen!B548","v":"ZFZ.45G0I"},{"$f":"Cen!C548","v":"INGL"},{"$f":"Cen!D548","v":0},0,{"$f":"Cen!F548","v":0},0]
[null,null,null,null,null,null,null,null,null,null,null,{"$f":"Cen!A544","v":"Držák talířů"},{"$f":"Cen!B544","v":"ZC7T0350"},{"$f":"Cen!C544","v":"OG-M"},{"$f":"Cen!D544","v":0},0,{"$f":"Cen!F544","v":980.5},0]
[null,null,null,null,null,null,null,null,null,null,null,{"$f":"Cen!A551","v":"Sada pomůcek do kuchyně"},{"$f":"Cen!B551","v":"ZOU.30U1I"},{"$f":"Cen!C551","v":0},{"$f":"Cen!D551","v":0},0,{"$f":"Cen!F551","v":5829},0]
[]
[null,null,null,null,null,null,null,null,null,null,null,null,null,null,null,null,null,{"$f":"SUM(R2:R71)","v":0}]
[]
[]
[]
[]
[]
[]
[]
[]
[]
[]
[]
[]
[]
[]
[]
[]
[]
[]
[]
[]
[]
[]
[]
[]
[]
[]
[]
[]
[]
[]
[]
[]
[]
[]
[]
[]
[]
[]
[]
[]
[]
[]
[]
[]
[]
[]
[]
[]
[]
[]
[]
[]
[]
[]
[]
[]
[]
[]
[]
[]
[]
[]
[]
[null,null,null,null,null,null,null,null,null,null,{"$f":"List!$B$99","v":"Zpět"}]
[]
[]
[]
[]
[]
[]
[]
[]
[]
[]
[]
[]
[]
[]
[]
[]
[]
[]
[]
[]
[]
[]
[]
[]
[]
[]
[]
[]
[]
[]
[]
[]
[]
[]
[]
[]
[]
[]
[]
[]
[]
[]
[]
[]
[]
[]
[]
[]
[]
[]
[]
[]
[]
[]
[]
[]
[]
[]
[]
[]
[]
[]
[]
[]
[]
[]
[]
[]
[]
[]
[]
[]
[]
[]
[]
[]
[]
[]
[]
[]
[]
[]
[]
[]
[]
[]
[]
[]
[]
[]
[]
[]
[]
[]
[]
[]
[]
[]
[]
[]
[]
[]
[]
[]
[]
[]
[]
[]
[]
[]
[]
[]
[]
[]
[null,null,null,null,null,null,null,{"$f":"List!$B$99","v":"Zpět"}]

{"sheet":"Sum","index":59,"n_rows":134,"n_cols":14,"rows_kept":134,"cut":false,"hidden":false,"merged":[[121,9,121,10],[128,1,128,2],[125,9,125,10],[126,5,126,6],[127,5,127,6],[127,1,127,2]]}
[null,{"$f":"List!$B$53","v":"Zásuvky"},"N",null,null,null,"M",null,null,null,"K",null,null,{"$f":"List!$B$11&\":\"","v":"Zpět na:"}]
[null,null,"AN 300B",{"$f":"'AN300'!$Q$2","v":0},null,null,"AM 300B",{"$f":"'AM300'!$Q2","v":0},null,null,"AK 300B",{"$f":"'AK300'!$Q2","v":0},null,{"$f":"\" \"&List!$B$13","v":" Úvod"}]
[null,null,null,null,null,null,"AM 600B",{"$f":"'AM300'!$R2","v":0},null,null,"AK 600B",{"$f":"'AK300'!$R2","v":0},null,{"$f":"\" \"&List!$B$4","v":" Výběr zásuvek a výsuvů"}]
[null,null,"AN 300M",{"$f":"'AN300'!$S$2","v":0},null,null,"AM 300M",{"$f":"'AM300'!$S2","v":0},null,null,"AK 300M",{"$f":"'AK300'!$S2","v":0},null,{"$f":"\" \"&List!$B$5","v":" Výběr doplňků"}]
[null,null,null,null,null,null,"AM 600M",{"$f":"'AM300'!$T2","v":0},null,null,"AK 600M",{"$f":"'AK300'!$T2","v":0},null,{"$f":"\" \"&List!$B$6","v":" Výběr SERVO-DRIVE"}]
[null,null,null,null,null,null,null,null,null,null,null,null,null,{"$f":"\" \"&List!$B$7","v":" Výběr ORGA-LINE"}]
[]
[null,{"$f":"List!$B$54","v":"Vnitřní zásuvky"},null,null,null,null,"M",null,null,null,"K",null,null,{"$f":"List!$B$12&\":\"","v":"Pokračovat na:"}]
[null,null,null,null,null,null,"AM 30VB",{"$f":"AM30V!$Q2","v":0},null,null,"AK 30VB",{"$f":"AK30V!$Q2","v":0},null,{"$f":"\" \"&List!$B$20","v":" Objednávka"}]
[null,null,null,null,null,null,"AM 60VB",{"$f":"AM30V!$R2","v":0},null,null,"AK 60VB",{"$f":"AK30V!$R2","v":0}]
[null,null,null,null,null,null,"AM 30VM",{"$f":"AM30V!$S2","v":0},null,null,"AK 30VM",{"$f":"AK30V!$S2","v":0}]
[null,null,null,null,null,null,"AM 60VM",{"$f":"AM30V!$T2","v":0},null,null,"AK 60VM",{"$f":"AK30V!$T2","v":0}]
[null,null,null,null,null,null,{"$f":"\"* \"&List!$B$23","v":"* Volitelně"},{"$f":"SUM(AM30V!$J$40:$J$41)","v":0},null,null,{"$f":"\"* \"&List!$B$23","v":"* Volitelně"},{"$f":"SUM(AK30V!$J$40:$J$41)","v":0}]
[]
[null,{"$f":"List!$B$55&\" D \"","v":"Čelní výsuvy D "}]
[null,null,"AD310BG",{"$f":"AD310G!$Q2","v":0},null,null,"AD310BS",{"$f":"AD310M!$Q2","v":0},null,null,"AD310BR",{"$f":"AD310R!$Q2","v":0}]
[null,null,"AD610BG",{"$f":"AD310G!$R2","v":0},null,null,"AD610BS",{"$f":"AD310M!$R2","v":0},null,null,"AD610BR",{"$f":"AD310R!$R2","v":0}]
[null,null,"AD310MG",{"$f":"AD310G!$S2","v":0},null,null,"AD310MS",{"$f":"AD310M!$S2","v":0},null,null,"AD310MR",{"$f":"AD310R!$S2","v":0}]
[null,null,"AD610MG",{"$f":"AD310G!$T2","v":0},null,null,"AD610MS",{"$f":"AD310M!$T2","v":0},null,null,"AD610MR",{"$f":"AD310R!$T2","v":0}]
[null,null,null,null,null,null,null,null,null,null,{"$f":"\"** \"&List!$B$23","v":"** Volitelně"},{"$f":"AD310R!$J$41","v":0}]
[]
[null,{"$f":"List!$B$56&\" D \"","v":"Vnitřní výsuvy D "}]
[null,null,"AD31VBG",{"$f":"AD31VG!$Q2","v":0},null,null,"AD31VBS",{"$f":"AD31VM!$Q2","v":0},null,null,"AD31VBR",{"$f":"AD31VR!$Q2","v":0}]
[null,null,"AD61VBG",{"$f":"AD31VG!$R2","v":0},null,null,"AD 61VBS",{"$f":"AD31VM!$R2","v":0},null,null,"AD61VBR",{"$f":"AD31VR!$R2","v":0}]
[null,null,"AD31VMG",{"$f":"AD31VG!$S2","v":0},null,null,"AD31VMS",{"$f":"AD31VM!$S2","v":0},null,null,"AD31VMR",{"$f":"AD31VR!$S2","v":0}]
[null,null,"AD61VMG",{"$f":"AD31VG!$T2","v":0},null,null,"AD61VMS",{"$f":"AD31VM!$T2","v":0},null,null,"AD61VMR",{"$f":"AD31VR!$T2","v":0}]
[null,null,null,null,null,null,null,null,null,null,{"$f":"\"** \"&List!$B$23","v":"** Volitelně"},{"$f":"AD31VR!$J$41","v":0}]
[]
[null,{"$f":"List!$B$55&\" C \"","v":"Čelní výsuvy C "}]
[null,null,"AC310BG",{"$f":"AC310G!$Q2","v":0},null,null,"AC310BS",{"$f":"AC310M!$Q2","v":0},null,null,"AC310BR",{"$f":"AC310R!$Q2","v":0}]
[null,null,"AC610BG",{"$f":"AC310G!$R2","v":0},null,null,"AC610BS",{"$f":"AC310M!$R2","v":0},null,null,"AC610BR",{"$f":"AC310R!$R2","v":0}]
[null,null,"AC310MG",{"$f":"AC310G!$S2","v":0},null,null,"AC310MS",{"$f":"AC310M!$S2","v":0},null,null,"AC310MR",{"$f":"AC310R!$S2","v":0}]
[null,null,"AC610MG",{"$f":"AC310G!$T2","v":0},null,null,"AC610MS",{"$f":"AC310M!$T2","v":0},null,null,"AC610MR",{"$f":"AC310R!$T2","v":0}]
[null,null,null,null,null,null,null,null,null,null,{"$f":"\"** \"&List!$B$23","v":"** Volitelně"},{"$f":"AC310R!$J$41","v":0}]
[]
[null,{"$f":"List!$B$56&\" C \"","v":"Vnitřní výsuvy C "}]
[null,null,"AC31VBG",{"$f":"AC31VG!$Q2","v":0},null,null,"AC31VBS",{"$f":"AC31VM!$Q2","v":0},null,null,"AC31VBR",{"$f":"AC31VR!$Q2","v":0}]
[null,null,"AC61VBG",{"$f":"AC31VG!$R2","v":0},null,null,"AC61VBS",{"$f":"AC31VM!$R2","v":0},null,null,"AC61VBR",{"$f":"AC31VR!$R2","v":0}]
[null,null,"AC31VBG",{"$f":"AC31VG!$S2","v":0},null,null,"AC31VMS",{"$f":"AC31VM!$S2","v":0},null,null,"AC31VMR",{"$f":"AC31VR!$S2","v":0}]
[null,null,"AC61VBG",{"$f":"AC31VG!$T2","v":0},null,null,"AC61VMS",{"$f":"AC31VM!$T2","v":0},null,null,"AC61VMR",{"$f":"AC31VR!$T2","v":0}]
[null,null,null,null,null,null,null,null,null,null,{"$f":"\"** \"&List!$B$23","v":"** Volitelně"},{"$f":"AC31VR!$J$41","v":0},null,{"$f":"\" \"&List!$B$190","v":" Nahoru"}]
[]
[]
[null,{"$f":"List!$B$46&\" SPACE CORNER \"&List!$B$67","v":"Zásuvka SPACE CORNER se SYNCROMOTION"}]
[]
[null,null,"AM 630S",{"$f":"AM530S!$R2","v":0}]
[null,null," "]
[]
[]
[]
[null,{"$f":"List!$B$55&\" SPACE CORNER \"&List!$B$67&\" - D \"","v":"Čelní výsuvy SPACE CORNER se SYNCROMOTION - D "}]
[]
[null,null,"AD 635SG",{"$f":"AD535SG!$R2","v":0},null,null,"AD 635SS",{"$f":"AD535SM!$R2","v":0},null,null,"AD 635SR",{"$f":"AD535SR!$R2","v":0}]
[null,null,null,null,null,null,null,null,null,null," "]
[]
[null,null,null,null,null,null,null,null,null,null,{"$f":"\"** \"&List!$B$23","v":"** Volitelně"},{"$f":"AD535SR!$J$34","v":0}]
[]
[null,{"$f":"List!$B$46&\" SPACE CORNER \"&List!$B$68&\" - D \"","v":"Zásuvka SPACE CORNER s nehybnými čely - D "}]
[]
[null,null,"AM 630",{"$f":"'AM530'!$R2","v":0}]
[null,null," "]
[]
[]
[]
[null,{"$f":"List!$B$55&\" SPACE CORNER \"&List!$B$68&\" - D \"","v":"Čelní výsuvy SPACE CORNER s nehybnými čely - D "}]
[]
[null,null,"AD 635G",{"$f":"AD535G!$R2","v":0},null,null,"AD 635S",{"$f":"AD535M!$R2","v":0},null,null,"AD 635R",{"$f":"AD535R!$R2","v":0}]
[null,null," ",null,null,null," ",null,null,null," "]
[]
[null,null,null,null,null,null,null,null,null,null,{"$f":"\"** \"&List!$B$23","v":"** Volitelně"},{"$f":"AD535R!$J$34","v":0}]
[]
[null,{"$f":"List!$B$58&\" - D \"","v":"Dřezové výsuvy - D "}]
[null,null,"AD342BG",{"$f":"AD342G!$IQ2","v":0},null,null,"AD342BS",{"$f":"AD342M!$IQ2","v":0},null,null,"AD342BR",{"$f":"AD342R!$IQ2","v":0}]
[null,null,"AD642BG",{"$f":"AD342G!$R2","v":0},null,null,"AD642BS",{"$f":"AD342M!$R2","v":0},null,null,"AD642BR",{"$f":"AD342R!$R2","v":0}]
[null,null,"AD342MG",{"$f":"AD342G!$S2","v":0},null,null,"AD342MS",{"$f":"AD342M!$S2","v":0},null,null,"AD342MR",{"$f":"AD342R!$S2","v":0}]
[null,null,"AD642MG",{"$f":"AD342G!$T2","v":0},null,null,"AD642MS",{"$f":"AD342M!$T2","v":0},null,null,"AD642MR",{"$f":"AD342R!$T2","v":0}]
[null,null,null,null,null,null,null,null,null,null,{"$f":"\"** \"&List!$B$23","v":"** Volitelně"},{"$f":"AD342R!$J$39","v":0},null,{"$f":"\" \"&List!$B$190","v":" Nahoru"}]
[]
[null,{"$f":"List!$B$57","v":"Dřezové zásuvky"}]
[null,null,"AM 340",{"$f":"'AM340'!$Q2","v":0}]
[null,null," "]
[]
[]
[]
[]
[null,{"$f":"List!$B$55&\" \"&List!$B$59&\", \"&List!$B$60&\" D+M \"","v":"Čelní výsuvy pro úzké korpusy, sestava D+M "}]
[null,null,"ADM30BG",{"$f":"ADM30G!$Q2","v":0},null,null,"ADM30BS",{"$f":"ADM30M!$Q2","v":0},null,null,"ADM30BR",{"$f":"ADM30R!$IQ2","v":0}]
[null,null,"ADM60BG",{"$f":"ADM30G!$R2","v":0},null,null,"ADM60BS",{"$f":"ADM30M!$R2","v":0},null,null,"ADM60BR",{"$f":"ADM30R!$R2","v":0}]
[]
[]
[null,null,null,null,null,null,null,null,null,null,{"$f":"\"** \"&List!$B$23","v":"** Volitelně"},{"$f":"ADM30R!$J$30","v":0}]
[]
[null,{"$f":"List!$B$55&\" \"&List!$B$59&\", \"&List!$B$60&\" D+D \"","v":"Čelní výsuvy pro úzké korpusy, sestava D+D "}]
[null,null,"ADD32BG",{"$f":"ADD32G!$Q2","v":0},null,null,"ADD32BS",{"$f":"ADD32M!$Q2","v":0},null,null,"ADD32BR",{"$f":"ADD32R!$Q2","v":0}]
[null,null,"ADD62BG",{"$f":"ADD32G!$R2","v":0},null,null,"ADD62BS",{"$f":"ADD32M!$R2","v":0},null,null,"ADD62BR",{"$f":"ADD32R!$S2","v":0}]
[]
[]
[null,null,null,null,null,null,null,null,null,null,{"$f":"\"** \"&List!$B$23","v":"** Volitelně"},{"$f":"ADD32R!$J$30","v":0},null,{"$f":"\" \"&List!$B$190","v":" Nahoru"}]
[]
[null,{"$f":"\"SPACE TOWER, \"&List!$B$60&\" 4xD + 1xM \"","v":"SPACE TOWER, sestava 4xD + 1xM "}]
[null,null,"DM45BG",{"$f":"ADM45G!$Q2","v":0},null,null,"DM45BS",{"$f":"ADM45M!$Q2","v":0},null,null,"DM45BR",{"$f":"ADM45R!$Q2","v":0}]
[null,null,"DM60BG",{"$f":"ADM45G!$R2","v":0},null,null,"DM60BS",{"$f":"ADM45M!$R2","v":0},null,null,"DM60BR",{"$f":"ADM45R!$R2","v":0}]
[null,null,"DM45MG",{"$f":"ADM45G!$S2","v":0},null,null,"DM45MS",{"$f":"ADM45M!$S2","v":0},null,null,"DM45MR",{"$f":"ADM45R!$S2","v":0}]
[null,null,"DM60MG",{"$f":"ADM45G!$T2","v":0},null,null,"DM60MS",{"$f":"ADM45M!$T2","v":0},null,null,"DM60MR",{"$f":"ADM45R!$T2","v":0}]
[null,null,null,null,null,null,null,null,null,null,{"$f":"\"** \"&List!$B$23","v":"** Volitelně"},{"$f":"ADM45R!$J$44","v":0}]
[]
[]
[]
[]
[null,{"$f":"\"SPACE TOWER, \"&List!$B$60&\" 5xD \"","v":"SPACE TOWER, sestava 5xD "}]
[null,null,"DD45BG",{"$f":"ADD45G!$Q2","v":0},null,null,"DD45BS",{"$f":"ADD45M!$Q2","v":0},null,null,"DD32BR",{"$f":"ADD45R!$Q2","v":0}]
[null,null,"DD60BG",{"$f":"ADD45G!$R2","v":0},null,null,"DD60BS",{"$f":"ADD45M!$R2","v":0},null,null,"DD62BR",{"$f":"ADD45R!$R2","v":0}]
[null,null,"DD45MG",{"$f":"ADD45G!$S2","v":0},null,null,"DD45MS",{"$f":"ADD45M!$S2","v":0},null,null,"DD32MR",{"$f":"ADD45R!$S2","v":0}]
[null,null,"DD60MG",{"$f":"ADD45G!$T2","v":0},null,null,"DD60MS",{"$f":"ADD45M!$T2","v":0},null,null,"DD62MR",{"$f":"ADD45R!$T2","v":0}]
[null,null,null,null,null,null,null,null,null,null,{"$f":"\"** \"&List!$B$23","v":"** Volitelně"},{"$f":"ADD45R!$J$44","v":0}]
[]
[]
[null,null,null,null,null,null,null,null,null,null,null,null,null,{"$f":"\" \"&List!$B$190","v":" Nahoru"}]
[]
[]
[null,{"$f":"List!B141","v":"Ostatní"},null,null,null,{"$f":"List!B142","v":"Závěsy pro potravinové skříně"},null,null,null,"SERVO-DRIVE"]
[null,{"$f":"List!$B$93&\" \"&List!$B$91","v":"Celkem Ks"},null,{"$f":"SUM(Acs!$E$3:$E$29)","v":0},null,{"$f":"List!$B$93&\" \"&List!$B$91","v":"Celkem Ks"},null,{"$f":"SUM(Acs!$E$36:$E$53)","v":0},null,{"$f":"List!$B$93&\" \"&List!$B$91","v":"Celkem Ks"},null,{"$f":"SUM(SD!$E$3:$E$35)","v":0}]
[]
[]
[null,"ORGA-LINE"]
[null,{"$f":"List!$B$106","v":"Sady misek"},null,{"$f":"SUM(OLMi!D20:H27)","v":0},null,{"$f":"List!B120","v":"Držáky talířů"},null,{"$f":"OLTa!E24","v":0},null,{"$f":"List!$B$121&\", \"&List!$B$122","v":"Vana na láhve, Mezistěna"},null,{"$f":"SUM(OLVM!E22:E27)","v":0}]
[null,{"$f":"List!$B$107","v":"Sady rozdělovníků"},null,{"$f":"SUM(OLRo!D20:H29, OLRo!D31:D33)","v":0},null,{"$f":"List!$B$121&\", \"&List!$B$122&\", \"&List!$B$135","v":"Vana na láhve, Mezistěna, Příčky"},null,{"$f":"SUM(OLVMP!E25:E34)","v":0},null,{"$f":"List!$B$121","v":"Vana na láhve"},null,{"$f":"SUM(OLVa!E20:E23)","v":0}]
[null,{"$f":"List!$B$117&\", \"&List!$B$118&\" #1\"","v":"Příčné dělení, Podélné dělení #1"},null,{"$f":"SUM('OLP1'!E25:E31)","v":0},null,{"$f":"List!$B$125&\", \"&List!$B$122","v":"Držáky na kořenky, Mezistěna"},null,{"$f":"SUM(OLKMP!E25:E36)","v":0},null,{"$f":"List!$B$122","v":"Mezistěna"},null,{"$f":"OLMe!E21","v":0}]
[null,{"$f":"List!$B$117&\", \"&List!$B$118&\" #2\"","v":"Příčné dělení, Podélné dělení #2"},null,{"$f":"SUM('OLP2'!E25:E31)","v":0},null,{"$f":"List!$B$125","v":"Držáky na kořenky"},null,{"$f":"SUM(OLKo!E21:E30)","v":0},null,{"$f":"List!B$141&\" ORGA-LINE\"","v":"Ostatní ORGA-LINE"},null,{"$f":"SUM(OLOst!D5:H15, OLOst!D19:D24, OLOst!D28:D35)","v":0}]
[null,null,null,null,null,null,null,null,null,{"$f":"List!$B$137","v":"Příčný reling"},null,{"$f":"SUM(OLRel!E20:E22)","v":0}]
[]
[]
[null,{"$f":"\"      * \"&List!$B$38","v":"      * Úchytka pro vnitřní zásuvky"}]
[null,{"$f":"\"     ** \"&List!$B$148","v":"     ** Sada držáků, pro vlastní zásuvný prvek"},null,null,null,null,null,null,null,null,null,null,null,{"$f":"\" \"&List!$B$190","v":" Nahoru"}]

{"sheet":"Zones","index":60,"n_rows":9,"n_cols":14,"rows_kept":9,"cut":false,"hidden":true,"merged":[[8,13,9,14],[11,5,11,10],[8,5,9,6],[8,7,9,8],[8,9,9,10],[8,11,9,12]]}
[]
[]
[]
[]
[]
[]
[]
[]
[null,null,null,null,null,"Zásoby",null,"Ukládání",null,"Mytí",null,"Příprava",null,"Vaření"]

{"sheet":"Ord","index":61,"n_rows":335,"n_cols":81,"rows_kept":335,"cut":false,"hidden":false,"merged":[[7,58,9,58],[7,59,9,59],[7,60,9,60],[334,8,334,10],[7,52,9,52],[7,53,9,53],[7,48,9,48],[7,49,9,49],[7,50,9,50],[7,51,9,51],[7,41,9,41],[7,38,9,38],[7,44,9,44],[7,45,9,45],[7,46,9,46],[7,43,9,43],[7,67,9,67],[7,68,9,68],[7,73,9,73],[7,76,9,76],[7,69,9,69],[7,70,9,70],[7,71,9,71],[7,72,9,72],[7,74,9,74],[7,62,9,62],[7,63,9,63],[7,64,9,64],[7,65,9,65],[7,66,9,66],[7,33,9,33],[7,39,9,39],[7,40,9,40],[7,24,9,24],[7,13,9,13],[7,26,9,26],[7,19,9,19],[7,20,9,20],[7,21,9,21],[7,22,9,22],[7,23,9,23],[326,1,326,10],[6,7,6,10],[8,7,8,10],[321,6,321,7],[324,1,324,10],[7,55,9,55],[7,56,9,56],[7,57,9,57],[325,1,325,10],[7,31,9,31],[7,34,9,34],[7,35,9,35],[7,27,9,27],[7,28,9,28],[7,29,9,29],[7,30,9,30],[7,14,9,14],[7,15,9,15],[7,16,9,16],[7,17,9,17],[7,36,9,36]]}
[null,{"$f":"List!$B$203","v":"Odběratel"},null,null,null,null,null,null,null,null,{"$f":"List!$B$20","v":"Objednávka"},null,null,null,null,null,null,null,null,null,null,null,null,null,null,null,null,null,null,null,null,null,null,null,null,null,null,null,null,null,null,null,null,null,null,null,null,null,null,null,null,null,null,null,null,null,null,null,null,null,null,null,null,null,null,null,null,null,null,null,null,null,null,null,null,null,null,null,null,null,{"$f":"List!$B$11&\":\"","v":"Zpět na:"}]
[null,{"$f":"Form!C102","v":0},null,null,null,null,null,null,null,null,{"$f":"$H$7","v":0},null,null,null,null,null,null,null,null,null,null,null,null,null,null,null,null,null,null,null,null,null,null,null,null,null,null,null,null,null,null,null,null,null,null,null,null,null,null,null,null,null,null,null,null,null,null,null,null,null,null,null,null,null,null,null,null,null,null,null,null,null,null,null,null,null,null,null,null,null,{"$f":"\" \"&List!$B$13","v":" Úvod"}]
[null,{"$f":"Form!C104","v":0},{"$f":"List!$B$206","v":"IČO, DIČ"},null,null,null,null,null,null,null,null,null,null,null,null,null,null,null,null,null,null,null,null,null,null,null,null,null,null,null,null,null,null,null,null,null,null,null,null,null,null,null,null,null,null,null,null,null,null,null,null,null,null,null,null,null,null,null,null,null,null,null,null,null,null,null,null,null,null,null,null,null,null,null,null,null,null,null,null,null,{"$f":"\" \"&List!$B$4","v":" Výběr zásuvek a výsuvů"}]
[null,{"$f":"Form!C105","v":0},{"$f":"Form!C112","v":0},null,null,null,null,null,null,null,"BOXPLAN antaro",null,null,null,null,null,null,null,null,null,null,null,null,null,null,null,null,null,null,null,null,null,null,null,null,null,null,null,null,null,null,null,null,null,null,null,null,null,null,null,null,null,null,null,null,null,null,null,null,null,null,null,null,null,null,null,null,null,null,null,null,null,null,null,null,null,null,null,null,null,{"$f":"\" \"&List!$B$5","v":" Výběr doplňků"}]
[null,{"$f":"Form!C106","v":0},{"$f":"Form!C113","v":0},null,null,null,null,null,null,null,{"$f":"Form!$I$15&\" \"","v":"2.0.0 "},null,null,null,null,null,null,null,null,null,null,null,null,null,null,null,null,null,null,null,null,null,null,null,null,null,null,null,null,null,null,null,null,null,null,null,null,null,null,null,null,null,null,null,null,null,null,null,null,null,null,null,null,null,null,null,null,null,null,null,null,null,null,null,null,null,null,null,null,null,{"$f":"\" \"&List!$B$6","v":" Výběr SERVO-DRIVE"}]
[null,{"$f":"List!$B$205","v":"Dodací adresa"},{"$f":"List!$B$207","v":"Telefon, fax, e-mail"},null,null,null,null,{"$f":"List!$B$208","v":"Číslo objednávky"},null,null,null,null,{"$f":"SUM(M11:M299)","v":0},null,null,null,null,null,null,null,null,null,null,null,null,null,null,null,null,null,null,null,null,null,null,null,null,null,null,null,null,null,null,null,null,null,null,null,null,null,null,null,null,null,null,null,null,null,null,null,null,null,null,null,null,null,null,null,null,null,null,null,null,null,null,null,null,null,null,null,{"$f":"\" \"&List!$B$7","v":" Výběr ORGA-LINE"}]
[null,{"$f":"Form!C108","v":0},{"$f":"Form!C115","v":0},null,null,null,null,null,null,null,null,null,null,null,null,null,null,null,null,null,null,null,null,null,null,null,null,null,null,null,null,null,null,null,null,null,null,null,null,null,null,null,null,null,null,null,null,null,null,null,null,null,null,null,null,null,null,null,null,null,null,null,null,null,null,null,null,null,null,null,null,null,null,null,null,null,null,null,null,null,{"$f":"\" \"&List!$B$18","v":" Souhrn"}]
[null,{"$f":"Form!C109","v":0},{"$f":"Form!C116","v":0},null,null,null,null,{"$f":"List!$B$209","v":"Zakázka"},null,null,null,null,null,"AN 300","AM 300","AK 300","AM 30V","AK 30V",null,"AD 310G","AD 310M","AD 310R","AD 31VG","AD 31VM","AD 31VR",null,"AC 310G","AC 310M","AC 310R","AC 31VG","AC 31VM","AC 31VR",null,"AM 530S","AD 535SG","AD 535SM","AD 535SR",null,"AM 530","AD 535G","AD 535M","AD 535R",null,"AM 340","AD 342G","AD 342M","AD 342R",null,"AD D32G","AD D32M","AD D32R","AD M30G","AD M30M","AD M30R",null,"AD M45G","AD M45M","AD M45R","AD D45G","AD D45M","AD D45R",null,"OL Mi","OL Ro","OL P1","OL P2","OL Ta","OL VMP","OL KMP","OL Ko","OL VM","OL Va","OL Me","OL Rel","OL Ost",null,"Acess"]
[null,{"$f":"Form!C110","v":0},{"$f":"Form!C117","v":0}]
[null,{"$f":"Cen!A10","v":"Název"},{"$f":"Cen!B10","v":"Číslo artiklu"},{"$f":"Cen!C10","v":"Barva"},{"$f":"List!$B$97","v":"Dostupnost"},{"$f":"Cen!E10","v":"Počet"},{"$f":"Cen!F10","v":"Jednotková cena"},{"$f":"Cen!G10","v":"Celkem"},{"$f":"Cen!H10","v":"Změna"},{"$f":"Cen!I10","v":"IDNr."},{"$f":"Cen!J10","v":0},"kusy","celkem",null,null,null,null,null,null,null,null,null,null,null,null,null,null,null,null,null,null,null,null,null,null,null,null,null,null,null,null,null,null,null,null,null,null,null,null,null,null,null,null,null,null,null,null,null,null,null,null,null,null,null,null,null,null,null,null,null,null,null,null,null,null,null,null,"SD"]
[null,{"$f":"Cen!A11","v":"Bočnice N 400mm, šedé"},{"$f":"Cen!B11","v":"378N4002SA"},{"$f":"Cen!C11","v":"R906"},{"$f":"Cen!D11","v":"!"},{"$f":"IF(I11>0,I11,SUM(N11:BZ11))","v":0},{"$f":"Cen!F11","v":416.8},{"$f":"M11","v":0},null,{"$f":"Cen!I11","v":7931180},{"$f":"Cen!J11","v":"D539782"},{"$f":"IF(I11=\"x\",0,IF(I11>0,I11,F11))","v":0},{"$f":"PRODUCT(L11,G11)","v":0},{"$f":"'AN300'!S6","v":0}]
[null,{"$f":"Cen!A15","v":"Bočnice N 450mm, šedé"},{"$f":"Cen!B15","v":"378N4502SA"},{"$f":"Cen!C15","v":"R906"},{"$f":"Cen!D15","v":"!"},0,{"$f":"Cen!F15","v":420.5},0,null,{"$f":"Cen!I15","v":7931884},{"$f":"Cen!J15","v":"D549956"},0,0,{"$f":"'AN300'!S7","v":0}]
[null,{"$f":"Cen!A19","v":"Bočnice N 500mm, šedé"},{"$f":"Cen!B19","v":"378N5002SA"},{"$f":"Cen!C19","v":"R906"},{"$f":"Cen!D19","v":0},0,{"$f":"Cen!F19","v":424.3},0,null,{"$f":"Cen!I19","v":7947477},{"$f":"Cen!J19","v":"D460271"},{"$f":"IF(I13=\"x\",0,IF(I13>0,I13,F13))","v":0},{"$f":"PRODUCT(L13,G13)","v":0},{"$f":"'AN300'!S8","v":0}]
[null,{"$f":"Cen!A23","v":"Bočnice N 550mm, šedé"},{"$f":"Cen!B23","v":"378N5502SA"},{"$f":"Cen!C23","v":"R906"},{"$f":"Cen!D23","v":"!"},0,{"$f":"Cen!F23","v":461.7},0,null,{"$f":"Cen!I23","v":7952690},{"$f":"Cen!J23","v":"D545875"},{"$f":"IF(I14=\"x\",0,IF(I14>0,I14,F14))","v":0},{"$f":"PRODUCT(L14,G14)","v":0},{"$f":"'AN300'!S9","v":0}]
[null,{"$f":"Cen!A28","v":"Bočnice M 270mm, šedé"},{"$f":"Cen!B28","v":"378M2702SA"},{"$f":"Cen!C28","v":"R906"},{"$f":"Cen!D28","v":0},0,{"$f":"Cen!F28","v":350.6},0,null,{"$f":"Cen!I28","v":7878776},{"$f":"Cen!J28","v":"D511661 + D511660"},0,0,null,{"$f":"'AM300'!S3","v":0},null,{"$f":"AM30V!$S3","v":0},null,null,{"$f":"AD310G!$S3","v":0},{"$f":"AD310M!$S3","v":0},{"$f":"AD310R!$S3","v":0},{"$f":"AD31VG!$S3","v":0},{"$f":"AD31VM!$S3","v":0},{"$f":"AD31VR!$S3","v":0},null,{"$f":"AC310G!$S3","v":0},{"$f":"AC310M!$S3","v":0},{"$f":"AC310R!$S3","v":0},{"$f":"AC31VG!$S3","v":0},{"$f":"AC31VM!$S3","v":0},{"$f":"AC31VR!$S3","v":0}]
[null,{"$f":"Cen!A32","v":"Bočnice M 300mm, šedé"},{"$f":"Cen!B32","v":"378M3002SA"},{"$f":"Cen!C32","v":"R906"},{"$f":"Cen!D32","v":0},0,{"$f":"Cen!F32","v":350.6},0,null,{"$f":"Cen!I32","v":7879328},{"$f":"Cen!J32","v":"D511667 + D511666"},0,0,null,{"$f":"'AM300'!S4","v":0},null,{"$f":"AM30V!$S4","v":0},null,null,{"$f":"AD310G!$S4","v":0},{"$f":"AD310M!$S4","v":0},{"$f":"AD310R!$S4","v":0},{"$f":"AD31VG!$S4","v":0},{"$f":"AD31VM!$S4","v":0},{"$f":"AD31VR!$S4","v":0},null,{"$f":"AC310G!$S4","v":0},{"$f":"AC310M!$S4","v":0},{"$f":"AC310R!$S4","v":0},{"$f":"AC31VG!$S4","v":0},{"$f":"AC31VM!$S4","v":0},{"$f":"AC31VR!$S4","v":0}]
[null,{"$f":"Cen!A36","v":"Bočnice M 350mm, šedé"},{"$f":"Cen!B36","v":"378M3502SA"},{"$f":"Cen!C36","v":"R906"},{"$f":"Cen!D36","v":0},0,{"$f":"Cen!F36","v":350.6},0,null,{"$f":"Cen!I36","v":7880418},{"$f":"Cen!J36","v":"D511675 + D511674"},0,0,null,{"$f":"'AM300'!S5","v":0},null,{"$f":"AM30V!$S5","v":0},null,null,{"$f":"AD310G!$S5","v":0},{"$f":"AD310M!$S5","v":0},{"$f":"AD310R!$S5","v":0},{"$f":"AD31VG!$S5","v":0},{"$f":"AD31VM!$S5","v":0},{"$f":"AD31VR!$S5","v":0},null,{"$f":"AC310G!$S5","v":0},{"$f":"AC310M!$S5","v":0},{"$f":"AC310R!$S5","v":0},{"$f":"AC31VG!$S5","v":0},{"$f":"AC31VM!$S5","v":0},{"$f":"AC31VR!$S5","v":0}]
[null,{"$f":"Cen!A40","v":"Bočnice M 400mm, šedé"},{"$f":"Cen!B40","v":"378M4002SA"},{"$f":"Cen!C40","v":"R906"},{"$f":"Cen!D40","v":0},0,{"$f":"Cen!F40","v":354.3},0,null,{"$f":"Cen!I40","v":7892695},{"$f":"Cen!J40","v":"D511679 + D511678"},0,0,null,{"$f":"'AM300'!S6","v":0},null,{"$f":"AM30V!$S6","v":0},null,null,{"$f":"AD310G!$S6","v":0},{"$f":"AD310M!$S6","v":0},{"$f":"AD310R!$S6","v":0},{"$f":"AD31VG!$S6","v":0},{"$f":"AD31VM!$S6","v":0},{"$f":"AD31VR!$S6","v":0},null,{"$f":"AC310G!$S6","v":0},{"$f":"AC310M!$S6","v":0},{"$f":"AC310R!$S6","v":0},{"$f":"AC31VG!$S6","v":0},{"$f":"AC31VM!$S6","v":0},{"$f":"AC31VR!$S6","v":0},null,null,null,null,null,null,null,null,null,null,null,{"$f":"'AM340'!$S6","v":0}]
[null,{"$f":"Cen!A44","v":"Bočnice M 450mm, šedé"},{"$f":"Cen!B44","v":"378M4502SA"},{"$f":"Cen!C44","v":"R906"},{"$f":"Cen!D44","v":0},0,{"$f":"Cen!F44","v":358.1},0,null,{"$f":"Cen!I44","v":7893644},{"$f":"Cen!J44","v":"D470500 + D470498"},{"$f":"IF(I19=\"x\",0,IF(I19>0,I19,F19))","v":0},{"$f":"PRODUCT(L19,G19)","v":0},null,{"$f":"'AM300'!S7","v":0},null,{"$f":"AM30V!$S7","v":0},null,null,{"$f":"AD310G!$S7","v":0},{"$f":"AD310M!$S7","v":0},{"$f":"AD310R!$S7","v":0},{"$f":"AD31VG!$S7","v":0},{"$f":"AD31VM!$S7","v":0},{"$f":"AD31VR!$S7","v":0},null,{"$f":"AC310G!$S7","v":0},{"$f":"AC310M!$S7","v":0},{"$f":"AC310R!$S7","v":0},{"$f":"AC31VG!$S7","v":0},{"$f":"AC31VM!$S7","v":0},{"$f":"AC31VR!$S7","v":0},null,null,null,null,null,null,null,null,null,null,null,{"$f":"'AM340'!$S7","v":0},null,null,null,null,{"$f":"ADD32G!$S7","v":0},{"$f":"ADD32M!$S7","v":0},{"$f":"ADD32R!$S7","v":0},{"$f":"ADM30G!$S7","v":0},{"$f":"ADM30M!$S7","v":0},{"$f":"ADM30R!$S7","v":0},null,{"$f":"ADM45G!S7","v":0},{"$f":"ADM45M!S7","v":0},{"$f":"ADM45R!$S7","v":0},{"$f":"ADD45G!S7","v":0},{"$f":"ADD45M!S7","v":0},{"$f":"ADD45R!$S7","v":0}]
[null,{"$f":"Cen!A48","v":"Bočnice M 500mm, šedé"},{"$f":"Cen!B48","v":"378M5002SA"},{"$f":"Cen!C48","v":"R906"},{"$f":"Cen!D48","v":0},0,{"$f":"Cen!F48","v":397.4},0,null,{"$f":"Cen!I48","v":7907526},{"$f":"Cen!J48","v":"D470504 + D470503"},0,0,null,{"$f":"'AM300'!S8","v":0},null,{"$f":"AM30V!$S8","v":0},null,null,{"$f":"AD310G!$S8","v":0},{"$f":"AD310M!$S8","v":0},{"$f":"AD310R!$S8","v":0},{"$f":"AD31VG!$S8","v":0},{"$f":"AD31VM!$S8","v":0},{"$f":"AD31VR!$S8","v":0},null,{"$f":"AC310G!$S8","v":0},{"$f":"AC310M!$S8","v":0},{"$f":"AC310R!$S8","v":0},{"$f":"AC31VG!$S8","v":0},{"$f":"AC31VM!$S8","v":0},{"$f":"AC31VR!$S8","v":0},null,null,null,null,null,null,null,null,null,null,null,{"$f":"'AM340'!$S8","v":0},{"$f":"AD342G!$S8","v":0},{"$f":"AD342M!$S8","v":0},{"$f":"AD342R!$S8","v":0},null,{"$f":"ADD32G!$S8","v":0},{"$f":"ADD32M!$S8","v":0},{"$f":"ADD32R!$S8","v":0},{"$f":"ADM30G!$S8","v":0},{"$f":"ADM30M!$S8","v":0},{"$f":"ADM30R!$S8","v":0},null,{"$f":"ADM45G!S8","v":0},{"$f":"ADM45M!S8","v":0},{"$f":"ADM45R!$S8","v":0},{"$f":"ADD45G!S8","v":0},{"$f":"ADD45M!S8","v":0},{"$f":"ADD45R!$S8","v":0}]
[null,{"$f":"Cen!A52","v":"Bočnice M 550mm, šedé"},{"$f":"Cen!B52","v":"378M5502SA"},{"$f":"Cen!C52","v":"R906"},{"$f":"Cen!D52","v":0},0,{"$f":"Cen!F52","v":399.2},0,null,{"$f":"Cen!I52","v":7915701},{"$f":"Cen!J52","v":"D529008 + D529007"},{"$f":"IF(I21=\"x\",0,IF(I21>0,I21,F21))","v":0},{"$f":"PRODUCT(L21,G21)","v":0},null,{"$f":"'AM300'!S9","v":0},null,{"$f":"AM30V!$S9","v":0},null,null,{"$f":"AD310G!$S9","v":0},{"$f":"AD310M!$S9","v":0},{"$f":"AD310R!$S9","v":0},{"$f":"AD31VG!$S9","v":0},{"$f":"AD31VM!$S9","v":0},{"$f":"AD31VR!$S9","v":0},null,{"$f":"AC310G!$S9","v":0},{"$f":"AC310M!$S9","v":0},{"$f":"AC310R!$S9","v":0},{"$f":"AC31VG!$S9","v":0},{"$f":"AC31VM!$S9","v":0},{"$f":"AC31VR!$S9","v":0},null,null,null,null,null,null,null,null,null,null,null,{"$f":"'AM340'!$S9","v":0},null,null,null,null,{"$f":"ADD32G!$S9","v":0},{"$f":"ADD32M!$S9","v":0},{"$f":"ADD32R!$S9","v":0},{"$f":"ADM30G!$S9","v":0},{"$f":"ADM30M!$S9","v":0},{"$f":"ADM30R!$S9","v":0},null,{"$f":"ADM45G!S9","v":0},{"$f":"ADM45M!S9","v":0},{"$f":"ADM45R!$S9","v":0},{"$f":"ADD45G!S9","v":0},{"$f":"ADD45M!S9","v":0},{"$f":"ADD45R!$S9","v":0}]
[null,{"$f":"Cen!A56","v":"Bočnice M 600mm, šedé"},{"$f":"Cen!B56","v":"378M6002SA"},{"$f":"Cen!C56","v":"R906"},{"$f":"Cen!D56","v":0},0,{"$f":"Cen!F56","v":508.3},0,null,{"$f":"Cen!I56","v":7921510},{"$f":"Cen!J56","v":"D551832 + D551831"},0,0,null,{"$f":"'AM300'!S10","v":0},null,{"$f":"AM30V!$S10","v":0},null,null,{"$f":"AD310G!$S10","v":0},{"$f":"AD310M!$S10","v":0},{"$f":"AD310R!$S10","v":0},{"$f":"AD31VG!$S10","v":0},{"$f":"AD31VM!$S10","v":0},{"$f":"AD31VR!$S10","v":0},null,{"$f":"AC310G!$S10","v":0},{"$f":"AC310M!$S10","v":0},{"$f":"AC310R!$S10","v":0},{"$f":"AC31VG!$S10","v":0},{"$f":"AC31VM!$S10","v":0},{"$f":"AC31VR!$S10","v":0},null,{"$f":"AM530S!$S10","v":0},{"$f":"AD535SG!$S10","v":0},{"$f":"AD535SM!$S10","v":0},{"$f":"AD535SR!$S10","v":0},null,{"$f":"'AM530'!$S10","v":0},{"$f":"AD535G!$S10","v":0},{"$f":"AD535M!$S10","v":0},{"$f":"AD535R!$S10","v":0},null,null,null,null,null,null,{"$f":"ADD32G!$S10","v":0},{"$f":"ADD32M!$S10","v":0},{"$f":"ADD32R!$S10","v":0},{"$f":"ADM30G!$S10","v":0},{"$f":"ADM30M!$S10","v":0},{"$f":"ADM30R!$S10","v":0}]
[null,{"$f":"Cen!A60","v":"Bočnice M 650mm, šedé"},{"$f":"Cen!B60","v":"378M6502SA"},{"$f":"Cen!C60","v":"R906"},{"$f":"Cen!D60","v":0},0,{"$f":"Cen!F60","v":536.29999999999995},0,null,{"$f":"Cen!I60","v":7927885},{"$f":"Cen!J60","v":"D551836 + D551835"},0,0,null,{"$f":"'AM300'!S11","v":0},null,{"$f":"AM30V!$S11","v":0},null,null,{"$f":"AD310G!$S11","v":0},{"$f":"AD310M!$S11","v":0},{"$f":"AD310R!$S11","v":0},{"$f":"AD31VG!$S11","v":0},{"$f":"AD31VM!$S11","v":0},{"$f":"AD31VR!$S11","v":0},null,{"$f":"AC310G!$S11","v":0},{"$f":"AC310M!$S11","v":0},{"$f":"AC310R!$S11","v":0},{"$f":"AC31VG!$S11","v":0},{"$f":"AC31VM!$S11","v":0},{"$f":"AC31VR!$S11","v":0},null,{"$f":"AM530S!$S11","v":0},{"$f":"AD535SG!$S11","v":0},{"$f":"AD535SM!$S11","v":0},{"$f":"AD535SR!$S11","v":0},null,{"$f":"'AM530'!$S11","v":0},{"$f":"AD535G!$S11","v":0},{"$f":"AD535M!$S11","v":0},{"$f":"AD535R!$S11","v":0},null,null,null,null,null,null,{"$f":"ADD32G!$S11","v":0},{"$f":"ADD32M!$S11","v":0},{"$f":"ADD32R!$S11","v":0},{"$f":"ADM30G!$S11","v":0},{"$f":"ADM30M!$S11","v":0},{"$f":"ADM30R!$S11","v":0}]
[null,{"$f":"Cen!A65","v":"Bočnice K 270mm, šedé"},{"$f":"Cen!B65","v":"378K2702SA"},{"$f":"Cen!C65","v":"R906"},{"$f":"Cen!D65","v":"!"},0,{"$f":"Cen!F65","v":599.20000000000005},0,null,{"$f":"Cen!I65","v":7735870},{"$f":"Cen!J65","v":"D551644"},0,0,null,null,{"$f":"'AK300'!$S3","v":0},null,{"$f":"AK30V!$S3","v":0}]
[null,{"$f":"Cen!A68","v":"Bočnice K 300mm, šedé"},{"$f":"Cen!B68","v":"378K3002SA"},{"$f":"Cen!C68","v":"R906"},{"$f":"Cen!D68","v":"!"},0,{"$f":"Cen!F68","v":599.20000000000005},0,null,{"$f":"Cen!I68","v":7754207},{"$f":"Cen!J68","v":"D541412"},{"$f":"IF(I25=\"x\",0,IF(I25>0,I25,F25))","v":0},{"$f":"PRODUCT(L25,G25)","v":0},null,null,{"$f":"'AK300'!$S4","v":0},null,{"$f":"AK30V!$S4","v":0}]
[null,{"$f":"Cen!A71","v":"Bočnice K 350mm, šedé"},{"$f":"Cen!B71","v":"378K3502SA"},{"$f":"Cen!C71","v":"R906"},{"$f":"Cen!D71","v":"!"},0,{"$f":"Cen!F71","v":599.20000000000005},0,null,{"$f":"Cen!I71","v":7754240},{"$f":"Cen!J71","v":"D534497"},0,0,null,null,{"$f":"'AK300'!$S5","v":0},null,{"$f":"AK30V!$S5","v":0}]
[null,{"$f":"Cen!A74","v":"Bočnice K 400mm, šedé"},{"$f":"Cen!B74","v":"378K4002SA"},{"$f":"Cen!C74","v":"R906"},{"$f":"Cen!D74","v":"!"},0,{"$f":"Cen!F74","v":602.9},0,null,{"$f":"Cen!I74","v":7770099},{"$f":"Cen!J74","v":"D472676"},0,0,null,null,{"$f":"'AK300'!$S6","v":0},null,{"$f":"AK30V!$S6","v":0}]
[null,{"$f":"Cen!A77","v":"Bočnice K 450mm, šedé"},{"$f":"Cen!B77","v":"378K4502SA"},{"$f":"Cen!C77","v":"R906"},{"$f":"Cen!D77","v":0},0,{"$f":"Cen!F77","v":606.6},0,null,{"$f":"Cen!I77","v":7800942},{"$f":"Cen!J77","v":"D472678"},0,0,null,null,{"$f":"'AK300'!$S7","v":0},null,{"$f":"AK30V!$S7","v":0}]
[null,{"$f":"Cen!A80","v":"Bočnice K 500mm, šedé"},{"$f":"Cen!B80","v":"378K5002SA"},{"$f":"Cen!C80","v":"R906"},{"$f":"Cen!D80","v":0},0,{"$f":"Cen!F80","v":610.4},0,null,{"$f":"Cen!I80","v":7826509},{"$f":"Cen!J80","v":"D472680"},{"$f":"IF(I29=\"x\",0,IF(I29>0,I29,F29))","v":0},{"$f":"PRODUCT(L29,G29)","v":0},null,null,{"$f":"'AK300'!$S8","v":0},null,{"$f":"AK30V!$S8","v":0}]
[null,{"$f":"Cen!A83","v":"Bočnice K 550mm, šedé"},{"$f":"Cen!B83","v":"378K5502SA"},{"$f":"Cen!C83","v":"R906"},{"$f":"Cen!D83","v":"!"},0,{"$f":"Cen!F83","v":647.79999999999995},0,null,{"$f":"Cen!I83","v":7833537},{"$f":"Cen!J83","v":"D551650"},{"$f":"IF(I30=\"x\",0,IF(I30>0,I30,F30))","v":0},{"$f":"PRODUCT(L30,G30)","v":0},null,null,{"$f":"'AK300'!$S9","v":0},null,{"$f":"AK30V!$S9","v":0},null,null,null,null,null,null,null,null,null,null,null,null,null,null,null,null,{"$f":"AD535SG!$J34","v":0},{"$f":"AD535SM!$J34","v":0},null,null,{"$f":"'AM530'!$J34","v":0},{"$f":"AD535G!$J34","v":0},{"$f":"AD535M!$J34","v":0}]
[null,{"$f":"Cen!A86","v":"Bočnice K 600mm, šedé"},{"$f":"Cen!B86","v":"378K6002SA"},{"$f":"Cen!C86","v":"R906"},{"$f":"Cen!D86","v":"!"},0,{"$f":"Cen!F86","v":756.8},0,null,{"$f":"Cen!I86","v":7843319},{"$f":"Cen!J86","v":"D511829"},{"$f":"IF(I31=\"x\",0,IF(I31>0,I31,F31))","v":0},{"$f":"PRODUCT(L31,G31)","v":0},null,null,{"$f":"'AK300'!$S10","v":0},null,{"$f":"AK30V!$S10","v":0}]
[null,{"$f":"Cen!A89","v":"Bočnice K 650mm, šedé"},{"$f":"Cen!B89","v":"378K6502SA"},{"$f":"Cen!C89","v":"R906"},{"$f":"Cen!D89","v":"!"},0,{"$f":"Cen!F89","v":784.9},0,null,{"$f":"Cen!I89","v":7862096},{"$f":"Cen!J89","v":"D551653"},0,0,null,null,{"$f":"'AK300'!$S11","v":0},null,{"$f":"AK30V!$S11","v":0}]
[null,null,null,null,null,0,null,null,null,null,null,0,0]
[null,{"$f":"Cen!A94","v":"Korpusové lišty 270mm, BLUMOTION, 30kg"},{"$f":"Cen!B94","v":"578.2701B"},{"$f":"Cen!C94","v":"ZN"},{"$f":"Cen!D94","v":0},0,{"$f":"Cen!F94","v":459.2},{"$f":"M34","v":0},null,{"$f":"Cen!I94","v":8000501},{"$f":"Cen!J94","v":"D104569"},0,0,null,{"$f":"'AM300'!$S13","v":0},{"$f":"'AK300'!$S13","v":0},{"$f":"AM30V!$S13","v":0},{"$f":"AK30V!$S13","v":0},null,{"$f":"AD310G!$S13","v":0},{"$f":"AD310M!$S13","v":0},{"$f":"AD310R!$S13","v":0},{"$f":"AD31VG!S13","v":0},{"$f":"AD31VM!$S13","v":0},{"$f":"AD31VR!$S13","v":0},null,{"$f":"AC310G!$S13","v":0},{"$f":"AC310M!$S13","v":0},{"$f":"AC310R!$S13","v":0},{"$f":"AC31VG!$S13","v":0},{"$f":"AC31VM!$S13","v":0},{"$f":"AC31VR!$S13","v":0}]
[null,{"$f":"Cen!A95","v":"Korpusové lišty 300mm, BLUMOTION, 30kg"},{"$f":"Cen!B95","v":"578.3001B"},{"$f":"Cen!C95","v":"ZN"},{"$f":"Cen!D95","v":0},0,{"$f":"Cen!F95","v":459.2},{"$f":"M35","v":0},null,{"$f":"Cen!I95","v":8091502},{"$f":"Cen!J95","v":"D347811"},{"$f":"IF(I35=\"x\",0,IF(I35>0,I35,F35))","v":0},{"$f":"PRODUCT(L35,G35)","v":0},null,{"$f":"'AM300'!$S14","v":0},{"$f":"'AK300'!$S14","v":0},{"$f":"AM30V!$S14","v":0},{"$f":"AK30V!$S14","v":0},null,{"$f":"AD310G!$S14","v":0},{"$f":"AD310M!$S14","v":0},{"$f":"AD310R!$S14","v":0},{"$f":"AD31VG!S14","v":0},{"$f":"AD31VM!$S14","v":0},{"$f":"AD31VR!$S14","v":0},null,{"$f":"AC310G!$S14","v":0},{"$f":"AC310M!$S14","v":0},{"$f":"AC310R!$S14","v":0},{"$f":"AC31VG!$S14","v":0},{"$f":"AC31VM!$S14","v":0},{"$f":"AC31VR!$S14","v":0}]
[null,{"$f":"Cen!A96","v":"Korpusové lišty 350mm, BLUMOTION, 30kg"},{"$f":"Cen!B96","v":"578.3501B"},{"$f":"Cen!C96","v":"ZN"},{"$f":"Cen!D96","v":0},0,{"$f":"Cen!F96","v":459.2},{"$f":"M36","v":0},null,{"$f":"Cen!I96","v":8359762},{"$f":"Cen!J96","v":"D099077"},{"$f":"IF(I36=\"x\",0,IF(I36>0,I36,F36))","v":0},{"$f":"PRODUCT(L36,G36)","v":0},null,{"$f":"'AM300'!$S15","v":0},{"$f":"'AK300'!$S15","v":0},{"$f":"AM30V!$S15","v":0},{"$f":"AK30V!$S15","v":0},null,{"$f":"AD310G!$S15","v":0},{"$f":"AD310M!$S15","v":0},{"$f":"AD310R!$S15","v":0},{"$f":"AD31VG!S15","v":0},{"$f":"AD31VM!$S15","v":0},{"$f":"AD31VR!$S15","v":0},null,{"$f":"AC310G!$S15","v":0},{"$f":"AC310M!$S15","v":0},{"$f":"AC310R!$S15","v":0},{"$f":"AC31VG!$S15","v":0},{"$f":"AC31VM!$S15","v":0},{"$f":"AC31VR!$S15","v":0}]
[null,{"$f":"Cen!A97","v":"Korpusové lišty 400mm, BLUMOTION, 30kg"},{"$f":"Cen!B97","v":"578.4001B"},{"$f":"Cen!C97","v":"ZN"},{"$f":"Cen!D97","v":0},0,{"$f":"Cen!F97","v":462.6},{"$f":"M37","v":0},null,{"$f":"Cen!I97","v":8445585},{"$f":"Cen!J97","v":"D046031"},{"$f":"IF(I37=\"x\",0,IF(I37>0,I37,F37))","v":0},{"$f":"PRODUCT(L37,G37)","v":0},{"$f":"'AN300'!S16","v":0},{"$f":"'AM300'!$S16","v":0},{"$f":"'AK300'!$S16","v":0},{"$f":"AM30V!$S16","v":0},{"$f":"AK30V!$S16","v":0},null,{"$f":"AD310G!$S16","v":0},{"$f":"AD310M!$S16","v":0},{"$f":"AD310R!$S16","v":0},{"$f":"AD31VG!S16","v":0},{"$f":"AD31VM!$S16","v":0},{"$f":"AD31VR!$S16","v":0},null,{"$f":"AC310G!$S16","v":0},{"$f":"AC310M!$S16","v":0},{"$f":"AC310R!$S16","v":0},{"$f":"AC31VG!$S16","v":0},{"$f":"AC31VM!$S16","v":0},{"$f":"AC31VR!$S16","v":0},null,null,null,null,null,null,null,null,null,null,null,{"$f":"'AM340'!$S16","v":0}]
[null,{"$f":"Cen!A98","v":"Korpusové lišty 450mm, BLUMOTION, 30kg"},{"$f":"Cen!B98","v":"578.4501B"},{"$f":"Cen!C98","v":"ZN"},{"$f":"Cen!D98","v":0},0,{"$f":"Cen!F98","v":466},0,null,{"$f":"Cen!I98","v":8517597},{"$f":"Cen!J98","v":"D046839"},0,0,{"$f":"'AN300'!S17","v":0},{"$f":"'AM300'!$S17","v":0},{"$f":"'AK300'!$S17","v":0},{"$f":"AM30V!$S17","v":0},{"$f":"AK30V!$S17","v":0},null,{"$f":"AD310G!$S17","v":0},{"$f":"AD310M!$S17","v":0},{"$f":"AD310R!$S17","v":0},{"$f":"AD31VG!S17","v":0},{"$f":"AD31VM!$S17","v":0},{"$f":"AD31VR!$S17","v":0},null,{"$f":"AC310G!$S17","v":0},{"$f":"AC310M!$S17","v":0},{"$f":"AC310R!$S17","v":0},{"$f":"AC31VG!$S17","v":0},{"$f":"AC31VM!$S17","v":0},{"$f":"AC31VR!$S17","v":0},null,null,null,null,null,null,null,null,null,null,null,{"$f":"'AM340'!$S17","v":0},null,null,null,null,{"$f":"ADD32G!$S17","v":0},{"$f":"ADD32M!$S17","v":0},{"$f":"ADD32R!$S17","v":0},{"$f":"ADM30G!$S17","v":0},{"$f":"ADM30M!$S17","v":0},{"$f":"ADM30R!$S17","v":0},null,{"$f":"ADM45G!S17","v":0},{"$f":"ADM45M!S17","v":0},{"$f":"ADM45R!$S17","v":0},{"$f":"ADD45G!S17","v":0},{"$f":"ADD45M!S17","v":0},{"$f":"ADD45R!$S17","v":0}]
[null,{"$f":"Cen!A99","v":"Korpusové lišty 450mm, BLUMOTION, 65kg"},{"$f":"Cen!B99","v":"576.4501B"},{"$f":"Cen!C99","v":"ZN"},{"$f":"Cen!D99","v":0},0,{"$f":"Cen!F99","v":560.79999999999995},0,null,{"$f":"Cen!I99","v":6861652},{"$f":"Cen!J99","v":"D640657"},0,0,null,{"$f":"'AM300'!$S18","v":0},{"$f":"'AK300'!$S18","v":0},{"$f":"AM30V!$S18","v":0},{"$f":"AK30V!$S18","v":0},null,{"$f":"AD310G!$S18","v":0},{"$f":"AD310M!$S18","v":0},{"$f":"AD310R!$S18","v":0},{"$f":"AD31VG!S18","v":0},{"$f":"AD31VM!$S18","v":0},{"$f":"AD31VR!$S18","v":0},null,{"$f":"AC310G!$S18","v":0},{"$f":"AC310M!$S18","v":0},{"$f":"AC310R!$S18","v":0},{"$f":"AC31VG!$S18","v":0},{"$f":"AC31VM!$S18","v":0},{"$f":"AC31VR!$S18","v":0},null,null,null,null,null,null,null,null,null,null,null,null,null,null,null,null,null,null,null,null,null,null,null,{"$f":"ADM45G!S18","v":0},{"$f":"ADM45M!S18","v":0},{"$f":"ADM45R!$S18","v":0},{"$f":"ADD45G!S18","v":0},{"$f":"ADD45M!S18","v":0},{"$f":"ADD45R!$S18","v":0}]
[null,{"$f":"Cen!A100","v":"Korpusové lišty 500mm, BLUMOTION, 30kg"},{"$f":"Cen!B100","v":"578.5001B"},{"$f":"Cen!C100","v":"ZN"},{"$f":"Cen!D100","v":0},0,{"$f":"Cen!F100","v":469.5},0,null,{"$f":"Cen!I100","v":8548489},{"$f":"Cen!J100","v":"D031859"},0,0,{"$f":"'AN300'!S19","v":0},{"$f":"'AM300'!$S19","v":0},{"$f":"'AK300'!$S19","v":0},{"$f":"AM30V!$S19","v":0},{"$f":"AK30V!$S19","v":0},null,{"$f":"AD310G!$S19","v":0},{"$f":"AD310M!$S19","v":0},{"$f":"AD310R!$S19","v":0},{"$f":"AD31VG!S19","v":0},{"$f":"AD31VM!$S19","v":0},{"$f":"AD31VR!$S19","v":0},null,{"$f":"AC310G!$S19","v":0},{"$f":"AC310M!$S19","v":0},{"$f":"AC310R!$S19","v":0},{"$f":"AC31VG!$S19","v":0},{"$f":"AC31VM!$S19","v":0},{"$f":"AC31VR!$S19","v":0},null,null,null,null,null,null,null,null,null,null,null,{"$f":"'AM340'!$S19","v":0},{"$f":"AD342G!$S19","v":0},{"$f":"AD342M!$S19","v":0},{"$f":"AD342R!$S19","v":0},null,{"$f":"ADD32G!$S19","v":0},{"$f":"ADD32M!$S19","v":0},{"$f":"ADD32R!$S19","v":0},{"$f":"ADM30G!$S19","v":0},{"$f":"ADM30M!$S19","v":0},{"$f":"ADM30R!$S19","v":0},null,{"$f":"ADM45G!S19","v":0},{"$f":"ADM45M!S19","v":0},{"$f":"ADM45R!$S19","v":0},{"$f":"ADD45G!S19","v":0},{"$f":"ADD45M!S19","v":0},{"$f":"ADD45R!$S19","v":0}]
[null,{"$f":"Cen!A101","v":"Korpusové lišty 500mm, BLUMOTION, 65kg"},{"$f":"Cen!B101","v":"576.5001B"},{"$f":"Cen!C101","v":"ZN"},{"$f":"Cen!D101","v":0},0,{"$f":"Cen!F101","v":620.4},0,null,{"$f":"Cen!I101","v":6861712},{"$f":"Cen!J101","v":"D360934"},0,0,null,{"$f":"'AM300'!$S20","v":0},{"$f":"'AK300'!$S20","v":0},{"$f":"AM30V!$S20","v":0},{"$f":"AK30V!$S20","v":0},null,{"$f":"AD310G!$S20","v":0},{"$f":"AD310M!$S20","v":0},{"$f":"AD310R!$S20","v":0},{"$f":"AD31VG!S20","v":0},{"$f":"AD31VM!$S20","v":0},{"$f":"AD31VR!$S20","v":0},null,{"$f":"AC310G!$S20","v":0},{"$f":"AC310M!$S20","v":0},{"$f":"AC310R!$S20","v":0},{"$f":"AC31VG!$S20","v":0},{"$f":"AC31VM!$S20","v":0},{"$f":"AC31VR!$S20","v":0},null,null,null,null,null,null,null,null,null,null,null,null,{"$f":"AD342G!$S20","v":0},{"$f":"AD342M!$S20","v":0},{"$f":"AD342R!$S20","v":0},null,null,null,null,null,null,null,null,{"$f":"ADM45G!S20","v":0},{"$f":"ADM45M!S20","v":0},{"$f":"ADM45R!$S20","v":0},{"$f":"ADD45G!S20","v":0},{"$f":"ADD45M!S20","v":0},{"$f":"ADD45R!$S20","v":0}]
[null,{"$f":"Cen!A102","v":"Korpusové lišty 550mm, BLUMOTION, 30kg"},{"$f":"Cen!B102","v":"578.5501B"},{"$f":"Cen!C102","v":"ZN"},{"$f":"Cen!D102","v":0},0,{"$f":"Cen!F102","v":493.5},0,null,{"$f":"Cen!I102","v":8653566},{"$f":"Cen!J102","v":"D046841"},0,0,{"$f":"'AN300'!S21","v":0},{"$f":"'AM300'!$S21","v":0},{"$f":"'AK300'!$S21","v":0},{"$f":"AM30V!$S21","v":0},{"$f":"AK30V!$S21","v":0},null,{"$f":"AD310G!$S21","v":0},{"$f":"AD310M!$S21","v":0},{"$f":"AD310R!$S21","v":0},{"$f":"AD31VG!S21","v":0},{"$f":"AD31VM!$S21","v":0},{"$f":"AD31VR!$S21","v":0},null,{"$f":"AC310G!$S21","v":0},{"$f":"AC310M!$S21","v":0},{"$f":"AC310R!$S21","v":0},{"$f":"AC31VG!$S21","v":0},{"$f":"AC31VM!$S21","v":0},{"$f":"AC31VR!$S21","v":0},null,null,null,null,null,null,null,null,null,null,null,{"$f":"'AM340'!$S21","v":0},null,null,null,null,{"$f":"ADD32G!$S21","v":0},{"$f":"ADD32M!$S21","v":0},{"$f":"ADD32R!$S21","v":0},{"$f":"ADM30G!$S21","v":0},{"$f":"ADM30M!$S21","v":0},{"$f":"ADM30R!$S21","v":0},null,{"$f":"ADM45G!S21","v":0},{"$f":"ADM45M!S21","v":0},{"$f":"ADM45R!$S21","v":0},{"$f":"ADD45G!S21","v":0},{"$f":"ADD45M!S21","v":0},{"$f":"ADD45R!$S21","v":0}]
[null,{"$f":"Cen!A103","v":"Korpusové lišty 550mm, BLUMOTION, 65kg"},{"$f":"Cen!B103","v":"576.5501B"},{"$f":"Cen!C103","v":"ZN"},{"$f":"Cen!D103","v":0},0,{"$f":"Cen!F103","v":644.29999999999995},0,null,{"$f":"Cen!I103","v":6877115},{"$f":"Cen!J103","v":"D195950"},0,0,null,{"$f":"'AM300'!$S22","v":0},{"$f":"'AK300'!$S22","v":0},{"$f":"AM30V!$S22","v":0},{"$f":"AK30V!$S22","v":0},null,{"$f":"AD310G!$S22","v":0},{"$f":"AD310M!$S22","v":0},{"$f":"AD310R!$S22","v":0},{"$f":"AD31VG!S22","v":0},{"$f":"AD31VM!$S22","v":0},{"$f":"AD31VR!$S22","v":0},null,{"$f":"AC310G!$S22","v":0},{"$f":"AC310M!$S22","v":0},{"$f":"AC310R!$S22","v":0},{"$f":"AC31VG!$S22","v":0},{"$f":"AC31VM!$S22","v":0},{"$f":"AC31VR!$S22","v":0},null,null,null,null,null,null,null,null,null,null,null,null,null,null,null,null,null,null,null,null,null,null,null,{"$f":"ADM45G!S22","v":0},{"$f":"ADM45M!S22","v":0},{"$f":"ADM45R!$S22","v":0},{"$f":"ADD45G!S22","v":0},{"$f":"ADD45M!S22","v":0},{"$f":"ADD45R!$S22","v":0}]
[null,{"$f":"Cen!A104","v":"Korpusové lišty 600mm, BLUMOTION, 30kg"},{"$f":"Cen!B104","v":"578.6001B"},{"$f":"Cen!C104","v":"ZN"},{"$f":"Cen!D104","v":0},0,{"$f":"Cen!F104","v":523.9},0,null,{"$f":"Cen!I104","v":8785467},{"$f":"Cen!J104","v":"D658302"},0,0,null,{"$f":"'AM300'!$S23","v":0},{"$f":"'AK300'!$S23","v":0},{"$f":"AM30V!$S23","v":0},{"$f":"AK30V!$S23","v":0},null,{"$f":"AD310G!$S23","v":0},{"$f":"AD310M!$S23","v":0},{"$f":"AD310R!$S23","v":0},{"$f":"AD31VG!S23","v":0},{"$f":"AD31VM!$S23","v":0},{"$f":"AD31VR!$S23","v":0},null,{"$f":"AC310G!$S23","v":0},{"$f":"AC310M!$S23","v":0},{"$f":"AC310R!$S23","v":0},{"$f":"AC31VG!$S23","v":0},{"$f":"AC31VM!$S23","v":0},{"$f":"AC31VR!$S23","v":0},null,null,null,null,null,null,null,null,null,null,null,null,null,null,null,null,{"$f":"ADD32G!$S23","v":0},{"$f":"ADD32M!$S23","v":0},{"$f":"ADD32R!$S23","v":0},{"$f":"ADM30G!$S23","v":0},{"$f":"ADM30M!$S23","v":0},{"$f":"ADM30R!$S23","v":0}]
[null,{"$f":"Cen!A105","v":"Korpusové lišty 600mm, BLUMOTION, 65kg"},{"$f":"Cen!B105","v":"576.6001B"},{"$f":"Cen!C105","v":"ZN"},{"$f":"Cen!D105","v":0},0,{"$f":"Cen!F105","v":661.1},0,null,{"$f":"Cen!I105","v":6885191},{"$f":"Cen!J105","v":"D625560"},0,0,null,{"$f":"'AM300'!$S24","v":0},{"$f":"'AK300'!$S24","v":0},{"$f":"AM30V!$S24","v":0},{"$f":"AK30V!$S24","v":0},null,{"$f":"AD310G!$S24","v":0},{"$f":"AD310M!$S24","v":0},{"$f":"AD310R!$S24","v":0},{"$f":"AD31VG!S24","v":0},{"$f":"AD31VM!$S24","v":0},{"$f":"AD31VR!$S24","v":0},null,{"$f":"AC310G!$S24","v":0},{"$f":"AC310M!$S24","v":0},{"$f":"AC310R!$S24","v":0},{"$f":"AC31VG!$S24","v":0},{"$f":"AC31VM!$S24","v":0},{"$f":"AC31VR!$S24","v":0},null,{"$f":"AM530S!$S24","v":0},{"$f":"AD535SG!$S24","v":0},{"$f":"AD535SM!$S24","v":0},{"$f":"AD535SR!$S24","v":0},null,{"$f":"'AM530'!$S24","v":0},{"$f":"AD535G!$S24","v":0},{"$f":"AD535M!$S24","v":0},{"$f":"AD535R!$S24","v":0}]
[null,{"$f":"Cen!A106","v":"Korpusové lišty 650mm, BLUMOTION, 65kg"},{"$f":"Cen!B106","v":"576.6501B"},{"$f":"Cen!C106","v":"ZN"},{"$f":"Cen!D106","v":0},0,{"$f":"Cen!F106","v":751.2},0,null,{"$f":"Cen!I106","v":6885499},{"$f":"Cen!J106","v":"D368244"},0,0,null,{"$f":"'AM300'!$S25","v":0},{"$f":"'AK300'!$S25","v":0},{"$f":"AM30V!$S25","v":0},{"$f":"AK30V!$S25","v":0},null,{"$f":"AD310G!$S25","v":0},{"$f":"AD310M!$S25","v":0},{"$f":"AD310R!$S25","v":0},{"$f":"AD31VG!S25","v":0},{"$f":"AD31VM!$S25","v":0},{"$f":"AD31VR!$S25","v":0},null,{"$f":"AC310G!$S25","v":0},{"$f":"AC310M!$S25","v":0},{"$f":"AC310R!$S25","v":0},{"$f":"AC31VG!$S25","v":0},{"$f":"AC31VM!$S25","v":0},{"$f":"AC31VR!$S25","v":0},null,{"$f":"AM530S!$S25","v":0},{"$f":"AD535SG!$S25","v":0},{"$f":"AD535SM!$S25","v":0},{"$f":"AD535SR!$S25","v":0},null,{"$f":"'AM530'!$S25","v":0},{"$f":"AD535G!$S25","v":0},{"$f":"AD535M!$S25","v":0},{"$f":"AD535R!$S25","v":0},null,null,null,null,null,null,{"$f":"ADD32G!$S25","v":0},{"$f":"ADD32M!$S25","v":0},{"$f":"ADD32R!$S25","v":0},{"$f":"ADM30G!$S25","v":0},{"$f":"ADM30M!$S25","v":0},{"$f":"ADM30R!$S25","v":0}]
[null,{"$f":"Cen!A109","v":"Korp. lišty TIP-ON BLUMOTION, 270mm, 30 kg"},{"$f":"Cen!B109","v":"578.2701M"},{"$f":"Cen!C109","v":"ZN"},{"$f":"Cen!D109","v":0},0,{"$f":"Cen!F109","v":417.4},0,null,{"$f":"Cen!I109","v":9089187},{"$f":"Cen!J109","v":"D646734"},0,0,null,{"$f":"'AM300'!$S26","v":0},{"$f":"'AK300'!$S26","v":0},{"$f":"AM30V!$S26","v":0},{"$f":"AK30V!$S26","v":0},null,{"$f":"AD310G!$S26","v":0},{"$f":"AD310M!$S26","v":0},{"$f":"AD310R!$S26","v":0},{"$f":"AD31VG!S26","v":0},{"$f":"AD31VM!$S26","v":0},{"$f":"AD31VR!$S26","v":0},null,{"$f":"AC310G!$S26","v":0},{"$f":"AC310M!$S26","v":0},{"$f":"AC310R!$S26","v":0},{"$f":"AC31VG!$S26","v":0},{"$f":"AC31VM!$S26","v":0},{"$f":"AC31VR!$S26","v":0}]
[null,{"$f":"Cen!A110","v":"Korp. lišty TIP-ON BLUMOTION, 300mm, 30 kg"},{"$f":"Cen!B110","v":"578.3001M"},{"$f":"Cen!C110","v":"ZN"},{"$f":"Cen!D110","v":0},0,{"$f":"Cen!F110","v":417.4},0,null,{"$f":"Cen!I110","v":9106907},{"$f":"Cen!J110","v":"D646735"},0,0,null,{"$f":"'AM300'!$S27","v":0},{"$f":"'AK300'!$S27","v":0},{"$f":"AM30V!$S27","v":0},{"$f":"AK30V!$S27","v":0},null,{"$f":"AD310G!$S27","v":0},{"$f":"AD310M!$S27","v":0},{"$f":"AD310R!$S27","v":0},{"$f":"AD31VG!S27","v":0},{"$f":"AD31VM!$S27","v":0},{"$f":"AD31VR!$S27","v":0},null,{"$f":"AC310G!$S27","v":0},{"$f":"AC310M!$S27","v":0},{"$f":"AC310R!$S27","v":0},{"$f":"AC31VG!$S27","v":0},{"$f":"AC31VM!$S27","v":0},{"$f":"AC31VR!$S27","v":0}]
[null,{"$f":"Cen!A111","v":"Korp. lišty TIP-ON BLUMOTION, 350mm, 30 kg"},{"$f":"Cen!B111","v":"578.3501M"},{"$f":"Cen!C111","v":"ZN"},{"$f":"Cen!D111","v":0},0,{"$f":"Cen!F111","v":417.4},0,null,{"$f":"Cen!I111","v":9139077},{"$f":"Cen!J111","v":"D646736"},0,0,null,{"$f":"'AM300'!$S28","v":0},{"$f":"'AK300'!$S28","v":0},{"$f":"AM30V!$S28","v":0},{"$f":"AK30V!$S28","v":0},null,{"$f":"AD310G!$S28","v":0},{"$f":"AD310M!$S28","v":0},{"$f":"AD310R!$S28","v":0},{"$f":"AD31VG!S28","v":0},{"$f":"AD31VM!$S28","v":0},{"$f":"AD31VR!$S28","v":0},null,{"$f":"AC310G!$S28","v":0},{"$f":"AC310M!$S28","v":0},{"$f":"AC310R!$S28","v":0},{"$f":"AC31VG!$S28","v":0},{"$f":"AC31VM!$S28","v":0},{"$f":"AC31VR!$S28","v":0}]
[null,{"$f":"Cen!A112","v":"Korp. lišty TIP-ON BLUMOTION, 400mm, 30 kg"},{"$f":"Cen!B112","v":"578.4001M"},{"$f":"Cen!C112","v":"ZN"},{"$f":"Cen!D112","v":0},0,{"$f":"Cen!F112","v":420.5},0,null,{"$f":"Cen!I112","v":9182099},{"$f":"Cen!J112","v":"D646737"},0,0,{"$f":"'AN300'!S29","v":0},{"$f":"'AM300'!$S29","v":0},{"$f":"'AK300'!$S29","v":0},{"$f":"AM30V!$S29","v":0},{"$f":"AK30V!$S29","v":0},null,{"$f":"AD310G!$S29","v":0},{"$f":"AD310M!$S29","v":0},{"$f":"AD310R!$S29","v":0},{"$f":"AD31VG!S29","v":0},{"$f":"AD31VM!$S29","v":0},{"$f":"AD31VR!$S29","v":0},null,{"$f":"AC310G!$S29","v":0},{"$f":"AC310M!$S29","v":0},{"$f":"AC310R!$S29","v":0},{"$f":"AC31VG!$S29","v":0},{"$f":"AC31VM!$S29","v":0},{"$f":"AC31VR!$S29","v":0}]
[null,{"$f":"Cen!A113","v":"Korp. lišty TIP-ON BLUMOTION, 450mm, 30 kg"},{"$f":"Cen!B113","v":"578.4501M"},{"$f":"Cen!C113","v":"ZN"},{"$f":"Cen!D113","v":0},0,{"$f":"Cen!F113","v":423.7},0,null,{"$f":"Cen!I113","v":9291634},{"$f":"Cen!J113","v":"D646738"},0,0,{"$f":"'AN300'!S30","v":0},{"$f":"'AM300'!$S30","v":0},{"$f":"'AK300'!$S30","v":0},{"$f":"AM30V!$S30","v":0},{"$f":"AK30V!$S30","v":0},null,{"$f":"AD310G!$S30","v":0},{"$f":"AD310M!$S30","v":0},{"$f":"AD310R!$S30","v":0},{"$f":"AD31VG!S30","v":0},{"$f":"AD31VM!$S30","v":0},{"$f":"AD31VR!$S30","v":0},null,{"$f":"AC310G!$S30","v":0},{"$f":"AC310M!$S30","v":0},{"$f":"AC310R!$S30","v":0},{"$f":"AC31VG!$S30","v":0},{"$f":"AC31VM!$S30","v":0},{"$f":"AC31VR!$S30","v":0},null,null,null,null,null,null,null,null,null,null,null,null,null,null,null,null,null,null,null,null,null,null,null,{"$f":"ADM45G!S30","v":0},{"$f":"ADM45M!S30","v":0},{"$f":"ADM45R!$S30","v":0},{"$f":"ADD45G!S30","v":0},{"$f":"ADD45M!S30","v":0},{"$f":"ADD45R!$S30","v":0}]
[null,{"$f":"Cen!A114","v":"Korp. lišty TIP-ON BLUMOTION, 450mm, 65 kg"},{"$f":"Cen!B114","v":"578.4501M"},{"$f":"Cen!C114","v":"ZN"},{"$f":"Cen!D114","v":0},0,{"$f":"Cen!F114","v":560.79999999999995},0,null,{"$f":"Cen!I114","v":6022202},{"$f":"Cen!J114","v":"D646729"},0,0,null,{"$f":"'AM300'!$S31","v":0},{"$f":"'AK300'!$S31","v":0},{"$f":"AM30V!$S31","v":0},{"$f":"AK30V!$S31","v":0},null,{"$f":"AD310G!$S31","v":0},{"$f":"AD310M!$S31","v":0},{"$f":"AD310R!$S31","v":0},{"$f":"AD31VG!S31","v":0},{"$f":"AD31VM!$S31","v":0},{"$f":"AD31VR!$S31","v":0},null,{"$f":"AC310G!$S31","v":0},{"$f":"AC310M!$S31","v":0},{"$f":"AC310R!$S31","v":0},{"$f":"AC31VG!$S31","v":0},{"$f":"AC31VM!$S31","v":0},{"$f":"AC31VR!$S31","v":0},null,null,null,null,null,null,null,null,null,null,null,null,null,null,null,null,null,null,null,null,null,null,null,{"$f":"ADM45G!S31","v":0},{"$f":"ADM45M!S31","v":0},{"$f":"ADM45R!$S31","v":0},{"$f":"ADD45G!S31","v":0},{"$f":"ADD45M!S31","v":0},{"$f":"ADD45R!$S31","v":0}]
[null,{"$f":"Cen!A115","v":"Korp. lišty TIP-ON BLUMOTION, 500mm, 30 kg"},{"$f":"Cen!B115","v":"578.5001M"},{"$f":"Cen!C115","v":"ZN"},{"$f":"Cen!D115","v":0},0,{"$f":"Cen!F115","v":426.8},0,null,{"$f":"Cen!I115","v":9301459},{"$f":"Cen!J115","v":"D646739"},0,0,{"$f":"'AN300'!S32","v":0},{"$f":"'AM300'!$S32","v":0},{"$f":"'AK300'!$S32","v":0},{"$f":"AM30V!$S32","v":0},{"$f":"AK30V!$S32","v":0},null,{"$f":"AD310G!$S32","v":0},{"$f":"AD310M!$S32","v":0},{"$f":"AD310R!$S32","v":0},{"$f":"AD31VG!S32","v":0},{"$f":"AD31VM!$S32","v":0},{"$f":"AD31VR!$S32","v":0},null,{"$f":"AC310G!$S32","v":0},{"$f":"AC310M!$S32","v":0},{"$f":"AC310R!$S32","v":0},{"$f":"AC31VG!$S32","v":0},{"$f":"AC31VM!$S32","v":0},{"$f":"AC31VR!$S32","v":0},null,null,null,null,null,null,null,null,null,null,null,null,{"$f":"AD342G!$S32","v":0},{"$f":"AD342M!$S32","v":0},{"$f":"AD342R!$S32","v":0},null,null,null,null,null,null,null,null,{"$f":"ADM45G!S32","v":0},{"$f":"ADM45M!S32","v":0},{"$f":"ADM45R!$S32","v":0},{"$f":"ADD45G!S32","v":0},{"$f":"ADD45M!S32","v":0},{"$f":"ADD45R!$S32","v":0}]
[null,{"$f":"Cen!A116","v":"Korp. lišty TIP-ON BLUMOTION, 500mm, 65 kg"},{"$f":"Cen!B116","v":"576.5001M"},{"$f":"Cen!C116","v":"ZN"},{"$f":"Cen!D116","v":0},0,{"$f":"Cen!F116","v":564},0,null,{"$f":"Cen!I116","v":6028270},{"$f":"Cen!J116","v":"D646730"},0,0,null,{"$f":"'AM300'!$S33","v":0},{"$f":"'AK300'!$S33","v":0},{"$f":"AM30V!$S33","v":0},{"$f":"AK30V!$S33","v":0},null,{"$f":"AD310G!$S33","v":0},{"$f":"AD310M!$S33","v":0},{"$f":"AD310R!$S33","v":0},{"$f":"AD31VG!S33","v":0},{"$f":"AD31VM!$S33","v":0},{"$f":"AD31VR!$S33","v":0},null,{"$f":"AC310G!$S33","v":0},{"$f":"AC310M!$S33","v":0},{"$f":"AC310R!$S33","v":0},{"$f":"AC31VG!$S33","v":0},{"$f":"AC31VM!$S33","v":0},{"$f":"AC31VR!$S33","v":0},null,null,null,null,null,null,null,null,null,null,null,null,{"$f":"AD342G!$S33","v":0},{"$f":"AD342M!$S33","v":0},{"$f":"AD342R!$S33","v":0},null,null,null,null,null,null,null,null,{"$f":"ADM45G!S33","v":0},{"$f":"ADM45M!S33","v":0},{"$f":"ADM45R!$S33","v":0},{"$f":"ADD45G!S33","v":0},{"$f":"ADD45M!S33","v":0},{"$f":"ADD45R!$S33","v":0}]
[null,{"$f":"Cen!A117","v":"Korp. lišty TIP-ON BLUMOTION, 550mm, 30 kg"},{"$f":"Cen!B117","v":"578.5501M"},{"$f":"Cen!C117","v":"ZN"},{"$f":"Cen!D117","v":0},0,{"$f":"Cen!F117","v":448.6},0,null,{"$f":"Cen!I117","v":9403708},{"$f":"Cen!J117","v":"D646740"},0,0,{"$f":"'AN300'!S34","v":0},{"$f":"'AM300'!$S34","v":0},{"$f":"'AK300'!$S34","v":0},{"$f":"AM30V!$S34","v":0},{"$f":"AK30V!$S34","v":0},null,{"$f":"AD310G!$S34","v":0},{"$f":"AD310M!$S34","v":0},{"$f":"AD310R!$S34","v":0},{"$f":"AD31VG!S34","v":0},{"$f":"AD31VM!$S34","v":0},{"$f":"AD31VR!$S34","v":0},null,{"$f":"AC310G!$S34","v":0},{"$f":"AC310M!$S34","v":0},{"$f":"AC310R!$S34","v":0},{"$f":"AC31VG!$S34","v":0},{"$f":"AC31VM!$S34","v":0},{"$f":"AC31VR!$S34","v":0},null,null,null,null,null,null,null,null,null,null,null,null,null,null,null,null,null,null,null,null,null,null,null,{"$f":"ADM45G!S34","v":0},{"$f":"ADM45M!S34","v":0},{"$f":"ADM45R!$S34","v":0},{"$f":"ADD45G!S34","v":0},{"$f":"ADD45M!S34","v":0},{"$f":"ADD45R!$S34","v":0}]
[null,{"$f":"Cen!A118","v":"Korp. lišty TIP-ON BLUMOTION, 550mm, 65 kg"},{"$f":"Cen!B118","v":"576.5501M"},{"$f":"Cen!C118","v":"ZN"},{"$f":"Cen!D118","v":0},0,{"$f":"Cen!F118","v":585.79999999999995},0,null,{"$f":"Cen!I118","v":6042877},{"$f":"Cen!J118","v":"D646731"},0,0,null,{"$f":"'AM300'!$S35","v":0},{"$f":"'AK300'!$S35","v":0},{"$f":"AM30V!$S35","v":0},{"$f":"AK30V!$S35","v":0},null,{"$f":"AD310G!$S35","v":0},{"$f":"AD310M!$S35","v":0},{"$f":"AD310R!$S35","v":0},{"$f":"AD31VG!S35","v":0},{"$f":"AD31VM!$S35","v":0},{"$f":"AD31VR!$S35","v":0},null,{"$f":"AC310G!$S35","v":0},{"$f":"AC310M!$S35","v":0},{"$f":"AC310R!$S35","v":0},{"$f":"AC31VG!$S35","v":0},{"$f":"AC31VM!$S35","v":0},{"$f":"AC31VR!$S35","v":0},null,null,null,null,null,null,null,null,null,null,null,null,null,null,null,null,null,null,null,null,null,null,null,{"$f":"ADM45G!S35","v":0},{"$f":"ADM45M!S35","v":0},{"$f":"ADM45R!$S35","v":0},{"$f":"ADD45G!S35","v":0},{"$f":"ADD45M!S35","v":0},{"$f":"ADD45R!$S35","v":0}]
[null,{"$f":"Cen!A119","v":"Korp. lišty TIP-ON BLUMOTION, 600mm, 30 kg"},{"$f":"Cen!B119","v":"578.6001M"},{"$f":"Cen!C119","v":"ZN"},{"$f":"Cen!D119","v":0},0,{"$f":"Cen!F119","v":542},0,null,{"$f":"Cen!I119","v":9564207},{"$f":"Cen!J119","v":"D646741"},0,0,null,{"$f":"'AM300'!$S36","v":0},{"$f":"'AK300'!$S36","v":0},{"$f":"AM30V!$S36","v":0},{"$f":"AK30V!$S36","v":0},null,{"$f":"AD310G!$S36","v":0},{"$f":"AD310M!$S36","v":0},{"$f":"AD310R!$S36","v":0},{"$f":"AD31VG!S36","v":0},{"$f":"AD31VM!$S36","v":0},{"$f":"AD31VR!$S36","v":0},null,{"$f":"AC310G!$S36","v":0},{"$f":"AC310M!$S36","v":0},{"$f":"AC310R!$S36","v":0},{"$f":"AC31VG!$S36","v":0},{"$f":"AC31VM!$S36","v":0},{"$f":"AC31VR!$S36","v":0}]
[null,{"$f":"Cen!A120","v":"Korp. lišty TIP-ON BLUMOTION, 600mm, 65 kg"},{"$f":"Cen!B120","v":"576.6001M"},{"$f":"Cen!C120","v":"ZN"},{"$f":"Cen!D120","v":0},0,{"$f":"Cen!F120","v":661.1},0,null,{"$f":"Cen!I120","v":6058115},{"$f":"Cen!J120","v":"D646732"},0,0,null,{"$f":"'AM300'!$S37","v":0},{"$f":"'AK300'!$S37","v":0},{"$f":"AM30V!$S37","v":0},{"$f":"AK30V!$S37","v":0},null,{"$f":"AD310G!$S37","v":0},{"$f":"AD310M!$S37","v":0},{"$f":"AD310R!$S37","v":0},{"$f":"AD31VG!S37","v":0},{"$f":"AD31VM!$S37","v":0},{"$f":"AD31VR!$S37","v":0},null,{"$f":"AC310G!$S37","v":0},{"$f":"AC310M!$S37","v":0},{"$f":"AC310R!$S37","v":0},{"$f":"AC31VG!$S37","v":0},{"$f":"AC31VM!$S37","v":0},{"$f":"AC31VR!$S37","v":0}]
[null,{"$f":"Cen!A121","v":"Korp. lišty TIP-ON BLUMOTION, 650mm, 65 kg"},{"$f":"Cen!B121","v":"576.6501M"},{"$f":"Cen!C121","v":"ZN"},{"$f":"Cen!D121","v":0},0,{"$f":"Cen!F121","v":682.9},0,null,{"$f":"Cen!I121","v":6063496},{"$f":"Cen!J121","v":"D646733"},0,0,null,{"$f":"'AM300'!$S38","v":0},{"$f":"'AK300'!$S38","v":0},{"$f":"AM30V!$S38","v":0},{"$f":"AK30V!$S38","v":0},null,{"$f":"AD310G!$S38","v":0},{"$f":"AD310M!$S38","v":0},{"$f":"AD310R!$S38","v":0},{"$f":"AD31VG!S38","v":0},{"$f":"AD31VM!$S38","v":0},{"$f":"AD31VR!$S38","v":0},null,{"$f":"AC310G!$S38","v":0},{"$f":"AC310M!$S38","v":0},{"$f":"AC310R!$S38","v":0},{"$f":"AC31VG!$S38","v":0},{"$f":"AC31VM!$S38","v":0},{"$f":"AC31VR!$S38","v":0}]
[null,null,null,null,null,0,null,null,null,null,null,0,0]
[null,{"$f":"Cen!A143","v":"Držáky zadní stěny N, šedé"},{"$f":"Cen!B143","v":"Z30N000S.04"},{"$f":"Cen!C143","v":"R906"},{"$f":"Cen!D143","v":0},0,{"$f":"Cen!F143","v":36.5},{"$f":"M61","v":0},null,{"$f":"Cen!I143","v":5823334},{"$f":"Cen!J143","v":"D055094"},{"$f":"IF(I61=\"x\",0,IF(I61>0,I61,F61))","v":0},{"$f":"PRODUCT(L61,G61)","v":0},{"$f":"'AN300'!$S52","v":0},null,null,null,null,null,null,null,null,null,null,null,null,null,null,null,null,null,null,null,null,null,null,null,null,null,null,null,null,null,null,{"$f":"AD342G!$S52","v":0},{"$f":"AD342M!$S52","v":0},{"$f":"AD342R!$S52","v":0}]
[null,{"$f":"Cen!A147","v":"Držáky zadní stěny M, šedé"},{"$f":"Cen!B147","v":"Z30M000S.04"},{"$f":"Cen!C147","v":"R906"},{"$f":"Cen!D147","v":0},0,{"$f":"Cen!F147","v":40.200000000000003},0,null,{"$f":"Cen!I147","v":4114541},{"$f":"Cen!J147","v":"D031860"},0,0,null,{"$f":"'AM300'!$S53","v":0},null,{"$f":"AM30V!$S53","v":0},null,null,null,null,null,null,null,null,null,null,null,null,null,null,null,null,null,null,null,null,null,null,null,null,null,null,{"$f":"'AM340'!$S53","v":0},null,null,null,null,null,null,null,{"$f":"ADM30G!$S53","v":0},{"$f":"ADM30M!$S53","v":0},{"$f":"ADM30R!$S55","v":0},null,{"$f":"ADM45G!S53","v":0},{"$f":"ADM45M!S53","v":0},{"$f":"ADM45R!$S53","v":0}]
[null,{"$f":"Cen!A151","v":"Držáky zadní stěny K, šedé"},{"$f":"Cen!B151","v":"Z30K000S"},{"$f":"Cen!C151","v":"R906"},{"$f":"Cen!D151","v":0},0,{"$f":"Cen!F151","v":67.400000000000006},0,null,{"$f":"Cen!I151","v":9406204},{"$f":"Cen!J151","v":"D063796"},0,0,null,null,{"$f":"'AK300'!$S54","v":0},null,{"$f":"AK30V!$S54","v":0}]
[null,{"$f":"Cen!A154","v":"Držáky zadní stěny B, šedé"},{"$f":"Cen!B154","v":"Z30B000S.04"},{"$f":"Cen!C154","v":"R906"},{"$f":"Cen!D154","v":0},0,{"$f":"Cen!F154","v":48.8},0,null,{"$f":"Cen!I154","v":1071721},{"$f":"Cen!J154","v":"D046034"},0,0,null,null,null,null,null,null,null,null,null,null,null,null,null,null,null,null,null,null,null,null,null,null,null,null,null,null,null,null,null,null,null,null,null,null,null,null,null,null,null,null,null,null,null,null,null,null,null,null,null,null,null,null,null,null,null,null,null,null,null,null,null,null,null,{"$f":"Acs!E3","v":0}]
[null,{"$f":"Cen!A158","v":"Držáky zadní stěny C, šedé"},{"$f":"Cen!B158","v":"Z30C000S"},{"$f":"Cen!C158","v":"R906"},{"$f":"Cen!D158","v":0},0,{"$f":"Cen!F158","v":71},0,null,{"$f":"Cen!I158","v":2344977},{"$f":"Cen!J158","v":"D146089"},0,0,null,null,null,null,null,null,null,null,null,null,null,null,null,{"$f":"AC310G!$S56","v":0},{"$f":"AC310M!$S56","v":0},{"$f":"AC310R!$S56","v":0},{"$f":"AC31VG!$S56","v":0},{"$f":"AC31VM!$S56","v":0},{"$f":"AC31VR!$S56","v":0}]
[null,{"$f":"Cen!A162","v":"Držáky zadní stěny D, šedé"},{"$f":"Cen!B162","v":"Z30D000S"},{"$f":"Cen!C162","v":"R906"},{"$f":"Cen!D162","v":0},0,{"$f":"Cen!F162","v":78.099999999999994},0,null,{"$f":"Cen!I162","v":7561427},{"$f":"Cen!J162","v":"D040594"},0,0,null,null,null,null,null,null,{"$f":"AD310G!$S57","v":0},{"$f":"AD310M!$S57","v":0},{"$f":"AD310R!$S57","v":0},{"$f":"AD31VG!$S57","v":0},{"$f":"AD31VM!$S57","v":0},{"$f":"AD31VR!$S57","v":0},null,null,null,null,null,null,null,null,null,null,null,null,null,null,null,null,null,null,null,{"$f":"AD342G!$S57","v":0},{"$f":"AD342M!$S57","v":0},{"$f":"AD342R!S57","v":0},null,{"$f":"ADD32G!$S57","v":0},{"$f":"ADD32M!$S57","v":0},{"$f":"ADD32R!$S53","v":0},{"$f":"ADM30G!$S57","v":0},{"$f":"ADM30M!$S57","v":0},{"$f":"ADM30R!$S59","v":0},null,{"$f":"ADM45G!S57","v":0},{"$f":"ADM45M!S57","v":0},{"$f":"ADM45R!$S57","v":0},{"$f":"ADD45G!S57","v":0},{"$f":"ADD45M!S57","v":0},{"$f":"ADD45R!$S57","v":0}]
[null,{"$f":"Cen!A167","v":"Variabilní držák relingu, vlevo/vpravo, šedý"},{"$f":"Cen!B167","v":"ZRR.5200"},{"$f":"Cen!C167","v":"R906"},{"$f":"Cen!D167","v":0},0,{"$f":"Cen!F167","v":49.3},0,null,{"$f":"Cen!I167","v":1646954},{"$f":"Cen!J167","v":"D472697"},0,0,null,null,null,null,null,null,null,null,null,null,null,null,null,null,null,null,null,null,null,null,null,null,null,null,null,null,null,null,null,null,null,null,null,null,null,null,null,null,null,null,null,null,null,null,null,null,null,null,null,null,null,null,null,null,null,null,null,null,null,null,null,null,null,{"$f":"Acs!E4","v":0}]
[null,{"$f":"Cen!A173","v":"Čelní kování INSERTA"},{"$f":"Cen!B173","v":"ZSF.39A2"},{"$f":"Cen!C173","v":"BL"},{"$f":"Cen!D173","v":0},0,{"$f":"Cen!F173","v":22.4},0,null,{"$f":"Cen!I173","v":4045944},{"$f":"Cen!J173","v":"D031862"},0,0,{"$f":"'AN300'!$S59","v":0},{"$f":"'AM300'!$S59","v":0},{"$f":"'AK300'!$S59","v":0},null,null,null,{"$f":"AD310G!$S59","v":0},{"$f":"AD310M!$S59","v":0},{"$f":"AD310R!$S59","v":0},null,null,null,null,{"$f":"AC310G!$S59","v":0},{"$f":"AC310M!S$59","v":0},{"$f":"AC310R!$S59","v":0},null,null,null,null,null,null,null,null,null,null,null,null,null,null,{"$f":"'AM340'!$S59","v":0},{"$f":"AD342G!$S59","v":0},{"$f":"AD342M!$S59","v":0},{"$f":"AD342R!$S59","v":0},null,{"$f":"ADD32G!$S59","v":0},{"$f":"ADD32M!$S59","v":0},{"$f":"ADD32R!$S55","v":0},{"$f":"ADM30G!$S59","v":0},{"$f":"ADM30M!$S59","v":0},{"$f":"ADM30R!$S61","v":0}]
[null,{"$f":"Cen!A174","v":"Čelní kování na vruty"},{"$f":"Cen!B174","v":"ZSF.35A2"},{"$f":"Cen!C174","v":"BL"},{"$f":"Cen!D174","v":0},0,{"$f":"Cen!F174","v":13},0,null,{"$f":"Cen!I174","v":1014891},{"$f":"Cen!J174","v":"D014750"},0,0]
[null,{"$f":"Cen!A178","v":"Držáky čela vnitřní zásuvky M, bílošedé"},{"$f":"Cen!B178","v":"ZIF.71M0"},{"$f":"Cen!C178","v":"WGR"},{"$f":"Cen!D178","v":0},0,{"$f":"Cen!F178","v":105.6},0,null,{"$f":"Cen!I178","v":5074773},{"$f":"Cen!J178","v":"D460303"},0,0,null,null,null,{"$f":"AM30V!$S59","v":0},null,null,null,null,null,null,null,null,null,null,null,null,null,null,null,null,null,null,null,null,null,null,null,null,null,null,null,null,null,null,null,null,null,null,null,null,null,null,{"$f":"ADM45G!S58","v":0},{"$f":"ADM45M!S58","v":0},{"$f":"ADM45R!$S58","v":0}]
[null,{"$f":"Cen!A182","v":"Držáky čela vnitřní zásuvky K, bílošedé"},{"$f":"Cen!B182","v":"ZIF.71K0"},{"$f":"Cen!C182","v":"WGR"},{"$f":"Cen!D182","v":0},0,{"$f":"Cen!F182","v":130.5},0,null,{"$f":"Cen!I182","v":2720695},{"$f":"Cen!J182","v":"D512388"},0,0,null,null,null,null,{"$f":"AK30V!$S59","v":0}]
[null,{"$f":"Cen!A185","v":"Držáky čela vnitřního výsuvu C, bílošedé"},{"$f":"Cen!B185","v":"ZIF.74C0"},{"$f":"Cen!C185","v":"WGR"},{"$f":"Cen!D185","v":0},0,{"$f":"Cen!F185","v":149.19999999999999},0,null,{"$f":"Cen!I185","v":3213636},{"$f":"Cen!J185","v":"D500842"},0,0,null,null,null,null,null,null,null,null,null,null,null,null,null,null,null,null,{"$f":"AC31VG!$S59","v":0},{"$f":"AC31VM!$S59","v":0},{"$f":"AC31VR!$S59","v":0}]
[null,{"$f":"Cen!A189","v":"Držáky čela vnitřního výsuvu D bílošedé"},{"$f":"Cen!B189","v":"ZIF.74D0"},{"$f":"Cen!C189","v":"WGR"},{"$f":"Cen!D189","v":0},0,{"$f":"Cen!F189","v":156.30000000000001},0,null,{"$f":"Cen!I189","v":4438914},{"$f":"Cen!J189","v":"D460301"},0,0,null,null,null,null,null,null,null,null,null,{"$f":"AD31VG!$S59","v":0},{"$f":"AD31VM!$S59","v":0},{"$f":"AD31VR!$S59","v":0},null,null,null,null,null,null,null,null,null,null,null,null,null,null,null,null,null,null,null,null,null,null,null,null,null,null,null,null,null,null,{"$f":"ADM45G!S59","v":0},{"$f":"ADM45M!S59","v":0},{"$f":"ADM45R!$S59","v":0},{"$f":"ADD45G!S59","v":0},{"$f":"ADD45M!S59","v":0},{"$f":"ADD45R!$S59","v":0}]
[null,{"$f":"Cen!A194","v":"Přední díl vnitřní zásuvky, šedý"},{"$f":"Cen!B194","v":"Z31L1036A  "},{"$f":"Cen!C194","v":"R906"},{"$f":"Cen!D194","v":0},0,{"$f":"Cen!F194","v":363.8},0,null,{"$f":"Cen!I194","v":8479020},{"$f":"Cen!J194","v":"D460300"},0,0,null,null,null,{"$f":"AM30V!$S60","v":0},{"$f":"AK30V!$S60","v":0},null,null,null,null,{"$f":"AD31VG!$S60","v":0},{"$f":"AD31VM!$S60","v":0},{"$f":"AD31VR!$S60","v":0},null,null,null,null,{"$f":"AC31VG!$S60","v":0},{"$f":"AC31VM!$S60","v":0},{"$f":"AC31VR!$S60","v":0},null,null,null,null,null,null,null,null,null,null,null,null,null,null,null,null,null,null,null,null,null,null,null,{"$f":"ADM45G!S60","v":0},{"$f":"ADM45M!S60","v":0},{"$f":"ADM45R!$S60","v":0},{"$f":"ADD45G!S60","v":0},{"$f":"ADD45M!S60","v":0},{"$f":"ADD45R!$S60","v":0}]
[null,{"$f":"Cen!A199","v":"Příčný reling vnitřní zásuvky, šedý"},{"$f":"Cen!B199","v":"ZRG.1046Z "},{"$f":"Cen!C199","v":"R906"},{"$f":"Cen!D199","v":0},{"$f":"IF(I75>0,I75,SUM(N75:BZ75))","v":0},{"$f":"Cen!F199","v":169.4},0,null,{"$f":"Cen!I199","v":8473390},{"$f":"Cen!J199","v":"D460287"},0,0,null,null,null,null,null,null,null,null,null,{"$f":"AD31VG!$S61","v":0},{"$f":"AD31VM!$S61","v":0},{"$f":"AD31VR!$S61","v":0},null,null,null,null,{"$f":"AC31VG!$S60","v":0},{"$f":"AC31VM!$S60","v":0},{"$f":"AC31VR!$S60","v":0},null,null,null,null,null,null,null,null,null,null,null,null,null,null,null,null,null,null,null,null,null,null,null,{"$f":"ADM45G!S61","v":0},{"$f":"ADM45M!S61","v":0},{"$f":"ADM45R!$S61","v":0},{"$f":"ADD45G!S61","v":0},{"$f":"ADD45M!S61","v":0},{"$f":"ADD45R!$S61","v":0}]
[null,{"$f":"Cen!A204","v":"Úchytka pro vnirřní zásuvku, bílošedá"},{"$f":"Cen!B204","v":"ZIF.80M5"},{"$f":"Cen!C204","v":"WGR"},{"$f":"Cen!D204","v":0},0,{"$f":"Cen!F204","v":103.7},0,null,{"$f":"Cen!I204","v":4276837},{"$f":"Cen!J204","v":"D460305"},0,0,null,null,null,{"$f":"AM30V!$S62","v":0},{"$f":"AK30V!$S62","v":0}]
[null,{"$f":"Cen!A208","v":"Úchytka a unašeč pro vnirřní zásuvku, bílošedá"},{"$f":"Cen!B208","v":"ZIF.80M7"},{"$f":"Cen!C208","v":"WGR"},{"$f":"Cen!D208","v":0},0,{"$f":"Cen!F208","v":160.4},0,null,{"$f":"Cen!I208","v":3350802},{"$f":"Cen!J208","v":"D460307"},0,0,null,null,null,{"$f":"AM30V!$S63","v":0},{"$f":"AK30V!$S63","v":0}]
[null,null,null,null,null,0]
[null,{"$f":"Cen!A215","v":"Podélný reling vlevo/vpravo, 270mm, šedý"},{"$f":"Cen!B215","v":"ZRG.207RSIC"},{"$f":"Cen!C215","v":"R906"},{"$f":"Cen!D215","v":0},0,{"$f":"Cen!F215","v":150},{"$f":"M79","v":0},null,{"$f":"Cen!I215","v":1472243},{"$f":"Cen!J215","v":"D460274"},{"$f":"IF(I79=\"x\",0,IF(I79>0,I79,F79))","v":0},{"$f":"PRODUCT(L79,G79)","v":0},null,null,null,null,null,null,{"$f":"AD310G!$S63","v":0},{"$f":"AD310M!$S63","v":0},{"$f":"AD310R!$S63","v":0},{"$f":"AD31VG!$S63","v":0},{"$f":"AD31VM!$S63","v":0},{"$f":"AD31VR!$S63","v":0},null,{"$f":"AC310G!$S63","v":0},{"$f":"AC310M!$S63","v":0},{"$f":"AC310R!$S63","v":0},{"$f":"AC31VG!$S63","v":0},{"$f":"AC31VM!$S63","v":0},{"$f":"AC31VR!$S63","v":0},null,null,null,null,null,null,null,null,null,null,null,null,null,null,null,null,null,null,null,null,null,null,null,null,null,null,null,null,null,null,null,null,null,null,null,null,null,null,null,null,null,null,null,null,{"$f":"Acs!E5","v":0}]
[null,{"$f":"Cen!A219","v":"Podélný reling vlevo/vpravo, 300mm, šedý"},{"$f":"Cen!B219","v":"ZRG.237RSIC"},{"$f":"Cen!C219","v":"R906"},{"$f":"Cen!D219","v":0},0,{"$f":"Cen!F219","v":152.5},0,null,{"$f":"Cen!I219","v":3083862},{"$f":"Cen!J219","v":"D460276"},0,0,null,null,null,null,null,null,{"$f":"AD310G!$S64","v":0},{"$f":"AD310M!$S64","v":0},{"$f":"AD310R!$S64","v":0},{"$f":"AD31VG!$S64","v":0},{"$f":"AD31VM!$S64","v":0},{"$f":"AD31VR!$S64","v":0},null,{"$f":"AC310G!$S64","v":0},{"$f":"AC310M!$S64","v":0},{"$f":"AC310R!$S64","v":0},{"$f":"AC31VG!$S64","v":0},{"$f":"AC31VM!$S64","v":0},{"$f":"AC31VR!$S64","v":0},null,null,null,null,null,null,null,null,null,null,null,null,null,null,null,null,null,null,null,null,null,null,null,null,null,null,null,null,null,null,null,null,null,null,null,null,null,null,null,null,null,null,null,null,{"$f":"Acs!E6","v":0}]
[null,{"$f":"Cen!A223","v":"Podélný reling vlevo/vpravo, 350mm, šedý"},{"$f":"Cen!B223","v":"ZRG.287RSIC"},{"$f":"Cen!C223","v":"R906"},{"$f":"Cen!D223","v":0},0,{"$f":"Cen!F223","v":155},0,null,{"$f":"Cen!I223","v":4262438},{"$f":"Cen!J223","v":"D493621"},0,0,null,null,null,null,null,null,{"$f":"AD310G!$S65","v":0},{"$f":"AD310M!$S65","v":0},{"$f":"AD310R!$S65","v":0},{"$f":"AD31VG!$S65","v":0},{"$f":"AD31VM!$S65","v":0},{"$f":"AD31VR!$S65","v":0},null,{"$f":"AC310G!$S65","v":0},{"$f":"AC310M!$S65","v":0},{"$f":"AC310R!$S65","v":0},{"$f":"AC31VG!$S65","v":0},{"$f":"AC31VM!$S65","v":0},{"$f":"AC31VR!$S65","v":0},null,null,null,null,null,null,null,null,null,null,null,null,null,null,null,null,null,null,null,null,null,null,null,null,null,null,null,null,null,null,null,null,null,null,null,null,null,null,null,null,null,null,null,null,{"$f":"Acs!E7","v":0}]
[null,{"$f":"Cen!A227","v":"Podélný reling vlevo/vpravo, 400mm, šedý"},{"$f":"Cen!B227","v":"ZRG.337RSIC"},{"$f":"Cen!C227","v":"R906"},{"$f":"Cen!D227","v":0},0,{"$f":"Cen!F227","v":157.5},0,null,{"$f":"Cen!I227","v":3741088},{"$f":"Cen!J227","v":"D460278"},0,0,null,null,null,null,null,null,{"$f":"AD310G!$S66","v":0},{"$f":"AD310M!$S66","v":0},{"$f":"AD310R!$S66","v":0},{"$f":"AD31VG!$S66","v":0},{"$f":"AD31VM!$S66","v":0},{"$f":"AD31VR!$S66","v":0},null,{"$f":"AC310G!$S66","v":0},{"$f":"AC310M!$S66","v":0},{"$f":"AC310R!$S66","v":0},{"$f":"AC31VG!$S66","v":0},{"$f":"AC31VM!$S66","v":0},{"$f":"AC31VR!$S66","v":0},null,null,null,null,null,null,null,null,null,null,null,null,null,null,null,null,null,null,null,null,null,null,null,null,null,null,null,null,null,null,null,null,null,null,null,null,null,null,null,null,null,null,null,null,{"$f":"Acs!E8","v":0}]
[null,{"$f":"Cen!A231","v":"Podélný reling vlevo/vpravo, 450mm, šedý"},{"$f":"Cen!B231","v":"ZRG.387RSIC"},{"$f":"Cen!C231","v":"R906"},{"$f":"Cen!D231","v":0},0,{"$f":"Cen!F231","v":160},0,null,{"$f":"Cen!I231","v":2436584},{"$f":"Cen!J231","v":"D460280"},0,0,null,null,null,null,null,null,{"$f":"AD310G!$S67","v":0},{"$f":"AD310M!$S67","v":0},{"$f":"AD310R!$S67","v":0},{"$f":"AD31VG!$S67","v":0},{"$f":"AD31VM!$S67","v":0},{"$f":"AD31VR!$S67","v":0},null,{"$f":"AC310G!$S67","v":0},{"$f":"AC310M!$S67","v":0},{"$f":"AC310R!$S67","v":0},{"$f":"AC31VG!$S67","v":0},{"$f":"AC31VM!$S67","v":0},{"$f":"AC31VR!$S67","v":0},null,null,null,null,null,null,null,null,null,null,null,null,null,null,null,null,{"$f":"ADD32G!$S67","v":0},{"$f":"ADD32M!$S67","v":0},{"$f":"ADD32R!$S63","v":0},{"$f":"ADM30G!$S67","v":0},{"$f":"ADM30M!$S67","v":0},{"$f":"ADM30R!$S69","v":0},null,{"$f":"ADM45G!S67","v":0},{"$f":"ADM45M!S67","v":0},{"$f":"ADM45R!S67","v":0},{"$f":"ADD45G!S67","v":0},{"$f":"ADD45M!S67","v":0},{"$f":"ADD45R!$S67","v":0},null,null,null,null,null,null,null,null,null,null,null,null,null,null,null,{"$f":"Acs!E9","v":0}]
[null,{"$f":"Cen!A235","v":"Podélný reling vlevo/vpravo, 500mm, šedý"},{"$f":"Cen!B235","v":"ZRG.437RSIC"},{"$f":"Cen!C235","v":"R906"},{"$f":"Cen!D235","v":0},0,{"$f":"Cen!F235","v":178.7},{"$f":"M84","v":0},null,{"$f":"Cen!I235","v":8705976},{"$f":"Cen!J235","v":"D460282"},{"$f":"IF(I84=\"x\",0,IF(I84>0,I84,F84))","v":0},{"$f":"PRODUCT(L84,G84)","v":0},null,null,null,null,null,null,{"$f":"AD310G!$S68","v":0},{"$f":"AD310M!$S68","v":0},{"$f":"AD310R!$S68","v":0},{"$f":"AD31VG!$S68","v":0},{"$f":"AD31VM!$S68","v":0},{"$f":"AD31VR!$S68","v":0},null,{"$f":"AC310G!$S68","v":0},{"$f":"AC310M!$S68","v":0},{"$f":"AC310R!$S68","v":0},{"$f":"AC31VG!$S68","v":0},{"$f":"AC31VM!$S68","v":0},{"$f":"AC31VR!$S68","v":0},null,null,null,null,null,null,null,null,null,null,null,null,{"$f":"AD342G!$S68","v":0},{"$f":"AD342M!$S68","v":0},{"$f":"AD342R!$S68","v":0},null,{"$f":"ADD32G!$S68","v":0},{"$f":"ADD32M!$S68","v":0},{"$f":"ADD32R!$S64","v":0},{"$f":"ADM30G!$S68","v":0},{"$f":"ADM30M!$S68","v":0},{"$f":"ADM30R!$S70","v":0},null,{"$f":"ADM45G!S68","v":0},{"$f":"ADM45M!S68","v":0},{"$f":"ADM45R!S68","v":0},{"$f":"ADD45G!S68","v":0},{"$f":"ADD45M!S68","v":0},{"$f":"ADD45R!$S68","v":0},null,null,null,null,null,null,null,null,null,null,null,null,null,null,null,{"$f":"Acs!E10","v":0}]
[null,{"$f":"Cen!A239","v":"Podélný reling vlevo/vpravo, 550mm, šedý"},{"$f":"Cen!B239","v":"ZRG.487RSIC"},{"$f":"Cen!C239","v":"R906"},{"$f":"Cen!D239","v":0},0,{"$f":"Cen!F239","v":169.4},{"$f":"M85","v":0},null,{"$f":"Cen!I239","v":2422408},{"$f":"Cen!J239","v":"D468379"},{"$f":"IF(I85=\"x\",0,IF(I85>0,I85,F85))","v":0},{"$f":"PRODUCT(L85,G85)","v":0},null,null,null,null,null,null,{"$f":"AD310G!$S69","v":0},{"$f":"AD310M!$S69","v":0},{"$f":"AD310R!$S69","v":0},{"$f":"AD31VG!$S69","v":0},{"$f":"AD31VM!$S69","v":0},{"$f":"AD31VR!$S69","v":0},null,{"$f":"AC310G!$S69","v":0},{"$f":"AC310M!$S69","v":0},{"$f":"AC310R!$S69","v":0},{"$f":"AC31VG!$S69","v":0},{"$f":"AC31VM!$S69","v":0},{"$f":"AC31VR!$S69","v":0},null,null,null,null,null,null,null,null,null,null,null,null,{"$f":"AD342G!$S69","v":0},{"$f":"AD342M!$S69","v":0},{"$f":"AD342R!$S69","v":0},null,{"$f":"ADD32G!$S69","v":0},{"$f":"ADD32M!$S69","v":0},{"$f":"ADD32R!$S65","v":0},{"$f":"ADM30G!$S69","v":0},{"$f":"ADM30M!$S69","v":0},{"$f":"ADM30R!$S71","v":0},null,{"$f":"ADM45G!S69","v":0},{"$f":"ADM45M!S69","v":0},{"$f":"ADM45R!S69","v":0},{"$f":"ADD45G!S69","v":0},{"$f":"ADD45M!S69","v":0},{"$f":"ADD45R!$S69","v":0},null,null,null,null,null,null,null,null,null,null,null,null,null,null,null,{"$f":"Acs!E11","v":0}]
[null,{"$f":"Cen!A243","v":"Podélný reling vlevo/vpravo, 600mm, šedý"},{"$f":"Cen!B243","v":"ZRG.537RSIC"},{"$f":"Cen!C243","v":"R906"},{"$f":"Cen!D243","v":0},0,{"$f":"Cen!F243","v":176.3},0,null,{"$f":"Cen!I243","v":1696058},{"$f":"Cen!J243","v":"D468381"},0,0,null,null,null,null,null,null,{"$f":"AD310G!$S70","v":0},{"$f":"AD310M!$S70","v":0},{"$f":"AD310R!$S70","v":0},{"$f":"AD31VG!$S70","v":0},{"$f":"AD31VM!$S70","v":0},{"$f":"AD31VR!$S70","v":0},null,{"$f":"AC310G!$S70","v":0},{"$f":"AC310M!$S70","v":0},{"$f":"AC310R!$S70","v":0},{"$f":"AC31VG!$S70","v":0},{"$f":"AC31VM!$S70","v":0},{"$f":"AC31VR!$S70","v":0},null,null,{"$f":"AD535SG!$S41","v":0},{"$f":"AD535SM!$S41","v":0},{"$f":"AD535SR!$S41","v":0},null,null,{"$f":"AD535G!$S41","v":0},{"$f":"AD535M!$S41","v":0},{"$f":"AD535R!$S41","v":0},null,null,{"$f":"AD342G!$S70","v":0},{"$f":"AD342M!$S70","v":0},{"$f":"AD342R!$S70","v":0},null,{"$f":"ADD32G!$S70","v":0},{"$f":"ADD32M!$S70","v":0},{"$f":"ADD32R!$S66","v":0},{"$f":"ADM30G!$S70","v":0},{"$f":"ADM30M!$S70","v":0},{"$f":"ADM30R!$S72","v":0},null,null,null,null,null,null,null,null,null,null,null,null,null,null,null,null,null,null,null,null,null,null,{"$f":"Acs!E12","v":0}]
[null,{"$f":"Cen!A247","v":"Podélný reling vlevo/vpravo, 650mm, šedý"},{"$f":"Cen!B247","v":"ZRG.587RSIC"},{"$f":"Cen!C247","v":"R906"},{"$f":"Cen!D247","v":0},0,{"$f":"Cen!F247","v":183.2},{"$f":"M87","v":0},null,{"$f":"Cen!I247","v":3892970},{"$f":"Cen!J247","v":"D460284"},{"$f":"IF(I87=\"x\",0,IF(I87>0,I87,F87))","v":0},{"$f":"PRODUCT(L87,G87)","v":0},null,null,null,null,null,null,{"$f":"AD310G!$S71","v":0},{"$f":"AD310M!$S71","v":0},{"$f":"AD310R!$S71","v":0},{"$f":"AD31VG!$S71","v":0},{"$f":"AD31VM!$S71","v":0},{"$f":"AD31VR!$S71","v":0},null,{"$f":"AC310G!$S71","v":0},{"$f":"AC310M!$S71","v":0},{"$f":"AC310R!$S71","v":0},{"$f":"AC31VG!$S71","v":0},{"$f":"AC31VM!$S71","v":0},{"$f":"AC31VR!$S71","v":0},null,null,{"$f":"AD535SG!$S42","v":0},{"$f":"AD535SM!$S42","v":0},{"$f":"AD535SR!$S42","v":0},null,null,{"$f":"AD535G!$S42","v":0},{"$f":"AD535M!$S42","v":0},{"$f":"AD535R!$S42","v":0},null,null,null,null,null,null,{"$f":"ADD32G!$S71","v":0},{"$f":"ADD32M!$S71","v":0},{"$f":"ADD32R!$S67","v":0},{"$f":"ADM30G!$S71","v":0},{"$f":"ADM30M!$S71","v":0},{"$f":"ADM30R!$S73","v":0},null,null,null,null,null,null,null,null,null,null,null,null,null,null,null,null,null,null,null,null,null,null,{"$f":"Acs!E13","v":0}]
[null,{"$f":"Cen!A254","v":"Zásuvný prvek D, 270mm, čiré sko"},{"$f":"Cen!B254","v":"Z37R237D"},{"$f":"Cen!C254","v":"KL"},{"$f":"Cen!D254","v":"!"},0,{"$f":"Cen!F254","v":269.10000000000002},{"$f":"M88","v":0},null,{"$f":"Cen!I254","v":2774799},{"$f":"Cen!J254","v":"D547564"},{"$f":"IF(I88=\"x\",0,IF(I88>0,I88,F88))","v":0},{"$f":"PRODUCT(L88,G88)","v":0},null,null,null,null,null,null,{"$f":"AD310G!$S75","v":0},null,null,{"$f":"AD31VG!$S75","v":0}]
[null,{"$f":"Cen!A256","v":"Zásuvný prvek D, 300mm, čiré sko"},{"$f":"Cen!B256","v":"Z37R267D"},{"$f":"Cen!C256","v":"KL"},{"$f":"Cen!D256","v":"!"},0,{"$f":"Cen!F256","v":279},0,null,{"$f":"Cen!I256","v":3308193},{"$f":"Cen!J256","v":"D548077"},0,0,null,null,null,null,null,null,{"$f":"AD310G!$S76","v":0},null,null,{"$f":"AD31VG!$S76","v":0}]
[null,{"$f":"Cen!A258","v":"Zásuvný prvek D, 350mm, čiré sko"},{"$f":"Cen!B258","v":"Z37R317D"},{"$f":"Cen!C258","v":"KL"},{"$f":"Cen!D258","v":"!"},0,{"$f":"Cen!F258","v":240.82},0,null,{"$f":"Cen!I258","v":7929860},{"$f":"Cen!J258","v":"2x D663063"},0,0,null,null,null,null,null,null,{"$f":"AD310G!$S77","v":0},null,null,{"$f":"AD31VG!$S77","v":0}]
[null,{"$f":"Cen!A260","v":"Zásuvný prvek D, 400mm, čiré sko"},{"$f":"Cen!B260","v":"Z37R367D"},{"$f":"Cen!C260","v":"KL"},{"$f":"Cen!D260","v":0},0,{"$f":"Cen!F260","v":265.39999999999998},0,null,{"$f":"Cen!I260","v":1224597},{"$f":"Cen!J260","v":"2x D663064"},0,0,null,null,null,null,null,null,{"$f":"AD310G!$S78","v":0},null,null,{"$f":"AD31VG!$S78","v":0}]
[null,{"$f":"Cen!A262","v":"Zásuvný prvek D, 450mm, čiré sko"},{"$f":"Cen!B262","v":"Z37R417D"},{"$f":"Cen!C262","v":"KL"},{"$f":"Cen!D262","v":0},0,{"$f":"Cen!F262","v":290},0,null,{"$f":"Cen!I262","v":2294507},{"$f":"Cen!J262","v":"2x D663065"},0,0,null,null,null,null,null,null,{"$f":"AD310G!$S79","v":0},null,null,{"$f":"AD31VG!$S79","v":0},null,null,null,null,null,null,null,null,null,null,null,null,null,null,null,null,null,null,null,null,null,null,null,null,null,{"$f":"ADD32G!$S79","v":0},null,null,{"$f":"ADM30G!$S79","v":0},null,null,null,{"$f":"ADM45G!$S79","v":0},null,null,{"$f":"ADD45G!$S79","v":0}]
[null,{"$f":"Cen!A264","v":"Zásuvný prvek D, 500mm, čiré sko"},{"$f":"Cen!B264","v":"Z37R467D"},{"$f":"Cen!C264","v":"KL"},{"$f":"Cen!D264","v":0},0,{"$f":"Cen!F264","v":314.56},{"$f":"M93","v":0},null,{"$f":"Cen!I264","v":2291585},{"$f":"Cen!J264","v":"2x D663066"},{"$f":"IF(I93=\"x\",0,IF(I93>0,I93,F93))","v":0},{"$f":"PRODUCT(L93,G93)","v":0},null,null,null,null,null,null,{"$f":"AD310G!$S80","v":0},null,null,{"$f":"AD31VG!$S80","v":0},null,null,null,{"$f":"AC310G!$J44","v":0},null,null,{"$f":"AC31VG!J44","v":0},null,null,null,null,null,null,null,null,null,null,null,null,null,null,{"$f":"AD342G!$S80","v":0},null,null,null,{"$f":"ADD32G!$S80","v":0},null,null,{"$f":"ADM30G!$S80","v":0},null,null,null,{"$f":"ADM45G!$S80","v":0},null,null,{"$f":"ADD45G!$S80","v":0}]
[null,{"$f":"Cen!A266","v":"Zásuvný prvek D, 550mm, čiré sko"},{"$f":"Cen!B266","v":"Z37R517D"},{"$f":"Cen!C266","v":"KL"},{"$f":"Cen!D266","v":0},0,{"$f":"Cen!F266","v":336.68},{"$f":"M94","v":0},null,{"$f":"Cen!I266","v":2557206},{"$f":"Cen!J266","v":"2x D663067"},{"$f":"IF(I94=\"x\",0,IF(I94>0,I94,F94))","v":0},{"$f":"PRODUCT(L94,G94)","v":0},null,null,null,null,null,null,{"$f":"AD310G!$S81","v":0},null,null,{"$f":"AD31VG!$S81","v":0},null,null,null,null,null,null,null,null,null,null,null,null,null,null,null,null,null,null,null,null,null,null,null,null,null,{"$f":"ADD32G!$S81","v":0},null,null,{"$f":"ADM30G!$S81","v":0},null,null,null,{"$f":"ADM45G!$S81","v":0},null,null,{"$f":"ADD45G!$S81","v":0}]
[null,{"$f":"Cen!A268","v":"Zásuvný prvek D, 600mm, čiré sko"},{"$f":"Cen!B268","v":"Z37R567D"},{"$f":"Cen!C268","v":"KL"},{"$f":"Cen!D268","v":"!"},0,{"$f":"Cen!F268","v":358.8},{"$f":"M95","v":0},null,{"$f":"Cen!I268","v":2317239},{"$f":"Cen!J268","v":"D548086"},{"$f":"IF(I95=\"x\",0,IF(I95>0,I95,F95))","v":0},{"$f":"PRODUCT(L95,G95)","v":0},null,null,null,null,null,null,{"$f":"AD310G!$S82","v":0},null,null,{"$f":"AD31VG!$S82","v":0},null,null,null,null,null,null,null,null,null,null,null,{"$f":"AD535SG!$S53","v":0},null,null,null,null,{"$f":"AD535G!$S53","v":0},null,null,null,null,null,null,null,null,{"$f":"ADD32G!$S82","v":0},null,null,{"$f":"ADM30G!$S82","v":0}]
[null,{"$f":"Cen!A270","v":"Zásuvný prvek D, 650mm, čiré sko"},{"$f":"Cen!B270","v":"Z37R617D"},{"$f":"Cen!C270","v":"KL"},{"$f":"Cen!D270","v":0},0,{"$f":"Cen!F270","v":378.7},0,null,{"$f":"Cen!I270","v":5253385},{"$f":"Cen!J270","v":"D512403"},0,0,null,null,null,null,null,null,{"$f":"AD310G!$S83","v":0},null,null,{"$f":"AD31VG!$S83","v":0},null,null,null,null,null,null,null,null,null,null,null,{"$f":"AD535SG!$S54","v":0},null,null,null,null,{"$f":"AD535G!$S54","v":0},null,null,null,null,null,null,null,null,{"$f":"ADD32G!$S83","v":0},null,null,{"$f":"ADM30G!$S83","v":0}]
[null,{"$f":"Cen!A273","v":"Zásuvný prvek C, 270mm, čiré sko"},{"$f":"Cen!B273","v":"Z37R237C"},{"$f":"Cen!C273","v":"KL"},{"$f":"Cen!D273","v":"!"},0,{"$f":"Cen!F273","v":219.2},0,null,{"$f":"Cen!I273","v":3804408},{"$f":"Cen!J273","v":"D692543"},0,0,null,null,null,null,null,null,null,null,null,null,null,null,null,{"$f":"AC310G!$S75","v":0},null,null,{"$f":"AC31VG!$S75","v":0}]
[null,{"$f":"Cen!A275","v":"Zásuvný prvek C 300mm, čiré sko"},{"$f":"Cen!B275","v":"Z37R267C"},{"$f":"Cen!C275","v":"KL"},{"$f":"Cen!D275","v":"!"},0,{"$f":"Cen!F275","v":229.2},0,null,{"$f":"Cen!I275","v":5859728},{"$f":"Cen!J275","v":"D692545"},0,0,null,null,null,null,null,null,null,null,null,null,null,null,null,{"$f":"AC310G!$S76","v":0},null,null,{"$f":"AC31VG!$S76","v":0}]
[null,{"$f":"Cen!A277","v":"Zásuvný prvek C, 350mm, čiré sko"},{"$f":"Cen!B277","v":"Z37R317C"},{"$f":"Cen!C277","v":"KL"},{"$f":"Cen!D277","v":"!"},0,{"$f":"Cen!F277","v":239.2},0,null,{"$f":"Cen!I277","v":4171919},{"$f":"Cen!J277","v":"D692547"},0,0,null,null,null,null,null,null,null,null,null,null,null,null,null,{"$f":"AC310G!$S77","v":0},null,null,{"$f":"AC31VG!$S77","v":0}]
[null,{"$f":"Cen!A279","v":"Zásuvný prvek C, 400mm, čiré sko"},{"$f":"Cen!B279","v":"Z37R367C"},{"$f":"Cen!C279","v":"KL"},{"$f":"Cen!D279","v":"!"},0,{"$f":"Cen!F279","v":249.1},0,null,{"$f":"Cen!I279","v":5254946},{"$f":"Cen!J279","v":"D692549"},0,0,null,null,null,null,null,null,null,null,null,null,null,null,null,{"$f":"AC310G!$S78","v":0},null,null,{"$f":"AC31VG!$S78","v":0}]
[null,{"$f":"Cen!A281","v":"Zásuvný prvek C, 450mm, čiré sko"},{"$f":"Cen!B281","v":"Z37R417C"},{"$f":"Cen!C281","v":"KL"},{"$f":"Cen!D281","v":"!"},0,{"$f":"Cen!F281","v":259.10000000000002},0,null,{"$f":"Cen!I281","v":9507673},{"$f":"Cen!J281","v":"D692550"},0,0,null,null,null,null,null,null,null,null,null,null,null,null,null,{"$f":"AC310G!$S79","v":0},null,null,{"$f":"AC31VG!$S79","v":0}]
[null,{"$f":"Cen!A283","v":"Zásuvný prvek C, 500mm, čiré sko"},{"$f":"Cen!B283","v":"Z37R467C"},{"$f":"Cen!C283","v":"KL"},{"$f":"Cen!D283","v":0},0,{"$f":"Cen!F283","v":269.10000000000002},0,null,{"$f":"Cen!I283","v":7291705},{"$f":"Cen!J283","v":"D512401"},0,0,null,null,null,null,null,null,null,null,null,null,null,null,null,{"$f":"AC310G!$S80","v":0},null,null,{"$f":"AC31VG!$S80","v":0}]
[null,{"$f":"Cen!A285","v":"Zásuvný prvek C, 550mm, čiré sko"},{"$f":"Cen!B285","v":"Z37R517C"},{"$f":"Cen!C285","v":"KL"},{"$f":"Cen!D285","v":"!"},0,{"$f":"Cen!F285","v":289},0,null,{"$f":"Cen!I285","v":5688629},{"$f":"Cen!J285","v":"D657373"},0,0,null,null,null,null,null,null,null,null,null,null,null,null,null,{"$f":"AC310G!$S81","v":0},null,null,{"$f":"AC31VG!$S81","v":0}]
[null,{"$f":"Cen!A287","v":"Zásuvný prvek C, 600mm, čiré sko"},{"$f":"Cen!B287","v":"Z37R567C"},{"$f":"Cen!C287","v":"KL"},{"$f":"Cen!D287","v":"!"},0,{"$f":"Cen!F287","v":308.89999999999998},0,null,{"$f":"Cen!I287","v":9544431},{"$f":"Cen!J287","v":"D692551"},0,0,null,null,null,null,null,null,null,null,null,null,null,null,null,{"$f":"AC310G!$S82","v":0},null,null,{"$f":"AC31VG!$S82","v":0}]
[null,{"$f":"Cen!A289","v":"Zásuvný prvek C, 650mm, čiré sko"},{"$f":"Cen!B289","v":"Z37R617C"},{"$f":"Cen!C289","v":"KL"},{"$f":"Cen!D289","v":"!"},0,{"$f":"Cen!F289","v":328.9},0,null,{"$f":"Cen!I289","v":2152523},{"$f":"Cen!J289","v":"D692553"},0,0,null,null,null,null,null,null,null,null,null,null,null,null,null,{"$f":"AC310G!$S83","v":0},null,null,{"$f":"AC31VG!$S83","v":0}]
[null,{"$f":"Cen!A292","v":"Kovový zásuvný prvek D, 450mm, šedý"},{"$f":"Cen!B292","v":"Z37A417D"},{"$f":"Cen!C292","v":"R906"},{"$f":"Cen!D292","v":0},0,{"$f":"Cen!F292","v":156.5},0,null,{"$f":"Cen!I292","v":7183333},{"$f":"Cen!J292","v":"D472683"},0,0,null,null,null,null,null,null,null,{"$f":"AD310M!$S79","v":0},null,null,{"$f":"AD31VM!$S79","v":0},null,null,null,null,null,null,null,null,null,null,null,null,null,null,null,null,null,null,null,null,null,null,null,null,null,{"$f":"ADD32M!$S79","v":0},null,null,{"$f":"ADM30M!$S79","v":0},null,null,null,{"$f":"ADM45M!$S79","v":0},null,null,{"$f":"ADD45M!S79","v":0}]
[null,{"$f":"Cen!A295","v":"Kovový zásuvný prvek D, 500mm, šedý"},{"$f":"Cen!B295","v":"Z37A467D"},{"$f":"Cen!C295","v":"R906"},{"$f":"Cen!D295","v":0},0,{"$f":"Cen!F295","v":164.4},0,null,{"$f":"Cen!I295","v":4222766},{"$f":"Cen!J295","v":"D472685"},0,0,null,null,null,null,null,null,null,{"$f":"AD310M!$S80","v":0},null,null,{"$f":"AD31VM!$S80","v":0},null,null,null,null,null,null,null,null,null,null,null,null,null,null,null,null,null,null,null,null,null,{"$f":"AD342M!$S80","v":0},null,null,null,{"$f":"ADD32M!$S80","v":0},null,null,{"$f":"ADM30M!$S80","v":0},null,null,null,{"$f":"ADM45M!$S80","v":0},null,null,{"$f":"ADD45M!S80","v":0}]
[null,{"$f":"Cen!A298","v":"Kovový zásuvný prvek D, 550mm, šedý"},{"$f":"Cen!B298","v":"Z37A517D"},{"$f":"Cen!C298","v":"R906"},{"$f":"Cen!D298","v":0},0,{"$f":"Cen!F298","v":177.6},0,null,{"$f":"Cen!I298","v":4851238},{"$f":"Cen!J298","v":"D493486"},0,0,null,null,null,null,null,null,null,{"$f":"AD310M!$S81","v":0},null,null,{"$f":"AD31VM!$S81","v":0},null,null,null,null,null,null,null,null,null,null,null,null,null,null,null,null,null,null,null,null,null,null,null,null,null,{"$f":"ADD32M!$S81","v":0},null,null,{"$f":"ADM30M!$S81","v":0},null,null,null,{"$f":"ADM45M!$S81","v":0},null,null,{"$f":"ADD45M!S81","v":0}]
[null,{"$f":"Cen!A301","v":0},{"$f":"Cen!B301","v":0},{"$f":"Cen!C301","v":0},{"$f":"Cen!D301","v":0},0,{"$f":"Cen!F301","v":0},0,null,{"$f":"Cen!I301","v":0},{"$f":"Cen!J301","v":0},0,0,null,null,null,null,null,null,null,{"$f":"AD310M!$S82","v":0},null,null,{"$f":"AD31VM!$S82","v":0},null,null,null,null,null,null,null,null,null,null,null,null,null,null,null,null,null,null,null,null,null,null,null,null,null,{"$f":"ADD32M!$S82","v":0},null,null,{"$f":"ADM30M!$S82","v":0}]
[null,{"$f":"Cen!A304","v":"Kovový zásuvný prvek D, 650mm, šedý"},{"$f":"Cen!B304","v":"Z37A617D"},{"$f":"Cen!C304","v":"R906"},{"$f":"Cen!D304","v":0},0,{"$f":"Cen!F304","v":204},0,null,{"$f":"Cen!I304","v":7126828},{"$f":"Cen!J304","v":"D493488"},0,0,null,null,null,null,null,null,null,{"$f":"AD310M!$S83","v":0},null,null,{"$f":"AD31VM!$S83","v":0},null,null,null,null,null,null,null,null,null,null,null,{"$f":"AD535SM!$S54","v":0},null,null,null,null,{"$f":"AD535M!$S54","v":0},null,null,null,null,null,null,null,null,{"$f":"ADD32M!$S83","v":0},null,null,{"$f":"ADM30M!$S83","v":0}]
[null,{"$f":"Cen!A308","v":"Kovový zásuvný prvek C, 450mm, šedý"},{"$f":"Cen!B308","v":"Z37A417C"},{"$f":"Cen!C308","v":"R906"},{"$f":"Cen!D308","v":"!"},0,{"$f":"Cen!F308","v":143.80000000000001},0,null,{"$f":"Cen!I308","v":8168478},{"$f":"Cen!J308","v":"D493625"},{"$f":"IF(I111=\"x\",0,IF(I111>0,I111,F111))","v":0},{"$f":"PRODUCT(L111,G111)","v":0},null,null,null,null,null,null,null,null,null,null,null,null,null,null,{"$f":"AC310M!$S79","v":0},null,null,{"$f":"AC31VM!$S79","v":0},null,null,null,null,null,null,null,null,{"$f":"AD535G!$J37","v":0}]
[null,{"$f":"Cen!A311","v":"Kovový zásuvný prvek C, 500mm, šedý"},{"$f":"Cen!B311","v":"Z37A467C"},{"$f":"Cen!C311","v":"R906"},{"$f":"Cen!D311","v":0},0,{"$f":"Cen!F311","v":149.5},0,null,{"$f":"Cen!I311","v":2406463},{"$f":"Cen!J311","v":"D493627"},0,0,null,null,null,null,null,null,null,null,null,null,null,null,null,null,{"$f":"AC310M!$S80","v":0},null,null,{"$f":"AC31VM!$S80","v":0}]
[null,{"$f":"Cen!A314","v":"Kovový zásuvný prvek C, 550mm, šedý"},{"$f":"Cen!B314","v":"Z37A517C"},{"$f":"Cen!C314","v":"R906"},{"$f":"Cen!D314","v":"!"},0,{"$f":"Cen!F314","v":160.4},0,null,{"$f":"Cen!I314","v":5511982},{"$f":"Cen!J314","v":"D493637"},0,0,null,null,null,null,null,null,null,{"$f":"AD310M!$J44","v":0},null,null,{"$f":"AD31VM!$J44","v":0},null,null,null,{"$f":"AC310M!$S81","v":0},null,null,{"$f":"AC31VM!$S81","v":0}]
[null,{"$f":"Cen!A317","v":0},{"$f":"Cen!B317","v":0},{"$f":"Cen!C317","v":0},{"$f":"Cen!D317","v":0},0,{"$f":"Cen!F317","v":0},null,null,{"$f":"Cen!I317","v":0},{"$f":"Cen!J317","v":0},0,0,null,null,null,null,null,null,null,null,null,null,null,null,null,null,{"$f":"AC310M!$S82","v":0},null,null,{"$f":"AC31VM!$S82","v":0},null,null,null,null,{"$f":"AD535SM!$J38","v":0},null,null,null,null,{"$f":"AD535M!$J37","v":0}]
[null,{"$f":"Cen!A320","v":"Kovový zásuvný prvek C, 650mm, šedý"},{"$f":"Cen!B320","v":"Z37A617C"},{"$f":"Cen!C320","v":"R906"},{"$f":"Cen!D320","v":"!"},0,{"$f":"Cen!F320","v":182.4},{"$f":"M115","v":0},null,{"$f":"Cen!I320","v":4040898},{"$f":"Cen!J320","v":"D493641"},0,0,null,null,null,null,null,null,null,null,null,null,null,null,null,null,{"$f":"AC310M!$S83","v":0},null,null,{"$f":"AC31VM!$S83","v":0}]
[null,{"$f":"Cen!A324","v":"Sada držáků zásuvného prvku C, bílošedá"},{"$f":"Cen!B324","v":"Z36C0080"},{"$f":"Cen!C324","v":"WGR"},{"$f":"Cen!D324","v":0},0,{"$f":"Cen!F324","v":60.1},{"$f":"M116","v":0},null,{"$f":"Cen!I324","v":7602540},{"$f":"Cen!J324","v":"D503909"},0,0,null,null,null,null,null,null,null,null,null,null,null,null,null,{"$f":"AC310G!$S73","v":0},{"$f":"AC310M!$S73","v":0},{"$f":"AC310R!$S73","v":0},{"$f":"AC31VG!$S73","v":0},{"$f":"AC31VM!$S73","v":0},{"$f":"AC31VR!$S73","v":0}]
[null,{"$f":"Cen!A328","v":"Sada držáků zásuvného prvku D, bílošedá"},{"$f":"Cen!B328","v":"Z36D0080"},{"$f":"Cen!C328","v":"WGR"},{"$f":"Cen!D328","v":0},0,{"$f":"Cen!F328","v":63.3},{"$f":"M117","v":0},null,{"$f":"Cen!I328","v":1004836},{"$f":"Cen!J328","v":"D460308"},0,0,null,null,null,null,null,null,{"$f":"AD310G!$S73","v":0},{"$f":"AD310M!$S73","v":0},{"$f":"AD310R!$S73","v":0},{"$f":"AD31VG!$S73","v":0},{"$f":"AD31VM!$S73","v":0},{"$f":"AD31VR!$S73","v":0},null,null,null,null,null,null,null,null,null,{"$f":"AD535SG!$S44","v":0},{"$f":"AD535SM!$S44","v":0},{"$f":"AD535SR!$S44","v":0},null,null,{"$f":"AD535G!$S44","v":0},{"$f":"AD535M!$S44","v":0},{"$f":"AD535R!$S44","v":0},null,null,{"$f":"AD342G!$S73","v":0},{"$f":"AD342M!$S73","v":0},{"$f":"AD342R!$S73","v":0},null,{"$f":"ADD32G!$S73","v":0},{"$f":"ADD32M!$S73","v":0},{"$f":"ADD32R!$S69","v":0},{"$f":"ADM30G!$S73","v":0},{"$f":"ADM30M!$S73","v":0},{"$f":"ADM30R!$S75","v":0},null,{"$f":"ADM45G!$S73","v":0},{"$f":"ADM45M!$S73","v":0},{"$f":"ADM45R!$S73","v":0},{"$f":"ADD45G!$S73","v":0},{"$f":"ADD45M!$S73","v":0},{"$f":"ADD45R!$S73","v":0}]
[null,null,null,null,null,0]
[null,{"$f":"Cen!A334","v":"Sada kování SPACE CORNER, M, šedá"},{"$f":"Cen!B334","v":"ZSF.340E.M1"},{"$f":"Cen!C334","v":"ST/6"},{"$f":"Cen!D334","v":0},0,{"$f":"Cen!F334","v":300.2},{"$f":"M119","v":0},null,{"$f":"Cen!I334","v":8761550},{"$f":"Cen!J334","v":"D412703"},{"$f":"IF(I119=\"x\",0,IF(I119>0,I119,F119))","v":0},{"$f":"PRODUCT(L119,G119)","v":0},null,null,null,null,null,null,null,null,null,null,null,null,null,null,null,null,null,null,null,null,null,null,null,null,null,{"$f":"'AM530'!$S30","v":0}]
[null,{"$f":"Cen!A338","v":"Sada kování SPACE CORNER, D, šedá"},{"$f":"Cen!B338","v":"ZSF.345E.D1"},{"$f":"Cen!C338","v":"ST/6"},{"$f":"Cen!D338","v":0},0,{"$f":"Cen!F338","v":408.1},0,null,{"$f":"Cen!I338","v":9149630},{"$f":"Cen!J338","v":"D551989"},0,0,null,null,null,null,null,null,null,null,null,null,null,null,null,null,null,null,null,null,null,null,null,null,null,null,null,null,{"$f":"AD535G!$S31","v":0},{"$f":"AD535M!$S31","v":0},{"$f":"AD535R!$S31","v":0}]
[null,{"$f":"Cen!A343","v":"Sada kování SYNCROMOTION, M, šedá"},{"$f":"Cen!B343","v":"Z33M00E0A6"},{"$f":"Cen!C343","v":"R737"},{"$f":"Cen!D343","v":0},0,{"$f":"Cen!F343","v":1051.7},0,null,{"$f":"Cen!I343","v":7144460},{"$f":"Cen!J343","v":"D100229"},0,0,null,null,null,null,null,null,null,null,null,null,null,null,null,null,null,null,null,null,null,null,{"$f":"AM530S!$S30","v":0}]
[null,{"$f":"Cen!A346","v":"Sada kování SYNCROMOTION, D, šedá"},{"$f":"Cen!B346","v":"Z33D00E0A6"},{"$f":"Cen!C346","v":"R737"},{"$f":"Cen!D346","v":0},0,{"$f":"Cen!F346","v":1414.4},0,null,{"$f":"Cen!I346","v":7144380},{"$f":"Cen!J346","v":"D100236"},0,0,null,null,null,null,null,null,null,null,null,null,null,null,null,null,null,null,null,null,null,null,null,{"$f":"AD535SG!$S31","v":0},{"$f":"AD535SM!$S31","v":0},{"$f":"AD535SR!$S31","v":0}]
[null,{"$f":"Cen!A349","v":"Držáky zadní stěny M SPACE-CORNER, šedé"},{"$f":"Cen!B349","v":"Z30M000S.45"},{"$f":"Cen!C349","v":"R906"},{"$f":"Cen!D349","v":0},0,{"$f":"Cen!F349","v":69.5},0,null,{"$f":"Cen!I349","v":8373549},{"$f":"Cen!J349","v":"D287140"},0,0,null,null,null,null,null,null,null,null,null,null,null,null,null,null,null,null,null,null,null,null,{"$f":"AM530S!$S27","v":0}]
[null,{"$f":"Cen!A353","v":"Držáky zadní stěny D SPACE-CORNER, šedé"},{"$f":"Cen!B353","v":"Z30D000SL45"},{"$f":"Cen!C353","v":"R906"},{"$f":"Cen!D353","v":0},0,{"$f":"Cen!F353","v":112.1},0,null,{"$f":"Cen!I353","v":4597273},{"$f":"Cen!J353","v":"D287138"},0,0,null,null,null,null,null,null,null,null,null,null,null,null,null,null,null,null,null,null,null,null,null,{"$f":"AD535SG!$S28","v":0},{"$f":"AD535SM!$S28","v":0},{"$f":"AD535SR!$S28","v":0}]
[null,{"$f":"Cen!A359","v":"Bočnice dřezové, 500 mm, šedé"},{"$f":"Cen!B359","v":"378M5004SG"},{"$f":"Cen!C359","v":"WA/G"},{"$f":"Cen!D359","v":0},0,{"$f":"Cen!F359","v":509.4},0,null,{"$f":"Cen!I359","v":8734707},{"$f":"Cen!J359","v":"D356964"},0,0,null,null,null,null,null,null,null,null,null,null,null,null,null,null,null,null,null,null,null,null,null,null,null,null,null,null,null,null,null,null,null,{"$f":"AD342G!$S13","v":0},{"$f":"AD342M!$S13","v":0},{"$f":"AD342R!$S13","v":0}]
[null,{"$f":"Cen!A365","v":"Adaptér příčky dřezového výsuvu"},{"$f":"Cen!B365","v":"Z30N0002.6Z"},{"$f":"Cen!C365","v":"R737"},{"$f":"Cen!D365","v":0},0,{"$f":"Cen!F365","v":54},0,null,{"$f":"Cen!I365","v":6689160},{"$f":"Cen!J365","v":"D055342"},0,0,null,null,null,null,null,null,null,null,null,null,null,null,null,null,null,null,null,null,null,null,null,null,null,null,null,null,null,null,null,null,null,{"$f":"AD342G!$S61","v":0},{"$f":"AD342M!$S61","v":0},{"$f":"AD342R!$S61","v":0}]
[null,null,null,null,null,0,null,null,null,null,null,{"$f":"IF(I127=\"x\",0,IF(I127>0,I127,F127))","v":0},{"$f":"PRODUCT(L127,G127)","v":0}]
[null,{"$f":"Cen!A381","v":"Sada BI1, 450 mm"},{"$f":"Cen!B381","v":"ZSI.450BI1N"},{"$f":"Cen!C381","v":"IG/G"},{"$f":"Cen!D381","v":0},0,{"$f":"Cen!F381","v":709.4},{"$f":"M128","v":0},null,{"$f":"Cen!I381","v":6700230},{"$f":"Cen!J381","v":"D369786"},{"$f":"IF(I128=\"x\",0,IF(I128>0,I128,F128))","v":0},{"$f":"PRODUCT(L128,G128)","v":0},null,null,null,null,null,null,null,null,null,null,null,null,null,null,null,null,null,null,null,null,null,null,null,null,null,null,null,null,null,null,null,null,null,null,null,null,null,null,null,null,null,null,null,null,null,null,null,null,null,{"$f":"OLMi!P2","v":0},{"$f":"OLRo!P2","v":0},null,null,null,null,null,null,null,null,null,null,{"$f":"OLOst!P2","v":0}]
[null,{"$f":"Cen!A382","v":"Sada BI1, 500 mm"},{"$f":"Cen!B382","v":"ZSI.500BI1N"},{"$f":"Cen!C382","v":"IG/G"},{"$f":"Cen!D382","v":0},0,{"$f":"Cen!F382","v":862.8},{"$f":"M129","v":0},null,{"$f":"Cen!I382","v":6700070},{"$f":"Cen!J382","v":"D179221"},0,0,null,null,null,null,null,null,null,null,null,null,null,null,null,null,null,null,null,null,null,null,null,null,null,null,null,null,null,null,null,null,null,null,null,null,null,null,null,null,null,null,null,null,null,null,null,null,null,null,null,{"$f":"OLMi!P3","v":0},{"$f":"OLRo!P3","v":0},null,null,null,null,null,null,null,null,null,null,{"$f":"OLOst!P3","v":0}]
[null,{"$f":"Cen!A383","v":"Sada BI1, 550 mm"},{"$f":"Cen!B383","v":"ZSI.550BI1N"},{"$f":"Cen!C383","v":"IG/G"},{"$f":"Cen!D383","v":0},0,{"$f":"Cen!F383","v":1035.8},{"$f":"M130","v":0},null,{"$f":"Cen!I383","v":6698800},{"$f":"Cen!J383","v":"D658391"},{"$f":"IF(I130=\"x\",0,IF(I130>0,I130,F130))","v":0},{"$f":"PRODUCT(L130,G130)","v":0},null,null,null,null,null,null,null,null,null,null,null,null,null,null,null,null,null,null,null,null,null,null,null,null,null,null,null,null,null,null,null,null,null,null,null,null,null,null,null,null,null,null,null,null,null,null,null,null,null,{"$f":"OLMi!P4","v":0},{"$f":"OLRo!P4","v":0},null,null,null,null,null,null,null,null,null,null,{"$f":"OLOst!P4","v":0}]
[null,{"$f":"Cen!A384","v":"Sada BI1, 600 mm"},{"$f":"Cen!B384","v":"ZSI.600BI1N"},{"$f":"Cen!C384","v":"IG/G"},{"$f":"Cen!D384","v":0},0,{"$f":"Cen!F384","v":0},0,null,{"$f":"Cen!I384","v":6699100},{"$f":"Cen!J384","v":"na dotaz"},0,0,null,null,null,null,null,null,null,null,null,null,null,null,null,null,null,null,null,null,null,null,null,null,null,null,null,null,null,null,null,null,null,null,null,null,null,null,null,null,null,null,null,null,null,null,null,null,null,null,null,{"$f":"OLMi!P5","v":0},{"$f":"OLRo!P5","v":0},null,null,null,null,null,null,null,null,null,null,{"$f":"OLOst!P5","v":0}]
[null,{"$f":"Cen!A385","v":"Sada BI1, 650 mm"},{"$f":"Cen!B385","v":"ZSI.650BI1N"},{"$f":"Cen!C385","v":"IG/G"},{"$f":"Cen!D385","v":0},0,{"$f":"Cen!F385","v":0},0,null,{"$f":"Cen!I385","v":6698230},{"$f":"Cen!J385","v":"na dotaz"},0,0,null,null,null,null,null,null,null,null,null,null,null,null,null,null,null,null,null,null,null,null,null,null,null,null,null,null,null,null,null,null,null,null,null,null,null,null,null,null,null,null,null,null,null,null,null,null,null,null,null,{"$f":"OLMi!P6","v":0},{"$f":"OLRo!P6","v":0},null,null,null,null,null,null,null,null,null,null,{"$f":"OLOst!P6","v":0}]
[null,{"$f":"Cen!A386","v":"Sada BI2, 450 mm"},{"$f":"Cen!B386","v":"ZSI.450BI2N"},{"$f":"Cen!C386","v":"IG/G"},{"$f":"Cen!D386","v":0},0,{"$f":"Cen!F386","v":927.7},0,null,{"$f":"Cen!I386","v":6699800},{"$f":"Cen!J386","v":"D385670"},0,0,null,null,null,null,null,null,null,null,null,null,null,null,null,null,null,null,null,null,null,null,null,null,null,null,null,null,null,null,null,null,null,null,null,null,null,null,null,null,null,null,null,null,null,null,null,null,null,null,null,{"$f":"OLMi!P7","v":0},null,null,null,null,null,null,null,null,null,null,null,{"$f":"OLOst!P7","v":0}]
[null,{"$f":"Cen!A387","v":"Sada BI2, 500 mm"},{"$f":"Cen!B387","v":"ZSI.500BI2N"},{"$f":"Cen!C387","v":"IG/G"},{"$f":"Cen!D387","v":0},0,{"$f":"Cen!F387","v":1095.4000000000001},{"$f":"M134","v":0},null,{"$f":"Cen!I387","v":6698580},{"$f":"Cen!J387","v":"D647139"},{"$f":"IF(I134=\"x\",0,IF(I134>0,I134,F134))","v":0},{"$f":"PRODUCT(L134,G134)","v":0},null,null,null,null,null,null,null,null,null,null,null,null,null,null,null,null,null,null,null,null,null,null,null,null,null,null,null,null,null,null,null,null,null,null,null,null,null,null,null,null,null,null,null,null,null,null,null,null,null,{"$f":"OLMi!P8","v":0},null,null,null,null,null,null,null,null,null,null,null,{"$f":"OLOst!P8","v":0}]
[null,{"$f":"Cen!A388","v":"Sada BI2, 550 mm"},{"$f":"Cen!B388","v":"ZSI.550BI2N"},{"$f":"Cen!C388","v":"IG/G"},{"$f":"Cen!D388","v":0},0,{"$f":"Cen!F388","v":0},{"$f":"M135","v":0},null,{"$f":"Cen!I388","v":6698400},{"$f":"Cen!J388","v":"na dotaz"},{"$f":"IF(I135=\"x\",0,IF(I135>0,I135,F135))","v":0},{"$f":"PRODUCT(L135,G135)","v":0},null,null,null,null,null,null,null,null,null,null,null,null,null,null,null,null,null,null,null,null,null,null,null,null,null,null,null,null,null,null,null,null,null,null,null,null,null,null,null,null,null,null,null,null,null,null,null,null,null,{"$f":"OLMi!P9","v":0},null,null,null,null,null,null,null,null,null,null,null,{"$f":"OLOst!P9","v":0}]
[null,{"$f":"Cen!A389","v":"Sada BI2, 600 mm"},{"$f":"Cen!B389","v":"ZSI.600BI2N"},{"$f":"Cen!C389","v":"IG/G"},{"$f":"Cen!D389","v":0},0,{"$f":"Cen!F389","v":0},0,null,{"$f":"Cen!I389","v":6699550},{"$f":"Cen!J389","v":"na dotaz"},0,0,null,null,null,null,null,null,null,null,null,null,null,null,null,null,null,null,null,null,null,null,null,null,null,null,null,null,null,null,null,null,null,null,null,null,null,null,null,null,null,null,null,null,null,null,null,null,null,null,null,{"$f":"OLMi!P10","v":0},null,null,null,null,null,null,null,null,null,null,null,{"$f":"OLOst!P10","v":0}]
[null,{"$f":"Cen!A390","v":"Sada BI2, 650 mm"},{"$f":"Cen!B390","v":"ZSI.650BI2N"},{"$f":"Cen!C390","v":"IG/G"},{"$f":"Cen!D390","v":0},0,{"$f":"Cen!F390","v":0},0,null,{"$f":"Cen!I390","v":6699470},{"$f":"Cen!J390","v":"na dotaz"},0,0,null,null,null,null,null,null,null,null,null,null,null,null,null,null,null,null,null,null,null,null,null,null,null,null,null,null,null,null,null,null,null,null,null,null,null,null,null,null,null,null,null,null,null,null,null,null,null,null,null,{"$f":"OLMi!P11","v":0},null,null,null,null,null,null,null,null,null,null,null,{"$f":"OLOst!P11","v":0}]
[null,{"$f":"Cen!A391","v":"Sada BI3, 450 mm"},{"$f":"Cen!B391","v":"ZSI.450BI3N"},{"$f":"Cen!C391","v":"IG/G"},{"$f":"Cen!D391","v":0},0,{"$f":"Cen!F391","v":1099.2},0,null,{"$f":"Cen!I391","v":6908650},{"$f":"Cen!J391","v":"D369789"},0,0,null,null,null,null,null,null,null,null,null,null,null,null,null,null,null,null,null,null,null,null,null,null,null,null,null,null,null,null,null,null,null,null,null,null,null,null,null,null,null,null,null,null,null,null,null,null,null,null,null,{"$f":"OLMi!P12","v":0},null,null,null,null,null,null,null,null,null,null,null,{"$f":"OLOst!P12","v":0}]
[null,{"$f":"Cen!A392","v":"Sada BI3, 500 mm"},{"$f":"Cen!B392","v":"ZSI.500BI3"},{"$f":"Cen!C392","v":"IG/G"},{"$f":"Cen!D392","v":0},{"$f":"IF(I139>0,I139,SUM(N139:BZ139))","v":0},{"$f":"Cen!F392","v":1357.8},0,null,{"$f":"Cen!I392","v":3695280},{"$f":"Cen!J392","v":"D123502"},0,0,null,null,null,null,null,null,null,null,null,null,null,null,null,null,null,null,null,null,null,null,null,null,null,null,null,null,null,null,null,null,null,null,null,null,null,null,null,null,null,null,null,null,null,null,null,null,null,null,null,{"$f":"OLMi!P13","v":0},null,null,null,null,null,null,null,null,null,null,null,{"$f":"OLOst!P13","v":0}]
[null,{"$f":"Cen!A393","v":"Sada BI3, 550 mm"},{"$f":"Cen!B393","v":"ZSI.550BI3"},{"$f":"Cen!C393","v":"IG/G"},{"$f":"Cen!D393","v":0},0,{"$f":"Cen!F393","v":1542.1},{"$f":"M140","v":0},null,{"$f":"Cen!I393","v":3695360},{"$f":"Cen!J393","v":"D408278"},{"$f":"IF(I140=\"x\",0,IF(I140>0,I140,F140))","v":0},{"$f":"PRODUCT(L140,G140)","v":0},null,null,null,null,null,null,null,null,null,null,null,null,null,null,null,null,null,null,null,null,null,null,null,null,null,null,null,null,null,null,null,null,null,null,null,null,null,null,null,null,null,null,null,null,null,null,null,null,null,{"$f":"OLMi!P14","v":0},null,null,null,null,null,null,null,null,null,null,null,{"$f":"OLOst!P14","v":0}]
[null,{"$f":"Cen!A394","v":"Sada BI3, 600 mm"},{"$f":"Cen!B394","v":"ZSI.600BI3"},{"$f":"Cen!C394","v":"IG/G"},{"$f":"Cen!D394","v":0},0,{"$f":"Cen!F394","v":1820.6},0,null,{"$f":"Cen!I394","v":3700600},{"$f":"Cen!J394","v":"D671806"},0,0,null,null,null,null,null,null,null,null,null,null,null,null,null,null,null,null,null,null,null,null,null,null,null,null,null,null,null,null,null,null,null,null,null,null,null,null,null,null,null,null,null,null,null,null,null,null,null,null,null,{"$f":"OLMi!P15","v":0},null,null,null,null,null,null,null,null,null,null,null,{"$f":"OLOst!P15","v":0}]
[null,{"$f":"Cen!A395","v":"Sada BI3, 650 mm"},{"$f":"Cen!B395","v":"ZSI.650BI3"},{"$f":"Cen!C395","v":"IG/G"},{"$f":"Cen!D395","v":0},0,{"$f":"Cen!F395","v":2011.5},0,null,{"$f":"Cen!I395","v":3695500},{"$f":"Cen!J395","v":"D515262"},0,0,null,null,null,null,null,null,null,null,null,null,null,null,null,null,null,null,null,null,null,null,null,null,null,null,null,null,null,null,null,null,null,null,null,null,null,null,null,null,null,null,null,null,null,null,null,null,null,null,null,{"$f":"OLMi!P16","v":0},null,null,null,null,null,null,null,null,null,null,null,{"$f":"OLOst!P16","v":0}]
[null,{"$f":"Cen!A396","v":"Sada pro SPACE CORNER, NL 600mm"},{"$f":"Cen!B396","v":"ZSI.450BI3E"},{"$f":"Cen!C396","v":"IG/G"},{"$f":"Cen!D396","v":"!"},0,{"$f":"Cen!F396","v":0},0,null,{"$f":"Cen!I396","v":6700660},{"$f":"Cen!J396","v":"na dotaz"},0,0,null,null,null,null,null,null,null,null,null,null,null,null,null,null,null,null,null,null,null,null,null,null,null,null,null,null,null,null,null,null,null,null,null,null,null,null,null,null,null,null,null,null,null,null,null,null,null,null,null,{"$f":"OLMi!P31","v":0},null,null,null,null,null,null,null,null,null,null,null,{"$f":"OLOst!P17","v":0}]
[null,{"$f":"Cen!A397","v":"Sada pro SPACE CORNER, NL 650mm"},{"$f":"Cen!B397","v":"ZSI.500BI3E"},{"$f":"Cen!C397","v":"IG/G"},{"$f":"Cen!D397","v":0},0,{"$f":"Cen!F397","v":1461.5},0,null,{"$f":"Cen!I397","v":6700740},{"$f":"Cen!J397","v":"D368247"},0,0,null,null,null,null,null,null,null,null,null,null,null,null,null,null,null,null,null,null,null,null,null,null,null,null,null,null,null,null,null,null,null,null,null,null,null,null,null,null,null,null,null,null,null,null,null,null,null,null,null,{"$f":"OLMi!P32","v":0},null,null,null,null,null,null,null,null,null,null,null,{"$f":"OLOst!P18","v":0}]
[null,{"$f":"Cen!A398","v":"Sada pro korpus KB 600mm, NL 450mm"},{"$f":"Cen!B398","v":"ZSI.60VEI4"},{"$f":"Cen!C398","v":"IG/G"},{"$f":"Cen!D398","v":0},0,{"$f":"Cen!F398","v":1861.1},{"$f":"M145","v":0},null,{"$f":"Cen!I398","v":6742800},{"$f":"Cen!J398","v":"D422878"},{"$f":"IF(I145=\"x\",0,IF(I145>0,I145,F145))","v":0},{"$f":"PRODUCT(L145,G145)","v":0},null,null,null,null,null,null,null,null,null,null,null,null,null,null,null,null,null,null,null,null,null,null,null,null,null,null,null,null,null,null,null,null,null,null,null,null,null,null,null,null,null,null,null,null,null,null,null,null,null,{"$f":"OLMi!P22","v":0}]
[null,{"$f":"Cen!A399","v":"Sada pro korpus KB 600mm, NL 500mm"},{"$f":"Cen!B399","v":"ZSI.60VEI6"},{"$f":"Cen!C399","v":"IG/G"},{"$f":"Cen!D399","v":0},0,{"$f":"Cen!F399","v":2273.1},0,null,{"$f":"Cen!I399","v":6715400},{"$f":"Cen!J399","v":"D210095"},0,0,null,null,null,null,null,null,null,null,null,null,null,null,null,null,null,null,null,null,null,null,null,null,null,null,null,null,null,null,null,null,null,null,null,null,null,null,null,null,null,null,null,null,null,null,null,null,null,null,null,{"$f":"OLMi!P23","v":0}]
[null,{"$f":"Cen!A400","v":"Sada pro korpus KB 600mm, NL 550mm"},{"$f":"Cen!B400","v":"ZSI.60VEI7"},{"$f":"Cen!C400","v":"IG/G"},{"$f":"Cen!D400","v":0},0,{"$f":"Cen!F400","v":2630.5},{"$f":"M147","v":0},null,{"$f":"Cen!I400","v":6746140},{"$f":"Cen!J400","v":"D279776"},{"$f":"IF(I147=\"x\",0,IF(I147>0,I147,F147))","v":0},{"$f":"PRODUCT(L147,G147)","v":0},null,null,null,null,null,null,null,null,null,null,null,null,null,null,null,null,null,null,null,null,null,null,null,null,null,null,null,null,null,null,null,null,null,null,null,null,null,null,null,null,null,null,null,null,null,null,null,null,null,{"$f":"OLMi!P24","v":0}]
[null,{"$f":"Cen!A401","v":"Sada pro korpus KB 900mm, NL 450mm"},{"$f":"Cen!B401","v":"ZSI.90VEI4"},{"$f":"Cen!C401","v":"IG/G"},{"$f":"Cen!D401","v":0},0,{"$f":"Cen!F401","v":2558.9},0,null,{"$f":"Cen!I401","v":6745760},{"$f":"Cen!J401","v":"D300773"},0,0,null,null,null,null,null,null,null,null,null,null,null,null,null,null,null,null,null,null,null,null,null,null,null,null,null,null,null,null,null,null,null,null,null,null,null,null,null,null,null,null,null,null,null,null,null,null,null,null,null,{"$f":"OLMi!P25","v":0}]
[null,{"$f":"Cen!A402","v":"Sada pro korpus KB 900mm, NL 500mm"},{"$f":"Cen!B402","v":"ZSI.90VEI6"},{"$f":"Cen!C402","v":"IG/G"},{"$f":"Cen!D402","v":0},0,{"$f":"Cen!F402","v":3104.2},0,null,{"$f":"Cen!I402","v":6720400},{"$f":"Cen!J402","v":"D113801"},0,0,null,null,null,null,null,null,null,null,null,null,null,null,null,null,null,null,null,null,null,null,null,null,null,null,null,null,null,null,null,null,null,null,null,null,null,null,null,null,null,null,null,null,null,null,null,null,null,null,null,{"$f":"OLMi!P26","v":0}]
[null,{"$f":"Cen!A403","v":"Sada pro korpus KB 900mm, NL 550mm"},{"$f":"Cen!B403","v":"ZSI.90VEI7"},{"$f":"Cen!C403","v":"IG/G"},{"$f":"Cen!D403","v":0},0,{"$f":"Cen!F403","v":0},{"$f":"M150","v":0},null,{"$f":"Cen!I403","v":6745170},{"$f":"Cen!J403","v":"na dotaz"},{"$f":"IF(I150=\"x\",0,IF(I150>0,I150,F150))","v":0},{"$f":"PRODUCT(L150,G150)","v":0},null,null,null,null,null,null,null,null,null,null,null,null,null,null,null,null,null,null,null,null,null,null,null,null,null,null,null,null,null,null,null,null,null,null,null,null,null,null,null,null,null,null,null,null,null,null,null,null,null,{"$f":"OLMi!P27","v":0}]
[null,{"$f":"Cen!A404","v":"Sada pro korpus KB 1200mm, NL 450mm"},{"$f":"Cen!B404","v":"ZSI.12VEI4"},{"$f":"Cen!C404","v":"IG/G"},{"$f":"Cen!D404","v":0},0,{"$f":"Cen!F404","v":0},0,null,{"$f":"Cen!I404","v":6746200},{"$f":"Cen!J404","v":"na dotaz"},0,0,null,null,null,null,null,null,null,null,null,null,null,null,null,null,null,null,null,null,null,null,null,null,null,null,null,null,null,null,null,null,null,null,null,null,null,null,null,null,null,null,null,null,null,null,null,null,null,null,null,{"$f":"OLMi!P28","v":0}]
[null,{"$f":"Cen!A405","v":"Sada pro korpus KB 1200mm, NL 500mm"},{"$f":"Cen!B405","v":"ZSI.12VEI6"},{"$f":"Cen!C405","v":"IG/G"},{"$f":"Cen!D405","v":0},0,{"$f":"Cen!F405","v":3812.2},0,null,{"$f":"Cen!I405","v":6715770},{"$f":"Cen!J405","v":"D360896"},0,0,null,null,null,null,null,null,null,null,null,null,null,null,null,null,null,null,null,null,null,null,null,null,null,null,null,null,null,null,null,null,null,null,null,null,null,null,null,null,null,null,null,null,null,null,null,null,null,null,null,{"$f":"OLMi!P29","v":0}]
[null,{"$f":"Cen!A406","v":"Sada pro korpus KB 1200mm, NL 550mm"},{"$f":"Cen!B406","v":"ZSI.12VEI7"},{"$f":"Cen!C406","v":"IG/G"},{"$f":"Cen!D406","v":0},0,{"$f":"Cen!F406","v":0},{"$f":"M153","v":0},null,{"$f":"Cen!I406","v":6742660},{"$f":"Cen!J406","v":"na dotaz"},{"$f":"IF(I153=\"x\",0,IF(I153>0,I153,F153))","v":0},{"$f":"PRODUCT(L153,G153)","v":0},null,null,null,null,null,null,null,null,null,null,null,null,null,null,null,null,null,null,null,null,null,null,null,null,null,null,null,null,null,null,null,null,null,null,null,null,null,null,null,null,null,null,null,null,null,null,null,null,null,{"$f":"OLMi!P30","v":0}]
[null,{"$f":"Cen!A409","v":"Sada FI1, 450mm"},{"$f":"Cen!B409","v":"ZSI.450FI1"},{"$f":"Cen!C409","v":"IG/G"},{"$f":"Cen!D409","v":0},0,{"$f":"Cen!F409","v":0},0,null,{"$f":"Cen!I409","v":3696900},{"$f":"Cen!J409","v":"na dotaz"},0,0,null,null,null,null,null,null,null,null,null,null,null,null,null,null,null,null,null,null,null,null,null,null,null,null,null,null,null,null,null,null,null,null,null,null,null,null,null,null,null,null,null,null,null,null,null,null,null,null,null,null,{"$f":"OLRo!P7","v":0},null,null,null,null,null,null,null,null,null,null,{"$f":"OLOst!P19","v":0}]
[null,{"$f":"Cen!A410","v":"Sada FI1, 500mm"},{"$f":"Cen!B410","v":"ZSI.500FI1"},{"$f":"Cen!C410","v":"IG/G"},{"$f":"Cen!D410","v":0},0,{"$f":"Cen!F410","v":671.4},0,null,{"$f":"Cen!I410","v":3866780},{"$f":"Cen!J410","v":"D650049"},0,0,null,null,null,null,null,null,null,null,null,null,null,null,null,null,null,null,null,null,null,null,null,null,null,null,null,null,null,null,null,null,null,null,null,null,null,null,null,null,null,null,null,null,null,null,null,null,null,null,null,null,{"$f":"OLRo!P8","v":0},null,null,null,null,null,null,null,null,null,null,{"$f":"OLOst!P20","v":0}]
[null,{"$f":"Cen!A411","v":"Sada FI1, 550mm"},{"$f":"Cen!B411","v":"ZSI.550FI1"},{"$f":"Cen!C411","v":"IG/G"},{"$f":"Cen!D411","v":0},0,{"$f":"Cen!F411","v":0},{"$f":"M156","v":0},null,{"$f":"Cen!I411","v":3697200},{"$f":"Cen!J411","v":"na dotaz"},{"$f":"IF(I156=\"x\",0,IF(I156>0,I156,F156))","v":0},{"$f":"PRODUCT(L156,G156)","v":0},null,null,null,null,null,null,null,null,null,null,null,null,null,null,null,null,null,null,null,null,null,null,null,null,null,null,null,null,null,null,null,null,null,null,null,null,null,null,null,null,null,null,null,null,null,null,null,null,null,null,{"$f":"OLRo!P9","v":0},null,null,null,null,null,null,null,null,null,null,{"$f":"OLOst!P21","v":0}]
[null,{"$f":"Cen!A412","v":"Sada FI1, 600mm"},{"$f":"Cen!B412","v":"ZSI.600FI1"},{"$f":"Cen!C412","v":"IG/G"},{"$f":"Cen!D412","v":0},0,{"$f":"Cen!F412","v":0},0,null,{"$f":"Cen!I412","v":3867300},{"$f":"Cen!J412","v":"na dotaz"},0,0,null,null,null,null,null,null,null,null,null,null,null,null,null,null,null,null,null,null,null,null,null,null,null,null,null,null,null,null,null,null,null,null,null,null,null,null,null,null,null,null,null,null,null,null,null,null,null,null,null,null,{"$f":"OLRo!P10","v":0},null,null,null,null,null,null,null,null,null,null,{"$f":"OLOst!P22","v":0}]
[null,{"$f":"Cen!A413","v":"Sada FI1, 650mm"},{"$f":"Cen!B413","v":"ZSI.650FI1"},{"$f":"Cen!C413","v":"IG/G"},{"$f":"Cen!D413","v":0},0,{"$f":"Cen!F413","v":0},0,null,{"$f":"Cen!I413","v":3867080},{"$f":"Cen!J413","v":"na dotaz"},0,0,null,null,null,null,null,null,null,null,null,null,null,null,null,null,null,null,null,null,null,null,null,null,null,null,null,null,null,null,null,null,null,null,null,null,null,null,null,null,null,null,null,null,null,null,null,null,null,null,null,null,{"$f":"OLRo!P11","v":0},null,null,null,null,null,null,null,null,null,null,{"$f":"OLOst!P23","v":0}]
[null,{"$f":"Cen!A414","v":"Sada FI2, 450mm"},{"$f":"Cen!B414","v":"ZSI.450FI2N"},{"$f":"Cen!C414","v":"IG/G"},{"$f":"Cen!D414","v":0},0,{"$f":"Cen!F414","v":641.79999999999995},0,null,{"$f":"Cen!I414","v":6702360},{"$f":"Cen!J414","v":"D421696"},0,0,null,null,null,null,null,null,null,null,null,null,null,null,null,null,null,null,null,null,null,null,null,null,null,null,null,null,null,null,null,null,null,null,null,null,null,null,null,null,null,null,null,null,null,null,null,null,null,null,null,null,{"$f":"OLRo!P12","v":0},null,null,null,null,null,null,null,null,null,null,{"$f":"OLOst!P24","v":0}]
[null,{"$f":"Cen!A415","v":"Sada FI2, 500mm"},{"$f":"Cen!B415","v":"ZSI.500FI2N"},{"$f":"Cen!C415","v":"IG/G"},{"$f":"Cen!D415","v":0},0,{"$f":"Cen!F415","v":697.7},{"$f":"M160","v":0},null,{"$f":"Cen!I415","v":6702440},{"$f":"Cen!J415","v":"D190862"},0,0,null,null,null,null,null,null,null,null,null,null,null,null,null,null,null,null,null,null,null,null,null,null,null,null,null,null,null,null,null,null,null,null,null,null,null,null,null,null,null,null,null,null,null,null,null,null,null,null,null,null,{"$f":"OLRo!P13","v":0},null,null,null,null,null,null,null,null,null,null,{"$f":"OLOst!P25","v":0}]
[null,{"$f":"Cen!A416","v":"Sada FI2, 550mm"},{"$f":"Cen!B416","v":"ZSI.550FI2N"},{"$f":"Cen!C416","v":"IG/G"},{"$f":"Cen!D416","v":0},0,{"$f":"Cen!F416","v":0},{"$f":"M161","v":0},null,{"$f":"Cen!I416","v":6702280},{"$f":"Cen!J416","v":"na dotaz"},{"$f":"IF(I161=\"x\",0,IF(I161>0,I161,F161))","v":0},{"$f":"PRODUCT(L161,G161)","v":0},null,null,null,null,null,null,null,null,null,null,null,null,null,null,null,null,null,null,null,null,null,null,null,null,null,null,null,null,null,null,null,null,null,null,null,null,null,null,null,null,null,null,null,null,null,null,null,null,null,null,{"$f":"OLRo!P14","v":0},null,null,null,null,null,null,null,null,null,null,{"$f":"OLOst!P26","v":0}]
[null,{"$f":"Cen!A417","v":"Sada FI2, 600mm"},{"$f":"Cen!B417","v":"ZSI.600FI2N"},{"$f":"Cen!C417","v":"IG/G"},{"$f":"Cen!D417","v":0},0,{"$f":"Cen!F417","v":1174.7},0,null,{"$f":"Cen!I417","v":6701470},{"$f":"Cen!J417","v":"D634098"},0,0,null,null,null,null,null,null,null,null,null,null,null,null,null,null,null,null,null,null,null,null,null,null,null,null,null,null,null,null,null,null,null,null,null,null,null,null,null,null,null,null,null,null,null,null,null,null,null,null,null,null,{"$f":"OLRo!P15","v":0},null,null,null,null,null,null,null,null,null,null,{"$f":"OLOst!P27","v":0}]
[null,{"$f":"Cen!A418","v":"Sada FI2, 650mm"},{"$f":"Cen!B418","v":"ZSI.650FI2N"},{"$f":"Cen!C418","v":"IG/G"},{"$f":"Cen!D418","v":0},0,{"$f":"Cen!F418","v":1222.9000000000001},0,null,{"$f":"Cen!I418","v":6702100},{"$f":"Cen!J418","v":"D515265"},0,0,null,null,null,null,null,null,null,null,null,null,null,null,null,null,null,null,null,null,null,null,null,null,null,null,null,null,null,null,null,null,null,null,null,null,null,null,null,null,null,null,null,null,null,null,null,null,null,null,null,null,{"$f":"OLRo!P16","v":0},null,null,null,null,null,null,null,null,null,null,{"$f":"OLOst!P28","v":0}]
[null,{"$f":"Cen!A419","v":"Sada FI3, 450mm"},{"$f":"Cen!B419","v":"ZSI.450FI3"},{"$f":"Cen!C419","v":"IG/G"},{"$f":"Cen!D419","v":0},0,{"$f":"Cen!F419","v":935.1},0,null,{"$f":"Cen!I419","v":3696680},{"$f":"Cen!J419","v":"D376004"},0,0,null,null,null,null,null,null,null,null,null,null,null,null,null,null,null,null,null,null,null,null,null,null,null,null,null,null,null,null,null,null,null,null,null,null,null,null,null,null,null,null,null,null,null,null,null,null,null,null,null,null,{"$f":"OLRo!P17","v":0},null,null,null,null,null,null,null,null,null,null,{"$f":"OLOst!P29","v":0}]
[null,{"$f":"Cen!A420","v":"Sada FI3, 500mm"},{"$f":"Cen!B420","v":"ZSI.500FI3"},{"$f":"Cen!C420","v":"IG/G"},{"$f":"Cen!D420","v":0},0,{"$f":"Cen!F420","v":1019.1},0,null,{"$f":"Cen!I420","v":3866940},{"$f":"Cen!J420","v":"D123503"},0,0,null,null,null,null,null,null,null,null,null,null,null,null,null,null,null,null,null,null,null,null,null,null,null,null,null,null,null,null,null,null,null,null,null,null,null,null,null,null,null,null,null,null,null,null,null,null,null,null,null,null,{"$f":"OLRo!P18","v":0},null,null,null,null,null,null,null,null,null,null,{"$f":"OLOst!P30","v":0}]
[null,{"$f":"Cen!A421","v":"Sada FI3, 550mm"},{"$f":"Cen!B421","v":"ZSI.550FI3"},{"$f":"Cen!C421","v":"IG/G"},{"$f":"Cen!D421","v":0},0,{"$f":"Cen!F421","v":1281.7},{"$f":"M166","v":0},null,{"$f":"Cen!I421","v":3696840},{"$f":"Cen!J421","v":"D408279"},{"$f":"IF(I166=\"x\",0,IF(I166>0,I166,F166))","v":0},{"$f":"PRODUCT(L166,G166)","v":0},null,null,null,null,null,null,null,null,null,null,null,null,null,null,null,null,null,null,null,null,null,null,null,null,null,null,null,null,null,null,null,null,null,null,null,null,null,null,null,null,null,null,null,null,null,null,null,null,null,null,{"$f":"OLRo!P19","v":0},null,null,null,null,null,null,null,null,null,null,{"$f":"OLOst!P31","v":0}]
[null,{"$f":"Cen!A422","v":"Sada FI3, 600mm"},{"$f":"Cen!B422","v":"ZSI.600FI3"},{"$f":"Cen!C422","v":"IG/G"},{"$f":"Cen!D422","v":0},0,{"$f":"Cen!F422","v":1626.1},0,null,{"$f":"Cen!I422","v":3700890},{"$f":"Cen!J422","v":"D634099"},0,0,null,null,null,null,null,null,null,null,null,null,null,null,null,null,null,null,null,null,null,null,null,null,null,null,null,null,null,null,null,null,null,null,null,null,null,null,null,null,null,null,null,null,null,null,null,null,null,null,null,null,{"$f":"OLRo!P20","v":0},null,null,null,null,null,null,null,null,null,null,{"$f":"OLOst!P32","v":0}]
[null,{"$f":"Cen!A423","v":"Sada FI3, 650mm"},{"$f":"Cen!B423","v":"ZSI.650FI3"},{"$f":"Cen!C423","v":"IG/G"},{"$f":"Cen!D423","v":0},0,{"$f":"Cen!F423","v":1888.7},0,null,{"$f":"Cen!I423","v":3867240},{"$f":"Cen!J423","v":"D515266"},0,0,null,null,null,null,null,null,null,null,null,null,null,null,null,null,null,null,null,null,null,null,null,null,null,null,null,null,null,null,null,null,null,null,null,null,null,null,null,null,null,null,null,null,null,null,null,null,null,null,null,null,{"$f":"OLRo!P21","v":0},null,null,null,null,null,null,null,null,null,null,{"$f":"OLOst!P33","v":0}]
[null,{"$f":"Cen!A424","v":"Sada pro korpus KB 600mm, NL 450mm"},{"$f":"Cen!B424","v":"ZSI.60VUI4"},{"$f":"Cen!C424","v":"IG/G"},{"$f":"Cen!D424","v":0},0,{"$f":"Cen!F424","v":1813.7},0,null,{"$f":"Cen!I424","v":6748430},{"$f":"Cen!J424","v":"D500177"},0,0,null,null,null,null,null,null,null,null,null,null,null,null,null,null,null,null,null,null,null,null,null,null,null,null,null,null,null,null,null,null,null,null,null,null,null,null,null,null,null,null,null,null,null,null,null,null,null,null,null,null,{"$f":"OLRo!P22","v":0}]
[null,{"$f":"Cen!A425","v":"Sada pro korpus KB 600mm, NL 500mm"},{"$f":"Cen!B425","v":"ZSI.60VUI6"},{"$f":"Cen!C425","v":"IG/G"},{"$f":"Cen!D425","v":0},0,{"$f":"Cen!F425","v":2148.6},0,null,{"$f":"Cen!I425","v":6747970},{"$f":"Cen!J425","v":"D194784"},0,0,null,null,null,null,null,null,null,null,null,null,null,null,null,null,null,null,null,null,null,null,null,null,null,null,null,null,null,null,null,null,null,null,null,null,null,null,null,null,null,null,null,null,null,null,null,null,null,null,null,null,{"$f":"OLRo!P23","v":0}]
[null,{"$f":"Cen!A426","v":"Sada pro korpus KB 600mm, NL 550mm"},{"$f":"Cen!B426","v":"ZSI.60VUI7"},{"$f":"Cen!C426","v":"IG/G"},{"$f":"Cen!D426","v":0},0,{"$f":"Cen!F426","v":0},{"$f":"M171","v":0},null,{"$f":"Cen!I426","v":6747890},{"$f":"Cen!J426","v":"na dotaz"},{"$f":"IF(I171=\"x\",0,IF(I171>0,I171,F171))","v":0},{"$f":"PRODUCT(L171,G171)","v":0},null,null,null,null,null,null,null,null,null,null,null,null,null,null,null,null,null,null,null,null,null,null,null,null,null,null,null,null,null,null,null,null,null,null,null,null,null,null,null,null,null,null,null,null,null,null,null,null,null,null,{"$f":"OLRo!P24","v":0}]
[null,{"$f":"Cen!A427","v":"Sada pro korpus KB 900mm, NL 450 mm"},{"$f":"Cen!B427","v":"ZSI.90VUI4"},{"$f":"Cen!C427","v":"IG/G"},{"$f":"Cen!D427","v":0},0,{"$f":"Cen!F427","v":2558.9},0,null,{"$f":"Cen!I427","v":6745760},{"$f":"Cen!J427","v":"D300773"},0,0,null,null,null,null,null,null,null,null,null,null,null,null,null,null,null,null,null,null,null,null,null,null,null,null,null,null,null,null,null,null,null,null,null,null,null,null,null,null,null,null,null,null,null,null,null,null,null,null,null,null,{"$f":"OLRo!P25","v":0}]
[null,{"$f":"Cen!A428","v":"Sada pro korpus KB 900mm, NL 500 mm"},{"$f":"Cen!B428","v":"ZSI.90VUI6"},{"$f":"Cen!C428","v":"IG/G"},{"$f":"Cen!D428","v":0},0,{"$f":"Cen!F428","v":2894},0,null,{"$f":"Cen!I428","v":6751060},{"$f":"Cen!J428","v":"D315682"},0,0,null,null,null,null,null,null,null,null,null,null,null,null,null,null,null,null,null,null,null,null,null,null,null,null,null,null,null,null,null,null,null,null,null,null,null,null,null,null,null,null,null,null,null,null,null,null,null,null,null,null,{"$f":"OLRo!P26","v":0}]
[null,{"$f":"Cen!A429","v":"Sada pro korpus KB 900mm, NL 550 mm"},{"$f":"Cen!B429","v":"ZSI.90VUI7"},{"$f":"Cen!C429","v":"IG/G"},{"$f":"Cen!D429","v":0},0,{"$f":"Cen!F429","v":0},{"$f":"M174","v":0},null,{"$f":"Cen!I429","v":6745170},{"$f":"Cen!J429","v":"na dotaz"},{"$f":"IF(I174=\"x\",0,IF(I174>0,I174,F174))","v":0},{"$f":"PRODUCT(L174,G174)","v":0},null,null,null,null,null,null,null,null,null,null,null,null,null,null,null,null,null,null,null,null,null,null,null,null,null,null,null,null,null,null,null,null,null,null,null,null,null,null,null,null,null,null,null,null,null,null,null,null,null,null,{"$f":"OLRo!P27","v":0}]
[null,{"$f":"Cen!A430","v":"Sada pro korpus KB 1200mm, NL 450mm"},{"$f":"Cen!B430","v":"ZSI.12VUI4"},{"$f":"Cen!C430","v":"IG/G"},{"$f":"Cen!D430","v":0},0,{"$f":"Cen!F430","v":0},0,null,{"$f":"Cen!I430","v":6750170},{"$f":"Cen!J430","v":"na dotaz"},0,0,null,null,null,null,null,null,null,null,null,null,null,null,null,null,null,null,null,null,null,null,null,null,null,null,null,null,null,null,null,null,null,null,null,null,null,null,null,null,null,null,null,null,null,null,null,null,null,null,null,null,{"$f":"OLRo!P28","v":0}]
[null,{"$f":"Cen!A431","v":"Sada pro korpus KB 1200mm, NL 500mm"},{"$f":"Cen!B431","v":"ZSI.12VUI6"},{"$f":"Cen!C431","v":"IG/G"},{"$f":"Cen!D431","v":0},0,{"$f":"Cen!F431","v":3193.3},0,null,{"$f":"Cen!I431","v":6749830},{"$f":"Cen!J431","v":"D220807"},0,0,null,null,null,null,null,null,null,null,null,null,null,null,null,null,null,null,null,null,null,null,null,null,null,null,null,null,null,null,null,null,null,null,null,null,null,null,null,null,null,null,null,null,null,null,null,null,null,null,null,null,{"$f":"OLRo!P29","v":0}]
[null,{"$f":"Cen!A432","v":"Sada pro korpus KB 1200mm, NL 550mm"},{"$f":"Cen!B432","v":"ZSI.12VUI7"},{"$f":"Cen!C432","v":"IG/G"},{"$f":"Cen!D432","v":0},0,{"$f":"Cen!F432","v":0},{"$f":"M177","v":0},null,{"$f":"Cen!I432","v":6750900},{"$f":"Cen!J432","v":"na dotaz"},{"$f":"IF(I177=\"x\",0,IF(I177>0,I177,F177))","v":0},{"$f":"PRODUCT(L177,G177)","v":0},null,null,null,null,null,null,null,null,null,null,null,null,null,null,null,null,null,null,null,null,null,null,null,null,null,null,null,null,null,null,null,null,null,null,null,null,null,null,null,null,null,null,null,null,null,null,null,null,null,null,{"$f":"OLRo!P30","v":0}]
[null,{"$f":"Cen!A435","v":"Sada KI2, 450mm"},{"$f":"Cen!B435","v":"ZSI.450KI2N"},{"$f":"Cen!C435","v":"IG/G"},{"$f":"Cen!D435","v":0},0,{"$f":"Cen!F435","v":1039.5999999999999},0,null,{"$f":"Cen!I435","v":6698150},{"$f":"Cen!J435","v":"D571634"},0,0,null,null,null,null,null,null,null,null,null,null,null,null,null,null,null,null,null,null,null,null,null,null,null,null,null,null,null,null,null,null,null,null,null,null,null,null,null,null,null,null,null,null,null,null,null,null,null,null,null,null,{"$f":"OLRo!P31","v":0},null,null,null,null,null,null,null,null,null,null,{"$f":"OLOst!P34","v":0}]
[null,{"$f":"Cen!A436","v":"Sada KI2, 500mm"},{"$f":"Cen!B436","v":"ZSI.500KI2N"},{"$f":"Cen!C436","v":"IG/G"},{"$f":"Cen!D436","v":0},0,{"$f":"Cen!F436","v":1221},0,null,{"$f":"Cen!I436","v":6700580},{"$f":"Cen!J436","v":"D187456"},0,0,null,null,null,null,null,null,null,null,null,null,null,null,null,null,null,null,null,null,null,null,null,null,null,null,null,null,null,null,null,null,null,null,null,null,null,null,null,null,null,null,null,null,null,null,null,null,null,null,null,null,{"$f":"OLRo!P32","v":0},null,null,null,null,null,null,null,null,null,null,{"$f":"OLOst!P35","v":0}]
[null,{"$f":"Cen!A437","v":"Sada KI2, 550mm"},{"$f":"Cen!B437","v":"ZSI.550KI2N"},{"$f":"Cen!C437","v":"IG/G"},{"$f":"Cen!D437","v":0},0,{"$f":"Cen!F437","v":0},{"$f":"M180","v":0},null,{"$f":"Cen!I437","v":6700150},{"$f":"Cen!J437","v":"na dotaz"},{"$f":"IF(I180=\"x\",0,IF(I180>0,I180,F180))","v":0},{"$f":"PRODUCT(L180,G180)","v":0},null,null,null,null,null,null,null,null,null,null,null,null,null,null,null,null,null,null,null,null,null,null,null,null,null,null,null,null,null,null,null,null,null,null,null,null,null,null,null,null,null,null,null,null,null,null,null,null,null,null,{"$f":"OLRo!P33","v":0},null,null,null,null,null,null,null,null,null,null,{"$f":"OLOst!P36","v":0}]
[null,{"$f":"Cen!A438","v":"Sada KI2, 600mm"},{"$f":"Cen!B438","v":"ZSI.600KI2N"},{"$f":"Cen!C438","v":"IG/G"},{"$f":"Cen!D438","v":0},0,{"$f":"Cen!F438","v":0},0,null,{"$f":"Cen!I438","v":6699390},{"$f":"Cen!J438","v":"na dotaz"},0,0,null,null,null,null,null,null,null,null,null,null,null,null,null,null,null,null,null,null,null,null,null,null,null,null,null,null,null,null,null,null,null,null,null,null,null,null,null,null,null,null,null,null,null,null,null,null,null,null,null,null,{"$f":"OLRo!P34","v":0},null,null,null,null,null,null,null,null,null,null,{"$f":"OLOst!P37","v":0}]
[null,{"$f":"Cen!A439","v":"Sada KI2, 650mm"},{"$f":"Cen!B439","v":"ZSI.650KI2N"},{"$f":"Cen!C439","v":"IG/G"},{"$f":"Cen!D439","v":0},0,{"$f":"Cen!F439","v":0},0,null,{"$f":"Cen!I439","v":6701100},{"$f":"Cen!J439","v":"na dotaz"},0,0,null,null,null,null,null,null,null,null,null,null,null,null,null,null,null,null,null,null,null,null,null,null,null,null,null,null,null,null,null,null,null,null,null,null,null,null,null,null,null,null,null,null,null,null,null,null,null,null,null,null,{"$f":"OLRo!P35","v":0},null,null,null,null,null,null,null,null,null,null,{"$f":"OLOst!P38","v":0}]
[null,{"$f":"Cen!A440","v":"Sada KI3, 450mm"},{"$f":"Cen!B440","v":"ZSI.450KI3N"},{"$f":"Cen!C440","v":"IG/G"},{"$f":"Cen!D440","v":0},0,{"$f":"Cen!F440","v":1065.9000000000001},0,null,{"$f":"Cen!I440","v":6700800},{"$f":"Cen!J440","v":"D543207"},0,0,null,null,null,null,null,null,null,null,null,null,null,null,null,null,null,null,null,null,null,null,null,null,null,null,null,null,null,null,null,null,null,null,null,null,null,null,null,null,null,null,null,null,null,null,null,null,null,null,null,null,{"$f":"OLRo!P36","v":0},null,null,null,null,null,null,null,null,null,null,{"$f":"OLOst!P39","v":0}]
[null,{"$f":"Cen!A441","v":"Sada KI3, 500mm"},{"$f":"Cen!B441","v":"ZSI.500KI3N"},{"$f":"Cen!C441","v":"IG/G"},{"$f":"Cen!D441","v":0},0,{"$f":"Cen!F441","v":1247.4000000000001},0,null,{"$f":"Cen!I441","v":6701390},{"$f":"Cen!J441","v":"D471253"},0,0,null,null,null,null,null,null,null,null,null,null,null,null,null,null,null,null,null,null,null,null,null,null,null,null,null,null,null,null,null,null,null,null,null,null,null,null,null,null,null,null,null,null,null,null,null,null,null,null,null,null,{"$f":"OLRo!P37","v":0},null,null,null,null,null,null,null,null,null,null,{"$f":"OLOst!P40","v":0}]
[null,{"$f":"Cen!A442","v":"Sada KI3, 550mm"},{"$f":"Cen!B442","v":"ZSI.550KI3N"},{"$f":"Cen!C442","v":"IG/G"},{"$f":"Cen!D442","v":0},0,{"$f":"Cen!F442","v":1507.9},{"$f":"M185","v":0},null,{"$f":"Cen!I442","v":6701980},{"$f":"Cen!J442","v":"D408280"},{"$f":"IF(I185=\"x\",0,IF(I185>0,I185,F185))","v":0},{"$f":"PRODUCT(L185,G185)","v":0},null,null,null,null,null,null,null,null,null,null,null,null,null,null,null,null,null,null,null,null,null,null,null,null,null,null,null,null,null,null,null,null,null,null,null,null,null,null,null,null,null,null,null,null,null,null,null,null,null,null,{"$f":"OLRo!P38","v":0},null,null,null,null,null,null,null,null,null,null,{"$f":"OLOst!P41","v":0}]
[null,{"$f":"Cen!A443","v":"Sada KI3, 600mm"},{"$f":"Cen!B443","v":"ZSI.600KI3N"},{"$f":"Cen!C443","v":"IG/G"},{"$f":"Cen!D443","v":0},0,{"$f":"Cen!F443","v":0},0,null,{"$f":"Cen!I443","v":6701800},{"$f":"Cen!J443","v":"na dotaz"},0,0,null,null,null,null,null,null,null,null,null,null,null,null,null,null,null,null,null,null,null,null,null,null,null,null,null,null,null,null,null,null,null,null,null,null,null,null,null,null,null,null,null,null,null,null,null,null,null,null,null,null,{"$f":"OLRo!P39","v":0},null,null,null,null,null,null,null,null,null,null,{"$f":"OLOst!P42","v":0}]
[null,{"$f":"Cen!A444","v":"Sada KI3, 650mm"},{"$f":"Cen!B444","v":"ZSI.650KI3N"},{"$f":"Cen!C444","v":"IG/G"},{"$f":"Cen!D444","v":0},0,{"$f":"Cen!F444","v":0},0,null,{"$f":"Cen!I444","v":6702790},{"$f":"Cen!J444","v":"na dotaz"},0,0,null,null,null,null,null,null,null,null,null,null,null,null,null,null,null,null,null,null,null,null,null,null,null,null,null,null,null,null,null,null,null,null,null,null,null,null,null,null,null,null,null,null,null,null,null,null,null,null,null,null,{"$f":"OLRo!P40","v":0},null,null,null,null,null,null,null,null,null,null,{"$f":"OLOst!P43","v":0}]
[null,{"$f":"Cen!A445","v":"Sada KI4, 450mm"},{"$f":"Cen!B445","v":"ZSI.450KI4N"},{"$f":"Cen!C445","v":"IG/G"},{"$f":"Cen!D445","v":0},0,{"$f":"Cen!F445","v":1451.7},0,null,{"$f":"Cen!I445","v":6701630},{"$f":"Cen!J445","v":"D391337"},0,0,null,null,null,null,null,null,null,null,null,null,null,null,null,null,null,null,null,null,null,null,null,null,null,null,null,null,null,null,null,null,null,null,null,null,null,null,null,null,null,null,null,null,null,null,null,null,null,null,null,{"$f":"OLMi!P17","v":0},null,null,null,null,null,null,null,null,null,null,null,{"$f":"OLOst!P44","v":0}]
[null,{"$f":"Cen!A446","v":"Sada KI4, 500mm"},{"$f":"Cen!B446","v":"ZSI.500KI4"},{"$f":"Cen!C446","v":"IG/G"},{"$f":"Cen!D446","v":0},0,{"$f":"Cen!F446","v":1738.3},0,null,{"$f":"Cen!I446","v":3777170},{"$f":"Cen!J446","v":"D277937"},0,0,null,null,null,null,null,null,null,null,null,null,null,null,null,null,null,null,null,null,null,null,null,null,null,null,null,null,null,null,null,null,null,null,null,null,null,null,null,null,null,null,null,null,null,null,null,null,null,null,null,{"$f":"OLMi!P18","v":0},null,null,null,null,null,null,null,null,null,null,null,{"$f":"OLOst!P45","v":0}]
[null,{"$f":"Cen!A447","v":"Sada KI4, 550mm"},{"$f":"Cen!B447","v":"ZSI.550KI4"},{"$f":"Cen!C447","v":"IG/G"},{"$f":"Cen!D447","v":0},0,{"$f":"Cen!F447","v":2010.2},{"$f":"M190","v":0},null,{"$f":"Cen!I447","v":3777680},{"$f":"Cen!J447","v":"D408281"},{"$f":"IF(I190=\"x\",0,IF(I190>0,I190,F190))","v":0},{"$f":"PRODUCT(L190,G190)","v":0},null,null,null,null,null,null,null,null,null,null,null,null,null,null,null,null,null,null,null,null,null,null,null,null,null,null,null,null,null,null,null,null,null,null,null,null,null,null,null,null,null,null,null,null,null,null,null,null,null,{"$f":"OLMi!P19","v":0},null,null,null,null,null,null,null,null,null,null,null,{"$f":"OLOst!P46","v":0}]
[null,{"$f":"Cen!A448","v":"Sada KI4, 600mm"},{"$f":"Cen!B448","v":"ZSI.600KI4"},{"$f":"Cen!C448","v":"IG/G"},{"$f":"Cen!D448","v":0},0,{"$f":"Cen!F448","v":0},0,null,{"$f":"Cen!I448","v":3890730},{"$f":"Cen!J448","v":"na dotaz"},0,0,null,null,null,null,null,null,null,null,null,null,null,null,null,null,null,null,null,null,null,null,null,null,null,null,null,null,null,null,null,null,null,null,null,null,null,null,null,null,null,null,null,null,null,null,null,null,null,null,null,{"$f":"OLMi!P20","v":0},null,null,null,null,null,null,null,null,null,null,null,{"$f":"OLOst!P47","v":0}]
[null,{"$f":"Cen!A449","v":"Sada KI4, 650mm"},{"$f":"Cen!B449","v":"ZSI.650KI4"},{"$f":"Cen!C449","v":"IG/G"},{"$f":"Cen!D449","v":0},0,{"$f":"Cen!F449","v":0},0,null,{"$f":"Cen!I449","v":3865890},{"$f":"Cen!J449","v":"na dotaz"},0,0,null,null,null,null,null,null,null,null,null,null,null,null,null,null,null,null,null,null,null,null,null,null,null,null,null,null,null,null,null,null,null,null,null,null,null,null,null,null,null,null,null,null,null,null,null,null,null,null,null,{"$f":"OLMi!P21","v":0},null,null,null,null,null,null,null,null,null,null,null,{"$f":"OLOst!P48","v":0}]
[null,{"$f":"Cen!A450","v":"Sada MI3, 450mm"},{"$f":"Cen!B450","v":"ZSI.450MI2"},{"$f":"Cen!C450","v":"IG/G"},{"$f":"Cen!D450","v":0},0,{"$f":"Cen!F450","v":0},0,null,{"$f":"Cen!I450","v":3776500},{"$f":"Cen!J450","v":"na dotaz"},0,0,null,null,null,null,null,null,null,null,null,null,null,null,null,null,null,null,null,null,null,null,null,null,null,null,null,null,null,null,null,null,null,null,null,null,null,null,null,null,null,null,null,null,null,null,null,null,null,null,null,null,{"$f":"OLRo!P41","v":0},null,null,null,null,null,null,null,null,null,null,{"$f":"OLOst!P49","v":0}]
[null,{"$f":"Cen!A451","v":"Sada MI3, 500mm"},{"$f":"Cen!B451","v":"ZSI.500MI3"},{"$f":"Cen!C451","v":"IG/G"},{"$f":"Cen!D451","v":0},0,{"$f":"Cen!F451","v":1867.6},0,null,{"$f":"Cen!I451","v":3777090},{"$f":"Cen!J451","v":"D113798"},0,0,null,null,null,null,null,null,null,null,null,null,null,null,null,null,null,null,null,null,null,null,null,null,null,null,null,null,null,null,null,null,null,null,null,null,null,null,null,null,null,null,null,null,null,null,null,null,null,null,null,null,{"$f":"OLRo!P42","v":0},null,null,null,null,null,null,null,null,null,null,{"$f":"OLOst!P50","v":0}]
[null,{"$f":"Cen!A452","v":"Sada MI3, 550mm"},{"$f":"Cen!B452","v":"ZSI.550MI3"},{"$f":"Cen!C452","v":"IG/G"},{"$f":"Cen!D452","v":0},0,{"$f":"Cen!F452","v":2215.6},{"$f":"M195","v":0},null,{"$f":"Cen!I452","v":3777500},{"$f":"Cen!J452","v":"D408283"},{"$f":"IF(I195=\"x\",0,IF(I195>0,I195,F195))","v":0},{"$f":"PRODUCT(L195,G195)","v":0},null,null,null,null,null,null,null,null,null,null,null,null,null,null,null,null,null,null,null,null,null,null,null,null,null,null,null,null,null,null,null,null,null,null,null,null,null,null,null,null,null,null,null,null,null,null,null,null,null,null,{"$f":"OLRo!P43","v":0},null,null,null,null,null,null,null,null,null,null,{"$f":"OLOst!P51","v":0}]
[null,{"$f":"Cen!A453","v":"Sada MI3, 600mm"},{"$f":"Cen!B453","v":"ZSI.600MI3"},{"$f":"Cen!C453","v":"IG/G"},{"$f":"Cen!D453","v":0},0,{"$f":"Cen!F453","v":2568.9},0,null,{"$f":"Cen!I453","v":3890650},{"$f":"Cen!J453","v":"D628507"},0,0,null,null,null,null,null,null,null,null,null,null,null,null,null,null,null,null,null,null,null,null,null,null,null,null,null,null,null,null,null,null,null,null,null,null,null,null,null,null,null,null,null,null,null,null,null,null,null,null,null,null,{"$f":"OLRo!P44","v":0},null,null,null,null,null,null,null,null,null,null,{"$f":"OLOst!P52","v":0}]
[null,{"$f":"Cen!A454","v":"Sada MI3, 650mm"},{"$f":"Cen!B454","v":"ZSI.650MI3"},{"$f":"Cen!C454","v":"IG/G"},{"$f":"Cen!D454","v":0},0,{"$f":"Cen!F454","v":0},0,null,{"$f":"Cen!I454","v":3865600},{"$f":"Cen!J454","v":"na dotaz"},0,0,null,null,null,null,null,null,null,null,null,null,null,null,null,null,null,null,null,null,null,null,null,null,null,null,null,null,null,null,null,null,null,null,null,null,null,null,null,null,null,null,null,null,null,null,null,null,null,null,null,null,{"$f":"OLRo!P45","v":0},null,null,null,null,null,null,null,null,null,null,{"$f":"OLOst!P53","v":0}]
[null,{"$f":"Cen!A457","v":"Miska 88x88mm"},{"$f":"Cen!B457","v":"ZSI.010SI"},{"$f":"Cen!C457","v":"IG/G"},{"$f":"Cen!D457","v":0},0,{"$f":"Cen!F457","v":93.3},0,null,{"$f":"Cen!I457","v":5726900},{"$f":"Cen!J457","v":"D384520"},0,0,null,null,null,null,null,null,null,null,null,null,null,null,null,null,null,null,null,null,null,null,null,null,null,null,null,null,null,null,null,null,null,null,null,null,null,null,null,null,null,null,null,null,null,null,null,null,null,null,null,null,null,null,null,null,null,null,null,null,null,null,null,{"$f":"OLOst!P56","v":0}]
[null,{"$f":"Cen!A458","v":"Miska 88x176mm"},{"$f":"Cen!B458","v":"ZSI.020SI"},{"$f":"Cen!C458","v":"IG/G"},{"$f":"Cen!D458","v":0},0,{"$f":"Cen!F458","v":113.4},0,null,{"$f":"Cen!I458","v":5728380},{"$f":"Cen!J458","v":"D136150"},0,0,null,null,null,null,null,null,null,null,null,null,null,null,null,null,null,null,null,null,null,null,null,null,null,null,null,null,null,null,null,null,null,null,null,null,null,null,null,null,null,null,null,null,null,null,null,null,null,null,null,null,null,null,null,null,null,null,null,null,null,null,null,{"$f":"OLOst!P57","v":0}]
[null,{"$f":"Cen!A459","v":"Miska 88x264mm"},{"$f":"Cen!B459","v":"ZSI.030SI"},{"$f":"Cen!C459","v":"IG/G"},{"$f":"Cen!D459","v":0},0,{"$f":"Cen!F459","v":129.4},0,null,{"$f":"Cen!I459","v":5729510},{"$f":"Cen!J459","v":"D136151"},0,0,null,null,null,null,null,null,null,null,null,null,null,null,null,null,null,null,null,null,null,null,null,null,null,null,null,null,null,null,null,null,null,null,null,null,null,null,null,null,null,null,null,null,null,null,null,null,null,null,null,null,null,null,null,null,null,null,null,null,null,null,null,{"$f":"OLOst!P58","v":0}]
[null,{"$f":"Cen!A460","v":"Miska 88x352mm"},{"$f":"Cen!B460","v":"ZSI.040SI"},{"$f":"Cen!C460","v":"IG/G"},{"$f":"Cen!D460","v":0},0,{"$f":"Cen!F460","v":210.1},0,null,{"$f":"Cen!I460","v":5729780},{"$f":"Cen!J460","v":"D383080"},0,0,null,null,null,null,null,null,null,null,null,null,null,null,null,null,null,null,null,null,null,null,null,null,null,null,null,null,null,null,null,null,null,null,null,null,null,null,null,null,null,null,null,null,null,null,null,null,null,null,null,null,null,null,null,null,null,null,null,null,null,null,null,{"$f":"OLOst!P59","v":0}]
[null,{"$f":"Cen!A461","v":"Příčný dělící prvek 88mm"},{"$f":"Cen!B461","v":"ZSI.010Q"},{"$f":"Cen!C461","v":"R737"},{"$f":"Cen!D461","v":0},0,{"$f":"Cen!F461","v":32.700000000000003},0,null,{"$f":"Cen!I461","v":6070030},{"$f":"Cen!J461","v":"D364536"},0,0,null,null,null,null,null,null,null,null,null,null,null,null,null,null,null,null,null,null,null,null,null,null,null,null,null,null,null,null,null,null,null,null,null,null,null,null,null,null,null,null,null,null,null,null,null,null,null,null,null,null,null,null,null,null,null,null,null,null,null,null,null,{"$f":"OLOst!P60","v":0}]
[null,{"$f":"Cen!A462","v":"Příčný dělící prvek 176mm"},{"$f":"Cen!B462","v":"ZSI.020Q"},{"$f":"Cen!C462","v":"R737"},{"$f":"Cen!D462","v":0},{"$f":"IF(I203>0,I203,SUM(N203:BZ203))","v":0},{"$f":"Cen!F462","v":49.1},0,null,{"$f":"Cen!I462","v":6070200},{"$f":"Cen!J462","v":"D364537"},0,0,null,null,null,null,null,null,null,null,null,null,null,null,null,null,null,null,null,null,null,null,null,null,null,null,null,null,null,null,null,null,null,null,null,null,null,null,null,null,null,null,null,null,null,null,null,null,null,null,null,null,null,null,null,null,null,null,null,null,null,null,null,{"$f":"OLOst!P61","v":0}]
[null,{"$f":"Cen!A466","v":"Příčka ke zkrácení, KB 300mm, šedá"},{"$f":"Cen!B466","v":"Z40L177A"},{"$f":"Cen!C466","v":"R906"},{"$f":"Cen!D466","v":0},0,{"$f":"Cen!F466","v":147.4},0,null,{"$f":"Cen!I466","v":8860753},{"$f":"Cen!J466","v":"D472707"},0,0,null,null,null,null,null,null,null,null,null,null,null,null,null,null,null,null,null,null,null,null,null,null,null,null,null,null,null,null,null,null,null,null,null,null,null,null,null,null,null,null,null,null,null,null,null,null,null,null,null,null,null,{"$f":"'OLP1'!P2","v":0},{"$f":"'OLP2'!P2","v":0},null,{"$f":"OLVMP!P2","v":0},{"$f":"OLKMP!P2","v":0},{"$f":"OLKo!P2","v":0},{"$f":"OLVM!P2","v":0},{"$f":"OLVa!P2","v":0}]
[null,{"$f":"Cen!A470","v":"Příčka ke zkrácení, KB 600mm, šedá"},{"$f":"Cen!B470","v":"Z40L477A"},{"$f":"Cen!C470","v":"R906"},{"$f":"Cen!D470","v":0},0,{"$f":"Cen!F470","v":185.7},0,null,{"$f":"Cen!I470","v":1652924},{"$f":"Cen!J470","v":"D472710"},0,0,null,null,null,null,null,null,null,null,null,null,null,null,null,null,null,null,null,null,null,null,null,null,null,null,null,null,null,null,null,null,null,null,null,null,null,null,null,null,null,null,null,null,null,null,null,null,null,null,null,null,null,{"$f":"'OLP1'!P3","v":0},{"$f":"'OLP2'!P3","v":0},null,{"$f":"OLVMP!P3","v":0},{"$f":"OLKMP!P3","v":0},{"$f":"OLKo!P3","v":0}]
[null,{"$f":"Cen!A474","v":"Příčka ke zkrácení, KB 900mm, šedá"},{"$f":"Cen!B474","v":"Z40L777A"},{"$f":"Cen!C474","v":"R906"},{"$f":"Cen!D474","v":0},0,{"$f":"Cen!F474","v":272.7},0,null,{"$f":"Cen!I474","v":8237194},{"$f":"Cen!J474","v":"D472713"},0,0,null,null,null,null,null,null,null,null,null,null,null,null,null,null,null,null,null,null,null,null,null,null,null,null,null,null,null,null,null,null,null,null,null,null,null,null,null,null,null,null,null,null,null,null,null,null,null,null,null,null,null,{"$f":"'OLP1'!P4","v":0},{"$f":"'OLP2'!P4","v":0},null,{"$f":"OLVMP!P4","v":0},{"$f":"OLKMP!P4","v":0},{"$f":"OLKo!P4","v":0}]
[null,{"$f":"Cen!A478","v":"Příčka ke zkrácení, KB 1200mm, šedá"},{"$f":"Cen!B478","v":"Z40L1077A"},{"$f":"Cen!C478","v":"R906"},{"$f":"Cen!D478","v":0},0,{"$f":"Cen!F478","v":426.5},0,null,{"$f":"Cen!I478","v":8113610},{"$f":"Cen!J478","v":"D472716"},0,0,null,null,null,null,null,null,null,null,null,null,null,null,null,null,null,null,null,null,null,null,null,null,null,null,null,null,null,null,null,null,null,null,null,null,null,null,null,null,null,null,null,null,null,null,null,null,null,null,null,null,null,{"$f":"'OLP1'!P5","v":0},{"$f":"'OLP2'!P5","v":0},null,{"$f":"OLVMP!P5","v":0},{"$f":"OLKMP!P5","v":0},{"$f":"OLKo!P5","v":0}]
[null,{"$f":"Cen!A483","v":"Koncovka pro příčku, pro reling, D, bílošedá"},{"$f":"Cen!B483","v":"Z40D0002Z"},{"$f":"Cen!C483","v":"WGR"},{"$f":"Cen!D483","v":0},0,{"$f":"Cen!F483","v":47.1},0,null,{"$f":"Cen!I483","v":5716290},{"$f":"Cen!J483","v":"D472691"},0,0,null,null,null,null,null,null,null,null,null,null,null,null,null,null,null,null,null,null,null,null,null,null,null,null,null,null,null,null,null,null,null,null,null,null,null,null,null,null,null,null,null,null,null,null,null,null,null,null,null,null,null,{"$f":"'OLP1'!P6","v":0},{"$f":"'OLP2'!P6","v":0},null,{"$f":"OLVMP!P6","v":0},{"$f":"OLKMP!P6","v":0},{"$f":"OLKo!P6","v":0},{"$f":"OLVM!P3","v":0},{"$f":"OLVa!P3","v":0}]
[null,{"$f":"Cen!A487","v":"Koncovka pro příčku, pro reling, C, bílošedá"},{"$f":"Cen!B487","v":"Z40C0002Z"},{"$f":"Cen!C487","v":"WGR"},{"$f":"Cen!D487","v":0},0,{"$f":"Cen!F487","v":43.5},0,null,{"$f":"Cen!I487","v":1332165},{"$f":"Cen!J487","v":"D512416"},{"$f":"IF(I209=\"x\",0,IF(I209>0,I209,F209))","v":0},{"$f":"PRODUCT(L209,G209)","v":0},null,null,null,null,null,null,null,null,null,null,null,null,null,null,null,null,null,null,null,null,null,null,null,null,null,null,null,null,null,null,null,null,null,null,null,null,null,null,null,null,null,null,null,null,null,null,null,null,null,null,null,{"$f":"'OLP1'!P7","v":0},{"$f":"'OLP2'!P7","v":0},null,{"$f":"OLVMP!P7","v":0},{"$f":"OLKMP!P7","v":0},{"$f":"OLKo!P7","v":0},{"$f":"OLVM!P4","v":0},{"$f":"OLVa!P4","v":0}]
[null,{"$f":"Cen!A491","v":"Koncovka pro příčku, pro mezistěnu, bílošedá"},{"$f":"Cen!B491","v":"Z40L0002"},{"$f":"Cen!C491","v":"WGR"},{"$f":"Cen!D491","v":0},0,{"$f":"Cen!F491","v":47.1},0,null,{"$f":"Cen!I491","v":8113856},{"$f":"Cen!J491","v":"D512419"},0,0,null,null,null,null,null,null,null,null,null,null,null,null,null,null,null,null,null,null,null,null,null,null,null,null,null,null,null,null,null,null,null,null,null,null,null,null,null,null,null,null,null,null,null,null,null,null,null,null,null,null,null,null,null,null,{"$f":"OLVMP!P8","v":0},{"$f":"OLKMP!P8","v":0},null,{"$f":"OLVM!P5","v":0}]
[null,{"$f":"Cen!A496","v":"Podélné dělení, šedé"},{"$f":"Cen!B496","v":"Z43L100S"},{"$f":"Cen!C496","v":"R906"},{"$f":"Cen!D496","v":0},0,{"$f":"Cen!F496","v":87.5},0,null,{"$f":"Cen!I496","v":7952586},{"$f":"Cen!J496","v":"D460314"},0,0,null,null,null,null,null,null,null,null,null,null,null,null,null,null,null,null,null,null,null,null,null,null,null,null,null,null,null,null,null,null,null,null,null,null,null,null,null,null,null,null,null,null,null,null,null,null,null,null,null,null,null,{"$f":"'OLP1'!P8","v":0},{"$f":"'OLP2'!P8","v":0},null,{"$f":"OLVMP!P9","v":0},{"$f":"OLKMP!P9","v":0},{"$f":"OLKo!P8","v":0}]
[null,{"$f":"Cen!A501","v":"Příčný reling ke zkrácení, šedý"},{"$f":"Cen!B501","v":"ZRG.1104Q"},{"$f":"Cen!C501","v":"R906"},{"$f":"Cen!D501","v":0},0,{"$f":"Cen!F501","v":119.3},0,null,{"$f":"Cen!I501","v":9752780},{"$f":"Cen!J501","v":"D460288"},0,0,null,null,null,null,null,null,null,null,null,null,null,null,null,null,null,null,null,null,null,null,null,null,null,null,null,null,null,null,null,null,null,null,null,null,null,null,null,null,null,null,null,null,null,null,null,null,null,null,null,null,null,null,null,null,null,null,null,null,null,null,{"$f":"OLRel!P2","v":0}]
[null,{"$f":"Cen!A506","v":"Koncovka pro příčný reling, bílošedá"},{"$f":"Cen!B506","v":"ZRU.01E0"},{"$f":"Cen!C506","v":"WGR"},{"$f":"Cen!D506","v":0},0,{"$f":"Cen!F506","v":37.700000000000003},0,null,{"$f":"Cen!I506","v":6586948},{"$f":"Cen!J506","v":"D494068"},0,0,null,null,null,null,null,null,null,null,null,null,null,null,null,null,null,null,null,null,null,null,null,null,null,null,null,null,null,null,null,null,null,null,null,null,null,null,null,null,null,null,null,null,null,null,null,null,null,null,null,null,null,null,null,null,null,null,null,null,null,null,{"$f":"OLRel!P3","v":0}]
[null,{"$f":"Cen!A511","v":"Podélné dělení pro reling, bílošedé"},{"$f":"Cen!B511","v":"ZRU.11F0"},{"$f":"Cen!C511","v":"WGR"},{"$f":"Cen!D511","v":0},0,{"$f":"Cen!F511","v":21.5},0,null,{"$f":"Cen!I511","v":9410686},{"$f":"Cen!J511","v":"D460292"},0,0,null,null,null,null,null,null,null,null,null,null,null,null,null,null,null,null,null,null,null,null,null,null,null,null,null,null,null,null,null,null,null,null,null,null,null,null,null,null,null,null,null,null,null,null,null,null,null,null,null,null,null,null,null,null,null,null,null,null,null,null,{"$f":"OLRel!P4","v":0}]
[null,{"$f":"Cen!A518","v":"Mezistěna, 450mm, šedá"},{"$f":"Cen!B518","v":"Z46L420S   "},{"$f":"Cen!C518","v":"R906"},{"$f":"Cen!D518","v":"!"},0,{"$f":"Cen!F518","v":0},{"$f":"M215","v":0},null,{"$f":"Cen!I518","v":8675730},{"$f":"Cen!J518","v":"na dotaz"},null,null,null,null,null,null,null,null,null,null,null,null,null,null,null,null,null,null,null,null,null,null,null,null,null,null,null,null,null,null,null,null,null,null,null,null,null,null,null,null,null,null,null,null,null,null,null,null,null,null,null,null,null,null,null,null,null,null,null,null,null,{"$f":"OLMe!P2","v":0}]
[null,{"$f":"Cen!A522","v":"Mezistěna, 500mm, šedá"},{"$f":"Cen!B522","v":"Z46L470S   "},{"$f":"Cen!C522","v":"R906"},{"$f":"Cen!D522","v":0},0,{"$f":"Cen!F522","v":730.3},0,null,{"$f":"Cen!I522","v":8679310},{"$f":"Cen!J522","v":"D460315"},0,0,null,null,null,null,null,null,null,null,null,null,null,null,null,null,null,null,null,null,null,null,null,null,null,null,null,null,null,null,null,null,null,null,null,null,null,null,null,null,null,null,null,null,null,null,null,null,null,null,null,null,null,null,null,null,{"$f":"OLVMP!P10","v":0},{"$f":"OLKMP!P10","v":0},null,{"$f":"OLVM!P6","v":0},null,{"$f":"OLMe!P3","v":0}]
[null,{"$f":"Cen!A526","v":"Mezistěna, 550mm, šedá"},{"$f":"Cen!B526","v":"Z46L520S   "},{"$f":"Cen!C526","v":"R906"},{"$f":"Cen!D526","v":"!"},0,{"$f":"Cen!F526","v":770},{"$f":"M217","v":0},null,{"$f":"Cen!I526","v":9149940},{"$f":"Cen!J526","v":"D543198"},null,null,null,null,null,null,null,null,null,null,null,null,null,null,null,null,null,null,null,null,null,null,null,null,null,null,null,null,null,null,null,null,null,null,null,null,null,null,null,null,null,null,null,null,null,null,null,null,null,null,null,null,null,null,null,null,null,null,null,null,null,{"$f":"OLMe!P4","v":0}]
[null,{"$f":"Cen!A530","v":"Mezistěna, 600mm, šedá"},{"$f":"Cen!B530","v":"Z46L570S   "},{"$f":"Cen!C530","v":"R906"},{"$f":"Cen!D530","v":"!"},0,{"$f":"Cen!F530","v":0},0,null,{"$f":"Cen!I530","v":8832690},{"$f":"Cen!J530","v":"na dotaz"},null,null,null,null,null,null,null,null,null,null,null,null,null,null,null,null,null,null,null,null,null,null,null,null,null,null,null,null,null,null,null,null,null,null,null,null,null,null,null,null,null,null,null,null,null,null,null,null,null,null,null,null,null,null,null,null,null,null,null,null,null,{"$f":"OLMe!P5","v":0}]
[null,{"$f":"Cen!A534","v":"Mezistěna, 650mm, šedá"},{"$f":"Cen!B534","v":"Z46L620S   "},{"$f":"Cen!C534","v":"R906"},{"$f":"Cen!D534","v":"!"},0,{"$f":"Cen!F534","v":0},0,null,{"$f":"Cen!I534","v":8675800},{"$f":"Cen!J534","v":"na dotaz"},null,null,null,null,null,null,null,null,null,null,null,null,null,null,null,null,null,null,null,null,null,null,null,null,null,null,null,null,null,null,null,null,null,null,null,null,null,null,null,null,null,null,null,null,null,null,null,null,null,null,null,null,null,null,null,null,null,null,null,null,null,{"$f":"OLMe!P6","v":0}]
[null,{"$f":"Cen!A540","v":"Vana na láhve, 500mm"},{"$f":"Cen!B540","v":"Z48.30B0I6"},{"$f":"Cen!C540","v":"IG/G"},{"$f":"Cen!D540","v":0},0,{"$f":"Cen!F540","v":1084.9000000000001},0,null,{"$f":"Cen!I540","v":4050440},{"$f":"Cen!J540","v":"D460316"},0,0,null,null,null,null,null,null,null,null,null,null,null,null,null,null,null,null,null,null,null,null,null,null,null,null,null,null,null,null,null,null,null,null,null,null,null,null,null,null,null,null,null,null,null,null,null,null,null,null,null,null,null,null,null,null,{"$f":"OLVMP!P11","v":0},null,null,{"$f":"OLVM!P7","v":0},{"$f":"OLVa!P5","v":0}]
[null,{"$f":"Cen!A544","v":"Držák talířů"},{"$f":"Cen!B544","v":"ZC7T0350"},{"$f":"Cen!C544","v":"OG-M"},{"$f":"Cen!D544","v":0},0,{"$f":"Cen!F544","v":980.5},0,null,{"$f":"Cen!I544","v":1366848},{"$f":"Cen!J544","v":"D543781"},0,0,null,null,null,null,null,null,null,null,null,null,null,null,null,null,null,null,null,null,null,null,null,null,null,null,null,null,null,null,null,null,null,null,null,null,null,null,null,null,null,null,null,null,null,null,null,null,null,null,null,null,null,null,null,{"$f":"OLTa!P2","v":0},null,null,null,null,null,null,null,{"$f":"OLOst!P69","v":0}]
[null,{"$f":"Cen!A545","v":"Držák nožů"},{"$f":"Cen!B545","v":"ZSZ.02M0"},{"$f":"Cen!C545","v":"IG/G"},{"$f":"Cen!D545","v":0},0,{"$f":"Cen!F545","v":590.5},0,null,{"$f":"Cen!I545","v":6484600},{"$f":"Cen!J545","v":"D201441"},0,0,null,null,null,null,null,null,null,null,null,null,null,null,null,null,null,null,null,null,null,null,null,null,null,null,null,null,null,null,null,null,null,null,null,null,null,null,null,null,null,null,null,null,null,null,null,null,null,null,null,null,{"$f":"OLRo!P47","v":0},null,null,null,null,null,null,null,null,null,null,{"$f":"OLOst!P63","v":0}]
[null,{"$f":"Cen!A546","v":"Stojánek na kořenky, KB 300mm"},{"$f":"Cen!B546","v":"ZFZ.30G0I"},{"$f":"Cen!C546","v":"INGL"},{"$f":"Cen!D546","v":0},0,{"$f":"Cen!F546","v":509.2},0,null,{"$f":"Cen!I546","v":3852306},{"$f":"Cen!J546","v":"D395569"},0,0,null,null,null,null,null,null,null,null,null,null,null,null,null,null,null,null,null,null,null,null,null,null,null,null,null,null,null,null,null,null,null,null,null,null,null,null,null,null,null,null,null,null,null,null,null,null,null,null,null,null,null,null,null,null,null,{"$f":"OLKMP!P11","v":0},{"$f":"OLKo!P9","v":0},null,null,null,null,{"$f":"OLOst!P66","v":0}]
[null,{"$f":"Cen!A547","v":"Stojánek na kořenky, KB 400mm"},{"$f":"Cen!B547","v":"ZFZ.40G0I"},{"$f":"Cen!C547","v":"INGL"},{"$f":"Cen!D547","v":0},0,{"$f":"Cen!F547","v":0},0,null,{"$f":"Cen!I547","v":3189131},{"$f":"Cen!J547","v":"na dotaz"},0,0,null,null,null,null,null,null,null,null,null,null,null,null,null,null,null,null,null,null,null,null,null,null,null,null,null,null,null,null,null,null,null,null,null,null,null,null,null,null,null,null,null,null,null,null,null,null,null,null,null,null,null,null,null,null,null,{"$f":"OLKMP!P12","v":0},{"$f":"OLKo!P10","v":0},null,null,null,null,{"$f":"OLOst!P67","v":0}]
[null,{"$f":"Cen!A548","v":"Stojánek na kořenky, KB 450mm"},{"$f":"Cen!B548","v":"ZFZ.45G0I"},{"$f":"Cen!C548","v":"INGL"},{"$f":"Cen!D548","v":0},0,{"$f":"Cen!F548","v":0},{"$f":"M225","v":0},null,{"$f":"Cen!I548","v":6278581},{"$f":"Cen!J548","v":"na dotaz"},0,0,null,null,null,null,null,null,null,null,null,null,null,null,null,null,null,null,null,null,null,null,null,null,null,null,null,null,null,null,null,null,null,null,null,null,null,null,null,null,null,null,null,null,null,null,null,null,null,null,null,null,null,null,null,null,null,{"$f":"OLKMP!P13","v":0},{"$f":"OLKo!P11","v":0},null,null,null,null,{"$f":"OLOst!P68","v":0}]
[null,{"$f":"Cen!A549","v":"Držák s řezákem na potravinové folie"},{"$f":"Cen!B549","v":"ZSZ.01F0"},{"$f":"Cen!C549","v":"STW/G"},{"$f":"Cen!D549","v":0},0,{"$f":"Cen!F549","v":954.3},0,null,{"$f":"Cen!I549","v":9068380},{"$f":"Cen!J549","v":"D347226"},0,0,null,null,null,null,null,null,null,null,null,null,null,null,null,null,null,null,null,null,null,null,null,null,null,null,null,null,null,null,null,null,null,null,null,null,null,null,null,null,null,null,null,null,null,null,null,null,null,null,null,null,{"$f":"OLRo!P48","v":0},null,null,null,null,null,null,null,null,null,null,{"$f":"OLOst!P64","v":0}]
[null,{"$f":"Cen!A550","v":"Držák s řezákem na alufolie"},{"$f":"Cen!B550","v":"ZSZ.02F0"},{"$f":"Cen!C550","v":"ST/O"},{"$f":"Cen!D550","v":0},0,{"$f":"Cen!F550","v":894.7},0,null,{"$f":"Cen!I550","v":9068450},{"$f":"Cen!J550","v":"D347227"},0,0,null,null,null,null,null,null,null,null,null,null,null,null,null,null,null,null,null,null,null,null,null,null,null,null,null,null,null,null,null,null,null,null,null,null,null,null,null,null,null,null,null,null,null,null,null,null,null,null,null,null,{"$f":"OLRo!P49","v":0},null,null,null,null,null,null,null,null,null,null,{"$f":"OLOst!P65","v":0}]
[null,{"$f":"Cen!A551","v":"Sada pomůcek do kuchyně"},{"$f":"Cen!B551","v":"ZOU.30U1I"},null,null,0,{"$f":"Cen!F551","v":5829},0,null,{"$f":"Cen!I551","v":9411980},{"$f":"Cen!J551","v":"D348281"},0,0,null,null,null,null,null,null,null,null,null,null,null,null,null,null,null,null,null,null,null,null,null,null,null,null,null,null,null,null,null,null,null,null,null,null,null,null,null,null,null,null,null,null,null,null,null,null,null,null,null,null,null,null,null,null,null,null,null,null,null,null,null,{"$f":"OLOst!P70","v":0}]
[null,null,null,null,null,0]
[null,{"$f":"Cen!A570","v":"Distanční doraz Blum, 5mm"},{"$f":"Cen!B570","v":"993.0530"},{"$f":"Cen!C570","v":"R737"},{"$f":"Cen!D570","v":0},0,{"$f":"Cen!F570","v":17.600000000000001},0,null,{"$f":"Cen!I570","v":7834990},{"$f":"Cen!J570","v":"D298325"},0,0,null,null,null,null,null,null,null,null,null,null,null,null,null,null,null,null,null,null,null,null,null,null,null,null,null,null,null,null,null,null,null,null,null,null,null,null,null,null,null,null,null,null,null,null,null,null,null,null,null,null,null,null,null,null,null,null,null,null,null,null,null,null,null,null,{"$f":"SD!E3","v":0}]
[null,{"$f":"Cen!A571","v":"Distanční doraz Blum, 8mm"},{"$f":"Cen!B571","v":"993.0830.01"},{"$f":"Cen!C571","v":"R737"},{"$f":"Cen!D571","v":0},0,{"$f":"Cen!F571","v":15.8},0,null,{"$f":"Cen!I571","v":7402930},{"$f":"Cen!J571","v":"D198622"},0,0,null,null,null,null,null,null,null,null,null,null,null,null,null,null,null,null,null,null,null,null,null,null,null,null,null,null,null,null,null,null,null,null,null,null,null,null,null,null,null,null,null,null,null,null,null,null,null,null,null,null,null,null,null,null,null,null,null,null,null,null,null,null,null,null,{"$f":"SD!E4","v":0}]
[null,{"$f":"Cen!A572","v":"Pohonná servo jednotka"},{"$f":"Cen!B572","v":"Z10A3000.03"},{"$f":"Cen!C572","v":"R737"},{"$f":"Cen!D572","v":0},0,{"$f":"Cen!F572","v":1711.8},0,null,{"$f":"Cen!I572","v":6970029},{"$f":"Cen!J572","v":"D198620"},0,0,null,null,null,null,null,null,null,null,null,null,null,null,null,null,null,null,null,null,null,null,null,null,null,null,null,null,null,null,null,null,null,null,null,null,null,null,null,null,null,null,null,null,null,null,null,null,null,null,null,null,null,null,null,null,null,null,null,null,null,null,null,null,null,null,{"$f":"SD!E10","v":0}]
[null,{"$f":"Cen!A573","v":"Držák nosníku, vlys naležato"},{"$f":"Cen!B573","v":"Z10D01E0.01"},{"$f":"Cen!C573","v":"R737"},{"$f":"Cen!D573","v":0},0,{"$f":"Cen!F573","v":83.9},0,null,{"$f":"Cen!I573","v":3061821},{"$f":"Cen!J573","v":"D283286"},0,0,null,null,null,null,null,null,null,null,null,null,null,null,null,null,null,null,null,null,null,null,null,null,null,null,null,null,null,null,null,null,null,null,null,null,null,null,null,null,null,null,null,null,null,null,null,null,null,null,null,null,null,null,null,null,null,null,null,null,null,null,null,null,null,null,{"$f":"SD!E8","v":0}]
[null,{"$f":"Cen!A574","v":"Držák nosníku, vlys nastojato"},{"$f":"Cen!B574","v":"Z10D01EA.01"},{"$f":"Cen!C574","v":"R737"},{"$f":"Cen!D574","v":0},0,{"$f":"Cen!F574","v":104.7},0,null,{"$f":"Cen!I574","v":9879558},{"$f":"Cen!J574","v":"D301067"},0,0,null,null,null,null,null,null,null,null,null,null,null,null,null,null,null,null,null,null,null,null,null,null,null,null,null,null,null,null,null,null,null,null,null,null,null,null,null,null,null,null,null,null,null,null,null,null,null,null,null,null,null,null,null,null,null,null,null,null,null,null,null,null,null,null,{"$f":"SD!E9","v":0}]
[null,{"$f":"Cen!A575","v":"Držák servo jednotky jednoduchý"},{"$f":"Cen!B575","v":"Z10D0311"},{"$f":"Cen!C575","v":"R737"},{"$f":"Cen!D575","v":0},0,{"$f":"Cen!F575","v":171.2},0,null,{"$f":"Cen!I575","v":4805174},{"$f":"Cen!J575","v":"D473563"},0,0,null,null,null,null,null,null,null,null,null,null,null,null,null,null,null,null,null,null,null,null,null,null,null,null,null,null,null,null,null,null,null,null,null,null,null,null,null,null,null,null,null,null,null,null,null,null,null,null,null,null,null,null,null,null,null,null,null,null,null,null,null,null,null,null,{"$f":"SD!E23","v":0}]
[null,{"$f":"Cen!A576","v":"Držák servo jednotky zdvojený"},{"$f":"Cen!B576","v":"Z10D7201.01"},{"$f":"Cen!C576","v":"R737"},{"$f":"Cen!D576","v":0},0,{"$f":"Cen!F576","v":341.4},0,null,{"$f":"Cen!I576","v":1640683},{"$f":"Cen!J576","v":"D311905"},0,0,null,null,null,null,null,null,null,null,null,null,null,null,null,null,null,null,null,null,null,null,null,null,null,null,null,null,null,null,null,null,null,null,null,null,null,null,null,null,null,null,null,null,null,null,null,null,null,null,null,null,null,null,null,null,null,null,null,null,null,null,null,null,null,null,{"$f":"SD!E22","v":0}]
[null,{"$f":"Cen!A577","v":"Držák servo jednotky horní"},{"$f":"Cen!B577","v":"Z10D6252"},{"$f":"Cen!C577","v":"R737"},{"$f":"Cen!D577","v":0},0,{"$f":"Cen!F577","v":481.6},0,null,{"$f":"Cen!I577","v":8010962},{"$f":"Cen!J577","v":"D298329"},0,0,null,null,null,null,null,null,null,null,null,null,null,null,null,null,null,null,null,null,null,null,null,null,null,null,null,null,null,null,null,null,null,null,null,null,null,null,null,null,null,null,null,null,null,null,null,null,null,null,null,null,null,null,null,null,null,null,null,null,null,null,null,null,null,null,{"$f":"SD!E28","v":0}]
[null,{"$f":"Cen!A578","v":"Držák kabelu s Klebesockel"},{"$f":"Cen!B578","v":"Z10K0009"},{"$f":"Cen!C578","v":"NA"},{"$f":"Cen!D578","v":0},0,{"$f":"Cen!F578","v":19.3},0,null,{"$f":"Cen!I578","v":7283231},{"$f":"Cen!J578","v":"D198614"},0,0,null,null,null,null,null,null,null,null,null,null,null,null,null,null,null,null,null,null,null,null,null,null,null,null,null,null,null,null,null,null,null,null,null,null,null,null,null,null,null,null,null,null,null,null,null,null,null,null,null,null,null,null,null,null,null,null,null,null,null,null,null,null,null,null,{"$f":"SD!E24","v":0}]
[null,{"$f":"Cen!A579","v":"Synchronizační kabel 8cm"},{"$f":"Cen!B579","v":"Z10K008S "},{"$f":"Cen!C579","v":"W"},{"$f":"Cen!D579","v":0},0,{"$f":"Cen!F579","v":107.4},0,null,{"$f":"Cen!I579","v":7288466},{"$f":"Cen!J579","v":"D683433"},0,0,null,null,null,null,null,null,null,null,null,null,null,null,null,null,null,null,null,null,null,null,null,null,null,null,null,null,null,null,null,null,null,null,null,null,null,null,null,null,null,null,null,null,null,null,null,null,null,null,null,null,null,null,null,null,null,null,null,null,null,null,null,null,null,null,{"$f":"SD!E18","v":0}]
[null,{"$f":"Cen!A580","v":"Synchronizační kabel 50cm"},{"$f":"Cen!B580","v":"Z10K050S"},{"$f":"Cen!C580","v":"W"},{"$f":"Cen!D580","v":0},0,{"$f":"Cen!F580","v":149.1},0,null,{"$f":"Cen!I580","v":8013626},{"$f":"Cen!J580","v":"D377668"},0,0,null,null,null,null,null,null,null,null,null,null,null,null,null,null,null,null,null,null,null,null,null,null,null,null,null,null,null,null,null,null,null,null,null,null,null,null,null,null,null,null,null,null,null,null,null,null,null,null,null,null,null,null,null,null,null,null,null,null,null,null,null,null,null,null,{"$f":"SD!E19","v":0}]
[null,{"$f":"Cen!A581","v":"Synchronizační kabel 120cm"},{"$f":"Cen!B581","v":"Z10K120S"},{"$f":"Cen!C581","v":"W"},{"$f":"Cen!D581","v":0},0,{"$f":"Cen!F581","v":230.8},0,null,{"$f":"Cen!I581","v":7288546},{"$f":"Cen!J581","v":"D645288"},0,0,null,null,null,null,null,null,null,null,null,null,null,null,null,null,null,null,null,null,null,null,null,null,null,null,null,null,null,null,null,null,null,null,null,null,null,null,null,null,null,null,null,null,null,null,null,null,null,null,null,null,null,null,null,null,null,null,null,null,null,null,null,null,null,null,{"$f":"SD!E20","v":0}]
[null,{"$f":"Cen!A582","v":"Synchronizační kabel 160cm"},{"$f":"Cen!B582","v":"Z10K160S"},{"$f":"Cen!C582","v":"W"},{"$f":"Cen!D582","v":0},0,{"$f":"Cen!F582","v":260.7},0,null,{"$f":"Cen!I582","v":7361306},{"$f":"Cen!J582","v":"D683434"},0,0,null,null,null,null,null,null,null,null,null,null,null,null,null,null,null,null,null,null,null,null,null,null,null,null,null,null,null,null,null,null,null,null,null,null,null,null,null,null,null,null,null,null,null,null,null,null,null,null,null,null,null,null,null,null,null,null,null,null,null,null,null,null,null,null,{"$f":"SD!E21","v":0}]
[null,{"$f":"Cen!A583","v":"Elektrokabel, délka 8m + 5 krytek"},{"$f":"Cen!B583","v":"Z10K800AE"},{"$f":"Cen!C583","v":"S"},{"$f":"Cen!D583","v":0},0,{"$f":"Cen!F583","v":669},0,null,{"$f":"Cen!I583","v":7550294},{"$f":"Cen!J583","v":"D198611"},0,0,null,null,null,null,null,null,null,null,null,null,null,null,null,null,null,null,null,null,null,null,null,null,null,null,null,null,null,null,null,null,null,null,null,null,null,null,null,null,null,null,null,null,null,null,null,null,null,null,null,null,null,null,null,null,null,null,null,null,null,null,null,null,null,null,{"$f":"SD!E13","v":0}]
[null,{"$f":"Cen!A584","v":"Napájecí kabel se zástrčkou, 2m"},{"$f":"Cen!B584","v":"Z10M200E "},{"$f":"Cen!C584","v":"S"},{"$f":"Cen!D584","v":0},0,{"$f":"Cen!F584","v":162.19999999999999},0,null,{"$f":"Cen!I584","v":7205784},{"$f":"Cen!J584","v":"D198599"},0,0,null,null,null,null,null,null,null,null,null,null,null,null,null,null,null,null,null,null,null,null,null,null,null,null,null,null,null,null,null,null,null,null,null,null,null,null,null,null,null,null,null,null,null,null,null,null,null,null,null,null,null,null,null,null,null,null,null,null,null,null,null,null,null,null,{"$f":"SD!E15","v":0}]
[null,{"$f":"Cen!A585","v":"Napájecí zdroj 24 W"},{"$f":"Cen!B585","v":"Z10NE020E"},{"$f":"Cen!C585","v":"S"},{"$f":"Cen!D585","v":0},0,{"$f":"Cen!F585","v":2469.3000000000002},0,null,{"$f":"Cen!I585","v":6960549},{"$f":"Cen!J585","v":"D198597"},0,0,null,null,null,null,null,null,null,null,null,null,null,null,null,null,null,null,null,null,null,null,null,null,null,null,null,null,null,null,null,null,null,null,null,null,null,null,null,null,null,null,null,null,null,null,null,null,null,null,null,null,null,null,null,null,null,null,null,null,null,null,null,null,null,null,{"$f":"SD!E14","v":0}]
[null,{"$f":"Cen!A586","v":"Držák napájecího zdroje - montáž do dna"},{"$f":"Cen!B586","v":"Z10NG000"},{"$f":"Cen!C586","v":"R737"},{"$f":"Cen!D586","v":0},0,{"$f":"Cen!F586","v":167},0,null,{"$f":"Cen!I586","v":7282180},{"$f":"Cen!J586","v":"D301068"},{"$f":"IF(I246=\"x\",0,IF(I246>0,I246,F246))","v":0},{"$f":"PRODUCT(L246,G246)","v":0},null,null,null,null,null,null,null,null,null,null,null,null,null,null,null,null,null,null,null,null,null,null,null,null,null,null,null,null,null,null,null,null,null,null,null,null,null,null,null,null,null,null,null,null,null,null,null,null,null,null,null,null,null,null,null,null,null,null,null,null,null,null,null,null,{"$f":"SD!E16","v":0}]
[null,{"$f":"Cen!A587","v":"Držák napájecího zdroje - montáž na stěnu"},{"$f":"Cen!B587","v":"Z10NG120"},{"$f":"Cen!C587","v":"WGR"},{"$f":"Cen!D587","v":0},0,{"$f":"Cen!F587","v":90.1},0,null,{"$f":"Cen!I587","v":9327076},{"$f":"Cen!J587","v":"D198600"},0,0,null,null,null,null,null,null,null,null,null,null,null,null,null,null,null,null,null,null,null,null,null,null,null,null,null,null,null,null,null,null,null,null,null,null,null,null,null,null,null,null,null,null,null,null,null,null,null,null,null,null,null,null,null,null,null,null,null,null,null,null,null,null,null,null,{"$f":"SD!E17","v":0}]
[null,{"$f":"Cen!A588","v":"Propojovací svorka s hroty + krytka"},{"$f":"Cen!B588","v":"Z10V100E.01"},{"$f":"Cen!C588","v":"S"},{"$f":"Cen!D588","v":0},0,{"$f":"Cen!F588","v":159.30000000000001},0,null,{"$f":"Cen!I588","v":8820285},{"$f":"Cen!J588","v":"D198616"},0,0,null,null,null,null,null,null,null,null,null,null,null,null,null,null,null,null,null,null,null,null,null,null,null,null,null,null,null,null,null,null,null,null,null,null,null,null,null,null,null,null,null,null,null,null,null,null,null,null,null,null,null,null,null,null,null,null,null,null,null,null,null,null,null,null,{"$f":"SD!E12","v":0}]
[null,{"$f":"Cen!A590","v":"Nosník, 670mm, s předmont. kabelem "},{"$f":"Cen!B590","v":"Z10T670AA "},{"$f":"Cen!C590","v":"Alu"},{"$f":"Cen!D590","v":0},0,{"$f":"Cen!F590","v":874.4},0,null,{"$f":"Cen!I590","v":7716441},{"$f":"Cen!J590","v":"D484113"},0,0,null,null,null,null,null,null,null,null,null,null,null,null,null,null,null,null,null,null,null,null,null,null,null,null,null,null,null,null,null,null,null,null,null,null,null,null,null,null,null,null,null,null,null,null,null,null,null,null,null,null,null,null,null,null,null,null,null,null,null,null,null,null,null,null,{"$f":"SD!E5","v":0}]
[null,{"$f":"Cen!A592","v":"Nosník, 750mm, s předmont. kabelem "},{"$f":"Cen!B592","v":"Z10T750AA "},{"$f":"Cen!C592","v":"Alu"},{"$f":"Cen!D592","v":0},0,{"$f":"Cen!F592","v":957.9},0,null,{"$f":"Cen!I592","v":7466401},{"$f":"Cen!J592","v":"D199113"},0,0,null,null,null,null,null,null,null,null,null,null,null,null,null,null,null,null,null,null,null,null,null,null,null,null,null,null,null,null,null,null,null,null,null,null,null,null,null,null,null,null,null,null,null,null,null,null,null,null,null,null,null,null,null,null,null,null,null,null,null,null,null,null,null,null,{"$f":"SD!E6","v":0}]
[null,{"$f":"Cen!A594","v":"Nosník 1170mm, bez kabelu"},{"$f":"Cen!B594","v":"Z10T1170A"},{"$f":"Cen!C594","v":"Alu"},{"$f":"Cen!D594","v":0},0,{"$f":"Cen!F594","v":1020},0,null,{"$f":"Cen!I594","v":7287731},{"$f":"Cen!J594","v":"D393811"},0,0,null,null,null,null,null,null,null,null,null,null,null,null,null,null,null,null,null,null,null,null,null,null,null,null,null,null,null,null,null,null,null,null,null,null,null,null,null,null,null,null,null,null,null,null,null,null,null,null,null,null,null,null,null,null,null,null,null,null,null,null,null,null,null,null,{"$f":"SD!E7","v":0}]
[null,{"$f":"Cen!A595","v":"Mechanizmus vyhazovače "},{"$f":"Cen!B595","v":"Z10A3H00"},{"$f":"Cen!C595","v":"R737"},{"$f":"Cen!D595","v":0},0,{"$f":"Cen!F595","v":71.599999999999994},0,null,{"$f":"Cen!I595","v":7472980},{"$f":"Cen!J595","v":"D683431"},0,0,null,null,null,null,null,null,null,null,null,null,null,null,null,null,null,null,null,null,null,null,null,null,null,null,null,null,null,null,null,null,null,null,null,null,null,null,null,null,null,null,null,null,null,null,null,null,null,null,null,null,null,null,null,null,null,null,null,null,null,null,null,null,null,null,{"$f":"SD!E11","v":0}]
[null,{"$f":"Cen!A596","v":"Horizontální nosník"},{"$f":"Cen!B596","v":"Z10T1143B"},{"$f":"Cen!C596","v":"Alu"},{"$f":"Cen!D596","v":0},0,{"$f":"Cen!F596","v":421.7},0,null,{"$f":"Cen!I596","v":7922191},{"$f":"Cen!J596","v":"D683438"},0,0,null,null,null,null,null,null,null,null,null,null,null,null,null,null,null,null,null,null,null,null,null,null,null,null,null,null,null,null,null,null,null,null,null,null,null,null,null,null,null,null,null,null,null,null,null,null,null,null,null,null,null,null,null,null,null,null,null,null,null,null,null,null,null,null,{"$f":"SD!E27","v":0}]
[null,{"$f":"Cen!A597","v":"Adaptér + držák horizont. nosníku"},{"$f":"Cen!B597","v":"Z10D5210"},{"$f":"Cen!C597","v":"R737"},{"$f":"Cen!D597","v":0},0,{"$f":"Cen!F597","v":132.4},0,null,{"$f":"Cen!I597","v":7867370},{"$f":"Cen!J597","v":"D515897"},0,0,null,null,null,null,null,null,null,null,null,null,null,null,null,null,null,null,null,null,null,null,null,null,null,null,null,null,null,null,null,null,null,null,null,null,null,null,null,null,null,null,null,null,null,null,null,null,null,null,null,null,null,null,null,null,null,null,null,null,null,null,null,null,null,null,{"$f":"SD!E26","v":0}]
[null,{"$f":"Cen!A598","v":"COMBOX"},{"$f":"Cen!B598","v":"Z10ZC00A"},{"$f":"Cen!C598","v":"S"},{"$f":"Cen!D598","v":0},0,{"$f":"Cen!F598","v":2973.6},0,null,{"$f":"Cen!I598","v":5202593},{"$f":"Cen!J598","v":"D572693"},0,0,null,null,null,null,null,null,null,null,null,null,null,null,null,null,null,null,null,null,null,null,null,null,null,null,null,null,null,null,null,null,null,null,null,null,null,null,null,null,null,null,null,null,null,null,null,null,null,null,null,null,null,null,null,null,null,null,null,null,null,null,null,null,null,null,{"$f":"SD!E30","v":0}]
[null,{"$f":"Cen!A599","v":"SD uno - sada pro výsuv na odpad"},{"$f":"Cen!B599","v":"Z10NA20EE01"},{"$f":"Cen!C599","v":"R737"},{"$f":"Cen!D599","v":0},0,{"$f":"Cen!F599","v":3366.6},0,null,{"$f":"Cen!I599","v":9820785},{"$f":"Cen!J599","v":"D366440"},0,0,null,null,null,null,null,null,null,null,null,null,null,null,null,null,null,null,null,null,null,null,null,null,null,null,null,null,null,null,null,null,null,null,null,null,null,null,null,null,null,null,null,null,null,null,null,null,null,null,null,null,null,null,null,null,null,null,null,null,null,null,null,null,null,null,{"$f":"SD!E31","v":0}]
[null,{"$f":"Cen!A600","v":"SD uno - pro zavěšené odpad.koše, KB 600mm"},{"$f":"Cen!B600","v":"Z10T543WEE"},{"$f":"Cen!C600","v":"R737"},{"$f":"Cen!D600","v":0},0,{"$f":"Cen!F600","v":4312.8999999999996},{"$f":"M257","v":0},null,{"$f":"Cen!I600","v":7190296},{"$f":"Cen!J600","v":"D683439"},{"$f":"IF(I257=\"x\",0,IF(I257>0,I257,F257))","v":0},{"$f":"PRODUCT(L257,G257)","v":0}]
[null,{"$f":"Cen!A601","v":"SERVO-DRIVE flex - jednotka (sada)"},{"$f":"Cen!B601","v":"Z10C500A"},{"$f":"Cen!C601","v":"R736"},{"$f":"Cen!D601","v":0},0,{"$f":"Cen!F601","v":4441.6000000000004},{"$f":"M258","v":0},null,{"$f":"Cen!I601","v":4784397},{"$f":"Cen!J601","v":"D553923"},0,0,null,null,null,null,null,null,null,null,null,null,null,null,null,null,null,null,null,null,null,null,null,null,null,null,null,null,null,null,null,null,null,null,null,null,null,null,null,null,null,null,null,null,null,null,null,null,null,null,null,null,null,null,null,null,null,null,null,null,null,null,null,null,null,null,{"$f":"SD!E32","v":0}]
[null,{"$f":"Cen!A602","v":"SERVO-DRIVE flex - bezdrátový přijímač"},{"$f":"Cen!B602","v":"Z10C5007"},{"$f":"Cen!C602","v":"R736"},{"$f":"Cen!D602","v":0},0,{"$f":"Cen!F602","v":1740.6},{"$f":"M259","v":0},null,{"$f":"Cen!I602","v":1120793},{"$f":"Cen!J602","v":"D553925"},0,0,null,null,null,null,null,null,null,null,null,null,null,null,null,null,null,null,null,null,null,null,null,null,null,null,null,null,null,null,null,null,null,null,null,null,null,null,null,null,null,null,null,null,null,null,null,null,null,null,null,null,null,null,null,null,null,null,null,null,null,null,null,null,null,null,{"$f":"SD!E33","v":0}]
[null,{"$f":"Cen!A603","v":"Spínač SERVO-DRIVE, světle šedý"},{"$f":"Cen!B603","v":"21P5020"},{"$f":"Cen!C603","v":"HGR"},{"$f":"Cen!D603","v":0},0,{"$f":"Cen!F603","v":745.6},{"$f":"M260","v":0},null,{"$f":"Cen!I603","v":8978398},{"$f":"Cen!J603","v":"D515741"},0,0,null,null,null,null,null,null,null,null,null,null,null,null,null,null,null,null,null,null,null,null,null,null,null,null,null,null,null,null,null,null,null,null,null,null,null,null,null,null,null,null,null,null,null,null,null,null,null,null,null,null,null,null,null,null,null,null,null,null,null,null,null,null,null,null,{"$f":"SD!E34","v":0}]
[null,{"$f":"Cen!A604","v":"Spínač SERVO-DRIVE, hedvábně bílý"},{"$f":"Cen!B604","v":"21P5020"},{"$f":"Cen!C604","v":"SW"},{"$f":"Cen!D604","v":0},0,{"$f":"Cen!F604","v":775.4},{"$f":"M261","v":0},null,{"$f":"Cen!I604","v":8978392},{"$f":"Cen!J604","v":"D553924"},0,0,null,null,null,null,null,null,null,null,null,null,null,null,null,null,null,null,null,null,null,null,null,null,null,null,null,null,null,null,null,null,null,null,null,null,null,null,null,null,null,null,null,null,null,null,null,null,null,null,null,null,null,null,null,null,null,null,null,null,null,null,null,null,null,null,{"$f":"SD!E35","v":0}]
[null,null,null,null,null,0,null,null,null,null,null,0,0]
[null,{"$f":"Cen!A124","v":"Sada jednotek TIP-ON BLUMOTION, S0"},{"$f":"Cen!B124","v":"T60B3030"},{"$f":"Cen!C124","v":"W"},{"$f":"Cen!D124","v":0},0,{"$f":"Cen!F124","v":404.5},{"$f":"M263","v":0},null,{"$f":"Cen!I124","v":3157261},{"$f":"Cen!J124","v":"D646742"},0,0,null,{"$f":"'AM300'!$S40","v":0},{"$f":"'AK300'!$S40","v":0},{"$f":"AM30V!$S40","v":0},{"$f":"AK30V!$S40","v":0},null,{"$f":"AD310G!$S40","v":0},{"$f":"AD310M!$S40","v":0},{"$f":"AD310R!$S40","v":0},{"$f":"AD31VG!$S40","v":0},{"$f":"AD31VM!$S40","v":0},{"$f":"AD31VR!$S40","v":0},null,{"$f":"AC310G!$S40","v":0},{"$f":"AC310M!$S40","v":0},{"$f":"AC310R!$S40","v":0},{"$f":"AC31VG!$S40","v":0},{"$f":"AC31VM!$S40","v":0},{"$f":"AC31VR!$S40","v":0},null,null,null,null,null,null,null,null,null,null,null,null,null,null,null,null,null,null,null,null,null,null,null,null,null,null,null,null,null,null,null,null,null,null,null,null,null,null,null,null,null,null,null,null,{"$f":"Acs!E16","v":0}]
[null,{"$f":"Cen!A125","v":"Sada jednotek TIP-ON BLUMOTION, S1"},{"$f":"Cen!B125","v":"T60B3130"},{"$f":"Cen!C125","v":"R735"},{"$f":"Cen!D125","v":0},0,{"$f":"Cen!F125","v":404.5},{"$f":"M264","v":0},null,{"$f":"Cen!I125","v":7846331},{"$f":"Cen!J125","v":"D646743"},0,0,null,{"$f":"'AM300'!$S41","v":0},{"$f":"'AK300'!$S41","v":0},{"$f":"AM30V!$S41","v":0},{"$f":"AK30V!$S41","v":0},null,{"$f":"AD310G!$S41","v":0},{"$f":"AD310M!$S41","v":0},{"$f":"AD310R!$S41","v":0},{"$f":"AD31VG!$S41","v":0},{"$f":"AD31VM!$S41","v":0},{"$f":"AD31VR!$S41","v":0},null,{"$f":"AC310G!$S41","v":0},{"$f":"AC310M!$S41","v":0},{"$f":"AC310R!$S41","v":0},{"$f":"AC31VG!$S41","v":0},{"$f":"AC31VM!$S41","v":0},{"$f":"AC31VR!$S41","v":0},null,null,null,null,null,null,null,null,null,null,null,null,null,null,null,null,null,null,null,null,null,null,null,null,null,null,null,null,null,null,null,null,null,null,null,null,null,null,null,null,null,null,null,null,{"$f":"Acs!E17","v":0}]
[null,{"$f":"Cen!A126","v":"Sada jednotek TIP-ON BLUMOTION, L1"},{"$f":"Cen!B126","v":"T60B3330"},{"$f":"Cen!C126","v":"R735"},{"$f":"Cen!D126","v":0},0,{"$f":"Cen!F126","v":404.5},0,null,{"$f":"Cen!I126","v":3688343},{"$f":"Cen!J126","v":"D646744"},0,0,{"$f":"'AN300'!$S42","v":0},{"$f":"'AM300'!$S42","v":0},{"$f":"'AK300'!$S42","v":0},{"$f":"AM30V!$S42","v":0},{"$f":"AK30V!$S42","v":0},null,{"$f":"AD310G!$S42","v":0},{"$f":"AD310M!$S42","v":0},{"$f":"AD310R!$S42","v":0},{"$f":"AD31VG!$S42","v":0},{"$f":"AD31VM!$S42","v":0},{"$f":"AD31VR!$S42","v":0},null,{"$f":"AC310G!$S42","v":0},{"$f":"AC310M!$S42","v":0},{"$f":"AC310R!$S42","v":0},{"$f":"AC31VG!$S42","v":0},{"$f":"AC31VM!$S42","v":0},{"$f":"AC31VR!$S42","v":0},null,null,null,null,null,null,null,null,null,null,null,null,null,null,null,null,null,null,null,null,null,null,null,null,null,null,null,null,null,null,null,null,null,null,null,null,null,null,null,null,null,null,null,null,{"$f":"Acs!E18","v":0}]
[null,{"$f":"Cen!A127","v":"Sada jednotek TIP-ON BLUMOTION, L3"},{"$f":"Cen!B127","v":"T60B3530"},{"$f":"Cen!C127","v":"R737"},{"$f":"Cen!D127","v":0},0,{"$f":"Cen!F127","v":404.5},0,null,{"$f":"Cen!I127","v":1023195},{"$f":"Cen!J127","v":"D646745"},0,0,{"$f":"'AN300'!$S43","v":0},{"$f":"'AM300'!$S43","v":0},{"$f":"'AK300'!$S43","v":0},{"$f":"AM30V!$S43","v":0},{"$f":"AK30V!$S43","v":0},null,{"$f":"AD310G!$S43","v":0},{"$f":"AD310M!$S43","v":0},{"$f":"AD310R!$S43","v":0},{"$f":"AD31VG!$S43","v":0},{"$f":"AD31VM!$S43","v":0},{"$f":"AD31VR!$S43","v":0},null,{"$f":"AC310G!$S43","v":0},{"$f":"AC310M!$S43","v":0},{"$f":"AC310R!$S43","v":0},{"$f":"AC31VG!$S43","v":0},{"$f":"AC31VM!$S43","v":0},{"$f":"AC31VR!$S43","v":0},null,null,null,null,null,null,null,null,null,null,null,null,{"$f":"AD342G!$S43","v":0},{"$f":"AD342M!$S43","v":0},{"$f":"AD342R!S43","v":0},null,null,null,null,null,null,null,null,{"$f":"ADM45G!$S43","v":0},{"$f":"ADM45M!$S43","v":0},{"$f":"ADM45R!$S43","v":0},{"$f":"ADD45G!$S43","v":0},{"$f":"ADD45M!$S43","v":0},{"$f":"ADD45R!$S43","v":0},null,null,null,null,null,null,null,null,null,null,null,null,null,null,null,{"$f":"Acs!E19","v":0}]
[null,{"$f":"Cen!A128","v":"Sada jednotek TIP-ON BLUMOTION, L5"},{"$f":"Cen!B128","v":"T60B3560"},{"$f":"Cen!C128","v":"S"},{"$f":"Cen!D128","v":0},{"$f":"IF(I267>0,I267,SUM(N267:BZ267))","v":0},{"$f":"Cen!F128","v":404.5},0,null,{"$f":"Cen!I128","v":9792576},{"$f":"Cen!J128","v":"D646746"},0,0,null,{"$f":"'AM300'!$S44","v":0},{"$f":"'AK300'!$S44","v":0},{"$f":"AM30V!$S44","v":0},{"$f":"AK30V!$S44","v":0},null,{"$f":"AD310G!$S44","v":0},{"$f":"AD310M!$S44","v":0},{"$f":"AD310R!$S44","v":0},{"$f":"AD31VG!$S44","v":0},{"$f":"AD31VM!$S44","v":0},{"$f":"AD31VR!$S44","v":0},null,{"$f":"AC310G!$S44","v":0},{"$f":"AC310M!$S44","v":0},{"$f":"AC310R!$S44","v":0},{"$f":"AC31VG!$S44","v":0},{"$f":"AC31VM!$S44","v":0},{"$f":"AC31VR!$S44","v":0},null,null,null,null,null,null,null,null,null,null,null,null,{"$f":"AD342G!$S44","v":0},{"$f":"AD342M!$S44","v":0},{"$f":"AD342R!S44","v":0},null,null,null,null,null,null,null,null,{"$f":"ADM45G!$S44","v":0},{"$f":"ADM45M!$S44","v":0},{"$f":"ADM45R!$S44","v":0},{"$f":"ADD45G!$S44","v":0},{"$f":"ADD45M!$S44","v":0},{"$f":"ADD45R!$S44","v":0},null,null,null,null,null,null,null,null,null,null,null,null,null,null,null,{"$f":"Acs!E20","v":0}]
[null,{"$f":"Cen!A130","v":"Synchronizační adaptér"},{"$f":"Cen!B130","v":"T60.000D"},{"$f":"Cen!C130","v":"R735"},{"$f":"Cen!D130","v":0},0,{"$f":"Cen!F130","v":5.8},0,null,{"$f":"Cen!I130","v":1512005},{"$f":"Cen!J130","v":"D568838"},0,0,{"$f":"'AN300'!$S46","v":0},{"$f":"'AM300'!$S46","v":0},{"$f":"'AK300'!$S46","v":0},{"$f":"AM30V!$S46","v":0},{"$f":"AK30V!$S46","v":0},null,{"$f":"AD310G!$S46","v":0},{"$f":"AD310M!$S46","v":0},{"$f":"AD310R!$S46","v":0},{"$f":"AD31VG!$S46","v":0},{"$f":"AD31VM!$S46","v":0},{"$f":"AD31VR!$S46","v":0},null,{"$f":"AC310G!$S46","v":0},{"$f":"AC310M!$S46","v":0},{"$f":"AC310R!$S46","v":0},{"$f":"AC31VG!$S46","v":0},{"$f":"AC31VM!$S46","v":0},{"$f":"AC31VR!$S46","v":0},null,null,null,null,null,null,null,null,null,null,null,null,{"$f":"AD342G!$S46","v":0},{"$f":"AD342M!$S46","v":0},{"$f":"AD342R!S46","v":0},null,null,null,null,null,null,null,null,{"$f":"ADM45G!$S46","v":0},{"$f":"ADM45M!$S46","v":0},{"$f":"ADM45R!$S46","v":0},{"$f":"ADD45G!$S46","v":0},{"$f":"ADD45M!$S46","v":0},{"$f":"ADD45R!$S46","v":0},null,null,null,null,null,null,null,null,null,null,null,null,null,null,null,{"$f":"Acs!E21","v":0}]
[null,{"$f":"Cen!A131","v":"Hřídel synchronizace"},{"$f":"Cen!B131","v":"T60.1125W"},{"$f":"Cen!C131","v":"GR"},{"$f":"Cen!D131","v":0},0,{"$f":"Cen!F131","v":95.6},0,null,{"$f":"Cen!I131","v":2101757},{"$f":"Cen!J131","v":"D568839"},0,0,{"$f":"'AN300'!$S47","v":0},{"$f":"'AM300'!$S47","v":0},{"$f":"'AK300'!$S47","v":0},{"$f":"AM30V!$S47","v":0},{"$f":"AK30V!$S47","v":0},null,{"$f":"AD310G!$S47","v":0},{"$f":"AD310M!$S47","v":0},{"$f":"AD310R!$S47","v":0},{"$f":"AD31VG!$S47","v":0},{"$f":"AD31VM!$S47","v":0},{"$f":"AD31VR!$S47","v":0},null,{"$f":"AC310G!$S47","v":0},{"$f":"AC310M!$S47","v":0},{"$f":"AC310R!$S47","v":0},{"$f":"AC31VG!$S47","v":0},{"$f":"AC31VM!$S47","v":0},{"$f":"AC31VR!$S47","v":0},null,null,null,null,null,null,null,null,null,null,null,null,{"$f":"AD342G!$S47","v":0},{"$f":"AD342M!$S47","v":0},{"$f":"AD342R!S47","v":0},null,null,null,null,null,null,null,null,{"$f":"ADM45G!$S47","v":0},{"$f":"ADM45M!$S47","v":0},{"$f":"ADM45R!$S47","v":0},{"$f":"ADD45G!$S47","v":0},{"$f":"ADD45M!$S47","v":0},{"$f":"ADD45R!$S47","v":0},null,null,null,null,null,null,null,null,null,null,null,null,null,null,null,{"$f":"Acs!E22","v":0}]
[null,{"$f":"Cen!A132","v":"Jednodílná synchronizace"},{"$f":"Cen!B132","v":"T60.300D"},{"$f":"Cen!C132","v":"R735"},{"$f":"Cen!D132","v":0},0,{"$f":"Cen!F132","v":23.2},0,null,{"$f":"Cen!I132","v":8133273},{"$f":"Cen!J132","v":"D646783"},0,0,null,null,null,null,null,null,null,null,null,null,null,null,null,null,null,null,null,null,null,null,null,null,null,null,null,null,null,null,null,null,null,null,null,null,null,null,null,null,null,null,null,null,null,null,null,null,null,null,null,null,null,null,null,null,null,null,null,null,null,null,null,null,null,{"$f":"Acs!E23","v":0}]
[null,{"$f":"Cen!A134","v":"Držák hřídele synchronizace"},{"$f":"Cen!B134","v":"T60B000H"},{"$f":"Cen!C134","v":"NI"},{"$f":"Cen!D134","v":0},0,{"$f":"Cen!F134","v":6},0,null,{"$f":"Cen!I134","v":5690481},{"$f":"Cen!J134","v":"D646748"},0,0,null,null,null,null,null,null,null,null,null,null,null,null,null,null,null,null,null,null,null,null,null,null,null,null,null,null,null,null,null,null,null,null,null,null,null,null,null,null,null,null,null,null,null,null,null,null,null,null,null,null,null,null,null,null,null,null,null,null,null,null,null,null,null,{"$f":"Acs!E24","v":0}]
[null,{"$f":"Cen!A135","v":"Podpěrný úhelník pro dno"},{"$f":"Cen!B135","v":"Z96.2011"},{"$f":"Cen!C135","v":"R737"},{"$f":"Cen!D135","v":0},0,{"$f":"Cen!F135","v":29.8},0,null,{"$f":"Cen!I135","v":1486446},{"$f":"Cen!J135","v":"D646747"},0,0,null,null,null,null,null,null,null,null,null,null,null,null,null,null,null,null,null,null,null,null,null,null,null,null,null,null,null,null,null,null,null,null,null,null,null,null,null,null,null,null,null,null,null,null,null,null,null,null,null,null,null,null,null,null,null,null,null,null,null,null,null,null,null,{"$f":"Acs!E25","v":0}]
[null,null,null,null,null,0]
[null,{"$f":"Cen!A610","v":"Stabilizace čel"},{"$f":"Cen!B610","v":"Z96.10E1"},{"$f":"Cen!C610","v":"R737"},{"$f":"Cen!D610","v":0},0,{"$f":"Cen!F610","v":29.8},0,null,{"$f":"Cen!I610","v":6448980},{"$f":"Cen!J610","v":"D055344"},0,0,null,null,null,null,null,null,null,null,null,null,null,null,null,null,null,null,null,null,null,null,null,null,null,null,null,null,null,null,null,null,null,null,null,null,null,null,null,null,null,null,null,null,null,null,null,null,null,null,null,null,null,null,null,null,null,null,null,null,null,null,null,null,null,{"$f":"Acs!E26","v":0},{"$f":"SD!E25","v":0}]
[null,{"$f":"Cen!A611","v":"Tlumící čočka k zavrtání"},{"$f":"Cen!B611","v":"993.706"},{"$f":"Cen!C611","v":"R906"},{"$f":"Cen!D611","v":0},0,{"$f":"Cen!F611","v":3.8},{"$f":"M275","v":0},null,{"$f":"Cen!I611","v":3283090},{"$f":"Cen!J611","v":"D055346"},{"$f":"IF(I275=\"x\",0,IF(I275>0,I275,F275))","v":0},{"$f":"PRODUCT(L275,G275)","v":0},null,null,null,null,null,null,null,null,null,null,null,null,null,null,null,null,null,null,null,null,null,null,null,null,null,null,null,null,null,null,null,null,null,null,null,null,null,null,null,null,null,null,null,null,null,null,null,null,null,null,null,null,null,null,null,null,null,null,null,null,null,null,null,{"$f":"Acs!E27","v":0}]
[null,{"$f":"Cen!A612","v":"Boční stabilizace, 450 mm"},{"$f":"Cen!B612","v":"ZST.450BA"},{"$f":"Cen!C612","v":"R737"},{"$f":"Cen!D612","v":"!"},{"$f":"IF(I276>0,I276,SUM(N276:BZ276))","v":0},{"$f":"Cen!F612","v":561.5},{"$f":"M276","v":0},null,{"$f":"Cen!I612","v":4320500},{"$f":"Cen!J612","v":"D635268"},{"$f":"IF(I276=\"x\",0,IF(I276>0,I276,F276))","v":0},{"$f":"PRODUCT(L276,G276)","v":0},null,null,null,null,null,null,null,null,null,null,null,null,null,null,null,null,null,null,null,null,null,null,null,null,null,null,null,null,null,null,null,null,null,null,null,null,null,null,null,null,null,null,null,null,null,null,null,null,null,null,null,null,null,null,null,null,null,null,null,null,null,null,null,{"$f":"Acs!E28","v":0}]
[null,{"$f":"Cen!A613","v":"Boční stabilizace, 500 mm"},{"$f":"Cen!B613","v":"ZST.500BA"},{"$f":"Cen!C613","v":"R737"},{"$f":"Cen!D613","v":0},0,{"$f":"Cen!F613","v":350},0,null,{"$f":"Cen!I613","v":8929020},{"$f":"Cen!J613","v":"D512423"},0,0,null,null,null,null,null,null,null,null,null,null,null,null,null,null,null,null,null,null,null,null,null,null,null,null,null,null,null,null,null,null,null,null,null,null,null,null,null,null,null,null,null,null,null,null,null,null,null,null,null,null,null,null,null,null,null,null,null,null,null,null,null,null,null,{"$f":"Acs!E29","v":0}]
[null,{"$f":"Cen!A614","v":"Boční stabilizace, 550 mm"},{"$f":"Cen!B614","v":"ZST.550BA"},{"$f":"Cen!C614","v":"R737"},{"$f":"Cen!D614","v":"!"},{"$f":"IF(I278>0,I278,SUM(N278:BZ278))","v":0},{"$f":"Cen!F614","v":1070.0999999999999},{"$f":"M278","v":0},null,{"$f":"Cen!I614","v":8929190},{"$f":"Cen!J614","v":"D625562"},0,0,null,null,null,null,null,null,null,null,null,null,null,null,null,null,null,null,null,null,null,null,null,null,null,null,null,null,null,null,null,null,null,null,null,null,null,null,null,null,null,null,null,null,null,null,null,null,null,null,null,null,null,null,null,null,null,null,null,null,null,null,null,null,null,{"$f":"Acs!E30","v":0}]
[null,{"$f":"Cen!A615","v":"Boční stabilizace, 600 mm"},{"$f":"Cen!B615","v":"ZST.600BA"},{"$f":"Cen!C615","v":"R737"},{"$f":"Cen!D615","v":"!"},0,{"$f":"Cen!F615","v":1074.7},0,null,{"$f":"Cen!I615","v":8929260},{"$f":"Cen!J615","v":"D625564"},0,0,null,null,null,null,null,null,null,null,null,null,null,null,null,null,null,null,null,null,null,null,null,null,null,null,null,null,null,null,null,null,null,null,null,null,null,null,null,null,null,null,null,null,null,null,null,null,null,null,null,null,null,null,null,null,null,null,null,null,null,null,null,null,null,{"$f":"Acs!E31","v":0}]
[null,{"$f":"Cen!A616","v":"Boční stabilizace, 650 mm"},{"$f":"Cen!B616","v":"ZST.650BA"},{"$f":"Cen!C616","v":"R737"},{"$f":"Cen!D616","v":"!"},0,{"$f":"Cen!F616","v":0},0,null,{"$f":"Cen!I616","v":8929330},{"$f":"Cen!J616","v":"na dotaz"},0,0,null,null,null,null,null,null,null,null,null,null,null,null,null,null,null,null,null,null,null,null,null,null,null,null,null,null,null,null,null,null,null,null,null,null,null,null,null,null,null,null,null,null,null,null,null,null,null,null,null,null,null,null,null,null,null,null,null,null,null,null,null,null,null,{"$f":"Acs!E32","v":0}]
[null,null,null,null,null,0]
[null,{"$f":"Cen!A631","v":"CLIP top 155° s nulovým přesahem"},{"$f":"Cen!B631","v":"71T7500N"},{"$f":"Cen!C631","v":"NI"},{"$f":"Cen!D631","v":0},0,{"$f":"Cen!F631","v":112.5},0,null,{"$f":"Cen!I631","v":9064013},{"$f":"Cen!J631","v":"D290105"},0,0,null,null,null,null,null,null,null,null,null,null,null,null,null,null,null,null,null,null,null,null,null,null,null,null,null,null,null,null,null,null,null,null,null,null,null,null,null,null,null,null,null,null,null,null,null,null,null,null,null,null,null,null,null,null,null,null,null,null,null,null,null,null,null,{"$f":"Acs!E36","v":0}]
[null,{"$f":"Cen!A632","v":"CLIP top 155° s nulovým přesahem, EXPANDO"},{"$f":"Cen!B632","v":"71T753EN"},{"$f":"Cen!C632","v":"NI"},{"$f":"Cen!D632","v":0},0,{"$f":"Cen!F632","v":112.7},0,null,{"$f":"Cen!I632","v":9064323},{"$f":"Cen!J632","v":"D512424"},0,0,null,null,null,null,null,null,null,null,null,null,null,null,null,null,null,null,null,null,null,null,null,null,null,null,null,null,null,null,null,null,null,null,null,null,null,null,null,null,null,null,null,null,{"$f":"ADM45G!$S85","v":0},{"$f":"ADM45M!$S85","v":0},{"$f":"ADM45R!$S85","v":0},{"$f":"ADD45G!$S85","v":0},{"$f":"ADD45M!$S85","v":0},{"$f":"ADD45R!$S85","v":0},null,null,null,null,null,null,null,null,null,null,null,null,null,null,null,{"$f":"Acs!E37","v":0}]
[null,{"$f":"Cen!A633","v":"CLIP top 155° s nulovým přesahem, bez pružiny"},{"$f":"Cen!B633","v":"70T7500NTL"},{"$f":"Cen!C633","v":"NI"},{"$f":"Cen!D633","v":0},0,{"$f":"Cen!F633","v":112.5},0,null,{"$f":"Cen!I633","v":9141613},{"$f":"Cen!J633","v":"D376602"},0,0,null,null,null,null,null,null,null,null,null,null,null,null,null,null,null,null,null,null,null,null,null,null,null,null,null,null,null,null,null,null,null,null,null,null,null,null,null,null,null,null,null,null,null,null,null,null,null,null,null,null,null,null,null,null,null,null,null,null,null,null,null,null,null,{"$f":"Acs!E38","v":0}]
[null,{"$f":"Cen!A634","v":"CLIP top 125° s nulovým přesahem"},{"$f":"Cen!B634","v":"71T7500D"},{"$f":"Cen!C634","v":"NI"},{"$f":"Cen!D634","v":0},0,{"$f":"Cen!F634","v":153.1},{"$f":"M285","v":0},null,{"$f":"Cen!I634","v":8298184},{"$f":"Cen!J634","v":"D532775"},0,0,null,null,null,null,null,null,null,null,null,null,null,null,null,null,null,null,null,null,null,null,null,null,null,null,null,null,null,null,null,null,null,null,null,null,null,null,null,null,null,null,null,null,null,null,null,null,null,null,null,null,null,null,null,null,null,null,null,null,null,null,null,null,null,{"$f":"Acs!E39","v":0}]
[null,{"$f":"Cen!A636","v":"Podložka CLIP na vruty"},{"$f":"Cen!B636","v":"173L6100"},{"$f":"Cen!C636","v":"NI"},{"$f":"Cen!D636","v":0},0,{"$f":"Cen!F636","v":5.0999999999999996},0,null,{"$f":"Cen!I636","v":1925383},{"$f":"Cen!J636","v":"D014425"},0,0,null,null,null,null,null,null,null,null,null,null,null,null,null,null,null,null,null,null,null,null,null,null,null,null,null,null,null,null,null,null,null,null,null,null,null,null,null,null,null,null,null,null,null,null,null,null,null,null,null,null,null,null,null,null,null,null,null,null,null,null,null,null,null,{"$f":"Acs!E40","v":0}]
[null,{"$f":"Cen!A637","v":"Podložka CLIP EXPANDO"},{"$f":"Cen!B637","v":"174E6100.01"},{"$f":"Cen!C637","v":"NI"},{"$f":"Cen!D637","v":0},0,{"$f":"Cen!F637","v":8.1},0,null,{"$f":"Cen!I637","v":1863003},{"$f":"Cen!J637","v":"D014458"},0,0,null,null,null,null,null,null,null,null,null,null,null,null,null,null,null,null,null,null,null,null,null,null,null,null,null,null,null,null,null,null,null,null,null,null,null,null,null,null,null,null,null,null,null,null,null,null,null,null,null,null,null,null,null,null,null,null,null,null,null,null,null,null,null,{"$f":"Acs!E41","v":0}]
[null,{"$f":"Cen!A638","v":"Podložka CLIP s excentrem"},{"$f":"Cen!B638","v":"173H7100"},{"$f":"Cen!C638","v":"NI"},{"$f":"Cen!D638","v":0},0,{"$f":"Cen!F638","v":13.6},0,null,{"$f":"Cen!I638","v":2364043},{"$f":"Cen!J638","v":"D014460"},0,0,null,null,null,null,null,null,null,null,null,null,null,null,null,null,null,null,null,null,null,null,null,null,null,null,null,null,null,null,null,null,null,null,null,null,null,null,null,null,null,null,null,null,null,null,null,null,null,null,null,null,null,null,null,null,null,null,null,null,null,null,null,null,null,{"$f":"Acs!E42","v":0}]
[null,{"$f":"Cen!A639","v":"Podložka CLIP s excentrem, EXPANDO"},{"$f":"Cen!B639","v":"174H7100E"},{"$f":"Cen!C639","v":"NI"},{"$f":"Cen!D639","v":0},0,{"$f":"Cen!F639","v":15.1},0,null,{"$f":"Cen!I639","v":2364983},{"$f":"Cen!J639","v":"D187455"},0,0,null,null,null,null,null,null,null,null,null,null,null,null,null,null,null,null,null,null,null,null,null,null,null,null,null,null,null,null,null,null,null,null,null,null,null,null,null,null,null,null,null,null,{"$f":"ADM45G!S86","v":0},{"$f":"ADM45M!S86","v":0},{"$f":"ADM45R!S86","v":0},{"$f":"ADD45G!S86","v":0},{"$f":"ADD45M!S86","v":0},{"$f":"ADD45R!S86","v":0},null,null,null,null,null,null,null,null,null,null,null,null,null,null,null,{"$f":"Acs!E43","v":0}]
[null,{"$f":"Cen!A640","v":"Podložka CLIP top přímá"},{"$f":"Cen!B640","v":"175H5400"},{"$f":"Cen!C640","v":"NI"},{"$f":"Cen!D640","v":0},0,{"$f":"Cen!F640","v":18},0,null,{"$f":"Cen!I640","v":8002803},{"$f":"Cen!J640","v":"D198495"},0,0,null,null,null,null,null,null,null,null,null,null,null,null,null,null,null,null,null,null,null,null,null,null,null,null,null,null,null,null,null,null,null,null,null,null,null,null,null,null,null,null,null,null,null,null,null,null,null,null,null,null,null,null,null,null,null,null,null,null,null,null,null,null,null,{"$f":"Acs!E44","v":0}]
[null,{"$f":"Cen!A641","v":"Podložka CLIP top přímá, EXPANDO"},{"$f":"Cen!B641","v":"177H5400E"},{"$f":"Cen!C641","v":"NI"},{"$f":"Cen!D641","v":0},0,{"$f":"Cen!F641","v":20.7},0,null,{"$f":"Cen!I641","v":8003033},{"$f":"Cen!J641","v":"D354102"},0,0,null,null,null,null,null,null,null,null,null,null,null,null,null,null,null,null,null,null,null,null,null,null,null,null,null,null,null,null,null,null,null,null,null,null,null,null,null,null,null,null,null,null,null,null,null,null,null,null,null,null,null,null,null,null,null,null,null,null,null,null,null,null,null,{"$f":"Acs!E45","v":0}]
[null,{"$f":"Cen!A642","v":"Podložka CLIP top přímá"},{"$f":"Cen!B642","v":"175H3100"},{"$f":"Cen!C642","v":"NI"},{"$f":"Cen!D642","v":0},0,{"$f":"Cen!F642","v":12.9},0,null,{"$f":"Cen!I642","v":1037431},{"$f":"Cen!J642","v":"D495655"},0,0,null,null,null,null,null,null,null,null,null,null,null,null,null,null,null,null,null,null,null,null,null,null,null,null,null,null,null,null,null,null,null,null,null,null,null,null,null,null,null,null,null,null,null,null,null,null,null,null,null,null,null,null,null,null,null,null,null,null,null,null,null,null,null,{"$f":"Acs!E46","v":0}]
[null,{"$f":"Cen!A643","v":"Podložka CLIP top přímá, EXPANDO"},{"$f":"Cen!B643","v":"177H3100E"},{"$f":"Cen!C643","v":"NI"},{"$f":"Cen!D643","v":0},0,{"$f":"Cen!F643","v":13.3},0,null,{"$f":"Cen!I643","v":3120329},{"$f":"Cen!J643","v":"D496524"},0,0,null,null,null,null,null,null,null,null,null,null,null,null,null,null,null,null,null,null,null,null,null,null,null,null,null,null,null,null,null,null,null,null,null,null,null,null,null,null,null,null,null,null,null,null,null,null,null,null,null,null,null,null,null,null,null,null,null,null,null,null,null,null,null,{"$f":"Acs!E47","v":0}]
[null,{"$f":"Cen!A644","v":"BLUMOTION pro nasazení na závěs 155° a 125°"},{"$f":"Cen!B644","v":"973A7000"},{"$f":"Cen!C644","v":"NI"},{"$f":"Cen!D644","v":0},0,{"$f":"Cen!F644","v":41},0,null,{"$f":"Cen!I644","v":8975943},{"$f":"Cen!J644","v":"D290109"},0,0,null,null,null,null,null,null,null,null,null,null,null,null,null,null,null,null,null,null,null,null,null,null,null,null,null,null,null,null,null,null,null,null,null,null,null,null,null,null,null,null,null,null,{"$f":"ADM45G!S87","v":0},{"$f":"ADM45M!S87","v":0},{"$f":"ADM45R!S87","v":0},{"$f":"ADD45G!S87","v":0},{"$f":"ADD45M!S87","v":0},{"$f":"ADD45R!S87","v":0},null,null,null,null,null,null,null,null,null,null,null,null,null,null,null,{"$f":"Acs!E48","v":0}]
[null,{"$f":"Cen!A645","v":"BLUMOTION v křížovém adaptéru"},{"$f":"Cen!B645","v":"971A0500"},{"$f":"Cen!C645","v":"NI"},{"$f":"Cen!D645","v":0},0,{"$f":"Cen!F645","v":70},0,null,{"$f":"Cen!I645","v":6823663},{"$f":"Cen!J645","v":"D288441"},0,0,null,null,null,null,null,null,null,null,null,null,null,null,null,null,null,null,null,null,null,null,null,null,null,null,null,null,null,null,null,null,null,null,null,null,null,null,null,null,null,null,null,null,null,null,null,null,null,null,null,null,null,null,null,null,null,null,null,null,null,null,null,null,null,{"$f":"Acs!E49","v":0}]
[null,{"$f":"Cen!A646","v":"TIP-ON, prodloužená délka, šedý"},{"$f":"Cen!B646","v":"956A1004"},{"$f":"Cen!C646","v":"PG"},{"$f":"Cen!D646","v":0},0,{"$f":"Cen!F646","v":114.3},0,null,{"$f":"Cen!I646","v":6484096},{"$f":"Cen!J646","v":"D540048"},0,0,null,null,null,null,null,null,null,null,null,null,null,null,null,null,null,null,null,null,null,null,null,null,null,null,null,null,null,null,null,null,null,null,null,null,null,null,null,null,null,null,null,null,null,null,null,null,null,null,null,null,null,null,null,null,null,null,null,null,null,null,null,null,null,{"$f":"Acs!E50","v":0}]
[null,{"$f":"Cen!A649","v":"TIP-ON přímý adaptér, prodl.délka, šedý"},{"$f":"Cen!B649","v":"956A1201"},{"$f":"Cen!C649","v":"PG"},{"$f":"Cen!D649","v":0},0,{"$f":"Cen!F649","v":22.5},0,null,{"$f":"Cen!I649","v":8849808},{"$f":"Cen!J649","v":"D540051"},0,0,null,null,null,null,null,null,null,null,null,null,null,null,null,null,null,null,null,null,null,null,null,null,null,null,null,null,null,null,null,null,null,null,null,null,null,null,null,null,null,null,null,null,null,null,null,null,null,null,null,null,null,null,null,null,null,null,null,null,null,null,null,null,null,{"$f":"Acs!E51","v":0}]
[null,{"$f":"Cen!A653","v":"TIP-ON křížový adaptér, šedý"},{"$f":"Cen!B653","v":"956A1501"},{"$f":"Cen!C653","v":"PG"},{"$f":"Cen!D653","v":0},0,{"$f":"Cen!F653","v":16.7},0,null,{"$f":"Cen!I653","v":2583646},{"$f":"Cen!J653","v":"D542404"},0,0,null,null,null,null,null,null,null,null,null,null,null,null,null,null,null,null,null,null,null,null,null,null,null,null,null,null,null,null,null,null,null,null,null,null,null,null,null,null,null,null,null,null,null,null,null,null,null,null,null,null,null,null,null,null,null,null,null,null,null,null,null,null,null,{"$f":"Acs!E52","v":0}]
[null,null,null,null,null,null,null,0]
[null,{"$f":"Cen!A656","v":0},{"$f":"Cen!B656","v":0},{"$f":"Cen!C656","v":0},null,{"$f":"I300","v":0},{"$f":"Cen!F656","v":0},0,null,{"$f":"Cen!I656","v":0},{"$f":"Cen!J656","v":0},{"$f":"I300","v":0},0]
[null,{"$f":"Cen!A657","v":0},{"$f":"Cen!B657","v":0},{"$f":"Cen!C657","v":0},null,{"$f":"I301","v":0},{"$f":"Cen!F657","v":0},{"$f":"M301","v":0},null,{"$f":"Cen!I657","v":0},{"$f":"Cen!J657","v":0},{"$f":"I301","v":0},0]
[null,{"$f":"Cen!A658","v":0},{"$f":"Cen!B658","v":0},{"$f":"Cen!C658","v":0},null,0,{"$f":"Cen!F658","v":0},0,null,{"$f":"Cen!I658","v":0},{"$f":"Cen!J658","v":0},0,0]
[null,{"$f":"Cen!A659","v":0},{"$f":"Cen!B659","v":0},{"$f":"Cen!C659","v":0},null,0,{"$f":"Cen!F659","v":0},0,null,{"$f":"Cen!I659","v":0},{"$f":"Cen!J659","v":0},0,0]
[null,{"$f":"Cen!A660","v":0},{"$f":"Cen!B660","v":0},{"$f":"Cen!C660","v":0},null,0,{"$f":"Cen!F660","v":0},0,null,{"$f":"Cen!I660","v":0},{"$f":"Cen!J660","v":0},0,0]
[null,{"$f":"Cen!A661","v":0},{"$f":"Cen!B661","v":0},{"$f":"Cen!C661","v":0},null,0,{"$f":"Cen!F661","v":0},0,null,{"$f":"Cen!I661","v":0},{"$f":"Cen!J661","v":0},0,0]
[null,{"$f":"Cen!A662","v":0},{"$f":"Cen!B662","v":0},{"$f":"Cen!C662","v":0},null,0,{"$f":"Cen!F662","v":0},0,null,{"$f":"Cen!I662","v":0},{"$f":"Cen!J662","v":0},0,0]
[null,{"$f":"Cen!A663","v":0},{"$f":"Cen!B663","v":0},{"$f":"Cen!C663","v":0},null,0,{"$f":"Cen!F663","v":0},0,null,{"$f":"Cen!I663","v":0},{"$f":"Cen!J663","v":0},0,0]
[null,{"$f":"Cen!A664","v":0},{"$f":"Cen!B664","v":0},{"$f":"Cen!C664","v":0},null,0,{"$f":"Cen!F664","v":0},0,null,{"$f":"Cen!I664","v":0},{"$f":"Cen!J664","v":0},0,0]
[null,{"$f":"Cen!A665","v":0},{"$f":"Cen!B665","v":0},{"$f":"Cen!C665","v":0},null,0,{"$f":"Cen!F665","v":0},0,null,{"$f":"Cen!I665","v":0},{"$f":"Cen!J665","v":0},0,0]
[]
[]
[]
[]
[]
[]
[]
[]
[]
[]
[]
[null,null,null,null,null,null,null,null,null,null,null,null,{"$f":"SUM(M13:M320)","v":0}]
[null,null,null,null,null,{"$f":"List!$B$95&\" \"","v":"Cena celkem bez DPH "},{"$f":"List!B96&\"   \"&TEXT(M321,\"# ##0,00\")&\" \"","v":"Kč   0,00 "}]
[]
[null,{"$f":"List!$B$219&\":\"","v":"Poznámka:"}]
[null,"Bočnice (L+P) jsou dodávány i s krytkami a jsou započítány v ceně bočnic."]
[]
[]
[]
[]
[]
[null,{"$f":"\"       \"&List!$B$252","v":"       Po úpravě objenávky odfiltrujte pomocí filtru ve sloupci \"Ks\" prázné řádky."}]
[]
[null,{"$f":"\"       \"&List!$B$254&\" '\"&List!$B$256&\"'\"","v":"       Chcete-li objednávku uložit nebo odeslat jako přílohu, vytvořte nový soubor kliknutím na odkaz 'Vytvořit objednávku'"}]
[]
[null,null,null,null,null,null,null,null,{"$f":"List!B256","v":"Vytvořit objednávku"}]

{"sheet":"List","index":62,"n_rows":290,"n_cols":3,"rows_kept":290,"cut":false,"hidden":false,"merged":[]}
[null,{"$f":"Form!$S$3","v":2},{"$f":"$B$100","v":"Zpět na úvod"}]
[]
[null,{"$f":"IF($B$1=1,#REF!,C3)","v":"Údaje pro objednávku, zadání slevy od prodejce"},"Údaje pro objednávku, zadání slevy od prodejce"]
[null,{"$f":"IF($B$1=1,#REF!,C4)","v":"Výběr zásuvek a výsuvů"},"Výběr zásuvek a výsuvů"]
[null,{"$f":"IF($B$1=1,#REF!,C5)","v":"Výběr doplňků"},"Výběr doplňků"]
[null,"Výběr SERVO-DRIVE","Výběr SERVO-DRIVE"]
[null,{"$f":"IF($B$1=1,#REF!,C7)","v":"Výběr ORGA-LINE"},"Výběr ORGA-LINE"]
[null,{"$f":"IF($B$1=1,#REF!,C8)","v":0}]
[null,{"$f":"IF($B$1=1,#REF!,C9)","v":"Tato aplikace slouží k snadnějšímu objednávání kování."},"Tato aplikace slouží k snadnějšímu objednávání kování."]
[null,{"$f":"IF($B$1=1,#REF!,C10)","v":0}]
[null,{"$f":"IF($B$1=1,#REF!,C11)","v":"Zpět na"},"Zpět na"]
[null,{"$f":"IF($B$1=1,#REF!,C12)","v":"Pokračovat na"},"Pokračovat na"]
[null,{"$f":"IF($B$1=1,#REF!,C13)","v":"Úvod"},"Úvod"]
[null,{"$f":"IF($B$1=1,#REF!,C14)","v":"Zásuvky a výsuvy"},"Zásuvky a výsuvy"]
[null,{"$f":"IF($B$1=1,#REF!,C15)","v":"Přehled"},"Přehled"]
[null,{"$f":"IF($B$1=1,#REF!,C16)","v":"Nápověda"},"Nápověda"]
[null,{"$f":"IF($B$1=1,#REF!,C17)","v":"Odkazy"},"Odkazy"]
[null,{"$f":"IF($B$1=1,#REF!,C18)","v":"Souhrn"},"Souhrn"]
[null,{"$f":"IF($B$1=1,#REF!,C19)","v":"Vybrané zásuvky"},"Vybrané zásuvky"]
[null,{"$f":"IF($B$1=1,#REF!,C20)","v":"Objednávka"},"Objednávka"]
[null,{"$f":"IF($B$1=1,#REF!,C21)","v":"Doplňky"},"Doplňky"]
[null,{"$f":"IF($B$1=1,#REF!,C22)","v":"Soupis kování"},"Soupis kování"]
[null,{"$f":"IF($B$1=1,#REF!,C23)","v":"Volitelně"},"Volitelně"]
[null,{"$f":"IF($B$1=1,#REF!,C24)","v":"Základní údaje"},"Základní údaje"]
[null,{"$f":"IF($B$1=1,#REF!,C25)","v":"Informace k objednávání"},"Informace k objednávání"]
[null,{"$f":"IF($B$1=1,#REF!,C26)","v":0}]
[null,{"$f":"IF($B$1=1,#REF!,C27)","v":"barva"},"barva"]
[null,{"$f":"IF($B$1=1,#REF!,C28)","v":"šedá"},"šedá"]
[null,{"$f":"IF($B$1=1,#REF!,C29)","v":"hedvábně bílá"},"hedvábně bílá"]
[null,{"$f":"IF($B$1=1,#REF!,C30)","v":"černá Terra"},"černá Terra"]
[]
[null,{"$f":"IF($B$1=1,#REF!,C32)","v":"sklo"},"sklo"]
[null,{"$f":"IF($B$1=1,#REF!,C33)","v":"čiré"},"čiré"]
[null,{"$f":"IF($B$1=1,#REF!,C34)","v":"saténované"},"saténované"]
[]
[null,{"$f":"IF($B$1=1,#REF!,C36)","v":"čelní kování"},"čelní kování"]
[null,{"$f":"IF($B$1=1,#REF!,C37)","v":"na vruty"},"na vruty"]
[null,{"$f":"IF($B$1=1,#REF!,C38)","v":"Úchytka pro vnitřní zásuvky"},"Úchytka pro vnitřní zásuvky"]
[null,{"$f":"IF($B$1=1,#REF!,C39)","v":0}]
[null,{"$f":"IF($B$1=1,#REF!,C40)","v":0}]
[null,{"$f":"IF($B$1=1,#REF!,C41)","v":0}]
[null,{"$f":"IF($B$1=1,#REF!,C42)","v":0}]
[null,{"$f":"IF($B$1=1,#REF!,C43)","v":0}]
[null,{"$f":"IF($B$1=1,#REF!,C44)","v":0}]
[null,{"$f":"IF($B$1=1,#REF!,C45)","v":"Jmenovitá délka"},"Jmenovitá délka"]
[null,{"$f":"IF($B$1=1,#REF!,C46)","v":"Zásuvka"},"Zásuvka"]
[null,{"$f":"IF($B$1=1,#REF!,C47)","v":"Vnitřní zásuvka"},"Vnitřní zásuvka"]
[null,{"$f":"IF($B$1=1,#REF!,C48)","v":"Čelní výsuv"},"Čelní výsuv"]
[null,{"$f":"IF($B$1=1,#REF!,C49)","v":"Vnitřní výsuv"},"Vnitřní výsuv"]
[null,{"$f":"IF($B$1=1,#REF!,C50)","v":"Dřezová zásuvka"},"Dřezová zásuvka"]
[null,{"$f":"IF($B$1=1,#REF!,C51)","v":"Dřezový výsuv"},"Dřezový výsuv"]
[]
[null,{"$f":"IF($B$1=1,#REF!,C53)","v":"Zásuvky"},"Zásuvky"]
[null,{"$f":"IF($B$1=1,#REF!,C54)","v":"Vnitřní zásuvky"},"Vnitřní zásuvky"]
[null,{"$f":"IF($B$1=1,#REF!,C55)","v":"Čelní výsuvy"},"Čelní výsuvy"]
[null,{"$f":"IF($B$1=1,#REF!,C56)","v":"Vnitřní výsuvy"},"Vnitřní výsuvy"]
[null,{"$f":"IF($B$1=1,#REF!,C57)","v":"Dřezové zásuvky"},"Dřezové zásuvky"]
[null,{"$f":"IF($B$1=1,#REF!,C58)","v":"Dřezové výsuvy"},"Dřezové výsuvy"]
[null,{"$f":"IF($B$1=1,#REF!,C59)","v":"pro úzké korpusy"},"pro úzké korpusy"]
[null,{"$f":"IF($B$1=1,#REF!,C60)","v":"sestava"},"sestava"]
[]
[null,{"$f":"IF($B$1=1,#REF!,C62)","v":"zásuvný prvek sklo"},"zásuvný prvek sklo"]
[null,{"$f":"IF($B$1=1,#REF!,C63)","v":"kovový zásuvný prvek"},"kovový zásuvný prvek"]
[null,{"$f":"IF($B$1=1,#REF!,C64)","v":"podélný reling"},"podélný reling"]
[]
[]
[null,{"$f":"IF($B$1=1,#REF!,C67)","v":"se SYNCROMOTION"},"se SYNCROMOTION"]
[null,{"$f":"IF($B$1=1,#REF!,C68)","v":"s nehybnými čely"},"s nehybnými čely"]
[null,{"$f":"IF($B$1=1,#REF!,C69)","v":0}]
[null,{"$f":"IF($B$1=1,#REF!,C70)","v":0}]
[null,{"$f":"IF($B$1=1,#REF!,C71)","v":"označení"},"označení"]
[null,{"$f":"IF($B$1=1,#REF!,C72)","v":"bočnice"},"bočnice"]
[null,{"$f":"IF($B$1=1,#REF!,C73)","v":"potřebný prostor"},"potřebný prostor"]
[null,{"$f":"IF($B$1=1,#REF!,C74)","v":"Vhodné pro"},"Vhodné pro"]
[]
[null,{"$f":"IF($B$1=1,#REF!,C76)","v":0}]
[null,{"$f":"IF($B$1=1,#REF!,C77)","v":"Cenová hladina"},"Cenová hladina"]
[null,{"$f":"IF($B$1=1,#REF!,C78)","v":"Základní ceny"},"Základní ceny"]
[null,{"$f":"IF($B$1=1,#REF!,C79)","v":"Nákupní ceny"},"Nákupní ceny"]
[null,{"$f":"IF($B$1=1,#REF!,C80)","v":"Se slevou"},"Se slevou"]
[null,{"$f":"IF($B$1=1,#REF!,C81)","v":"Zadejte výši slevy"},"Zadejte výši slevy"]
[null,{"$f":"IF($B$1=1,#REF!,C82)","v":"Ceny s volitelnou slevou"},"Ceny s volitelnou slevou"]
[null,{"$f":"IF($B$1=1,#REF!,C83)","v":"Ceny se slevou od prodejce"},"Ceny se slevou od prodejce"]
[null,{"$f":"IF($B$1=1,#REF!,C84)","v":"Nastavit"},"Nastavit"]
[]
[null,{"$f":"IF($B$1=1,#REF!,C86)","v":"Cena kování"},"Cena kování"]
[null,{"$f":"IF($B$1=1,#REF!,C87)","v":"Název"},"Název"]
[null,{"$f":"IF($B$1=1,#REF!,C88)","v":"Číslo artiklu"},"Číslo artiklu"]
[null,{"$f":"IF($B$1=1,#REF!,C89)","v":"Barva"},"Barva"]
[null,{"$f":"IF($B$1=1,#REF!,C90)","v":"Počet"},"Počet"]
[null,{"$f":"IF($B$1=1,#REF!,C91)","v":"Ks"},"Ks"]
[null,{"$f":"IF($B$1=1,#REF!,C92)","v":"Jednotková cena"},"Jednotková cena"]
[null,{"$f":"IF($B$1=1,#REF!,C93)","v":"Celkem"},"Celkem"]
[null,{"$f":"IF($B$1=1,#REF!,C94)","v":"Změna"},"Změna"]
[null,{"$f":"IF($B$1=1,#REF!,C95)","v":"Cena celkem bez DPH"},"Cena celkem bez DPH"]
[null,{"$f":"IF($B$1=1,#REF!,C96)","v":"Kč"},"Kč"]
[null,{"$f":"IF($B$1=1,#REF!,C97)","v":"Dostupnost"},"Dostupnost"]
[]
[null,{"$f":"IF($B$1=1,#REF!,C99)","v":"Zpět"},"Zpět"]
[null,{"$f":"IF($B$1=1,#REF!,C100)","v":"Zpět na úvod"},"Zpět na úvod"]
[null,{"$f":"IF($B$1=1,#REF!,C101)","v":0}]
[null,{"$f":"IF($B$1=1,#REF!,C102)","v":"Šířka korpusu"},"Šířka korpusu"]
[null,{"$f":"IF($B$1=1,#REF!,C103)","v":"pro zásuvky"},"pro zásuvky"]
[null,{"$f":"IF($B$1=1,#REF!,C104)","v":"pro čelní výsuvy"},"pro čelní výsuvy"]
[]
[null,{"$f":"IF($B$1=1,#REF!,C106)","v":"Sady misek"},"Sady misek"]
[null,{"$f":"IF($B$1=1,#REF!,C107)","v":"Sady rozdělovníků"},"Sady rozdělovníků"]
[null,{"$f":"IF($B$1=1,#REF!,C108)","v":"Samostatné sady"},"Samostatné sady"]
[null,{"$f":"IF($B$1=1,#REF!,C109)","v":"Misky"},"Misky"]
[null,{"$f":"IF($B$1=1,#REF!,C110)","v":"Příčné dělící prvky"},"Příčné dělící prvky"]
[null,{"$f":"IF($B$1=1,#REF!,C111)","v":"Pomůcky do kuchyně"},"Pomůcky do kuchyně"]
[]
[null,{"$f":"IF($B$1=1,#REF!,C113)","v":"Příčka ke zkrácení"},"Příčka ke zkrácení"]
[null,{"$f":"IF($B$1=1,#REF!,C114)","v":"Koncovka pro příčku"},"Koncovka pro příčku"]
[null,{"$f":"IF($B$1=1,#REF!,C115)","v":"pro reling"},"pro reling"]
[null,{"$f":"IF($B$1=1,#REF!,C116)","v":"pro mezistěnu"},"pro mezistěnu"]
[null,{"$f":"IF($B$1=1,#REF!,C117)","v":"Příčné dělení"},"Příčné dělení"]
[null,{"$f":"IF($B$1=1,#REF!,C118)","v":"Podélné dělení"},"Podélné dělení"]
[null,{"$f":"IF($B$1=1,#REF!,C119)","v":"Držák talířů"},"Držák talířů"]
[null,{"$f":"IF($B$1=1,#REF!,C120)","v":"Držáky talířů"},"Držáky talířů"]
[null,{"$f":"IF($B$1=1,#REF!,C121)","v":"Vana na láhve"},"Vana na láhve"]
[null,{"$f":"IF($B$1=1,#REF!,C122)","v":"Mezistěna"},"Mezistěna"]
[null,{"$f":"IF($B$1=1,#REF!,C123)","v":"Mezistěny"},"Mezistěny"]
[null,{"$f":"IF($B$1=1,#REF!,C124)","v":"Držák na kořenky"},"Držák na kořenky"]
[null,{"$f":"IF($B$1=1,#REF!,C125)","v":"Držáky na kořenky"},"Držáky na kořenky"]
[null,{"$f":"IF($B$1=1,#REF!,C126)","v":"Držák s řezákem na potravinové folie"},"Držák s řezákem na potravinové folie"]
[null,{"$f":"IF($B$1=1,#REF!,C127)","v":"Držák s řezákem alufolie"},"Držák s řezákem alufolie"]
[null,{"$f":"IF($B$1=1,#REF!,C128)","v":0}]
[null,{"$f":"IF($B$1=1,#REF!,C129)","v":"Základní prvek"},"Základní prvek"]
[null,{"$f":"IF($B$1=1,#REF!,C130)","v":"Přířezy příčky"},"Přířezy příčky"]
[null,{"$f":"IF($B$1=1,#REF!,C131)","v":"Přířezy relingu"},"Přířezy relingu"]
[null,{"$f":"IF($B$1=1,#REF!,C132)","v":"Přířezy prvků"},"Přířezy prvků"]
[null,{"$f":"IF($B$1=1,#REF!,C133)","v":"Délky příček"},"Délky příček"]
[null,{"$f":"IF($B$1=1,#REF!,C134)","v":"Délka relingu"},"Délka relingu"]
[null,{"$f":"IF($B$1=1,#REF!,C135)","v":"Příčky"},"Příčky"]
[null,{"$f":"IF($B$1=1,#REF!,C136)","v":"Přední díl"},"Přední díl"]
[null,{"$f":"IF($B$1=1,#REF!,C137)","v":"Příčný reling"},"Příčný reling"]
[null,{"$f":"IF($B$1=1,#REF!,C138)","v":"Příčný reling ke zkrácení"},"Příčný reling ke zkrácení"]
[null,{"$f":"IF($B$1=1,#REF!,C139)","v":"Koncovka pro reling"},"Koncovka pro reling"]
[null,{"$f":"IF($B$1=1,#REF!,C140)","v":"Podélné dělení pro reling"},"Podélné dělení pro reling"]
[null,{"$f":"IF($B$1=1,#REF!,C141)","v":"Ostatní"},"Ostatní"]
[null,{"$f":"IF($B$1=1,#REF!,C142)","v":"Závěsy pro potravinové skříně"},"Závěsy pro potravinové skříně"]
[]
[null,{"$f":"IF($B$1=1,#REF!,C144)","v":"Pro každý výsuv je započítán jeden přední díl"},"Pro každý výsuv je započítán jeden přední díl"]
[null,{"$f":"IF($B$1=1,#REF!,C145)","v":"Pro každý výsuv je započítán jeden přední díl a jeden příčný reling"},"Pro každý výsuv je započítán jeden přední díl a jeden příčný reling"]
[null,{"$f":"IF($B$1=1,#REF!,C146)","v":"Potřebný počet předních dílů upravte v objednávce"},"Potřebný počet předních dílů upravte v objednávce"]
[null,{"$f":"IF($B$1=1,#REF!,C147)","v":"Potřebný počet předních dílů a relingů upravte v objednávce"},"Potřebný počet předních dílů a relingů upravte v objednávce"]
[null,{"$f":"IF($B$1=1,#REF!,C148)","v":"Sada držáků, pro vlastní zásuvný prvek"},"Sada držáků, pro vlastní zásuvný prvek"]
[]
[null,{"$f":"IF($B$1=1,#REF!,C150)","v":"Cena držáků zásuvného prvku není zahrnuta do cen jednotlivých výsuvů"},"Cena držáků zásuvného prvku není zahrnuta do cen jednotlivých výsuvů"]
[null,{"$f":"IF($B$1=1,#REF!,C151)","v":"Cena úchytek není zahrnuta do cen jednotlivých výsuvů"},"Cena úchytek není zahrnuta do cen jednotlivých výsuvů"]
[]
[null,{"$f":"IF($B$1=1,#REF!,C153)","v":"Příčný reling nelze kombinovat s mezistěnou"},"Příčný reling nelze kombinovat s mezistěnou"]
[null,{"$f":"IF($B$1=1,#REF!,C154)","v":"Mezistěnu nelze použít pro vnitřní výsuv"},"Mezistěnu nelze použít pro vnitřní výsuv"]
[]
[null,{"$f":"IF($B$1=1,#REF!,C156)","v":"Zóny DYNAMIC SPACE"},"Zóny DYNAMIC SPACE"]
[null,{"$f":"IF($B$1=1,#REF!,C157)","v":"Zásoby"},"Zásoby"]
[null,{"$f":"IF($B$1=1,#REF!,C158)","v":"Ukládání"},"Ukládání"]
[null,{"$f":"IF($B$1=1,#REF!,C159)","v":"Mytí"},"Mytí"]
[null,{"$f":"IF($B$1=1,#REF!,C160)","v":"Příprava"},"Příprava"]
[null,{"$f":"IF($B$1=1,#REF!,C161)","v":"Vaření / pečení"},"Vaření / pečení"]
[]
[null,{"$f":"IF($B$1=1,#REF!,C163)","v":"Doporučená hodnota"},"Doporučená hodnota"]
[null,{"$f":"IF($B$1=1,#REF!,C164)","v":0}]
[null,{"$f":"IF($B$1=1,#REF!,C165)","v":0}]
[null,{"$f":"IF($B$1=1,#REF!,C166)","v":"Jídelní příbory"},"Jídelní příbory"]
[null,{"$f":"IF($B$1=1,#REF!,C167)","v":"Drobné předměty"},"Drobné předměty"]
[null,{"$f":"IF($B$1=1,#REF!,C168)","v":"Pracovní příbory, náčiní, nože"},"Pracovní příbory, náčiní, nože"]
[null,{"$f":"IF($B$1=1,#REF!,C169)","v":"Řezáky na fólie"},"Řezáky na fólie"]
[null,{"$f":"IF($B$1=1,#REF!,C170)","v":"Pracovní náčiní"},"Pracovní náčiní"]
[null,{"$f":"IF($B$1=1,#REF!,C171)","v":"Plastové dózy"},"Plastové dózy"]
[null,{"$f":"IF($B$1=1,#REF!,C172)","v":"Misky a mísy, elektrospotřebiče"},"Misky a mísy, elektrospotřebiče"]
[null,{"$f":"IF($B$1=1,#REF!,C173)","v":"Hrnce, poklice"},"Hrnce, poklice"]
[null,{"$f":"IF($B$1=1,#REF!,C174)","v":"Ukládání potravin "},"Ukládání potravin "]
[null,{"$f":"IF($B$1=1,#REF!,C175)","v":"Načatá balení potravin"},"Načatá balení potravin"]
[null,{"$f":"IF($B$1=1,#REF!,C176)","v":"Misky a mísy"},"Misky a mísy"]
[null,{"$f":"IF($B$1=1,#REF!,C177)","v":"Hrnce, poklice, náčiní"},"Hrnce, poklice, náčiní"]
[null,{"$f":"IF($B$1=1,#REF!,C178)","v":"Ukládání talířů"},"Ukládání talířů"]
[null,{"$f":"IF($B$1=1,#REF!,C179)","v":"Odpadkové koše, mycí prostředky"},"Odpadkové koše, mycí prostředky"]
[null,{"$f":"IF($B$1=1,#REF!,C180)","v":"Láhve, načatá balení potravin"},"Láhve, načatá balení potravin"]
[null,{"$f":"IF($B$1=1,#REF!,C181)","v":"Koření, načatá balení potravin"},"Koření, načatá balení potravin"]
[null,{"$f":"IF($B$1=1,#REF!,C182)","v":"Koření"},"Koření"]
[null,{"$f":"IF($B$1=1,#REF!,C183)","v":"Láhve, prkýnka na krájení"},"Láhve, prkýnka na krájení"]
[null,{"$f":"IF($B$1=1,#REF!,C184)","v":"Láhve (oleje, octy)"},"Láhve (oleje, octy)"]
[null,{"$f":"IF($B$1=1,#REF!,C185)","v":"Formy, plechy na pečení"},"Formy, plechy na pečení"]
[null,{"$f":"IF($B$1=1,#REF!,C186)","v":"Sada"},"Sada"]
[null,{"$f":"IF($B$1=1,#REF!,C187)","v":"Sada pro korpus"},"Sada pro korpus"]
[null,{"$f":"IF($B$1=1,#REF!,C188)","v":"Sada pro SPACE CORNER"},"Sada pro SPACE CORNER"]
[]
[null,{"$f":"IF($B$1=1,#REF!,C190)","v":"Nahoru"},"Nahoru"]
[null,{"$f":"IF($B$1=1,#REF!,C191)","v":"od"},"od"]
[null,{"$f":"IF($B$1=1,#REF!,C192)","v":"do"},"do"]
[null,{"$f":"IF($B$1=1,#REF!,C193)","v":0}]
[null,{"$f":"IF($B$1=1,#REF!,C194)","v":0}]
[null,{"$f":"IF($B$1=1,#REF!,C195)","v":"Věnujte pozornost pokynům - zde"},"Věnujte pozornost pokynům - zde"]
[null,{"$f":"IF($B$1=1,#REF!,C196)","v":0}]
[null,{"$f":"IF($B$1=1,#REF!,C197)","v":"Minimální rozměry přířezu dna"},"Minimální rozměry přířezu dna"]
[null,{"$f":"IF($B$1=1,#REF!,C198)","v":"Není-li možné minimální rozměry dodržet, nelze použít výsuvy s TIP-ON BLUMOTION"},"Není-li možné minimální rozměry dodržet, nelze použít výsuvy s TIP-ON BLUMOTION"]
[null,{"$f":"IF($B$1=1,#REF!,C199)","v":"Firma Blum ani prodejci neručí za jejich správnost."},"Firma Blum ani prodejci neručí za jejich správnost."]
[null,{"$f":"IF($B$1=1,#REF!,C200)","v":0}]
[null,{"$f":"IF($B$1=1,#REF!,C201)","v":0}]
[null,{"$f":"IF($B$1=1,#REF!,C202)","v":"Formulář pro identifikační údaje"},"Formulář pro identifikační údaje"]
[null,{"$f":"IF($B$1=1,#REF!,C203)","v":"Odběratel"},"Odběratel"]
[null,{"$f":"IF($B$1=1,#REF!,C204)","v":"Adresa"},"Adresa"]
[null,{"$f":"IF($B$1=1,#REF!,C205)","v":"Dodací adresa"},"Dodací adresa"]
[null,{"$f":"IF($B$1=1,#REF!,C206)","v":"IČO, DIČ"},"IČO, DIČ"]
[null,{"$f":"IF($B$1=1,#REF!,C207)","v":"Telefon, fax, e-mail"},"Telefon, fax, e-mail"]
[null,{"$f":"IF($B$1=1,#REF!,C208)","v":"Číslo objednávky"},"Číslo objednávky"]
[null,{"$f":"IF($B$1=1,#REF!,C209)","v":"Zakázka"},"Zakázka"]
[null,{"$f":"IF($B$1=1,#REF!,C210)","v":0}]
[null,{"$f":"IF($B$1=1,#REF!,C211)","v":"Verze"},"Verze"]
[null,{"$f":"IF($B$1=1,#REF!,C212)","v":"Platnost ceníku od"},"Platnost ceníku od"]
[null,{"$f":"IF($B$1=1,#REF!,C213)","v":"Sleva"},"Sleva"]
[null,{"$f":"IF($B$1=1,#REF!,C214)","v":"Prodejce"},"Prodejce"]
[null,{"$f":"IF($B$1=1,#REF!,C215)","v":"Sleva od prodejce"},"Sleva od prodejce"]
[null,{"$f":"IF($B$1=1,#REF!,C216)","v":"Ceník"},"Ceník"]
[]
[null,{"$f":"IF($B$1=1,#REF!,C218)","v":0}]
[null,{"$f":"IF($B$1=1,#REF!,C219)","v":"Poznámka"},"Poznámka"]
[null,{"$f":"IF($B$1=1,#REF!,C220)","v":0}]
[null,{"$f":"IF($B$1=1,#REF!,C221)","v":"Zde můžete vložit vlastní položky (následujících 10 řádků, zobrazí se v objednávce)"},"Zde můžete vložit vlastní položky (následujících 10 řádků, zobrazí se v objednávce)"]
[null,{"$f":"IF($B$1=1,#REF!,C222)","v":0}]
[null,{"$f":"IF($B$1=1,#REF!,C223)","v":0}]
[null,{"$f":"IF($B$1=1,#REF!,C224)","v":0}]
[null,{"$f":"IF($B$1=1,#REF!,C225)","v":"Vítejte v aplikaci BOXPLAN"},"Vítejte v aplikaci BOXPLAN"]
[null,{"$f":"IF($B$1=1,#REF!,C226)","v":"Před prvním spuštěním"},"Před prvním spuštěním"]
[null,{"$f":"IF($B$1=1,#REF!,C227)","v":"Přejděte na "},"Přejděte na "]
[null,{"$f":"IF($B$1=1,#REF!,C228)","v":"Vyplňte identifikační údaje a výši slevy od prodejce"},"Vyplňte identifikační údaje a výši slevy od prodejce"]
[null,{"$f":"IF($B$1=1,#REF!,C229)","v":"Po vyplnění se vraťte na úvod a subor uložte nebo zavřete s potvrzením změn"},"Po vyplnění se vraťte na úvod a subor uložte nebo zavřete s potvrzením změn"]
[null,{"$f":"IF($B$1=1,#REF!,C230)","v":"Identifikační údaje se budou zobrazovat v objednávkách"},"Identifikační údaje se budou zobrazovat v objednávkách"]
[null,{"$f":"IF($B$1=1,#REF!,C231)","v":0}]
[null,{"$f":"IF($B$1=1,#REF!,C232)","v":"Na úvodní obrazovce vyberte, jaké ceny se budou zobrazovat:"},"Na úvodní obrazovce vyberte, jaké ceny se budou zobrazovat:"]
[null,{"$f":"IF($B$1=1,#REF!,C233)","v":"Základní (ceníkové) ceny bez slevy"},"Základní (ceníkové) ceny bez slevy"]
[null,{"$f":"IF($B$1=1,#REF!,C234)","v":"Zadáte-li slevu s mínusovým znamínkem, zobrazí se ceny o tuto hodnotu vyšší "},"Zadáte-li slevu s mínusovým znamínkem, zobrazí se ceny o tuto hodnotu vyšší "]
[null,{"$f":"IF($B$1=1,#REF!,C235)","v":0}]
[null,{"$f":"IF($B$1=1,#REF!,C236)","v":"Vyberte barvu povrchové úpravy"},"Vyberte barvu povrchové úpravy"]
[null,{"$f":"IF($B$1=1,#REF!,C237)","v":"Vyberte způsob montáže čelního kování"},"Vyberte způsob montáže čelního kování"]
[null,{"$f":"IF($B$1=1,#REF!,C238)","v":0}]
[null,{"$f":"IF($B$1=1,#REF!,C239)","v":"Kliknutím na označení vyberte požadovaný výsuv"},"Kliknutím na označení vyberte požadovaný výsuv"]
[]
[null,{"$f":"IF($B$1=1,#REF!,C241)","v":"Legenda"},"Legenda"]
[null,{"$f":"IF($B$1=1,#REF!,C242)","v":"Změna zobrazovaných hodnot"},"Změna zobrazovaných hodnot"]
[null,{"$f":"IF($B$1=1,#REF!,C243)","v":"Výpočet hmotnosti"},"Výpočet hmotnosti"]
[null,{"$f":"IF($B$1=1,#REF!,C244)","v":"Upozornění"},"Upozornění"]
[null,{"$f":"IF($B$1=1,#REF!,C245)","v":"Informace a vysvětlivky"},"Informace a vysvětlivky"]
[null,{"$f":"IF($B$1=1,#REF!,C246)","v":"Tip"},"Tip"]
[null,{"$f":"IF($B$1=1,#REF!,C247)","v":"Nápověda"},"Nápověda"]
[null,{"$f":"IF($B$1=1,#REF!,C248)","v":"Odkazy na brožury, montážní návody a instrukážní videa"},"Odkazy na brožury, montážní návody a instrukážní videa"]
[null,{"$f":"IF($B$1=1,#REF!,C249)","v":"Soubory PDF"},"Soubory PDF"]
[null,{"$f":"IF($B$1=1,#REF!,C250)","v":0}]
[null,{"$f":"IF($B$1=1,#REF!,C251)","v":0}]
[null,{"$f":"IF($B$1=1,#REF!,C252)","v":"Po úpravě objenávky odfiltrujte pomocí filtru ve sloupci \"Ks\" prázné řádky."},"Po úpravě objenávky odfiltrujte pomocí filtru ve sloupci \"Ks\" prázné řádky."]
[null,{"$f":"IF($B$1=1,#REF!,C253)","v":0}]
[null,{"$f":"IF($B$1=1,#REF!,C254)","v":"Chcete-li objednávku uložit nebo odeslat jako přílohu, vytvořte nový soubor kliknutím na odkaz"},"Chcete-li objednávku uložit nebo odeslat jako přílohu, vytvořte nový soubor kliknutím na odkaz"]
[]
[null,{"$f":"IF($B$1=1,#REF!,C256)","v":"Vytvořit objednávku"},"Vytvořit objednávku"]
[null,{"$f":"IF($B$1=1,#REF!,C257)","v":0}]
[]
[null,{"$f":"IF($B$1=1,#REF!,C259)","v":"Výběr sady jednotek"},"Výběr sady jednotek"]
[null,{"$f":"IF($B$1=1,#REF!,C260)","v":"Počet skříní"},"Počet skříní"]
[null,{"$f":"IF($B$1=1,#REF!,C261)","v":"Zadejte počty skříní podle šířky korpusu a délky výsuvů"},"Zadejte počty skříní podle šířky korpusu a délky výsuvů"]
[null,{"$f":"IF($B$1=1,#REF!,C262)","v":"Poté zadejte požadované složení korpusových lišt"},"Poté zadejte požadované složení korpusových lišt"]
[null,{"$f":"IF($B$1=1,#REF!,C263)","v":"Zadejte počty 30kg korpusových lišt, 65kg lišty se dopočítají"},"Zadejte počty 30kg korpusových lišt, 65kg lišty se dopočítají"]
[null,{"$f":"IF($B$1=1,#REF!,C264)","v":"Korpusové lišty"},"Korpusové lišty"]
[null,{"$f":"IF($B$1=1,#REF!,C265)","v":"Zadejte počet korpusových lišt, pokud chcete jiné, než přednastavené složení"},"Zadejte počet korpusových lišt, pokud chcete jiné, než přednastavené složení"]
[null,{"$f":"IF($B$1=1,#REF!,C266)","v":"Nastavené počty korpusových lišt"},"Nastavené počty korpusových lišt"]
[]
[null,{"$f":"IF($B$1=1,#REF!,C268)","v":"Sada jednotek TIP-ON BLUMOTION"},"Sada jednotek TIP-ON BLUMOTION"]
[null,{"$f":"IF($B$1=1,#REF!,C269)","v":"Jednotky TIP-ON BLUMOTION jsou přidány automaticky"},"Jednotky TIP-ON BLUMOTION jsou přidány automaticky"]
[null,{"$f":"IF($B$1=1,#REF!,C270)","v":"Synchronizace je přidána automaticky. "},"Synchronizace je přidána automaticky. "]
[null,{"$f":"IF($B$1=1,#REF!,C271)","v":"Pozor! Pro každý výsuv je započítána jedna hřídel. Počet hřídelí upravte v objednávce!"},"Pozor! Pro každý výsuv je započítána jedna hřídel. Počet hřídelí upravte v objednávce!"]
[null,{"$f":"IF($B$1=1,#REF!,C272)","v":"Pro korpusy šířky ≥ 750 mm použijte podpěru dna a podpěru synchronizační hřídele."},"Pro korpusy šířky ≥ 750 mm použijte podpěru dna a podpěru synchronizační hřídele."]
[null,{"$f":"IF($B$1=1,#REF!,C273)","v":"Podpěry přidejte v sekci \"Výběr doplňků\""},"Podpěry přidejte v sekci \"Výběr doplňků\""]
[null,{"$f":"IF($B$1=1,#REF!,C274)","v":"Podpěry jsou přidány automaticky"},"Podpěry jsou přidány automaticky"]
[null,{"$f":"IF($B$1=1,#REF!,C275)","v":"Jednotka"},"Jednotka"]
[null,{"$f":"IF($B$1=1,#REF!,C276)","v":"S0 a S1 pouze pro jmenovitou délku 270 a 300 mm"},"S0 a S1 pouze pro jmenovitou délku 270 a 300 mm"]
[null,{"$f":"IF($B$1=1,#REF!,C277)","v":"Pro výsuvy délky 270 a 300 mm vyberte jednotky S0 nebo S1"},"Pro výsuvy délky 270 a 300 mm vyberte jednotky S0 nebo S1"]
[null,{"$f":"IF($B$1=1,#REF!,C278)","v":"Počet jednotek L neodpovídá počtu korpusových lišt"},"Počet jednotek L neodpovídá počtu korpusových lišt"]
[null,{"$f":"IF($B$1=1,#REF!,C279)","v":"Počet jednotek S neodpovídá počtu korpusových lišt"},"Počet jednotek S neodpovídá počtu korpusových lišt"]
[null,{"$f":"IF($B$1=1,#REF!,C280)","v":"Využití pro"},"Využití pro"]
[null,{"$f":"IF($B$1=1,#REF!,C281)","v":"Doporučené hodnoty hmotnosti"},"Doporučené hodnoty hmotnosti"]
[null,{"$f":"IF($B$1=1,#REF!,C282)","v":"Celková hmotnost výsuvu (hmotnost výsuvu včetně náplně)"},"Celková hmotnost výsuvu (hmotnost výsuvu včetně náplně)"]
[null,{"$f":"IF($B$1=1,#REF!,C283)","v":"a sada unašečů TIP-ON BLUMOTION"},"a sada unašečů TIP-ON BLUMOTION"]
[null,{"$f":"IF($B$1=1,#REF!,C284)","v":"Kovové zásuvné prvky pro NL 270 až 400mm se nevyrábí."},"Kovové zásuvné prvky pro NL 270 až 400mm se nevyrábí."]
[null,{"$f":"IF($B$1=1,#REF!,C285)","v":"Do objednávky budou přidány prvky pro 450mm, které je potřeba na danou délku zkrátit."},"Do objednávky budou přidány prvky pro 450mm, které je potřeba na danou délku zkrátit."]
[null,{"$f":"IF($B$1=1,#REF!,C286)","v":"Nerez (Inox) není běžně skladem."},"Nerez (Inox) není běžně skladem."]
[null,{"$f":"IF($B$1=1,#REF!,C287)","v":"Dostupnost ověřte u svého dodavatele."},"Dostupnost ověřte u svého dodavatele."]
[null,{"$f":"IF($B$1=1,#REF!,C288)","v":"Zásuvky K se v provedení nerez (Inox) nevyrábí"},"Zásuvky K se v provedení nerez (Inox) nevyrábí"]
[null,{"$f":"IF($B$1=1,#REF!,C289)","v":"Kovové zásuvné prvky pro nerez (Inox) se nevyrábí"},"Kovové zásuvné prvky pro nerez (Inox) se nevyrábí"]
[null,{"$f":"IF($B$1=1,#REF!,C290)","v":"Kování naplánované na tomto listu se neprojeví v objednávce"},"Kování naplánované na tomto listu se neprojeví v objednávce"]

{"sheet":"Cen","index":63,"n_rows":676,"n_cols":23,"rows_kept":676,"cut":false,"hidden":true,"merged":[]}
[]
["Barva: ",{"$f":"IF(C2=1,\"šedá\",IF(C2=2,\"hedvábně bílá\",IF(C2=3,\"černá Terra\", IF(C2=4, \"Inox\", \"x\"))))","v":"šedá"},{"$f":"Form!$N$2","v":1},null,null,null,null,null,null,null,null,{"$f":"List!$B$100","v":"Zpět na úvod"}]
["Sklo:  ",{"$f":"IF(C3=1,\"čiré\",IF(C3=2,\"saténované\",\"chyba\"))","v":"čiré"},{"$f":"Form!$N$8","v":1}]
["Čelní kování:  ",{"$f":"IF(C4=1,\"na vruty\",IF(C4=2,\"INSERTA\",\"chyba\"))","v":"INSERTA"},{"$f":"Form!$N$13","v":2}]
[null,null,null,null,null,null,null,null,null,null,null,null,null,null,null,null,null,null,null,null,null,null,"platnost ceníku od:"]
["Cena:  ",null,{"$f":"Form!$N$19","v":1},null,null,{"$f":"Form!$I$19","v":0},null,null,null,null,null,null,null,null,null,null,null,null,null,null,null,null,{"$f":"Price!H8","v":"2017-09-29"}]
[]
[]
[]
[{"$f":"List!$B$87","v":"Název"},{"$f":"List!$B$88","v":"Číslo artiklu"},{"$f":"List!$B$89","v":"Barva"},{"$f":"List!$B$97","v":"Dostupnost"},{"$f":"List!$B$90","v":"Počet"},{"$f":"List!$B$92","v":"Jednotková cena"},{"$f":"List!$B$93","v":"Celkem"},{"$f":"List!$B$94","v":"Změna"},"IDNr.",{"$f":"Price!$H$10","v":0},null,{"$f":"Price!A10","v":"Název"},{"$f":"Price!B10","v":"Číslo artiklu"},{"$f":"Price!C10","v":"Barva"},{"$f":"List!B97","v":"Dostupnost"},{"$f":"List!B90","v":"Počet"},{"$f":"Price!F10","v":"Jednotková cena"},null,null,{"$f":"Price!G10","v":"IDNr."},{"$f":"Price!H10","v":0}]
[{"$f":"IF($C$2=1,L11,IF($C$2=2,L12,IF($C$2=3,L13, IF($C$2=4, L14, \"  chyba\"))))","v":"Bočnice N 400mm, šedé"},{"$f":"IF($C$2=1,M11,IF($C$2=2,M12,IF($C$2=3,M13, IF($C$2=4, M14, \"  chyba\"))))","v":"378N4002SA"},"R906","!",0,{"$f":"IF($C$2=1,Q11,IF($C$2=2,Q12,IF($C$2=3,Q13, IF($C$2=4, Q14, \"  chyba\"))))*(100-$F$6)/100","v":416.8},null,null,7931180,"D539782",null,{"$f":"Price!A11","v":"Bočnice N 400mm, šedé"},{"$f":"Price!B11","v":"378N4002SA"},{"$f":"Price!C11","v":"R906"},{"$f":"Price!D11","v":"!"},{"$f":"Price!E11","v":0},{"$f":"Price!F11","v":416.8},null,null,{"$f":"Price!G11","v":7931180},{"$f":"Price!H11","v":"D539782"}]
[null,null,null,null,null,null,null,null,null,null,null,{"$f":"Price!A12","v":"Bočnice N 400mm, hedvábně bílé"},{"$f":"Price!B12","v":"378N4002SA"},{"$f":"Price!C12","v":"SEIW"},{"$f":"Price!D12","v":"!"},{"$f":"Price!E12","v":0},{"$f":"Price!F12","v":416.8},null,null,{"$f":"Price!G12","v":7636322},{"$f":"Price!H12","v":"D522072"}]
[null,null,null,null,null,null,null,null,null,null,null,{"$f":"Price!A13","v":"Bočnice N 400mm, černé Terra"},{"$f":"Price!B13","v":"378N4002SA"},{"$f":"Price!C13","v":"TERS"},{"$f":"Price!D13","v":"!"},{"$f":"Price!E13","v":0},{"$f":"Price!F13","v":421.8},null,null,{"$f":"Price!G13","v":8672861},{"$f":"Price!H13","v":"D551853"}]
[null,null,null,null,null,null,null,null,null,null,null,{"$f":"Price!A14","v":"Bočnice N 400mm, nerez (Inox)"},{"$f":"Price!B14","v":"378N4002IA"},{"$f":"Price!C14","v":"INGL"},{"$f":"Price!D14","v":"!"},{"$f":"Price!E14","v":0},{"$f":"Price!F14","v":0},null,null,{"$f":"Price!G14","v":9633400},{"$f":"Price!H14","v":"na dotaz"}]
[{"$f":"IF($C$2=1,L15,IF($C$2=2,L16,IF($C$2=3,L17, IF($C$2=4, L18, \"  chyba\"))))","v":"Bočnice N 450mm, šedé"},{"$f":"IF($C$2=1,M15,IF($C$2=2,M16,IF($C$2=3,M17, IF($C$2=4, M18, \"  chyba\"))))","v":"378N4502SA"},{"$f":"IF($C$2=1,N15,IF($C$2=2,N16,IF($C$2=3,N17, IF($C$2=4, N18, \"  chyba\"))))","v":"R906"},{"$f":"IF($C$2=1,O15,IF($C$2=2,O16,IF($C$2=3,O17, IF($C$2=4, O18, \"  chyba\"))))","v":"!"},{"$f":"IF($C$2=1,P15,IF($C$2=2,P16,IF($C$2=3,P17, IF($C$2=4, P18, \"  chyba\"))))","v":0},{"$f":"IF($C$2=1,Q15,IF($C$2=2,Q16,IF($C$2=3,Q17, IF($C$2=4, Q18, \"  chyba\"))))*(100-$F$6)/100","v":420.5},null,null,{"$f":"IF($C$2=1,T15,IF($C$2=2,T16,IF($C$2=3,T17, IF($C$2=4, T18, \"  chyba\"))))","v":7931884},{"$f":"IF($C$2=1,U15,IF($C$2=2,U16,IF($C$2=3,U17, IF($C$2=4, U18, \"  chyba\"))))","v":"D549956"},null,{"$f":"Price!A15","v":"Bočnice N 450mm, šedé"},{"$f":"Price!B15","v":"378N4502SA"},{"$f":"Price!C15","v":"R906"},{"$f":"Price!D15","v":"!"},{"$f":"Price!E15","v":0},{"$f":"Price!F15","v":420.5},null,null,{"$f":"Price!G15","v":7931884},{"$f":"Price!H15","v":"D549956"}]
[null,null,null,null,null,null,null,null,null,null,null,{"$f":"Price!A16","v":"Bočnice N 450mm, hedvábně bílé"},{"$f":"Price!B16","v":"378N4502SA"},{"$f":"Price!C16","v":"SEIW"},{"$f":"Price!D16","v":"!"},{"$f":"Price!E16","v":0},{"$f":"Price!F16","v":420.5},null,null,{"$f":"Price!G16","v":7639774},{"$f":"Price!H16","v":"D511631"}]
[null,null,null,null,null,null,null,null,null,null,null,{"$f":"Price!A17","v":"Bočnice N 450mm, černé Terra"},{"$f":"Price!B17","v":"378N4502SA"},{"$f":"Price!C17","v":"TERS"},{"$f":"Price!D17","v":"!"},{"$f":"Price!E17","v":0},{"$f":"Price!F17","v":425.5},null,null,{"$f":"Price!G17","v":8726323},{"$f":"Price!H17","v":"D551854"}]
[null,null,null,null,null,null,null,null,null,null,null,{"$f":"Price!A18","v":"Bočnice N 450mm, nerez (Inox)"},{"$f":"Price!B18","v":"378N4502IA"},{"$f":"Price!C18","v":"INGL"},{"$f":"Price!D18","v":"!"},{"$f":"Price!E18","v":0},{"$f":"Price!F18","v":0},null,null,{"$f":"Price!G18","v":9636840},{"$f":"Price!H18","v":"na dotaz"}]
[{"$f":"IF($C$2=1,L19,IF($C$2=2,L20,IF($C$2=3,L21, IF($C$2=4, L22, \"  chyba\"))))","v":"Bočnice N 500mm, šedé"},{"$f":"IF($C$2=1,M19,IF($C$2=2,M20,IF($C$2=3,M21, IF($C$2=4, M22, \"  chyba\"))))","v":"378N5002SA"},{"$f":"IF($C$2=1,N19,IF($C$2=2,N20,IF($C$2=3,N21, IF($C$2=4, N22, \"  chyba\"))))","v":"R906"},{"$f":"IF($C$2=1,O19,IF($C$2=2,O20,IF($C$2=3,O21, IF($C$2=4, O22, \"  chyba\"))))","v":0},{"$f":"IF($C$2=1,P19,IF($C$2=2,P20,IF($C$2=3,P21, IF($C$2=4, P22, \"  chyba\"))))","v":0},{"$f":"IF($C$2=1,Q19,IF($C$2=2,Q20,IF($C$2=3,Q21, IF($C$2=4, Q22, \"  chyba\"))))*(100-$F$6)/100","v":424.3},null,null,{"$f":"IF($C$2=1,T19,IF($C$2=2,T20,IF($C$2=3,T21, IF($C$2=4, T22, \"  chyba\"))))","v":7947477},{"$f":"IF($C$2=1,U19,IF($C$2=2,U20,IF($C$2=3,U21, IF($C$2=4, U22, \"  chyba\"))))","v":"D460271"},null,{"$f":"Price!A19","v":"Bočnice N 500mm, šedé"},{"$f":"Price!B19","v":"378N5002SA"},{"$f":"Price!C19","v":"R906"},{"$f":"Price!D19","v":0},{"$f":"Price!E19","v":0},{"$f":"Price!F19","v":424.3},null,null,{"$f":"Price!G19","v":7947477},{"$f":"Price!H19","v":"D460271"}]
[null,null,null,null,null,null,null,null,null,null,null,{"$f":"Price!A20","v":"Bočnice N 500mm, hedvábně bílé"},{"$f":"Price!B20","v":"378N5002SA"},{"$f":"Price!C20","v":"SEIW"},{"$f":"Price!D20","v":0},{"$f":"Price!E20","v":0},{"$f":"Price!F20","v":424.3},null,null,{"$f":"Price!G20","v":7641097},{"$f":"Price!H20","v":"D289777"}]
[null,null,null,null,null,null,null,null,null,null,null,{"$f":"Price!A21","v":"Bočnice N 500mm, černé Terra"},{"$f":"Price!B21","v":"378N5002SA"},{"$f":"Price!C21","v":"TERS"},{"$f":"Price!D21","v":0},{"$f":"Price!E21","v":0},{"$f":"Price!F21","v":429.3},null,null,{"$f":"Price!G21","v":8740815},{"$f":"Price!H21","v":"D289778"}]
[null,null,null,null,null,null,null,null,null,null,null,{"$f":"Price!A22","v":"Bočnice N 500mm, nerez (Inox)"},{"$f":"Price!B22","v":"378N5002IA"},{"$f":"Price!C22","v":"INGL"},{"$f":"Price!D22","v":"!"},{"$f":"Price!E22","v":0},{"$f":"Price!F22","v":0},null,null,{"$f":"Price!G22","v":9657015},{"$f":"Price!H22","v":"na dotaz"}]
[{"$f":"IF($C$2=1,L23,IF($C$2=2,L24,IF($C$2=3,L25, IF($C$2=4, L26, \"  chyba\"))))","v":"Bočnice N 550mm, šedé"},{"$f":"IF($C$2=1,M23,IF($C$2=2,M24,IF($C$2=3,M25, IF($C$2=4, M26, \"  chyba\"))))","v":"378N5502SA"},{"$f":"IF($C$2=1,N23,IF($C$2=2,N24,IF($C$2=3,N25, IF($C$2=4, N26, \"  chyba\"))))","v":"R906"},{"$f":"IF($C$2=1,O23,IF($C$2=2,O24,IF($C$2=3,O25, IF($C$2=4, O26, \"  chyba\"))))","v":"!"},{"$f":"IF($C$2=1,P23,IF($C$2=2,P24,IF($C$2=3,P25, IF($C$2=4, P26, \"  chyba\"))))","v":0},{"$f":"IF($C$2=1,Q23,IF($C$2=2,Q24,IF($C$2=3,Q25, IF($C$2=4, Q26, \"  chyba\"))))*(100-$F$6)/100","v":461.7},null,null,{"$f":"IF($C$2=1,T23,IF($C$2=2,T24,IF($C$2=3,T25, IF($C$2=4, T26, \"  chyba\"))))","v":7952690},{"$f":"IF($C$2=1,U23,IF($C$2=2,U24,IF($C$2=3,U25, IF($C$2=4, U26, \"  chyba\"))))","v":"D545875"},null,{"$f":"Price!A23","v":"Bočnice N 550mm, šedé"},{"$f":"Price!B23","v":"378N5502SA"},{"$f":"Price!C23","v":"R906"},{"$f":"Price!D23","v":"!"},{"$f":"Price!E23","v":0},{"$f":"Price!F23","v":461.7},null,null,{"$f":"Price!G23","v":7952690},{"$f":"Price!H23","v":"D545875"}]
[null,null,null,null,null,null,null,null,null,null,null,{"$f":"Price!A24","v":"Bočnice N 550mm, hedvábně bílé"},{"$f":"Price!B24","v":"378N5502SA"},{"$f":"Price!C24","v":"SEIW"},{"$f":"Price!D24","v":"!"},{"$f":"Price!E24","v":0},{"$f":"Price!F24","v":461.7},null,null,{"$f":"Price!G24","v":7720758},{"$f":"Price!H24","v":"D551656"}]
[null,null,null,null,null,null,null,null,null,null,null,{"$f":"Price!A25","v":"Bočnice N 550mm, černé Terra"},{"$f":"Price!B25","v":"378N5502SA"},{"$f":"Price!C25","v":"TERS"},{"$f":"Price!D25","v":"!"},{"$f":"Price!E25","v":0},{"$f":"Price!F25","v":466.6},null,null,{"$f":"Price!G25","v":8742836},{"$f":"Price!H25","v":"D551855"}]
[null,null,null,null,null,null,null,null,null,null,null,{"$f":"Price!A26","v":"Bočnice N 550mm, nerez (Inox)"},{"$f":"Price!B26","v":"378N5502IA"},{"$f":"Price!C26","v":"INGL"},{"$f":"Price!D26","v":"!"},{"$f":"Price!E26","v":0},{"$f":"Price!F26","v":0},null,null,{"$f":"Price!G26","v":9688679},{"$f":"Price!H26","v":"na dotaz"}]
[null,null,null,null,null,null,null,null,null,null,null,{"$f":"Price!A27","v":0},{"$f":"Price!B27","v":0},{"$f":"Price!C27","v":0},{"$f":"Price!D27","v":0},{"$f":"Price!E27","v":0},{"$f":"Price!F27","v":0},null,null,{"$f":"Price!G27","v":0},{"$f":"Price!H27","v":0}]
[{"$f":"IF($C$2=1,L28,IF($C$2=2,L29,IF($C$2=3,L30, IF($C$2=4, L31, \"  chyba\"))))","v":"Bočnice M 270mm, šedé"},{"$f":"IF($C$2=1,M28,IF($C$2=2,M29,IF($C$2=3,M30, IF($C$2=4, M31, \"  chyba\"))))","v":"378M2702SA"},{"$f":"IF($C$2=1,N28,IF($C$2=2,N29,IF($C$2=3,N30, IF($C$2=4, N31, \"  chyba\"))))","v":"R906"},{"$f":"IF($C$2=1,O28,IF($C$2=2,O29,IF($C$2=3,O30, IF($C$2=4, O31, \"  chyba\"))))","v":0},{"$f":"IF($C$2=1,P28,IF($C$2=2,P29,IF($C$2=3,P30, IF($C$2=4, P31, \"  chyba\"))))","v":0},{"$f":"IF($C$2=1,Q28,IF($C$2=2,Q29,IF($C$2=3,Q30, IF($C$2=4, Q31, \"  chyba\"))))*(100-$F$6)/100","v":350.6},null,null,{"$f":"IF($C$2=1,T28,IF($C$2=2,T29,IF($C$2=3,T30, IF($C$2=4, T31, \"  chyba\"))))","v":7878776},{"$f":"IF($C$2=1,U28,IF($C$2=2,U29,IF($C$2=3,U30, IF($C$2=4, U31, \"  chyba\"))))","v":"D511661 + D511660"},null,{"$f":"Price!A28","v":"Bočnice M 270mm, šedé"},{"$f":"Price!B28","v":"378M2702SA"},{"$f":"Price!C28","v":"R906"},{"$f":"Price!D28","v":0},{"$f":"Price!E28","v":0},{"$f":"Price!F28","v":350.6},null,null,{"$f":"Price!G28","v":7878776},{"$f":"Price!H28","v":"D511661 + D511660"}]
[null,null,null,null,null,null,null,null,null,null,null,{"$f":"Price!A29","v":"Bočnice M 270mm, hedvábně bílé"},{"$f":"Price!B29","v":"378M2702SA"},{"$f":"Price!C29","v":"SEIW"},{"$f":"Price!D29","v":0},{"$f":"Price!E29","v":0},{"$f":"Price!F29","v":350.6},null,null,{"$f":"Price!G29","v":7353106},{"$f":"Price!H29","v":"D551826 + D551825"}]
[null,null,null,null,null,null,null,null,null,null,null,{"$f":"Price!A30","v":"Bočnice M 270mm, černé Terra"},{"$f":"Price!B30","v":"378M2702SA"},{"$f":"Price!C30","v":"TERS"},{"$f":"Price!D30","v":0},{"$f":"Price!E30","v":0},{"$f":"Price!F30","v":418},null,null,{"$f":"Price!G30","v":8396367},{"$f":"Price!H30","v":"D460260"}]
[null,null,null,null,null,null,null,null,null,null,null,{"$f":"Price!A31","v":"Bočnice M 270mm, nerez (Inox)"},{"$f":"Price!B31","v":"378M2702IA"},{"$f":"Price!C31","v":"INGL"},{"$f":"Price!D31","v":"!"},{"$f":"Price!E31","v":0},{"$f":"Price!F31","v":0},null,null,{"$f":"Price!G31","v":9278317},{"$f":"Price!H31","v":"na dotaz"}]
[{"$f":"IF($C$2=1,L32,IF($C$2=2,L33,IF($C$2=3,L34, IF($C$2=4, L35, \"  chyba\"))))","v":"Bočnice M 300mm, šedé"},{"$f":"IF($C$2=1,M32,IF($C$2=2,M33,IF($C$2=3,M34, IF($C$2=4, M35, \"  chyba\"))))","v":"378M3002SA"},{"$f":"IF($C$2=1,N32,IF($C$2=2,N33,IF($C$2=3,N34, IF($C$2=4, N35, \"  chyba\"))))","v":"R906"},{"$f":"IF($C$2=1,O32,IF($C$2=2,O33,IF($C$2=3,O34, IF($C$2=4, O35, \"  chyba\"))))","v":0},{"$f":"IF($C$2=1,P32,IF($C$2=2,P33,IF($C$2=3,P34, IF($C$2=4, P35, \"  chyba\"))))","v":0},{"$f":"IF($C$2=1,Q32,IF($C$2=2,Q33,IF($C$2=3,Q34, IF($C$2=4, Q35, \"  chyba\"))))*(100-$F$6)/100","v":350.6},null,null,{"$f":"IF($C$2=1,T32,IF($C$2=2,T33,IF($C$2=3,T34, IF($C$2=4, T35, \"  chyba\"))))","v":7879328},{"$f":"IF($C$2=1,U32,IF($C$2=2,U33,IF($C$2=3,U34, IF($C$2=4, U35, \"  chyba\"))))","v":"D511667 + D511666"},null,{"$f":"Price!A32","v":"Bočnice M 300mm, šedé"},{"$f":"Price!B32","v":"378M3002SA"},{"$f":"Price!C32","v":"R906"},{"$f":"Price!D32","v":0},{"$f":"Price!E32","v":0},{"$f":"Price!F32","v":350.6},null,null,{"$f":"Price!G32","v":7879328},{"$f":"Price!H32","v":"D511667 + D511666"}]
[null,null,null,null,null,null,null,null,null,null,null,{"$f":"Price!A33","v":"Bočnice M 300mm, hedvábně bílé"},{"$f":"Price!B33","v":"378M3002SA"},{"$f":"Price!C33","v":"SEIW"},{"$f":"Price!D33","v":0},{"$f":"Price!E33","v":0},{"$f":"Price!F33","v":350.6},null,null,{"$f":"Price!G33","v":7416089},{"$f":"Price!H33","v":"D551828 + D551827"}]
[null,null,null,null,null,null,null,null,null,null,null,{"$f":"Price!A34","v":"Bočnice M 300mm, černé Terra"},{"$f":"Price!B34","v":"378M3002SA"},{"$f":"Price!C34","v":"TERS"},{"$f":"Price!D34","v":0},{"$f":"Price!E34","v":0},{"$f":"Price!F34","v":418},null,null,{"$f":"Price!G34","v":8410449},{"$f":"Price!H34","v":"D497474"}]
[null,null,null,null,null,null,null,null,null,null,null,{"$f":"Price!A35","v":"Bočnice M 300mm, nerez (Inox)"},{"$f":"Price!B35","v":"378M3002IA"},{"$f":"Price!C35","v":"INGL"},{"$f":"Price!D35","v":"!"},{"$f":"Price!E35","v":0},{"$f":"Price!F35","v":0},null,null,{"$f":"Price!G35","v":9282144},{"$f":"Price!H35","v":"na dotaz"}]
[{"$f":"IF($C$2=1,L36,IF($C$2=2,L37,IF($C$2=3,L38, IF($C$2=4, L39, \"  chyba\"))))","v":"Bočnice M 350mm, šedé"},{"$f":"IF($C$2=1,M36,IF($C$2=2,M37,IF($C$2=3,M38, IF($C$2=4, M39, \"  chyba\"))))","v":"378M3502SA"},{"$f":"IF($C$2=1,N36,IF($C$2=2,N37,IF($C$2=3,N38, IF($C$2=4, N39, \"  chyba\"))))","v":"R906"},{"$f":"IF($C$2=1,O36,IF($C$2=2,O37,IF($C$2=3,O38, IF($C$2=4, O39, \"  chyba\"))))","v":0},{"$f":"IF($C$2=1,P36,IF($C$2=2,P37,IF($C$2=3,P38, IF($C$2=4, P39, \"  chyba\"))))","v":0},{"$f":"IF($C$2=1,Q36,IF($C$2=2,Q37,IF($C$2=3,Q38, IF($C$2=4, Q39, \"  chyba\"))))*(100-$F$6)/100","v":350.6},null,null,{"$f":"IF($C$2=1,T36,IF($C$2=2,T37,IF($C$2=3,T38, IF($C$2=4, T39, \"  chyba\"))))","v":7880418},{"$f":"IF($C$2=1,U36,IF($C$2=2,U37,IF($C$2=3,U38, IF($C$2=4, U39, \"  chyba\"))))","v":"D511675 + D511674"},null,{"$f":"Price!A36","v":"Bočnice M 350mm, šedé"},{"$f":"Price!B36","v":"378M3502SA"},{"$f":"Price!C36","v":"R906"},{"$f":"Price!D36","v":0},{"$f":"Price!E36","v":0},{"$f":"Price!F36","v":350.6},null,null,{"$f":"Price!G36","v":7880418},{"$f":"Price!H36","v":"D511675 + D511674"}]
[null,null,null,null,null,null,null,null,null,null,null,{"$f":"Price!A37","v":"Bočnice M 350mm, hedvábně bílé"},{"$f":"Price!B37","v":"378M3502SA"},{"$f":"Price!C37","v":"SEIW"},{"$f":"Price!D37","v":0},{"$f":"Price!E37","v":0},{"$f":"Price!F37","v":350.6},null,null,{"$f":"Price!G37","v":7432656},{"$f":"Price!H37","v":"D532893 + D532892"}]
[null,null,null,null,null,null,null,null,null,null,null,{"$f":"Price!A38","v":"Bočnice M 350mm, černé Terra"},{"$f":"Price!B38","v":"378M3502SA"},{"$f":"Price!C38","v":"TERS"},{"$f":"Price!D38","v":0},{"$f":"Price!E38","v":0},{"$f":"Price!F38","v":418},null,null,{"$f":"Price!G38","v":8451477},{"$f":"Price!H38","v":"D497475"}]
[null,null,null,null,null,null,null,null,null,null,null,{"$f":"Price!A39","v":"Bočnice M 350mm, nerez (Inox)"},{"$f":"Price!B39","v":"378M3502IA"},{"$f":"Price!C39","v":"INGL"},{"$f":"Price!D39","v":"!"},{"$f":"Price!E39","v":0},{"$f":"Price!F39","v":0},null,null,{"$f":"Price!G39","v":9396757},{"$f":"Price!H39","v":"na dotaz"}]
[{"$f":"IF($C$2=1,L40,IF($C$2=2,L41,IF($C$2=3,L42, IF($C$2=4, L43, \"  chyba\"))))","v":"Bočnice M 400mm, šedé"},{"$f":"IF($C$2=1,M40,IF($C$2=2,M41,IF($C$2=3,M42, IF($C$2=4, M43, \"  chyba\"))))","v":"378M4002SA"},{"$f":"IF($C$2=1,N40,IF($C$2=2,N41,IF($C$2=3,N42, IF($C$2=4, N43, \"  chyba\"))))","v":"R906"},{"$f":"IF($C$2=1,O40,IF($C$2=2,O41,IF($C$2=3,O42, IF($C$2=4, O43, \"  chyba\"))))","v":0},{"$f":"IF($C$2=1,P40,IF($C$2=2,P41,IF($C$2=3,P42, IF($C$2=4, P43, \"  chyba\"))))","v":0},{"$f":"IF($C$2=1,Q40,IF($C$2=2,Q41,IF($C$2=3,Q42, IF($C$2=4, Q43, \"  chyba\"))))*(100-$F$6)/100","v":354.3},null,null,{"$f":"IF($C$2=1,T40,IF($C$2=2,T41,IF($C$2=3,T42, IF($C$2=4, T43, \"  chyba\"))))","v":7892695},{"$f":"IF($C$2=1,U40,IF($C$2=2,U41,IF($C$2=3,U42, IF($C$2=4, U43, \"  chyba\"))))","v":"D511679 + D511678"},null,{"$f":"Price!A40","v":"Bočnice M 400mm, šedé"},{"$f":"Price!B40","v":"378M4002SA"},{"$f":"Price!C40","v":"R906"},{"$f":"Price!D40","v":0},{"$f":"Price!E40","v":0},{"$f":"Price!F40","v":354.3},null,null,{"$f":"Price!G40","v":7892695},{"$f":"Price!H40","v":"D511679 + D511678"}]
[null,null,null,null,null,null,null,null,null,null,null,{"$f":"Price!A41","v":"Bočnice M 400mm, hedvábně bílé"},{"$f":"Price!B41","v":"378M4002SA"},{"$f":"Price!C41","v":"SEIW"},{"$f":"Price!D41","v":0},{"$f":"Price!E41","v":0},{"$f":"Price!F41","v":354.3},null,null,{"$f":"Price!G41","v":7453939},{"$f":"Price!H41","v":"D532895 + D532894"}]
[null,null,null,null,null,null,null,null,null,null,null,{"$f":"Price!A42","v":"Bočnice M 400mm, černé Terra"},{"$f":"Price!B42","v":"378M4002SA"},{"$f":"Price!C42","v":"TERS"},{"$f":"Price!D42","v":0},{"$f":"Price!E42","v":0},{"$f":"Price!F42","v":421.8},null,null,{"$f":"Price!G42","v":8456024},{"$f":"Price!H42","v":"D356962"}]
[null,null,null,null,null,null,null,null,null,null,null,{"$f":"Price!A43","v":"Bočnice M 400mm, nerez (Inox)"},{"$f":"Price!B43","v":"378M4002IA"},{"$f":"Price!C43","v":"INGL"},{"$f":"Price!D43","v":"!"},{"$f":"Price!E43","v":0},{"$f":"Price!F43","v":0},null,null,{"$f":"Price!G43","v":9424604},{"$f":"Price!H43","v":"na dotaz"}]
[{"$f":"IF($C$2=1,L44,IF($C$2=2,L45,IF($C$2=3,L46, IF($C$2=4, L47, \"  chyba\"))))","v":"Bočnice M 450mm, šedé"},{"$f":"IF($C$2=1,M44,IF($C$2=2,M45,IF($C$2=3,M46, IF($C$2=4, M47, \"  chyba\"))))","v":"378M4502SA"},{"$f":"IF($C$2=1,N44,IF($C$2=2,N45,IF($C$2=3,N46, IF($C$2=4, N47, \"  chyba\"))))","v":"R906"},{"$f":"IF($C$2=1,O44,IF($C$2=2,O45,IF($C$2=3,O46, IF($C$2=4, O47, \"  chyba\"))))","v":0},{"$f":"IF($C$2=1,P44,IF($C$2=2,P45,IF($C$2=3,P46, IF($C$2=4, P47, \"  chyba\"))))","v":0},{"$f":"IF($C$2=1,Q44,IF($C$2=2,Q45,IF($C$2=3,Q46, IF($C$2=4, Q47, \"  chyba\"))))*(100-$F$6)/100","v":358.1},null,null,{"$f":"IF($C$2=1,T44,IF($C$2=2,T45,IF($C$2=3,T46, IF($C$2=4, T47, \"  chyba\"))))","v":7893644},{"$f":"IF($C$2=1,U44,IF($C$2=2,U45,IF($C$2=3,U46, IF($C$2=4, U47, \"  chyba\"))))","v":"D470500 + D470498"},null,{"$f":"Price!A44","v":"Bočnice M 450mm, šedé"},{"$f":"Price!B44","v":"378M4502SA"},{"$f":"Price!C44","v":"R906"},{"$f":"Price!D44","v":0},{"$f":"Price!E44","v":0},{"$f":"Price!F44","v":358.1},null,null,{"$f":"Price!G44","v":7893644},{"$f":"Price!H44","v":"D470500 + D470498"}]
[null,null,null,null,null,null,null,null,null,null,null,{"$f":"Price!A45","v":"Bočnice M 450mm, hedvábně bílé"},{"$f":"Price!B45","v":"378M4502SA"},{"$f":"Price!C45","v":"SEIW"},{"$f":"Price!D45","v":0},{"$f":"Price!E45","v":0},{"$f":"Price!F45","v":358.1},null,null,{"$f":"Price!G45","v":7461528},{"$f":"Price!H45","v":"D468388 + D468387"}]
[null,null,null,null,null,null,null,null,null,null,null,{"$f":"Price!A46","v":"Bočnice M 450mm, černé Terra"},{"$f":"Price!B46","v":"378M4502SA"},{"$f":"Price!C46","v":"TERS"},{"$f":"Price!D46","v":0},{"$f":"Price!E46","v":0},{"$f":"Price!F46","v":425.5},null,null,{"$f":"Price!G46","v":8459116},{"$f":"Price!H46","v":"D379206"}]
[null,null,null,null,null,null,null,null,null,null,null,{"$f":"Price!A47","v":"Bočnice M 450mm, nerez (Inox)"},{"$f":"Price!B47","v":"378M4502IA"},{"$f":"Price!C47","v":"INGL"},{"$f":"Price!D47","v":"!"},{"$f":"Price!E47","v":0},{"$f":"Price!F47","v":0},null,null,{"$f":"Price!G47","v":9447452},{"$f":"Price!H47","v":"na dotaz"}]
[{"$f":"IF($C$2=1,L48,IF($C$2=2,L49,IF($C$2=3,L50, IF($C$2=4, L51, \"  chyba\"))))","v":"Bočnice M 500mm, šedé"},{"$f":"IF($C$2=1,M48,IF($C$2=2,M49,IF($C$2=3,M50, IF($C$2=4, M51, \"  chyba\"))))","v":"378M5002SA"},{"$f":"IF($C$2=1,N48,IF($C$2=2,N49,IF($C$2=3,N50, IF($C$2=4, N51, \"  chyba\"))))","v":"R906"},{"$f":"IF($C$2=1,O48,IF($C$2=2,O49,IF($C$2=3,O50, IF($C$2=4, O51, \"  chyba\"))))","v":0},{"$f":"IF($C$2=1,P48,IF($C$2=2,P49,IF($C$2=3,P50, IF($C$2=4, P51, \"  chyba\"))))","v":0},{"$f":"IF($C$2=1,Q48,IF($C$2=2,Q49,IF($C$2=3,Q50, IF($C$2=4, Q51, \"  chyba\"))))*(100-$F$6)/100","v":397.4},null,null,{"$f":"IF($C$2=1,T48,IF($C$2=2,T49,IF($C$2=3,T50, IF($C$2=4, T51, \"  chyba\"))))","v":7907526},{"$f":"IF($C$2=1,U48,IF($C$2=2,U49,IF($C$2=3,U50, IF($C$2=4, U51, \"  chyba\"))))","v":"D470504 + D470503"},null,{"$f":"Price!A48","v":"Bočnice M 500mm, šedé"},{"$f":"Price!B48","v":"378M5002SA"},{"$f":"Price!C48","v":"R906"},{"$f":"Price!D48","v":0},{"$f":"Price!E48","v":0},{"$f":"Price!F48","v":397.4},null,null,{"$f":"Price!G48","v":7907526},{"$f":"Price!H48","v":"D470504 + D470503"}]
[null,null,null,null,null,null,null,null,null,null,null,{"$f":"Price!A49","v":"Bočnice M 500mm, hedvábně bílé"},{"$f":"Price!B49","v":"378M5002SA"},{"$f":"Price!C49","v":"SEIW"},{"$f":"Price!D49","v":0},{"$f":"Price!E49","v":0},{"$f":"Price!F49","v":397.4},null,null,{"$f":"Price!G49","v":7473074},{"$f":"Price!H49","v":"D468390 + D468389"}]
[null,null,null,null,null,null,null,null,null,null,null,{"$f":"Price!A50","v":"Bočnice M 500mm, černé Terra"},{"$f":"Price!B50","v":"378M5002SA"},{"$f":"Price!C50","v":"TERS"},{"$f":"Price!D50","v":0},{"$f":"Price!E50","v":0},{"$f":"Price!F50","v":429.3},null,null,{"$f":"Price!G50","v":8474260},{"$f":"Price!H50","v":"D289776"}]
[null,null,null,null,null,null,null,null,null,null,null,{"$f":"Price!A51","v":"Bočnice M 500mm, nerez (Inox)"},{"$f":"Price!B51","v":"378M5002IA"},{"$f":"Price!C51","v":"INGL"},{"$f":"Price!D51","v":"!"},{"$f":"Price!E51","v":0},{"$f":"Price!F51","v":0},null,null,{"$f":"Price!G51","v":9455785},{"$f":"Price!H51","v":"na dotaz"}]
[{"$f":"IF($C$2=1,L52,IF($C$2=2,L53,IF($C$2=3,L54, IF($C$2=4, L55, \"  chyba\"))))","v":"Bočnice M 550mm, šedé"},{"$f":"IF($C$2=1,M52,IF($C$2=2,M53,IF($C$2=3,M54, IF($C$2=4, M55, \"  chyba\"))))","v":"378M5502SA"},{"$f":"IF($C$2=1,N52,IF($C$2=2,N53,IF($C$2=3,N54, IF($C$2=4, N55, \"  chyba\"))))","v":"R906"},{"$f":"IF($C$2=1,O52,IF($C$2=2,O53,IF($C$2=3,O54, IF($C$2=4, O55, \"  chyba\"))))","v":0},{"$f":"IF($C$2=1,P52,IF($C$2=2,P53,IF($C$2=3,P54, IF($C$2=4, P55, \"  chyba\"))))","v":0},{"$f":"IF($C$2=1,Q52,IF($C$2=2,Q53,IF($C$2=3,Q54, IF($C$2=4, Q55, \"  chyba\"))))*(100-$F$6)/100","v":399.2},null,null,{"$f":"IF($C$2=1,T52,IF($C$2=2,T53,IF($C$2=3,T54, IF($C$2=4, T55, \"  chyba\"))))","v":7915701},{"$f":"IF($C$2=1,U52,IF($C$2=2,U53,IF($C$2=3,U54, IF($C$2=4, U55, \"  chyba\"))))","v":"D529008 + D529007"},null,{"$f":"Price!A52","v":"Bočnice M 550mm, šedé"},{"$f":"Price!B52","v":"378M5502SA"},{"$f":"Price!C52","v":"R906"},{"$f":"Price!D52","v":0},{"$f":"Price!E52","v":0},{"$f":"Price!F52","v":399.2},null,null,{"$f":"Price!G52","v":7915701},{"$f":"Price!H52","v":"D529008 + D529007"}]
[null,null,null,null,null,null,null,null,null,null,null,{"$f":"Price!A53","v":"Bočnice M 550mm, hedvábně bílé"},{"$f":"Price!B53","v":"378M5502SA"},{"$f":"Price!C53","v":"SEIW"},{"$f":"Price!D53","v":0},{"$f":"Price!E53","v":0},{"$f":"Price!F53","v":399.2},null,null,{"$f":"Price!G53","v":7478517},{"$f":"Price!H53","v":"D532897 + D532896"}]
[null,null,null,null,null,null,null,null,null,null,null,{"$f":"Price!A54","v":"Bočnice M 550mm, černé Terra"},{"$f":"Price!B54","v":"378M5502SA"},{"$f":"Price!C54","v":"TERS"},{"$f":"Price!D54","v":0},{"$f":"Price!E54","v":0},{"$f":"Price!F54","v":466.6},null,null,{"$f":"Price!G54","v":8492382},{"$f":"Price!H54","v":"D497476"}]
[null,null,null,null,null,null,null,null,null,null,null,{"$f":"Price!A55","v":"Bočnice M 550mm, nerez (Inox)"},{"$f":"Price!B55","v":"378M5502IA"},{"$f":"Price!C55","v":"INGL"},{"$f":"Price!D55","v":"!"},{"$f":"Price!E55","v":0},{"$f":"Price!F55","v":0},null,null,{"$f":"Price!G55","v":9486323},{"$f":"Price!H55","v":"na dotaz"}]
[{"$f":"IF($C$2=1,L56,IF($C$2=2,L57,IF($C$2=3,L58, IF($C$2=4, L59, \"  chyba\"))))","v":"Bočnice M 600mm, šedé"},{"$f":"IF($C$2=1,M56,IF($C$2=2,M57,IF($C$2=3,M58, IF($C$2=4, M59, \"  chyba\"))))","v":"378M6002SA"},{"$f":"IF($C$2=1,N56,IF($C$2=2,N57,IF($C$2=3,N58, IF($C$2=4, N59, \"  chyba\"))))","v":"R906"},{"$f":"IF($C$2=1,O56,IF($C$2=2,O57,IF($C$2=3,O58, IF($C$2=4, O59, \"  chyba\"))))","v":0},{"$f":"IF($C$2=1,P56,IF($C$2=2,P57,IF($C$2=3,P58, IF($C$2=4, P59, \"  chyba\"))))","v":0},{"$f":"IF($C$2=1,Q56,IF($C$2=2,Q57,IF($C$2=3,Q58, IF($C$2=4, Q59, \"  chyba\"))))*(100-$F$6)/100","v":508.3},null,null,{"$f":"IF($C$2=1,T56,IF($C$2=2,T57,IF($C$2=3,T58, IF($C$2=4, T59, \"  chyba\"))))","v":7921510},{"$f":"IF($C$2=1,U56,IF($C$2=2,U57,IF($C$2=3,U58, IF($C$2=4, U59, \"  chyba\"))))","v":"D551832 + D551831"},null,{"$f":"Price!A56","v":"Bočnice M 600mm, šedé"},{"$f":"Price!B56","v":"378M6002SA"},{"$f":"Price!C56","v":"R906"},{"$f":"Price!D56","v":0},{"$f":"Price!E56","v":0},{"$f":"Price!F56","v":508.3},null,null,{"$f":"Price!G56","v":7921510},{"$f":"Price!H56","v":"D551832 + D551831"}]
[null,null,null,null,null,null,null,null,null,null,null,{"$f":"Price!A57","v":"Bočnice M 600mm, hedvábně bílé"},{"$f":"Price!B57","v":"378M6002SA"},{"$f":"Price!C57","v":"SEIW"},{"$f":"Price!D57","v":0},{"$f":"Price!E57","v":0},{"$f":"Price!F57","v":508.3},null,null,{"$f":"Price!G57","v":7509352},{"$f":"Price!H57","v":"D551830 + D551829"}]
[null,null,null,null,null,null,null,null,null,null,null,{"$f":"Price!A58","v":"Bočnice M 600mm, černé Terra"},{"$f":"Price!B58","v":"378M6002SA"},{"$f":"Price!C58","v":"TERS"},{"$f":"Price!D58","v":0},{"$f":"Price!E58","v":0},{"$f":"Price!F58","v":575.70000000000005},null,null,{"$f":"Price!G58","v":8495666},{"$f":"Price!H58","v":"D497478"}]
[null,null,null,null,null,null,null,null,null,null,null,{"$f":"Price!A59","v":"Bočnice M 600mm, nerez (Inox)"},{"$f":"Price!B59","v":"378M6002IA"},{"$f":"Price!C59","v":"INGL"},{"$f":"Price!D59","v":"!"},{"$f":"Price!E59","v":0},{"$f":"Price!F59","v":0},null,null,{"$f":"Price!G59","v":9580294},{"$f":"Price!H59","v":"na dotaz"}]
[{"$f":"IF($C$2=1,L60,IF($C$2=2,L61,IF($C$2=3,L62, IF($C$2=4, L63, \"  chyba\"))))","v":"Bočnice M 650mm, šedé"},{"$f":"IF($C$2=1,M60,IF($C$2=2,M61,IF($C$2=3,M62, IF($C$2=4, M63, \"  chyba\"))))","v":"378M6502SA"},{"$f":"IF($C$2=1,N60,IF($C$2=2,N61,IF($C$2=3,N62, IF($C$2=4, N63, \"  chyba\"))))","v":"R906"},{"$f":"IF($C$2=1,O60,IF($C$2=2,O61,IF($C$2=3,O62, IF($C$2=4, O63, \"  chyba\"))))","v":0},{"$f":"IF($C$2=1,P60,IF($C$2=2,P61,IF($C$2=3,P62, IF($C$2=4, P63, \"  chyba\"))))","v":0},{"$f":"IF($C$2=1,Q60,IF($C$2=2,Q61,IF($C$2=3,Q62, IF($C$2=4, Q63, \"  chyba\"))))*(100-$F$6)/100","v":536.29999999999995},null,null,{"$f":"IF($C$2=1,T60,IF($C$2=2,T61,IF($C$2=3,T62, IF($C$2=4, T63, \"  chyba\"))))","v":7927885},{"$f":"IF($C$2=1,U60,IF($C$2=2,U61,IF($C$2=3,U62, IF($C$2=4, U63, \"  chyba\"))))","v":"D551836 + D551835"},null,{"$f":"Price!A60","v":"Bočnice M 650mm, šedé"},{"$f":"Price!B60","v":"378M6502SA"},{"$f":"Price!C60","v":"R906"},{"$f":"Price!D60","v":0},{"$f":"Price!E60","v":0},{"$f":"Price!F60","v":536.29999999999995},null,null,{"$f":"Price!G60","v":7927885},{"$f":"Price!H60","v":"D551836 + D551835"}]
[null,null,null,null,null,null,null,null,null,null,null,{"$f":"Price!A61","v":"Bočnice M 650mm, hedvábně bílé"},{"$f":"Price!B61","v":"378M6502SA"},{"$f":"Price!C61","v":"SEIW"},{"$f":"Price!D61","v":0},{"$f":"Price!E61","v":0},{"$f":"Price!F61","v":536.29999999999995},null,null,{"$f":"Price!G61","v":7631232},{"$f":"Price!H61","v":"D551834 + D551833"}]
[null,null,null,null,null,null,null,null,null,null,null,{"$f":"Price!A62","v":"Bočnice M 650mm, černé Terra"},{"$f":"Price!B62","v":"378M6502SA"},{"$f":"Price!C62","v":"TERS"},{"$f":"Price!D62","v":0},{"$f":"Price!E62","v":0},{"$f":"Price!F62","v":603.79999999999995},null,null,{"$f":"Price!G62","v":8561178},{"$f":"Price!H62","v":"D289782"}]
[null,null,null,null,null,null,null,null,null,null,null,{"$f":"Price!A63","v":"Bočnice M 650mm, nerez (Inox)"},{"$f":"Price!B63","v":"378M6502IA"},{"$f":"Price!C63","v":"INGL"},{"$f":"Price!D63","v":"!"},{"$f":"Price!E63","v":0},{"$f":"Price!F63","v":0},null,null,{"$f":"Price!G63","v":9631204},{"$f":"Price!H63","v":"na dotaz"}]
[]
[{"$f":"IF($C$2=1,L65,IF($C$2=2,L66,IF($C$2=3,L67,IF($C$2=4,\" \",\"  chyba\"))))","v":"Bočnice K 270mm, šedé"},{"$f":"IF($C$2=1,M65,IF($C$2=2,M66,IF($C$2=3,M67,IF($C$2=4,\" \",\"  chyba\"))))","v":"378K2702SA"},"R906","!",0,{"$f":"IF($C$2=1,Q65,IF($C$2=2,Q66,IF($C$2=3,Q67,IF($C$2=4,0,\"  chyba\"))))*(100-$F$6)/100","v":599.20000000000005},null,null,7735870,"D551644",null,{"$f":"Price!A65","v":"Bočnice K 270mm, šedé"},{"$f":"Price!B65","v":"378K2702SA"},{"$f":"Price!C65","v":"R906"},{"$f":"Price!D65","v":"!"},{"$f":"Price!E65","v":0},{"$f":"Price!F65","v":599.20000000000005},null,null,{"$f":"Price!G65","v":7735870},{"$f":"Price!H65","v":"D551644"}]
[null,null,null,null,null,null,null,null,null,null,null,{"$f":"Price!A66","v":"Bočnice K 270mm, hedvábně bílé"},{"$f":"Price!B66","v":"378K2702SA"},{"$f":"Price!C66","v":"SEIW"},{"$f":"Price!D66","v":"!"},{"$f":"Price!E66","v":0},{"$f":"Price!F66","v":599.20000000000005},null,null,{"$f":"Price!G66","v":7006683},{"$f":"Price!H66","v":"D551642"}]
[null,null,null,null,null,null,null,null,null,null,null,{"$f":"Price!A67","v":"Bočnice K 270mm, černé Terra"},{"$f":"Price!B67","v":"378K2702SA"},{"$f":"Price!C67","v":"TERS"},{"$f":"Price!D67","v":"!"},{"$f":"Price!E67","v":0},{"$f":"Price!F67","v":604.1},null,null,{"$f":"Price!G67","v":8012885},{"$f":"Price!H67","v":"D551643"}]
[{"$f":"IF($C$2=1,L68,IF($C$2=2,L69,IF($C$2=3,L70,IF($C$2=4,\" \",\"  chyba\"))))","v":"Bočnice K 300mm, šedé"},{"$f":"IF($C$2=1,M68,IF($C$2=2,M69,IF($C$2=3,M70,IF($C$2=4,\" \",\"  chyba\"))))","v":"378K3002SA"},{"$f":"IF($C$2=1,N68,IF($C$2=2,N69,IF($C$2=3,N70,IF($C$2=4,\" \",\"  chyba\"))))","v":"R906"},{"$f":"IF($C$2=1,O68,IF($C$2=2,O69,IF($C$2=3,O70,IF($C$2=4,\" \",\"  chyba\"))))","v":"!"},{"$f":"IF($C$2=1,P68,IF($C$2=2,P69,IF($C$2=3,P70,IF($C$2=4,\" \",\"  chyba\"))))","v":0},{"$f":"IF($C$2=1,Q68,IF($C$2=2,Q69,IF($C$2=3,Q70,IF($C$2=4,0,\"  chyba\"))))*(100-$F$6)/100","v":599.20000000000005},null,null,{"$f":"IF($C$2=1,T68,IF($C$2=2,T69,IF($C$2=3,T70,IF($C$2=4,\" \",\"  chyba\"))))","v":7754207},{"$f":"IF($C$2=1,U68,IF($C$2=2,U69,IF($C$2=3,U70,IF($C$2=4,\" \",\"  chyba\"))))","v":"D541412"},null,{"$f":"Price!A68","v":"Bočnice K 300mm, šedé"},{"$f":"Price!B68","v":"378K3002SA"},{"$f":"Price!C68","v":"R906"},{"$f":"Price!D68","v":"!"},{"$f":"Price!E68","v":0},{"$f":"Price!F68","v":599.20000000000005},null,null,{"$f":"Price!G68","v":7754207},{"$f":"Price!H68","v":"D541412"}]
[null,null,null,null,null,null,null,null,null,null,null,{"$f":"Price!A69","v":"Bočnice K 300mm, hedvábně bílé"},{"$f":"Price!B69","v":"378K3002SA"},{"$f":"Price!C69","v":"SEIW"},{"$f":"Price!D69","v":"!"},{"$f":"Price!E69","v":0},{"$f":"Price!F69","v":599.20000000000005},null,null,{"$f":"Price!G69","v":7022103},{"$f":"Price!H69","v":"D541413"}]
[null,null,null,null,null,null,null,null,null,null,null,{"$f":"Price!A70","v":"Bočnice K 300mm, černé Terra"},{"$f":"Price!B70","v":"378K3002SA"},{"$f":"Price!C70","v":"TERS"},{"$f":"Price!D70","v":"!"},{"$f":"Price!E70","v":0},{"$f":"Price!F70","v":604.1},null,null,{"$f":"Price!G70","v":8014677},{"$f":"Price!H70","v":"D551645"}]
[{"$f":"IF($C$2=1,L71,IF($C$2=2,L72,IF($C$2=3,L73,IF($C$2=4,\" \",\"  chyba\"))))","v":"Bočnice K 350mm, šedé"},{"$f":"IF($C$2=1,M71,IF($C$2=2,M72,IF($C$2=3,M73,IF($C$2=4,\" \",\"  chyba\"))))","v":"378K3502SA"},{"$f":"IF($C$2=1,N71,IF($C$2=2,N72,IF($C$2=3,N73,IF($C$2=4,\" \",\"  chyba\"))))","v":"R906"},{"$f":"IF($C$2=1,O71,IF($C$2=2,O72,IF($C$2=3,O73,IF($C$2=4,\" \",\"  chyba\"))))","v":"!"},{"$f":"IF($C$2=1,P71,IF($C$2=2,P72,IF($C$2=3,P73,IF($C$2=4,\" \",\"  chyba\"))))","v":0},{"$f":"IF($C$2=1,Q71,IF($C$2=2,Q72,IF($C$2=3,Q73,IF($C$2=4,0,\"  chyba\"))))*(100-$F$6)/100","v":599.20000000000005},null,null,{"$f":"IF($C$2=1,T71,IF($C$2=2,T72,IF($C$2=3,T73,IF($C$2=4,\" \",\"  chyba\"))))","v":7754240},{"$f":"IF($C$2=1,U71,IF($C$2=2,U72,IF($C$2=3,U73,IF($C$2=4,\" \",\"  chyba\"))))","v":"D534497"},null,{"$f":"Price!A71","v":"Bočnice K 350mm, šedé"},{"$f":"Price!B71","v":"378K3502SA"},{"$f":"Price!C71","v":"R906"},{"$f":"Price!D71","v":"!"},{"$f":"Price!E71","v":0},{"$f":"Price!F71","v":599.20000000000005},null,null,{"$f":"Price!G71","v":7754240},{"$f":"Price!H71","v":"D534497"}]
[null,null,null,null,null,null,null,null,null,null,null,{"$f":"Price!A72","v":"Bočnice K 350mm, hedvábně bílé"},{"$f":"Price!B72","v":"378K3502SA"},{"$f":"Price!C72","v":"SEIW"},{"$f":"Price!D72","v":"!"},{"$f":"Price!E72","v":0},{"$f":"Price!F72","v":599.20000000000005},null,null,{"$f":"Price!G72","v":7055586},{"$f":"Price!H72","v":"D532100"}]
[null,null,null,null,null,null,null,null,null,null,null,{"$f":"Price!A73","v":"Bočnice K 350mm, černé Terra"},{"$f":"Price!B73","v":"378K3502SA"},{"$f":"Price!C73","v":"TERS"},{"$f":"Price!D73","v":"!"},{"$f":"Price!E73","v":0},{"$f":"Price!F73","v":604.1},null,null,{"$f":"Price!G73","v":8039764},{"$f":"Price!H73","v":"D551646"}]
[{"$f":"IF($C$2=1,L74,IF($C$2=2,L75,IF($C$2=3,L76,IF($C$2=4,\" \",\"  chyba\"))))","v":"Bočnice K 400mm, šedé"},{"$f":"IF($C$2=1,M74,IF($C$2=2,M75,IF($C$2=3,M76,IF($C$2=4,\" \",\"  chyba\"))))","v":"378K4002SA"},{"$f":"IF($C$2=1,N74,IF($C$2=2,N75,IF($C$2=3,N76,IF($C$2=4,\" \",\"  chyba\"))))","v":"R906"},{"$f":"IF($C$2=1,O74,IF($C$2=2,O75,IF($C$2=3,O76,IF($C$2=4,\" \",\"  chyba\"))))","v":"!"},{"$f":"IF($C$2=1,P74,IF($C$2=2,P75,IF($C$2=3,P76,IF($C$2=4,\" \",\"  chyba\"))))","v":0},{"$f":"IF($C$2=1,Q74,IF($C$2=2,Q75,IF($C$2=3,Q76,IF($C$2=4,0,\"  chyba\"))))*(100-$F$6)/100","v":602.9},null,null,{"$f":"IF($C$2=1,T74,IF($C$2=2,T75,IF($C$2=3,T76,IF($C$2=4,\" \",\"  chyba\"))))","v":7770099},{"$f":"IF($C$2=1,U74,IF($C$2=2,U75,IF($C$2=3,U76,IF($C$2=4,\" \",\"  chyba\"))))","v":"D472676"},null,{"$f":"Price!A74","v":"Bočnice K 400mm, šedé"},{"$f":"Price!B74","v":"378K4002SA"},{"$f":"Price!C74","v":"R906"},{"$f":"Price!D74","v":"!"},{"$f":"Price!E74","v":0},{"$f":"Price!F74","v":602.9},null,null,{"$f":"Price!G74","v":7770099},{"$f":"Price!H74","v":"D472676"}]
[null,null,null,null,null,null,null,null,null,null,null,{"$f":"Price!A75","v":"Bočnice K 400mm, hedvábně bílé"},{"$f":"Price!B75","v":"378K4002SA"},{"$f":"Price!C75","v":"SEIW"},{"$f":"Price!D75","v":"!"},{"$f":"Price!E75","v":0},{"$f":"Price!F75","v":602.9},null,null,{"$f":"Price!G75","v":7090157},{"$f":"Price!H75","v":"D472675"}]
[null,null,null,null,null,null,null,null,null,null,null,{"$f":"Price!A76","v":"Bočnice K 400mm, černé Terra"},{"$f":"Price!B76","v":"378K4002SA"},{"$f":"Price!C76","v":"TERS"},{"$f":"Price!D76","v":"!"},{"$f":"Price!E76","v":0},{"$f":"Price!F76","v":607.9},null,null,{"$f":"Price!G76","v":8054532},{"$f":"Price!H76","v":"D551647"}]
[{"$f":"IF($C$2=1,L77,IF($C$2=2,L78,IF($C$2=3,L79,IF($C$2=4,\" \",\"  chyba\"))))","v":"Bočnice K 450mm, šedé"},{"$f":"IF($C$2=1,M77,IF($C$2=2,M78,IF($C$2=3,M79,IF($C$2=4,\" \",\"  chyba\"))))","v":"378K4502SA"},{"$f":"IF($C$2=1,N77,IF($C$2=2,N78,IF($C$2=3,N79,IF($C$2=4,\" \",\"  chyba\"))))","v":"R906"},{"$f":"IF($C$2=1,O77,IF($C$2=2,O78,IF($C$2=3,O79,IF($C$2=4,\" \",\"  chyba\"))))","v":0},{"$f":"IF($C$2=1,P77,IF($C$2=2,P78,IF($C$2=3,P79,IF($C$2=4,\" \",\"  chyba\"))))","v":0},{"$f":"IF($C$2=1,Q77,IF($C$2=2,Q78,IF($C$2=3,Q79,IF($C$2=4,0,\"  chyba\"))))*(100-$F$6)/100","v":606.6},null,null,{"$f":"IF($C$2=1,T77,IF($C$2=2,T78,IF($C$2=3,T79,IF($C$2=4,\" \",\"  chyba\"))))","v":7800942},{"$f":"IF($C$2=1,U77,IF($C$2=2,U78,IF($C$2=3,U79,IF($C$2=4,\" \",\"  chyba\"))))","v":"D472678"},null,{"$f":"Price!A77","v":"Bočnice K 450mm, šedé"},{"$f":"Price!B77","v":"378K4502SA"},{"$f":"Price!C77","v":"R906"},{"$f":"Price!D77","v":0},{"$f":"Price!E77","v":0},{"$f":"Price!F77","v":606.6},null,null,{"$f":"Price!G77","v":7800942},{"$f":"Price!H77","v":"D472678"}]
[null,null,null,null,null,null,null,null,null,null,null,{"$f":"Price!A78","v":"Bočnice K 450mm, hedvábně bílé"},{"$f":"Price!B78","v":"378K4502SA"},{"$f":"Price!C78","v":"SEIW"},{"$f":"Price!D78","v":0},{"$f":"Price!E78","v":0},{"$f":"Price!F78","v":606.6},null,null,{"$f":"Price!G78","v":7094091},{"$f":"Price!H78","v":"D472679"}]
[null,null,null,null,null,null,null,null,null,null,null,{"$f":"Price!A79","v":"Bočnice K 450mm, černé Terra"},{"$f":"Price!B79","v":"378K4502SA"},{"$f":"Price!C79","v":"TERS"},{"$f":"Price!D79","v":"!"},{"$f":"Price!E79","v":0},{"$f":"Price!F79","v":611.6},null,null,{"$f":"Price!G79","v":8097406},{"$f":"Price!H79","v":"D551648"}]
[{"$f":"IF($C$2=1,L80,IF($C$2=2,L81,IF($C$2=3,L82,IF($C$2=4,\" \",\"  chyba\"))))","v":"Bočnice K 500mm, šedé"},{"$f":"IF($C$2=1,M80,IF($C$2=2,M81,IF($C$2=3,M82,IF($C$2=4,\" \",\"  chyba\"))))","v":"378K5002SA"},{"$f":"IF($C$2=1,N80,IF($C$2=2,N81,IF($C$2=3,N82,IF($C$2=4,\" \",\"  chyba\"))))","v":"R906"},{"$f":"IF($C$2=1,O80,IF($C$2=2,O81,IF($C$2=3,O82,IF($C$2=4,\" \",\"  chyba\"))))","v":0},{"$f":"IF($C$2=1,P80,IF($C$2=2,P81,IF($C$2=3,P82,IF($C$2=4,\" \",\"  chyba\"))))","v":0},{"$f":"IF($C$2=1,Q80,IF($C$2=2,Q81,IF($C$2=3,Q82,IF($C$2=4,0,\"  chyba\"))))*(100-$F$6)/100","v":610.4},null,null,{"$f":"IF($C$2=1,T80,IF($C$2=2,T81,IF($C$2=3,T82,IF($C$2=4,\" \",\"  chyba\"))))","v":7826509},{"$f":"IF($C$2=1,U80,IF($C$2=2,U81,IF($C$2=3,U82,IF($C$2=4,\" \",\"  chyba\"))))","v":"D472680"},null,{"$f":"Price!A80","v":"Bočnice K 500mm, šedé"},{"$f":"Price!B80","v":"378K5002SA"},{"$f":"Price!C80","v":"R906"},{"$f":"Price!D80","v":0},{"$f":"Price!E80","v":0},{"$f":"Price!F80","v":610.4},null,null,{"$f":"Price!G80","v":7826509},{"$f":"Price!H80","v":"D472680"}]
[null,null,null,null,null,null,null,null,null,null,null,{"$f":"Price!A81","v":"Bočnice K 500mm, hedvábně bílé"},{"$f":"Price!B81","v":"378K5002SA"},{"$f":"Price!C81","v":"SEIW"},{"$f":"Price!D81","v":0},{"$f":"Price!E81","v":0},{"$f":"Price!F81","v":610.4},null,null,{"$f":"Price!G81","v":7119326},{"$f":"Price!H81","v":"D472681"}]
[null,null,null,null,null,null,null,null,null,null,null,{"$f":"Price!A82","v":"Bočnice K 500mm, černé Terra"},{"$f":"Price!B82","v":"378K5002SA"},{"$f":"Price!C82","v":"TERS"},{"$f":"Price!D82","v":"!"},{"$f":"Price!E82","v":0},{"$f":"Price!F82","v":615.29999999999995},null,null,{"$f":"Price!G82","v":8103002},{"$f":"Price!H82","v":"D551649"}]
[{"$f":"IF($C$2=1,L83,IF($C$2=2,L84,IF($C$2=3,L85,IF($C$2=4,\" \",\"  chyba\"))))","v":"Bočnice K 550mm, šedé"},{"$f":"IF($C$2=1,M83,IF($C$2=2,M84,IF($C$2=3,M85,IF($C$2=4,\" \",\"  chyba\"))))","v":"378K5502SA"},{"$f":"IF($C$2=1,N83,IF($C$2=2,N84,IF($C$2=3,N85,IF($C$2=4,\" \",\"  chyba\"))))","v":"R906"},{"$f":"IF($C$2=1,O83,IF($C$2=2,O84,IF($C$2=3,O85,IF($C$2=4,\" \",\"  chyba\"))))","v":"!"},{"$f":"IF($C$2=1,P83,IF($C$2=2,P84,IF($C$2=3,P85,IF($C$2=4,\" \",\"  chyba\"))))","v":0},{"$f":"IF($C$2=1,Q83,IF($C$2=2,Q84,IF($C$2=3,Q85,IF($C$2=4,0,\"  chyba\"))))*(100-$F$6)/100","v":647.79999999999995},null,null,{"$f":"IF($C$2=1,T83,IF($C$2=2,T84,IF($C$2=3,T85,IF($C$2=4,\" \",\"  chyba\"))))","v":7833537},{"$f":"IF($C$2=1,U83,IF($C$2=2,U84,IF($C$2=3,U85,IF($C$2=4,\" \",\"  chyba\"))))","v":"D551650"},null,{"$f":"Price!A83","v":"Bočnice K 550mm, šedé"},{"$f":"Price!B83","v":"378K5502SA"},{"$f":"Price!C83","v":"R906"},{"$f":"Price!D83","v":"!"},{"$f":"Price!E83","v":0},{"$f":"Price!F83","v":647.79999999999995},null,null,{"$f":"Price!G83","v":7833537},{"$f":"Price!H83","v":"D551650"}]
[null,null,null,null,null,null,null,null,null,null,null,{"$f":"Price!A84","v":"Bočnice K 550mm, hedvábně bílé"},{"$f":"Price!B84","v":"378K5502SA"},{"$f":"Price!C84","v":"SEIW"},{"$f":"Price!D84","v":"!"},{"$f":"Price!E84","v":0},{"$f":"Price!F84","v":647.79999999999995},null,null,{"$f":"Price!G84","v":7134230},{"$f":"Price!H84","v":"D546432"}]
[null,null,null,null,null,null,null,null,null,null,null,{"$f":"Price!A85","v":"Bočnice K 550mm, černé Terra"},{"$f":"Price!B85","v":"378K5502SA"},{"$f":"Price!C85","v":"TERS"},{"$f":"Price!D85","v":"!"},{"$f":"Price!E85","v":0},{"$f":"Price!F85","v":652.70000000000005},null,null,{"$f":"Price!G85","v":8122542},{"$f":"Price!H85","v":"D551651"}]
[{"$f":"IF($C$2=1,L86,IF($C$2=2,L87,IF($C$2=3,L88,IF($C$2=4,\" \",\"  chyba\"))))","v":"Bočnice K 600mm, šedé"},{"$f":"IF($C$2=1,M86,IF($C$2=2,M87,IF($C$2=3,M88,IF($C$2=4,\" \",\"  chyba\"))))","v":"378K6002SA"},{"$f":"IF($C$2=1,N86,IF($C$2=2,N87,IF($C$2=3,N88,IF($C$2=4,\" \",\"  chyba\"))))","v":"R906"},{"$f":"IF($C$2=1,O86,IF($C$2=2,O87,IF($C$2=3,O88,IF($C$2=4,\" \",\"  chyba\"))))","v":"!"},{"$f":"IF($C$2=1,P86,IF($C$2=2,P87,IF($C$2=3,P88,IF($C$2=4,\" \",\"  chyba\"))))","v":0},{"$f":"IF($C$2=1,Q86,IF($C$2=2,Q87,IF($C$2=3,Q88,IF($C$2=4,0,\"  chyba\"))))*(100-$F$6)/100","v":756.8},null,null,{"$f":"IF($C$2=1,T86,IF($C$2=2,T87,IF($C$2=3,T88,IF($C$2=4,\" \",\"  chyba\"))))","v":7843319},{"$f":"IF($C$2=1,U86,IF($C$2=2,U87,IF($C$2=3,U88,IF($C$2=4,\" \",\"  chyba\"))))","v":"D511829"},null,{"$f":"Price!A86","v":"Bočnice K 600mm, šedé"},{"$f":"Price!B86","v":"378K6002SA"},{"$f":"Price!C86","v":"R906"},{"$f":"Price!D86","v":"!"},{"$f":"Price!E86","v":0},{"$f":"Price!F86","v":756.8},null,null,{"$f":"Price!G86","v":7843319},{"$f":"Price!H86","v":"D511829"}]
[null,null,null,null,null,null,null,null,null,null,null,{"$f":"Price!A87","v":"Bočnice K 600mm, hedvábně bílé"},{"$f":"Price!B87","v":"378K6002SA"},{"$f":"Price!C87","v":"SEIW"},{"$f":"Price!D87","v":"!"},{"$f":"Price!E87","v":0},{"$f":"Price!F87","v":756.8},null,null,{"$f":"Price!G87","v":7163931},{"$f":"Price!H87","v":"D544882"}]
[null,null,null,null,null,null,null,null,null,null,null,{"$f":"Price!A88","v":"Bočnice K 600mm, černé Terra"},{"$f":"Price!B88","v":"378K6002SA"},{"$f":"Price!C88","v":"TERS"},{"$f":"Price!D88","v":"!"},{"$f":"Price!E88","v":0},{"$f":"Price!F88","v":761.8},null,null,{"$f":"Price!G88","v":8134692},{"$f":"Price!H88","v":"D551652"}]
[{"$f":"IF($C$2=1,L89,IF($C$2=2,L90,IF($C$2=3,L91,IF($C$2=4,\" \",\"  chyba\"))))","v":"Bočnice K 650mm, šedé"},{"$f":"IF($C$2=1,M89,IF($C$2=2,M90,IF($C$2=3,M91,IF($C$2=4,\" \",\"  chyba\"))))","v":"378K6502SA"},{"$f":"IF($C$2=1,N89,IF($C$2=2,N90,IF($C$2=3,N91,IF($C$2=4,\" \",\"  chyba\"))))","v":"R906"},{"$f":"IF($C$2=1,O89,IF($C$2=2,O90,IF($C$2=3,O91,IF($C$2=4,\" \",\"  chyba\"))))","v":"!"},{"$f":"IF($C$2=1,P89,IF($C$2=2,P90,IF($C$2=3,P91,IF($C$2=4,\" \",\"  chyba\"))))","v":0},{"$f":"IF($C$2=1,Q89,IF($C$2=2,Q90,IF($C$2=3,Q91,IF($C$2=4,0,\"  chyba\"))))*(100-$F$6)/100","v":784.9},null,null,{"$f":"IF($C$2=1,T89,IF($C$2=2,T90,IF($C$2=3,T91,IF($C$2=4,\" \",\"  chyba\"))))","v":7862096},{"$f":"IF($C$2=1,U89,IF($C$2=2,U90,IF($C$2=3,U91,IF($C$2=4,\" \",\"  chyba\"))))","v":"D551653"},null,{"$f":"Price!A89","v":"Bočnice K 650mm, šedé"},{"$f":"Price!B89","v":"378K6502SA"},{"$f":"Price!C89","v":"R906"},{"$f":"Price!D89","v":"!"},{"$f":"Price!E89","v":0},{"$f":"Price!F89","v":784.9},null,null,{"$f":"Price!G89","v":7862096},{"$f":"Price!H89","v":"D551653"}]
[null,null,null,null,null,null,null,null,null,null,null,{"$f":"Price!A90","v":"Bočnice K 650mm, hedvábně bílé"},{"$f":"Price!B90","v":"378K6502SA"},{"$f":"Price!C90","v":"SEIW"},{"$f":"Price!D90","v":"!"},{"$f":"Price!E90","v":0},{"$f":"Price!F90","v":784.9},null,null,{"$f":"Price!G90","v":7170704},{"$f":"Price!H90","v":"D551654"}]
[null,null,null,null,null,null,null,null,null,null,null,{"$f":"Price!A91","v":"Bočnice K 650mm, černé Terra"},{"$f":"Price!B91","v":"378K6502SA"},{"$f":"Price!C91","v":"TERS"},{"$f":"Price!D91","v":"!"},{"$f":"Price!E91","v":0},{"$f":"Price!F91","v":789.9},null,null,{"$f":"Price!G91","v":8142017},{"$f":"Price!H91","v":"D551655"}]
[null,null,null,null,null,null,null,null,null,null,null,{"$f":"Price!A92","v":0},{"$f":"Price!B92","v":0},{"$f":"Price!C92","v":0},{"$f":"Price!D92","v":0},{"$f":"Price!E92","v":0},{"$f":"Price!F92","v":0},null,null,{"$f":"Price!G92","v":0},{"$f":"Price!H92","v":0}]
[null,null,null,null,null,null,null,null,null,null,null,{"$f":"Price!A93","v":"   Korpusové lišty BLUMOTION"},{"$f":"Price!B93","v":0},{"$f":"Price!C93","v":0},{"$f":"Price!D93","v":0},{"$f":"Price!E93","v":0},{"$f":"Price!F93","v":0},null,null,{"$f":"Price!G93","v":0},{"$f":"Price!H93","v":0}]
[{"$f":"L94","v":"Korpusové lišty 270mm, BLUMOTION, 30kg"},{"$f":"M94","v":"578.2701B"},{"$f":"N94","v":"ZN"},{"$f":"O94","v":0},null,{"$f":"Q94*(100-$F$6)/100","v":459.2},null,null,{"$f":"T94","v":8000501},{"$f":"U94","v":"D104569"},null,{"$f":"Price!A94","v":"Korpusové lišty 270mm, BLUMOTION, 30kg"},{"$f":"Price!B94","v":"578.2701B"},{"$f":"Price!C94","v":"ZN"},{"$f":"Price!D94","v":0},{"$f":"Price!E94","v":0},{"$f":"Price!F94","v":459.2},null,null,{"$f":"Price!G94","v":8000501},{"$f":"Price!H94","v":"D104569"}]
["Korpusové lišty 300mm, BLUMOTION, 30kg","578.3001B","ZN",{"$f":"O95","v":0},null,459.2,null,null,8091502,"D347811",null,{"$f":"Price!A95","v":"Korpusové lišty 300mm, BLUMOTION, 30kg"},{"$f":"Price!B95","v":"578.3001B"},{"$f":"Price!C95","v":"ZN"},{"$f":"Price!D95","v":0},{"$f":"Price!E95","v":0},{"$f":"Price!F95","v":459.2},null,null,{"$f":"Price!G95","v":8091502},{"$f":"Price!H95","v":"D347811"}]
["Korpusové lišty 350mm, BLUMOTION, 30kg","578.3501B","ZN",0,null,459.2,null,null,8359762,"D099077",null,{"$f":"Price!A96","v":"Korpusové lišty 350mm, BLUMOTION, 30kg"},{"$f":"Price!B96","v":"578.3501B"},{"$f":"Price!C96","v":"ZN"},{"$f":"Price!D96","v":0},{"$f":"Price!E96","v":0},{"$f":"Price!F96","v":459.2},null,null,{"$f":"Price!G96","v":8359762},{"$f":"Price!H96","v":"D099077"}]
["Korpusové lišty 400mm, BLUMOTION, 30kg","578.4001B","ZN",0,null,462.6,null,null,8445585,"D046031",null,{"$f":"Price!A97","v":"Korpusové lišty 400mm, BLUMOTION, 30kg"},{"$f":"Price!B97","v":"578.4001B"},{"$f":"Price!C97","v":"ZN"},{"$f":"Price!D97","v":0},{"$f":"Price!E97","v":0},{"$f":"Price!F97","v":462.6},null,null,{"$f":"Price!G97","v":8445585},{"$f":"Price!H97","v":"D046031"}]
["Korpusové lišty 450mm, BLUMOTION, 30kg","578.4501B","ZN",0,null,466,null,null,8517597,"D046839",null,{"$f":"Price!A98","v":"Korpusové lišty 450mm, BLUMOTION, 30kg"},{"$f":"Price!B98","v":"578.4501B"},{"$f":"Price!C98","v":"ZN"},{"$f":"Price!D98","v":0},{"$f":"Price!E98","v":0},{"$f":"Price!F98","v":466},null,null,{"$f":"Price!G98","v":8517597},{"$f":"Price!H98","v":"D046839"}]
["Korpusové lišty 450mm, BLUMOTION, 65kg","576.4501B","ZN",0,null,560.79999999999995,null,null,6861652,"D640657",null,{"$f":"Price!A99","v":"Korpusové lišty 450mm, BLUMOTION, 65kg"},{"$f":"Price!B99","v":"576.4501B"},{"$f":"Price!C99","v":"ZN"},{"$f":"Price!D99","v":0},{"$f":"Price!E99","v":0},{"$f":"Price!F99","v":560.79999999999995},null,null,{"$f":"Price!G99","v":6861652},{"$f":"Price!H99","v":"D640657"}]
["Korpusové lišty 500mm, BLUMOTION, 30kg","578.5001B","ZN",0,null,469.5,null,null,8548489,"D031859",null,{"$f":"Price!A100","v":"Korpusové lišty 500mm, BLUMOTION, 30kg"},{"$f":"Price!B100","v":"578.5001B"},{"$f":"Price!C100","v":"ZN"},{"$f":"Price!D100","v":0},{"$f":"Price!E100","v":0},{"$f":"Price!F100","v":469.5},null,null,{"$f":"Price!G100","v":8548489},{"$f":"Price!H100","v":"D031859"}]
["Korpusové lišty 500mm, BLUMOTION, 65kg","576.5001B","ZN",0,null,620.4,null,null,6861712,"D360934",null,{"$f":"Price!A101","v":"Korpusové lišty 500mm, BLUMOTION, 65kg"},{"$f":"Price!B101","v":"576.5001B"},{"$f":"Price!C101","v":"ZN"},{"$f":"Price!D101","v":0},{"$f":"Price!E101","v":0},{"$f":"Price!F101","v":620.4},null,null,{"$f":"Price!G101","v":6861712},{"$f":"Price!H101","v":"D360934"}]
["Korpusové lišty 550mm, BLUMOTION, 30kg","578.5501B","ZN",0,null,493.5,null,null,8653566,"D046841",null,{"$f":"Price!A102","v":"Korpusové lišty 550mm, BLUMOTION, 30kg"},{"$f":"Price!B102","v":"578.5501B"},{"$f":"Price!C102","v":"ZN"},{"$f":"Price!D102","v":0},{"$f":"Price!E102","v":0},{"$f":"Price!F102","v":493.5},null,null,{"$f":"Price!G102","v":8653566},{"$f":"Price!H102","v":"D046841"}]
["Korpusové lišty 550mm, BLUMOTION, 65kg","576.5501B","ZN",0,null,644.29999999999995,null,null,6877115,"D195950",null,{"$f":"Price!A103","v":"Korpusové lišty 550mm, BLUMOTION, 65kg"},{"$f":"Price!B103","v":"576.5501B"},{"$f":"Price!C103","v":"ZN"},{"$f":"Price!D103","v":0},{"$f":"Price!E103","v":0},{"$f":"Price!F103","v":644.29999999999995},null,null,{"$f":"Price!G103","v":6877115},{"$f":"Price!H103","v":"D195950"}]
[{"$f":"L104","v":"Korpusové lišty 600mm, BLUMOTION, 30kg"},"578.6001B","ZN",0,null,{"$f":"Q104*(100-$F$6)/100","v":523.9},null,null,{"$f":"T104","v":8785467},"D658302",null,{"$f":"Price!A104","v":"Korpusové lišty 600mm, BLUMOTION, 30kg"},{"$f":"Price!B104","v":"578.6001B"},{"$f":"Price!C104","v":"ZN"},{"$f":"Price!D104","v":0},{"$f":"Price!E104","v":0},{"$f":"Price!F104","v":523.9},null,null,{"$f":"Price!G104","v":8785467},{"$f":"Price!H104","v":"D658302"}]
["Korpusové lišty 600mm, BLUMOTION, 65kg","576.6001B","ZN",0,null,661.1,null,null,6885191,"D625560",null,{"$f":"Price!A105","v":"Korpusové lišty 600mm, BLUMOTION, 65kg"},{"$f":"Price!B105","v":"576.6001B"},{"$f":"Price!C105","v":"ZN"},{"$f":"Price!D105","v":0},{"$f":"Price!E105","v":0},{"$f":"Price!F105","v":661.1},null,null,{"$f":"Price!G105","v":6885191},{"$f":"Price!H105","v":"D625560"}]
["Korpusové lišty 650mm, BLUMOTION, 65kg","576.6501B","ZN",0,null,751.2,null,null,6885499,"D368244",null,{"$f":"Price!A106","v":"Korpusové lišty 650mm, BLUMOTION, 65kg"},{"$f":"Price!B106","v":"576.6501B"},{"$f":"Price!C106","v":"ZN"},{"$f":"Price!D106","v":0},{"$f":"Price!E106","v":0},{"$f":"Price!F106","v":751.2},null,null,{"$f":"Price!G106","v":6885499},{"$f":"Price!H106","v":"D368244"}]
[null,null,null,null,null,null,null,null,null,null,null,{"$f":"Price!A107","v":0},{"$f":"Price!B107","v":0},{"$f":"Price!C107","v":0},{"$f":"Price!D107","v":0},{"$f":"Price!E107","v":0},{"$f":"Price!F107","v":0},null,null,{"$f":"Price!G107","v":0},{"$f":"Price!H107","v":0}]
[{"$f":"L108","v":"   Korpusové lišty TIP-ON BLUMOTION"},null,null,null,null,null,null,null,{"$f":"T108","v":0},{"$f":"U108","v":0},null,{"$f":"Price!A108","v":"   Korpusové lišty TIP-ON BLUMOTION"},{"$f":"Price!B108","v":0},{"$f":"Price!C108","v":0},{"$f":"Price!D108","v":0},{"$f":"Price!E108","v":0},{"$f":"Price!F108","v":0},null,null,{"$f":"Price!G108","v":0},{"$f":"Price!H108","v":0}]
["Korp. lišty TIP-ON BLUMOTION, 270mm, 30 kg","578.2701M","ZN",{"$f":"O109","v":0},null,417.4,null,null,{"$f":"T109","v":9089187},{"$f":"U109","v":"D646734"},null,{"$f":"Price!A109","v":"Korp. lišty TIP-ON BLUMOTION, 270mm, 30 kg"},{"$f":"Price!B109","v":"578.2701M"},{"$f":"Price!C109","v":"ZN"},{"$f":"Price!D109","v":0},{"$f":"Price!E109","v":0},{"$f":"Price!F109","v":417.4},null,null,{"$f":"Price!G109","v":9089187},{"$f":"Price!H109","v":"D646734"}]
[{"$f":"L110","v":"Korp. lišty TIP-ON BLUMOTION, 300mm, 30 kg"},{"$f":"M110","v":"578.3001M"},{"$f":"N110","v":"ZN"},0,null,{"$f":"Q110*(100-$F$6)/100","v":417.4},null,null,{"$f":"T110","v":9106907},{"$f":"U110","v":"D646735"},null,{"$f":"Price!A110","v":"Korp. lišty TIP-ON BLUMOTION, 300mm, 30 kg"},{"$f":"Price!B110","v":"578.3001M"},{"$f":"Price!C110","v":"ZN"},{"$f":"Price!D110","v":0},{"$f":"Price!E110","v":0},{"$f":"Price!F110","v":417.4},null,null,{"$f":"Price!G110","v":9106907},{"$f":"Price!H110","v":"D646735"}]
["Korp. lišty TIP-ON BLUMOTION, 350mm, 30 kg","578.3501M","ZN",0,null,417.4,null,null,9139077,"D646736",null,{"$f":"Price!A111","v":"Korp. lišty TIP-ON BLUMOTION, 350mm, 30 kg"},{"$f":"Price!B111","v":"578.3501M"},{"$f":"Price!C111","v":"ZN"},{"$f":"Price!D111","v":0},{"$f":"Price!E111","v":0},{"$f":"Price!F111","v":417.4},null,null,{"$f":"Price!G111","v":9139077},{"$f":"Price!H111","v":"D646736"}]
["Korp. lišty TIP-ON BLUMOTION, 400mm, 30 kg","578.4001M","ZN",0,null,420.5,null,null,9182099,"D646737",null,{"$f":"Price!A112","v":"Korp. lišty TIP-ON BLUMOTION, 400mm, 30 kg"},{"$f":"Price!B112","v":"578.4001M"},{"$f":"Price!C112","v":"ZN"},{"$f":"Price!D112","v":0},{"$f":"Price!E112","v":0},{"$f":"Price!F112","v":420.5},null,null,{"$f":"Price!G112","v":9182099},{"$f":"Price!H112","v":"D646737"}]
["Korp. lišty TIP-ON BLUMOTION, 450mm, 30 kg","578.4501M","ZN",0,null,423.7,null,null,9291634,"D646738",null,{"$f":"Price!A113","v":"Korp. lišty TIP-ON BLUMOTION, 450mm, 30 kg"},{"$f":"Price!B113","v":"578.4501M"},{"$f":"Price!C113","v":"ZN"},{"$f":"Price!D113","v":0},{"$f":"Price!E113","v":0},{"$f":"Price!F113","v":423.7},null,null,{"$f":"Price!G113","v":9291634},{"$f":"Price!H113","v":"D646738"}]
["Korp. lišty TIP-ON BLUMOTION, 450mm, 65 kg","578.4501M","ZN",0,null,560.79999999999995,null,null,6022202,"D646729",null,{"$f":"Price!A114","v":"Korp. lišty TIP-ON BLUMOTION, 450mm, 65 kg"},{"$f":"Price!B114","v":"578.4501M"},{"$f":"Price!C114","v":"ZN"},{"$f":"Price!D114","v":0},{"$f":"Price!E114","v":0},{"$f":"Price!F114","v":560.79999999999995},null,null,{"$f":"Price!G114","v":6022202},{"$f":"Price!H114","v":"D646729"}]
["Korp. lišty TIP-ON BLUMOTION, 500mm, 30 kg","578.5001M","ZN",0,null,426.8,null,null,9301459,"D646739",null,{"$f":"Price!A115","v":"Korp. lišty TIP-ON BLUMOTION, 500mm, 30 kg"},{"$f":"Price!B115","v":"578.5001M"},{"$f":"Price!C115","v":"ZN"},{"$f":"Price!D115","v":0},{"$f":"Price!E115","v":0},{"$f":"Price!F115","v":426.8},null,null,{"$f":"Price!G115","v":9301459},{"$f":"Price!H115","v":"D646739"}]
[{"$f":"L116","v":"Korp. lišty TIP-ON BLUMOTION, 500mm, 65 kg"},{"$f":"M116","v":"576.5001M"},{"$f":"N116","v":"ZN"},0,null,{"$f":"Q116*(100-$F$6)/100","v":564},null,null,{"$f":"T116","v":6028270},{"$f":"U116","v":"D646730"},null,{"$f":"Price!A116","v":"Korp. lišty TIP-ON BLUMOTION, 500mm, 65 kg"},{"$f":"Price!B116","v":"576.5001M"},{"$f":"Price!C116","v":"ZN"},{"$f":"Price!D116","v":0},{"$f":"Price!E116","v":0},{"$f":"Price!F116","v":564},null,null,{"$f":"Price!G116","v":6028270},{"$f":"Price!H116","v":"D646730"}]
["Korp. lišty TIP-ON BLUMOTION, 550mm, 30 kg","578.5501M","ZN",0,null,448.6,null,null,9403708,"D646740",null,{"$f":"Price!A117","v":"Korp. lišty TIP-ON BLUMOTION, 550mm, 30 kg"},{"$f":"Price!B117","v":"578.5501M"},{"$f":"Price!C117","v":"ZN"},{"$f":"Price!D117","v":0},{"$f":"Price!E117","v":0},{"$f":"Price!F117","v":448.6},null,null,{"$f":"Price!G117","v":9403708},{"$f":"Price!H117","v":"D646740"}]
["Korp. lišty TIP-ON BLUMOTION, 550mm, 65 kg","576.5501M","ZN",0,null,585.79999999999995,null,null,6042877,"D646731",null,{"$f":"Price!A118","v":"Korp. lišty TIP-ON BLUMOTION, 550mm, 65 kg"},{"$f":"Price!B118","v":"576.5501M"},{"$f":"Price!C118","v":"ZN"},{"$f":"Price!D118","v":0},{"$f":"Price!E118","v":0},{"$f":"Price!F118","v":585.79999999999995},null,null,{"$f":"Price!G118","v":6042877},{"$f":"Price!H118","v":"D646731"}]
["Korp. lišty TIP-ON BLUMOTION, 600mm, 30 kg","578.6001M","ZN",0,null,542,null,null,9564207,"D646741",null,{"$f":"Price!A119","v":"Korp. lišty TIP-ON BLUMOTION, 600mm, 30 kg"},{"$f":"Price!B119","v":"578.6001M"},{"$f":"Price!C119","v":"ZN"},{"$f":"Price!D119","v":0},{"$f":"Price!E119","v":0},{"$f":"Price!F119","v":542},null,null,{"$f":"Price!G119","v":9564207},{"$f":"Price!H119","v":"D646741"}]
["Korp. lišty TIP-ON BLUMOTION, 600mm, 65 kg","576.6001M","ZN",0,null,661.1,null,null,6058115,"D646732",null,{"$f":"Price!A120","v":"Korp. lišty TIP-ON BLUMOTION, 600mm, 65 kg"},{"$f":"Price!B120","v":"576.6001M"},{"$f":"Price!C120","v":"ZN"},{"$f":"Price!D120","v":0},{"$f":"Price!E120","v":0},{"$f":"Price!F120","v":661.1},null,null,{"$f":"Price!G120","v":6058115},{"$f":"Price!H120","v":"D646732"}]
[{"$f":"L121","v":"Korp. lišty TIP-ON BLUMOTION, 650mm, 65 kg"},{"$f":"M121","v":"576.6501M"},{"$f":"N121","v":"ZN"},0,null,{"$f":"Q121*(100-$F$6)/100","v":682.9},null,null,{"$f":"T121","v":6063496},{"$f":"U121","v":"D646733"},null,{"$f":"Price!A121","v":"Korp. lišty TIP-ON BLUMOTION, 650mm, 65 kg"},{"$f":"Price!B121","v":"576.6501M"},{"$f":"Price!C121","v":"ZN"},{"$f":"Price!D121","v":0},{"$f":"Price!E121","v":0},{"$f":"Price!F121","v":682.9},null,null,{"$f":"Price!G121","v":6063496},{"$f":"Price!H121","v":"D646733"}]
[null,null,null,null,null,null,null,null,null,null,null,{"$f":"Price!A122","v":0},{"$f":"Price!B123","v":0},{"$f":"Price!C123","v":0},{"$f":"Price!D122","v":0},{"$f":"Price!E122","v":0},{"$f":"Price!F122","v":0},null,null,{"$f":"Price!G122","v":0},{"$f":"Price!H122","v":0}]
["   TIP-ON BLUMOTION",null,null,null,null,null,null,null,0,0,null,{"$f":"Price!A123","v":"   TIP-ON BLUMOTION"},{"$f":"Price!B123","v":0},{"$f":"Price!C123","v":0},{"$f":"Price!D123","v":0},{"$f":"Price!E123","v":0},{"$f":"Price!F123","v":0},null,null,{"$f":"Price!G123","v":0},{"$f":"Price!H123","v":0}]
["Sada jednotek TIP-ON BLUMOTION, S0","T60B3030","W",{"$f":"O124","v":0},null,404.5,null,null,3157261,"D646742",null,{"$f":"Price!A124","v":"Sada jednotek TIP-ON BLUMOTION, S0"},{"$f":"Price!B124","v":"T60B3030"},{"$f":"Price!C124","v":"W"},{"$f":"Price!D124","v":0},{"$f":"Price!E124","v":0},{"$f":"Price!F124","v":404.5},null,null,{"$f":"Price!G124","v":3157261},{"$f":"Price!H124","v":"D646742"}]
["Sada jednotek TIP-ON BLUMOTION, S1","T60B3130","R735",0,null,404.5,null,null,7846331,"D646743",null,{"$f":"Price!A125","v":"Sada jednotek TIP-ON BLUMOTION, S1"},{"$f":"Price!B125","v":"T60B3130"},{"$f":"Price!C125","v":"R735"},{"$f":"Price!D125","v":0},{"$f":"Price!E125","v":0},{"$f":"Price!F125","v":404.5},null,null,{"$f":"Price!G125","v":7846331},{"$f":"Price!H125","v":"D646743"}]
[{"$f":"L126","v":"Sada jednotek TIP-ON BLUMOTION, L1"},{"$f":"M126","v":"T60B3330"},{"$f":"N126","v":"R735"},0,null,{"$f":"Q126*(100-$F$6)/100","v":404.5},null,null,{"$f":"T126","v":3688343},{"$f":"U126","v":"D646744"},null,{"$f":"Price!A126","v":"Sada jednotek TIP-ON BLUMOTION, L1"},{"$f":"Price!B126","v":"T60B3330"},{"$f":"Price!C126","v":"R735"},{"$f":"Price!D126","v":0},{"$f":"Price!E126","v":0},{"$f":"Price!F126","v":404.5},null,null,{"$f":"Price!G126","v":3688343},{"$f":"Price!H126","v":"D646744"}]
["Sada jednotek TIP-ON BLUMOTION, L3","T60B3530","R737",0,null,404.5,null,null,1023195,"D646745",null,{"$f":"Price!A127","v":"Sada jednotek TIP-ON BLUMOTION, L3"},{"$f":"Price!B127","v":"T60B3530"},{"$f":"Price!C127","v":"R737"},{"$f":"Price!D127","v":0},{"$f":"Price!E127","v":0},{"$f":"Price!F127","v":404.5},null,null,{"$f":"Price!G127","v":1023195},{"$f":"Price!H127","v":"D646745"}]
["Sada jednotek TIP-ON BLUMOTION, L5","T60B3560","S",0,null,404.5,null,null,9792576,"D646746",null,{"$f":"Price!A128","v":"Sada jednotek TIP-ON BLUMOTION, L5"},{"$f":"Price!B128","v":"T60B3560"},{"$f":"Price!C128","v":"S"},{"$f":"Price!D128","v":0},{"$f":"Price!E128","v":0},{"$f":"Price!F128","v":404.5},null,null,{"$f":"Price!G128","v":9792576},{"$f":"Price!H128","v":"D646746"}]
[null,null,null,null,null,null,null,null,0,0,null,{"$f":"Price!A129","v":0},{"$f":"Price!B129","v":0},{"$f":"Price!C129","v":0},{"$f":"Price!D129","v":0},{"$f":"Price!E129","v":0},{"$f":"Price!F129","v":0},null,null,{"$f":"Price!G129","v":0},{"$f":"Price!H129","v":0}]
["Synchronizační adaptér","T60.000D","R735",0,null,5.8,null,null,1512005,"D568838",null,{"$f":"Price!A130","v":"Synchronizační adaptér"},{"$f":"Price!B130","v":"T60.000D"},{"$f":"Price!C130","v":"R735"},{"$f":"Price!D130","v":0},{"$f":"Price!E130","v":0},{"$f":"Price!F130","v":5.8},null,null,{"$f":"Price!G130","v":1512005},{"$f":"Price!H130","v":"D568838"}]
["Hřídel synchronizace","T60.1125W","GR",0,null,95.6,null,null,2101757,"D568839",null,{"$f":"Price!A131","v":"Hřídel synchronizace"},{"$f":"Price!B131","v":"T60.1125W"},{"$f":"Price!C131","v":"GR"},{"$f":"Price!D131","v":0},{"$f":"Price!E131","v":0},{"$f":"Price!F131","v":95.6},null,null,{"$f":"Price!G131","v":2101757},{"$f":"Price!H131","v":"D568839"}]
["Jednodílná synchronizace","T60.300D","R735",0,null,23.2,null,null,8133273,"D646783",null,{"$f":"Price!A132","v":"Jednodílná synchronizace"},{"$f":"Price!B132","v":"T60.300D"},{"$f":"Price!C132","v":"R735"},{"$f":"Price!D132","v":0},{"$f":"Price!E132","v":0},{"$f":"Price!F132","v":23.2},null,null,{"$f":"Price!G132","v":8133273},{"$f":"Price!H132","v":"D646783"}]
[null,null,null,null,null,null,null,null,0,0,null,{"$f":"Price!A133","v":0},{"$f":"Price!B133","v":0},{"$f":"Price!C133","v":0},{"$f":"Price!D133","v":0},{"$f":"Price!E133","v":0},{"$f":"Price!F133","v":0},null,null,{"$f":"Price!G133","v":0},{"$f":"Price!H133","v":0}]
["Držák hřídele synchronizace","T60B000H","NI",0,null,6,null,null,5690481,"D646748",null,{"$f":"Price!A134","v":"Držák hřídele synchronizace"},{"$f":"Price!B134","v":"T60B000H"},{"$f":"Price!C134","v":"NI"},{"$f":"Price!D134","v":0},{"$f":"Price!E134","v":0},{"$f":"Price!F134","v":6},null,null,{"$f":"Price!G134","v":5690481},{"$f":"Price!H134","v":"D646748"}]
["Podpěrný úhelník pro dno","Z96.2011","R737",0,null,29.8,null,null,1486446,"D646747",null,{"$f":"Price!A135","v":"Podpěrný úhelník pro dno"},{"$f":"Price!B135","v":"Z96.2011"},{"$f":"Price!C135","v":"R737"},{"$f":"Price!D135","v":0},{"$f":"Price!E135","v":0},{"$f":"Price!F135","v":29.8},null,null,{"$f":"Price!G135","v":1486446},{"$f":"Price!H135","v":"D646747"}]
[null,null,null,null,null,null,null,null,null,null,null,{"$f":"Price!A136","v":0},{"$f":"Price!B136","v":0},{"$f":"Price!C136","v":0},{"$f":"Price!D136","v":0},{"$f":"Price!E136","v":0},{"$f":"Price!F136","v":0},null,null,{"$f":"Price!G136","v":0},{"$f":"Price!H136","v":0}]
[null,null,null,null,null,null,null,null,null,null,null,{"$f":"Price!A137","v":0},{"$f":"Price!B137","v":0},{"$f":"Price!C137","v":0},{"$f":"Price!D137","v":0},{"$f":"Price!E137","v":0},{"$f":"Price!F137","v":0},null,null,{"$f":"Price!G137","v":0},{"$f":"Price!H137","v":0}]
[null,null,null,null,null,null,null,null,null,null,null,{"$f":"Price!A138","v":0},{"$f":"Price!B138","v":0},{"$f":"Price!C138","v":0},{"$f":"Price!D138","v":0},{"$f":"Price!E138","v":0},{"$f":"Price!F138","v":0},null,null,{"$f":"Price!G138","v":0},{"$f":"Price!H138","v":0}]
[null,null,null,null,null,null,null,null,null,null,null,{"$f":"Price!A139","v":0},{"$f":"Price!B139","v":0},{"$f":"Price!C139","v":0},{"$f":"Price!D139","v":0},{"$f":"Price!E139","v":0},{"$f":"Price!F139","v":0},null,null,{"$f":"Price!G139","v":0},{"$f":"Price!H139","v":0}]
[null,null,null,null,null,null,null,null,null,null,null,{"$f":"Price!A140","v":0},{"$f":"Price!B140","v":0},{"$f":"Price!C140","v":0},{"$f":"Price!D140","v":0},{"$f":"Price!E140","v":0},{"$f":"Price!F140","v":0},null,null,{"$f":"Price!G140","v":0},{"$f":"Price!H140","v":0}]
[null,null,null,null,null,null,null,null,null,null,null,{"$f":"Price!A141","v":0},{"$f":"Price!B141","v":0},{"$f":"Price!C141","v":0},{"$f":"Price!D141","v":0},{"$f":"Price!E141","v":0},{"$f":"Price!F141","v":0},null,null,{"$f":"Price!G141","v":0},{"$f":"Price!H141","v":0}]
[null,null,null,null,null,null,null,null,null,null,null,{"$f":"Price!A142","v":"   Držáky zadní stěny"},{"$f":"Price!B142","v":0},{"$f":"Price!C142","v":0},{"$f":"Price!D142","v":0},{"$f":"Price!E142","v":0},{"$f":"Price!F142","v":0},null,null,{"$f":"Price!G142","v":0},{"$f":"Price!H142","v":0}]
[{"$f":"IF($C$2=1,L143,IF($C$2=2,L144,IF($C$2=3,L145, IF($C$2=4, L146, \"  chyba\"))))","v":"Držáky zadní stěny N, šedé"},{"$f":"IF($C$2=1,M143,IF($C$2=2,M144,IF($C$2=3,M145, IF($C$2=4, M146, \"  chyba\"))))","v":"Z30N000S.04"},{"$f":"IF($C$2=1,N143,IF($C$2=2,N144,IF($C$2=3,N145, IF($C$2=4, N146, \"  chyba\"))))","v":"R906"},{"$f":"IF($C$2=1,O143,IF($C$2=2,O144,IF($C$2=3,O145, IF($C$2=4, O146, \"  chyba\"))))","v":0},{"$f":"IF($C$2=1,P143,IF($C$2=2,P144,IF($C$2=3,P145, IF($C$2=4, P146, \"  chyba\"))))","v":0},{"$f":"IF($C$2=1,Q143,IF($C$2=2,Q144,IF($C$2=3,Q145, IF($C$2=4, Q146, \"  chyba\"))))*(100-$F$6)/100","v":36.5},null,null,{"$f":"IF($C$2=1,T143,IF($C$2=2,T144,IF($C$2=3,T145, IF($C$2=4, T146, \"  chyba\"))))","v":5823334},{"$f":"IF($C$2=1,U143,IF($C$2=2,U144,IF($C$2=3,U145, IF($C$2=4, U146, \"  chyba\"))))","v":"D055094"},null,{"$f":"Price!A143","v":"Držáky zadní stěny N, šedé"},{"$f":"Price!B143","v":"Z30N000S.04"},{"$f":"Price!C143","v":"R906"},{"$f":"Price!D143","v":0},{"$f":"Price!E143","v":0},{"$f":"Price!F143","v":36.5},null,null,{"$f":"Price!G143","v":5823334},{"$f":"Price!H143","v":"D055094"}]
[null,null,null,null,null,null,null,null,null,null,null,{"$f":"Price!A144","v":"Držáky zadní stěny N, hedvábně bílé"},{"$f":"Price!B144","v":"Z30N000S.04"},{"$f":"Price!C144","v":"SEIW"},{"$f":"Price!D144","v":0},{"$f":"Price!E144","v":0},{"$f":"Price!F144","v":36.5},null,null,{"$f":"Price!G144","v":4305133},{"$f":"Price!H144","v":"D289791"}]
[null,null,null,null,null,null,null,null,null,null,null,{"$f":"Price!A145","v":"Držáky zadní stěny N, černé Terra"},{"$f":"Price!B145","v":"Z30N000S.04"},{"$f":"Price!C145","v":"TERS"},{"$f":"Price!D145","v":0},{"$f":"Price!E145","v":0},{"$f":"Price!F145","v":36.5},null,null,{"$f":"Price!G145","v":6548446},{"$f":"Price!H145","v":"D289792"}]
[null,null,null,null,null,null,null,null,null,null,null,{"$f":"Price!A146","v":"Držáky zadní stěny N, poniklované"},{"$f":"Price!B146","v":"Z30N000S.04"},{"$f":"Price!C146","v":"NI"},{"$f":"Price!D146","v":"!"},{"$f":"Price!E146","v":0},{"$f":"Price!F146","v":56.9},null,null,{"$f":"Price!G146","v":3520788},{"$f":"Price!H146","v":"D460294"}]
[{"$f":"IF($C$2=1,L147,IF($C$2=2,L148,IF($C$2=3,L149, IF($C$2=4, L150, \"  chyba\"))))","v":"Držáky zadní stěny M, šedé"},{"$f":"IF($C$2=1,M147,IF($C$2=2,M148,IF($C$2=3,M149, IF($C$2=4, M150, \"  chyba\"))))","v":"Z30M000S.04"},{"$f":"IF($C$2=1,N147,IF($C$2=2,N148,IF($C$2=3,N149, IF($C$2=4, N150, \"  chyba\"))))","v":"R906"},{"$f":"IF($C$2=1,O147,IF($C$2=2,O148,IF($C$2=3,O149, IF($C$2=4, O150, \"  chyba\"))))","v":0},{"$f":"IF($C$2=1,P147,IF($C$2=2,P148,IF($C$2=3,P149, IF($C$2=4, P150, \"  chyba\"))))","v":0},{"$f":"IF($C$2=1,Q147,IF($C$2=2,Q148,IF($C$2=3,Q149, IF($C$2=4, Q150, \"  chyba\"))))*(100-$F$6)/100","v":40.200000000000003},null,null,{"$f":"IF($C$2=1,T147,IF($C$2=2,T148,IF($C$2=3,T149, IF($C$2=4, T150, \"  chyba\"))))","v":4114541},{"$f":"IF($C$2=1,U147,IF($C$2=2,U148,IF($C$2=3,U149, IF($C$2=4, U150, \"  chyba\"))))","v":"D031860"},null,{"$f":"Price!A147","v":"Držáky zadní stěny M, šedé"},{"$f":"Price!B147","v":"Z30M000S.04"},{"$f":"Price!C147","v":"R906"},{"$f":"Price!D147","v":0},{"$f":"Price!E147","v":0},{"$f":"Price!F147","v":40.200000000000003},null,null,{"$f":"Price!G147","v":4114541},{"$f":"Price!H147","v":"D031860"}]
[null,null,null,null,null,null,null,null,null,null,null,{"$f":"Price!A148","v":"Držáky zadní stěny M, hedvábně bílé"},{"$f":"Price!B148","v":"Z30M000S.04"},{"$f":"Price!C148","v":"SEIW"},{"$f":"Price!D148","v":0},{"$f":"Price!E148","v":0},{"$f":"Price!F148","v":40.200000000000003},null,null,{"$f":"Price!G148","v":2843026},{"$f":"Price!H148","v":"D289787"}]
[null,null,null,null,null,null,null,null,null,null,null,{"$f":"Price!A149","v":"Držáky zadní stěny M, černé Terra"},{"$f":"Price!B149","v":"Z30M000S.04"},{"$f":"Price!C149","v":"TERS"},{"$f":"Price!D149","v":0},{"$f":"Price!E149","v":0},{"$f":"Price!F149","v":36.5},null,null,{"$f":"Price!G149","v":7448927},{"$f":"Price!H149","v":"D289788"}]
[null,null,null,null,null,null,null,null,null,null,null,{"$f":"Price!A150","v":"Držáky zadní stěny M, poniklované"},{"$f":"Price!B150","v":"Z30M000S.04"},{"$f":"Price!C150","v":"NI"},{"$f":"Price!D150","v":"!"},{"$f":"Price!E150","v":0},{"$f":"Price!F150","v":71.8},null,null,{"$f":"Price!G150","v":8304394},{"$f":"Price!H150","v":"D393150"}]
[{"$f":"IF($C$2=1,L151,IF($C$2=2,L152,IF($C$2=3,L153,IF($C$2=4,\" \",\"  chyba\"))))","v":"Držáky zadní stěny K, šedé"},{"$f":"IF($C$2=1,M151,IF($C$2=2,M152,IF($C$2=3,M153,IF($C$2=4,\" \",\"  chyba\"))))","v":"Z30K000S"},{"$f":"IF($C$2=1,N151,IF($C$2=2,N152,IF($C$2=3,N153,IF($C$2=4,\" \",\"  chyba\"))))","v":"R906"},{"$f":"IF($C$2=1,O151,IF($C$2=2,O152,IF($C$2=3,O153,IF($C$2=4,\" \",\"  chyba\"))))","v":0},{"$f":"IF($C$2=1,P151,IF($C$2=2,P152,IF($C$2=3,P153,IF($C$2=4,\" \",\"  chyba\"))))","v":0},{"$f":"IF($C$2=1,Q151,IF($C$2=2,Q152,IF($C$2=3,Q153,IF($C$2=4,0,\"  chyba\"))))*(100-$F$6)/100","v":67.400000000000006},null,null,{"$f":"IF($C$2=1,T151,IF($C$2=2,T152,IF($C$2=3,T153,IF($C$2=4,\" \",\"  chyba\"))))","v":9406204},{"$f":"IF($C$2=1,U151,IF($C$2=2,U152,IF($C$2=3,U153,IF($C$2=4,\" \",\"  chyba\"))))","v":"D063796"},null,{"$f":"Price!A151","v":"Držáky zadní stěny K, šedé"},{"$f":"Price!B151","v":"Z30K000S"},{"$f":"Price!C151","v":"R906"},{"$f":"Price!D151","v":0},{"$f":"Price!E151","v":0},{"$f":"Price!F151","v":67.400000000000006},null,null,{"$f":"Price!G151","v":9406204},{"$f":"Price!H151","v":"D063796"}]
[null,null,null,null,null,null,null,null,null,null,null,{"$f":"Price!A152","v":"Držáky zadní stěny K, hedvábně bílé"},{"$f":"Price!B152","v":"Z30K000S"},{"$f":"Price!C152","v":"SEIW"},{"$f":"Price!D152","v":0},{"$f":"Price!E152","v":0},{"$f":"Price!F152","v":67.400000000000006},null,null,{"$f":"Price!G152","v":5147820},{"$f":"Price!H152","v":"D512383"}]
[null,null,null,null,null,null,null,null,null,null,null,{"$f":"Price!A153","v":"Držáky zadní stěny K, černé Terra"},{"$f":"Price!B153","v":"Z30K000S"},{"$f":"Price!C153","v":"TERS"},{"$f":"Price!D153","v":"!"},{"$f":"Price!E153","v":0},{"$f":"Price!F153","v":61.3},null,null,{"$f":"Price!G153","v":2817915},{"$f":"Price!H153","v":"D512384"}]
[{"$f":"IF($C$2=1,L154,IF($C$2=2,L155,IF($C$2=3,L156, IF($C$2=4, L157, \"  chyba\"))))","v":"Držáky zadní stěny B, šedé"},{"$f":"IF($C$2=1,M154,IF($C$2=2,M155,IF($C$2=3,M156, IF($C$2=4, M157, \"  chyba\"))))","v":"Z30B000S.04"},{"$f":"IF($C$2=1,N154,IF($C$2=2,N155,IF($C$2=3,N156, IF($C$2=4, N157, \"  chyba\"))))","v":"R906"},{"$f":"IF($C$2=1,O154,IF($C$2=2,O155,IF($C$2=3,O156, IF($C$2=4, O157, \"  chyba\"))))","v":0},{"$f":"IF($C$2=1,P154,IF($C$2=2,P155,IF($C$2=3,P156, IF($C$2=4, P157, \"  chyba\"))))","v":0},{"$f":"IF($C$2=1,Q154,IF($C$2=2,Q155,IF($C$2=3,Q156, IF($C$2=4, Q157, \"  chyba\"))))*(100-$F$6)/100","v":48.8},null,null,{"$f":"IF($C$2=1,T154,IF($C$2=2,T155,IF($C$2=3,T156, IF($C$2=4, T157, \"  chyba\"))))","v":1071721},{"$f":"IF($C$2=1,U154,IF($C$2=2,U155,IF($C$2=3,U156, IF($C$2=4, U157, \"  chyba\"))))","v":"D046034"},null,{"$f":"Price!A154","v":"Držáky zadní stěny B, šedé"},{"$f":"Price!B154","v":"Z30B000S.04"},{"$f":"Price!C154","v":"R906"},{"$f":"Price!D154","v":0},{"$f":"Price!E154","v":0},{"$f":"Price!F154","v":48.8},null,null,{"$f":"Price!G154","v":1071721},{"$f":"Price!H154","v":"D046034"}]
[null,null,null,null,null,null,null,null,null,null,null,{"$f":"Price!A155","v":"Držáky zadní stěny B, hedvábně bílé"},{"$f":"Price!B155","v":"Z30B000S.04"},{"$f":"Price!C155","v":"SEIW"},{"$f":"Price!D155","v":0},{"$f":"Price!E155","v":0},{"$f":"Price!F155","v":48.8},null,null,{"$f":"Price!G155","v":4049699},{"$f":"Price!H155","v":"D460296"}]
[null,null,null,null,null,null,null,null,null,null,null,{"$f":"Price!A156","v":"Držáky zadní stěny B, černé Terra"},{"$f":"Price!B156","v":"Z30B000S.04"},{"$f":"Price!C156","v":"TERS"},{"$f":"Price!D156","v":0},{"$f":"Price!E156","v":0},{"$f":"Price!F156","v":44.3},null,null,{"$f":"Price!G156","v":1013591},{"$f":"Price!H156","v":"D512385"}]
[null,null,null,null,null,null,null,null,null,null,null,{"$f":"Price!A157","v":"Držáky zadní stěny B, poniklované"},{"$f":"Price!B157","v":"Z30B000S.04"},{"$f":"Price!C157","v":"NI"},{"$f":"Price!D157","v":"!"},{"$f":"Price!E157","v":0},{"$f":"Price!F157","v":90},null,null,{"$f":"Price!G157","v":6373016},{"$f":"Price!H157","v":"D460295"}]
[{"$f":"IF($C$2=1,L158,IF($C$2=2,L159,IF($C$2=3,L160, IF($C$2=4, L161, \"  chyba\"))))","v":"Držáky zadní stěny C, šedé"},{"$f":"IF($C$2=1,M158,IF($C$2=2,M159,IF($C$2=3,M160, IF($C$2=4, M161, \"  chyba\"))))","v":"Z30C000S"},{"$f":"IF($C$2=1,N158,IF($C$2=2,N159,IF($C$2=3,N160, IF($C$2=4, N161, \"  chyba\"))))","v":"R906"},{"$f":"IF($C$2=1,O158,IF($C$2=2,O159,IF($C$2=3,O160, IF($C$2=4, O161, \"  chyba\"))))","v":0},{"$f":"IF($C$2=1,P158,IF($C$2=2,P159,IF($C$2=3,P160, IF($C$2=4, P161, \"  chyba\"))))","v":0},{"$f":"IF($C$2=1,Q158,IF($C$2=2,Q159,IF($C$2=3,Q160, IF($C$2=4, Q161, \"  chyba\"))))*(100-$F$6)/100","v":71},null,null,{"$f":"IF($C$2=1,T158,IF($C$2=2,T159,IF($C$2=3,T160, IF($C$2=4, T161, \"  chyba\"))))","v":2344977},{"$f":"IF($C$2=1,U158,IF($C$2=2,U159,IF($C$2=3,U160, IF($C$2=4, U161, \"  chyba\"))))","v":"D146089"},null,{"$f":"Price!A158","v":"Držáky zadní stěny C, šedé"},{"$f":"Price!B158","v":"Z30C000S"},{"$f":"Price!C158","v":"R906"},{"$f":"Price!D158","v":0},{"$f":"Price!E158","v":0},{"$f":"Price!F158","v":71},null,null,{"$f":"Price!G158","v":2344977},{"$f":"Price!H158","v":"D146089"}]
[null,null,null,null,null,null,null,null,null,null,null,{"$f":"Price!A159","v":"Držáky zadní stěny C, hedvábně bílé"},{"$f":"Price!B159","v":"Z30C000S"},{"$f":"Price!C159","v":"SEIW"},{"$f":"Price!D159","v":0},{"$f":"Price!E159","v":0},{"$f":"Price!F159","v":71},null,null,{"$f":"Price!G159","v":3445250},{"$f":"Price!H159","v":"D460297"}]
[null,null,null,null,null,null,null,null,null,null,null,{"$f":"Price!A160","v":"Držáky zadní stěny C, černé Terra"},{"$f":"Price!B160","v":"Z30C000S"},{"$f":"Price!C160","v":"TERS"},{"$f":"Price!D160","v":0},{"$f":"Price!E160","v":0},{"$f":"Price!F160","v":71},null,null,{"$f":"Price!G160","v":5903872},{"$f":"Price!H160","v":"D512386"}]
[null,null,null,null,null,null,null,null,null,null,null,{"$f":"Price!A161","v":"Držáky zadní stěny C, poniklované"},{"$f":"Price!B161","v":"Z30C000S"},{"$f":"Price!C161","v":"NI"},{"$f":"Price!D161","v":"!"},{"$f":"Price!E161","v":0},{"$f":"Price!F161","v":0},null,null,{"$f":"Price!G161","v":1965760},{"$f":"Price!H161","v":"na dotaz"}]
[{"$f":"IF($C$2=1,L162,IF($C$2=2,L163,IF($C$2=3,L164, IF($C$2=4, L165, \"  chyba\"))))","v":"Držáky zadní stěny D, šedé"},{"$f":"IF($C$2=1,M162,IF($C$2=2,M163,IF($C$2=3,M164, IF($C$2=4, M165, \"  chyba\"))))","v":"Z30D000S"},{"$f":"IF($C$2=1,N162,IF($C$2=2,N163,IF($C$2=3,N164, IF($C$2=4, N165, \"  chyba\"))))","v":"R906"},{"$f":"IF($C$2=1,O162,IF($C$2=2,O163,IF($C$2=3,O164, IF($C$2=4, O165, \"  chyba\"))))","v":0},{"$f":"IF($C$2=1,P162,IF($C$2=2,P163,IF($C$2=3,P164, IF($C$2=4, P165, \"  chyba\"))))","v":0},{"$f":"IF($C$2=1,Q162,IF($C$2=2,Q163,IF($C$2=3,Q164, IF($C$2=4, Q165, \"  chyba\"))))*(100-$F$6)/100","v":78.099999999999994},null,null,{"$f":"IF($C$2=1,T162,IF($C$2=2,T163,IF($C$2=3,T164, IF($C$2=4, T165, \"  chyba\"))))","v":7561427},{"$f":"IF($C$2=1,U162,IF($C$2=2,U163,IF($C$2=3,U164, IF($C$2=4, U165, \"  chyba\"))))","v":"D040594"},null,{"$f":"Price!A162","v":"Držáky zadní stěny D, šedé"},{"$f":"Price!B162","v":"Z30D000S"},{"$f":"Price!C162","v":"R906"},{"$f":"Price!D162","v":0},{"$f":"Price!E162","v":0},{"$f":"Price!F162","v":78.099999999999994},null,null,{"$f":"Price!G162","v":7561427},{"$f":"Price!H162","v":"D040594"}]
[null,null,null,null,null,null,null,null,null,null,null,{"$f":"Price!A163","v":"Držáky zadní stěny D, hedvábně bílé"},{"$f":"Price!B163","v":"Z30D000SL"},{"$f":"Price!C163","v":"SEIW"},{"$f":"Price!D163","v":0},{"$f":"Price!E163","v":0},{"$f":"Price!F163","v":78.099999999999994},null,null,{"$f":"Price!G163","v":1465799},{"$f":"Price!H163","v":"D289783"}]
[null,null,null,null,null,null,null,null,null,null,null,{"$f":"Price!A164","v":"Držáky zadní stěny D, černé Terra"},{"$f":"Price!B164","v":"Z30D000SL"},{"$f":"Price!C164","v":"TERS"},{"$f":"Price!D164","v":0},{"$f":"Price!E164","v":0},{"$f":"Price!F164","v":71},null,null,{"$f":"Price!G164","v":7482171},{"$f":"Price!H164","v":"D289784"}]
[null,null,null,null,null,null,null,null,null,null,null,{"$f":"Price!A165","v":"Držáky zadní stěny D, poniklované"},{"$f":"Price!B165","v":"Z30D000SL"},{"$f":"Price!C165","v":"NI"},{"$f":"Price!D165","v":"!"},{"$f":"Price!E165","v":0},{"$f":"Price!F165","v":122.6},null,null,{"$f":"Price!G165","v":1721189},{"$f":"Price!H165","v":"D393145"}]
[]
[{"$f":"IF($C$2=1,L167,IF($C$2=2,L168,IF($C$2=3,L169, IF($C$2=4, L170, \"  chyba\"))))","v":"Variabilní držák relingu, vlevo/vpravo, šedý"},{"$f":"IF($C$2=1,M167,IF($C$2=2,M168,IF($C$2=3,M169, IF($C$2=4, M170, \"  chyba\"))))","v":"ZRR.5200"},{"$f":"IF($C$2=1,N167,IF($C$2=2,N168,IF($C$2=3,N169, IF($C$2=4, N170, \"  chyba\"))))","v":"R906"},{"$f":"IF($C$2=1,O167,IF($C$2=2,O168,IF($C$2=3,O169, IF($C$2=4, O170, \"  chyba\"))))","v":0},{"$f":"IF($C$2=1,P167,IF($C$2=2,P168,IF($C$2=3,P169, IF($C$2=4, P170, \"  chyba\"))))","v":0},{"$f":"IF($C$2=1,Q167,IF($C$2=2,Q168,IF($C$2=3,Q169, IF($C$2=4, Q170, \"  chyba\"))))*(100-$F$6)/100","v":49.3},null,null,{"$f":"IF($C$2=1,T167,IF($C$2=2,T168,IF($C$2=3,T169, IF($C$2=4, T170, \"  chyba\"))))","v":1646954},{"$f":"IF($C$2=1,U167,IF($C$2=2,U168,IF($C$2=3,U169, IF($C$2=4, U170, \"  chyba\"))))","v":"D472697"},null,{"$f":"Price!A167","v":"Variabilní držák relingu, vlevo/vpravo, šedý"},{"$f":"Price!B167","v":"ZRR.5200"},{"$f":"Price!C167","v":"R906"},{"$f":"Price!D167","v":0},{"$f":"Price!E167","v":0},{"$f":"Price!F167","v":49.3},null,null,{"$f":"Price!G167","v":1646954},{"$f":"Price!H167","v":"D472697"}]
[null,null,null,null,null,null,null,null,null,null,null,{"$f":"Price!A168","v":"Variabilní držák relingu, vlevo/vpravo, hedvábně bílý"},{"$f":"Price!B168","v":"ZRR.5200"},{"$f":"Price!C168","v":"SEIW"},{"$f":"Price!D168","v":0},{"$f":"Price!E168","v":0},{"$f":"Price!F168","v":49.3},null,null,{"$f":"Price!G168","v":3205443},{"$f":"Price!H168","v":"D472694"}]
[null,null,null,null,null,null,null,null,null,null,null,{"$f":"Price!A169","v":"Variabilní držák relingu, vlevo/vpravo, černý Terra"},{"$f":"Price!B169","v":"ZRR.5200"},{"$f":"Price!C169","v":"TERS"},{"$f":"Price!D169","v":0},{"$f":"Price!E169","v":0},{"$f":"Price!F169","v":49.3},null,null,{"$f":"Price!G169","v":7759723},{"$f":"Price!H169","v":"D512387"}]
[null,null,null,null,null,null,null,null,null,null,null,{"$f":"Price!A170","v":"Variabilní držák relingu, vlevo/vpravo, poniklovaný"},{"$f":"Price!B170","v":"ZRR.5200"},{"$f":"Price!C170","v":"NI"},{"$f":"Price!D170","v":"!"},{"$f":"Price!E170","v":0},{"$f":"Price!F170","v":0},null,null,{"$f":"Price!G170","v":9341294},{"$f":"Price!H170","v":"na dotaz"}]
[null,null,null,null,null,null,null,null,null,null,null,{"$f":"Price!A171","v":0},{"$f":"Price!B171","v":0},{"$f":"Price!C171","v":0},{"$f":"Price!D171","v":0},{"$f":"Price!E171","v":0},{"$f":"Price!F171","v":0},null,null,{"$f":"Price!G171","v":0},{"$f":"Price!H171","v":0}]
[null,null,null,null,null,null,null,null,null,null,null,{"$f":"Price!A172","v":"   Čelní kování"},{"$f":"Price!B172","v":0},{"$f":"Price!C172","v":0},{"$f":"Price!D172","v":0},{"$f":"Price!E172","v":0},{"$f":"Price!F172","v":0},null,null,{"$f":"Price!G172","v":0},{"$f":"Price!H172","v":0}]
[{"$f":"IF($C$4=1,L173,IF($C$4=2,L174,\"  chyba\"))","v":"Čelní kování INSERTA"},{"$f":"IF($C$4=1,M173,IF($C$4=2,M174,\"  chyba\"))","v":"ZSF.39A2"},{"$f":"IF($C$4=1,N173,IF($C$4=2,N174,\"  chyba\"))","v":"BL"},{"$f":"IF($C$4=1,O173,IF($C$4=2,O174,\"  chyba\"))","v":0},null,{"$f":"IF($C$4=1,Q173,IF($C$4=2,Q174,0))*(100-$F$6)/100","v":22.4},null,null,{"$f":"IF($C$4=1,T173,IF($C$4=2,T174,\"  chyba\"))","v":4045944},{"$f":"IF($C$4=1,U173,IF($C$4=2,U174,\"  chyba\"))","v":"D031862"},null,{"$f":"Price!A173","v":"Čelní kování na vruty"},{"$f":"Price!B173","v":"ZSF.35A2"},{"$f":"Price!C173","v":"BL"},{"$f":"Price!D173","v":0},{"$f":"Price!E173","v":0},{"$f":"Price!F173","v":13},null,null,{"$f":"Price!G173","v":1014891},{"$f":"Price!H173","v":"D014750"}]
[{"$f":"IF($C$4=2,L173,IF($C$4=1,L174,\"  chyba\"))","v":"Čelní kování na vruty"},{"$f":"IF($C$4=2,M173,IF($C$4=1,M174,\"  chyba\"))","v":"ZSF.35A2"},{"$f":"IF($C$4=2,N173,IF($C$4=1,N174,\"  chyba\"))","v":"BL"},{"$f":"IF($C$4=2,O173,IF($C$4=1,O174,\"  chyba\"))","v":0},null,{"$f":"IF($C$4=2,Q173,IF($C$4=1,Q174,0))*(100-$F$6)/100","v":13},null,null,{"$f":"IF($C$4=2,T173,IF($C$4=1,T174,\"  chyba\"))","v":1014891},{"$f":"IF($C$4=2,U173,IF($C$4=1,U174,\"  chyba\"))","v":"D014750"},null,{"$f":"Price!A174","v":"Čelní kování INSERTA"},{"$f":"Price!B174","v":"ZSF.39A2"},{"$f":"Price!C174","v":"BL"},{"$f":"Price!D174","v":0},{"$f":"Price!E174","v":0},{"$f":"Price!F174","v":22.4},null,null,{"$f":"Price!G174","v":4045944},{"$f":"Price!H174","v":"D031862"}]
[null,null,null,null,null,null,null,null,null,null,null,{"$f":"Price!A175","v":0},{"$f":"Price!B175","v":0},{"$f":"Price!C175","v":0},{"$f":"Price!D175","v":0},{"$f":"Price!E175","v":0},{"$f":"Price!F175","v":0},null,null,{"$f":"Price!G175","v":0},{"$f":"Price!H175","v":0}]
[null,null,null,null,null,null,null,null,null,null,null,{"$f":"Price!A176","v":0},{"$f":"Price!B176","v":0},{"$f":"Price!C176","v":0},{"$f":"Price!D176","v":0},{"$f":"Price!E176","v":0},{"$f":"Price!F176","v":0},null,null,{"$f":"Price!G176","v":0},{"$f":"Price!H176","v":0}]
[null,null,null,null,null,null,null,null,null,null,null,{"$f":"Price!A177","v":"   Vnitřní výsuvy"},{"$f":"Price!B177","v":0},{"$f":"Price!C177","v":0},{"$f":"Price!D177","v":0},{"$f":"Price!E177","v":0},{"$f":"Price!F177","v":0},null,null,{"$f":"Price!G177","v":0},{"$f":"Price!H177","v":0}]
[{"$f":"IF($C$2=1,L178,IF($C$2=2,L179,IF($C$2=3,L180, IF($C$2=4, L181, \"  chyba\"))))","v":"Držáky čela vnitřní zásuvky M, bílošedé"},{"$f":"IF($C$2=1,M178,IF($C$2=2,M179,IF($C$2=3,M180, IF($C$2=4, M181, \"  chyba\"))))","v":"ZIF.71M0"},{"$f":"IF($C$2=1,N178,IF($C$2=2,N179,IF($C$2=3,N180, IF($C$2=4, N181, \"  chyba\"))))","v":"WGR"},{"$f":"IF($C$2=1,O178,IF($C$2=2,O179,IF($C$2=3,O180, IF($C$2=4, O181, \"  chyba\"))))","v":0},{"$f":"IF($C$2=1,P178,IF($C$2=2,P179,IF($C$2=3,P180, IF($C$2=4, P181, \"  chyba\"))))","v":0},{"$f":"IF($C$2=1,Q178,IF($C$2=2,Q179,IF($C$2=3,Q180, IF($C$2=4, Q181, \"  chyba\"))))*(100-$F$6)/100","v":105.6},null,null,{"$f":"IF($C$2=1,T178,IF($C$2=2,T179,IF($C$2=3,T180, IF($C$2=4, T181, \"  chyba\"))))","v":5074773},{"$f":"IF($C$2=1,U178,IF($C$2=2,U179,IF($C$2=3,U180, IF($C$2=4, U181, \"  chyba\"))))","v":"D460303"},null,{"$f":"Price!A178","v":"Držáky čela vnitřní zásuvky M, bílošedé"},{"$f":"Price!B178","v":"ZIF.71M0"},{"$f":"Price!C178","v":"WGR"},{"$f":"Price!D178","v":0},{"$f":"Price!E178","v":0},{"$f":"Price!F178","v":105.6},null,null,{"$f":"Price!G178","v":5074773},{"$f":"Price!H178","v":"D460303"}]
[null,null,null,null,null,null,null,null,null,null,null,{"$f":"Price!A179","v":"Držáky čela vnitřní zásuvky M, hedvábně bílé"},{"$f":"Price!B179","v":"ZIF.71M0"},{"$f":"Price!C179","v":"SEIW"},{"$f":"Price!D179","v":0},{"$f":"Price!E179","v":0},{"$f":"Price!F179","v":105.6},null,null,{"$f":"Price!G179","v":1802448},{"$f":"Price!H179","v":"D460304"}]
[null,null,null,null,null,null,null,null,null,null,null,{"$f":"Price!A180","v":"Držáky čela vnitřní zásuvky M, černé"},{"$f":"Price!B180","v":"ZIF.71M0"},{"$f":"Price!C180","v":"S "},{"$f":"Price!D180","v":0},{"$f":"Price!E180","v":0},{"$f":"Price!F180","v":105.6},null,null,{"$f":"Price!G180","v":5519405},{"$f":"Price!H180","v":"D468386"}]
[null,null,null,null,null,null,null,null,null,null,null,{"$f":"Price!A181","v":"Držáky čela vnitřní zásuvky M, prachově šedé"},{"$f":"Price!B181","v":"ZIF.71M0"},{"$f":"Price!C181","v":"R737"},{"$f":"Price!D181","v":"!"},{"$f":"Price!E181","v":0},{"$f":"Price!F181","v":97.9},null,null,{"$f":"Price!G181","v":5526449},{"$f":"Price!H181","v":"D468385"}]
[{"$f":"IF($C$2=1,L182,IF($C$2=2,L183,IF($C$2=3,L184,IF($C$2=4,\" \",\"  chyba\"))))","v":"Držáky čela vnitřní zásuvky K, bílošedé"},{"$f":"IF($C$2=1,M182,IF($C$2=2,M183,IF($C$2=3,M184,IF($C$2=4,\" \",\"  chyba\"))))","v":"ZIF.71K0"},{"$f":"IF($C$2=1,N182,IF($C$2=2,N183,IF($C$2=3,N184,IF($C$2=4,\" \",\"  chyba\"))))","v":"WGR"},{"$f":"IF($C$2=1,O182,IF($C$2=2,O183,IF($C$2=3,O184,IF($C$2=4,\" \",\"  chyba\"))))","v":0},{"$f":"IF($C$2=1,P182,IF($C$2=2,P183,IF($C$2=3,P184,IF($C$2=4,\" \",\"  chyba\"))))","v":0},{"$f":"IF($C$2=1,Q182,IF($C$2=2,Q183,IF($C$2=3,Q184,IF($C$2=4,0,\"  chyba\"))))*(100-$F$6)/100","v":130.5},null,null,{"$f":"IF($C$2=1,T182,IF($C$2=2,T183,IF($C$2=3,T184,IF($C$2=4,\" \",\"  chyba\"))))","v":2720695},{"$f":"IF($C$2=1,U182,IF($C$2=2,U183,IF($C$2=3,U184,IF($C$2=4,\" \",\"  chyba\"))))","v":"D512388"},null,{"$f":"Price!A182","v":"Držáky čela vnitřní zásuvky K, bílošedé"},{"$f":"Price!B182","v":"ZIF.71K0"},{"$f":"Price!C182","v":"WGR"},{"$f":"Price!D182","v":0},{"$f":"Price!E182","v":0},{"$f":"Price!F182","v":130.5},null,null,{"$f":"Price!G182","v":2720695},{"$f":"Price!H182","v":"D512388"}]
[null,null,null,null,null,null,null,null,null,null,null,{"$f":"Price!A183","v":"Držáky čela vnitřní zásuvky K, hedvábně bílé"},{"$f":"Price!B183","v":"ZIF.71K0"},{"$f":"Price!C183","v":"SEIW"},{"$f":"Price!D183","v":0},{"$f":"Price!E183","v":0},{"$f":"Price!F183","v":130.5},null,null,{"$f":"Price!G183","v":7084462},{"$f":"Price!H183","v":"D512389"}]
[null,null,null,null,null,null,null,null,null,null,null,{"$f":"Price!A184","v":"Držáky čela vnitřní zásuvky K, černé"},{"$f":"Price!B184","v":"ZIF.71K0"},{"$f":"Price!C184","v":"S "},{"$f":"Price!D184","v":"!"},{"$f":"Price!E184","v":0},{"$f":"Price!F184","v":130.5},null,null,{"$f":"Price!G184","v":7562990},{"$f":"Price!H184","v":"D512390"}]
[{"$f":"IF($C$2=1,L185,IF($C$2=2,L186,IF($C$2=3,L187, IF($C$2=4, L188, \"  chyba\"))))","v":"Držáky čela vnitřního výsuvu C, bílošedé"},{"$f":"IF($C$2=1,M185,IF($C$2=2,M186,IF($C$2=3,M187, IF($C$2=4, M188, \"  chyba\"))))","v":"ZIF.74C0"},{"$f":"IF($C$2=1,N185,IF($C$2=2,N186,IF($C$2=3,N187, IF($C$2=4, N188, \"  chyba\"))))","v":"WGR"},{"$f":"IF($C$2=1,O185,IF($C$2=2,O186,IF($C$2=3,O187, IF($C$2=4, O188, \"  chyba\"))))","v":0},{"$f":"IF($C$2=1,P185,IF($C$2=2,P186,IF($C$2=3,P187, IF($C$2=4, P188, \"  chyba\"))))","v":0},{"$f":"IF($C$2=1,Q185,IF($C$2=2,Q186,IF($C$2=3,Q187, IF($C$2=4, Q188, \"  chyba\"))))*(100-$F$6)/100","v":149.19999999999999},null,null,{"$f":"IF($C$2=1,T185,IF($C$2=2,T186,IF($C$2=3,T187, IF($C$2=4, T188, \"  chyba\"))))","v":3213636},{"$f":"IF($C$2=1,U185,IF($C$2=2,U186,IF($C$2=3,U187, IF($C$2=4, U188, \"  chyba\"))))","v":"D500842"},null,{"$f":"Price!A185","v":"Držáky čela vnitřního výsuvu C, bílošedé"},{"$f":"Price!B185","v":"ZIF.74C0"},{"$f":"Price!C185","v":"WGR"},{"$f":"Price!D185","v":0},{"$f":"Price!E185","v":0},{"$f":"Price!F185","v":149.19999999999999},null,null,{"$f":"Price!G185","v":3213636},{"$f":"Price!H185","v":"D500842"}]
[null,null,null,null,null,null,null,null,null,null,null,{"$f":"Price!A186","v":"Držáky čela vnitřního výsuvu C, hedvábně bílé"},{"$f":"Price!B186","v":"ZIF.74C0"},{"$f":"Price!C186","v":"SEIW"},{"$f":"Price!D186","v":0},{"$f":"Price!E186","v":0},{"$f":"Price!F186","v":149.19999999999999},null,null,{"$f":"Price!G186","v":1003537},{"$f":"Price!H186","v":"D503907"}]
[null,null,null,null,null,null,null,null,null,null,null,{"$f":"Price!A187","v":"Držáky čela vnitřního výsuvu C, černé"},{"$f":"Price!B187","v":"ZIF.74C0"},{"$f":"Price!C187","v":"S "},{"$f":"Price!D187","v":0},{"$f":"Price!E187","v":0},{"$f":"Price!F187","v":149.19999999999999},null,null,{"$f":"Price!G187","v":4186639},{"$f":"Price!H187","v":"D512391"}]
[null,null,null,null,null,null,null,null,null,null,null,{"$f":"Price!A188","v":"Držáky čela vnitřního výsuvu C, prachově šedé"},{"$f":"Price!B188","v":"ZIF.74C0"},{"$f":"Price!C188","v":"R737"},{"$f":"Price!D188","v":"!"},{"$f":"Price!E188","v":0},{"$f":"Price!F188","v":0},null,null,{"$f":"Price!G188","v":5254121},{"$f":"Price!H188","v":"na dotaz"}]
[{"$f":"IF($C$2=1,L189,IF($C$2=2,L190,IF($C$2=3,L191, IF($C$2=4, L192, \"  chyba\"))))","v":"Držáky čela vnitřního výsuvu D bílošedé"},{"$f":"IF($C$2=1,M189,IF($C$2=2,M190,IF($C$2=3,M191, IF($C$2=4, M192, \"  chyba\"))))","v":"ZIF.74D0"},{"$f":"IF($C$2=1,N189,IF($C$2=2,N190,IF($C$2=3,N191, IF($C$2=4, N192, \"  chyba\"))))","v":"WGR"},{"$f":"IF($C$2=1,O189,IF($C$2=2,O190,IF($C$2=3,O191, IF($C$2=4, O192, \"  chyba\"))))","v":0},{"$f":"IF($C$2=1,P189,IF($C$2=2,P190,IF($C$2=3,P191, IF($C$2=4, P192, \"  chyba\"))))","v":0},{"$f":"IF($C$2=1,Q189,IF($C$2=2,Q190,IF($C$2=3,Q191, IF($C$2=4, Q192, \"  chyba\"))))*(100-$F$6)/100","v":156.30000000000001},null,null,{"$f":"IF($C$2=1,T189,IF($C$2=2,T190,IF($C$2=3,T191, IF($C$2=4, T192, \"  chyba\"))))","v":4438914},{"$f":"IF($C$2=1,U189,IF($C$2=2,U190,IF($C$2=3,U191, IF($C$2=4, U192, \"  chyba\"))))","v":"D460301"},null,{"$f":"Price!A189","v":"Držáky čela vnitřního výsuvu D bílošedé"},{"$f":"Price!B189","v":"ZIF.74D0"},{"$f":"Price!C189","v":"WGR"},{"$f":"Price!D189","v":0},{"$f":"Price!E189","v":0},{"$f":"Price!F189","v":156.30000000000001},null,null,{"$f":"Price!G189","v":4438914},{"$f":"Price!H189","v":"D460301"}]
[null,null,null,null,null,null,null,null,null,null,null,{"$f":"Price!A190","v":"Držáky čela vnitřního výsuvu D, hedvábně bílé"},{"$f":"Price!B190","v":"ZIF.74D0"},{"$f":"Price!C190","v":"SEIW"},{"$f":"Price!D190","v":0},{"$f":"Price!E190","v":0},{"$f":"Price!F190","v":156.30000000000001},null,null,{"$f":"Price!G190","v":1714924},{"$f":"Price!H190","v":"D460302"}]
[null,null,null,null,null,null,null,null,null,null,null,{"$f":"Price!A191","v":"Držáky čela vnitřního výsuvu D, černé"},{"$f":"Price!B191","v":"ZIF.74D0"},{"$f":"Price!C191","v":"S "},{"$f":"Price!D191","v":0},{"$f":"Price!E191","v":0},{"$f":"Price!F191","v":156.30000000000001},null,null,{"$f":"Price!G191","v":5835868},{"$f":"Price!H191","v":"D512392"}]
[null,null,null,null,null,null,null,null,null,null,null,{"$f":"Price!A192","v":"Držáky čela vnitřního výsuvu D, prachově šedé"},{"$f":"Price!B192","v":"ZIF.74D0"},{"$f":"Price!C192","v":"R737"},{"$f":"Price!D192","v":"!"},{"$f":"Price!E192","v":0},{"$f":"Price!F192","v":0},null,null,{"$f":"Price!G192","v":7162263},{"$f":"Price!H192","v":"na dotaz"}]
[]
[{"$f":"IF($C$2=1,L194,IF($C$2=2,L195,IF($C$2=3,L196, IF($C$2=4, L197, \"  chyba\"))))","v":"Přední díl vnitřní zásuvky, šedý"},{"$f":"IF($C$2=1,M194,IF($C$2=2,M195,IF($C$2=3,M196, IF($C$2=4, M197, \"  chyba\"))))","v":"Z31L1036A  "},{"$f":"IF($C$2=1,N194,IF($C$2=2,N195,IF($C$2=3,N196, IF($C$2=4, N197, \"  chyba\"))))","v":"R906"},{"$f":"IF($C$2=1,O194,IF($C$2=2,O195,IF($C$2=3,O196, IF($C$2=4, O197, \"  chyba\"))))","v":0},{"$f":"IF($C$2=1,P194,IF($C$2=2,P195,IF($C$2=3,P196, IF($C$2=4, P197, \"  chyba\"))))","v":0},{"$f":"IF($C$2=1,Q194,IF($C$2=2,Q195,IF($C$2=3,Q196, IF($C$2=4, Q197, \"  chyba\"))))*(100-$F$6)/100","v":363.8},null,null,{"$f":"IF($C$2=1,T194,IF($C$2=2,T195,IF($C$2=3,T196, IF($C$2=4, T197, \"  chyba\"))))","v":8479020},{"$f":"IF($C$2=1,U194,IF($C$2=2,U195,IF($C$2=3,U196, IF($C$2=4, U197, \"  chyba\"))))","v":"D460300"},null,{"$f":"Price!A194","v":"Přední díl vnitřní zásuvky, šedý"},{"$f":"Price!B194","v":"Z31L1036A  "},{"$f":"Price!C194","v":"R906"},{"$f":"Price!D194","v":0},{"$f":"Price!E194","v":0},{"$f":"Price!F194","v":363.8},null,null,{"$f":"Price!G194","v":8479020},{"$f":"Price!H194","v":"D460300"}]
[null,null,null,null,null,null,null,null,null,null,null,{"$f":"Price!A195","v":"Přední díl vnitřní zásuvky, hedvábně bílý"},{"$f":"Price!B195","v":"Z31L1036A  "},{"$f":"Price!C195","v":"SEIW"},{"$f":"Price!D195","v":0},{"$f":"Price!E195","v":0},{"$f":"Price!F195","v":363.8},null,null,{"$f":"Price!G195","v":8479022},{"$f":"Price!H195","v":"D289793"}]
[null,null,null,null,null,null,null,null,null,null,null,{"$f":"Price!A196","v":"Přední díl vnitřní zásuvky, černý Terra"},{"$f":"Price!B196","v":"Z31L1036A  "},{"$f":"Price!C196","v":"TERS"},{"$f":"Price!D196","v":0},{"$f":"Price!E196","v":0},{"$f":"Price!F196","v":363.8},null,null,{"$f":"Price!G196","v":8479024},{"$f":"Price!H196","v":"D289794"}]
[null,null,null,null,null,null,null,null,null,null,null,{"$f":"Price!A197","v":"Přední díl vnitřní zásuvky, niklovaný matný"},{"$f":"Price!B197","v":"Z31L1036A  "},{"$f":"Price!C197","v":"NI-M"},{"$f":"Price!D197","v":"!"},{"$f":"Price!E197","v":0},{"$f":"Price!F197","v":0},null,null,{"$f":"Price!G197","v":4717033},{"$f":"Price!H197","v":"na dotaz"}]
[]
[{"$f":"IF($C$2=1,L199,IF($C$2=2,L200,IF($C$2=3,L201, IF($C$2=4, L202, \"  chyba\"))))","v":"Příčný reling vnitřní zásuvky, šedý"},{"$f":"IF($C$2=1,M199,IF($C$2=2,M200,IF($C$2=3,M201, IF($C$2=4, M202, \"  chyba\"))))","v":"ZRG.1046Z "},{"$f":"IF($C$2=1,N199,IF($C$2=2,N200,IF($C$2=3,N201, IF($C$2=4, N202, \"  chyba\"))))","v":"R906"},{"$f":"IF($C$2=1,O199,IF($C$2=2,O200,IF($C$2=3,O201, IF($C$2=4, O202, \"  chyba\"))))","v":0},{"$f":"IF($C$2=1,P199,IF($C$2=2,P200,IF($C$2=3,P201, IF($C$2=4, P202, \"  chyba\"))))","v":0},{"$f":"IF($C$2=1,Q199,IF($C$2=2,Q200,IF($C$2=3,Q201, IF($C$2=4, Q202, \"  chyba\"))))*(100-$F$6)/100","v":169.4},null,null,{"$f":"IF($C$2=1,T199,IF($C$2=2,T200,IF($C$2=3,T201, IF($C$2=4, T202, \"  chyba\"))))","v":8473390},{"$f":"IF($C$2=1,U199,IF($C$2=2,U200,IF($C$2=3,U201, IF($C$2=4, U202, \"  chyba\"))))","v":"D460287"},null,{"$f":"Price!A199","v":"Příčný reling vnitřní zásuvky, šedý"},{"$f":"Price!B199","v":"ZRG.1046Z "},{"$f":"Price!C199","v":"R906"},{"$f":"Price!D199","v":0},{"$f":"Price!E199","v":0},{"$f":"Price!F199","v":169.4},null,null,{"$f":"Price!G199","v":8473390},{"$f":"Price!H199","v":"D460287"}]
[null,null,null,null,null,null,null,null,null,null,null,{"$f":"Price!A200","v":"Příčný reling vnitřní zásuvky, hedvábně bílý"},{"$f":"Price!B200","v":"ZRG.1046Z "},{"$f":"Price!C200","v":"SEIW"},{"$f":"Price!D200","v":0},{"$f":"Price!E200","v":0},{"$f":"Price!F200","v":171.2},null,null,{"$f":"Price!G200","v":8473392},{"$f":"Price!H200","v":"D289832"}]
[null,null,null,null,null,null,null,null,null,null,null,{"$f":"Price!A201","v":"Příčný reling vnitřní zásuvky, černý Terra"},{"$f":"Price!B201","v":"ZRG.1046Z "},{"$f":"Price!C201","v":"TERS"},{"$f":"Price!D201","v":0},{"$f":"Price!E201","v":0},{"$f":"Price!F201","v":171.2},null,null,{"$f":"Price!G201","v":8473394},{"$f":"Price!H201","v":"D289833"}]
[null,null,null,null,null,null,null,null,null,null,null,{"$f":"Price!A202","v":"Příčný reling vnitřní zásuvky, niklovaný matný"},{"$f":"Price!B202","v":"ZRG.1046Z "},{"$f":"Price!C202","v":"NI-M"},{"$f":"Price!D202","v":"!"},{"$f":"Price!E202","v":0},{"$f":"Price!F202","v":0},null,null,{"$f":"Price!G202","v":9051133},{"$f":"Price!H202","v":"na dotaz"}]
[]
[{"$f":"IF($C$2=1,L204,IF($C$2=2,L205,IF($C$2=3,L206, IF($C$2=4, L207, \"  chyba\"))))","v":"Úchytka pro vnirřní zásuvku, bílošedá"},{"$f":"IF($C$2=1,M204,IF($C$2=2,M205,IF($C$2=3,M206, IF($C$2=4, M207, \"  chyba\"))))","v":"ZIF.80M5"},{"$f":"IF($C$2=1,N204,IF($C$2=2,N205,IF($C$2=3,N206, IF($C$2=4, N207, \"  chyba\"))))","v":"WGR"},{"$f":"IF($C$2=1,O204,IF($C$2=2,O205,IF($C$2=3,O206, IF($C$2=4, O207, \"  chyba\"))))","v":0},{"$f":"IF($C$2=1,P204,IF($C$2=2,P205,IF($C$2=3,P206, IF($C$2=4, P207, \"  chyba\"))))","v":0},{"$f":"IF($C$2=1,Q204,IF($C$2=2,Q205,IF($C$2=3,Q206, IF($C$2=4, Q207, \"  chyba\"))))*(100-$F$6)/100","v":103.7},null,null,{"$f":"IF($C$2=1,T204,IF($C$2=2,T205,IF($C$2=3,T206, IF($C$2=4, T207, \"  chyba\"))))","v":4276837},{"$f":"IF($C$2=1,U204,IF($C$2=2,U205,IF($C$2=3,U206, IF($C$2=4, U207, \"  chyba\"))))","v":"D460305"},null,{"$f":"Price!A204","v":"Úchytka pro vnirřní zásuvku, bílošedá"},{"$f":"Price!B204","v":"ZIF.80M5"},{"$f":"Price!C204","v":"WGR"},{"$f":"Price!D204","v":0},{"$f":"Price!E204","v":0},{"$f":"Price!F204","v":103.7},null,null,{"$f":"Price!G204","v":4276837},{"$f":"Price!H204","v":"D460305"}]
[null,null,null,null,null,null,null,null,null,null,null,{"$f":"Price!A205","v":"Úchytka pro vnirřní zásuvku, hedvábně bílá"},{"$f":"Price!B205","v":"ZIF.80M5"},{"$f":"Price!C205","v":"SEIW"},{"$f":"Price!D205","v":0},{"$f":"Price!E205","v":0},{"$f":"Price!F205","v":103.7},null,null,{"$f":"Price!G205","v":8611682},{"$f":"Price!H205","v":"D392126"}]
[null,null,null,null,null,null,null,null,null,null,null,{"$f":"Price!A206","v":"Úchytka pro vnirřní zásuvku, černá"},{"$f":"Price!B206","v":"ZIF.80M5"},{"$f":"Price!C206","v":"S"},{"$f":"Price!D206","v":0},{"$f":"Price!E206","v":0},{"$f":"Price!F206","v":103.7},null,null,{"$f":"Price!G206","v":8611684},{"$f":"Price!H206","v":"D512393"}]
[null,null,null,null,null,null,null,null,null,null,null,{"$f":"Price!A207","v":"Úchytka pro vnirřní zásuvku, prachově šedá"},{"$f":"Price!B207","v":"ZIF.80M5"},{"$f":"Price!C207","v":"R737"},{"$f":"Price!D207","v":0},{"$f":"Price!E207","v":0},{"$f":"Price!F207","v":103.7},null,null,{"$f":"Price!G207","v":8611680},{"$f":"Price!H207","v":"D411676"}]
[{"$f":"IF($C$2=1,L208,IF($C$2=2,L209,IF($C$2=3,L210, IF($C$2=4, L211, \"  chyba\"))))","v":"Úchytka a unašeč pro vnirřní zásuvku, bílošedá"},{"$f":"IF($C$2=1,M208,IF($C$2=2,M209,IF($C$2=3,M210, IF($C$2=4, M211, \"  chyba\"))))","v":"ZIF.80M7"},{"$f":"IF($C$2=1,N208,IF($C$2=2,N209,IF($C$2=3,N210, IF($C$2=4, N211, \"  chyba\"))))","v":"WGR"},{"$f":"IF($C$2=1,O208,IF($C$2=2,O209,IF($C$2=3,O210, IF($C$2=4, O211, \"  chyba\"))))","v":0},{"$f":"IF($C$2=1,P208,IF($C$2=2,P209,IF($C$2=3,P210, IF($C$2=4, P211, \"  chyba\"))))","v":0},{"$f":"IF($C$2=1,Q208,IF($C$2=2,Q209,IF($C$2=3,Q210, IF($C$2=4, Q211, \"  chyba\"))))*(100-$F$6)/100","v":160.4},null,null,{"$f":"IF($C$2=1,T208,IF($C$2=2,T209,IF($C$2=3,T210, IF($C$2=4, T211, \"  chyba\"))))","v":3350802},{"$f":"IF($C$2=1,U208,IF($C$2=2,U209,IF($C$2=3,U210, IF($C$2=4, U211, \"  chyba\"))))","v":"D460307"},null,{"$f":"Price!A208","v":"Úchytka a unašeč pro vnirřní zásuvku, bílošedá"},{"$f":"Price!B208","v":"ZIF.80M7"},{"$f":"Price!C208","v":"WGR"},{"$f":"Price!D208","v":0},{"$f":"Price!E208","v":0},{"$f":"Price!F208","v":160.4},null,null,{"$f":"Price!G208","v":3350802},{"$f":"Price!H208","v":"D460307"}]
[null,null,null,null,null,null,null,null,null,null,null,{"$f":"Price!A209","v":"Úchytka a unašeč pro vnirřní zásuvku, hedvábně bílá"},{"$f":"Price!B209","v":"ZIF.80M7"},{"$f":"Price!C209","v":"SEIW"},{"$f":"Price!D209","v":0},{"$f":"Price!E209","v":0},{"$f":"Price!F209","v":160.4},null,null,{"$f":"Price!G209","v":8610692},{"$f":"Price!H209","v":"D411680"}]
[null,null,null,null,null,null,null,null,null,null,null,{"$f":"Price!A210","v":"Úchytka a unašeč pro vnirřní zásuvku, černá"},{"$f":"Price!B210","v":"ZIF.80M7"},{"$f":"Price!C210","v":"S"},{"$f":"Price!D210","v":0},{"$f":"Price!E210","v":0},{"$f":"Price!F210","v":160.4},null,null,{"$f":"Price!G210","v":8610694},{"$f":"Price!H210","v":"D460306"}]
[null,null,null,null,null,null,null,null,null,null,null,{"$f":"Price!A211","v":"Úchytka a unašeč pro vnirřní zásuvku, prach.šedá"},{"$f":"Price!B211","v":"ZIF.80M7"},{"$f":"Price!C211","v":"R737"},{"$f":"Price!D211","v":0},{"$f":"Price!E211","v":0},{"$f":"Price!F211","v":160.4},null,null,{"$f":"Price!G211","v":8610690},{"$f":"Price!H211","v":"D411681"}]
[null,null,null,null,null,null,null,null,null,null,null,{"$f":"Price!A212","v":0},{"$f":"Price!B212","v":0},{"$f":"Price!C212","v":0},{"$f":"Price!D212","v":0},{"$f":"Price!E212","v":0},{"$f":"Price!F212","v":0},null,null,{"$f":"Price!G212","v":0},{"$f":"Price!H212","v":0}]
[null,null,null,null,null,null,null,null,null,null,null,{"$f":"Price!A213","v":0},{"$f":"Price!B213","v":0},{"$f":"Price!C213","v":0},{"$f":"Price!D213","v":0},{"$f":"Price!E213","v":0},{"$f":"Price!F213","v":0},null,null,{"$f":"Price!G213","v":0},{"$f":"Price!H213","v":0}]
[null,null,null,null,null,null,null,null,null,null,null,{"$f":"Price!A214","v":"   Relingy"},{"$f":"Price!B214","v":0},{"$f":"Price!C214","v":0},{"$f":"Price!D214","v":0},{"$f":"Price!E214","v":0},{"$f":"Price!F214","v":0},null,null,{"$f":"Price!G214","v":0},{"$f":"Price!H214","v":0}]
[{"$f":"IF($C$2=1,L215,IF($C$2=2,L216,IF($C$2=3,L217, IF($C$2=4, L218, \"  chyba\"))))","v":"Podélný reling vlevo/vpravo, 270mm, šedý"},{"$f":"IF($C$2=1,M215,IF($C$2=2,M216,IF($C$2=3,M217, IF($C$2=4, M218, \"  chyba\"))))","v":"ZRG.207RSIC"},{"$f":"IF($C$2=1,N215,IF($C$2=2,N216,IF($C$2=3,N217, IF($C$2=4, N218, \"  chyba\"))))","v":"R906"},{"$f":"IF($C$2=1,O215,IF($C$2=2,O216,IF($C$2=3,O217, IF($C$2=4, O218, \"  chyba\"))))","v":0},{"$f":"IF($C$2=1,P215,IF($C$2=2,P216,IF($C$2=3,P217, IF($C$2=4, P218, \"  chyba\"))))","v":0},{"$f":"IF($C$2=1,Q215,IF($C$2=2,Q216,IF($C$2=3,Q217, IF($C$2=4, Q218, \"  chyba\"))))*(100-$F$6)/100","v":150},null,null,{"$f":"IF($C$2=1,T215,IF($C$2=2,T216,IF($C$2=3,T217, IF($C$2=4, T218, \"  chyba\"))))","v":1472243},{"$f":"IF($C$2=1,U215,IF($C$2=2,U216,IF($C$2=3,U217, IF($C$2=4, U218, \"  chyba\"))))","v":"D460274"},null,{"$f":"Price!A215","v":"Podélný reling vlevo/vpravo, 270mm, šedý"},{"$f":"Price!B215","v":"ZRG.207RSIC"},{"$f":"Price!C215","v":"R906"},{"$f":"Price!D215","v":0},{"$f":"Price!E215","v":0},{"$f":"Price!F215","v":150},null,null,{"$f":"Price!G215","v":1472243},{"$f":"Price!H215","v":"D460274"}]
[null,null,null,null,null,null,null,null,null,null,null,{"$f":"Price!A216","v":"Podélný reling vlevo/vpravo, 270mm, hedvábně bílý"},{"$f":"Price!B216","v":"ZRG.207RSIC"},{"$f":"Price!C216","v":"SEIW"},{"$f":"Price!D216","v":0},{"$f":"Price!E216","v":0},{"$f":"Price!F216","v":150},null,null,{"$f":"Price!G216","v":6342943},{"$f":"Price!H216","v":"D460275"}]
[null,null,null,null,null,null,null,null,null,null,null,{"$f":"Price!A217","v":"Podélný reling vlevo/vpravo, 270mm, černý Terra"},{"$f":"Price!B217","v":"ZRG.207RSIC"},{"$f":"Price!C217","v":"TERS"},{"$f":"Price!D217","v":0},{"$f":"Price!E217","v":0},{"$f":"Price!F217","v":150},null,null,{"$f":"Price!G217","v":8946618},{"$f":"Price!H217","v":"D550000"}]
[null,null,null,null,null,null,null,null,null,null,null,{"$f":"Price!A218","v":"Podélný reling vlevo/vpravo, 270mm, nerez (Inox)"},{"$f":"Price!B218","v":"ZRG.207RIIC"},{"$f":"Price!C218","v":"INGL"},{"$f":"Price!D218","v":"!"},{"$f":"Price!E218","v":0},{"$f":"Price!F218","v":0},null,null,{"$f":"Price!G218","v":8621208},{"$f":"Price!H218","v":"na dotaz"}]
[{"$f":"IF($C$2=1,L219,IF($C$2=2,L220,IF($C$2=3,L221, IF($C$2=4, L222, \"  chyba\"))))","v":"Podélný reling vlevo/vpravo, 300mm, šedý"},{"$f":"IF($C$2=1,M219,IF($C$2=2,M220,IF($C$2=3,M221, IF($C$2=4, M222, \"  chyba\"))))","v":"ZRG.237RSIC"},{"$f":"IF($C$2=1,N219,IF($C$2=2,N220,IF($C$2=3,N221, IF($C$2=4, N222, \"  chyba\"))))","v":"R906"},{"$f":"IF($C$2=1,O219,IF($C$2=2,O220,IF($C$2=3,O221, IF($C$2=4, O222, \"  chyba\"))))","v":0},{"$f":"IF($C$2=1,P219,IF($C$2=2,P220,IF($C$2=3,P221, IF($C$2=4, P222, \"  chyba\"))))","v":0},{"$f":"IF($C$2=1,Q219,IF($C$2=2,Q220,IF($C$2=3,Q221, IF($C$2=4, Q222, \"  chyba\"))))*(100-$F$6)/100","v":152.5},null,null,{"$f":"IF($C$2=1,T219,IF($C$2=2,T220,IF($C$2=3,T221, IF($C$2=4, T222, \"  chyba\"))))","v":3083862},{"$f":"IF($C$2=1,U219,IF($C$2=2,U220,IF($C$2=3,U221, IF($C$2=4, U222, \"  chyba\"))))","v":"D460276"},null,{"$f":"Price!A219","v":"Podélný reling vlevo/vpravo, 300mm, šedý"},{"$f":"Price!B219","v":"ZRG.237RSIC"},{"$f":"Price!C219","v":"R906"},{"$f":"Price!D219","v":0},{"$f":"Price!E219","v":0},{"$f":"Price!F219","v":152.5},null,null,{"$f":"Price!G219","v":3083862},{"$f":"Price!H219","v":"D460276"}]
[null,null,null,null,null,null,null,null,null,null,null,{"$f":"Price!A220","v":"Podélný reling vlevo/vpravo, 300mm, hedvábně bílý"},{"$f":"Price!B220","v":"ZRG.237RSIC"},{"$f":"Price!C220","v":"SEIW"},{"$f":"Price!D220","v":0},{"$f":"Price!E220","v":0},{"$f":"Price!F220","v":152.5},null,null,{"$f":"Price!G220","v":8198325},{"$f":"Price!H220","v":"D460277"}]
[null,null,null,null,null,null,null,null,null,null,null,{"$f":"Price!A221","v":"Podélný reling vlevo/vpravo, 300mm, černý Terra"},{"$f":"Price!B221","v":"ZRG.237RSIC"},{"$f":"Price!C221","v":"TERS"},{"$f":"Price!D221","v":0},{"$f":"Price!E221","v":0},{"$f":"Price!F221","v":152.5},null,null,{"$f":"Price!G221","v":6443879},{"$f":"Price!H221","v":"D550002"}]
[null,null,null,null,null,null,null,null,null,null,null,{"$f":"Price!A222","v":"Podélný reling vlevo/vpravo, 300mm, nerez (Inox)"},{"$f":"Price!B222","v":"ZRG.237RIIC"},{"$f":"Price!C222","v":"INGL"},{"$f":"Price!D222","v":"!"},{"$f":"Price!E222","v":0},{"$f":"Price!F222","v":0},null,null,{"$f":"Price!G222","v":4426159},{"$f":"Price!H222","v":"na dotaz"}]
[{"$f":"IF($C$2=1,L223,IF($C$2=2,L224,IF($C$2=3,L225, IF($C$2=4, L226, \"  chyba\"))))","v":"Podélný reling vlevo/vpravo, 350mm, šedý"},{"$f":"IF($C$2=1,M223,IF($C$2=2,M224,IF($C$2=3,M225, IF($C$2=4, M226, \"  chyba\"))))","v":"ZRG.287RSIC"},{"$f":"IF($C$2=1,N223,IF($C$2=2,N224,IF($C$2=3,N225, IF($C$2=4, N226, \"  chyba\"))))","v":"R906"},{"$f":"IF($C$2=1,O223,IF($C$2=2,O224,IF($C$2=3,O225, IF($C$2=4, O226, \"  chyba\"))))","v":0},{"$f":"IF($C$2=1,P223,IF($C$2=2,P224,IF($C$2=3,P225, IF($C$2=4, P226, \"  chyba\"))))","v":0},{"$f":"IF($C$2=1,Q223,IF($C$2=2,Q224,IF($C$2=3,Q225, IF($C$2=4, Q226, \"  chyba\"))))*(100-$F$6)/100","v":155},null,null,{"$f":"IF($C$2=1,T223,IF($C$2=2,T224,IF($C$2=3,T225, IF($C$2=4, T226, \"  chyba\"))))","v":4262438},{"$f":"IF($C$2=1,U223,IF($C$2=2,U224,IF($C$2=3,U225, IF($C$2=4, U226, \"  chyba\"))))","v":"D493621"},null,{"$f":"Price!A223","v":"Podélný reling vlevo/vpravo, 350mm, šedý"},{"$f":"Price!B223","v":"ZRG.287RSIC"},{"$f":"Price!C223","v":"R906"},{"$f":"Price!D223","v":0},{"$f":"Price!E223","v":0},{"$f":"Price!F223","v":155},null,null,{"$f":"Price!G223","v":4262438},{"$f":"Price!H223","v":"D493621"}]
[null,null,null,null,null,null,null,null,null,null,null,{"$f":"Price!A224","v":"Podélný reling vlevo/vpravo, 350mm, hedvábně bílý"},{"$f":"Price!B224","v":"ZRG.287RSIC"},{"$f":"Price!C224","v":"SEIW"},{"$f":"Price!D224","v":0},{"$f":"Price!E224","v":0},{"$f":"Price!F224","v":155},null,null,{"$f":"Price!G224","v":2290699},{"$f":"Price!H224","v":"D493620"}]
[null,null,null,null,null,null,null,null,null,null,null,{"$f":"Price!A225","v":"Podélný reling vlevo/vpravo, 350mm, černý Terra"},{"$f":"Price!B225","v":"ZRG.287RSIC"},{"$f":"Price!C225","v":"TERS"},{"$f":"Price!D225","v":0},{"$f":"Price!E225","v":0},{"$f":"Price!F225","v":155},null,null,{"$f":"Price!G225","v":7596230},{"$f":"Price!H225","v":"D550003"}]
[null,null,null,null,null,null,null,null,null,null,null,{"$f":"Price!A226","v":"Podélný reling vlevo/vpravo, 350mm, nerez (Inox)"},{"$f":"Price!B226","v":"ZRG.287RIIC"},{"$f":"Price!C226","v":"INGL"},{"$f":"Price!D226","v":"!"},{"$f":"Price!E226","v":0},{"$f":"Price!F226","v":0},null,null,{"$f":"Price!G226","v":2062875},{"$f":"Price!H226","v":"na dotaz"}]
[{"$f":"IF($C$2=1,L227,IF($C$2=2,L228,IF($C$2=3,L229, IF($C$2=4, L230, \"  chyba\"))))","v":"Podélný reling vlevo/vpravo, 400mm, šedý"},{"$f":"IF($C$2=1,M227,IF($C$2=2,M228,IF($C$2=3,M229, IF($C$2=4, M230, \"  chyba\"))))","v":"ZRG.337RSIC"},{"$f":"IF($C$2=1,N227,IF($C$2=2,N228,IF($C$2=3,N229, IF($C$2=4, N230, \"  chyba\"))))","v":"R906"},{"$f":"IF($C$2=1,O227,IF($C$2=2,O228,IF($C$2=3,O229, IF($C$2=4, O230, \"  chyba\"))))","v":0},{"$f":"IF($C$2=1,P227,IF($C$2=2,P228,IF($C$2=3,P229, IF($C$2=4, P230, \"  chyba\"))))","v":0},{"$f":"IF($C$2=1,Q227,IF($C$2=2,Q228,IF($C$2=3,Q229, IF($C$2=4, Q230, \"  chyba\"))))*(100-$F$6)/100","v":157.5},null,null,{"$f":"IF($C$2=1,T227,IF($C$2=2,T228,IF($C$2=3,T229, IF($C$2=4, T230, \"  chyba\"))))","v":3741088},{"$f":"IF($C$2=1,U227,IF($C$2=2,U228,IF($C$2=3,U229, IF($C$2=4, U230, \"  chyba\"))))","v":"D460278"},null,{"$f":"Price!A227","v":"Podélný reling vlevo/vpravo, 400mm, šedý"},{"$f":"Price!B227","v":"ZRG.337RSIC"},{"$f":"Price!C227","v":"R906"},{"$f":"Price!D227","v":0},{"$f":"Price!E227","v":0},{"$f":"Price!F227","v":157.5},null,null,{"$f":"Price!G227","v":3741088},{"$f":"Price!H227","v":"D460278"}]
[null,null,null,null,null,null,null,null,null,null,null,{"$f":"Price!A228","v":"Podélný reling vlevo/vpravo, 400mm, hedvábně bílý"},{"$f":"Price!B228","v":"ZRG.337RSIC"},{"$f":"Price!C228","v":"SEIW"},{"$f":"Price!D228","v":0},{"$f":"Price!E228","v":0},{"$f":"Price!F228","v":157.5},null,null,{"$f":"Price!G228","v":4191768},{"$f":"Price!H228","v":"D460279"}]
[null,null,null,null,null,null,null,null,null,null,null,{"$f":"Price!A229","v":"Podélný reling vlevo/vpravo, 400mm, černý Terra"},{"$f":"Price!B229","v":"ZRG.337RSIC"},{"$f":"Price!C229","v":"TERS"},{"$f":"Price!D229","v":"!"},{"$f":"Price!E229","v":0},{"$f":"Price!F229","v":157.5},null,null,{"$f":"Price!G229","v":7703025},{"$f":"Price!H229","v":"D528741"}]
[null,null,null,null,null,null,null,null,null,null,null,{"$f":"Price!A230","v":"Podélný reling vlevo/vpravo, 400mm, nerez (Inox)"},{"$f":"Price!B230","v":"ZRG.337RIIC"},{"$f":"Price!C230","v":"INGL"},{"$f":"Price!D230","v":"!"},{"$f":"Price!E230","v":0},{"$f":"Price!F230","v":0},null,null,{"$f":"Price!G230","v":8346482},{"$f":"Price!H230","v":"na dotaz"}]
[{"$f":"IF($C$2=1,L231,IF($C$2=2,L232,IF($C$2=3,L233, IF($C$2=4, L234, \"  chyba\"))))","v":"Podélný reling vlevo/vpravo, 450mm, šedý"},{"$f":"IF($C$2=1,M231,IF($C$2=2,M232,IF($C$2=3,M233, IF($C$2=4, M234, \"  chyba\"))))","v":"ZRG.387RSIC"},{"$f":"IF($C$2=1,N231,IF($C$2=2,N232,IF($C$2=3,N233, IF($C$2=4, N234, \"  chyba\"))))","v":"R906"},{"$f":"IF($C$2=1,O231,IF($C$2=2,O232,IF($C$2=3,O233, IF($C$2=4, O234, \"  chyba\"))))","v":0},{"$f":"IF($C$2=1,P231,IF($C$2=2,P232,IF($C$2=3,P233, IF($C$2=4, P234, \"  chyba\"))))","v":0},{"$f":"IF($C$2=1,Q231,IF($C$2=2,Q232,IF($C$2=3,Q233, IF($C$2=4, Q234, \"  chyba\"))))*(100-$F$6)/100","v":160},null,null,{"$f":"IF($C$2=1,T231,IF($C$2=2,T232,IF($C$2=3,T233, IF($C$2=4, T234, \"  chyba\"))))","v":2436584},{"$f":"IF($C$2=1,U231,IF($C$2=2,U232,IF($C$2=3,U233, IF($C$2=4, U234, \"  chyba\"))))","v":"D460280"},null,{"$f":"Price!A231","v":"Podélný reling vlevo/vpravo, 450mm, šedý"},{"$f":"Price!B231","v":"ZRG.387RSIC"},{"$f":"Price!C231","v":"R906"},{"$f":"Price!D231","v":0},{"$f":"Price!E231","v":0},{"$f":"Price!F231","v":160},null,null,{"$f":"Price!G231","v":2436584},{"$f":"Price!H231","v":"D460280"}]
[null,null,null,null,null,null,null,null,null,null,null,{"$f":"Price!A232","v":"Podélný reling vlevo/vpravo, 450mm, hedvábně bílý"},{"$f":"Price!B232","v":"ZRG.387RSIC"},{"$f":"Price!C232","v":"SEIW"},{"$f":"Price!D232","v":0},{"$f":"Price!E232","v":0},{"$f":"Price!F232","v":160},null,null,{"$f":"Price!G232","v":5670943},{"$f":"Price!H232","v":"D460281"}]
[null,null,null,null,null,null,null,null,null,null,null,{"$f":"Price!A233","v":"Podélný reling vlevo/vpravo, 450mm, černý Terra"},{"$f":"Price!B233","v":"ZRG.387RSIC"},{"$f":"Price!C233","v":"TERS"},{"$f":"Price!D233","v":"!"},{"$f":"Price!E233","v":0},{"$f":"Price!F233","v":160},null,null,{"$f":"Price!G233","v":2398612},{"$f":"Price!H233","v":"D550004"}]
[null,null,null,null,null,null,null,null,null,null,null,{"$f":"Price!A234","v":"Podélný reling vlevo/vpravo, 450mm, nerez (Inox)"},{"$f":"Price!B234","v":"ZRG.387RIIC"},{"$f":"Price!C234","v":"INGL"},{"$f":"Price!D234","v":"!"},{"$f":"Price!E234","v":0},{"$f":"Price!F234","v":0},null,null,{"$f":"Price!G234","v":5600049},{"$f":"Price!H234","v":"na dotaz"}]
[{"$f":"IF($C$2=1,L235,IF($C$2=2,L236,IF($C$2=3,L237, IF($C$2=4, L238, \"  chyba\"))))","v":"Podélný reling vlevo/vpravo, 500mm, šedý"},{"$f":"IF($C$2=1,M235,IF($C$2=2,M236,IF($C$2=3,M237, IF($C$2=4, M238, \"  chyba\"))))","v":"ZRG.437RSIC"},{"$f":"IF($C$2=1,N235,IF($C$2=2,N236,IF($C$2=3,N237, IF($C$2=4, N238, \"  chyba\"))))","v":"R906"},{"$f":"IF($C$2=1,O235,IF($C$2=2,O236,IF($C$2=3,O237, IF($C$2=4, O238, \"  chyba\"))))","v":0},{"$f":"IF($C$2=1,P235,IF($C$2=2,P236,IF($C$2=3,P237, IF($C$2=4, P238, \"  chyba\"))))","v":0},{"$f":"IF($C$2=1,Q235,IF($C$2=2,Q236,IF($C$2=3,Q237, IF($C$2=4, Q238, \"  chyba\"))))*(100-$F$6)/100","v":178.7},null,null,{"$f":"IF($C$2=1,T235,IF($C$2=2,T236,IF($C$2=3,T237, IF($C$2=4, T238, \"  chyba\"))))","v":8705976},{"$f":"IF($C$2=1,U235,IF($C$2=2,U236,IF($C$2=3,U237, IF($C$2=4, U238, \"  chyba\"))))","v":"D460282"},null,{"$f":"Price!A235","v":"Podélný reling vlevo/vpravo, 500mm, šedý"},{"$f":"Price!B235","v":"ZRG.437RSIC"},{"$f":"Price!C235","v":"R906"},{"$f":"Price!D235","v":0},{"$f":"Price!E235","v":0},{"$f":"Price!F235","v":178.7},null,null,{"$f":"Price!G235","v":8705976},{"$f":"Price!H235","v":"D460282"}]
[null,null,null,null,null,null,null,null,null,null,null,{"$f":"Price!A236","v":"Podélný reling vlevo/vpravo, 500mm, hedvábně bílý"},{"$f":"Price!B236","v":"ZRG.437RSIC"},{"$f":"Price!C236","v":"SEIW"},{"$f":"Price!D236","v":0},{"$f":"Price!E236","v":0},{"$f":"Price!F236","v":178.7},null,null,{"$f":"Price!G236","v":2236035},{"$f":"Price!H236","v":"D460283"}]
[null,null,null,null,null,null,null,null,null,null,null,{"$f":"Price!A237","v":"Podélný reling vlevo/vpravo, 500mm, černý Terra"},{"$f":"Price!B237","v":"ZRG.437RSIC"},{"$f":"Price!C237","v":"TERS"},{"$f":"Price!D237","v":"!"},{"$f":"Price!E237","v":0},{"$f":"Price!F237","v":162.5},null,null,{"$f":"Price!G237","v":4392383},{"$f":"Price!H237","v":"D512394"}]
[null,null,null,null,null,null,null,null,null,null,null,{"$f":"Price!A238","v":"Podélný reling vlevo/vpravo, 500mm, nerez (Inox)"},{"$f":"Price!B238","v":"ZRG.437RIIC"},{"$f":"Price!C238","v":"INGL"},{"$f":"Price!D238","v":"!"},{"$f":"Price!E238","v":0},{"$f":"Price!F238","v":0},null,null,{"$f":"Price!G238","v":6985231},{"$f":"Price!H238","v":"na dotaz"}]
[{"$f":"IF($C$2=1,L239,IF($C$2=2,L240,IF($C$2=3,L241, IF($C$2=4, L242, \"  chyba\"))))","v":"Podélný reling vlevo/vpravo, 550mm, šedý"},{"$f":"IF($C$2=1,M239,IF($C$2=2,M240,IF($C$2=3,M241, IF($C$2=4, M242, \"  chyba\"))))","v":"ZRG.487RSIC"},{"$f":"IF($C$2=1,N239,IF($C$2=2,N240,IF($C$2=3,N241, IF($C$2=4, N242, \"  chyba\"))))","v":"R906"},{"$f":"IF($C$2=1,O239,IF($C$2=2,O240,IF($C$2=3,O241, IF($C$2=4, O242, \"  chyba\"))))","v":0},{"$f":"IF($C$2=1,P239,IF($C$2=2,P240,IF($C$2=3,P241, IF($C$2=4, P242, \"  chyba\"))))","v":0},{"$f":"IF($C$2=1,Q239,IF($C$2=2,Q240,IF($C$2=3,Q241, IF($C$2=4, Q242, \"  chyba\"))))*(100-$F$6)/100","v":169.4},null,null,{"$f":"IF($C$2=1,T239,IF($C$2=2,T240,IF($C$2=3,T241, IF($C$2=4, T242, \"  chyba\"))))","v":2422408},{"$f":"IF($C$2=1,U239,IF($C$2=2,U240,IF($C$2=3,U241, IF($C$2=4, U242, \"  chyba\"))))","v":"D468379"},null,{"$f":"Price!A239","v":"Podélný reling vlevo/vpravo, 550mm, šedý"},{"$f":"Price!B239","v":"ZRG.487RSIC"},{"$f":"Price!C239","v":"R906"},{"$f":"Price!D239","v":0},{"$f":"Price!E239","v":0},{"$f":"Price!F239","v":169.4},null,null,{"$f":"Price!G239","v":2422408},{"$f":"Price!H239","v":"D468379"}]
[null,null,null,null,null,null,null,null,null,null,null,{"$f":"Price!A240","v":"Podélný reling vlevo/vpravo, 550mm, hedvábně bílý"},{"$f":"Price!B240","v":"ZRG.487RSIC"},{"$f":"Price!C240","v":"SEIW"},{"$f":"Price!D240","v":0},{"$f":"Price!E240","v":0},{"$f":"Price!F240","v":169.4},null,null,{"$f":"Price!G240","v":8860295},{"$f":"Price!H240","v":"D468378"}]
[null,null,null,null,null,null,null,null,null,null,null,{"$f":"Price!A241","v":"Podélný reling vlevo/vpravo, 550mm, černý Terra"},{"$f":"Price!B241","v":"ZRG.487RSIC"},{"$f":"Price!C241","v":"TERS"},{"$f":"Price!D241","v":"!"},{"$f":"Price!E241","v":0},{"$f":"Price!F241","v":169.4},null,null,{"$f":"Price!G241","v":5132615},{"$f":"Price!H241","v":"D468380"}]
[null,null,null,null,null,null,null,null,null,null,null,{"$f":"Price!A242","v":"Podélný reling vlevo/vpravo, 550mm, nerez (Inox)"},{"$f":"Price!B242","v":"ZRG.487RIIC"},{"$f":"Price!C242","v":"INGL"},{"$f":"Price!D242","v":"!"},{"$f":"Price!E242","v":0},{"$f":"Price!F242","v":0},null,null,{"$f":"Price!G242","v":5781644},{"$f":"Price!H242","v":"na dotaz"}]
[{"$f":"IF($C$2=1,L243,IF($C$2=2,L244,IF($C$2=3,L245, IF($C$2=4, L246, \"  chyba\"))))","v":"Podélný reling vlevo/vpravo, 600mm, šedý"},{"$f":"IF($C$2=1,M243,IF($C$2=2,M244,IF($C$2=3,M245, IF($C$2=4, M246, \"  chyba\"))))","v":"ZRG.537RSIC"},{"$f":"IF($C$2=1,N243,IF($C$2=2,N244,IF($C$2=3,N245, IF($C$2=4, N246, \"  chyba\"))))","v":"R906"},{"$f":"IF($C$2=1,O243,IF($C$2=2,O244,IF($C$2=3,O245, IF($C$2=4, O246, \"  chyba\"))))","v":0},{"$f":"IF($C$2=1,P243,IF($C$2=2,P244,IF($C$2=3,P245, IF($C$2=4, P246, \"  chyba\"))))","v":0},{"$f":"IF($C$2=1,Q243,IF($C$2=2,Q244,IF($C$2=3,Q245, IF($C$2=4, Q246, \"  chyba\"))))*(100-$F$6)/100","v":176.3},null,null,{"$f":"IF($C$2=1,T243,IF($C$2=2,T244,IF($C$2=3,T245, IF($C$2=4, T246, \"  chyba\"))))","v":1696058},{"$f":"IF($C$2=1,U243,IF($C$2=2,U244,IF($C$2=3,U245, IF($C$2=4, U246, \"  chyba\"))))","v":"D468381"},null,{"$f":"Price!A243","v":"Podélný reling vlevo/vpravo, 600mm, šedý"},{"$f":"Price!B243","v":"ZRG.537RSIC"},{"$f":"Price!C243","v":"R906"},{"$f":"Price!D243","v":0},{"$f":"Price!E243","v":0},{"$f":"Price!F243","v":176.3},null,null,{"$f":"Price!G243","v":1696058},{"$f":"Price!H243","v":"D468381"}]
[null,null,null,null,null,null,null,null,null,null,null,{"$f":"Price!A244","v":"Podélný reling vlevo/vpravo, 600mm, hedvábně bílý"},{"$f":"Price!B244","v":"ZRG.537RSIC"},{"$f":"Price!C244","v":"SEIW"},{"$f":"Price!D244","v":0},{"$f":"Price!E244","v":0},{"$f":"Price!F244","v":176.3},null,null,{"$f":"Price!G244","v":9244783},{"$f":"Price!H244","v":"D468382"}]
[null,null,null,null,null,null,null,null,null,null,null,{"$f":"Price!A245","v":"Podélný reling vlevo/vpravo, 600mm, černý Terra"},{"$f":"Price!B245","v":"ZRG.537RSIC"},{"$f":"Price!C245","v":"TERS"},{"$f":"Price!D245","v":"!"},{"$f":"Price!E245","v":0},{"$f":"Price!F245","v":176.3},null,null,{"$f":"Price!G245","v":9215758},{"$f":"Price!H245","v":"D468383"}]
[null,null,null,null,null,null,null,null,null,null,null,{"$f":"Price!A246","v":"Podélný reling vlevo/vpravo, 600mm, nerez (Inox)"},{"$f":"Price!B246","v":"ZRG.537RIIC"},{"$f":"Price!C246","v":"INGL"},{"$f":"Price!D246","v":"!"},{"$f":"Price!E246","v":0},{"$f":"Price!F246","v":0},null,null,{"$f":"Price!G246","v":5495041},{"$f":"Price!H246","v":"na dotaz"}]
[{"$f":"IF($C$2=1,L247,IF($C$2=2,L248,IF($C$2=3,L249, IF($C$2=4, L250, \"  chyba\"))))","v":"Podélný reling vlevo/vpravo, 650mm, šedý"},{"$f":"IF($C$2=1,M247,IF($C$2=2,M248,IF($C$2=3,M249, IF($C$2=4, M250, \"  chyba\"))))","v":"ZRG.587RSIC"},{"$f":"IF($C$2=1,N247,IF($C$2=2,N248,IF($C$2=3,N249, IF($C$2=4, N250, \"  chyba\"))))","v":"R906"},{"$f":"IF($C$2=1,O247,IF($C$2=2,O248,IF($C$2=3,O249, IF($C$2=4, O250, \"  chyba\"))))","v":0},{"$f":"IF($C$2=1,P247,IF($C$2=2,P248,IF($C$2=3,P249, IF($C$2=4, P250, \"  chyba\"))))","v":0},{"$f":"IF($C$2=1,Q247,IF($C$2=2,Q248,IF($C$2=3,Q249, IF($C$2=4, Q250, \"  chyba\"))))*(100-$F$6)/100","v":183.2},null,null,{"$f":"IF($C$2=1,T247,IF($C$2=2,T248,IF($C$2=3,T249, IF($C$2=4, T250, \"  chyba\"))))","v":3892970},{"$f":"IF($C$2=1,U247,IF($C$2=2,U248,IF($C$2=3,U249, IF($C$2=4, U250, \"  chyba\"))))","v":"D460284"},null,{"$f":"Price!A247","v":"Podélný reling vlevo/vpravo, 650mm, šedý"},{"$f":"Price!B247","v":"ZRG.587RSIC"},{"$f":"Price!C247","v":"R906"},{"$f":"Price!D247","v":0},{"$f":"Price!E247","v":0},{"$f":"Price!F247","v":183.2},null,null,{"$f":"Price!G247","v":3892970},{"$f":"Price!H247","v":"D460284"}]
[null,null,null,null,null,null,null,null,null,null,null,{"$f":"Price!A248","v":"Podélný reling vlevo/vpravo, 650mm, hedvábně bílý"},{"$f":"Price!B248","v":"ZRG.587RSIC"},{"$f":"Price!C248","v":"SEIW"},{"$f":"Price!D248","v":0},{"$f":"Price!E248","v":0},{"$f":"Price!F248","v":183.2},null,null,{"$f":"Price!G248","v":4273717},{"$f":"Price!H248","v":"D460285"}]
[null,null,null,null,null,null,null,null,null,null,null,{"$f":"Price!A249","v":"Podélný reling vlevo/vpravo, 650mm, černý Terra"},{"$f":"Price!B249","v":"ZRG.587RSIC"},{"$f":"Price!C249","v":"TERS"},{"$f":"Price!D249","v":"!"},{"$f":"Price!E249","v":0},{"$f":"Price!F249","v":183.2},null,null,{"$f":"Price!G249","v":4651778},{"$f":"Price!H249","v":"D468384"}]
[null,null,null,null,null,null,null,null,null,null,null,{"$f":"Price!A250","v":"Podélný reling vlevo/vpravo, 650mm, nerez (Inox)"},{"$f":"Price!B250","v":"ZRG.587RIIC"},{"$f":"Price!C250","v":"INGL"},{"$f":"Price!D250","v":"!"},{"$f":"Price!E250","v":0},{"$f":"Price!F250","v":0},null,null,{"$f":"Price!G250","v":9950987},{"$f":"Price!H250","v":"na dotaz"}]
[null,null,null,null,null,null,null,null,null,null,null,{"$f":"Price!A251","v":0},{"$f":"Price!B251","v":0},{"$f":"Price!C251","v":0},{"$f":"Price!D251","v":0},{"$f":"Price!E251","v":0},{"$f":"Price!F251","v":0},null,null,{"$f":"Price!G251","v":0},{"$f":"Price!H251","v":0}]
[null,null,null,null,null,null,null,null,null,null,null,{"$f":"Price!A252","v":0},{"$f":"Price!B252","v":0},{"$f":"Price!C252","v":0},{"$f":"Price!D252","v":0},{"$f":"Price!E252","v":0},{"$f":"Price!F252","v":0},null,null,{"$f":"Price!G252","v":0},{"$f":"Price!H252","v":0}]
[null,null,null,null,null,null,null,null,null,null,null,{"$f":"Price!A253","v":"   Zásuvné prvky"},{"$f":"Price!B253","v":0},{"$f":"Price!C253","v":0},{"$f":"Price!D253","v":0},{"$f":"Price!E253","v":0},{"$f":"Price!F253","v":0},null,null,{"$f":"Price!G253","v":0},{"$f":"Price!H253","v":0}]
[{"$f":"IF($C$3=1,L254,IF($C$3=2,L255,\"  chyba\"))","v":"Zásuvný prvek D, 270mm, čiré sko"},{"$f":"IF($C$3=1,M254,IF($C$3=2,M255,\"  chyba\"))","v":"Z37R237D"},{"$f":"IF($C$3=1,N254,IF($C$3=2,N255,\"  chyba\"))","v":"KL"},{"$f":"IF($C$3=1,O254,IF($C$3=2,O255,\"  chyba\"))","v":"!"},null,{"$f":"IF($C$3=1,Q254,IF($C$3=2,Q255,0))*(100-$F$6)/100","v":269.10000000000002},null,null,{"$f":"IF($C$3=1,T254,IF($C$3=2,T255,\"  chyba\"))","v":2774799},{"$f":"IF($C$3=1,U254,IF($C$3=2,U255,\"  chyba\"))","v":"D547564"},null,{"$f":"Price!A254","v":"Zásuvný prvek D, 270mm, čiré sko"},{"$f":"Price!B254","v":"Z37R237D"},{"$f":"Price!C254","v":"KL"},{"$f":"Price!D254","v":"!"},{"$f":"Price!E254","v":0},{"$f":"Price!F254","v":269.10000000000002},null,null,{"$f":"Price!G254","v":2774799},{"$f":"Price!H254","v":"D547564"}]
[null,null,null,null,null,null,null,null,null,null,null,{"$f":"Price!A255","v":"Zásuvný prvek D, 270mm, saténované sko"},{"$f":"Price!B255","v":"Z37R237D"},{"$f":"Price!C255","v":"SA"},{"$f":"Price!D255","v":"!"},{"$f":"Price!E255","v":0},{"$f":"Price!F255","v":298.39999999999998},null,null,{"$f":"Price!G255","v":6040986},{"$f":"Price!H255","v":"D547563"}]
[{"$f":"IF($C$3=1,L256,IF($C$3=2,L257,\"  chyba\"))","v":"Zásuvný prvek D, 300mm, čiré sko"},{"$f":"IF($C$3=1,M256,IF($C$3=2,M257,\"  chyba\"))","v":"Z37R267D"},{"$f":"IF($C$3=1,N256,IF($C$3=2,N257,\"  chyba\"))","v":"KL"},{"$f":"IF($C$3=1,O256,IF($C$3=2,O257,\"  chyba\"))","v":"!"},null,{"$f":"IF($C$3=1,Q256,IF($C$3=2,Q257,0))*(100-$F$6)/100","v":279},null,null,{"$f":"IF($C$3=1,T256,IF($C$3=2,T257,\"  chyba\"))","v":3308193},{"$f":"IF($C$3=1,U256,IF($C$3=2,U257,\"  chyba\"))","v":"D548077"},null,{"$f":"Price!A256","v":"Zásuvný prvek D, 300mm, čiré sko"},{"$f":"Price!B256","v":"Z37R267D"},{"$f":"Price!C256","v":"KL"},{"$f":"Price!D256","v":"!"},{"$f":"Price!E256","v":0},{"$f":"Price!F256","v":279},null,null,{"$f":"Price!G256","v":3308193},{"$f":"Price!H256","v":"D548077"}]
[null,null,null,null,null,null,null,null,null,null,null,{"$f":"Price!A257","v":"Zásuvný prvek D, 300mm, saténované sko"},{"$f":"Price!B257","v":"Z37R267D"},{"$f":"Price!C257","v":"SA"},{"$f":"Price!D257","v":"!"},{"$f":"Price!E257","v":0},{"$f":"Price!F257","v":314.5},null,null,{"$f":"Price!G257","v":2389528},{"$f":"Price!H257","v":"D548078"}]
[{"$f":"IF($C$3=1,L258,IF($C$3=2,L259,\"  chyba\"))","v":"Zásuvný prvek D, 350mm, čiré sko"},{"$f":"IF($C$3=1,M258,IF($C$3=2,M259,\"  chyba\"))","v":"Z37R317D"},{"$f":"IF($C$3=1,N258,IF($C$3=2,N259,\"  chyba\"))","v":"KL"},{"$f":"IF($C$3=1,O258,IF($C$3=2,O259,\"  chyba\"))","v":"!"},null,{"$f":"IF($C$3=1,Q258,IF($C$3=2,Q259,0))*(100-$F$6)/100","v":240.82},null,null,{"$f":"IF($C$3=1,T258,IF($C$3=2,T259,\"  chyba\"))","v":7929860},{"$f":"IF($C$3=1,U258,IF($C$3=2,U259,\"  chyba\"))","v":"2x D663063"},null,{"$f":"Price!A258","v":"Zásuvný prvek D, 350mm, čiré sko"},{"$f":"Price!B258","v":"Z37R317D"},{"$f":"Price!C258","v":"KL"},{"$f":"Price!D258","v":"!"},{"$f":"Price!E258","v":0},{"$f":"Price!F258","v":240.82},null,null,{"$f":"Price!G258","v":7929860},{"$f":"Price!H258","v":"2x D663063"}]
[null,null,null,null,null,null,null,null,null,null,null,{"$f":"Price!A259","v":"Zásuvný prvek D, 350mm, saténované sko"},{"$f":"Price!B259","v":"Z37R317D"},{"$f":"Price!C259","v":"SA"},{"$f":"Price!D259","v":"!"},{"$f":"Price!E259","v":0},{"$f":"Price!F259","v":330.5},null,null,{"$f":"Price!G259","v":3132465},{"$f":"Price!H259","v":"D548080"}]
[{"$f":"IF($C$3=1,L260,IF($C$3=2,L261,\"  chyba\"))","v":"Zásuvný prvek D, 400mm, čiré sko"},{"$f":"IF($C$3=1,M260,IF($C$3=2,M261,\"  chyba\"))","v":"Z37R367D"},{"$f":"IF($C$3=1,N260,IF($C$3=2,N261,\"  chyba\"))","v":"KL"},{"$f":"IF($C$3=1,O260,IF($C$3=2,O261,\"  chyba\"))","v":0},null,{"$f":"IF($C$3=1,Q260,IF($C$3=2,Q261,0))*(100-$F$6)/100","v":265.39999999999998},null,null,{"$f":"IF($C$3=1,T260,IF($C$3=2,T261,\"  chyba\"))","v":1224597},{"$f":"IF($C$3=1,U260,IF($C$3=2,U261,\"  chyba\"))","v":"2x D663064"},null,{"$f":"Price!A260","v":"Zásuvný prvek D, 400mm, čiré sko"},{"$f":"Price!B260","v":"Z37R367D"},{"$f":"Price!C260","v":"KL"},{"$f":"Price!D260","v":0},{"$f":"Price!E260","v":0},{"$f":"Price!F260","v":265.39999999999998},null,null,{"$f":"Price!G260","v":1224597},{"$f":"Price!H260","v":"2x D663064"}]
[null,null,null,null,null,null,null,null,null,null,null,{"$f":"Price!A261","v":"Zásuvný prvek D, 400mm, saténované sko"},{"$f":"Price!B261","v":"Z37R367D"},{"$f":"Price!C261","v":"SA"},{"$f":"Price!D261","v":0},{"$f":"Price!E261","v":0},{"$f":"Price!F261","v":229.5},null,null,{"$f":"Price!G261","v":7491368},{"$f":"Price!H261","v":"2x D572101"}]
[{"$f":"IF($C$3=1,L262,IF($C$3=2,L263,\"  chyba\"))","v":"Zásuvný prvek D, 450mm, čiré sko"},{"$f":"IF($C$3=1,M262,IF($C$3=2,M263,\"  chyba\"))","v":"Z37R417D"},{"$f":"IF($C$3=1,N262,IF($C$3=2,N263,\"  chyba\"))","v":"KL"},{"$f":"IF($C$3=1,O262,IF($C$3=2,O263,\"  chyba\"))","v":0},null,{"$f":"IF($C$3=1,Q262,IF($C$3=2,Q263,0))*(100-$F$6)/100","v":290},null,null,{"$f":"IF($C$3=1,T262,IF($C$3=2,T263,\"  chyba\"))","v":2294507},{"$f":"IF($C$3=1,U262,IF($C$3=2,U263,\"  chyba\"))","v":"2x D663065"},null,{"$f":"Price!A262","v":"Zásuvný prvek D, 450mm, čiré sko"},{"$f":"Price!B262","v":"Z37R417D"},{"$f":"Price!C262","v":"KL"},{"$f":"Price!D262","v":0},{"$f":"Price!E262","v":0},{"$f":"Price!F262","v":290},null,null,{"$f":"Price!G262","v":2294507},{"$f":"Price!H262","v":"2x D663065"}]
[null,null,null,null,null,null,null,null,null,null,null,{"$f":"Price!A263","v":"Zásuvný prvek D, 450mm, saténované sko"},{"$f":"Price!B263","v":"Z37R417D"},{"$f":"Price!C263","v":"SA"},{"$f":"Price!D263","v":0},{"$f":"Price!E263","v":0},{"$f":"Price!F263","v":235.6},null,null,{"$f":"Price!G263","v":1236119},{"$f":"Price!H263","v":"2x D572102"}]
[{"$f":"IF($C$3=1,L264,IF($C$3=2,L265,\"  chyba\"))","v":"Zásuvný prvek D, 500mm, čiré sko"},{"$f":"IF($C$3=1,M264,IF($C$3=2,M265,\"  chyba\"))","v":"Z37R467D"},{"$f":"IF($C$3=1,N264,IF($C$3=2,N265,\"  chyba\"))","v":"KL"},{"$f":"IF($C$3=1,O264,IF($C$3=2,O265,\"  chyba\"))","v":0},null,{"$f":"IF($C$3=1,Q264,IF($C$3=2,Q265,0))*(100-$F$6)/100","v":314.56},null,null,{"$f":"IF($C$3=1,T264,IF($C$3=2,T265,\"  chyba\"))","v":2291585},{"$f":"IF($C$3=1,U264,IF($C$3=2,U265,\"  chyba\"))","v":"2x D663066"},null,{"$f":"Price!A264","v":"Zásuvný prvek D, 500mm, čiré sko"},{"$f":"Price!B264","v":"Z37R467D"},{"$f":"Price!C264","v":"KL"},{"$f":"Price!D264","v":0},{"$f":"Price!E264","v":0},{"$f":"Price!F264","v":314.56},null,null,{"$f":"Price!G264","v":2291585},{"$f":"Price!H264","v":"2x D663066"}]
[null,null,null,null,null,null,null,null,null,null,null,{"$f":"Price!A265","v":"Zásuvný prvek D, 500mm, saténované sko"},{"$f":"Price!B265","v":"Z37R467D"},{"$f":"Price!C265","v":"SA"},{"$f":"Price!D265","v":0},{"$f":"Price!E265","v":0},{"$f":"Price!F265","v":252.6},null,null,{"$f":"Price!G265","v":1699007},{"$f":"Price!H265","v":"2x D533128"}]
[{"$f":"IF($C$3=1,L266,IF($C$3=2,L267,\"  chyba\"))","v":"Zásuvný prvek D, 550mm, čiré sko"},{"$f":"IF($C$3=1,M266,IF($C$3=2,M267,\"  chyba\"))","v":"Z37R517D"},{"$f":"IF($C$3=1,N266,IF($C$3=2,N267,\"  chyba\"))","v":"KL"},{"$f":"IF($C$3=1,O266,IF($C$3=2,O267,\"  chyba\"))","v":0},null,{"$f":"IF($C$3=1,Q266,IF($C$3=2,Q267,0))*(100-$F$6)/100","v":336.68},null,null,{"$f":"IF($C$3=1,T266,IF($C$3=2,T267,\"  chyba\"))","v":2557206},{"$f":"IF($C$3=1,U266,IF($C$3=2,U267,\"  chyba\"))","v":"2x D663067"},null,{"$f":"Price!A266","v":"Zásuvný prvek D, 550mm, čiré sko"},{"$f":"Price!B266","v":"Z37R517D"},{"$f":"Price!C266","v":"KL"},{"$f":"Price!D266","v":0},{"$f":"Price!E266","v":0},{"$f":"Price!F266","v":336.68},null,null,{"$f":"Price!G266","v":2557206},{"$f":"Price!H266","v":"2x D663067"}]
[null,null,null,null,null,null,null,null,null,null,null,{"$f":"Price!A267","v":"Zásuvný prvek D, 550mm, saténované sko"},{"$f":"Price!B267","v":"Z37R517D"},{"$f":"Price!C267","v":"SA"},{"$f":"Price!D267","v":0},{"$f":"Price!E267","v":0},{"$f":"Price!F267","v":256.56},null,null,{"$f":"Price!G267","v":4421646},{"$f":"Price!H267","v":"2x D572103"}]
[{"$f":"IF($C$3=1,L268,IF($C$3=2,L269,\"  chyba\"))","v":"Zásuvný prvek D, 600mm, čiré sko"},{"$f":"IF($C$3=1,M268,IF($C$3=2,M269,\"  chyba\"))","v":"Z37R567D"},{"$f":"IF($C$3=1,N268,IF($C$3=2,N269,\"  chyba\"))","v":"KL"},{"$f":"IF($C$3=1,O268,IF($C$3=2,O269,\"  chyba\"))","v":"!"},null,{"$f":"IF($C$3=1,Q268,IF($C$3=2,Q269,0))*(100-$F$6)/100","v":358.8},null,null,{"$f":"IF($C$3=1,T268,IF($C$3=2,T269,\"  chyba\"))","v":2317239},{"$f":"IF($C$3=1,U268,IF($C$3=2,U269,\"  chyba\"))","v":"D548086"},null,{"$f":"Price!A268","v":"Zásuvný prvek D, 600mm, čiré sko"},{"$f":"Price!B268","v":"Z37R567D"},{"$f":"Price!C268","v":"KL"},{"$f":"Price!D268","v":"!"},{"$f":"Price!E268","v":0},{"$f":"Price!F268","v":358.8},null,null,{"$f":"Price!G268","v":2317239},{"$f":"Price!H268","v":"D548086"}]
[null,null,null,null,null,null,null,null,null,null,null,{"$f":"Price!A269","v":"Zásuvný prvek D, 600mm, saténované sko"},{"$f":"Price!B269","v":"Z37R567D"},{"$f":"Price!C269","v":"SA"},{"$f":"Price!D269","v":"!"},{"$f":"Price!E269","v":0},{"$f":"Price!F269","v":495.5},null,null,{"$f":"Price!G269","v":5772746},{"$f":"Price!H269","v":"D548087"}]
[{"$f":"IF($C$3=1,L270,IF($C$3=2,L271,\"  chyba\"))","v":"Zásuvný prvek D, 650mm, čiré sko"},{"$f":"IF($C$3=1,M270,IF($C$3=2,M271,\"  chyba\"))","v":"Z37R617D"},{"$f":"IF($C$3=1,N270,IF($C$3=2,N271,\"  chyba\"))","v":"KL"},{"$f":"IF($C$3=1,O270,IF($C$3=2,O271,\"  chyba\"))","v":0},null,{"$f":"IF($C$3=1,Q270,IF($C$3=2,Q271,0))*(100-$F$6)/100","v":378.7},null,null,{"$f":"IF($C$3=1,T270,IF($C$3=2,T271,\"  chyba\"))","v":5253385},{"$f":"IF($C$3=1,U270,IF($C$3=2,U271,\"  chyba\"))","v":"D512403"},null,{"$f":"Price!A270","v":"Zásuvný prvek D, 650mm, čiré sko"},{"$f":"Price!B270","v":"Z37R617D"},{"$f":"Price!C270","v":"KL"},{"$f":"Price!D270","v":0},{"$f":"Price!E270","v":0},{"$f":"Price!F270","v":378.7},null,null,{"$f":"Price!G270","v":5253385},{"$f":"Price!H270","v":"D512403"}]
[null,null,null,null,null,null,null,null,null,null,null,{"$f":"Price!A271","v":"Zásuvný prvek D, 650mm, saténované sko"},{"$f":"Price!B271","v":"Z37R617D"},{"$f":"Price!C271","v":"SA"},{"$f":"Price!D271","v":0},{"$f":"Price!E271","v":0},{"$f":"Price!F271","v":553.9},null,null,{"$f":"Price!G271","v":3645981},{"$f":"Price!H271","v":"D512404"}]
[null,null,null,null,null,null,null,null,null,null,null,{"$f":"Price!A272","v":0},{"$f":"Price!B272","v":0},{"$f":"Price!C272","v":0},{"$f":"Price!D272","v":0},{"$f":"Price!E272","v":0},{"$f":"Price!F272","v":0},null,null,{"$f":"Price!G272","v":0},{"$f":"Price!H272","v":0}]
[{"$f":"IF($C$3=1,L273,IF($C$3=2,L274,\"  chyba\"))","v":"Zásuvný prvek C, 270mm, čiré sko"},{"$f":"IF($C$3=1,M273,IF($C$3=2,M274,\"  chyba\"))","v":"Z37R237C"},{"$f":"IF($C$3=1,N273,IF($C$3=2,N274,\"  chyba\"))","v":"KL"},{"$f":"IF($C$3=1,O273,IF($C$3=2,O274,\"  chyba\"))","v":"!"},null,{"$f":"IF($C$3=1,Q273,IF($C$3=2,Q274,0))*(100-$F$6)/100","v":219.2},null,null,{"$f":"IF($C$3=1,T273,IF($C$3=2,T274,\"  chyba\"))","v":3804408},{"$f":"IF($C$3=1,U273,IF($C$3=2,U274,\"  chyba\"))","v":"D692543"},null,{"$f":"Price!A273","v":"Zásuvný prvek C, 270mm, čiré sko"},{"$f":"Price!B273","v":"Z37R237C"},{"$f":"Price!C273","v":"KL"},{"$f":"Price!D273","v":"!"},{"$f":"Price!E273","v":0},{"$f":"Price!F273","v":219.2},null,null,{"$f":"Price!G273","v":3804408},{"$f":"Price!H273","v":"D692543"}]
[null,null,null,null,null,null,null,null,null,null,null,{"$f":"Price!A274","v":"Zásuvný prvek C, 270mm, saténované sko"},{"$f":"Price!B274","v":"Z37R237C"},{"$f":"Price!C274","v":"SA"},{"$f":"Price!D274","v":"!"},{"$f":"Price!E274","v":0},{"$f":"Price!F274","v":248.6},null,null,{"$f":"Price!G274","v":5036146},{"$f":"Price!H274","v":"D692544"}]
[{"$f":"IF($C$3=1,L275,IF($C$3=2,L276,\"  chyba\"))","v":"Zásuvný prvek C 300mm, čiré sko"},{"$f":"IF($C$3=1,M275,IF($C$3=2,M276,\"  chyba\"))","v":"Z37R267C"},{"$f":"IF($C$3=1,N275,IF($C$3=2,N276,\"  chyba\"))","v":"KL"},{"$f":"IF($C$3=1,O275,IF($C$3=2,O276,\"  chyba\"))","v":"!"},null,{"$f":"IF($C$3=1,Q275,IF($C$3=2,Q276,0))*(100-$F$6)/100","v":229.2},null,null,{"$f":"IF($C$3=1,T275,IF($C$3=2,T276,\"  chyba\"))","v":5859728},{"$f":"IF($C$3=1,U275,IF($C$3=2,U276,\"  chyba\"))","v":"D692545"},null,{"$f":"Price!A275","v":"Zásuvný prvek C 300mm, čiré sko"},{"$f":"Price!B275","v":"Z37R267C"},{"$f":"Price!C275","v":"KL"},{"$f":"Price!D275","v":"!"},{"$f":"Price!E275","v":0},{"$f":"Price!F275","v":229.2},null,null,{"$f":"Price!G275","v":5859728},{"$f":"Price!H275","v":"D692545"}]
[null,null,null,null,null,null,null,null,null,null,null,{"$f":"Price!A276","v":"Zásuvný prvek C, 300mm, saténované sko"},{"$f":"Price!B276","v":"Z37R267C"},{"$f":"Price!C276","v":"SA"},{"$f":"Price!D276","v":"!"},{"$f":"Price!E276","v":0},{"$f":"Price!F276","v":264.60000000000002},null,null,{"$f":"Price!G276","v":8132199},{"$f":"Price!H276","v":"D692546"}]
[{"$f":"IF($C$3=1,L277,IF($C$3=2,L278,\"  chyba\"))","v":"Zásuvný prvek C, 350mm, čiré sko"},{"$f":"IF($C$3=1,M277,IF($C$3=2,M278,\"  chyba\"))","v":"Z37R317C"},{"$f":"IF($C$3=1,N277,IF($C$3=2,N278,\"  chyba\"))","v":"KL"},{"$f":"IF($C$3=1,O277,IF($C$3=2,O278,\"  chyba\"))","v":"!"},null,{"$f":"IF($C$3=1,Q277,IF($C$3=2,Q278,0))*(100-$F$6)/100","v":239.2},null,null,{"$f":"IF($C$3=1,T277,IF($C$3=2,T278,\"  chyba\"))","v":4171919},{"$f":"IF($C$3=1,U277,IF($C$3=2,U278,\"  chyba\"))","v":"D692547"},null,{"$f":"Price!A277","v":"Zásuvný prvek C, 350mm, čiré sko"},{"$f":"Price!B277","v":"Z37R317C"},{"$f":"Price!C277","v":"KL"},{"$f":"Price!D277","v":"!"},{"$f":"Price!E277","v":0},{"$f":"Price!F277","v":239.2},null,null,{"$f":"Price!G277","v":4171919},{"$f":"Price!H277","v":"D692547"}]
[null,null,null,null,null,null,null,null,null,null,null,{"$f":"Price!A278","v":"Zásuvný prvek C, 350mm, saténované sko"},{"$f":"Price!B278","v":"Z37R317C"},{"$f":"Price!C278","v":"SA"},{"$f":"Price!D278","v":"!"},{"$f":"Price!E278","v":0},{"$f":"Price!F278","v":280.7},null,null,{"$f":"Price!G278","v":7015370},{"$f":"Price!H278","v":"D692548"}]
[{"$f":"IF($C$3=1,L279,IF($C$3=2,L280,\"  chyba\"))","v":"Zásuvný prvek C, 400mm, čiré sko"},{"$f":"IF($C$3=1,M279,IF($C$3=2,M280,\"  chyba\"))","v":"Z37R367C"},{"$f":"IF($C$3=1,N279,IF($C$3=2,N280,\"  chyba\"))","v":"KL"},{"$f":"IF($C$3=1,O279,IF($C$3=2,O280,\"  chyba\"))","v":"!"},null,{"$f":"IF($C$3=1,Q279,IF($C$3=2,Q280,0))*(100-$F$6)/100","v":249.1},null,null,{"$f":"IF($C$3=1,T279,IF($C$3=2,T280,\"  chyba\"))","v":5254946},{"$f":"IF($C$3=1,U279,IF($C$3=2,U280,\"  chyba\"))","v":"D692549"},null,{"$f":"Price!A279","v":"Zásuvný prvek C, 400mm, čiré sko"},{"$f":"Price!B279","v":"Z37R367C"},{"$f":"Price!C279","v":"KL"},{"$f":"Price!D279","v":"!"},{"$f":"Price!E279","v":0},{"$f":"Price!F279","v":249.1},null,null,{"$f":"Price!G279","v":5254946},{"$f":"Price!H279","v":"D692549"}]
[null,null,null,null,null,null,null,null,null,null,null,{"$f":"Price!A280","v":"Zásuvný prvek C, 400mm, saténované sko"},{"$f":"Price!B280","v":"Z37R367C"},{"$f":"Price!C280","v":"SA"},{"$f":"Price!D280","v":"!"},{"$f":"Price!E280","v":0},{"$f":"Price!F280","v":296.8},null,null,{"$f":"Price!G280","v":2409562},{"$f":"Price!H280","v":"D681449"}]
[{"$f":"IF($C$3=1,L281,IF($C$3=2,L282,\"  chyba\"))","v":"Zásuvný prvek C, 450mm, čiré sko"},{"$f":"IF($C$3=1,M281,IF($C$3=2,M282,\"  chyba\"))","v":"Z37R417C"},{"$f":"IF($C$3=1,N281,IF($C$3=2,N282,\"  chyba\"))","v":"KL"},{"$f":"IF($C$3=1,O281,IF($C$3=2,O282,\"  chyba\"))","v":"!"},null,{"$f":"IF($C$3=1,Q281,IF($C$3=2,Q282,0))*(100-$F$6)/100","v":259.10000000000002},null,null,{"$f":"IF($C$3=1,T281,IF($C$3=2,T282,\"  chyba\"))","v":9507673},{"$f":"IF($C$3=1,U281,IF($C$3=2,U282,\"  chyba\"))","v":"D692550"},null,{"$f":"Price!A281","v":"Zásuvný prvek C, 450mm, čiré sko"},{"$f":"Price!B281","v":"Z37R417C"},{"$f":"Price!C281","v":"KL"},{"$f":"Price!D281","v":"!"},{"$f":"Price!E281","v":0},{"$f":"Price!F281","v":259.10000000000002},null,null,{"$f":"Price!G281","v":9507673},{"$f":"Price!H281","v":"D692550"}]
[null,null,null,null,null,null,null,null,null,null,null,{"$f":"Price!A282","v":"Zásuvný prvek C, 450mm, saténované sko"},{"$f":"Price!B282","v":"Z37R417C"},{"$f":"Price!C282","v":"SA"},{"$f":"Price!D282","v":"!"},{"$f":"Price!E282","v":0},{"$f":"Price!F282","v":312.8},null,null,{"$f":"Price!G282","v":1253534},{"$f":"Price!H282","v":"D683127"}]
[{"$f":"IF($C$3=1,L283,IF($C$3=2,L284,\"  chyba\"))","v":"Zásuvný prvek C, 500mm, čiré sko"},{"$f":"IF($C$3=1,M283,IF($C$3=2,M284,\"  chyba\"))","v":"Z37R467C"},{"$f":"IF($C$3=1,N283,IF($C$3=2,N284,\"  chyba\"))","v":"KL"},{"$f":"IF($C$3=1,O283,IF($C$3=2,O284,\"  chyba\"))","v":0},null,{"$f":"IF($C$3=1,Q283,IF($C$3=2,Q284,0))*(100-$F$6)/100","v":269.10000000000002},null,null,{"$f":"IF($C$3=1,T283,IF($C$3=2,T284,\"  chyba\"))","v":7291705},{"$f":"IF($C$3=1,U283,IF($C$3=2,U284,\"  chyba\"))","v":"D512401"},null,{"$f":"Price!A283","v":"Zásuvný prvek C, 500mm, čiré sko"},{"$f":"Price!B283","v":"Z37R467C"},{"$f":"Price!C283","v":"KL"},{"$f":"Price!D283","v":0},{"$f":"Price!E283","v":0},{"$f":"Price!F283","v":269.10000000000002},null,null,{"$f":"Price!G283","v":7291705},{"$f":"Price!H283","v":"D512401"}]
[null,null,null,null,null,null,null,null,null,null,null,{"$f":"Price!A284","v":"Zásuvný prvek C, 500mm, saténované sko"},{"$f":"Price!B284","v":"Z37R467C"},{"$f":"Price!C284","v":"SA"},{"$f":"Price!D284","v":0},{"$f":"Price!E284","v":0},{"$f":"Price!F284","v":328.9},null,null,{"$f":"Price!G284","v":3964623},{"$f":"Price!H284","v":"D512402"}]
[{"$f":"IF($C$3=1,L285,IF($C$3=2,L286,\"  chyba\"))","v":"Zásuvný prvek C, 550mm, čiré sko"},{"$f":"IF($C$3=1,M285,IF($C$3=2,M286,\"  chyba\"))","v":"Z37R517C"},{"$f":"IF($C$3=1,N285,IF($C$3=2,N286,\"  chyba\"))","v":"KL"},{"$f":"IF($C$3=1,O285,IF($C$3=2,O286,\"  chyba\"))","v":"!"},null,{"$f":"IF($C$3=1,Q285,IF($C$3=2,Q286,0))*(100-$F$6)/100","v":289},null,null,{"$f":"IF($C$3=1,T285,IF($C$3=2,T286,\"  chyba\"))","v":5688629},{"$f":"IF($C$3=1,U285,IF($C$3=2,U286,\"  chyba\"))","v":"D657373"},null,{"$f":"Price!A285","v":"Zásuvný prvek C, 550mm, čiré sko"},{"$f":"Price!B285","v":"Z37R517C"},{"$f":"Price!C285","v":"KL"},{"$f":"Price!D285","v":"!"},{"$f":"Price!E285","v":0},{"$f":"Price!F285","v":289},null,null,{"$f":"Price!G285","v":5688629},{"$f":"Price!H285","v":"D657373"}]
[null,null,null,null,null,null,null,null,null,null,null,{"$f":"Price!A286","v":"Zásuvný prvek C, 550mm, saténované sko"},{"$f":"Price!B286","v":"Z37R517C"},{"$f":"Price!C286","v":"SA"},{"$f":"Price!D286","v":"!"},{"$f":"Price!E286","v":0},{"$f":"Price!F286","v":387.3},null,null,{"$f":"Price!G286","v":7608000},{"$f":"Price!H286","v":"D528443"}]
[{"$f":"IF($C$3=1,L287,IF($C$3=2,L288,\"  chyba\"))","v":"Zásuvný prvek C, 600mm, čiré sko"},{"$f":"IF($C$3=1,M287,IF($C$3=2,M288,\"  chyba\"))","v":"Z37R567C"},{"$f":"IF($C$3=1,N287,IF($C$3=2,N288,\"  chyba\"))","v":"KL"},{"$f":"IF($C$3=1,O287,IF($C$3=2,O288,\"  chyba\"))","v":"!"},null,{"$f":"IF($C$3=1,Q287,IF($C$3=2,Q288,0))*(100-$F$6)/100","v":308.89999999999998},null,null,{"$f":"IF($C$3=1,T287,IF($C$3=2,T288,\"  chyba\"))","v":9544431},{"$f":"IF($C$3=1,U287,IF($C$3=2,U288,\"  chyba\"))","v":"D692551"},null,{"$f":"Price!A287","v":"Zásuvný prvek C, 600mm, čiré sko"},{"$f":"Price!B287","v":"Z37R567C"},{"$f":"Price!C287","v":"KL"},{"$f":"Price!D287","v":"!"},{"$f":"Price!E287","v":0},{"$f":"Price!F287","v":308.89999999999998},null,null,{"$f":"Price!G287","v":9544431},{"$f":"Price!H287","v":"D692551"}]
[null,null,null,null,null,null,null,null,null,null,null,{"$f":"Price!A288","v":"Zásuvný prvek C, 600mm, saténované sko"},{"$f":"Price!B288","v":"Z37R567C"},{"$f":"Price!C288","v":"SA"},{"$f":"Price!D288","v":"!"},{"$f":"Price!E288","v":0},{"$f":"Price!F288","v":445.7},null,null,{"$f":"Price!G288","v":8250939},{"$f":"Price!H288","v":"D692552"}]
[{"$f":"IF($C$3=1,L289,IF($C$3=2,L290,\"  chyba\"))","v":"Zásuvný prvek C, 650mm, čiré sko"},{"$f":"IF($C$3=1,M289,IF($C$3=2,M290,\"  chyba\"))","v":"Z37R617C"},{"$f":"IF($C$3=1,N289,IF($C$3=2,N290,\"  chyba\"))","v":"KL"},{"$f":"IF($C$3=1,O289,IF($C$3=2,O290,\"  chyba\"))","v":"!"},null,{"$f":"IF($C$3=1,Q289,IF($C$3=2,Q290,0))*(100-$F$6)/100","v":328.9},null,null,{"$f":"IF($C$3=1,T289,IF($C$3=2,T290,\"  chyba\"))","v":2152523},{"$f":"IF($C$3=1,U289,IF($C$3=2,U290,\"  chyba\"))","v":"D692553"},null,{"$f":"Price!A289","v":"Zásuvný prvek C, 650mm, čiré sko"},{"$f":"Price!B289","v":"Z37R617C"},{"$f":"Price!C289","v":"KL"},{"$f":"Price!D289","v":"!"},{"$f":"Price!E289","v":0},{"$f":"Price!F289","v":328.9},null,null,{"$f":"Price!G289","v":2152523},{"$f":"Price!H289","v":"D692553"}]
[null,null,null,null,null,null,null,null,null,null,null,{"$f":"Price!A290","v":"Zásuvný prvek C, 650mm, saténované sko"},{"$f":"Price!B290","v":"Z37R617C"},{"$f":"Price!C290","v":"SA"},{"$f":"Price!D290","v":"!"},{"$f":"Price!E290","v":0},{"$f":"Price!F290","v":504.1},null,null,{"$f":"Price!G290","v":4922166},{"$f":"Price!H290","v":"D692554"}]
[null,null,null,null,null,null,null,null,null,null,null,{"$f":"Price!A291","v":0},{"$f":"Price!B291","v":0},{"$f":"Price!C291","v":0},{"$f":"Price!D291","v":0},{"$f":"Price!E291","v":0},{"$f":"Price!F291","v":0},null,null,{"$f":"Price!G291","v":0},{"$f":"Price!H291","v":0}]
[{"$f":"IF($C$2=1,L292,IF($C$2=2,L293,IF($C$2=3,L294,IF($C$2=4,\" \",\"  chyba\"))))","v":"Kovový zásuvný prvek D, 450mm, šedý"},{"$f":"IF($C$2=1,M292,IF($C$2=2,M293,IF($C$2=3,M294,IF($C$2=4,\" \",\"  chyba\"))))","v":"Z37A417D"},{"$f":"IF($C$2=1,N292,IF($C$2=2,N293,IF($C$2=3,N294,IF($C$2=4,\" \",\"  chyba\"))))","v":"R906"},{"$f":"IF($C$2=1,O292,IF($C$2=2,O293,IF($C$2=3,O294,IF($C$2=4,\" \",\"  chyba\"))))","v":0},{"$f":"IF($C$2=1,P292,IF($C$2=2,P293,IF($C$2=3,P294,IF($C$2=4,\" \",\"  chyba\"))))","v":0},{"$f":"IF($C$2=1,Q292,IF($C$2=2,Q293,IF($C$2=3,Q294,IF($C$2=4,0,\"  chyba\"))))*(100-$F$6)/100","v":156.5},null,null,{"$f":"IF($C$2=1,T292,IF($C$2=2,T293,IF($C$2=3,T294,IF($C$2=4,\" \",\"  chyba\"))))","v":7183333},{"$f":"IF($C$2=1,U292,IF($C$2=2,U293,IF($C$2=3,U294,IF($C$2=4,\" \",\"  chyba\"))))","v":"D472683"},null,{"$f":"Price!A292","v":"Kovový zásuvný prvek D, 450mm, šedý"},{"$f":"Price!B292","v":"Z37A417D"},{"$f":"Price!C292","v":"R906"},{"$f":"Price!D292","v":0},{"$f":"Price!E292","v":0},{"$f":"Price!F292","v":156.5},null,null,{"$f":"Price!G292","v":7183333},{"$f":"Price!H292","v":"D472683"}]
[null,null,null,null,null,null,null,null,null,null,null,{"$f":"Price!A293","v":"Kovový zásuvný prvek D, 450mm, hedvábně bílý"},{"$f":"Price!B293","v":"Z37A417D"},{"$f":"Price!C293","v":"SEIW"},{"$f":"Price!D293","v":0},{"$f":"Price!E293","v":0},{"$f":"Price!F293","v":156.5},null,null,{"$f":"Price!G293","v":8790595},{"$f":"Price!H293","v":"D472682"}]
[null,null,null,null,null,null,null,null,null,null,null,{"$f":"Price!A294","v":"Kovový zásuvný prvek D, 450mm, černý Terra"},{"$f":"Price!B294","v":"Z37A417D"},{"$f":"Price!C294","v":"TERS"},{"$f":"Price!D294","v":0},{"$f":"Price!E294","v":0},{"$f":"Price!F294","v":156.5},null,null,{"$f":"Price!G294","v":2498246},{"$f":"Price!H294","v":"D548624"}]
[{"$f":"IF($C$2=1,L295,IF($C$2=2,L296,IF($C$2=3,L297,IF($C$2=4,\" \",\"  chyba\"))))","v":"Kovový zásuvný prvek D, 500mm, šedý"},{"$f":"IF($C$2=1,M295,IF($C$2=2,M296,IF($C$2=3,M297,IF($C$2=4,\" \",\"  chyba\"))))","v":"Z37A467D"},{"$f":"IF($C$2=1,N295,IF($C$2=2,N296,IF($C$2=3,N297,IF($C$2=4,\" \",\"  chyba\"))))","v":"R906"},{"$f":"IF($C$2=1,O295,IF($C$2=2,O296,IF($C$2=3,O297,IF($C$2=4,\" \",\"  chyba\"))))","v":0},{"$f":"IF($C$2=1,P295,IF($C$2=2,P296,IF($C$2=3,P297,IF($C$2=4,\" \",\"  chyba\"))))","v":0},{"$f":"IF($C$2=1,Q295,IF($C$2=2,Q296,IF($C$2=3,Q297,IF($C$2=4,0,\"  chyba\"))))*(100-$F$6)/100","v":164.4},null,null,{"$f":"IF($C$2=1,T295,IF($C$2=2,T296,IF($C$2=3,T297,IF($C$2=4,\" \",\"  chyba\"))))","v":4222766},{"$f":"IF($C$2=1,U295,IF($C$2=2,U296,IF($C$2=3,U297,IF($C$2=4,\" \",\"  chyba\"))))","v":"D472685"},null,{"$f":"Price!A295","v":"Kovový zásuvný prvek D, 500mm, šedý"},{"$f":"Price!B295","v":"Z37A467D"},{"$f":"Price!C295","v":"R906"},{"$f":"Price!D295","v":0},{"$f":"Price!E295","v":0},{"$f":"Price!F295","v":164.4},null,null,{"$f":"Price!G295","v":4222766},{"$f":"Price!H295","v":"D472685"}]
[null,null,null,null,null,null,null,null,null,null,null,{"$f":"Price!A296","v":"Kovový zásuvný prvek D, 500mm, hedvábně bílý"},{"$f":"Price!B296","v":"Z37A467D"},{"$f":"Price!C296","v":"SEIW"},{"$f":"Price!D296","v":0},{"$f":"Price!E296","v":0},{"$f":"Price!F296","v":164.4},null,null,{"$f":"Price!G296","v":7984939},{"$f":"Price!H296","v":"D472687"}]
[null,null,null,null,null,null,null,null,null,null,null,{"$f":"Price!A297","v":"Kovový zásuvný prvek D, 500mm, černý Terra"},{"$f":"Price!B297","v":"Z37A467D"},{"$f":"Price!C297","v":"TERS"},{"$f":"Price!D297","v":"!"},{"$f":"Price!E297","v":0},{"$f":"Price!F297","v":164.4},null,null,{"$f":"Price!G297","v":5581246},{"$f":"Price!H297","v":"D512406"}]
[{"$f":"IF($C$2=1,L298,IF($C$2=2,L299,IF($C$2=3,L300,IF($C$2=4,\" \",\"  chyba\"))))","v":"Kovový zásuvný prvek D, 550mm, šedý"},{"$f":"IF($C$2=1,M298,IF($C$2=2,M299,IF($C$2=3,M300,IF($C$2=4,\" \",\"  chyba\"))))","v":"Z37A517D"},{"$f":"IF($C$2=1,N298,IF($C$2=2,N299,IF($C$2=3,N300,IF($C$2=4,\" \",\"  chyba\"))))","v":"R906"},{"$f":"IF($C$2=1,O298,IF($C$2=2,O299,IF($C$2=3,O300,IF($C$2=4,\" \",\"  chyba\"))))","v":0},{"$f":"IF($C$2=1,P298,IF($C$2=2,P299,IF($C$2=3,P300,IF($C$2=4,\" \",\"  chyba\"))))","v":0},{"$f":"IF($C$2=1,Q298,IF($C$2=2,Q299,IF($C$2=3,Q300,IF($C$2=4,0,\"  chyba\"))))*(100-$F$6)/100","v":177.6},null,null,{"$f":"IF($C$2=1,T298,IF($C$2=2,T299,IF($C$2=3,T300,IF($C$2=4,\" \",\"  chyba\"))))","v":4851238},{"$f":"IF($C$2=1,U298,IF($C$2=2,U299,IF($C$2=3,U300,IF($C$2=4,\" \",\"  chyba\"))))","v":"D493486"},null,{"$f":"Price!A298","v":"Kovový zásuvný prvek D, 550mm, šedý"},{"$f":"Price!B298","v":"Z37A517D"},{"$f":"Price!C298","v":"R906"},{"$f":"Price!D298","v":0},{"$f":"Price!E298","v":0},{"$f":"Price!F298","v":177.6},null,null,{"$f":"Price!G298","v":4851238},{"$f":"Price!H298","v":"D493486"}]
[null,null,null,null,null,null,null,null,null,null,null,{"$f":"Price!A299","v":"Kovový zásuvný prvek D, 550mm, hedvábně bílý"},{"$f":"Price!B299","v":"Z37A517D"},{"$f":"Price!C299","v":"SEIW"},{"$f":"Price!D299","v":0},{"$f":"Price!E299","v":0},{"$f":"Price!F299","v":177.6},null,null,{"$f":"Price!G299","v":9629759},{"$f":"Price!H299","v":"D493485"}]
[null,null,null,null,null,null,null,null,null,null,null,{"$f":"Price!A300","v":"Kovový zásuvný prvek D, 550mm, černý Terra"},{"$f":"Price!B300","v":"Z37A517D"},{"$f":"Price!C300","v":"TERS"},{"$f":"Price!D300","v":"!"},{"$f":"Price!E300","v":0},{"$f":"Price!F300","v":177.6},null,null,{"$f":"Price!G300","v":4286938},{"$f":"Price!H300","v":"D548626"}]
[{"$f":"IF($C$2=1,L301,IF($C$2=2,L302,IF($C$2=3,L303,IF($C$2=4,\" \",\"  chyba\"))))","v":0},{"$f":"IF($C$2=1,M301,IF($C$2=2,M302,IF($C$2=3,M303,IF($C$2=4,\" \",\"  chyba\"))))","v":0},{"$f":"IF($C$2=1,N301,IF($C$2=2,N302,IF($C$2=3,N303,IF($C$2=4,\" \",\"  chyba\"))))","v":0},{"$f":"IF($C$2=1,O301,IF($C$2=2,O302,IF($C$2=3,O303,IF($C$2=4,\" \",\"  chyba\"))))","v":0},{"$f":"IF($C$2=1,P301,IF($C$2=2,P302,IF($C$2=3,P303,IF($C$2=4,\" \",\"  chyba\"))))","v":0},{"$f":"IF($C$2=1,Q301,IF($C$2=2,Q302,IF($C$2=3,Q303,IF($C$2=4,0,\"  chyba\"))))*(100-$F$6)/100","v":0},null,null,{"$f":"IF($C$2=1,T301,IF($C$2=2,T302,IF($C$2=3,T303,IF($C$2=4,\" \",\"  chyba\"))))","v":0},{"$f":"IF($C$2=1,U301,IF($C$2=2,U302,IF($C$2=3,U303,IF($C$2=4,\" \",\"  chyba\"))))","v":0},null,{"$f":"Price!A301","v":0},{"$f":"Price!B301","v":0},{"$f":"Price!C301","v":0},{"$f":"Price!D301","v":0},{"$f":"Price!E301","v":0},{"$f":"Price!F301","v":0},null,null,{"$f":"Price!G301","v":0},{"$f":"Price!H301","v":0}]
[null,null,null,null,null,null,null,null,null,null,null,{"$f":"Price!A302","v":0},{"$f":"Price!B302","v":0},{"$f":"Price!C302","v":0},{"$f":"Price!D302","v":0},{"$f":"Price!E302","v":0},{"$f":"Price!F302","v":0},null,null,{"$f":"Price!G302","v":0},{"$f":"Price!H302","v":0}]
[null,null,null,null,null,null,null,null,null,null,null,{"$f":"Price!A303","v":0},{"$f":"Price!B303","v":0},{"$f":"Price!C303","v":0},{"$f":"Price!D303","v":0},{"$f":"Price!E303","v":0},{"$f":"Price!F303","v":0},null,null,{"$f":"Price!G303","v":0},{"$f":"Price!H303","v":0}]
[{"$f":"IF($C$2=1,L304,IF($C$2=2,L305,IF($C$2=3,L306,IF($C$2=4,\" \",\"  chyba\"))))","v":"Kovový zásuvný prvek D, 650mm, šedý"},{"$f":"IF($C$2=1,M304,IF($C$2=2,M305,IF($C$2=3,M306,IF($C$2=4,\" \",\"  chyba\"))))","v":"Z37A617D"},{"$f":"IF($C$2=1,N304,IF($C$2=2,N305,IF($C$2=3,N306,IF($C$2=4,\" \",\"  chyba\"))))","v":"R906"},{"$f":"IF($C$2=1,O304,IF($C$2=2,O305,IF($C$2=3,O306,IF($C$2=4,\" \",\"  chyba\"))))","v":0},{"$f":"IF($C$2=1,P304,IF($C$2=2,P305,IF($C$2=3,P306,IF($C$2=4,\" \",\"  chyba\"))))","v":0},{"$f":"IF($C$2=1,Q304,IF($C$2=2,Q305,IF($C$2=3,Q306,IF($C$2=4,0,\"  chyba\"))))*(100-$F$6)/100","v":204},null,null,{"$f":"IF($C$2=1,T304,IF($C$2=2,T305,IF($C$2=3,T306,IF($C$2=4,\" \",\"  chyba\"))))","v":7126828},{"$f":"IF($C$2=1,U304,IF($C$2=2,U305,IF($C$2=3,U306,IF($C$2=4,\" \",\"  chyba\"))))","v":"D493488"},null,{"$f":"Price!A304","v":"Kovový zásuvný prvek D, 650mm, šedý"},{"$f":"Price!B304","v":"Z37A617D"},{"$f":"Price!C304","v":"R906"},{"$f":"Price!D304","v":0},{"$f":"Price!E304","v":0},{"$f":"Price!F304","v":204},null,null,{"$f":"Price!G304","v":7126828},{"$f":"Price!H304","v":"D493488"}]
[null,null,null,null,null,null,null,null,null,null,null,{"$f":"Price!A305","v":"Kovový zásuvný prvek D, 650mm, hedvábně bílý"},{"$f":"Price!B305","v":"Z37A617D"},{"$f":"Price!C305","v":"SEIW"},{"$f":"Price!D305","v":0},{"$f":"Price!E305","v":0},{"$f":"Price!F305","v":204},null,null,{"$f":"Price!G305","v":7510918},{"$f":"Price!H305","v":"D493487"}]
[null,null,null,null,null,null,null,null,null,null,null,{"$f":"Price!A306","v":"Kovový zásuvný prvek D, 650mm, černý Terra"},{"$f":"Price!B306","v":"Z37A467D"},{"$f":"Price!C306","v":"TERS"},{"$f":"Price!D306","v":"!"},{"$f":"Price!E306","v":0},{"$f":"Price!F306","v":204},null,null,{"$f":"Price!G306","v":1874439},{"$f":"Price!H306","v":"D512407"}]
[null,null,null,null,null,null,null,null,null,null,null,{"$f":"Price!A307","v":0},{"$f":"Price!B307","v":0},{"$f":"Price!C307","v":0},{"$f":"Price!D307","v":0},{"$f":"Price!E307","v":0},{"$f":"Price!F307","v":0},null,null,{"$f":"Price!G307","v":0},{"$f":"Price!H307","v":0}]
[{"$f":"IF($C$2=1,L308,IF($C$2=2,L309,IF($C$2=3,L310,IF($C$2=4,\" \",\"  chyba\"))))","v":"Kovový zásuvný prvek C, 450mm, šedý"},{"$f":"IF($C$2=1,M308,IF($C$2=2,M309,IF($C$2=3,M310,IF($C$2=4,\" \",\"  chyba\"))))","v":"Z37A417C"},{"$f":"IF($C$2=1,N308,IF($C$2=2,N309,IF($C$2=3,N310,IF($C$2=4,\" \",\"  chyba\"))))","v":"R906"},{"$f":"IF($C$2=1,O308,IF($C$2=2,O309,IF($C$2=3,O310,IF($C$2=4,\" \",\"  chyba\"))))","v":"!"},{"$f":"IF($C$2=1,P308,IF($C$2=2,P309,IF($C$2=3,P310,IF($C$2=4,\" \",\"  chyba\"))))","v":0},{"$f":"IF($C$2=1,Q308,IF($C$2=2,Q309,IF($C$2=3,Q310,IF($C$2=4,0,\"  chyba\"))))*(100-$F$6)/100","v":143.80000000000001},null,null,{"$f":"IF($C$2=1,T308,IF($C$2=2,T309,IF($C$2=3,T310,IF($C$2=4,\" \",\"  chyba\"))))","v":8168478},{"$f":"IF($C$2=1,U308,IF($C$2=2,U309,IF($C$2=3,U310,IF($C$2=4,\" \",\"  chyba\"))))","v":"D493625"},null,{"$f":"Price!A308","v":"Kovový zásuvný prvek C, 450mm, šedý"},{"$f":"Price!B308","v":"Z37A417C"},{"$f":"Price!C308","v":"R906"},{"$f":"Price!D308","v":"!"},{"$f":"Price!E308","v":0},{"$f":"Price!F308","v":143.80000000000001},null,null,{"$f":"Price!G308","v":8168478},{"$f":"Price!H308","v":"D493625"}]
[null,null,null,null,null,null,null,null,null,null,null,{"$f":"Price!A309","v":"Kovový zásuvný prvek C, 450mm, hedvábně bílý"},{"$f":"Price!B309","v":"Z37A417C"},{"$f":"Price!C309","v":"SEIW"},{"$f":"Price!D309","v":"!"},{"$f":"Price!E309","v":0},{"$f":"Price!F309","v":143.80000000000001},null,null,{"$f":"Price!G309","v":6610192},{"$f":"Price!H309","v":"D493626"}]
[null,null,null,null,null,null,null,null,null,null,null,{"$f":"Price!A310","v":"Kovový zásuvný prvek C, 450mm, černý Terra"},{"$f":"Price!B310","v":"Z37A417C"},{"$f":"Price!C310","v":"TERS"},{"$f":"Price!D310","v":"!"},{"$f":"Price!E310","v":0},{"$f":"Price!F310","v":143.80000000000001},null,null,{"$f":"Price!G310","v":1422256},{"$f":"Price!H310","v":"D634159"}]
[{"$f":"IF($C$2=1,L311,IF($C$2=2,L312,IF($C$2=3,L313,IF($C$2=4,\" \",\"  chyba\"))))","v":"Kovový zásuvný prvek C, 500mm, šedý"},{"$f":"IF($C$2=1,M311,IF($C$2=2,M312,IF($C$2=3,M313,IF($C$2=4,\" \",\"  chyba\"))))","v":"Z37A467C"},{"$f":"IF($C$2=1,N311,IF($C$2=2,N312,IF($C$2=3,N313,IF($C$2=4,\" \",\"  chyba\"))))","v":"R906"},{"$f":"IF($C$2=1,O311,IF($C$2=2,O312,IF($C$2=3,O313,IF($C$2=4,\" \",\"  chyba\"))))","v":0},{"$f":"IF($C$2=1,P311,IF($C$2=2,P312,IF($C$2=3,P313,IF($C$2=4,\" \",\"  chyba\"))))","v":0},{"$f":"IF($C$2=1,Q311,IF($C$2=2,Q312,IF($C$2=3,Q313,IF($C$2=4,0,\"  chyba\"))))*(100-$F$6)/100","v":149.5},null,null,{"$f":"IF($C$2=1,T311,IF($C$2=2,T312,IF($C$2=3,T313,IF($C$2=4,\" \",\"  chyba\"))))","v":2406463},{"$f":"IF($C$2=1,U311,IF($C$2=2,U312,IF($C$2=3,U313,IF($C$2=4,\" \",\"  chyba\"))))","v":"D493627"},null,{"$f":"Price!A311","v":"Kovový zásuvný prvek C, 500mm, šedý"},{"$f":"Price!B311","v":"Z37A467C"},{"$f":"Price!C311","v":"R906"},{"$f":"Price!D311","v":0},{"$f":"Price!E311","v":0},{"$f":"Price!F311","v":149.5},null,null,{"$f":"Price!G311","v":2406463},{"$f":"Price!H311","v":"D493627"}]
[null,null,null,null,null,null,null,null,null,null,null,{"$f":"Price!A312","v":"Kovový zásuvný prvek C, 500mm, hedvábně bílý"},{"$f":"Price!B312","v":"Z37A467C"},{"$f":"Price!C312","v":"SEIW"},{"$f":"Price!D312","v":0},{"$f":"Price!E312","v":0},{"$f":"Price!F312","v":149.5},null,null,{"$f":"Price!G312","v":1548847},{"$f":"Price!H312","v":"D493629"}]
[null,null,null,null,null,null,null,null,null,null,null,{"$f":"Price!A313","v":"Kovový zásuvný prvek C, 500mm, černý Terra"},{"$f":"Price!B313","v":"Z37A467C"},{"$f":"Price!C313","v":"TERS"},{"$f":"Price!D313","v":"!"},{"$f":"Price!E313","v":0},{"$f":"Price!F313","v":149.5},null,null,{"$f":"Price!G313","v":7982816},{"$f":"Price!H313","v":"D512405"}]
[{"$f":"IF($C$2=1,L314,IF($C$2=2,L315,IF($C$2=3,L316,IF($C$2=4,\" \",\"  chyba\"))))","v":"Kovový zásuvný prvek C, 550mm, šedý"},{"$f":"IF($C$2=1,M314,IF($C$2=2,M315,IF($C$2=3,M316,IF($C$2=4,\" \",\"  chyba\"))))","v":"Z37A517C"},{"$f":"IF($C$2=1,N314,IF($C$2=2,N315,IF($C$2=3,N316,IF($C$2=4,\" \",\"  chyba\"))))","v":"R906"},{"$f":"IF($C$2=1,O314,IF($C$2=2,O315,IF($C$2=3,O316,IF($C$2=4,\" \",\"  chyba\"))))","v":"!"},{"$f":"IF($C$2=1,P314,IF($C$2=2,P315,IF($C$2=3,P316,IF($C$2=4,\" \",\"  chyba\"))))","v":0},{"$f":"IF($C$2=1,Q314,IF($C$2=2,Q315,IF($C$2=3,Q316,IF($C$2=4,0,\"  chyba\"))))*(100-$F$6)/100","v":160.4},null,null,{"$f":"IF($C$2=1,T314,IF($C$2=2,T315,IF($C$2=3,T316,IF($C$2=4,\" \",\"  chyba\"))))","v":5511982},{"$f":"IF($C$2=1,U314,IF($C$2=2,U315,IF($C$2=3,U316,IF($C$2=4,\" \",\"  chyba\"))))","v":"D493637"},null,{"$f":"Price!A314","v":"Kovový zásuvný prvek C, 550mm, šedý"},{"$f":"Price!B314","v":"Z37A517C"},{"$f":"Price!C314","v":"R906"},{"$f":"Price!D314","v":"!"},{"$f":"Price!E314","v":0},{"$f":"Price!F314","v":160.4},null,null,{"$f":"Price!G314","v":5511982},{"$f":"Price!H314","v":"D493637"}]
[null,null,null,null,null,null,null,null,null,null,null,{"$f":"Price!A315","v":"Kovový zásuvný prvek C, 550mm, hedvábně bílý"},{"$f":"Price!B315","v":"Z37A517C"},{"$f":"Price!C315","v":"SEIW"},{"$f":"Price!D315","v":"!"},{"$f":"Price!E315","v":0},{"$f":"Price!F315","v":160.4},null,null,{"$f":"Price!G315","v":9103982},{"$f":"Price!H315","v":"D493639"}]
[null,null,null,null,null,null,null,null,null,null,null,{"$f":"Price!A316","v":"Kovový zásuvný prvek C, 550mm, černý Terra"},{"$f":"Price!B316","v":"Z37A517C"},{"$f":"Price!C316","v":"TERS"},{"$f":"Price!D316","v":"!"},{"$f":"Price!E316","v":0},{"$f":"Price!F316","v":160.4},null,null,{"$f":"Price!G316","v":1845403},{"$f":"Price!H316","v":"D634160"}]
[{"$f":"IF($C$2=1,L317,IF($C$2=2,L318,IF($C$2=3,L319,IF($C$2=4,\" \",\"  chyba\"))))","v":0},{"$f":"IF($C$2=1,M317,IF($C$2=2,M318,IF($C$2=3,M319,IF($C$2=4,\" \",\"  chyba\"))))","v":0},{"$f":"IF($C$2=1,N317,IF($C$2=2,N318,IF($C$2=3,N319,IF($C$2=4,\" \",\"  chyba\"))))","v":0},{"$f":"IF($C$2=1,O317,IF($C$2=2,O318,IF($C$2=3,O319,IF($C$2=4,\" \",\"  chyba\"))))","v":0},{"$f":"IF($C$2=1,P317,IF($C$2=2,P318,IF($C$2=3,P319,IF($C$2=4,\" \",\"  chyba\"))))","v":0},{"$f":"IF($C$2=1,Q317,IF($C$2=2,Q318,IF($C$2=3,Q319,IF($C$2=4,0,\"  chyba\"))))*(100-$F$6)/100","v":0},null,null,{"$f":"IF($C$2=1,T317,IF($C$2=2,T318,IF($C$2=3,T319,IF($C$2=4,\" \",\"  chyba\"))))","v":0},{"$f":"IF($C$2=1,U317,IF($C$2=2,U318,IF($C$2=3,U319,IF($C$2=4,\" \",\"  chyba\"))))","v":0},null,{"$f":"Price!A317","v":0},{"$f":"Price!B317","v":0},{"$f":"Price!C317","v":0},{"$f":"Price!D317","v":0},{"$f":"Price!E317","v":0},{"$f":"Price!F317","v":0},null,null,{"$f":"Price!G317","v":0},{"$f":"Price!H317","v":0}]
[null,null,null,null,null,null,null,null,null,null,null,{"$f":"Price!A318","v":0},{"$f":"Price!B318","v":0},{"$f":"Price!C318","v":0},{"$f":"Price!D318","v":0},{"$f":"Price!E318","v":0},{"$f":"Price!F318","v":0},null,null,{"$f":"Price!G318","v":0},{"$f":"Price!H318","v":0}]
[null,null,null,null,null,null,null,null,null,null,null,{"$f":"Price!A319","v":0},{"$f":"Price!B319","v":0},{"$f":"Price!C319","v":0},{"$f":"Price!D319","v":0},{"$f":"Price!E319","v":0},{"$f":"Price!F319","v":0},null,null,{"$f":"Price!G319","v":0},{"$f":"Price!H319","v":0}]
[{"$f":"IF($C$2=1,L320,IF($C$2=2,L321,IF($C$2=3,L322,IF($C$2=4,\" \",\"  chyba\"))))","v":"Kovový zásuvný prvek C, 650mm, šedý"},{"$f":"IF($C$2=1,M320,IF($C$2=2,M321,IF($C$2=3,M322,IF($C$2=4,\" \",\"  chyba\"))))","v":"Z37A617C"},{"$f":"IF($C$2=1,N320,IF($C$2=2,N321,IF($C$2=3,N322,IF($C$2=4,\" \",\"  chyba\"))))","v":"R906"},{"$f":"IF($C$2=1,O320,IF($C$2=2,O321,IF($C$2=3,O322,IF($C$2=4,\" \",\"  chyba\"))))","v":"!"},{"$f":"IF($C$2=1,P320,IF($C$2=2,P321,IF($C$2=3,P322,IF($C$2=4,\" \",\"  chyba\"))))","v":0},{"$f":"IF($C$2=1,Q320,IF($C$2=2,Q321,IF($C$2=3,Q322,IF($C$2=4,0,\"  chyba\"))))*(100-$F$6)/100","v":182.4},null,null,{"$f":"IF($C$2=1,T320,IF($C$2=2,T321,IF($C$2=3,T322,IF($C$2=4,\" \",\"  chyba\"))))","v":4040898},{"$f":"IF($C$2=1,U320,IF($C$2=2,U321,IF($C$2=3,U322,IF($C$2=4,\" \",\"  chyba\"))))","v":"D493641"},null,{"$f":"Price!A320","v":"Kovový zásuvný prvek C, 650mm, šedý"},{"$f":"Price!B320","v":"Z37A617C"},{"$f":"Price!C320","v":"R906"},{"$f":"Price!D320","v":"!"},{"$f":"Price!E320","v":0},{"$f":"Price!F320","v":182.4},null,null,{"$f":"Price!G320","v":4040898},{"$f":"Price!H320","v":"D493641"}]
[null,null,null,null,null,null,null,null,null,null,null,{"$f":"Price!A321","v":"Kovový zásuvný prvek C, 650mm, hedvábně bílý"},{"$f":"Price!B321","v":"Z37A617C"},{"$f":"Price!C321","v":"SEIW"},{"$f":"Price!D321","v":"!"},{"$f":"Price!E321","v":0},{"$f":"Price!F321","v":182.4},null,null,{"$f":"Price!G321","v":9177129},{"$f":"Price!H321","v":"D493642"}]
[null,null,null,null,null,null,null,null,null,null,null,{"$f":"Price!A322","v":"Kovový zásuvný prvek C, 650mm, černý Terra"},{"$f":"Price!B322","v":"Z37A617C"},{"$f":"Price!C322","v":"TERS"},{"$f":"Price!D322","v":"!"},{"$f":"Price!E322","v":0},{"$f":"Price!F322","v":182.4},null,null,{"$f":"Price!G322","v":4973064},{"$f":"Price!H322","v":"D634161"}]
[null,null,null,null,null,null,null,null,null,null,null,null,null,null,{"$f":"Price!D323","v":0},{"$f":"Price!E323","v":0}]
[{"$f":"IF($C$2=1,L324,IF($C$2=2,L325,IF($C$2=3,L326, IF($C$2=4, L327, \"  chyba\"))))","v":"Sada držáků zásuvného prvku C, bílošedá"},{"$f":"IF($C$2=1,M324,IF($C$2=2,M325,IF($C$2=3,M326, IF($C$2=4, M327, \"  chyba\"))))","v":"Z36C0080"},{"$f":"IF($C$2=1,N324,IF($C$2=2,N325,IF($C$2=3,N326, IF($C$2=4, N327, \"  chyba\"))))","v":"WGR"},{"$f":"IF($C$2=1,O324,IF($C$2=2,O325,IF($C$2=3,O326, IF($C$2=4, O327, \"  chyba\"))))","v":0},{"$f":"IF($C$2=1,P324,IF($C$2=2,P325,IF($C$2=3,P326, IF($C$2=4, P327, \"  chyba\"))))","v":0},{"$f":"IF($C$2=1,Q324,IF($C$2=2,Q325,IF($C$2=3,Q326, IF($C$2=4, Q327, \"  chyba\"))))*(100-$F$6)/100","v":60.1},null,null,{"$f":"IF($C$2=1,T324,IF($C$2=2,T325,IF($C$2=3,T326, IF($C$2=4, T327, \"  chyba\"))))","v":7602540},{"$f":"IF($C$2=1,U324,IF($C$2=2,U325,IF($C$2=3,U326, IF($C$2=4, U327, \"  chyba\"))))","v":"D503909"},null,{"$f":"Price!A324","v":"Sada držáků zásuvného prvku C, bílošedá"},{"$f":"Price!B324","v":"Z36C0080"},{"$f":"Price!C324","v":"WGR"},{"$f":"Price!D324","v":0},{"$f":"Price!E324","v":0},{"$f":"Price!F324","v":60.1},null,null,{"$f":"Price!G324","v":7602540},{"$f":"Price!H324","v":"D503909"}]
[null,null,null,null,null,null,null,null,null,null,null,{"$f":"Price!A325","v":"Sada držáků zásuvného prvku C, hedvábně bílá"},{"$f":"Price!B325","v":"Z36C0080"},{"$f":"Price!C325","v":"SEIW"},{"$f":"Price!D325","v":0},{"$f":"Price!E325","v":0},{"$f":"Price!F325","v":60.1},null,null,{"$f":"Price!G325","v":1725109},{"$f":"Price!H325","v":"D512159"}]
[null,null,null,null,null,null,null,null,null,null,null,{"$f":"Price!A326","v":"Sada držáků zásuvného prvku C, černá"},{"$f":"Price!B326","v":"Z36C0080"},{"$f":"Price!C326","v":"S "},{"$f":"Price!D326","v":"!"},{"$f":"Price!E326","v":0},{"$f":"Price!F326","v":60.1},null,null,{"$f":"Price!G326","v":6806959},{"$f":"Price!H326","v":"D512408"}]
[null,null,null,null,null,null,null,null,null,null,null,{"$f":"Price!A327","v":"Sada držáků zásuvného prvku C, prachově šedá"},{"$f":"Price!B327","v":"Z36C0080"},{"$f":"Price!C327","v":"R737"},{"$f":"Price!D327","v":"!"},{"$f":"Price!E327","v":0},{"$f":"Price!F327","v":0},null,null,{"$f":"Price!G327","v":4419894},{"$f":"Price!H327","v":"na dotaz"}]
[{"$f":"IF($C$2=1,L328,IF($C$2=2,L329,IF($C$2=3,L330, IF($C$2=4, L331, \"  chyba\"))))","v":"Sada držáků zásuvného prvku D, bílošedá"},{"$f":"IF($C$2=1,M328,IF($C$2=2,M329,IF($C$2=3,M330, IF($C$2=4, M331, \"  chyba\"))))","v":"Z36D0080"},{"$f":"IF($C$2=1,N328,IF($C$2=2,N329,IF($C$2=3,N330, IF($C$2=4, N331, \"  chyba\"))))","v":"WGR"},{"$f":"IF($C$2=1,O328,IF($C$2=2,O329,IF($C$2=3,O330, IF($C$2=4, O331, \"  chyba\"))))","v":0},{"$f":"IF($C$2=1,P328,IF($C$2=2,P329,IF($C$2=3,P330, IF($C$2=4, P331, \"  chyba\"))))","v":0},{"$f":"IF($C$2=1,Q328,IF($C$2=2,Q329,IF($C$2=3,Q330, IF($C$2=4, Q331, \"  chyba\"))))*(100-$F$6)/100","v":63.3},null,null,{"$f":"IF($C$2=1,T328,IF($C$2=2,T329,IF($C$2=3,T330, IF($C$2=4, T331, \"  chyba\"))))","v":1004836},{"$f":"IF($C$2=1,U328,IF($C$2=2,U329,IF($C$2=3,U330, IF($C$2=4, U331, \"  chyba\"))))","v":"D460308"},null,{"$f":"Price!A328","v":"Sada držáků zásuvného prvku D, bílošedá"},{"$f":"Price!B328","v":"Z36D0080"},{"$f":"Price!C328","v":"WGR"},{"$f":"Price!D328","v":0},{"$f":"Price!E328","v":0},{"$f":"Price!F328","v":63.3},null,null,{"$f":"Price!G328","v":1004836},{"$f":"Price!H328","v":"D460308"}]
[null,null,null,null,null,null,null,null,null,null,null,{"$f":"Price!A329","v":"Sada držáků zásuvného prvku D, hedvábně bílá"},{"$f":"Price!B329","v":"Z36D0080"},{"$f":"Price!C329","v":"SEIW"},{"$f":"Price!D329","v":0},{"$f":"Price!E329","v":0},{"$f":"Price!F329","v":63.3},null,null,{"$f":"Price!G329","v":1110359},{"$f":"Price!H329","v":"D460309"}]
[null,null,null,null,null,null,null,null,null,null,null,{"$f":"Price!A330","v":"Sada držáků zásuvného prvku D, černá"},{"$f":"Price!B330","v":"Z36D0080"},{"$f":"Price!C330","v":"S "},{"$f":"Price!D330","v":"!"},{"$f":"Price!E330","v":0},{"$f":"Price!F330","v":63.3},null,null,{"$f":"Price!G330","v":4178837},{"$f":"Price!H330","v":"D512409"}]
[null,null,null,null,null,null,null,null,null,null,null,{"$f":"Price!A331","v":"Sada držáků zásuvného prvku D, prachově šedá"},{"$f":"Price!B331","v":"Z36D0080"},{"$f":"Price!C331","v":"R737"},{"$f":"Price!D331","v":"!"},{"$f":"Price!E331","v":0},{"$f":"Price!F331","v":0},null,null,{"$f":"Price!G331","v":4312103},{"$f":"Price!H331","v":"na dotaz"}]
[null,null,null,null,null,null,null,null,null,null,null,{"$f":"Price!A332","v":0},{"$f":"Price!B332","v":0},{"$f":"Price!C332","v":0},{"$f":"Price!D332","v":0},{"$f":"Price!E332","v":0},{"$f":"Price!F332","v":0},null,null,{"$f":"Price!G332","v":0},{"$f":"Price!H332","v":0}]
[null,null,null,null,null,null,null,null,null,null,null,{"$f":"Price!A333","v":"   SPACE CORNER"},{"$f":"Price!B333","v":0},{"$f":"Price!C333","v":0},{"$f":"Price!D333","v":0},{"$f":"Price!E333","v":0},{"$f":"Price!F333","v":0},null,null,{"$f":"Price!G333","v":0},{"$f":"Price!H333","v":0}]
[{"$f":"IF($C$2=1,L334,IF($C$2=2,L335,IF($C$2=3,L336, IF($C$2=4, L337, \"  chyba\"))))","v":"Sada kování SPACE CORNER, M, šedá"},{"$f":"IF($C$2=1,M334,IF($C$2=2,M335,IF($C$2=3,M336, IF($C$2=4, M337, \"  chyba\"))))","v":"ZSF.340E.M1"},{"$f":"IF($C$2=1,N334,IF($C$2=2,N335,IF($C$2=3,N336, IF($C$2=4, N337, \"  chyba\"))))","v":"ST/6"},{"$f":"IF($C$2=1,O334,IF($C$2=2,O335,IF($C$2=3,O336, IF($C$2=4, O337, \"  chyba\"))))","v":0},{"$f":"IF($C$2=1,P334,IF($C$2=2,P335,IF($C$2=3,P336, IF($C$2=4, P337, \"  chyba\"))))","v":0},{"$f":"IF($C$2=1,Q334,IF($C$2=2,Q335,IF($C$2=3,Q336, IF($C$2=4, Q337, \"  chyba\"))))*(100-$F$6)/100","v":300.2},null,null,{"$f":"IF($C$2=1,T334,IF($C$2=2,T335,IF($C$2=3,T336, IF($C$2=4, T337, \"  chyba\"))))","v":8761550},{"$f":"IF($C$2=1,U334,IF($C$2=2,U335,IF($C$2=3,U336, IF($C$2=4, U337, \"  chyba\"))))","v":"D412703"},null,{"$f":"Price!A334","v":"Sada kování SPACE CORNER, M, šedá"},{"$f":"Price!B334","v":"ZSF.340E.M1"},{"$f":"Price!C334","v":"ST/6"},{"$f":"Price!D334","v":0},{"$f":"Price!E334","v":0},{"$f":"Price!F334","v":300.2},null,null,{"$f":"Price!G334","v":8761550},{"$f":"Price!H334","v":"D412703"}]
[null,null,null,null,null,null,null,null,null,null,null,{"$f":"Price!A335","v":"Sada kování SPACE CORNER, M, hedvábně bílá"},{"$f":"Price!B335","v":"ZSF.340E.M1"},{"$f":"Price!C335","v":"SEIW"},{"$f":"Price!D335","v":0},{"$f":"Price!E335","v":0},{"$f":"Price!F335","v":306.39999999999998},null,null,{"$f":"Price!G335","v":8761552},{"$f":"Price!H335","v":"D686940"}]
[null,null,null,null,null,null,null,null,null,null,null,{"$f":"Price!A336","v":"Sada kování SPACE CORNER, M, černá Terra"},{"$f":"Price!B336","v":"ZSF.340E.M1"},{"$f":"Price!C336","v":"STTS"},{"$f":"Price!D336","v":"!"},{"$f":"Price!E336","v":0},{"$f":"Price!F336","v":0},null,null,{"$f":"Price!G336","v":8761554},{"$f":"Price!H336","v":"na dotaz"}]
[null,null,null,null,null,null,null,null,null,null,null,{"$f":"Price!A337","v":"Sada kování SPACE CORNER, M, nikl"},{"$f":"Price!B337","v":"ZSF.340E.M1"},{"$f":"Price!C337","v":"ST/NI"},{"$f":"Price!D337","v":"!"},{"$f":"Price!E337","v":0},{"$f":"Price!F337","v":0},null,null,{"$f":"Price!G337","v":8761553},{"$f":"Price!H337","v":"na dotaz"}]
[{"$f":"IF($C$2=1,L338,IF($C$2=2,L339,IF($C$2=3,L340, IF($C$2=4, L341, \"  chyba\"))))","v":"Sada kování SPACE CORNER, D, šedá"},{"$f":"IF($C$2=1,M338,IF($C$2=2,M339,IF($C$2=3,M340, IF($C$2=4, M341, \"  chyba\"))))","v":"ZSF.345E.D1"},{"$f":"IF($C$2=1,N338,IF($C$2=2,N339,IF($C$2=3,N340, IF($C$2=4, N341, \"  chyba\"))))","v":"ST/6"},{"$f":"IF($C$2=1,O338,IF($C$2=2,O339,IF($C$2=3,O340, IF($C$2=4, O341, \"  chyba\"))))","v":0},{"$f":"IF($C$2=1,P338,IF($C$2=2,P339,IF($C$2=3,P340, IF($C$2=4, P341, \"  chyba\"))))","v":0},{"$f":"IF($C$2=1,Q338,IF($C$2=2,Q339,IF($C$2=3,Q340, IF($C$2=4, Q341, \"  chyba\"))))*(100-$F$6)/100","v":408.1},null,null,{"$f":"IF($C$2=1,T338,IF($C$2=2,T339,IF($C$2=3,T340, IF($C$2=4, T341, \"  chyba\"))))","v":9149630},{"$f":"IF($C$2=1,U338,IF($C$2=2,U339,IF($C$2=3,U340, IF($C$2=4, U341, \"  chyba\"))))","v":"D551989"},null,{"$f":"Price!A338","v":"Sada kování SPACE CORNER, D, šedá"},{"$f":"Price!B338","v":"ZSF.345E.D1"},{"$f":"Price!C338","v":"ST/6"},{"$f":"Price!D338","v":0},{"$f":"Price!E338","v":0},{"$f":"Price!F338","v":408.1},null,null,{"$f":"Price!G338","v":9149630},{"$f":"Price!H338","v":"D551989"}]
[null,null,null,null,null,null,null,null,null,null,null,{"$f":"Price!A339","v":"Sada kování SPACE CORNER, D, hedvábně bílá"},{"$f":"Price!B339","v":"ZSF.345E.D1"},{"$f":"Price!C339","v":"SEIW"},{"$f":"Price!D339","v":0},{"$f":"Price!E339","v":0},{"$f":"Price!F339","v":414.3},null,null,{"$f":"Price!G339","v":9149632},{"$f":"Price!H339","v":"D686947"}]
[null,null,null,null,null,null,null,null,null,null,null,{"$f":"Price!A340","v":"Sada kování SPACE CORNER, D, černá Terra"},{"$f":"Price!B340","v":"ZSF.345E.D1"},{"$f":"Price!C340","v":"STTS"},{"$f":"Price!D340","v":"!"},{"$f":"Price!E340","v":0},{"$f":"Price!F340","v":0},null,null,{"$f":"Price!G340","v":9149634},{"$f":"Price!H340","v":"D412445"}]
[null,null,null,null,null,null,null,null,null,null,null,{"$f":"Price!A341","v":"Sada kování SPACE CORNER, D, nikl"},{"$f":"Price!B341","v":"ZSF.345E.D1"},{"$f":"Price!C341","v":"ST/NI"},{"$f":"Price!D341","v":"!"},{"$f":"Price!E341","v":0},{"$f":"Price!F341","v":0},null,null,{"$f":"Price!G341","v":9149633},{"$f":"Price!H341","v":"na dotaz"}]
[]
[{"$f":"IF($C$2=1,L343,IF($C$2=2,L344,IF($C$2=3,L343,IF($C$2=4,L343,\"  chyba\"))))","v":"Sada kování SYNCROMOTION, M, šedá"},{"$f":"IF($C$2=1,M343,IF($C$2=2,M344,IF($C$2=3,M343,IF($C$2=4,M343,\"  chyba\"))))","v":"Z33M00E0A6"},"R737",0,0,{"$f":"IF($C$2=1,Q343,IF($C$2=2,Q344,IF($C$2=3,Q343,IF($C$2=4,Q343,\"  chyba\"))))*(100-$F$6)/100","v":1051.7},null,null,7144460,"D100229",null,{"$f":"Price!A343","v":"Sada kování SYNCROMOTION, M, šedá"},{"$f":"Price!B343","v":"Z33M00E0A6"},{"$f":"Price!C343","v":"R737"},{"$f":"Price!D343","v":0},{"$f":"Price!E343","v":0},{"$f":"Price!F343","v":1051.7},null,null,{"$f":"Price!G343","v":7144460},{"$f":"Price!H343","v":"D100229"}]
[null,null,null,null,null,null,null,null,null,null,null,{"$f":"Price!A344","v":"Sada kování SYNCROMOTION, M, hedvábně bílá"},{"$f":"Price!B344","v":"Z33M00E0A6 "},{"$f":"Price!C344","v":"SEIW"},{"$f":"Price!D344","v":0},{"$f":"Price!E344","v":0},{"$f":"Price!F344","v":1063.5999999999999},null,null,{"$f":"Price!G344","v":7144462},{"$f":"Price!H344","v":"D289799"}]
[null,null,null,null,null,null,null,null,null,null,null,{"$f":"Price!A345","v":0},{"$f":"Price!B345","v":0},{"$f":"Price!C345","v":0},{"$f":"Price!D345","v":0},{"$f":"Price!E345","v":0},{"$f":"Price!F345","v":0},null,null,{"$f":"Price!G345","v":0},{"$f":"Price!H345","v":0}]
[{"$f":"IF($C$2=1,L346,IF($C$2=2,L347,IF($C$2=3,L346,IF($C$2=4,L346,\"  chyba\"))))","v":"Sada kování SYNCROMOTION, D, šedá"},{"$f":"IF($C$2=1,M346,IF($C$2=2,M347,IF($C$2=3,M346,IF($C$2=4,M346,\"  chyba\"))))","v":"Z33D00E0A6"},{"$f":"IF($C$2=1,N346,IF($C$2=2,N347,IF($C$2=3,N346,IF($C$2=4,N346,\"  chyba\"))))","v":"R737"},{"$f":"IF($C$2=1,O346,IF($C$2=2,O347,IF($C$2=3,O346,IF($C$2=4,O346,\"  chyba\"))))","v":0},{"$f":"IF($C$2=1,P346,IF($C$2=2,P347,IF($C$2=3,P346,IF($C$2=4,P346,\"  chyba\"))))","v":0},{"$f":"IF($C$2=1,Q346,IF($C$2=2,Q347,IF($C$2=3,Q346,IF($C$2=4,Q346,\"  chyba\"))))*(100-$F$6)/100","v":1414.4},null,null,{"$f":"IF($C$2=1,T346,IF($C$2=2,T347,IF($C$2=3,T346,IF($C$2=4,T346,\"  chyba\"))))","v":7144380},{"$f":"IF($C$2=1,U346,IF($C$2=2,U347,IF($C$2=3,U346,IF($C$2=4,U346,\"  chyba\"))))","v":"D100236"},null,{"$f":"Price!A346","v":"Sada kování SYNCROMOTION, D, šedá"},{"$f":"Price!B346","v":"Z33D00E0A6"},{"$f":"Price!C346","v":"R737"},{"$f":"Price!D346","v":0},{"$f":"Price!E346","v":0},{"$f":"Price!F346","v":1414.4},null,null,{"$f":"Price!G346","v":7144380},{"$f":"Price!H346","v":"D100236"}]
[null,null,null,null,null,null,null,null,null,null,null,{"$f":"Price!A347","v":"Sada kování SYNCROMOTION, D, hedvábně bílá"},{"$f":"Price!B347","v":"Z33D00E0A6"},{"$f":"Price!C347","v":"SEIW"},{"$f":"Price!D347","v":0},{"$f":"Price!E347","v":0},{"$f":"Price!F347","v":1432.9},null,null,{"$f":"Price!G347","v":7144382},{"$f":"Price!H347","v":"D460298"}]
[null,null,null,null,null,null,null,null,null,null,null,null,null,null,{"$f":"Price!D348","v":0},{"$f":"Price!E348","v":0},null,null,null,null,{"$f":"Price!H348","v":0}]
[{"$f":"IF($C$2=1,L349,IF($C$2=2,L350,IF($C$2=3,L351, IF($C$2=4, L352, \"  chyba\"))))","v":"Držáky zadní stěny M SPACE-CORNER, šedé"},{"$f":"IF($C$2=1,M349,IF($C$2=2,M350,IF($C$2=3,M351, IF($C$2=4, M352, \"  chyba\"))))","v":"Z30M000S.45"},{"$f":"IF($C$2=1,N349,IF($C$2=2,N350,IF($C$2=3,N351, IF($C$2=4, N352, \"  chyba\"))))","v":"R906"},{"$f":"IF($C$2=1,O349,IF($C$2=2,O350,IF($C$2=3,O351, IF($C$2=4, O352, \"  chyba\"))))","v":0},{"$f":"IF($C$2=1,P349,IF($C$2=2,P350,IF($C$2=3,P351, IF($C$2=4, P352, \"  chyba\"))))","v":0},{"$f":"IF($C$2=1,Q349,IF($C$2=2,Q350,IF($C$2=3,Q351, IF($C$2=4, Q352, \"  chyba\"))))*(100-$F$6)/100","v":69.5},null,null,{"$f":"IF($C$2=1,T349,IF($C$2=2,T350,IF($C$2=3,T351, IF($C$2=4, T352, \"  chyba\"))))","v":8373549},{"$f":"IF($C$2=1,U349,IF($C$2=2,U350,IF($C$2=3,U351, IF($C$2=4, U352, \"  chyba\"))))","v":"D287140"},null,{"$f":"Price!A349","v":"Držáky zadní stěny M SPACE-CORNER, šedé"},{"$f":"Price!B349","v":"Z30M000S.45"},{"$f":"Price!C349","v":"R906"},{"$f":"Price!D349","v":0},{"$f":"Price!E349","v":0},{"$f":"Price!F349","v":69.5},null,null,{"$f":"Price!G349","v":8373549},{"$f":"Price!H349","v":"D287140"}]
[null,null,null,null,null,null,null,null,null,null,null,{"$f":"Price!A350","v":"Držáky zadní stěny M SPACE-CORNER, hedv.bílé"},{"$f":"Price!B350","v":"Z30M000S.45"},{"$f":"Price!C350","v":"SEIW"},{"$f":"Price!D350","v":0},{"$f":"Price!E350","v":0},{"$f":"Price!F350","v":69.5},null,null,{"$f":"Price!G350","v":3899999},{"$f":"Price!H350","v":"D289789"}]
[null,null,null,null,null,null,null,null,null,null,null,{"$f":"Price!A351","v":"Držáky zadní stěny M SPACE-CORNER, černé Terra"},{"$f":"Price!B351","v":"Z30M000S.45"},{"$f":"Price!C351","v":"TERS"},{"$f":"Price!D351","v":"!"},{"$f":"Price!E351","v":0},{"$f":"Price!F351","v":69.5},null,null,{"$f":"Price!G351","v":4478258},{"$f":"Price!H351","v":"D289790"}]
[null,null,null,null,null,null,null,null,null,null,null,{"$f":"Price!A352","v":"Držáky zadní stěny M SPACE-CORNER, nikl"},{"$f":"Price!B352","v":"Z30M000S.45"},{"$f":"Price!C352","v":"NI"},{"$f":"Price!D352","v":"!"},{"$f":"Price!E352","v":0},{"$f":"Price!F352","v":89.8},null,null,{"$f":"Price!G352","v":8495458},{"$f":"Price!H352","v":"D100237"}]
[{"$f":"IF($C$2=1,L353,IF($C$2=2,L354,IF($C$2=3,L355, IF($C$2=4, L356, \"  chyba\"))))","v":"Držáky zadní stěny D SPACE-CORNER, šedé"},{"$f":"IF($C$2=1,M353,IF($C$2=2,M354,IF($C$2=3,M355, IF($C$2=4, M356, \"  chyba\"))))","v":"Z30D000SL45"},{"$f":"IF($C$2=1,N353,IF($C$2=2,N354,IF($C$2=3,N355, IF($C$2=4, N356, \"  chyba\"))))","v":"R906"},{"$f":"IF($C$2=1,O353,IF($C$2=2,O354,IF($C$2=3,O355, IF($C$2=4, O356, \"  chyba\"))))","v":0},{"$f":"IF($C$2=1,P353,IF($C$2=2,P354,IF($C$2=3,P355, IF($C$2=4, P356, \"  chyba\"))))","v":0},{"$f":"IF($C$2=1,Q353,IF($C$2=2,Q354,IF($C$2=3,Q355, IF($C$2=4, Q356, \"  chyba\"))))*(100-$F$6)/100","v":112.1},null,null,{"$f":"IF($C$2=1,T353,IF($C$2=2,T354,IF($C$2=3,T355, IF($C$2=4, T356, \"  chyba\"))))","v":4597273},{"$f":"IF($C$2=1,U353,IF($C$2=2,U354,IF($C$2=3,U355, IF($C$2=4, U356, \"  chyba\"))))","v":"D287138"},null,{"$f":"Price!A353","v":"Držáky zadní stěny D SPACE-CORNER, šedé"},{"$f":"Price!B353","v":"Z30D000SL45"},{"$f":"Price!C353","v":"R906"},{"$f":"Price!D353","v":0},{"$f":"Price!E353","v":0},{"$f":"Price!F353","v":112.1},null,null,{"$f":"Price!G353","v":4597273},{"$f":"Price!H353","v":"D287138"}]
[null,null,null,null,null,null,null,null,null,null,null,{"$f":"Price!A354","v":"Držáky zadní stěny D SPACE-CORNER, hedv.bílé"},{"$f":"Price!B354","v":"Z30D000SL45"},{"$f":"Price!C354","v":"SEIW"},{"$f":"Price!D354","v":0},{"$f":"Price!E354","v":0},{"$f":"Price!F354","v":112.1},null,null,{"$f":"Price!G354","v":9535289},{"$f":"Price!H354","v":"D289785"}]
[null,null,null,null,null,null,null,null,null,null,null,{"$f":"Price!A355","v":"Držáky zadní stěny D SPACE-CORNER, černé Terra"},{"$f":"Price!B355","v":"Z30D000SL45"},{"$f":"Price!C355","v":"TERS"},{"$f":"Price!D355","v":"!"},{"$f":"Price!E355","v":0},{"$f":"Price!F355","v":112.1},null,null,{"$f":"Price!G355","v":4069104},{"$f":"Price!H355","v":"D289786"}]
[null,null,null,null,null,null,null,null,null,null,null,{"$f":"Price!A356","v":"Držáky zadní stěny D SPACE-CORNER, nikl"},{"$f":"Price!B356","v":"Z30D000SL45"},{"$f":"Price!C356","v":"NI"},{"$f":"Price!D356","v":"!"},{"$f":"Price!E356","v":0},{"$f":"Price!F356","v":167.7},null,null,{"$f":"Price!G356","v":4784474},{"$f":"Price!H356","v":"D100238"}]
[null,null,null,null,null,null,null,null,null,null,null,{"$f":"Price!A357","v":0},{"$f":"Price!B357","v":0},{"$f":"Price!C357","v":0},{"$f":"Price!D357","v":0},{"$f":"Price!E357","v":0},{"$f":"Price!F357","v":0},null,null,{"$f":"Price!G357","v":0},{"$f":"Price!H357","v":0}]
[null,null,null,null,null,null,null,null,null,null,null,{"$f":"Price!A358","v":"   Dřezový výsuv, odpadky"},{"$f":"Price!B358","v":0},{"$f":"Price!C358","v":0},{"$f":"Price!D358","v":0},{"$f":"Price!E358","v":0},{"$f":"Price!F358","v":0},null,null,{"$f":"Price!G358","v":0},{"$f":"Price!H358","v":0}]
[{"$f":"IF($C$2=1,L359,IF($C$2=2,L360,IF($C$2=3,L361, IF($C$2=4, L362, \"  chyba\"))))","v":"Bočnice dřezové, 500 mm, šedé"},{"$f":"IF($C$2=1,M359,IF($C$2=2,M360,IF($C$2=3,M361, IF($C$2=4, M362, \"  chyba\"))))","v":"378M5004SG"},{"$f":"IF($C$2=1,N359,IF($C$2=2,N360,IF($C$2=3,N361, IF($C$2=4, N362, \"  chyba\"))))","v":"WA/G"},{"$f":"IF($C$2=1,O359,IF($C$2=2,O360,IF($C$2=3,O361, IF($C$2=4, O362, \"  chyba\"))))","v":0},{"$f":"IF($C$2=1,P359,IF($C$2=2,P360,IF($C$2=3,P361, IF($C$2=4, P362, \"  chyba\"))))","v":0},{"$f":"IF($C$2=1,Q359,IF($C$2=2,Q360,IF($C$2=3,Q361, IF($C$2=4, Q362, \"  chyba\"))))*(100-$F$6)/100","v":509.4},null,null,{"$f":"IF($C$2=1,T359,IF($C$2=2,T360,IF($C$2=3,T361, IF($C$2=4, T362, \"  chyba\"))))","v":8734707},{"$f":"IF($C$2=1,U359,IF($C$2=2,U360,IF($C$2=3,U361, IF($C$2=4, U362, \"  chyba\"))))","v":"D356964"},null,{"$f":"Price!A359","v":"Bočnice dřezové, 500 mm, šedé"},{"$f":"Price!B359","v":"378M5004SG"},{"$f":"Price!C359","v":"WA/G"},{"$f":"Price!D359","v":0},{"$f":"Price!E359","v":0},{"$f":"Price!F359","v":509.4},null,null,{"$f":"Price!G359","v":8734707},{"$f":"Price!H359","v":"D356964"}]
[null,null,null,null,null,null,null,null,null,null,null,{"$f":"Price!A360","v":"Bočnice dřezové, 500 mm, hedvábně bílé"},{"$f":"Price!B360","v":"378M5004SG"},{"$f":"Price!C360","v":"SW/G"},{"$f":"Price!D360","v":0},{"$f":"Price!E360","v":0},{"$f":"Price!F360","v":509.4},null,null,{"$f":"Price!G360","v":8801547},{"$f":"Price!H360","v":"D460268"}]
[null,null,null,null,null,null,null,null,null,null,null,{"$f":"Price!A361","v":"Bočnice dřezové, 500 mm, černé Terra"},{"$f":"Price!B361","v":"378M5004SG"},{"$f":"Price!C361","v":"TS/G"},{"$f":"Price!D361","v":0},{"$f":"Price!E361","v":0},{"$f":"Price!F361","v":0},null,null,{"$f":"Price!G361","v":8764468},{"$f":"Price!H361","v":"D460269"}]
[null,null,null,null,null,null,null,null,null,null,null,{"$f":"Price!A362","v":"Bočnice dřezové, 500 mm, nerez (Inox)"},{"$f":"Price!B362","v":"378M5004IG"},{"$f":"Price!C362","v":"INGL"},{"$f":"Price!D362","v":"!"},{"$f":"Price!E362","v":0},{"$f":"Price!F362","v":0},null,null,{"$f":"Price!G362","v":9746396},{"$f":"Price!H362","v":"na dotaz"}]
[null,null,null,null,null,null,null,null,null,null,null,{"$f":"Price!A363","v":0},{"$f":"Price!B363","v":0},{"$f":"Price!C363","v":0},{"$f":"Price!D363","v":0},{"$f":"Price!E363","v":0},{"$f":"Price!F363","v":0},null,null,{"$f":"Price!G363","v":0},{"$f":"Price!H363","v":0}]
[null,null,null,null,null,null,null,null,null,null,null,{"$f":"Price!A364","v":0},{"$f":"Price!B364","v":0},{"$f":"Price!C364","v":0},{"$f":"Price!D364","v":0},{"$f":"Price!E364","v":0},{"$f":"Price!F364","v":0},null,null,{"$f":"Price!G364","v":0},{"$f":"Price!H364","v":0}]
[{"$f":"L365","v":"Adaptér příčky dřezového výsuvu"},{"$f":"M365","v":"Z30N0002.6Z"},{"$f":"N365","v":"R737"},{"$f":"O365","v":0},null,{"$f":"Q365*(100-$F$6)/100","v":54},null,null,{"$f":"T365","v":6689160},{"$f":"U365","v":"D055342"},null,{"$f":"Price!A365","v":"Adaptér příčky dřezového výsuvu"},{"$f":"Price!B365","v":"Z30N0002.6Z"},{"$f":"Price!C365","v":"R737"},{"$f":"Price!D365","v":0},{"$f":"Price!E365","v":0},{"$f":"Price!F365","v":54},null,null,{"$f":"Price!G365","v":6689160},{"$f":"Price!H365","v":"D055342"}]
[null,null,null,null,null,null,null,null,null,null,null,{"$f":"Price!A366","v":0},{"$f":"Price!B366","v":0},{"$f":"Price!C366","v":0},{"$f":"Price!D366","v":0},{"$f":"Price!E366","v":0},{"$f":"Price!F366","v":0},null,null,{"$f":"Price!G366","v":0},{"$f":"Price!H366","v":0}]
[null,null,null,null,null,null,null,null,null,null,null,{"$f":"Price!A367","v":"Sada pro zavěšené odp. koše LW 410-414mm, šedá"},{"$f":"Price!B367","v":"Z30M383S0W"},{"$f":"Price!C367","v":"WAWG"},{"$f":"Price!D367","v":0},{"$f":"Price!E367","v":0},{"$f":"Price!F367","v":0},null,null,{"$f":"Price!G367","v":3915505},{"$f":"Price!H367","v":"na dotaz"}]
[null,null,null,null,null,null,null,null,null,null,null,{"$f":"Price!A368","v":"Sada pro zavěšené odp. koše LW 416-420mm, šedá"},{"$f":"Price!B368","v":"Z30M389S0W"},{"$f":"Price!C368","v":"WAWG"},{"$f":"Price!D368","v":0},{"$f":"Price!E368","v":0},{"$f":"Price!F368","v":0},null,null,{"$f":"Price!G368","v":1842529},{"$f":"Price!H368","v":"na dotaz"}]
[null,null,null,null,null,null,null,null,null,null,null,{"$f":"Price!A369","v":"Sada pro zavěšené odp. koše LW 460-464mm, šedá"},{"$f":"Price!B369","v":"Z30M433S0W"},{"$f":"Price!C369","v":"WAWG"},{"$f":"Price!D369","v":0},{"$f":"Price!E369","v":0},{"$f":"Price!F369","v":0},null,null,{"$f":"Price!G369","v":7695504},{"$f":"Price!H369","v":"na dotaz"}]
[null,null,null,null,null,null,null,null,null,null,null,{"$f":"Price!A370","v":"Sada pro zavěšené odp. koše LW 466-470mm, šedá"},{"$f":"Price!B370","v":"Z30M439S0W"},{"$f":"Price!C370","v":"WAWG"},{"$f":"Price!D370","v":0},{"$f":"Price!E370","v":0},{"$f":"Price!F370","v":0},null,null,{"$f":"Price!G370","v":7519915},{"$f":"Price!H370","v":"na dotaz"}]
[null,null,null,null,null,null,null,null,null,null,null,{"$f":"Price!A371","v":"Sada pro zavěšené odp. koše LW 510-514mm, šedá"},{"$f":"Price!B371","v":"Z30M483S0W"},{"$f":"Price!C371","v":"WAWG"},{"$f":"Price!D371","v":0},{"$f":"Price!E371","v":0},{"$f":"Price!F371","v":0},null,null,{"$f":"Price!G371","v":7830104},{"$f":"Price!H371","v":"na dotaz"}]
[null,null,null,null,null,null,null,null,null,null,null,{"$f":"Price!A372","v":"Sada pro zavěšené odp. koše LW 516-520mm, šedá"},{"$f":"Price!B372","v":"Z30M489S0W"},{"$f":"Price!C372","v":"WAWG"},{"$f":"Price!D372","v":0},{"$f":"Price!E372","v":0},{"$f":"Price!F372","v":0},null,null,{"$f":"Price!G372","v":4059564},{"$f":"Price!H372","v":"na dotaz"}]
[null,null,null,null,null,null,null,null,null,null,null,{"$f":"Price!A373","v":"Sada pro zavěšené odp. koše LW 560-564mm, šedá"},{"$f":"Price!B373","v":"Z30M533S0W"},{"$f":"Price!C373","v":"WAWG"},{"$f":"Price!D373","v":0},{"$f":"Price!E373","v":0},{"$f":"Price!F373","v":0},null,null,{"$f":"Price!G373","v":6278623},{"$f":"Price!H373","v":"na dotaz"}]
[null,null,null,null,null,null,null,null,null,null,null,{"$f":"Price!A374","v":"Sada pro zavěšené odp. koše LW 566-570mm, šedá"},{"$f":"Price!B374","v":"Z30M539S0W"},{"$f":"Price!C374","v":"WAWG"},{"$f":"Price!D374","v":0},{"$f":"Price!E374","v":0},{"$f":"Price!F374","v":0},null,null,{"$f":"Price!G374","v":7042924},{"$f":"Price!H374","v":"na dotaz"}]
[null,null,null,null,null,null,null,null,null,null,null,{"$f":"Price!A375","v":"Sada pro zavěšené odp. koše LW 760-764mm, šedá"},{"$f":"Price!B375","v":"Z30M733S0W"},{"$f":"Price!C375","v":"WAWG"},{"$f":"Price!D375","v":0},{"$f":"Price!E375","v":0},{"$f":"Price!F375","v":0},null,null,{"$f":"Price!G375","v":9286690},{"$f":"Price!H375","v":"na dotaz"}]
[null,null,null,null,null,null,null,null,null,null,null,{"$f":"Price!A376","v":"Sada pro zavěšené odp. koše LW 860-864mm, šedá"},{"$f":"Price!B376","v":"Z30M833S0W"},{"$f":"Price!C376","v":"WAWG"},{"$f":"Price!D376","v":0},{"$f":"Price!E376","v":0},{"$f":"Price!F376","v":0},null,null,{"$f":"Price!G376","v":8132340},{"$f":"Price!H376","v":"na dotaz"}]
[null,null,null,null,null,null,null,null,null,null,null,{"$f":"Price!A377","v":"Sada pro zavěšené odp. koše LW 866-870mm, šedá"},{"$f":"Price!B377","v":"Z30M839S0W"},{"$f":"Price!C377","v":"WAWG"},{"$f":"Price!D377","v":0},{"$f":"Price!E377","v":0},{"$f":"Price!F377","v":0},null,null,{"$f":"Price!G377","v":1518239},{"$f":"Price!H377","v":"na dotaz"}]
[null,null,null,null,null,null,null,null,null,null,null,{"$f":"Price!A378","v":0},{"$f":"Price!B378","v":0},{"$f":"Price!C378","v":0},{"$f":"Price!D378","v":0},{"$f":"Price!E378","v":0},{"$f":"Price!F378","v":0},null,null,{"$f":"Price!G378","v":0},{"$f":"Price!H378","v":0}]
[null,null,null,null,null,null,null,null,null,null,null,{"$f":"Price!A379","v":0},{"$f":"Price!B379","v":0},{"$f":"Price!C379","v":0},{"$f":"Price!D379","v":0},{"$f":"Price!E379","v":0},{"$f":"Price!F379","v":0},null,null,{"$f":"Price!G379","v":0},{"$f":"Price!H379","v":0}]
[null,null,null,null,null,null,null,null,null,null,null,{"$f":"Price!A380","v":"   ORGA-LINE sady misek"},{"$f":"Price!B380","v":0},{"$f":"Price!C380","v":0},{"$f":"Price!D380","v":0},{"$f":"Price!E380","v":0},{"$f":"Price!F380","v":0},null,null,{"$f":"Price!G380","v":0},{"$f":"Price!H380","v":0}]
[{"$f":"L381","v":"Sada BI1, 450 mm"},{"$f":"M381","v":"ZSI.450BI1N"},{"$f":"N381","v":"IG/G"},{"$f":"O381","v":0},null,{"$f":"Q381*(100-$F$6)/100","v":709.4},null,null,{"$f":"T381","v":6700230},{"$f":"U381","v":"D369786"},null,{"$f":"Price!A381","v":"Sada BI1, 450 mm"},{"$f":"Price!B381","v":"ZSI.450BI1N"},{"$f":"Price!C381","v":"IG/G"},{"$f":"Price!D381","v":0},{"$f":"Price!E381","v":0},{"$f":"Price!F381","v":709.4},null,null,{"$f":"Price!G381","v":6700230},{"$f":"Price!H381","v":"D369786"}]
[{"$f":"L382","v":"Sada BI1, 500 mm"},{"$f":"M382","v":"ZSI.500BI1N"},{"$f":"N382","v":"IG/G"},{"$f":"O382","v":0},null,{"$f":"Q382*(100-$F$6)/100","v":862.8},null,null,{"$f":"T382","v":6700070},{"$f":"U382","v":"D179221"},null,{"$f":"Price!A382","v":"Sada BI1, 500 mm"},{"$f":"Price!B382","v":"ZSI.500BI1N"},{"$f":"Price!C382","v":"IG/G"},{"$f":"Price!D382","v":0},{"$f":"Price!E382","v":0},{"$f":"Price!F382","v":862.8},null,null,{"$f":"Price!G382","v":6700070},{"$f":"Price!H382","v":"D179221"}]
[{"$f":"L383","v":"Sada BI1, 550 mm"},{"$f":"M383","v":"ZSI.550BI1N"},{"$f":"N383","v":"IG/G"},0,null,{"$f":"Q383*(100-$F$6)/100","v":1035.8},null,null,{"$f":"T383","v":6698800},{"$f":"U383","v":"D658391"},null,{"$f":"Price!A383","v":"Sada BI1, 550 mm"},{"$f":"Price!B383","v":"ZSI.550BI1N"},{"$f":"Price!C383","v":"IG/G"},{"$f":"Price!D383","v":0},{"$f":"Price!E383","v":0},{"$f":"Price!F383","v":1035.8},null,null,{"$f":"Price!G383","v":6698800},{"$f":"Price!H383","v":"D658391"}]
["Sada BI1, 600 mm","ZSI.600BI1N","IG/G",0,null,0,null,null,6699100,"na dotaz",null,{"$f":"Price!A384","v":"Sada BI1, 600 mm"},{"$f":"Price!B384","v":"ZSI.600BI1N"},{"$f":"Price!C384","v":"IG/G"},{"$f":"Price!D384","v":0},{"$f":"Price!E384","v":0},{"$f":"Price!F384","v":0},null,null,{"$f":"Price!G384","v":6699100},{"$f":"Price!H384","v":"na dotaz"}]
["Sada BI1, 650 mm","ZSI.650BI1N","IG/G",0,null,0,null,null,6698230,"na dotaz",null,{"$f":"Price!A385","v":"Sada BI1, 650 mm"},{"$f":"Price!B385","v":"ZSI.650BI1N"},{"$f":"Price!C385","v":"IG/G"},{"$f":"Price!D385","v":0},{"$f":"Price!E385","v":0},{"$f":"Price!F385","v":0},null,null,{"$f":"Price!G385","v":6698230},{"$f":"Price!H385","v":"na dotaz"}]
["Sada BI2, 450 mm","ZSI.450BI2N","IG/G",0,null,927.7,null,null,6699800,"D385670",null,{"$f":"Price!A386","v":"Sada BI2, 450 mm"},{"$f":"Price!B386","v":"ZSI.450BI2N"},{"$f":"Price!C386","v":"IG/G"},{"$f":"Price!D386","v":0},{"$f":"Price!E386","v":0},{"$f":"Price!F386","v":927.7},null,null,{"$f":"Price!G386","v":6699800},{"$f":"Price!H386","v":"D385670"}]
["Sada BI2, 500 mm",{"$f":"M387","v":"ZSI.500BI2N"},{"$f":"N387","v":"IG/G"},0,null,{"$f":"Q387*(100-$F$6)/100","v":1095.4000000000001},null,null,{"$f":"T387","v":6698580},{"$f":"U387","v":"D647139"},null,{"$f":"Price!A387","v":"Sada BI2, 500 mm"},{"$f":"Price!B387","v":"ZSI.500BI2N"},{"$f":"Price!C387","v":"IG/G"},{"$f":"Price!D387","v":0},{"$f":"Price!E387","v":0},{"$f":"Price!F387","v":1095.4000000000001},null,null,{"$f":"Price!G387","v":6698580},{"$f":"Price!H387","v":"D647139"}]
[{"$f":"L388","v":"Sada BI2, 550 mm"},{"$f":"M388","v":"ZSI.550BI2N"},{"$f":"N388","v":"IG/G"},0,null,{"$f":"Q388*(100-$F$6)/100","v":0},null,null,{"$f":"T388","v":6698400},{"$f":"U388","v":"na dotaz"},null,{"$f":"Price!A388","v":"Sada BI2, 550 mm"},{"$f":"Price!B388","v":"ZSI.550BI2N"},{"$f":"Price!C388","v":"IG/G"},{"$f":"Price!D388","v":0},{"$f":"Price!E388","v":0},{"$f":"Price!F388","v":0},null,null,{"$f":"Price!G388","v":6698400},{"$f":"Price!H388","v":"na dotaz"}]
["Sada BI2, 600 mm","ZSI.600BI2N","IG/G",0,null,0,null,null,6699550,"na dotaz",null,{"$f":"Price!A389","v":"Sada BI2, 600 mm"},{"$f":"Price!B389","v":"ZSI.600BI2N"},{"$f":"Price!C389","v":"IG/G"},{"$f":"Price!D389","v":0},{"$f":"Price!E389","v":0},{"$f":"Price!F389","v":0},null,null,{"$f":"Price!G389","v":6699550},{"$f":"Price!H389","v":"na dotaz"}]
["Sada BI2, 650 mm","ZSI.650BI2N","IG/G",0,null,0,null,null,6699470,"na dotaz",null,{"$f":"Price!A390","v":"Sada BI2, 650 mm"},{"$f":"Price!B390","v":"ZSI.650BI2N"},{"$f":"Price!C390","v":"IG/G"},{"$f":"Price!D390","v":0},{"$f":"Price!E390","v":0},{"$f":"Price!F390","v":0},null,null,{"$f":"Price!G390","v":6699470},{"$f":"Price!H390","v":"na dotaz"}]
["Sada BI3, 450 mm","ZSI.450BI3N","IG/G",0,null,1099.2,null,null,6908650,"D369789",null,{"$f":"Price!A391","v":"Sada BI3, 450 mm"},{"$f":"Price!B391","v":"ZSI.450BI3N"},{"$f":"Price!C391","v":"IG/G"},{"$f":"Price!D391","v":0},{"$f":"Price!E391","v":0},{"$f":"Price!F391","v":1099.2},null,null,{"$f":"Price!G391","v":6908650},{"$f":"Price!H391","v":"D369789"}]
["Sada BI3, 500 mm","ZSI.500BI3","IG/G",0,null,1357.8,null,null,3695280,"D123502",null,{"$f":"Price!A392","v":"Sada BI3, 500 mm"},{"$f":"Price!B392","v":"ZSI.500BI3"},{"$f":"Price!C392","v":"IG/G"},{"$f":"Price!D392","v":0},{"$f":"Price!E392","v":0},{"$f":"Price!F392","v":1357.8},null,null,{"$f":"Price!G392","v":3695280},{"$f":"Price!H392","v":"D123502"}]
[{"$f":"L393","v":"Sada BI3, 550 mm"},{"$f":"M393","v":"ZSI.550BI3"},{"$f":"N393","v":"IG/G"},0,null,{"$f":"Q393*(100-$F$6)/100","v":1542.1},null,null,{"$f":"T393","v":3695360},{"$f":"U393","v":"D408278"},null,{"$f":"Price!A393","v":"Sada BI3, 550 mm"},{"$f":"Price!B393","v":"ZSI.550BI3"},{"$f":"Price!C393","v":"IG/G"},{"$f":"Price!D393","v":0},{"$f":"Price!E393","v":0},{"$f":"Price!F393","v":1542.1},null,null,{"$f":"Price!G393","v":3695360},{"$f":"Price!H393","v":"D408278"}]
["Sada BI3, 600 mm","ZSI.600BI3","IG/G",0,null,1820.6,null,null,3700600,"D671806",null,{"$f":"Price!A394","v":"Sada BI3, 600 mm"},{"$f":"Price!B394","v":"ZSI.600BI3"},{"$f":"Price!C394","v":"IG/G"},{"$f":"Price!D394","v":0},{"$f":"Price!E394","v":0},{"$f":"Price!F394","v":1820.6},null,null,{"$f":"Price!G394","v":3700600},{"$f":"Price!H394","v":"D671806"}]
["Sada BI3, 650 mm","ZSI.650BI3","IG/G",0,null,2011.5,null,null,3695500,"D515262",null,{"$f":"Price!A395","v":"Sada BI3, 650 mm"},{"$f":"Price!B395","v":"ZSI.650BI3"},{"$f":"Price!C395","v":"IG/G"},{"$f":"Price!D395","v":0},{"$f":"Price!E395","v":0},{"$f":"Price!F395","v":2011.5},null,null,{"$f":"Price!G395","v":3695500},{"$f":"Price!H395","v":"D515262"}]
["Sada pro SPACE CORNER, NL 600mm","ZSI.450BI3E","IG/G","!",null,0,null,null,6700660,"na dotaz",null,{"$f":"Price!A396","v":"Sada pro SPACE CORNER, NL 600mm"},{"$f":"Price!B396","v":"ZSI.450BI3E"},{"$f":"Price!C396","v":"IG/G"},{"$f":"Price!D396","v":"!"},{"$f":"Price!E396","v":0},{"$f":"Price!F396","v":0},null,null,{"$f":"Price!G396","v":6700660},{"$f":"Price!H396","v":"na dotaz"}]
["Sada pro SPACE CORNER, NL 650mm","ZSI.500BI3E","IG/G",0,null,1461.5,null,null,6700740,"D368247",null,{"$f":"Price!A397","v":"Sada pro SPACE CORNER, NL 650mm"},{"$f":"Price!B397","v":"ZSI.500BI3E"},{"$f":"Price!C397","v":"IG/G"},{"$f":"Price!D397","v":0},{"$f":"Price!E397","v":0},{"$f":"Price!F397","v":1461.5},null,null,{"$f":"Price!G397","v":6700740},{"$f":"Price!H397","v":"D368247"}]
[{"$f":"L398","v":"Sada pro korpus KB 600mm, NL 450mm"},{"$f":"M398","v":"ZSI.60VEI4"},{"$f":"N398","v":"IG/G"},0,null,{"$f":"Q398*(100-$F$6)/100","v":1861.1},null,null,{"$f":"T398","v":6742800},{"$f":"U398","v":"D422878"},null,{"$f":"Price!A398","v":"Sada pro korpus KB 600mm, NL 450mm"},{"$f":"Price!B398","v":"ZSI.60VEI4"},{"$f":"Price!C398","v":"IG/G"},{"$f":"Price!D398","v":0},{"$f":"Price!E398","v":0},{"$f":"Price!F398","v":1861.1},null,null,{"$f":"Price!G398","v":6742800},{"$f":"Price!H398","v":"D422878"}]
["Sada pro korpus KB 600mm, NL 500mm","ZSI.60VEI6","IG/G",0,null,2273.1,null,null,6715400,"D210095",null,{"$f":"Price!A399","v":"Sada pro korpus KB 600mm, NL 500mm"},{"$f":"Price!B399","v":"ZSI.60VEI6"},{"$f":"Price!C399","v":"IG/G"},{"$f":"Price!D399","v":0},{"$f":"Price!E399","v":0},{"$f":"Price!F399","v":2273.1},null,null,{"$f":"Price!G399","v":6715400},{"$f":"Price!H399","v":"D210095"}]
[{"$f":"L400","v":"Sada pro korpus KB 600mm, NL 550mm"},{"$f":"M400","v":"ZSI.60VEI7"},{"$f":"N400","v":"IG/G"},0,null,{"$f":"Q400*(100-$F$6)/100","v":2630.5},null,null,{"$f":"T400","v":6746140},{"$f":"U400","v":"D279776"},null,{"$f":"Price!A400","v":"Sada pro korpus KB 600mm, NL 550mm"},{"$f":"Price!B400","v":"ZSI.60VEI7"},{"$f":"Price!C400","v":"IG/G"},{"$f":"Price!D400","v":0},{"$f":"Price!E400","v":0},{"$f":"Price!F400","v":2630.5},null,null,{"$f":"Price!G400","v":6746140},{"$f":"Price!H400","v":"D279776"}]
["Sada pro korpus KB 900mm, NL 450mm","ZSI.90VEI4","IG/G",0,null,2558.9,null,null,6745760,"D300773",null,{"$f":"Price!A401","v":"Sada pro korpus KB 900mm, NL 450mm"},{"$f":"Price!B401","v":"ZSI.90VEI4"},{"$f":"Price!C401","v":"IG/G"},{"$f":"Price!D401","v":0},{"$f":"Price!E401","v":0},{"$f":"Price!F401","v":2558.9},null,null,{"$f":"Price!G401","v":6745760},{"$f":"Price!H401","v":"D300773"}]
["Sada pro korpus KB 900mm, NL 500mm","ZSI.90VEI6","IG/G",0,null,3104.2,null,null,6720400,"D113801",null,{"$f":"Price!A402","v":"Sada pro korpus KB 900mm, NL 500mm"},{"$f":"Price!B402","v":"ZSI.90VEI6"},{"$f":"Price!C402","v":"IG/G"},{"$f":"Price!D402","v":0},{"$f":"Price!E402","v":0},{"$f":"Price!F402","v":3104.2},null,null,{"$f":"Price!G402","v":6720400},{"$f":"Price!H402","v":"D113801"}]
["Sada pro korpus KB 900mm, NL 550mm","ZSI.90VEI7","IG/G",0,null,0,null,null,6745170,"na dotaz",null,{"$f":"Price!A403","v":"Sada pro korpus KB 900mm, NL 550mm"},{"$f":"Price!B403","v":"ZSI.90VEI7"},{"$f":"Price!C403","v":"IG/G"},{"$f":"Price!D403","v":0},{"$f":"Price!E403","v":0},{"$f":"Price!F403","v":0},null,null,{"$f":"Price!G403","v":6745170},{"$f":"Price!H403","v":"na dotaz"}]
["Sada pro korpus KB 1200mm, NL 450mm","ZSI.12VEI4","IG/G",0,null,0,null,null,6746200,"na dotaz",null,{"$f":"Price!A404","v":"Sada pro korpus KB 1200mm, NL 450mm"},{"$f":"Price!B404","v":"ZSI.12VEI4"},{"$f":"Price!C404","v":"IG/G"},{"$f":"Price!D404","v":0},{"$f":"Price!E404","v":0},{"$f":"Price!F404","v":0},null,null,{"$f":"Price!G404","v":6746200},{"$f":"Price!H404","v":"na dotaz"}]
["Sada pro korpus KB 1200mm, NL 500mm","ZSI.12VEI6","IG/G",0,null,3812.2,null,null,6715770,"D360896",null,{"$f":"Price!A405","v":"Sada pro korpus KB 1200mm, NL 500mm"},{"$f":"Price!B405","v":"ZSI.12VEI6"},{"$f":"Price!C405","v":"IG/G"},{"$f":"Price!D405","v":0},{"$f":"Price!E405","v":0},{"$f":"Price!F405","v":3812.2},null,null,{"$f":"Price!G405","v":6715770},{"$f":"Price!H405","v":"D360896"}]
[{"$f":"L406","v":"Sada pro korpus KB 1200mm, NL 550mm"},{"$f":"M406","v":"ZSI.12VEI7"},{"$f":"N406","v":"IG/G"},0,null,{"$f":"Q406*(100-$F$6)/100","v":0},null,null,{"$f":"T406","v":6742660},{"$f":"U406","v":"na dotaz"},null,{"$f":"Price!A406","v":"Sada pro korpus KB 1200mm, NL 550mm"},{"$f":"Price!B406","v":"ZSI.12VEI7"},{"$f":"Price!C406","v":"IG/G"},{"$f":"Price!D406","v":0},{"$f":"Price!E406","v":0},{"$f":"Price!F406","v":0},null,null,{"$f":"Price!G406","v":6742660},{"$f":"Price!H406","v":"na dotaz"}]
[null,null,null,null,null,null,null,null,null,null,null,{"$f":"Price!A407","v":0},{"$f":"Price!B407","v":0},{"$f":"Price!C407","v":0},{"$f":"Price!D407","v":0},{"$f":"Price!E407","v":0},{"$f":"Price!F407","v":0},null,null,{"$f":"Price!G407","v":0},{"$f":"Price!H407","v":0}]
[null,null,null,null,null,null,null,null,null,null,null,{"$f":"Price!A408","v":"   ORGA-LINE sady rozdělovníků"},{"$f":"Price!B408","v":0},{"$f":"Price!C408","v":0},{"$f":"Price!D408","v":0},{"$f":"Price!E408","v":0},{"$f":"Price!F408","v":0},null,null,{"$f":"Price!G408","v":0},{"$f":"Price!H408","v":0}]
[{"$f":"L409","v":"Sada FI1, 450mm"},{"$f":"M409","v":"ZSI.450FI1"},{"$f":"N409","v":"IG/G"},{"$f":"O409","v":0},null,{"$f":"Q409*(100-$F$6)/100","v":0},null,null,{"$f":"T409","v":3696900},{"$f":"U409","v":"na dotaz"},null,{"$f":"Price!A409","v":"Sada FI1, 450mm"},{"$f":"Price!B409","v":"ZSI.450FI1"},{"$f":"Price!C409","v":"IG/G"},{"$f":"Price!D409","v":0},{"$f":"Price!E409","v":0},{"$f":"Price!F409","v":0},null,null,{"$f":"Price!G409","v":3696900},{"$f":"Price!H409","v":"na dotaz"}]
[{"$f":"L410","v":"Sada FI1, 500mm"},{"$f":"M410","v":"ZSI.500FI1"},"IG/G",{"$f":"O410","v":0},null,{"$f":"Q410*(100-$F$6)/100","v":671.4},null,null,{"$f":"T410","v":3866780},"D650049",null,{"$f":"Price!A410","v":"Sada FI1, 500mm"},{"$f":"Price!B410","v":"ZSI.500FI1"},{"$f":"Price!C410","v":"IG/G"},{"$f":"Price!D410","v":0},{"$f":"Price!E410","v":0},{"$f":"Price!F410","v":671.4},null,null,{"$f":"Price!G410","v":3866780},{"$f":"Price!H410","v":"D650049"}]
[{"$f":"L411","v":"Sada FI1, 550mm"},{"$f":"M411","v":"ZSI.550FI1"},{"$f":"N411","v":"IG/G"},0,null,{"$f":"Q411*(100-$F$6)/100","v":0},null,null,{"$f":"T411","v":3697200},{"$f":"U411","v":"na dotaz"},null,{"$f":"Price!A411","v":"Sada FI1, 550mm"},{"$f":"Price!B411","v":"ZSI.550FI1"},{"$f":"Price!C411","v":"IG/G"},{"$f":"Price!D411","v":0},{"$f":"Price!E411","v":0},{"$f":"Price!F411","v":0},null,null,{"$f":"Price!G411","v":3697200},{"$f":"Price!H411","v":"na dotaz"}]
["Sada FI1, 600mm","ZSI.600FI1","IG/G",0,null,0,null,null,3867300,"na dotaz",null,{"$f":"Price!A412","v":"Sada FI1, 600mm"},{"$f":"Price!B412","v":"ZSI.600FI1"},{"$f":"Price!C412","v":"IG/G"},{"$f":"Price!D412","v":0},{"$f":"Price!E412","v":0},{"$f":"Price!F412","v":0},null,null,{"$f":"Price!G412","v":3867300},{"$f":"Price!H412","v":"na dotaz"}]
["Sada FI1, 650mm","ZSI.650FI1","IG/G",0,null,0,null,null,3867080,"na dotaz",null,{"$f":"Price!A413","v":"Sada FI1, 650mm"},{"$f":"Price!B413","v":"ZSI.650FI1"},{"$f":"Price!C413","v":"IG/G"},{"$f":"Price!D413","v":0},{"$f":"Price!E413","v":0},{"$f":"Price!F413","v":0},null,null,{"$f":"Price!G413","v":3867080},{"$f":"Price!H413","v":"na dotaz"}]
["Sada FI2, 450mm","ZSI.450FI2N","IG/G",0,null,641.79999999999995,null,null,6702360,"D421696",null,{"$f":"Price!A414","v":"Sada FI2, 450mm"},{"$f":"Price!B414","v":"ZSI.450FI2N"},{"$f":"Price!C414","v":"IG/G"},{"$f":"Price!D414","v":0},{"$f":"Price!E414","v":0},{"$f":"Price!F414","v":641.79999999999995},null,null,{"$f":"Price!G414","v":6702360},{"$f":"Price!H414","v":"D421696"}]
["Sada FI2, 500mm","ZSI.500FI2N","IG/G",0,null,697.7,null,null,6702440,"D190862",null,{"$f":"Price!A415","v":"Sada FI2, 500mm"},{"$f":"Price!B415","v":"ZSI.500FI2N"},{"$f":"Price!C415","v":"IG/G"},{"$f":"Price!D415","v":0},{"$f":"Price!E415","v":0},{"$f":"Price!F415","v":697.7},null,null,{"$f":"Price!G415","v":6702440},{"$f":"Price!H415","v":"D190862"}]
[{"$f":"L416","v":"Sada FI2, 550mm"},{"$f":"M416","v":"ZSI.550FI2N"},{"$f":"N416","v":"IG/G"},0,null,{"$f":"Q416*(100-$F$6)/100","v":0},null,null,{"$f":"T416","v":6702280},{"$f":"U416","v":"na dotaz"},null,{"$f":"Price!A416","v":"Sada FI2, 550mm"},{"$f":"Price!B416","v":"ZSI.550FI2N"},{"$f":"Price!C416","v":"IG/G"},{"$f":"Price!D416","v":0},{"$f":"Price!E416","v":0},{"$f":"Price!F416","v":0},null,null,{"$f":"Price!G416","v":6702280},{"$f":"Price!H416","v":"na dotaz"}]
["Sada FI2, 600mm","ZSI.600FI2N","IG/G",0,null,1174.7,null,null,6701470,"D634098",null,{"$f":"Price!A417","v":"Sada FI2, 600mm"},{"$f":"Price!B417","v":"ZSI.600FI2N"},{"$f":"Price!C417","v":"IG/G"},{"$f":"Price!D417","v":0},{"$f":"Price!E417","v":0},{"$f":"Price!F417","v":1174.7},null,null,{"$f":"Price!G417","v":6701470},{"$f":"Price!H417","v":"D634098"}]
["Sada FI2, 650mm","ZSI.650FI2N","IG/G",0,null,1222.9000000000001,null,null,6702100,"D515265",null,{"$f":"Price!A418","v":"Sada FI2, 650mm"},{"$f":"Price!B418","v":"ZSI.650FI2N"},{"$f":"Price!C418","v":"IG/G"},{"$f":"Price!D418","v":0},{"$f":"Price!E418","v":0},{"$f":"Price!F418","v":1222.9000000000001},null,null,{"$f":"Price!G418","v":6702100},{"$f":"Price!H418","v":"D515265"}]
["Sada FI3, 450mm","ZSI.450FI3","IG/G",0,null,935.1,null,null,3696680,"D376004",null,{"$f":"Price!A419","v":"Sada FI3, 450mm"},{"$f":"Price!B419","v":"ZSI.450FI3"},{"$f":"Price!C419","v":"IG/G"},{"$f":"Price!D419","v":0},{"$f":"Price!E419","v":0},{"$f":"Price!F419","v":935.1},null,null,{"$f":"Price!G419","v":3696680},{"$f":"Price!H419","v":"D376004"}]
["Sada FI3, 500mm","ZSI.500FI3","IG/G",0,null,1019.1,null,null,3866940,"D123503",null,{"$f":"Price!A420","v":"Sada FI3, 500mm"},{"$f":"Price!B420","v":"ZSI.500FI3"},{"$f":"Price!C420","v":"IG/G"},{"$f":"Price!D420","v":0},{"$f":"Price!E420","v":0},{"$f":"Price!F420","v":1019.1},null,null,{"$f":"Price!G420","v":3866940},{"$f":"Price!H420","v":"D123503"}]
[{"$f":"L421","v":"Sada FI3, 550mm"},{"$f":"M421","v":"ZSI.550FI3"},{"$f":"N421","v":"IG/G"},0,null,{"$f":"Q421*(100-$F$6)/100","v":1281.7},null,null,{"$f":"T421","v":3696840},{"$f":"U421","v":"D408279"},null,{"$f":"Price!A421","v":"Sada FI3, 550mm"},{"$f":"Price!B421","v":"ZSI.550FI3"},{"$f":"Price!C421","v":"IG/G"},{"$f":"Price!D421","v":0},{"$f":"Price!E421","v":0},{"$f":"Price!F421","v":1281.7},null,null,{"$f":"Price!G421","v":3696840},{"$f":"Price!H421","v":"D408279"}]
["Sada FI3, 600mm","ZSI.600FI3","IG/G",0,null,1626.1,null,null,3700890,"D634099",null,{"$f":"Price!A422","v":"Sada FI3, 600mm"},{"$f":"Price!B422","v":"ZSI.600FI3"},{"$f":"Price!C422","v":"IG/G"},{"$f":"Price!D422","v":0},{"$f":"Price!E422","v":0},{"$f":"Price!F422","v":1626.1},null,null,{"$f":"Price!G422","v":3700890},{"$f":"Price!H422","v":"D634099"}]
["Sada FI3, 650mm","ZSI.650FI3","IG/G",0,null,1888.7,null,null,3867240,"D515266",null,{"$f":"Price!A423","v":"Sada FI3, 650mm"},{"$f":"Price!B423","v":"ZSI.650FI3"},{"$f":"Price!C423","v":"IG/G"},{"$f":"Price!D423","v":0},{"$f":"Price!E423","v":0},{"$f":"Price!F423","v":1888.7},null,null,{"$f":"Price!G423","v":3867240},{"$f":"Price!H423","v":"D515266"}]
["Sada pro korpus KB 600mm, NL 450mm","ZSI.60VUI4","IG/G",0,null,1813.7,null,null,6748430,"D500177",null,{"$f":"Price!A424","v":"Sada pro korpus KB 600mm, NL 450mm"},{"$f":"Price!B424","v":"ZSI.60VUI4"},{"$f":"Price!C424","v":"IG/G"},{"$f":"Price!D424","v":0},{"$f":"Price!E424","v":0},{"$f":"Price!F424","v":1813.7},null,null,{"$f":"Price!G424","v":6748430},{"$f":"Price!H424","v":"D500177"}]
["Sada pro korpus KB 600mm, NL 500mm","ZSI.60VUI6","IG/G",0,null,2148.6,null,null,6747970,"D194784",null,{"$f":"Price!A425","v":"Sada pro korpus KB 600mm, NL 500mm"},{"$f":"Price!B425","v":"ZSI.60VUI6"},{"$f":"Price!C425","v":"IG/G"},{"$f":"Price!D425","v":0},{"$f":"Price!E425","v":0},{"$f":"Price!F425","v":2148.6},null,null,{"$f":"Price!G425","v":6747970},{"$f":"Price!H425","v":"D194784"}]
[{"$f":"L426","v":"Sada pro korpus KB 600mm, NL 550mm"},{"$f":"M426","v":"ZSI.60VUI7"},{"$f":"N426","v":"IG/G"},0,null,{"$f":"Q426*(100-$F$6)/100","v":0},null,null,{"$f":"T426","v":6747890},{"$f":"U426","v":"na dotaz"},null,{"$f":"Price!A426","v":"Sada pro korpus KB 600mm, NL 550mm"},{"$f":"Price!B426","v":"ZSI.60VUI7"},{"$f":"Price!C426","v":"IG/G"},{"$f":"Price!D426","v":0},{"$f":"Price!E426","v":0},{"$f":"Price!F426","v":0},null,null,{"$f":"Price!G426","v":6747890},{"$f":"Price!H426","v":"na dotaz"}]
["Sada pro korpus KB 900mm, NL 450 mm","ZSI.90VUI4","IG/G",0,null,2558.9,null,null,6745760,"D300773",null,{"$f":"Price!A427","v":"Sada pro korpus KB 900mm, NL 450 mm"},{"$f":"Price!B427","v":"ZSI.90VUI4"},{"$f":"Price!C427","v":"IG/G"},{"$f":"Price!D427","v":0},{"$f":"Price!E427","v":0},{"$f":"Price!F427","v":2558.9},null,null,{"$f":"Price!G427","v":6745760},{"$f":"Price!H427","v":"D300773"}]
["Sada pro korpus KB 900mm, NL 500 mm","ZSI.90VUI6","IG/G",0,null,2894,null,null,6751060,"D315682",null,{"$f":"Price!A428","v":"Sada pro korpus KB 900mm, NL 500 mm"},{"$f":"Price!B428","v":"ZSI.90VUI6"},{"$f":"Price!C428","v":"IG/G"},{"$f":"Price!D428","v":0},{"$f":"Price!E428","v":0},{"$f":"Price!F428","v":2894},null,null,{"$f":"Price!G428","v":6751060},{"$f":"Price!H428","v":"D315682"}]
["Sada pro korpus KB 900mm, NL 550 mm","ZSI.90VUI7","IG/G",0,null,0,null,null,6745170,"na dotaz",null,{"$f":"Price!A429","v":"Sada pro korpus KB 900mm, NL 550 mm"},{"$f":"Price!B429","v":"ZSI.90VUI7"},{"$f":"Price!C429","v":"IG/G"},{"$f":"Price!D429","v":0},{"$f":"Price!E429","v":0},{"$f":"Price!F429","v":0},null,null,{"$f":"Price!G429","v":6745170},{"$f":"Price!H429","v":"na dotaz"}]
[{"$f":"L430","v":"Sada pro korpus KB 1200mm, NL 450mm"},{"$f":"M430","v":"ZSI.12VUI4"},{"$f":"N430","v":"IG/G"},0,null,{"$f":"Q430*(100-$F$6)/100","v":0},null,null,{"$f":"T430","v":6750170},{"$f":"U430","v":"na dotaz"},null,{"$f":"Price!A430","v":"Sada pro korpus KB 1200mm, NL 450mm"},{"$f":"Price!B430","v":"ZSI.12VUI4"},{"$f":"Price!C430","v":"IG/G"},{"$f":"Price!D430","v":0},{"$f":"Price!E430","v":0},{"$f":"Price!F430","v":0},null,null,{"$f":"Price!G430","v":6750170},{"$f":"Price!H430","v":"na dotaz"}]
["Sada pro korpus KB 1200mm, NL 500mm","ZSI.12VUI6","IG/G",0,null,3193.3,null,null,6749830,"D220807",null,{"$f":"Price!A431","v":"Sada pro korpus KB 1200mm, NL 500mm"},{"$f":"Price!B431","v":"ZSI.12VUI6"},{"$f":"Price!C431","v":"IG/G"},{"$f":"Price!D431","v":0},{"$f":"Price!E431","v":0},{"$f":"Price!F431","v":3193.3},null,null,{"$f":"Price!G431","v":6749830},{"$f":"Price!H431","v":"D220807"}]
["Sada pro korpus KB 1200mm, NL 550mm","ZSI.12VUI7","IG/G",0,null,0,null,null,6750900,"na dotaz",null,{"$f":"Price!A432","v":"Sada pro korpus KB 1200mm, NL 550mm"},{"$f":"Price!B432","v":"ZSI.12VUI7"},{"$f":"Price!C432","v":"IG/G"},{"$f":"Price!D432","v":0},{"$f":"Price!E432","v":0},{"$f":"Price!F432","v":0},null,null,{"$f":"Price!G432","v":6750900},{"$f":"Price!H432","v":"na dotaz"}]
[null,null,null,null,null,null,null,null,null,null,null,{"$f":"Price!A433","v":0},{"$f":"Price!B433","v":0},{"$f":"Price!C433","v":0},{"$f":"Price!D433","v":0},{"$f":"Price!E433","v":0},{"$f":"Price!F433","v":0},null,null,{"$f":"Price!G433","v":0},{"$f":"Price!H433","v":0}]
[null,null,null,null,null,null,null,null,null,null,null,{"$f":"Price!A434","v":"   ORGA-LINE sady Kombi"},{"$f":"Price!B434","v":0},{"$f":"Price!C434","v":0},{"$f":"Price!D434","v":0},{"$f":"Price!E434","v":0},{"$f":"Price!F434","v":0},null,null,{"$f":"Price!G434","v":0},{"$f":"Price!H434","v":0}]
[{"$f":"L435","v":"Sada KI2, 450mm"},{"$f":"M435","v":"ZSI.450KI2N"},{"$f":"N435","v":"IG/G"},{"$f":"O435","v":0},null,{"$f":"Q435*(100-$F$6)/100","v":1039.5999999999999},null,null,{"$f":"T435","v":6698150},{"$f":"U435","v":"D571634"},null,{"$f":"Price!A435","v":"Sada KI2, 450mm"},{"$f":"Price!B435","v":"ZSI.450KI2N"},{"$f":"Price!C435","v":"IG/G"},{"$f":"Price!D435","v":0},{"$f":"Price!E435","v":0},{"$f":"Price!F435","v":1039.5999999999999},null,null,{"$f":"Price!G435","v":6698150},{"$f":"Price!H435","v":"D571634"}]
[{"$f":"L436","v":"Sada KI2, 500mm"},{"$f":"M436","v":"ZSI.500KI2N"},{"$f":"N436","v":"IG/G"},{"$f":"O436","v":0},null,{"$f":"Q436*(100-$F$6)/100","v":1221},null,null,{"$f":"T436","v":6700580},{"$f":"U436","v":"D187456"},null,{"$f":"Price!A436","v":"Sada KI2, 500mm"},{"$f":"Price!B436","v":"ZSI.500KI2N"},{"$f":"Price!C436","v":"IG/G"},{"$f":"Price!D436","v":0},{"$f":"Price!E436","v":0},{"$f":"Price!F436","v":1221},null,null,{"$f":"Price!G436","v":6700580},{"$f":"Price!H436","v":"D187456"}]
[{"$f":"L437","v":"Sada KI2, 550mm"},{"$f":"M437","v":"ZSI.550KI2N"},{"$f":"N437","v":"IG/G"},0,null,{"$f":"Q437*(100-$F$6)/100","v":0},null,null,{"$f":"T437","v":6700150},{"$f":"U437","v":"na dotaz"},null,{"$f":"Price!A437","v":"Sada KI2, 550mm"},{"$f":"Price!B437","v":"ZSI.550KI2N"},{"$f":"Price!C437","v":"IG/G"},{"$f":"Price!D437","v":0},{"$f":"Price!E437","v":0},{"$f":"Price!F437","v":0},null,null,{"$f":"Price!G437","v":6700150},{"$f":"Price!H437","v":"na dotaz"}]
["Sada KI2, 600mm","ZSI.600KI2N","IG/G",0,null,0,null,null,6699390,"na dotaz",null,{"$f":"Price!A438","v":"Sada KI2, 600mm"},{"$f":"Price!B438","v":"ZSI.600KI2N"},{"$f":"Price!C438","v":"IG/G"},{"$f":"Price!D438","v":0},{"$f":"Price!E438","v":0},{"$f":"Price!F438","v":0},null,null,{"$f":"Price!G438","v":6699390},{"$f":"Price!H438","v":"na dotaz"}]
["Sada KI2, 650mm","ZSI.650KI2N","IG/G",0,null,0,null,null,6701100,"na dotaz",null,{"$f":"Price!A439","v":"Sada KI2, 650mm"},{"$f":"Price!B439","v":"ZSI.650KI2N"},{"$f":"Price!C439","v":"IG/G"},{"$f":"Price!D439","v":0},{"$f":"Price!E439","v":0},{"$f":"Price!F439","v":0},null,null,{"$f":"Price!G439","v":6701100},{"$f":"Price!H439","v":"na dotaz"}]
["Sada KI3, 450mm","ZSI.450KI3N","IG/G",0,null,1065.9000000000001,null,null,6700800,"D543207",null,{"$f":"Price!A440","v":"Sada KI3, 450mm"},{"$f":"Price!B440","v":"ZSI.450KI3N"},{"$f":"Price!C440","v":"IG/G"},{"$f":"Price!D440","v":0},{"$f":"Price!E440","v":0},{"$f":"Price!F440","v":1065.9000000000001},null,null,{"$f":"Price!G440","v":6700800},{"$f":"Price!H440","v":"D543207"}]
["Sada KI3, 500mm","ZSI.500KI3N","IG/G",0,null,1247.4000000000001,null,null,6701390,"D471253",null,{"$f":"Price!A441","v":"Sada KI3, 500mm"},{"$f":"Price!B441","v":"ZSI.500KI3N"},{"$f":"Price!C441","v":"IG/G"},{"$f":"Price!D441","v":0},{"$f":"Price!E441","v":0},{"$f":"Price!F441","v":1247.4000000000001},null,null,{"$f":"Price!G441","v":6701390},{"$f":"Price!H441","v":"D471253"}]
["Sada KI3, 550mm","ZSI.550KI3N","IG/G",0,null,1507.9,null,null,6701980,"D408280",null,{"$f":"Price!A442","v":"Sada KI3, 550mm"},{"$f":"Price!B442","v":"ZSI.550KI3N"},{"$f":"Price!C442","v":"IG/G"},{"$f":"Price!D442","v":0},{"$f":"Price!E442","v":0},{"$f":"Price!F442","v":1507.9},null,null,{"$f":"Price!G442","v":6701980},{"$f":"Price!H442","v":"D408280"}]
["Sada KI3, 600mm","ZSI.600KI3N","IG/G",0,null,0,null,null,6701800,"na dotaz",null,{"$f":"Price!A443","v":"Sada KI3, 600mm"},{"$f":"Price!B443","v":"ZSI.600KI3N"},{"$f":"Price!C443","v":"IG/G"},{"$f":"Price!D443","v":0},{"$f":"Price!E443","v":0},{"$f":"Price!F443","v":0},null,null,{"$f":"Price!G443","v":6701800},{"$f":"Price!H443","v":"na dotaz"}]
["Sada KI3, 650mm","ZSI.650KI3N","IG/G",0,null,0,null,null,6702790,"na dotaz",null,{"$f":"Price!A444","v":"Sada KI3, 650mm"},{"$f":"Price!B444","v":"ZSI.650KI3N"},{"$f":"Price!C444","v":"IG/G"},{"$f":"Price!D444","v":0},{"$f":"Price!E444","v":0},{"$f":"Price!F444","v":0},null,null,{"$f":"Price!G444","v":6702790},{"$f":"Price!H444","v":"na dotaz"}]
["Sada KI4, 450mm","ZSI.450KI4N","IG/G",0,null,1451.7,null,null,6701630,"D391337",null,{"$f":"Price!A445","v":"Sada KI4, 450mm"},{"$f":"Price!B445","v":"ZSI.450KI4N"},{"$f":"Price!C445","v":"IG/G"},{"$f":"Price!D445","v":0},{"$f":"Price!E445","v":0},{"$f":"Price!F445","v":1451.7},null,null,{"$f":"Price!G445","v":6701630},{"$f":"Price!H445","v":"D391337"}]
["Sada KI4, 500mm","ZSI.500KI4","IG/G",0,null,1738.3,null,null,3777170,"D277937",null,{"$f":"Price!A446","v":"Sada KI4, 500mm"},{"$f":"Price!B446","v":"ZSI.500KI4"},{"$f":"Price!C446","v":"IG/G"},{"$f":"Price!D446","v":0},{"$f":"Price!E446","v":0},{"$f":"Price!F446","v":1738.3},null,null,{"$f":"Price!G446","v":3777170},{"$f":"Price!H446","v":"D277937"}]
["Sada KI4, 550mm","ZSI.550KI4","IG/G",0,null,2010.2,null,null,3777680,"D408281",null,{"$f":"Price!A447","v":"Sada KI4, 550mm"},{"$f":"Price!B447","v":"ZSI.550KI4"},{"$f":"Price!C447","v":"IG/G"},{"$f":"Price!D447","v":0},{"$f":"Price!E447","v":0},{"$f":"Price!F447","v":2010.2},null,null,{"$f":"Price!G447","v":3777680},{"$f":"Price!H447","v":"D408281"}]
["Sada KI4, 600mm","ZSI.600KI4","IG/G",0,null,0,null,null,3890730,"na dotaz",null,{"$f":"Price!A448","v":"Sada KI4, 600mm"},{"$f":"Price!B448","v":"ZSI.600KI4"},{"$f":"Price!C448","v":"IG/G"},{"$f":"Price!D448","v":0},{"$f":"Price!E448","v":0},{"$f":"Price!F448","v":0},null,null,{"$f":"Price!G448","v":3890730},{"$f":"Price!H448","v":"na dotaz"}]
["Sada KI4, 650mm","ZSI.650KI4","IG/G",0,null,0,null,null,3865890,"na dotaz",null,{"$f":"Price!A449","v":"Sada KI4, 650mm"},{"$f":"Price!B449","v":"ZSI.650KI4"},{"$f":"Price!C449","v":"IG/G"},{"$f":"Price!D449","v":0},{"$f":"Price!E449","v":0},{"$f":"Price!F449","v":0},null,null,{"$f":"Price!G449","v":3865890},{"$f":"Price!H449","v":"na dotaz"}]
["Sada MI3, 450mm","ZSI.450MI2","IG/G",0,null,0,null,null,3776500,"na dotaz",null,{"$f":"Price!A450","v":"Sada MI3, 450mm"},{"$f":"Price!B450","v":"ZSI.450MI2"},{"$f":"Price!C450","v":"IG/G"},{"$f":"Price!D450","v":0},{"$f":"Price!E450","v":0},{"$f":"Price!F450","v":0},null,null,{"$f":"Price!G450","v":3776500},{"$f":"Price!H450","v":"na dotaz"}]
["Sada MI3, 500mm","ZSI.500MI3","IG/G",0,null,1867.6,null,null,3777090,"D113798",null,{"$f":"Price!A451","v":"Sada MI3, 500mm"},{"$f":"Price!B451","v":"ZSI.500MI3"},{"$f":"Price!C451","v":"IG/G"},{"$f":"Price!D451","v":0},{"$f":"Price!E451","v":0},{"$f":"Price!F451","v":1867.6},null,null,{"$f":"Price!G451","v":3777090},{"$f":"Price!H451","v":"D113798"}]
["Sada MI3, 550mm","ZSI.550MI3","IG/G",0,null,2215.6,null,null,3777500,"D408283",null,{"$f":"Price!A452","v":"Sada MI3, 550mm"},{"$f":"Price!B452","v":"ZSI.550MI3"},{"$f":"Price!C452","v":"IG/G"},{"$f":"Price!D452","v":0},{"$f":"Price!E452","v":0},{"$f":"Price!F452","v":2215.6},null,null,{"$f":"Price!G452","v":3777500},{"$f":"Price!H452","v":"D408283"}]
["Sada MI3, 600mm","ZSI.600MI3","IG/G",0,null,2568.9,null,null,3890650,"D628507",null,{"$f":"Price!A453","v":"Sada MI3, 600mm"},{"$f":"Price!B453","v":"ZSI.600MI3"},{"$f":"Price!C453","v":"IG/G"},{"$f":"Price!D453","v":0},{"$f":"Price!E453","v":0},{"$f":"Price!F453","v":2568.9},null,null,{"$f":"Price!G453","v":3890650},{"$f":"Price!H453","v":"D628507"}]
["Sada MI3, 650mm","ZSI.650MI3","IG/G",0,null,0,null,null,3865600,"na dotaz",null,{"$f":"Price!A454","v":"Sada MI3, 650mm"},{"$f":"Price!B454","v":"ZSI.650MI3"},{"$f":"Price!C454","v":"IG/G"},{"$f":"Price!D454","v":0},{"$f":"Price!E454","v":0},{"$f":"Price!F454","v":0},null,null,{"$f":"Price!G454","v":3865600},{"$f":"Price!H454","v":"na dotaz"}]
[null,null,null,null,null,null,null,null,null,null,null,null,null,null,{"$f":"Price!D455","v":0},{"$f":"Price!E455","v":0}]
[null,null,null,null,null,null,null,null,null,null,null,{"$f":"Price!A456","v":"   ORGA-LINE doplňky"},{"$f":"Price!B456","v":0},{"$f":"Price!C456","v":0},{"$f":"Price!D456","v":0},{"$f":"Price!E456","v":0},{"$f":"Price!F456","v":0},null,null,{"$f":"Price!G456","v":0},{"$f":"Price!H456","v":0}]
[{"$f":"L457","v":"Miska 88x88mm"},{"$f":"M457","v":"ZSI.010SI"},{"$f":"N457","v":"IG/G"},{"$f":"O457","v":0},null,{"$f":"Q457*(100-$F$6)/100","v":93.3},null,null,{"$f":"T457","v":5726900},{"$f":"U457","v":"D384520"},null,{"$f":"Price!A457","v":"Miska 88x88mm"},{"$f":"Price!B457","v":"ZSI.010SI"},{"$f":"Price!C457","v":"IG/G"},{"$f":"Price!D457","v":0},{"$f":"Price!E457","v":0},{"$f":"Price!F457","v":93.3},null,null,{"$f":"Price!G457","v":5726900},{"$f":"Price!H457","v":"D384520"}]
["Miska 88x176mm","ZSI.020SI","IG/G",{"$f":"O458","v":0},null,113.4,null,null,5728380,"D136150",null,{"$f":"Price!A458","v":"Miska 88x176mm"},{"$f":"Price!B458","v":"ZSI.020SI"},{"$f":"Price!C458","v":"IG/G"},{"$f":"Price!D458","v":0},{"$f":"Price!E458","v":0},{"$f":"Price!F458","v":113.4},null,null,{"$f":"Price!G458","v":5728380},{"$f":"Price!H458","v":"D136150"}]
["Miska 88x264mm","ZSI.030SI","IG/G",0,null,129.4,null,null,5729510,"D136151",null,{"$f":"Price!A459","v":"Miska 88x264mm"},{"$f":"Price!B459","v":"ZSI.030SI"},{"$f":"Price!C459","v":"IG/G"},{"$f":"Price!D459","v":0},{"$f":"Price!E459","v":0},{"$f":"Price!F459","v":129.4},null,null,{"$f":"Price!G459","v":5729510},{"$f":"Price!H459","v":"D136151"}]
["Miska 88x352mm","ZSI.040SI","IG/G",0,null,210.1,null,null,5729780,"D383080",null,{"$f":"Price!A460","v":"Miska 88x352mm"},{"$f":"Price!B460","v":"ZSI.040SI"},{"$f":"Price!C460","v":"IG/G"},{"$f":"Price!D460","v":0},{"$f":"Price!E460","v":0},{"$f":"Price!F460","v":210.1},null,null,{"$f":"Price!G460","v":5729780},{"$f":"Price!H460","v":"D383080"}]
["Příčný dělící prvek 88mm","ZSI.010Q","R737",0,null,32.700000000000003,null,null,6070030,"D364536",null,{"$f":"Price!A461","v":"Příčný dělící prvek 88mm"},{"$f":"Price!B461","v":"ZSI.010Q"},{"$f":"Price!C461","v":"R737"},{"$f":"Price!D461","v":0},{"$f":"Price!E461","v":0},{"$f":"Price!F461","v":32.700000000000003},null,null,{"$f":"Price!G461","v":6070030},{"$f":"Price!H461","v":"D364536"}]
["Příčný dělící prvek 176mm","ZSI.020Q","R737",0,null,49.1,null,null,6070200,"D364537",null,{"$f":"Price!A462","v":"Příčný dělící prvek 176mm"},{"$f":"Price!B462","v":"ZSI.020Q"},{"$f":"Price!C462","v":"R737"},{"$f":"Price!D462","v":0},{"$f":"Price!E462","v":0},{"$f":"Price!F462","v":49.1},null,null,{"$f":"Price!G462","v":6070200},{"$f":"Price!H462","v":"D364537"}]
[null,null,null,null,null,null,null,null,null,null,null,{"$f":"Price!A463","v":0},{"$f":"Price!B463","v":0},{"$f":"Price!C463","v":0},{"$f":"Price!D463","v":0},{"$f":"Price!E463","v":0},{"$f":"Price!F463","v":0},null,null,{"$f":"Price!G463","v":0},{"$f":"Price!H463","v":0}]
[null,null,null,null,null,null,null,null,null,null,null,{"$f":"Price!A464","v":0},{"$f":"Price!B464","v":0},{"$f":"Price!C464","v":0},{"$f":"Price!D464","v":0},{"$f":"Price!E464","v":0},{"$f":"Price!F464","v":0},null,null,{"$f":"Price!G464","v":0},{"$f":"Price!H464","v":0}]
[null,null,null,null,null,null,null,null,null,null,null,{"$f":"Price!A465","v":"   ORGA-LINE příčné dělení"},{"$f":"Price!B465","v":0},{"$f":"Price!C465","v":0},{"$f":"Price!D465","v":0},{"$f":"Price!E465","v":0},{"$f":"Price!F465","v":0},null,null,{"$f":"Price!G465","v":0},{"$f":"Price!H465","v":0}]
[{"$f":"IF($C$2=1,L466,IF($C$2=2,L467,IF($C$2=3,L468, IF($C$2=4, L469, \"  chyba\"))))","v":"Příčka ke zkrácení, KB 300mm, šedá"},{"$f":"IF($C$2=1,M466,IF($C$2=2,M467,IF($C$2=3,M468, IF($C$2=4, M469, \"  chyba\"))))","v":"Z40L177A"},{"$f":"IF($C$2=1,N466,IF($C$2=2,N467,IF($C$2=3,N468, IF($C$2=4, N469, \"  chyba\"))))","v":"R906"},{"$f":"IF($C$2=1,O466,IF($C$2=2,O467,IF($C$2=3,O468, IF($C$2=4, O469, \"  chyba\"))))","v":0},{"$f":"IF($C$2=1,P466,IF($C$2=2,P467,IF($C$2=3,P468, IF($C$2=4, P469, \"  chyba\"))))","v":0},{"$f":"IF($C$2=1,Q466,IF($C$2=2,Q467,IF($C$2=3,Q468, IF($C$2=4, Q469, \"  chyba\"))))*(100-$F$6)/100","v":147.4},null,null,{"$f":"IF($C$2=1,T466,IF($C$2=2,T467,IF($C$2=3,T468, IF($C$2=4, T469, \"  chyba\"))))","v":8860753},{"$f":"IF($C$2=1,U466,IF($C$2=2,U467,IF($C$2=3,U468, IF($C$2=4, U469, \"  chyba\"))))","v":"D472707"},null,{"$f":"Price!A466","v":"Příčka ke zkrácení, KB 300mm, šedá"},{"$f":"Price!B466","v":"Z40L177A"},{"$f":"Price!C466","v":"R906"},{"$f":"Price!D466","v":0},{"$f":"Price!E466","v":0},{"$f":"Price!F466","v":147.4},null,null,{"$f":"Price!G466","v":8860753},{"$f":"Price!H466","v":"D472707"}]
[null,null,null,null,null,null,null,null,null,null,null,{"$f":"Price!A467","v":"Příčka ke zkrácení, KB 300mm, hedvábně bílá"},{"$f":"Price!B467","v":"Z40L177A"},{"$f":"Price!C467","v":"SEIW"},{"$f":"Price!D467","v":0},{"$f":"Price!E467","v":0},{"$f":"Price!F467","v":147.4},null,null,{"$f":"Price!G467","v":5175821},{"$f":"Price!H467","v":"D472708"}]
[null,null,null,null,null,null,null,null,null,null,null,{"$f":"Price!A468","v":"Příčka ke zkrácení, KB 300mm, černá Terra"},{"$f":"Price!B468","v":"Z40L177A"},{"$f":"Price!C468","v":"TERS"},{"$f":"Price!D468","v":0},{"$f":"Price!E468","v":0},{"$f":"Price!F468","v":147.4},null,null,{"$f":"Price!G468","v":7446870},{"$f":"Price!H468","v":"D512412"}]
[null,null,null,null,null,null,null,null,null,null,null,{"$f":"Price!A469","v":"Příčka ke zkrácení, KB 300mm, niklovaná matná"},{"$f":"Price!B469","v":"Z40L177A"},{"$f":"Price!C469","v":"NI-M"},{"$f":"Price!D469","v":0},{"$f":"Price!E469","v":0},{"$f":"Price!F469","v":0},null,null,{"$f":"Price!G469","v":1075138},{"$f":"Price!H469","v":"na dotaz"}]
[{"$f":"IF($C$2=1,L470,IF($C$2=2,L471,IF($C$2=3,L472, IF($C$2=4, L473, \"  chyba\"))))","v":"Příčka ke zkrácení, KB 600mm, šedá"},{"$f":"IF($C$2=1,M470,IF($C$2=2,M471,IF($C$2=3,M472, IF($C$2=4, M473, \"  chyba\"))))","v":"Z40L477A"},{"$f":"IF($C$2=1,N470,IF($C$2=2,N471,IF($C$2=3,N472, IF($C$2=4, N473, \"  chyba\"))))","v":"R906"},{"$f":"IF($C$2=1,O470,IF($C$2=2,O471,IF($C$2=3,O472, IF($C$2=4, O473, \"  chyba\"))))","v":0},{"$f":"IF($C$2=1,P470,IF($C$2=2,P471,IF($C$2=3,P472, IF($C$2=4, P473, \"  chyba\"))))","v":0},{"$f":"IF($C$2=1,Q470,IF($C$2=2,Q471,IF($C$2=3,Q472, IF($C$2=4, Q473, \"  chyba\"))))*(100-$F$6)/100","v":185.7},null,null,{"$f":"IF($C$2=1,T470,IF($C$2=2,T471,IF($C$2=3,T472, IF($C$2=4, T473, \"  chyba\"))))","v":1652924},{"$f":"IF($C$2=1,U470,IF($C$2=2,U471,IF($C$2=3,U472, IF($C$2=4, U473, \"  chyba\"))))","v":"D472710"},null,{"$f":"Price!A470","v":"Příčka ke zkrácení, KB 600mm, šedá"},{"$f":"Price!B470","v":"Z40L477A"},{"$f":"Price!C470","v":"R906"},{"$f":"Price!D470","v":0},{"$f":"Price!E470","v":0},{"$f":"Price!F470","v":185.7},null,null,{"$f":"Price!G470","v":1652924},{"$f":"Price!H470","v":"D472710"}]
[null,null,null,null,null,null,null,null,null,null,null,{"$f":"Price!A471","v":"Příčka ke zkrácení, KB 600mm, hedvábně bílá"},{"$f":"Price!B471","v":"Z40L477A"},{"$f":"Price!C471","v":"SEIW"},{"$f":"Price!D471","v":0},{"$f":"Price!E471","v":0},{"$f":"Price!F471","v":185.7},null,null,{"$f":"Price!G471","v":1722284},{"$f":"Price!H471","v":"D472711"}]
[null,null,null,null,null,null,null,null,null,null,null,{"$f":"Price!A472","v":"Příčka ke zkrácení, KB 600mm, černá Terra"},{"$f":"Price!B472","v":"Z40L477A"},{"$f":"Price!C472","v":"TERS"},{"$f":"Price!D472","v":0},{"$f":"Price!E472","v":0},{"$f":"Price!F472","v":185.7},null,null,{"$f":"Price!G472","v":4099350},{"$f":"Price!H472","v":"D512413"}]
[null,null,null,null,null,null,null,null,null,null,null,{"$f":"Price!A473","v":"Příčka ke zkrácení, KB 600mm, niklovaná matná"},{"$f":"Price!B473","v":"Z40L477A"},{"$f":"Price!C473","v":"NI-M"},{"$f":"Price!D473","v":0},{"$f":"Price!E473","v":0},{"$f":"Price!F473","v":0},null,null,{"$f":"Price!G473","v":6644388},{"$f":"Price!H473","v":"na dotaz"}]
[{"$f":"IF($C$2=1,L474,IF($C$2=2,L475,IF($C$2=3,L476, IF($C$2=4, L477, \"  chyba\"))))","v":"Příčka ke zkrácení, KB 900mm, šedá"},{"$f":"IF($C$2=1,M474,IF($C$2=2,M475,IF($C$2=3,M476, IF($C$2=4, M477, \"  chyba\"))))","v":"Z40L777A"},{"$f":"IF($C$2=1,N474,IF($C$2=2,N475,IF($C$2=3,N476, IF($C$2=4, N477, \"  chyba\"))))","v":"R906"},{"$f":"IF($C$2=1,O474,IF($C$2=2,O475,IF($C$2=3,O476, IF($C$2=4, O477, \"  chyba\"))))","v":0},{"$f":"IF($C$2=1,P474,IF($C$2=2,P475,IF($C$2=3,P476, IF($C$2=4, P477, \"  chyba\"))))","v":0},{"$f":"IF($C$2=1,Q474,IF($C$2=2,Q475,IF($C$2=3,Q476, IF($C$2=4, Q477, \"  chyba\"))))*(100-$F$6)/100","v":272.7},null,null,{"$f":"IF($C$2=1,T474,IF($C$2=2,T475,IF($C$2=3,T476, IF($C$2=4, T477, \"  chyba\"))))","v":8237194},{"$f":"IF($C$2=1,U474,IF($C$2=2,U475,IF($C$2=3,U476, IF($C$2=4, U477, \"  chyba\"))))","v":"D472713"},null,{"$f":"Price!A474","v":"Příčka ke zkrácení, KB 900mm, šedá"},{"$f":"Price!B474","v":"Z40L777A"},{"$f":"Price!C474","v":"R906"},{"$f":"Price!D474","v":0},{"$f":"Price!E474","v":0},{"$f":"Price!F474","v":272.7},null,null,{"$f":"Price!G474","v":8237194},{"$f":"Price!H474","v":"D472713"}]
[null,null,null,null,null,null,null,null,null,null,null,{"$f":"Price!A475","v":"Příčka ke zkrácení, KB 900mm, hedvábně bílá"},{"$f":"Price!B475","v":"Z40L777A"},{"$f":"Price!C475","v":"SEIW"},{"$f":"Price!D475","v":0},{"$f":"Price!E475","v":0},{"$f":"Price!F475","v":272.7},null,null,{"$f":"Price!G475","v":4052763},{"$f":"Price!H475","v":"D472712"}]
[null,null,null,null,null,null,null,null,null,null,null,{"$f":"Price!A476","v":"Příčka ke zkrácení, KB 900mm, černá Terra"},{"$f":"Price!B476","v":"Z40L777A"},{"$f":"Price!C476","v":"TERS"},{"$f":"Price!D476","v":0},{"$f":"Price!E476","v":0},{"$f":"Price!F476","v":272.7},null,null,{"$f":"Price!G476","v":7400313},{"$f":"Price!H476","v":"D512414"}]
[null,null,null,null,null,null,null,null,null,null,null,{"$f":"Price!A477","v":"Příčka ke zkrácení, KB 900mm, niklovaná matná"},{"$f":"Price!B477","v":"Z40L777A"},{"$f":"Price!C477","v":"NI-M"},{"$f":"Price!D477","v":0},{"$f":"Price!E477","v":0},{"$f":"Price!F477","v":0},null,null,{"$f":"Price!G477","v":6109145},{"$f":"Price!H477","v":"na dotaz"}]
[{"$f":"IF($C$2=1,L478,IF($C$2=2,L479,IF($C$2=3,L480, IF($C$2=4, L481, \"  chyba\"))))","v":"Příčka ke zkrácení, KB 1200mm, šedá"},{"$f":"IF($C$2=1,M478,IF($C$2=2,M479,IF($C$2=3,M480, IF($C$2=4, M481, \"  chyba\"))))","v":"Z40L1077A"},{"$f":"IF($C$2=1,N478,IF($C$2=2,N479,IF($C$2=3,N480, IF($C$2=4, N481, \"  chyba\"))))","v":"R906"},{"$f":"IF($C$2=1,O478,IF($C$2=2,O479,IF($C$2=3,O480, IF($C$2=4, O481, \"  chyba\"))))","v":0},{"$f":"IF($C$2=1,P478,IF($C$2=2,P479,IF($C$2=3,P480, IF($C$2=4, P481, \"  chyba\"))))","v":0},{"$f":"IF($C$2=1,Q478,IF($C$2=2,Q479,IF($C$2=3,Q480, IF($C$2=4, Q481, \"  chyba\"))))*(100-$F$6)/100","v":426.5},null,null,{"$f":"IF($C$2=1,T478,IF($C$2=2,T479,IF($C$2=3,T480, IF($C$2=4, T481, \"  chyba\"))))","v":8113610},{"$f":"IF($C$2=1,U478,IF($C$2=2,U479,IF($C$2=3,U480, IF($C$2=4, U481, \"  chyba\"))))","v":"D472716"},null,{"$f":"Price!A478","v":"Příčka ke zkrácení, KB 1200mm, šedá"},{"$f":"Price!B478","v":"Z40L1077A"},{"$f":"Price!C478","v":"R906"},{"$f":"Price!D478","v":0},{"$f":"Price!E478","v":0},{"$f":"Price!F478","v":426.5},null,null,{"$f":"Price!G478","v":8113610},{"$f":"Price!H478","v":"D472716"}]
[null,null,null,null,null,null,null,null,null,null,null,{"$f":"Price!A479","v":"Příčka ke zkrácení, KB 1200mm, hedvábně bílá"},{"$f":"Price!B479","v":"Z40L1077A"},{"$f":"Price!C479","v":"SEIW"},{"$f":"Price!D479","v":0},{"$f":"Price!E479","v":0},{"$f":"Price!F479","v":426.5},null,null,{"$f":"Price!G479","v":8113612},{"$f":"Price!H479","v":"D472714"}]
[null,null,null,null,null,null,null,null,null,null,null,{"$f":"Price!A480","v":"Příčka ke zkrácení, KB 1200mm, černá Terra"},{"$f":"Price!B480","v":"Z40L1077A"},{"$f":"Price!C480","v":"TERS"},{"$f":"Price!D480","v":0},{"$f":"Price!E480","v":0},{"$f":"Price!F480","v":451},null,null,{"$f":"Price!G480","v":8113614},{"$f":"Price!H480","v":"D289819"}]
[null,null,null,null,null,null,null,null,null,null,null,{"$f":"Price!A481","v":"Příčka ke zkrácení, KB 1200mm, niklovaná matná"},{"$f":"Price!B481","v":"Z40L1077A"},{"$f":"Price!C481","v":"NI-M"},{"$f":"Price!D481","v":0},{"$f":"Price!E481","v":0},{"$f":"Price!F481","v":0},null,null,{"$f":"Price!G481","v":8405350},{"$f":"Price!H481","v":"na dotaz"}]
[null,null,null,null,null,null,null,null,null,null,null,{"$f":"Price!A482","v":0},{"$f":"Price!B482","v":0},{"$f":"Price!C482","v":0},{"$f":"Price!D482","v":0},{"$f":"Price!E482","v":0},{"$f":"Price!F482","v":0},null,null,{"$f":"Price!G482","v":0},{"$f":"Price!H482","v":0}]
[{"$f":"IF($C$2=1,L483,IF($C$2=2,L484,IF($C$2=3,L485, IF($C$2=4, L486, \"  chyba\"))))","v":"Koncovka pro příčku, pro reling, D, bílošedá"},{"$f":"IF($C$2=1,M483,IF($C$2=2,M484,IF($C$2=3,M485, IF($C$2=4, M486, \"  chyba\"))))","v":"Z40D0002Z"},{"$f":"IF($C$2=1,N483,IF($C$2=2,N484,IF($C$2=3,N485, IF($C$2=4, N486, \"  chyba\"))))","v":"WGR"},{"$f":"IF($C$2=1,O483,IF($C$2=2,O484,IF($C$2=3,O485, IF($C$2=4, O486, \"  chyba\"))))","v":0},{"$f":"IF($C$2=1,P483,IF($C$2=2,P484,IF($C$2=3,P485, IF($C$2=4, P486, \"  chyba\"))))","v":0},{"$f":"IF($C$2=1,Q483,IF($C$2=2,Q484,IF($C$2=3,Q485, IF($C$2=4, Q486, \"  chyba\"))))*(100-$F$6)/100","v":47.1},null,null,{"$f":"IF($C$2=1,T483,IF($C$2=2,T484,IF($C$2=3,T485, IF($C$2=4, T486, \"  chyba\"))))","v":5716290},{"$f":"IF($C$2=1,U483,IF($C$2=2,U484,IF($C$2=3,U485, IF($C$2=4, U486, \"  chyba\"))))","v":"D472691"},null,{"$f":"Price!A483","v":"Koncovka pro příčku, pro reling, D, bílošedá"},{"$f":"Price!B483","v":"Z40D0002Z"},{"$f":"Price!C483","v":"WGR"},{"$f":"Price!D483","v":0},{"$f":"Price!E483","v":0},{"$f":"Price!F483","v":47.1},null,null,{"$f":"Price!G483","v":5716290},{"$f":"Price!H483","v":"D472691"}]
[null,null,null,null,null,null,null,null,null,null,null,{"$f":"Price!A484","v":"Koncovka pro příčku, pro reling, D, hedvábně bílá"},{"$f":"Price!B484","v":"Z40D0002Z"},{"$f":"Price!C484","v":"SEIW"},{"$f":"Price!D484","v":0},{"$f":"Price!E484","v":0},{"$f":"Price!F484","v":47.1},null,null,{"$f":"Price!G484","v":5738648},{"$f":"Price!H484","v":"D472689"}]
[null,null,null,null,null,null,null,null,null,null,null,{"$f":"Price!A485","v":"Koncovka pro příčku, pro reling, D, černá"},{"$f":"Price!B485","v":"Z40D0002Z"},{"$f":"Price!C485","v":"S "},{"$f":"Price!D485","v":"!"},{"$f":"Price!E485","v":0},{"$f":"Price!F485","v":47.1},null,null,{"$f":"Price!G485","v":3961716},{"$f":"Price!H485","v":"D512415"}]
[null,null,null,null,null,null,null,null,null,null,null,{"$f":"Price!A486","v":"Koncovka pro příčku, pro reling, D, prachově šedá"},{"$f":"Price!B486","v":"Z40D0002Z"},{"$f":"Price!C486","v":"R737"},{"$f":"Price!D486","v":"!"},{"$f":"Price!E486","v":0},{"$f":"Price!F486","v":0},null,null,{"$f":"Price!G486","v":4919907},{"$f":"Price!H486","v":"na dotaz"}]
[{"$f":"IF($C$2=1,L487,IF($C$2=2,L488,IF($C$2=3,L489, IF($C$2=4, L490, \"  chyba\"))))","v":"Koncovka pro příčku, pro reling, C, bílošedá"},{"$f":"IF($C$2=1,M487,IF($C$2=2,M488,IF($C$2=3,M489, IF($C$2=4, M490, \"  chyba\"))))","v":"Z40C0002Z"},{"$f":"IF($C$2=1,N487,IF($C$2=2,N488,IF($C$2=3,N489, IF($C$2=4, N490, \"  chyba\"))))","v":"WGR"},{"$f":"IF($C$2=1,O487,IF($C$2=2,O488,IF($C$2=3,O489, IF($C$2=4, O490, \"  chyba\"))))","v":0},{"$f":"IF($C$2=1,P487,IF($C$2=2,P488,IF($C$2=3,P489, IF($C$2=4, P490, \"  chyba\"))))","v":0},{"$f":"IF($C$2=1,Q487,IF($C$2=2,Q488,IF($C$2=3,Q489, IF($C$2=4, Q490, \"  chyba\"))))*(100-$F$6)/100","v":43.5},null,null,{"$f":"IF($C$2=1,T487,IF($C$2=2,T488,IF($C$2=3,T489, IF($C$2=4, T490, \"  chyba\"))))","v":1332165},{"$f":"IF($C$2=1,U487,IF($C$2=2,U488,IF($C$2=3,U489, IF($C$2=4, U490, \"  chyba\"))))","v":"D512416"},null,{"$f":"Price!A487","v":"Koncovka pro příčku, pro reling, C, bílošedá"},{"$f":"Price!B487","v":"Z40C0002Z"},{"$f":"Price!C487","v":"WGR"},{"$f":"Price!D487","v":0},{"$f":"Price!E487","v":0},{"$f":"Price!F487","v":43.5},null,null,{"$f":"Price!G487","v":1332165},{"$f":"Price!H487","v":"D512416"}]
[null,null,null,null,null,null,null,null,null,null,null,{"$f":"Price!A488","v":"Koncovka pro příčku, pro reling, C, hedvábně bílá"},{"$f":"Price!B488","v":"Z40C0002Z"},{"$f":"Price!C488","v":"SEIW"},{"$f":"Price!D488","v":0},{"$f":"Price!E488","v":0},{"$f":"Price!F488","v":43.5},null,null,{"$f":"Price!G488","v":5081757},{"$f":"Price!H488","v":"D512417"}]
[null,null,null,null,null,null,null,null,null,null,null,{"$f":"Price!A489","v":"Koncovka pro příčku, pro reling, C, černá"},{"$f":"Price!B489","v":"Z40C0002Z"},{"$f":"Price!C489","v":"S "},{"$f":"Price!D489","v":"!"},{"$f":"Price!E489","v":0},{"$f":"Price!F489","v":43.5},null,null,{"$f":"Price!G489","v":4753918},{"$f":"Price!H489","v":"D512418"}]
[null,null,null,null,null,null,null,null,null,null,null,{"$f":"Price!A490","v":"Koncovka pro příčku, pro reling, C, prachově šedá"},{"$f":"Price!B490","v":"Z40C0002Z"},{"$f":"Price!C490","v":"R737"},{"$f":"Price!D490","v":"!"},{"$f":"Price!E490","v":0},{"$f":"Price!F490","v":0},null,null,{"$f":"Price!G490","v":4109517},{"$f":"Price!H490","v":"na dotaz"}]
[{"$f":"IF($C$2=1,L491,IF($C$2=2,L492,IF($C$2=3,L493, IF($C$2=4, L494, \"  chyba\"))))","v":"Koncovka pro příčku, pro mezistěnu, bílošedá"},{"$f":"IF($C$2=1,M491,IF($C$2=2,M492,IF($C$2=3,M493, IF($C$2=4, M494, \"  chyba\"))))","v":"Z40L0002"},{"$f":"IF($C$2=1,N491,IF($C$2=2,N492,IF($C$2=3,N493, IF($C$2=4, N494, \"  chyba\"))))","v":"WGR"},{"$f":"IF($C$2=1,O491,IF($C$2=2,O492,IF($C$2=3,O493, IF($C$2=4, O494, \"  chyba\"))))","v":0},{"$f":"IF($C$2=1,P491,IF($C$2=2,P492,IF($C$2=3,P493, IF($C$2=4, P494, \"  chyba\"))))","v":0},{"$f":"IF($C$2=1,Q491,IF($C$2=2,Q492,IF($C$2=3,Q493, IF($C$2=4, Q494, \"  chyba\"))))*(100-$F$6)/100","v":47.1},null,null,{"$f":"IF($C$2=1,T491,IF($C$2=2,T492,IF($C$2=3,T493, IF($C$2=4, T494, \"  chyba\"))))","v":8113856},{"$f":"IF($C$2=1,U491,IF($C$2=2,U492,IF($C$2=3,U493, IF($C$2=4, U494, \"  chyba\"))))","v":"D512419"},null,{"$f":"Price!A491","v":"Koncovka pro příčku, pro mezistěnu, bílošedá"},{"$f":"Price!B491","v":"Z40L0002"},{"$f":"Price!C491","v":"WGR"},{"$f":"Price!D491","v":0},{"$f":"Price!E491","v":0},{"$f":"Price!F491","v":47.1},null,null,{"$f":"Price!G491","v":8113856},{"$f":"Price!H491","v":"D512419"}]
[null,null,null,null,null,null,null,null,null,null,null,{"$f":"Price!A492","v":"Koncovka pro příčku, pro mezistěnu, hedvábně bílá"},{"$f":"Price!B492","v":"Z40L0002"},{"$f":"Price!C492","v":"SEIW"},{"$f":"Price!D492","v":0},{"$f":"Price!E492","v":0},{"$f":"Price!F492","v":47.1},null,null,{"$f":"Price!G492","v":8113852},{"$f":"Price!H492","v":"D289817"}]
[null,null,null,null,null,null,null,null,null,null,null,{"$f":"Price!A493","v":"Koncovka pro příčku, pro mezistěnu, černá"},{"$f":"Price!B493","v":"Z40L0002"},{"$f":"Price!C493","v":"S "},{"$f":"Price!D493","v":0},{"$f":"Price!E493","v":0},{"$f":"Price!F493","v":47.1},null,null,{"$f":"Price!G493","v":8113854},{"$f":"Price!H493","v":"D289816"}]
[null,null,null,null,null,null,null,null,null,null,null,{"$f":"Price!A494","v":"Koncovka pro příčku, pro mezistěnu, prachově šedá"},{"$f":"Price!B494","v":"Z40L0002"},{"$f":"Price!C494","v":"R737"},{"$f":"Price!D494","v":"!"},{"$f":"Price!E494","v":0},{"$f":"Price!F494","v":47.1},null,null,{"$f":"Price!G494","v":8113850},{"$f":"Price!H494","v":"D460312"}]
[null,null,null,null,null,null,null,null,null,null,null,{"$f":"Price!A495","v":0},{"$f":"Price!B495","v":0},{"$f":"Price!C495","v":0},{"$f":"Price!D495","v":0},{"$f":"Price!E495","v":0},{"$f":"Price!F495","v":0},null,null,{"$f":"Price!G495","v":0},{"$f":"Price!H495","v":0}]
[{"$f":"IF($C$2=1,L496,IF($C$2=2,L497,IF($C$2=3,L498, IF($C$2=4, L499, \"  chyba\"))))","v":"Podélné dělení, šedé"},{"$f":"IF($C$2=1,M496,IF($C$2=2,M497,IF($C$2=3,M498, IF($C$2=4, M499, \"  chyba\"))))","v":"Z43L100S"},{"$f":"IF($C$2=1,N496,IF($C$2=2,N497,IF($C$2=3,N498, IF($C$2=4, N499, \"  chyba\"))))","v":"R906"},{"$f":"IF($C$2=1,O496,IF($C$2=2,O497,IF($C$2=3,O498, IF($C$2=4, O499, \"  chyba\"))))","v":0},{"$f":"IF($C$2=1,P496,IF($C$2=2,P497,IF($C$2=3,P498, IF($C$2=4, P499, \"  chyba\"))))","v":0},{"$f":"IF($C$2=1,Q496,IF($C$2=2,Q497,IF($C$2=3,Q498, IF($C$2=4, Q499, \"  chyba\"))))*(100-$F$6)/100","v":87.5},null,null,{"$f":"IF($C$2=1,T496,IF($C$2=2,T497,IF($C$2=3,T498, IF($C$2=4, T499, \"  chyba\"))))","v":7952586},{"$f":"IF($C$2=1,U496,IF($C$2=2,U497,IF($C$2=3,U498, IF($C$2=4, U499, \"  chyba\"))))","v":"D460314"},null,{"$f":"Price!A496","v":"Podélné dělení, šedé"},{"$f":"Price!B496","v":"Z43L100S"},{"$f":"Price!C496","v":"R906"},{"$f":"Price!D496","v":0},{"$f":"Price!E496","v":0},{"$f":"Price!F496","v":87.5},null,null,{"$f":"Price!G496","v":7952586},{"$f":"Price!H496","v":"D460314"}]
[null,null,null,null,null,null,null,null,null,null,null,{"$f":"Price!A497","v":"Podélné dělení, hedvábně bílé"},{"$f":"Price!B497","v":"Z43L100S"},{"$f":"Price!C497","v":"SEIW"},{"$f":"Price!D497","v":0},{"$f":"Price!E497","v":0},{"$f":"Price!F497","v":87.5},null,null,{"$f":"Price!G497","v":7952582},{"$f":"Price!H497","v":"D289820"}]
[null,null,null,null,null,null,null,null,null,null,null,{"$f":"Price!A498","v":"Podélné dělení, černé Terra"},{"$f":"Price!B498","v":"Z43L100S"},{"$f":"Price!C498","v":"TERS"},{"$f":"Price!D498","v":0},{"$f":"Price!E498","v":0},{"$f":"Price!F498","v":87.5},null,null,{"$f":"Price!G498","v":7952584},{"$f":"Price!H498","v":"D289821"}]
[null,null,null,null,null,null,null,null,null,null,null,{"$f":"Price!A499","v":"Podélné dělení, niklované matné"},{"$f":"Price!B499","v":"Z43L100S"},{"$f":"Price!C499","v":"NI-M"},{"$f":"Price!D499","v":0},{"$f":"Price!E499","v":0},{"$f":"Price!F499","v":170.1},null,null,{"$f":"Price!G499","v":5902025},{"$f":"Price!H499","v":"D460313"}]
[null,null,null,null,null,null,null,null,null,null,null,{"$f":"Price!A500","v":0},{"$f":"Price!B500","v":0},{"$f":"Price!C500","v":0},{"$f":"Price!D500","v":0},{"$f":"Price!E500","v":0},{"$f":"Price!F500","v":0},null,null,{"$f":"Price!G500","v":0},{"$f":"Price!H500","v":0}]
[{"$f":"IF($C$2=1,L501,IF($C$2=2,L502,IF($C$2=3,L503, IF($C$2=4, L504, \"  chyba\"))))","v":"Příčný reling ke zkrácení, šedý"},{"$f":"IF($C$2=1,M501,IF($C$2=2,M502,IF($C$2=3,M503, IF($C$2=4, M504, \"  chyba\"))))","v":"ZRG.1104Q"},{"$f":"IF($C$2=1,N501,IF($C$2=2,N502,IF($C$2=3,N503, IF($C$2=4, N504, \"  chyba\"))))","v":"R906"},{"$f":"IF($C$2=1,O501,IF($C$2=2,O502,IF($C$2=3,O503, IF($C$2=4, O504, \"  chyba\"))))","v":0},{"$f":"IF($C$2=1,P501,IF($C$2=2,P502,IF($C$2=3,P503, IF($C$2=4, P504, \"  chyba\"))))","v":0},{"$f":"IF($C$2=1,Q501,IF($C$2=2,Q502,IF($C$2=3,Q503, IF($C$2=4, Q504, \"  chyba\"))))*(100-$F$6)/100","v":119.3},null,null,{"$f":"IF($C$2=1,T501,IF($C$2=2,T502,IF($C$2=3,T503, IF($C$2=4, T504, \"  chyba\"))))","v":9752780},{"$f":"IF($C$2=1,U501,IF($C$2=2,U502,IF($C$2=3,U503, IF($C$2=4, U504, \"  chyba\"))))","v":"D460288"},null,{"$f":"Price!A501","v":"Příčný reling ke zkrácení, šedý"},{"$f":"Price!B501","v":"ZRG.1104Q"},{"$f":"Price!C501","v":"R906"},{"$f":"Price!D501","v":0},{"$f":"Price!E501","v":0},{"$f":"Price!F501","v":119.3},null,null,{"$f":"Price!G501","v":9752780},{"$f":"Price!H501","v":"D460288"}]
[null,null,null,null,null,null,null,null,null,null,null,{"$f":"Price!A502","v":"Příčný reling ke zkrácení, hedvábně bílý"},{"$f":"Price!B502","v":"ZRG.1104Q"},{"$f":"Price!C502","v":"SEIW"},{"$f":"Price!D502","v":0},{"$f":"Price!E502","v":0},{"$f":"Price!F502","v":121.1},null,null,{"$f":"Price!G502","v":9752782},{"$f":"Price!H502","v":"D460289"}]
[null,null,null,null,null,null,null,null,null,null,null,{"$f":"Price!A503","v":"Příčný reling ke zkrácení, černý Terra"},{"$f":"Price!B503","v":"ZRG.1104Q"},{"$f":"Price!C503","v":"TERS"},{"$f":"Price!D503","v":"!"},{"$f":"Price!E503","v":0},{"$f":"Price!F503","v":121.1},null,null,{"$f":"Price!G503","v":9752784},{"$f":"Price!H503","v":"D512420"}]
[null,null,null,null,null,null,null,null,null,null,null,{"$f":"Price!A504","v":"Příčný reling ke zkrácení, niklovaný matný"},{"$f":"Price!B504","v":"ZRG.1104Q"},{"$f":"Price!C504","v":"NI-M"},{"$f":"Price!D504","v":"!"},{"$f":"Price!E504","v":0},{"$f":"Price!F504","v":0},null,null,{"$f":"Price!G504","v":3013881},{"$f":"Price!H504","v":"na dotaz"}]
[null,null,null,null,null,null,null,null,null,null,null,{"$f":"Price!A505","v":0},{"$f":"Price!B505","v":0},{"$f":"Price!C505","v":0},{"$f":"Price!D505","v":0},{"$f":"Price!E505","v":0},{"$f":"Price!F505","v":0},null,null,{"$f":"Price!G505","v":0},{"$f":"Price!H505","v":0}]
[{"$f":"IF($C$2=1,L506,IF($C$2=2,L507,IF($C$2=3,L508, IF($C$2=4, L509, \"  chyba\"))))","v":"Koncovka pro příčný reling, bílošedá"},{"$f":"IF($C$2=1,M506,IF($C$2=2,M507,IF($C$2=3,M508, IF($C$2=4, M509, \"  chyba\"))))","v":"ZRU.01E0"},{"$f":"IF($C$2=1,N506,IF($C$2=2,N507,IF($C$2=3,N508, IF($C$2=4, N509, \"  chyba\"))))","v":"WGR"},{"$f":"IF($C$2=1,O506,IF($C$2=2,O507,IF($C$2=3,O508, IF($C$2=4, O509, \"  chyba\"))))","v":0},{"$f":"IF($C$2=1,P506,IF($C$2=2,P507,IF($C$2=3,P508, IF($C$2=4, P509, \"  chyba\"))))","v":0},{"$f":"IF($C$2=1,Q506,IF($C$2=2,Q507,IF($C$2=3,Q508, IF($C$2=4, Q509, \"  chyba\"))))*(100-$F$6)/100","v":37.700000000000003},null,null,{"$f":"IF($C$2=1,T506,IF($C$2=2,T507,IF($C$2=3,T508, IF($C$2=4, T509, \"  chyba\"))))","v":6586948},{"$f":"IF($C$2=1,U506,IF($C$2=2,U507,IF($C$2=3,U508, IF($C$2=4, U509, \"  chyba\"))))","v":"D494068"},null,{"$f":"Price!A506","v":"Koncovka pro příčný reling, bílošedá"},{"$f":"Price!B506","v":"ZRU.01E0"},{"$f":"Price!C506","v":"WGR"},{"$f":"Price!D506","v":0},{"$f":"Price!E506","v":0},{"$f":"Price!F506","v":37.700000000000003},null,null,{"$f":"Price!G506","v":6586948},{"$f":"Price!H506","v":"D494068"}]
[null,null,null,null,null,null,null,null,null,null,null,{"$f":"Price!A507","v":"Koncovka pro příčný reling, hedvábně bílá"},{"$f":"Price!B507","v":"ZRU.01E0"},{"$f":"Price!C507","v":"SEIW"},{"$f":"Price!D507","v":0},{"$f":"Price!E507","v":0},{"$f":"Price!F507","v":37.700000000000003},null,null,{"$f":"Price!G507","v":6960088},{"$f":"Price!H507","v":"D494063"}]
[null,null,null,null,null,null,null,null,null,null,null,{"$f":"Price!A508","v":"Koncovka pro příčný reling, černá"},{"$f":"Price!B508","v":"ZRU.01E0"},{"$f":"Price!C508","v":"S "},{"$f":"Price!D508","v":"!"},{"$f":"Price!E508","v":0},{"$f":"Price!F508","v":37.700000000000003},null,null,{"$f":"Price!G508","v":1344661},{"$f":"Price!H508","v":"D512421"}]
[null,null,null,null,null,null,null,null,null,null,null,{"$f":"Price!A509","v":"Koncovka pro příčný reling, prachově šedá"},{"$f":"Price!B509","v":"ZRU.01E0"},{"$f":"Price!C509","v":"R737"},{"$f":"Price!D509","v":"!"},{"$f":"Price!E509","v":0},{"$f":"Price!F509","v":0},null,null,{"$f":"Price!G509","v":5065069},{"$f":"Price!H509","v":"na dotaz"}]
[null,null,null,null,null,null,null,null,null,null,null,{"$f":"Price!A510","v":0},{"$f":"Price!B510","v":0},{"$f":"Price!C510","v":0},{"$f":"Price!D510","v":0},{"$f":"Price!E510","v":0},{"$f":"Price!F510","v":0},null,null,{"$f":"Price!G510","v":0},{"$f":"Price!H510","v":0}]
[{"$f":"IF($C$2=1,L511,IF($C$2=2,L512,IF($C$2=3,L513, IF($C$2=4, L514, \"  chyba\"))))","v":"Podélné dělení pro reling, bílošedé"},{"$f":"IF($C$2=1,M511,IF($C$2=2,M512,IF($C$2=3,M513, IF($C$2=4, M514, \"  chyba\"))))","v":"ZRU.11F0"},{"$f":"IF($C$2=1,N511,IF($C$2=2,N512,IF($C$2=3,N513, IF($C$2=4, N514, \"  chyba\"))))","v":"WGR"},{"$f":"IF($C$2=1,O511,IF($C$2=2,O512,IF($C$2=3,O513, IF($C$2=4, O514, \"  chyba\"))))","v":0},{"$f":"IF($C$2=1,P511,IF($C$2=2,P512,IF($C$2=3,P513, IF($C$2=4, P514, \"  chyba\"))))","v":0},{"$f":"IF($C$2=1,Q511,IF($C$2=2,Q512,IF($C$2=3,Q513, IF($C$2=4, Q514, \"  chyba\"))))*(100-$F$6)/100","v":21.5},null,null,{"$f":"IF($C$2=1,T511,IF($C$2=2,T512,IF($C$2=3,T513, IF($C$2=4, T514, \"  chyba\"))))","v":9410686},{"$f":"IF($C$2=1,U511,IF($C$2=2,U512,IF($C$2=3,U513, IF($C$2=4, U514, \"  chyba\"))))","v":"D460292"},null,{"$f":"Price!A511","v":"Podélné dělení pro reling, bílošedé"},{"$f":"Price!B511","v":"ZRU.11F0"},{"$f":"Price!C511","v":"WGR"},{"$f":"Price!D511","v":0},{"$f":"Price!E511","v":0},{"$f":"Price!F511","v":21.5},null,null,{"$f":"Price!G511","v":9410686},{"$f":"Price!H511","v":"D460292"}]
[null,null,null,null,null,null,null,null,null,null,null,{"$f":"Price!A512","v":"Podélné dělení pro reling, hedvábně bílé"},{"$f":"Price!B512","v":"ZRU.11F0"},{"$f":"Price!C512","v":"SEIW"},{"$f":"Price!D512","v":0},{"$f":"Price!E512","v":0},{"$f":"Price!F512","v":21.5},null,null,{"$f":"Price!G512","v":9410682},{"$f":"Price!H512","v":"D460293"}]
[null,null,null,null,null,null,null,null,null,null,null,{"$f":"Price!A513","v":"Podélné dělení pro reling, černé"},{"$f":"Price!B513","v":"ZRU.11F0"},{"$f":"Price!C513","v":"S "},{"$f":"Price!D513","v":"!"},{"$f":"Price!E513","v":0},{"$f":"Price!F513","v":21.5},null,null,{"$f":"Price!G513","v":9410684},{"$f":"Price!H513","v":"D512422"}]
[null,null,null,null,null,null,null,null,null,null,null,{"$f":"Price!A514","v":"Podélné dělení pro reling, prachově šedé"},{"$f":"Price!B514","v":"ZRU.11F0"},{"$f":"Price!C514","v":"R737"},{"$f":"Price!D514","v":"!"},{"$f":"Price!E514","v":0},{"$f":"Price!F514","v":0},null,null,{"$f":"Price!G514","v":9410680},{"$f":"Price!H514","v":"na dotaz"}]
[null,null,null,null,null,null,null,null,null,null,null,{"$f":"Price!A515","v":0},{"$f":"Price!B515","v":0},{"$f":"Price!C515","v":0},{"$f":"Price!D515","v":0},{"$f":"Price!E515","v":0},{"$f":"Price!F515","v":0},null,null,{"$f":"Price!G515","v":0},{"$f":"Price!H515","v":0}]
[null,null,null,null,null,null,null,null,null,null,null,{"$f":"Price!A516","v":0},{"$f":"Price!B516","v":0},{"$f":"Price!C516","v":0},{"$f":"Price!D516","v":0},{"$f":"Price!E516","v":0},{"$f":"Price!F516","v":0},null,null,{"$f":"Price!G516","v":0},{"$f":"Price!H516","v":0}]
[null,null,null,null,null,null,null,null,null,null,null,{"$f":"Price!A517","v":"   ORGA-LINE mezistěny"},{"$f":"Price!B517","v":0},{"$f":"Price!C517","v":0},{"$f":"Price!D517","v":0},{"$f":"Price!E517","v":0},{"$f":"Price!F517","v":0},null,null,{"$f":"Price!G517","v":0},{"$f":"Price!H517","v":0}]
[{"$f":"IF($C$2=1,L518,IF($C$2=2,L519,IF($C$2=3,L520, IF($C$2=4, L521, \"  chyba\"))))","v":"Mezistěna, 450mm, šedá"},{"$f":"IF($C$2=1,M518,IF($C$2=2,M519,IF($C$2=3,M520, IF($C$2=4, M521, \"  chyba\"))))","v":"Z46L420S   "},{"$f":"IF($C$2=1,N518,IF($C$2=2,N519,IF($C$2=3,N520, IF($C$2=4, N521, \"  chyba\"))))","v":"R906"},{"$f":"IF($C$2=1,O518,IF($C$2=2,O519,IF($C$2=3,O520, IF($C$2=4, O521, \"  chyba\"))))","v":"!"},{"$f":"IF($C$2=1,P518,IF($C$2=2,P519,IF($C$2=3,P520, IF($C$2=4, P521, \"  chyba\"))))","v":0},{"$f":"IF($C$2=1,Q518,IF($C$2=2,Q519,IF($C$2=3,Q520, IF($C$2=4, Q521, \"  chyba\"))))*(100-$F$6)/100","v":0},null,null,{"$f":"IF($C$2=1,T518,IF($C$2=2,T519,IF($C$2=3,T520, IF($C$2=4, T521, \"  chyba\"))))","v":8675730},{"$f":"IF($C$2=1,U518,IF($C$2=2,U519,IF($C$2=3,U520, IF($C$2=4, U521, \"  chyba\"))))","v":"na dotaz"},null,{"$f":"Price!A518","v":"Mezistěna, 450mm, šedá"},{"$f":"Price!B518","v":"Z46L420S   "},{"$f":"Price!C518","v":"R906"},{"$f":"Price!D518","v":"!"},{"$f":"Price!E518","v":0},{"$f":"Price!F518","v":0},null,null,{"$f":"Price!G518","v":8675730},{"$f":"Price!H518","v":"na dotaz"}]
[null,null,null,null,null,null,null,null,null,null,null,{"$f":"Price!A519","v":"Mezistěna, 450mm, hedvábně bílá"},{"$f":"Price!B519","v":"Z46L420S  "},{"$f":"Price!C519","v":"SEIW"},{"$f":"Price!D519","v":"!"},{"$f":"Price!E519","v":0},{"$f":"Price!F519","v":0},null,null,{"$f":"Price!G519","v":7934520},{"$f":"Price!H519","v":"na dotaz"}]
[null,null,null,null,null,null,null,null,null,null,null,{"$f":"Price!A520","v":"Mezistěna, 450mm, černá Terra"},{"$f":"Price!B520","v":"Z46L420S  "},{"$f":"Price!C520","v":"TERS"},{"$f":"Price!D520","v":"!"},{"$f":"Price!E520","v":0},{"$f":"Price!F520","v":0},null,null,{"$f":"Price!G520","v":7934524},{"$f":"Price!H520","v":"na dotaz"}]
[null,null,null,null,null,null,null,null,null,null,null,{"$f":"Price!A521","v":"Mezistěna, 450mm, nerez (Inox)"},{"$f":"Price!B521","v":"Z46L420I"},{"$f":"Price!C521","v":"INGL"},{"$f":"Price!D521","v":"!"},{"$f":"Price!E521","v":0},{"$f":"Price!F521","v":0},null,null,{"$f":"Price!G521","v":8438430},{"$f":"Price!H521","v":"na dotaz"}]
[{"$f":"IF($C$2=1,L522,IF($C$2=2,L523,IF($C$2=3,L524, IF($C$2=4, L525, \"  chyba\"))))","v":"Mezistěna, 500mm, šedá"},{"$f":"IF($C$2=1,M522,IF($C$2=2,M523,IF($C$2=3,M524, IF($C$2=4, M525, \"  chyba\"))))","v":"Z46L470S   "},{"$f":"IF($C$2=1,N522,IF($C$2=2,N523,IF($C$2=3,N524, IF($C$2=4, N525, \"  chyba\"))))","v":"R906"},{"$f":"IF($C$2=1,O522,IF($C$2=2,O523,IF($C$2=3,O524, IF($C$2=4, O525, \"  chyba\"))))","v":0},{"$f":"IF($C$2=1,P522,IF($C$2=2,P523,IF($C$2=3,P524, IF($C$2=4, P525, \"  chyba\"))))","v":0},{"$f":"IF($C$2=1,Q522,IF($C$2=2,Q523,IF($C$2=3,Q524, IF($C$2=4, Q525, \"  chyba\"))))*(100-$F$6)/100","v":730.3},null,null,{"$f":"IF($C$2=1,T522,IF($C$2=2,T523,IF($C$2=3,T524, IF($C$2=4, T525, \"  chyba\"))))","v":8679310},{"$f":"IF($C$2=1,U522,IF($C$2=2,U523,IF($C$2=3,U524, IF($C$2=4, U525, \"  chyba\"))))","v":"D460315"},null,{"$f":"Price!A522","v":"Mezistěna, 500mm, šedá"},{"$f":"Price!B522","v":"Z46L470S   "},{"$f":"Price!C522","v":"R906"},{"$f":"Price!D522","v":0},{"$f":"Price!E522","v":0},{"$f":"Price!F522","v":730.3},null,null,{"$f":"Price!G522","v":8679310},{"$f":"Price!H522","v":"D460315"}]
[null,null,null,null,null,null,null,null,null,null,null,{"$f":"Price!A523","v":"Mezistěna, 500mm, hedvábně bílá"},{"$f":"Price!B523","v":"Z46L470S  "},{"$f":"Price!C523","v":"SEIW"},{"$f":"Price!D523","v":0},{"$f":"Price!E523","v":0},{"$f":"Price!F523","v":732.3},null,null,{"$f":"Price!G523","v":7934760},{"$f":"Price!H523","v":"D289822"}]
[null,null,null,null,null,null,null,null,null,null,null,{"$f":"Price!A524","v":"Mezistěna, 500mm, černá Terra"},{"$f":"Price!B524","v":"Z46L470S  "},{"$f":"Price!C524","v":"TERS"},{"$f":"Price!D524","v":0},{"$f":"Price!E524","v":0},{"$f":"Price!F524","v":732.3},null,null,{"$f":"Price!G524","v":7934764},{"$f":"Price!H524","v":"D289823"}]
[null,null,null,null,null,null,null,null,null,null,null,{"$f":"Price!A525","v":"Mezistěna, 500mm, nerez (Inox)"},{"$f":"Price!B525","v":"Z46L470I"},{"$f":"Price!C525","v":"INGL"},{"$f":"Price!D525","v":"!"},{"$f":"Price!E525","v":0},{"$f":"Price!F525","v":1628.3},null,null,{"$f":"Price!G525","v":8030380},{"$f":"Price!H525","v":"D462585"}]
[{"$f":"IF($C$2=1,L526,IF($C$2=2,L527,IF($C$2=3,L528, IF($C$2=4, L529, \"  chyba\"))))","v":"Mezistěna, 550mm, šedá"},{"$f":"IF($C$2=1,M526,IF($C$2=2,M527,IF($C$2=3,M528, IF($C$2=4, M529, \"  chyba\"))))","v":"Z46L520S   "},{"$f":"IF($C$2=1,N526,IF($C$2=2,N527,IF($C$2=3,N528, IF($C$2=4, N529, \"  chyba\"))))","v":"R906"},{"$f":"IF($C$2=1,O526,IF($C$2=2,O527,IF($C$2=3,O528, IF($C$2=4, O529, \"  chyba\"))))","v":"!"},{"$f":"IF($C$2=1,P526,IF($C$2=2,P527,IF($C$2=3,P528, IF($C$2=4, P529, \"  chyba\"))))","v":0},{"$f":"IF($C$2=1,Q526,IF($C$2=2,Q527,IF($C$2=3,Q528, IF($C$2=4, Q529, \"  chyba\"))))*(100-$F$6)/100","v":770},null,null,{"$f":"IF($C$2=1,T526,IF($C$2=2,T527,IF($C$2=3,T528, IF($C$2=4, T529, \"  chyba\"))))","v":9149940},{"$f":"IF($C$2=1,U526,IF($C$2=2,U527,IF($C$2=3,U528, IF($C$2=4, U529, \"  chyba\"))))","v":"D543198"},null,{"$f":"Price!A526","v":"Mezistěna, 550mm, šedá"},{"$f":"Price!B526","v":"Z46L520S   "},{"$f":"Price!C526","v":"R906"},{"$f":"Price!D526","v":"!"},{"$f":"Price!E526","v":0},{"$f":"Price!F526","v":770},null,null,{"$f":"Price!G526","v":9149940},{"$f":"Price!H526","v":"D543198"}]
[null,null,null,null,null,null,null,null,null,null,null,{"$f":"Price!A527","v":"Mezistěna, 550mm, hedvábně bílá"},{"$f":"Price!B527","v":"Z46L520S  "},{"$f":"Price!C527","v":"SEIW"},{"$f":"Price!D527","v":"!"},{"$f":"Price!E527","v":0},{"$f":"Price!F527","v":770},null,null,{"$f":"Price!G527","v":7934830},{"$f":"Price!H527","v":"D633768"}]
[null,null,null,null,null,null,null,null,null,null,null,{"$f":"Price!A528","v":"Mezistěna, 550mm, černá Terra"},{"$f":"Price!B528","v":"Z46L520S  "},{"$f":"Price!C528","v":"TERS"},{"$f":"Price!D528","v":"!"},{"$f":"Price!E528","v":0},{"$f":"Price!F528","v":0},null,null,{"$f":"Price!G528","v":7934834},{"$f":"Price!H528","v":"na dotaz"}]
[null,null,null,null,null,null,null,null,null,null,null,{"$f":"Price!A529","v":"Mezistěna, 550mm, nerez (Inox)"},{"$f":"Price!B529","v":"Z46L520I  "},{"$f":"Price!C529","v":"INGL"},{"$f":"Price!D529","v":"!"},{"$f":"Price!E529","v":0},{"$f":"Price!F529","v":0},null,null,{"$f":"Price!G529","v":8561640},{"$f":"Price!H529","v":"na dotaz"}]
[{"$f":"IF($C$2=1,L530,IF($C$2=2,L531,IF($C$2=3,L532, IF($C$2=4, L533, \"  chyba\"))))","v":"Mezistěna, 600mm, šedá"},{"$f":"IF($C$2=1,M530,IF($C$2=2,M531,IF($C$2=3,M532, IF($C$2=4, M533, \"  chyba\"))))","v":"Z46L570S   "},{"$f":"IF($C$2=1,N530,IF($C$2=2,N531,IF($C$2=3,N532, IF($C$2=4, N533, \"  chyba\"))))","v":"R906"},{"$f":"IF($C$2=1,O530,IF($C$2=2,O531,IF($C$2=3,O532, IF($C$2=4, O533, \"  chyba\"))))","v":"!"},{"$f":"IF($C$2=1,P530,IF($C$2=2,P531,IF($C$2=3,P532, IF($C$2=4, P533, \"  chyba\"))))","v":0},{"$f":"IF($C$2=1,Q530,IF($C$2=2,Q531,IF($C$2=3,Q532, IF($C$2=4, Q533, \"  chyba\"))))*(100-$F$6)/100","v":0},null,null,{"$f":"IF($C$2=1,T530,IF($C$2=2,T531,IF($C$2=3,T532, IF($C$2=4, T533, \"  chyba\"))))","v":8832690},{"$f":"IF($C$2=1,U530,IF($C$2=2,U531,IF($C$2=3,U532, IF($C$2=4, U533, \"  chyba\"))))","v":"na dotaz"},null,{"$f":"Price!A530","v":"Mezistěna, 600mm, šedá"},{"$f":"Price!B530","v":"Z46L570S   "},{"$f":"Price!C530","v":"R906"},{"$f":"Price!D530","v":"!"},{"$f":"Price!E530","v":0},{"$f":"Price!F530","v":0},null,null,{"$f":"Price!G530","v":8832690},{"$f":"Price!H530","v":"na dotaz"}]
[null,null,null,null,null,null,null,null,null,null,null,{"$f":"Price!A531","v":"Mezistěna, 600mm, hedvábně bílá"},{"$f":"Price!B531","v":"Z46L570S  "},{"$f":"Price!C531","v":"SEIW"},{"$f":"Price!D531","v":"!"},{"$f":"Price!E531","v":0},{"$f":"Price!F531","v":0},null,null,{"$f":"Price!G531","v":7934900},{"$f":"Price!H531","v":"na dotaz"}]
[null,null,null,null,null,null,null,null,null,null,null,{"$f":"Price!A532","v":"Mezistěna, 600mm, černá Terra"},{"$f":"Price!B532","v":"Z46L570S  "},{"$f":"Price!C532","v":"TERS"},{"$f":"Price!D532","v":"!"},{"$f":"Price!E532","v":0},{"$f":"Price!F532","v":0},null,null,{"$f":"Price!G532","v":7934904},{"$f":"Price!H532","v":"na dotaz"}]
[null,null,null,null,null,null,null,null,null,null,null,{"$f":"Price!A533","v":"Mezistěna, 600mm, nerez (Inox)"},{"$f":"Price!B533","v":"Z46L570I"},{"$f":"Price!C533","v":"INGL"},{"$f":"Price!D533","v":"!"},{"$f":"Price!E533","v":0},{"$f":"Price!F533","v":0},null,null,{"$f":"Price!G533","v":8504830},{"$f":"Price!H533","v":"na dotaz"}]
[{"$f":"IF($C$2=1,L534,IF($C$2=2,L535,IF($C$2=3,L536, IF($C$2=4, L537, \"  chyba\"))))","v":"Mezistěna, 650mm, šedá"},{"$f":"IF($C$2=1,M534,IF($C$2=2,M535,IF($C$2=3,M536, IF($C$2=4, M537, \"  chyba\"))))","v":"Z46L620S   "},{"$f":"IF($C$2=1,N534,IF($C$2=2,N535,IF($C$2=3,N536, IF($C$2=4, N537, \"  chyba\"))))","v":"R906"},{"$f":"IF($C$2=1,O534,IF($C$2=2,O535,IF($C$2=3,O536, IF($C$2=4, O537, \"  chyba\"))))","v":"!"},{"$f":"IF($C$2=1,P534,IF($C$2=2,P535,IF($C$2=3,P536, IF($C$2=4, P537, \"  chyba\"))))","v":0},{"$f":"IF($C$2=1,Q534,IF($C$2=2,Q535,IF($C$2=3,Q536, IF($C$2=4, Q537, \"  chyba\"))))*(100-$F$6)/100","v":0},null,null,{"$f":"IF($C$2=1,T534,IF($C$2=2,T535,IF($C$2=3,T536, IF($C$2=4, T537, \"  chyba\"))))","v":8675800},{"$f":"IF($C$2=1,U534,IF($C$2=2,U535,IF($C$2=3,U536, IF($C$2=4, U537, \"  chyba\"))))","v":"na dotaz"},null,{"$f":"Price!A534","v":"Mezistěna, 650mm, šedá"},{"$f":"Price!B534","v":"Z46L620S   "},{"$f":"Price!C534","v":"R906"},{"$f":"Price!D534","v":"!"},{"$f":"Price!E534","v":0},{"$f":"Price!F534","v":0},null,null,{"$f":"Price!G534","v":8675800},{"$f":"Price!H534","v":"na dotaz"}]
[null,null,null,null,null,null,null,null,null,null,null,{"$f":"Price!A535","v":"Mezistěna, 650mm, hedvábně bílá"},{"$f":"Price!B535","v":"Z46L620S  "},{"$f":"Price!C535","v":"SEIW"},{"$f":"Price!D535","v":"!"},{"$f":"Price!E535","v":0},{"$f":"Price!F535","v":0},null,null,{"$f":"Price!G535","v":7935060},{"$f":"Price!H535","v":"na dotaz"}]
[null,null,null,null,null,null,null,null,null,null,null,{"$f":"Price!A536","v":"Mezistěna, 650mm, černá Terra"},{"$f":"Price!B536","v":"Z46L620S  "},{"$f":"Price!C536","v":"TERS"},{"$f":"Price!D536","v":"!"},{"$f":"Price!E536","v":0},{"$f":"Price!F536","v":0},null,null,{"$f":"Price!G536","v":7935064},{"$f":"Price!H536","v":"na dotaz"}]
[null,null,null,null,null,null,null,null,null,null,null,{"$f":"Price!A537","v":"Mezistěna, 650mm, nerez (Inox)"},{"$f":"Price!B537","v":"Z46L620I"},{"$f":"Price!C537","v":"INGL"},{"$f":"Price!D537","v":"!"},{"$f":"Price!E537","v":0},{"$f":"Price!F537","v":0},null,null,{"$f":"Price!G537","v":8030450},{"$f":"Price!H537","v":"na dotaz"}]
[null,null,null,null,null,null,null,null,null,null,null,{"$f":"Price!A538","v":0},{"$f":"Price!B538","v":0},{"$f":"Price!C538","v":0},{"$f":"Price!D538","v":0},{"$f":"Price!E538","v":0},{"$f":"Price!F538","v":0},null,null,{"$f":"Price!G538","v":0},{"$f":"Price!H538","v":0}]
[null,null,null,null,null,null,null,null,null,null,null,{"$f":"Price!A539","v":"   ORGA-LINE vana na lahve"},{"$f":"Price!B539","v":0},{"$f":"Price!C539","v":0},{"$f":"Price!D539","v":0},{"$f":"Price!E539","v":0},{"$f":"Price!F539","v":0},null,null,{"$f":"Price!G539","v":0},{"$f":"Price!H539","v":0}]
[{"$f":"L540","v":"Vana na láhve, 500mm"},{"$f":"M540","v":"Z48.30B0I6"},{"$f":"N540","v":"IG/G"},{"$f":"O540","v":0},null,{"$f":"Q540*(100-$F$6)/100","v":1084.9000000000001},null,null,{"$f":"T540","v":4050440},{"$f":"U540","v":"D460316"},null,{"$f":"Price!A540","v":"Vana na láhve, 500mm"},{"$f":"Price!B540","v":"Z48.30B0I6"},{"$f":"Price!C540","v":"IG/G"},{"$f":"Price!D540","v":0},{"$f":"Price!E540","v":0},{"$f":"Price!F540","v":1084.9000000000001},null,null,{"$f":"Price!G540","v":4050440},{"$f":"Price!H540","v":"D460316"}]
[null,null,null,null,null,null,null,null,null,null,null,{"$f":"Price!A541","v":0},{"$f":"Price!B541","v":0},{"$f":"Price!C541","v":0},{"$f":"Price!D541","v":0},{"$f":"Price!E541","v":0},{"$f":"Price!F541","v":0},null,null,{"$f":"Price!G541","v":0},{"$f":"Price!H541","v":0}]
[null,null,null,null,null,null,null,null,null,null,null,{"$f":"Price!A542","v":0},{"$f":"Price!B542","v":0},{"$f":"Price!C542","v":0},{"$f":"Price!D542","v":0},{"$f":"Price!E542","v":0},{"$f":"Price!F542","v":0},null,null,{"$f":"Price!G542","v":0},{"$f":"Price!H542","v":0}]
[null,null,null,null,null,null,null,null,null,null,null,{"$f":"Price!A543","v":"   ORGA-LINE pomůcky do kuchyně"},{"$f":"Price!B543","v":0},{"$f":"Price!C543","v":0},{"$f":"Price!D543","v":0},{"$f":"Price!E543","v":0},{"$f":"Price!F543","v":0},null,null,{"$f":"Price!G543","v":0},{"$f":"Price!H543","v":0}]
[{"$f":"L544","v":"Držák talířů"},{"$f":"M544","v":"ZC7T0350"},{"$f":"N544","v":"OG-M"},{"$f":"O544","v":0},null,{"$f":"Q544*(100-$F$6)/100","v":980.5},null,null,{"$f":"T544","v":1366848},{"$f":"U544","v":"D543781"},null,{"$f":"Price!A544","v":"Držák talířů"},{"$f":"Price!B544","v":"ZC7T0350"},{"$f":"Price!C544","v":"OG-M"},{"$f":"Price!D544","v":0},{"$f":"Price!E544","v":0},{"$f":"Price!F544","v":980.5},null,null,{"$f":"Price!G544","v":1366848},{"$f":"Price!H544","v":"D543781"}]
["Držák nožů","ZSZ.02M0","IG/G",{"$f":"O545","v":0},null,590.5,null,null,6484600,"D201441",null,{"$f":"Price!A545","v":"Držák nožů"},{"$f":"Price!B545","v":"ZSZ.02M0"},{"$f":"Price!C545","v":"IG/G"},{"$f":"Price!D545","v":0},{"$f":"Price!E545","v":0},{"$f":"Price!F545","v":590.5},null,null,{"$f":"Price!G545","v":6484600},{"$f":"Price!H545","v":"D201441"}]
["Stojánek na kořenky, KB 300mm","ZFZ.30G0I","INGL",0,null,509.2,null,null,3852306,"D395569",null,{"$f":"Price!A546","v":"Stojánek na kořenky, KB 300mm"},{"$f":"Price!B546","v":"ZFZ.30G0I"},{"$f":"Price!C546","v":"INGL"},{"$f":"Price!D546","v":0},{"$f":"Price!E546","v":0},{"$f":"Price!F546","v":509.2},null,null,{"$f":"Price!G546","v":3852306},{"$f":"Price!H546","v":"D395569"}]
["Stojánek na kořenky, KB 400mm","ZFZ.40G0I","INGL",0,null,0,null,null,3189131,"na dotaz",null,{"$f":"Price!A547","v":"Stojánek na kořenky, KB 400mm"},{"$f":"Price!B547","v":"ZFZ.40G0I"},{"$f":"Price!C547","v":"INGL"},{"$f":"Price!D547","v":0},{"$f":"Price!E547","v":0},{"$f":"Price!F547","v":0},null,null,{"$f":"Price!G547","v":3189131},{"$f":"Price!H547","v":"na dotaz"}]
["Stojánek na kořenky, KB 450mm","ZFZ.45G0I","INGL",0,null,0,null,null,6278581,"na dotaz",null,{"$f":"Price!A548","v":"Stojánek na kořenky, KB 450mm"},{"$f":"Price!B548","v":"ZFZ.45G0I"},{"$f":"Price!C548","v":"INGL"},{"$f":"Price!D548","v":0},{"$f":"Price!E548","v":0},{"$f":"Price!F548","v":0},null,null,{"$f":"Price!G548","v":6278581},{"$f":"Price!H548","v":"na dotaz"}]
["Držák s řezákem na potravinové folie","ZSZ.01F0","STW/G",0,null,954.3,null,null,9068380,"D347226",null,{"$f":"Price!A549","v":"Držák s řezákem na potravinové folie"},{"$f":"Price!B549","v":"ZSZ.01F0"},{"$f":"Price!C549","v":"STW/G"},{"$f":"Price!D549","v":0},{"$f":"Price!E549","v":0},{"$f":"Price!F549","v":954.3},null,null,{"$f":"Price!G549","v":9068380},{"$f":"Price!H549","v":"D347226"}]
["Držák s řezákem na alufolie","ZSZ.02F0","ST/O",0,null,894.7,null,null,9068450,"D347227",null,{"$f":"Price!A550","v":"Držák s řezákem na alufolie"},{"$f":"Price!B550","v":"ZSZ.02F0"},{"$f":"Price!C550","v":"ST/O"},{"$f":"Price!D550","v":0},{"$f":"Price!E550","v":0},{"$f":"Price!F550","v":894.7},null,null,{"$f":"Price!G550","v":9068450},{"$f":"Price!H550","v":"D347227"}]
["Sada pomůcek do kuchyně","ZOU.30U1I",0,0,null,5829,null,null,9411980,"D348281",null,{"$f":"Price!A551","v":"Sada pomůcek do kuchyně"},{"$f":"Price!B551","v":"ZOU.30U1I"},{"$f":"Price!C551","v":0},{"$f":"Price!D551","v":0},{"$f":"Price!E551","v":0},{"$f":"Price!F551","v":5829},null,null,{"$f":"Price!G551","v":9411980},{"$f":"Price!H551","v":"D348281"}]
[null,null,null,null,null,null,null,null,null,null,null,{"$f":"Price!A552","v":0},{"$f":"Price!B552","v":0},{"$f":"Price!C552","v":0},{"$f":"Price!D552","v":0},{"$f":"Price!E552","v":0},{"$f":"Price!F552","v":0},null,null,{"$f":"Price!G552","v":0},{"$f":"Price!H552","v":0}]
[null,null,null,null,null,null,null,null,null,null,null,{"$f":"Price!A553","v":0},{"$f":"Price!B553","v":0},{"$f":"Price!C553","v":0},{"$f":"Price!D553","v":0},{"$f":"Price!E553","v":0},{"$f":"Price!F553","v":0},null,null,{"$f":"Price!G553","v":0},{"$f":"Price!H553","v":0}]
[null,null,null,null,null,null,null,null,null,null,null,{"$f":"Price!A554","v":0},{"$f":"Price!B554","v":0},{"$f":"Price!C554","v":0},{"$f":"Price!D554","v":0},{"$f":"Price!E554","v":0},{"$f":"Price!F554","v":0},null,null,{"$f":"Price!G554","v":0},{"$f":"Price!H554","v":0}]
[null,null,null,null,null,null,null,null,null,null,null,{"$f":"Price!A555","v":0},{"$f":"Price!B555","v":0},{"$f":"Price!C555","v":0},{"$f":"Price!D555","v":0},{"$f":"Price!E555","v":0},{"$f":"Price!F555","v":0},null,null,{"$f":"Price!G555","v":0},{"$f":"Price!H555","v":0}]
[null,null,null,null,null,null,null,null,null,null,null,{"$f":"Price!A556","v":0},{"$f":"Price!B556","v":0},{"$f":"Price!C556","v":0},{"$f":"Price!D556","v":0},{"$f":"Price!E556","v":0},{"$f":"Price!F556","v":0},null,null,{"$f":"Price!G556","v":0},{"$f":"Price!H556","v":0}]
[null,null,null,null,null,null,null,null,null,null,null,{"$f":"Price!A557","v":0},{"$f":"Price!B557","v":0},{"$f":"Price!C557","v":0},{"$f":"Price!D557","v":0},{"$f":"Price!E557","v":0},{"$f":"Price!F557","v":0},null,null,{"$f":"Price!G557","v":0},{"$f":"Price!H557","v":0}]
[null,null,null,null,null,null,null,null,null,null,null,{"$f":"Price!A558","v":0},{"$f":"Price!B558","v":0},{"$f":"Price!C558","v":0},{"$f":"Price!D558","v":0},{"$f":"Price!E558","v":0},{"$f":"Price!F558","v":0},null,null,{"$f":"Price!G558","v":0},{"$f":"Price!H558","v":0}]
[null,null,null,null,null,null,null,null,null,null,null,{"$f":"Price!A559","v":0},{"$f":"Price!B559","v":0},{"$f":"Price!C559","v":0},{"$f":"Price!D559","v":0},{"$f":"Price!E559","v":0},{"$f":"Price!F559","v":0},null,null,{"$f":"Price!G559","v":0},{"$f":"Price!H559","v":0}]
[null,null,null,null,null,null,null,null,null,null,null,{"$f":"Price!A560","v":0},{"$f":"Price!B560","v":0},{"$f":"Price!C560","v":0},{"$f":"Price!D560","v":0},{"$f":"Price!E560","v":0},{"$f":"Price!F560","v":0},null,null,{"$f":"Price!G560","v":0},{"$f":"Price!H560","v":0}]
[null,null,null,null,null,null,null,null,null,null,null,{"$f":"Price!A561","v":0},{"$f":"Price!B561","v":0},{"$f":"Price!C561","v":0},{"$f":"Price!D561","v":0},{"$f":"Price!E561","v":0},{"$f":"Price!F561","v":0},null,null,{"$f":"Price!G561","v":0},{"$f":"Price!H561","v":0}]
[null,null,null,null,null,null,null,null,null,null,null,{"$f":"Price!A562","v":0},{"$f":"Price!B562","v":0},{"$f":"Price!C562","v":0},{"$f":"Price!D562","v":0},{"$f":"Price!E562","v":0},{"$f":"Price!F562","v":0},null,null,{"$f":"Price!G562","v":0},{"$f":"Price!H562","v":0}]
[null,null,null,null,null,null,null,null,null,null,null,{"$f":"Price!A563","v":0},{"$f":"Price!B563","v":0},{"$f":"Price!C563","v":0},{"$f":"Price!D563","v":0},{"$f":"Price!E563","v":0},{"$f":"Price!F563","v":0},null,null,{"$f":"Price!G563","v":0},{"$f":"Price!H563","v":0}]
[null,null,null,null,null,null,null,null,null,null,null,{"$f":"Price!A564","v":0},{"$f":"Price!B564","v":0},{"$f":"Price!C564","v":0},{"$f":"Price!D564","v":0},{"$f":"Price!E564","v":0},{"$f":"Price!F564","v":0},null,null,{"$f":"Price!G564","v":0},{"$f":"Price!H564","v":0}]
[null,null,null,null,null,null,null,null,null,null,null,{"$f":"Price!A565","v":0},{"$f":"Price!B565","v":0},{"$f":"Price!C565","v":0},{"$f":"Price!D565","v":0},{"$f":"Price!E565","v":0},{"$f":"Price!F565","v":0},null,null,{"$f":"Price!G565","v":0},{"$f":"Price!H565","v":0}]
[null,null,null,null,null,null,null,null,null,null,null,{"$f":"Price!A566","v":0},{"$f":"Price!B566","v":0},{"$f":"Price!C566","v":0},{"$f":"Price!D566","v":0},{"$f":"Price!E566","v":0},{"$f":"Price!F566","v":0},null,null,{"$f":"Price!G566","v":0},{"$f":"Price!H566","v":0}]
[null,null,null,null,null,null,null,null,null,null,null,{"$f":"Price!A567","v":0},{"$f":"Price!B567","v":0},{"$f":"Price!C567","v":0},{"$f":"Price!D567","v":0},{"$f":"Price!E567","v":0},{"$f":"Price!F567","v":0},null,null,{"$f":"Price!G567","v":0},{"$f":"Price!H567","v":0}]
[null,null,null,null,null,null,null,null,null,null,null,{"$f":"Price!A568","v":0},{"$f":"Price!B568","v":0},{"$f":"Price!C568","v":0},{"$f":"Price!D568","v":0},{"$f":"Price!E568","v":0},{"$f":"Price!F568","v":0},null,null,{"$f":"Price!G568","v":0},{"$f":"Price!H568","v":0}]
[null,null,null,null,null,null,null,null,null,null,null,{"$f":"Price!A569","v":"   SERVO-DRIVE"},{"$f":"Price!B569","v":0},{"$f":"Price!C569","v":0},{"$f":"Price!D569","v":0},{"$f":"Price!E569","v":0},{"$f":"Price!F569","v":0},null,null,{"$f":"Price!G569","v":0},{"$f":"Price!H569","v":0}]
[{"$f":"L570","v":"Distanční doraz Blum, 5mm"},{"$f":"M570","v":"993.0530"},{"$f":"N570","v":"R737"},{"$f":"O570","v":0},null,{"$f":"Q570*(100-$F$6)/100","v":17.600000000000001},null,null,{"$f":"T570","v":7834990},{"$f":"U570","v":"D298325"},null,{"$f":"Price!A570","v":"Distanční doraz Blum, 5mm"},{"$f":"Price!B570","v":"993.0530"},{"$f":"Price!C570","v":"R737"},{"$f":"Price!D570","v":0},{"$f":"Price!E570","v":0},{"$f":"Price!F570","v":17.600000000000001},null,null,{"$f":"Price!G570","v":7834990},{"$f":"Price!H570","v":"D298325"}]
["Distanční doraz Blum, 8mm","993.0830.01","R737",{"$f":"O571","v":0},null,15.8,null,null,7402930,"D198622",null,{"$f":"Price!A571","v":"Distanční doraz Blum, 8mm"},{"$f":"Price!B571","v":"993.0830.01"},{"$f":"Price!C571","v":"R737"},{"$f":"Price!D571","v":0},{"$f":"Price!E571","v":0},{"$f":"Price!F571","v":15.8},null,null,{"$f":"Price!G571","v":7402930},{"$f":"Price!H571","v":"D198622"}]
["Pohonná servo jednotka","Z10A3000.03","R737",0,null,1711.8,null,null,6970029,"D198620",null,{"$f":"Price!A572","v":"Pohonná servo jednotka"},{"$f":"Price!B572","v":"Z10A3000.03"},{"$f":"Price!C572","v":"R737"},{"$f":"Price!D572","v":0},{"$f":"Price!E572","v":0},{"$f":"Price!F572","v":1711.8},null,null,{"$f":"Price!G572","v":6970029},{"$f":"Price!H572","v":"D198620"}]
["Držák nosníku, vlys naležato","Z10D01E0.01","R737",0,null,83.9,null,null,3061821,"D283286",null,{"$f":"Price!A573","v":"Držák nosníku, vlys naležato"},{"$f":"Price!B573","v":"Z10D01E0.01"},{"$f":"Price!C573","v":"R737"},{"$f":"Price!D573","v":0},{"$f":"Price!E573","v":0},{"$f":"Price!F573","v":83.9},null,null,{"$f":"Price!G573","v":3061821},{"$f":"Price!H573","v":"D283286"}]
["Držák nosníku, vlys nastojato","Z10D01EA.01","R737",0,null,104.7,null,null,9879558,"D301067",null,{"$f":"Price!A574","v":"Držák nosníku, vlys nastojato"},{"$f":"Price!B574","v":"Z10D01EA.01"},{"$f":"Price!C574","v":"R737"},{"$f":"Price!D574","v":0},{"$f":"Price!E574","v":0},{"$f":"Price!F574","v":104.7},null,null,{"$f":"Price!G574","v":9879558},{"$f":"Price!H574","v":"D301067"}]
["Držák servo jednotky jednoduchý","Z10D0311","R737",0,null,171.2,null,null,4805174,"D473563",null,{"$f":"Price!A575","v":"Držák servo jednotky jednoduchý"},{"$f":"Price!B575","v":"Z10D0311"},{"$f":"Price!C575","v":"R737"},{"$f":"Price!D575","v":0},{"$f":"Price!E575","v":0},{"$f":"Price!F575","v":171.2},null,null,{"$f":"Price!G575","v":4805174},{"$f":"Price!H575","v":"D473563"}]
["Držák servo jednotky zdvojený","Z10D7201.01","R737",0,null,341.4,null,null,1640683,"D311905",null,{"$f":"Price!A576","v":"Držák servo jednotky zdvojený"},{"$f":"Price!B576","v":"Z10D7201.01"},{"$f":"Price!C576","v":"R737"},{"$f":"Price!D576","v":0},{"$f":"Price!E576","v":0},{"$f":"Price!F576","v":341.4},null,null,{"$f":"Price!G576","v":1640683},{"$f":"Price!H576","v":"D311905"}]
["Držák servo jednotky horní","Z10D6252","R737",0,null,481.6,null,null,8010962,"D298329",null,{"$f":"Price!A577","v":"Držák servo jednotky horní"},{"$f":"Price!B577","v":"Z10D6252"},{"$f":"Price!C577","v":"R737"},{"$f":"Price!D577","v":0},{"$f":"Price!E577","v":0},{"$f":"Price!F577","v":481.6},null,null,{"$f":"Price!G577","v":8010962},{"$f":"Price!H577","v":"D298329"}]
["Držák kabelu s Klebesockel","Z10K0009","NA",0,null,19.3,null,null,7283231,"D198614",null,{"$f":"Price!A578","v":"Držák kabelu s Klebesockel"},{"$f":"Price!B578","v":"Z10K0009"},{"$f":"Price!C578","v":"NA"},{"$f":"Price!D578","v":0},{"$f":"Price!E578","v":0},{"$f":"Price!F578","v":19.3},null,null,{"$f":"Price!G578","v":7283231},{"$f":"Price!H578","v":"D198614"}]
["Synchronizační kabel 8cm","Z10K008S ","W",0,null,107.4,null,null,7288466,"D683433",null,{"$f":"Price!A579","v":"Synchronizační kabel 8cm"},{"$f":"Price!B579","v":"Z10K008S "},{"$f":"Price!C579","v":"W"},{"$f":"Price!D579","v":0},{"$f":"Price!E579","v":0},{"$f":"Price!F579","v":107.4},null,null,{"$f":"Price!G579","v":7288466},{"$f":"Price!H579","v":"D683433"}]
["Synchronizační kabel 50cm","Z10K050S","W",0,null,149.1,null,null,8013626,"D377668",null,{"$f":"Price!A580","v":"Synchronizační kabel 50cm"},{"$f":"Price!B580","v":"Z10K050S"},{"$f":"Price!C580","v":"W"},{"$f":"Price!D580","v":0},{"$f":"Price!E580","v":0},{"$f":"Price!F580","v":149.1},null,null,{"$f":"Price!G580","v":8013626},{"$f":"Price!H580","v":"D377668"}]
["Synchronizační kabel 120cm","Z10K120S","W",0,null,230.8,null,null,7288546,"D645288",null,{"$f":"Price!A581","v":"Synchronizační kabel 120cm"},{"$f":"Price!B581","v":"Z10K120S"},{"$f":"Price!C581","v":"W"},{"$f":"Price!D581","v":0},{"$f":"Price!E581","v":0},{"$f":"Price!F581","v":230.8},null,null,{"$f":"Price!G581","v":7288546},{"$f":"Price!H581","v":"D645288"}]
["Synchronizační kabel 160cm","Z10K160S","W",0,null,260.7,null,null,7361306,"D683434",null,{"$f":"Price!A582","v":"Synchronizační kabel 160cm"},{"$f":"Price!B582","v":"Z10K160S"},{"$f":"Price!C582","v":"W"},{"$f":"Price!D582","v":0},{"$f":"Price!E582","v":0},{"$f":"Price!F582","v":260.7},null,null,{"$f":"Price!G582","v":7361306},{"$f":"Price!H582","v":"D683434"}]
["Elektrokabel, délka 8m + 5 krytek","Z10K800AE","S",0,null,669,null,null,7550294,"D198611",null,{"$f":"Price!A583","v":"Elektrokabel, délka 8m + 5 krytek"},{"$f":"Price!B583","v":"Z10K800AE"},{"$f":"Price!C583","v":"S"},{"$f":"Price!D583","v":0},{"$f":"Price!E583","v":0},{"$f":"Price!F583","v":669},null,null,{"$f":"Price!G583","v":7550294},{"$f":"Price!H583","v":"D198611"}]
["Napájecí kabel se zástrčkou, 2m","Z10M200E ","S",0,null,162.19999999999999,null,null,7205784,"D198599",null,{"$f":"Price!A584","v":"Napájecí kabel se zástrčkou, 2m"},{"$f":"Price!B584","v":"Z10M200E "},{"$f":"Price!C584","v":"S"},{"$f":"Price!D584","v":0},{"$f":"Price!E584","v":0},{"$f":"Price!F584","v":162.19999999999999},null,null,{"$f":"Price!G584","v":7205784},{"$f":"Price!H584","v":"D198599"}]
["Napájecí zdroj 24 W","Z10NE020E","S",0,null,2469.3000000000002,null,null,6960549,"D198597",null,{"$f":"Price!A585","v":"Napájecí zdroj 24 W"},{"$f":"Price!B585","v":"Z10NE020E"},{"$f":"Price!C585","v":"S"},{"$f":"Price!D585","v":0},{"$f":"Price!E585","v":0},{"$f":"Price!F585","v":2469.3000000000002},null,null,{"$f":"Price!G585","v":6960549},{"$f":"Price!H585","v":"D198597"}]
["Držák napájecího zdroje - montáž do dna","Z10NG000","R737",0,null,167,null,null,7282180,"D301068",null,{"$f":"Price!A586","v":"Držák napájecího zdroje - montáž do dna"},{"$f":"Price!B586","v":"Z10NG000"},{"$f":"Price!C586","v":"R737"},{"$f":"Price!D586","v":0},{"$f":"Price!E586","v":0},{"$f":"Price!F586","v":167},null,null,{"$f":"Price!G586","v":7282180},{"$f":"Price!H586","v":"D301068"}]
["Držák napájecího zdroje - montáž na stěnu","Z10NG120","WGR",0,null,90.1,null,null,9327076,"D198600",null,{"$f":"Price!A587","v":"Držák napájecího zdroje - montáž na stěnu"},{"$f":"Price!B587","v":"Z10NG120"},{"$f":"Price!C587","v":"WGR"},{"$f":"Price!D587","v":0},{"$f":"Price!E587","v":0},{"$f":"Price!F587","v":90.1},null,null,{"$f":"Price!G587","v":9327076},{"$f":"Price!H587","v":"D198600"}]
["Propojovací svorka s hroty + krytka","Z10V100E.01","S",0,null,159.30000000000001,null,null,8820285,"D198616",null,{"$f":"Price!A588","v":"Propojovací svorka s hroty + krytka"},{"$f":"Price!B588","v":"Z10V100E.01"},{"$f":"Price!C588","v":"S"},{"$f":"Price!D588","v":0},{"$f":"Price!E588","v":0},{"$f":"Price!F588","v":159.30000000000001},null,null,{"$f":"Price!G588","v":8820285},{"$f":"Price!H588","v":"D198616"}]
["Nosník, 650mm, s předmont. kabelem ","Z10T650AA ","Alu",0,null,874.4,null,null,0,"D301065",null,{"$f":"Price!A589","v":"Nosník, 650mm, s předmont. kabelem "},{"$f":"Price!B589","v":"Z10T650AA "},{"$f":"Price!C589","v":"Alu"},{"$f":"Price!D589","v":0},{"$f":"Price!E589","v":0},{"$f":"Price!F589","v":874.4},null,null,{"$f":"Price!G589","v":0},{"$f":"Price!H589","v":"D301065"}]
["Nosník, 670mm, s předmont. kabelem ","Z10T670AA ","Alu",0,null,874.4,null,null,7716441,"D484113",null,{"$f":"Price!A590","v":"Nosník, 670mm, s předmont. kabelem "},{"$f":"Price!B590","v":"Z10T670AA "},{"$f":"Price!C590","v":"Alu"},{"$f":"Price!D590","v":0},{"$f":"Price!E590","v":0},{"$f":"Price!F590","v":874.4},null,null,{"$f":"Price!G590","v":7716441},{"$f":"Price!H590","v":"D484113"}]
["Nosník, 700mm, s předmont. kabelem ","Z10T700AA","Alu",0,null,916.2,null,null,0,"D559513",null,{"$f":"Price!A591","v":"Nosník, 700mm, s předmont. kabelem "},{"$f":"Price!B591","v":"Z10T700AA"},{"$f":"Price!C591","v":"Alu"},{"$f":"Price!D591","v":0},{"$f":"Price!E591","v":0},{"$f":"Price!F591","v":916.2},null,null,{"$f":"Price!G591","v":0},{"$f":"Price!H591","v":"D559513"}]
["Nosník, 750mm, s předmont. kabelem ","Z10T750AA ","Alu",0,null,957.9,null,null,7466401,"D199113",null,{"$f":"Price!A592","v":"Nosník, 750mm, s předmont. kabelem "},{"$f":"Price!B592","v":"Z10T750AA "},{"$f":"Price!C592","v":"Alu"},{"$f":"Price!D592","v":0},{"$f":"Price!E592","v":0},{"$f":"Price!F592","v":957.9},null,null,{"$f":"Price!G592","v":7466401},{"$f":"Price!H592","v":"D199113"}]
["Nosník, 800mm, s předmont. kabelem ","Z10T800AA  ","Alu",0,null,1011.6,null,null,0,"D393400",null,{"$f":"Price!A593","v":"Nosník, 800mm, s předmont. kabelem "},{"$f":"Price!B593","v":"Z10T800AA  "},{"$f":"Price!C593","v":"Alu"},{"$f":"Price!D593","v":0},{"$f":"Price!E593","v":0},{"$f":"Price!F593","v":1011.6},null,null,{"$f":"Price!G593","v":0},{"$f":"Price!H593","v":"D393400"}]
["Nosník 1170mm, bez kabelu","Z10T1170A","Alu",0,null,1020,null,null,7287731,"D393811",null,{"$f":"Price!A594","v":"Nosník 1170mm, bez kabelu"},{"$f":"Price!B594","v":"Z10T1170A"},{"$f":"Price!C594","v":"Alu"},{"$f":"Price!D594","v":0},{"$f":"Price!E594","v":0},{"$f":"Price!F594","v":1020},null,null,{"$f":"Price!G594","v":7287731},{"$f":"Price!H594","v":"D393811"}]
["Mechanizmus vyhazovače ","Z10A3H00","R737",0,null,71.599999999999994,null,null,7472980,"D683431",null,{"$f":"Price!A595","v":"Mechanizmus vyhazovače "},{"$f":"Price!B595","v":"Z10A3H00"},{"$f":"Price!C595","v":"R737"},{"$f":"Price!D595","v":0},{"$f":"Price!E595","v":0},{"$f":"Price!F595","v":71.599999999999994},null,null,{"$f":"Price!G595","v":7472980},{"$f":"Price!H595","v":"D683431"}]
["Horizontální nosník","Z10T1143B","Alu",0,null,421.7,null,null,7922191,"D683438",null,{"$f":"Price!A596","v":"Horizontální nosník"},{"$f":"Price!B596","v":"Z10T1143B"},{"$f":"Price!C596","v":"Alu"},{"$f":"Price!D596","v":0},{"$f":"Price!E596","v":0},{"$f":"Price!F596","v":421.7},null,null,{"$f":"Price!G596","v":7922191},{"$f":"Price!H596","v":"D683438"}]
["Adaptér + držák horizont. nosníku","Z10D5210","R737",0,null,132.4,null,null,7867370,"D515897",null,{"$f":"Price!A597","v":"Adaptér + držák horizont. nosníku"},{"$f":"Price!B597","v":"Z10D5210"},{"$f":"Price!C597","v":"R737"},{"$f":"Price!D597","v":0},{"$f":"Price!E597","v":0},{"$f":"Price!F597","v":132.4},null,null,{"$f":"Price!G597","v":7867370},{"$f":"Price!H597","v":"D515897"}]
["COMBOX","Z10ZC00A","S",0,null,2973.6,null,null,5202593,"D572693",null,{"$f":"Price!A598","v":"COMBOX"},{"$f":"Price!B598","v":"Z10ZC00A"},{"$f":"Price!C598","v":"S"},{"$f":"Price!D598","v":0},{"$f":"Price!E598","v":0},{"$f":"Price!F598","v":2973.6},null,null,{"$f":"Price!G598","v":5202593},{"$f":"Price!H598","v":"D572693"}]
["SD uno - sada pro výsuv na odpad","Z10NA20EE01","R737",0,null,3366.6,null,null,9820785,"D366440",null,{"$f":"Price!A599","v":"SD uno - sada pro výsuv na odpad"},{"$f":"Price!B599","v":"Z10NA20EE01"},{"$f":"Price!C599","v":"R737"},{"$f":"Price!D599","v":0},{"$f":"Price!E599","v":0},{"$f":"Price!F599","v":3366.6},null,null,{"$f":"Price!G599","v":9820785},{"$f":"Price!H599","v":"D366440"}]
[{"$f":"L600","v":"SD uno - pro zavěšené odpad.koše, KB 600mm"},"Z10T543WEE","R737",0,null,{"$f":"Q600*(100-$F$6)/100","v":4312.8999999999996},null,null,{"$f":"T600","v":7190296},"D683439",null,{"$f":"Price!A600","v":"SD uno - pro zavěšené odpad.koše, KB 600mm"},{"$f":"Price!B600","v":"Z10T543WEE"},{"$f":"Price!C600","v":"R737"},{"$f":"Price!D600","v":0},{"$f":"Price!E600","v":0},{"$f":"Price!F600","v":4312.8999999999996},null,null,{"$f":"Price!G600","v":7190296},{"$f":"Price!H600","v":"D683439"}]
["SERVO-DRIVE flex - jednotka (sada)","Z10C500A","R736",0,null,{"$f":"Q601*(100-$F$6)/100","v":4441.6000000000004},null,null,4784397,"D553923",null,{"$f":"Price!A601","v":"SERVO-DRIVE flex - jednotka (sada)"},{"$f":"Price!B601","v":"Z10C500A"},{"$f":"Price!C601","v":"R736"},{"$f":"Price!D601","v":0},{"$f":"Price!E601","v":0},{"$f":"Price!F601","v":4441.6000000000004},null,null,{"$f":"Price!G601","v":4784397},{"$f":"Price!H601","v":"D553923"}]
["SERVO-DRIVE flex - bezdrátový přijímač","Z10C5007","R736",0,null,{"$f":"Q602*(100-$F$6)/100","v":1740.6},null,null,1120793,"D553925",null,{"$f":"Price!A602","v":"SERVO-DRIVE flex - bezdrátový přijímač"},{"$f":"Price!B602","v":"Z10C5007"},{"$f":"Price!C602","v":"R736"},{"$f":"Price!D602","v":0},{"$f":"Price!E602","v":0},{"$f":"Price!F602","v":1740.6},null,null,{"$f":"Price!G602","v":1120793},{"$f":"Price!H602","v":"D553925"}]
["Spínač SERVO-DRIVE, světle šedý","21P5020","HGR",0,null,{"$f":"Q603*(100-$F$6)/100","v":745.6},null,null,8978398,"D515741",null,{"$f":"Price!A603","v":"Spínač SERVO-DRIVE, světle šedý"},{"$f":"Price!B603","v":"21P5020"},{"$f":"Price!C603","v":"HGR"},{"$f":"Price!D603","v":0},{"$f":"Price!E603","v":0},{"$f":"Price!F603","v":745.6},null,null,{"$f":"Price!G603","v":8978398},{"$f":"Price!H603","v":"D515741"}]
["Spínač SERVO-DRIVE, hedvábně bílý","21P5020","SW",0,null,{"$f":"Q604*(100-$F$6)/100","v":775.4},null,null,8978392,"D553924",null,{"$f":"Price!A604","v":"Spínač SERVO-DRIVE, hedvábně bílý"},{"$f":"Price!B604","v":"21P5020"},{"$f":"Price!C604","v":"SW"},{"$f":"Price!D604","v":0},{"$f":"Price!E604","v":0},{"$f":"Price!F604","v":775.4},null,null,{"$f":"Price!G604","v":8978392},{"$f":"Price!H604","v":"D553924"}]
[null,null,null,null,null,null,null,null,null,null,null,{"$f":"Price!A605","v":0},{"$f":"Price!B605","v":0},{"$f":"Price!C605","v":0},{"$f":"Price!D605","v":0},{"$f":"Price!E605","v":0},{"$f":"Price!F605","v":0},null,null,{"$f":"Price!G605","v":0},{"$f":"Price!H605","v":0}]
[null,null,null,null,null,null,null,null,null,null,null,{"$f":"Price!A606","v":0},{"$f":"Price!B606","v":0},{"$f":"Price!C606","v":0},{"$f":"Price!D606","v":0},{"$f":"Price!E606","v":0},{"$f":"Price!F606","v":0},null,null,{"$f":"Price!G606","v":0},{"$f":"Price!H606","v":0}]
[null,null,null,null,null,null,null,null,null,null,null,{"$f":"Price!A607","v":0},{"$f":"Price!B607","v":0},{"$f":"Price!C607","v":0},{"$f":"Price!D607","v":0},{"$f":"Price!E607","v":0},{"$f":"Price!F607","v":0},null,null,{"$f":"Price!G607","v":0},{"$f":"Price!H607","v":0}]
[null,null,null,null,null,null,null,null,null,null,null,{"$f":"Price!A608","v":0},{"$f":"Price!B608","v":0},{"$f":"Price!C608","v":0},{"$f":"Price!D608","v":0},{"$f":"Price!E608","v":0},{"$f":"Price!F608","v":0},null,null,{"$f":"Price!G608","v":0},{"$f":"Price!H608","v":0}]
[null,null,null,null,null,null,null,null,null,null,null,{"$f":"Price!A609","v":"   Ostatní"},{"$f":"Price!B609","v":0},{"$f":"Price!C609","v":0},{"$f":"Price!D609","v":0},{"$f":"Price!E609","v":0},{"$f":"Price!F609","v":0},null,null,{"$f":"Price!G609","v":0},{"$f":"Price!H609","v":0}]
[{"$f":"L610","v":"Stabilizace čel"},"Z96.10E1","R737",{"$f":"O610","v":0},null,{"$f":"Q610*(100-$F$6)/100","v":29.8},null,null,{"$f":"T610","v":6448980},"D055344",null,{"$f":"Price!A610","v":"Stabilizace čel"},{"$f":"Price!B610","v":"Z96.10E1"},{"$f":"Price!C610","v":"R737"},{"$f":"Price!D610","v":0},{"$f":"Price!E610","v":0},{"$f":"Price!F610","v":29.8},null,null,{"$f":"Price!G610","v":6448980},{"$f":"Price!H610","v":"D055344"}]
[{"$f":"L611","v":"Tlumící čočka k zavrtání"},{"$f":"M611","v":"993.706"},{"$f":"N611","v":"R906"},{"$f":"O611","v":0},null,{"$f":"Q611*(100-$F$6)/100","v":3.8},null,null,{"$f":"T611","v":3283090},{"$f":"U611","v":"D055346"},null,{"$f":"Price!A611","v":"Tlumící čočka k zavrtání"},{"$f":"Price!B611","v":"993.706"},{"$f":"Price!C611","v":"R906"},{"$f":"Price!D611","v":0},{"$f":"Price!E611","v":0},{"$f":"Price!F611","v":3.8},null,null,{"$f":"Price!G611","v":3283090},{"$f":"Price!H611","v":"D055346"}]
[{"$f":"L612","v":"Boční stabilizace, 450 mm"},{"$f":"M612","v":"ZST.450BA"},{"$f":"N612","v":"R737"},{"$f":"O612","v":"!"},null,{"$f":"Q612*(100-$F$6)/100","v":561.5},null,null,{"$f":"T612","v":4320500},{"$f":"U612","v":"D635268"},null,{"$f":"Price!A612","v":"Boční stabilizace, 450 mm"},{"$f":"Price!B612","v":"ZST.450BA"},{"$f":"Price!C612","v":"R737"},{"$f":"Price!D612","v":"!"},{"$f":"Price!E612","v":0},{"$f":"Price!F612","v":561.5},null,null,{"$f":"Price!G612","v":4320500},{"$f":"Price!H612","v":"D635268"}]
["Boční stabilizace, 500 mm","ZST.500BA","R737",0,null,350,null,null,8929020,"D512423",null,{"$f":"Price!A613","v":"Boční stabilizace, 500 mm"},{"$f":"Price!B613","v":"ZST.500BA"},{"$f":"Price!C613","v":"R737"},{"$f":"Price!D613","v":0},{"$f":"Price!E613","v":0},{"$f":"Price!F613","v":350},null,null,{"$f":"Price!G613","v":8929020},{"$f":"Price!H613","v":"D512423"}]
["Boční stabilizace, 550 mm","ZST.550BA","R737","!",null,1070.0999999999999,null,null,8929190,"D625562",null,{"$f":"Price!A614","v":"Boční stabilizace, 550 mm"},{"$f":"Price!B614","v":"ZST.550BA"},{"$f":"Price!C614","v":"R737"},{"$f":"Price!D614","v":"!"},{"$f":"Price!E614","v":0},{"$f":"Price!F614","v":1070.0999999999999},null,null,{"$f":"Price!G614","v":8929190},{"$f":"Price!H614","v":"D625562"}]
["Boční stabilizace, 600 mm","ZST.600BA","R737","!",null,1074.7,null,null,8929260,"D625564",null,{"$f":"Price!A615","v":"Boční stabilizace, 600 mm"},{"$f":"Price!B615","v":"ZST.600BA"},{"$f":"Price!C615","v":"R737"},{"$f":"Price!D615","v":"!"},{"$f":"Price!E615","v":0},{"$f":"Price!F615","v":1074.7},null,null,{"$f":"Price!G615","v":8929260},{"$f":"Price!H615","v":"D625564"}]
["Boční stabilizace, 650 mm","ZST.650BA","R737","!",null,0,null,null,8929330,"na dotaz",null,{"$f":"Price!A616","v":"Boční stabilizace, 650 mm"},{"$f":"Price!B616","v":"ZST.650BA"},{"$f":"Price!C616","v":"R737"},{"$f":"Price!D616","v":"!"},{"$f":"Price!E616","v":0},{"$f":"Price!F616","v":0},null,null,{"$f":"Price!G616","v":8929330},{"$f":"Price!H616","v":"na dotaz"}]
[null,null,null,null,null,null,null,null,null,null,null,{"$f":"Price!A618","v":0},{"$f":"Price!B618","v":0},{"$f":"Price!C618","v":0},{"$f":"Price!D618","v":0},{"$f":"Price!E618","v":0},{"$f":"Price!F618","v":0},null,null,{"$f":"Price!G618","v":0},{"$f":"Price!H618","v":0}]
[null,null,null,null,null,null,null,null,null,null,null,{"$f":"Price!A619","v":0},{"$f":"Price!B619","v":0},{"$f":"Price!C619","v":0},{"$f":"Price!D619","v":0},{"$f":"Price!E619","v":0},{"$f":"Price!F619","v":0},null,null,{"$f":"Price!G619","v":0},{"$f":"Price!H619","v":0}]
[null,null,null,null,null,null,null,null,null,null,null,{"$f":"Price!A620","v":0},{"$f":"Price!B620","v":0},{"$f":"Price!C620","v":0},{"$f":"Price!D620","v":0},{"$f":"Price!E620","v":0},{"$f":"Price!F620","v":0},null,null,{"$f":"Price!G620","v":0},{"$f":"Price!H620","v":0}]
[null,null,null,null,null,null,null,null,null,null,null,{"$f":"Price!A621","v":0},{"$f":"Price!B621","v":0},{"$f":"Price!C621","v":0},{"$f":"Price!D621","v":0},{"$f":"Price!E621","v":0},{"$f":"Price!F621","v":0},null,null,{"$f":"Price!G621","v":0},{"$f":"Price!H621","v":0}]
[null,null,null,null,null,null,null,null,null,null,null,{"$f":"Price!A622","v":0},{"$f":"Price!B622","v":0},{"$f":"Price!C622","v":0},{"$f":"Price!D622","v":0},{"$f":"Price!E622","v":0},{"$f":"Price!F622","v":0},null,null,{"$f":"Price!G622","v":0},{"$f":"Price!H622","v":0}]
[null,null,null,null,null,null,null,null,null,null,null,{"$f":"Price!A623","v":0},{"$f":"Price!B623","v":0},{"$f":"Price!C623","v":0},{"$f":"Price!D623","v":0},{"$f":"Price!E623","v":0},{"$f":"Price!F623","v":0},null,null,{"$f":"Price!G623","v":0},{"$f":"Price!H623","v":0}]
[]
[null,null,null,null,null,null,null,null,null,null,null,{"$f":"Price!A624","v":0},{"$f":"Price!B624","v":0},{"$f":"Price!C624","v":0},{"$f":"Price!D624","v":0},{"$f":"Price!E624","v":0},{"$f":"Price!F624","v":0},null,null,{"$f":"Price!G624","v":0},{"$f":"Price!H624","v":0}]
[null,null,null,null,null,null,null,null,null,null,null,{"$f":"Price!A625","v":0},{"$f":"Price!B625","v":0},{"$f":"Price!C625","v":0},{"$f":"Price!D625","v":0},{"$f":"Price!E625","v":0},{"$f":"Price!F625","v":0},null,null,{"$f":"Price!G625","v":0},{"$f":"Price!H625","v":0}]
[null,null,null,null,null,null,null,null,null,null,null,{"$f":"Price!A626","v":0},{"$f":"Price!B626","v":0},{"$f":"Price!C626","v":0},{"$f":"Price!D626","v":0},{"$f":"Price!E626","v":0},{"$f":"Price!F626","v":0},null,null,{"$f":"Price!G626","v":0},{"$f":"Price!H626","v":0}]
[null,null,null,null,null,null,null,null,null,null,null,{"$f":"Price!A627","v":0},{"$f":"Price!B627","v":0},{"$f":"Price!C627","v":0},{"$f":"Price!D627","v":0},{"$f":"Price!E627","v":0},{"$f":"Price!F627","v":0},null,null,{"$f":"Price!G627","v":0},{"$f":"Price!H627","v":0}]
[null,null,null,null,null,null,null,null,null,null,null,{"$f":"Price!A628","v":0},{"$f":"Price!B628","v":0},{"$f":"Price!C628","v":0},{"$f":"Price!D628","v":0},{"$f":"Price!E628","v":0},{"$f":"Price!F628","v":0},null,null,{"$f":"Price!G628","v":0},{"$f":"Price!H628","v":0}]
[null,null,null,null,null,null,null,null,null,null,null,{"$f":"Price!A629","v":0},{"$f":"Price!B629","v":0},{"$f":"Price!C629","v":0},{"$f":"Price!D629","v":0},{"$f":"Price!E629","v":0},{"$f":"Price!F629","v":0},null,null,{"$f":"Price!G629","v":0},{"$f":"Price!H629","v":0}]
[null,null,null,null,null,null,null,null,null,null,null,{"$f":"Price!A630","v":"   Závěsy"},{"$f":"Price!B630","v":0},{"$f":"Price!C630","v":0},{"$f":"Price!D630","v":0},{"$f":"Price!E630","v":0},{"$f":"Price!F630","v":0},null,null,{"$f":"Price!G630","v":0},{"$f":"Price!H630","v":0}]
[{"$f":"L631","v":"CLIP top 155° s nulovým přesahem"},{"$f":"M631","v":"71T7500N"},{"$f":"N631","v":"NI"},{"$f":"O631","v":0},null,{"$f":"Q631*(100-$F$6)/100","v":112.5},null,null,{"$f":"T631","v":9064013},{"$f":"U631","v":"D290105"},null,{"$f":"Price!A631","v":"CLIP top 155° s nulovým přesahem"},{"$f":"Price!B631","v":"71T7500N"},{"$f":"Price!C631","v":"NI"},{"$f":"Price!D631","v":0},{"$f":"Price!E631","v":0},{"$f":"Price!F631","v":112.5},null,null,{"$f":"Price!G631","v":9064013},{"$f":"Price!H631","v":"D290105"}]
["CLIP top 155° s nulovým přesahem, EXPANDO","71T753EN","NI",{"$f":"O632","v":0},null,112.7,null,null,9064323,"D512424",null,{"$f":"Price!A632","v":"CLIP top 155° s nulovým přesahem, EXPANDO"},{"$f":"Price!B632","v":"71T753EN"},{"$f":"Price!C632","v":"NI"},{"$f":"Price!D632","v":0},{"$f":"Price!E632","v":0},{"$f":"Price!F632","v":112.7},null,null,{"$f":"Price!G632","v":9064323},{"$f":"Price!H632","v":"D512424"}]
["CLIP top 155° s nulovým přesahem, bez pružiny","70T7500NTL","NI",0,null,112.5,null,null,9141613,"D376602",null,{"$f":"Price!A633","v":"CLIP top 155° s nulovým přesahem, bez pružiny"},{"$f":"Price!B633","v":"70T7500NTL"},{"$f":"Price!C633","v":"NI"},{"$f":"Price!D633","v":0},{"$f":"Price!E633","v":0},{"$f":"Price!F633","v":112.5},null,null,{"$f":"Price!G633","v":9141613},{"$f":"Price!H633","v":"D376602"}]
[{"$f":"L634","v":"CLIP top 125° s nulovým přesahem"},{"$f":"M634","v":"71T7500D"},{"$f":"N634","v":"NI"},0,null,{"$f":"Q634*(100-$F$6)/100","v":153.1},null,null,{"$f":"T634","v":8298184},{"$f":"U634","v":"D532775"},null,{"$f":"Price!A634","v":"CLIP top 125° s nulovým přesahem"},{"$f":"Price!B634","v":"71T7500D"},{"$f":"Price!C634","v":"NI"},{"$f":"Price!D634","v":0},{"$f":"Price!E634","v":0},{"$f":"Price!F634","v":153.1},null,null,{"$f":"Price!G634","v":8298184},{"$f":"Price!H634","v":"D532775"}]
[null,null,null,null,null,null,null,null,null,null,null,null,null,null,{"$f":"Price!D635","v":0},{"$f":"Price!E635","v":0}]
["Podložka CLIP na vruty","173L6100","NI",0,null,5.0999999999999996,null,null,1925383,"D014425",null,{"$f":"Price!A636","v":"Podložka CLIP na vruty"},{"$f":"Price!B636","v":"173L6100"},{"$f":"Price!C636","v":"NI"},{"$f":"Price!D636","v":0},{"$f":"Price!E636","v":0},{"$f":"Price!F636","v":5.0999999999999996},null,null,{"$f":"Price!G636","v":1925383},{"$f":"Price!H636","v":"D014425"}]
["Podložka CLIP EXPANDO","174E6100.01","NI",0,null,8.1,null,null,1863003,"D014458",null,{"$f":"Price!A637","v":"Podložka CLIP EXPANDO"},{"$f":"Price!B637","v":"174E6100.01"},{"$f":"Price!C637","v":"NI"},{"$f":"Price!D637","v":0},{"$f":"Price!E637","v":0},{"$f":"Price!F637","v":8.1},null,null,{"$f":"Price!G637","v":1863003},{"$f":"Price!H637","v":"D014458"}]
["Podložka CLIP s excentrem","173H7100","NI",0,null,13.6,null,null,2364043,"D014460",null,{"$f":"Price!A638","v":"Podložka CLIP s excentrem"},{"$f":"Price!B638","v":"173H7100"},{"$f":"Price!C638","v":"NI"},{"$f":"Price!D638","v":0},{"$f":"Price!E638","v":0},{"$f":"Price!F638","v":13.6},null,null,{"$f":"Price!G638","v":2364043},{"$f":"Price!H638","v":"D014460"}]
["Podložka CLIP s excentrem, EXPANDO","174H7100E","NI",0,null,15.1,null,null,2364983,"D187455",null,{"$f":"Price!A639","v":"Podložka CLIP s excentrem, EXPANDO"},{"$f":"Price!B639","v":"174H7100E"},{"$f":"Price!C639","v":"NI"},{"$f":"Price!D639","v":0},{"$f":"Price!E639","v":0},{"$f":"Price!F639","v":15.1},null,null,{"$f":"Price!G639","v":2364983},{"$f":"Price!H639","v":"D187455"}]
["Podložka CLIP top přímá","175H5400","NI",0,null,18,null,null,8002803,"D198495",null,{"$f":"Price!A640","v":"Podložka CLIP top přímá"},{"$f":"Price!B640","v":"175H5400"},{"$f":"Price!C640","v":"NI"},{"$f":"Price!D640","v":0},{"$f":"Price!E640","v":0},{"$f":"Price!F640","v":18},null,null,{"$f":"Price!G640","v":8002803},{"$f":"Price!H640","v":"D198495"}]
["Podložka CLIP top přímá, EXPANDO","177H5400E","NI",0,null,20.7,null,null,8003033,"D354102",null,{"$f":"Price!A641","v":"Podložka CLIP top přímá, EXPANDO"},{"$f":"Price!B641","v":"177H5400E"},{"$f":"Price!C641","v":"NI"},{"$f":"Price!D641","v":0},{"$f":"Price!E641","v":0},{"$f":"Price!F641","v":20.7},null,null,{"$f":"Price!G641","v":8003033},{"$f":"Price!H641","v":"D354102"}]
["Podložka CLIP top přímá","175H3100","NI",0,null,12.9,null,null,1037431,"D495655",null,{"$f":"Price!A642","v":"Podložka CLIP top přímá"},{"$f":"Price!B642","v":"175H3100"},{"$f":"Price!C642","v":"NI"},{"$f":"Price!D642","v":0},{"$f":"Price!E642","v":0},{"$f":"Price!F642","v":12.9},null,null,{"$f":"Price!G642","v":1037431},{"$f":"Price!H642","v":"D495655"}]
["Podložka CLIP top přímá, EXPANDO","177H3100E","NI",0,null,13.3,null,null,3120329,"D496524",null,{"$f":"Price!A643","v":"Podložka CLIP top přímá, EXPANDO"},{"$f":"Price!B643","v":"177H3100E"},{"$f":"Price!C643","v":"NI"},{"$f":"Price!D643","v":0},{"$f":"Price!E643","v":0},{"$f":"Price!F643","v":13.3},null,null,{"$f":"Price!G643","v":3120329},{"$f":"Price!H643","v":"D496524"}]
["BLUMOTION pro nasazení na závěs 155° a 125°","973A7000","NI",0,null,41,null,null,8975943,"D290109",null,{"$f":"Price!A644","v":"BLUMOTION pro nasazení na závěs 155° a 125°"},{"$f":"Price!B644","v":"973A7000"},{"$f":"Price!C644","v":"NI"},{"$f":"Price!D644","v":0},{"$f":"Price!E644","v":0},{"$f":"Price!F644","v":41},null,null,{"$f":"Price!G644","v":8975943},{"$f":"Price!H644","v":"D290109"}]
["BLUMOTION v křížovém adaptéru","971A0500","NI",0,null,70,null,null,6823663,"D288441",null,{"$f":"Price!A645","v":"BLUMOTION v křížovém adaptéru"},{"$f":"Price!B645","v":"971A0500"},{"$f":"Price!C645","v":"NI"},{"$f":"Price!D645","v":0},{"$f":"Price!E645","v":0},{"$f":"Price!F645","v":70},null,null,{"$f":"Price!G645","v":6823663},{"$f":"Price!H645","v":"D288441"}]
[{"$f":"IF($C$2=1,L646,IF($C$2=2,L647,IF($C$2=3,L648, IF($C$2=4, L646, \"  chyba\"))))","v":"TIP-ON, prodloužená délka, šedý"},{"$f":"IF($C$2=1,M646,IF($C$2=2,M647,IF($C$2=3,M648, IF($C$2=4, M646, \"  chyba\"))))","v":"956A1004"},"PG",0,0,{"$f":"IF($C$2=1,Q646,IF($C$2=2,Q647,IF($C$2=3,Q648, IF($C$2=4, Q646, \"  chyba\"))))*(100-$F$6)/100","v":114.3},null,null,{"$f":"IF($C$2=1,T646,IF($C$2=2,T647,IF($C$2=3,T648, IF($C$2=4, T646, \"  chyba\"))))","v":6484096},{"$f":"IF($C$2=1,U646,IF($C$2=2,U647,IF($C$2=3,U648, IF($C$2=4, U646, \"  chyba\"))))","v":"D540048"},null,{"$f":"Price!A646","v":"TIP-ON, prodloužená délka, šedý"},{"$f":"Price!B646","v":"956A1004"},{"$f":"Price!C646","v":"PG"},{"$f":"Price!D646","v":0},{"$f":"Price!E646","v":0},{"$f":"Price!F646","v":114.3},null,null,{"$f":"Price!G646","v":6484096},{"$f":"Price!H646","v":"D540048"}]
[null,null,null,null,null,null,null,null,null,null,null,{"$f":"Price!A647","v":"TIP-ON, prodloužená délka, hedv.bílý"},{"$f":"Price!B647","v":"956A1004"},{"$f":"Price!C647","v":"SW"},{"$f":"Price!D647","v":0},{"$f":"Price!E647","v":0},{"$f":"Price!F647","v":114.3},null,null,{"$f":"Price!G647","v":6856758},{"$f":"Price!H647","v":"D540047"}]
[null,null,null,null,null,null,null,null,null,null,null,{"$f":"Price!A648","v":"TIP-ON, prodloužená délka, Terra černý"},{"$f":"Price!B648","v":"956A1004"},{"$f":"Price!C648","v":"TS"},{"$f":"Price!D648","v":0},{"$f":"Price!E648","v":0},{"$f":"Price!F648","v":114.3},null,null,{"$f":"Price!G648","v":2019241},{"$f":"Price!H648","v":"D540049"}]
[{"$f":"IF($C$2=1,L649,IF($C$2=2,L650,IF($C$2=3,L651, IF($C$2=4, L652, \"  chyba\"))))","v":"TIP-ON přímý adaptér, prodl.délka, šedý"},{"$f":"IF($C$2=1,M649,IF($C$2=2,M650,IF($C$2=3,M651, IF($C$2=4, M652, \"  chyba\"))))","v":"956A1201"},{"$f":"IF($C$2=1,N649,IF($C$2=2,N650,IF($C$2=3,N651, IF($C$2=4, N652, \"  chyba\"))))","v":"PG"},{"$f":"IF($C$2=1,O649,IF($C$2=2,O650,IF($C$2=3,O651, IF($C$2=4, O652, \"  chyba\"))))","v":0},{"$f":"IF($C$2=1,P649,IF($C$2=2,P650,IF($C$2=3,P651, IF($C$2=4, P652, \"  chyba\"))))","v":0},{"$f":"IF($C$2=1,Q649,IF($C$2=2,Q650,IF($C$2=3,Q651, IF($C$2=4, Q652, \"  chyba\"))))*(100-$F$6)/100","v":22.5},null,null,{"$f":"IF($C$2=1,T649,IF($C$2=2,T650,IF($C$2=3,T651, IF($C$2=4, T652, \"  chyba\"))))","v":8849808},{"$f":"IF($C$2=1,U649,IF($C$2=2,U650,IF($C$2=3,U651, IF($C$2=4, U652, \"  chyba\"))))","v":"D540051"},null,{"$f":"Price!A649","v":"TIP-ON přímý adaptér, prodl.délka, šedý"},{"$f":"Price!B649","v":"956A1201"},{"$f":"Price!C649","v":"PG"},{"$f":"Price!D649","v":0},{"$f":"Price!E649","v":0},{"$f":"Price!F649","v":22.5},null,null,{"$f":"Price!G649","v":8849808},{"$f":"Price!H649","v":"D540051"}]
[null,null,null,null,null,null,null,null,null,null,null,{"$f":"Price!A650","v":"TIP-ON přímý adaptér, prodl.délka, hedv. bílý"},{"$f":"Price!B650","v":"956A1201"},{"$f":"Price!C650","v":"SW"},{"$f":"Price!D650","v":0},{"$f":"Price!E650","v":0},{"$f":"Price!F650","v":22.5},null,null,{"$f":"Price!G650","v":4619688},{"$f":"Price!H650","v":"D540050"}]
[null,null,null,null,null,null,null,null,null,null,null,{"$f":"Price!A651","v":"TIP-ON přímý adaptér, prodl.délka, Terra černý"},{"$f":"Price!B651","v":"956A1201"},{"$f":"Price!C651","v":"TS"},{"$f":"Price!D651","v":0},{"$f":"Price!E651","v":0},{"$f":"Price!F651","v":22.5},null,null,{"$f":"Price!G651","v":5730134},{"$f":"Price!H651","v":"D540052"}]
[null,null,null,null,null,null,null,null,null,null,null,{"$f":"Price!A652","v":"TIP-ON přímý adaptér, prodl.délka, poniklovaný"},{"$f":"Price!B652","v":"956A1201"},{"$f":"Price!C652","v":"NI-L"},{"$f":"Price!D652","v":0},{"$f":"Price!E652","v":0},{"$f":"Price!F652","v":0},null,null,{"$f":"Price!G652","v":7249097},{"$f":"Price!H652","v":"na dotaz"}]
[{"$f":"L653","v":"TIP-ON křížový adaptér, šedý"},{"$f":"M653","v":"956A1501"},{"$f":"N653","v":"PG"},{"$f":"O653","v":0},null,{"$f":"Q653*(100-$F$6)/100","v":16.7},null,null,{"$f":"T653","v":2583646},{"$f":"U653","v":"D542404"},null,{"$f":"Price!A653","v":"TIP-ON křížový adaptér, šedý"},{"$f":"Price!B653","v":"956A1501"},{"$f":"Price!C653","v":"PG"},{"$f":"Price!D653","v":0},{"$f":"Price!E653","v":0},{"$f":"Price!F653","v":16.7},null,null,{"$f":"Price!G653","v":2583646},{"$f":"Price!H653","v":"D542404"}]
[null,null,null,null,null,null,null,null,null,null,null,{"$f":"Price!A654","v":0},{"$f":"Price!B654","v":0},{"$f":"Price!C654","v":0},{"$f":"Price!D654","v":0},{"$f":"Price!E654","v":0},{"$f":"Price!F654","v":0},null,null,{"$f":"Price!G654","v":0},{"$f":"Price!H654","v":0}]
[null,null,null,null,null,null,null,null,null,null,null,{"$f":"Price!A655","v":"Zde můžete vložit vlastní položky (následujících 10 řádků, zobrazí se v objednávce)"},{"$f":"Price!B655","v":0},{"$f":"Price!C655","v":0},{"$f":"Price!D655","v":0},{"$f":"Price!E655","v":0},{"$f":"Price!F655","v":0},null,null,{"$f":"Price!G655","v":0},{"$f":"Price!H655","v":0}]
[{"$f":"L656","v":0},{"$f":"M656","v":0},{"$f":"N656","v":0},null,null,{"$f":"Q656*(100-$F$6)/100","v":0},null,null,{"$f":"T656","v":0},{"$f":"U656","v":0},null,{"$f":"Price!A656","v":0},{"$f":"Price!B656","v":0},{"$f":"Price!C656","v":0},{"$f":"Price!D656","v":0},{"$f":"Price!E656","v":0},{"$f":"Price!F656","v":0},null,null,{"$f":"Price!G656","v":0},{"$f":"Price!H656","v":0}]
[0,0,0,null,null,0,null,null,0,0,null,{"$f":"Price!A657","v":0},{"$f":"Price!B657","v":0},{"$f":"Price!C657","v":0},{"$f":"Price!D657","v":0},{"$f":"Price!E657","v":0},{"$f":"Price!F657","v":0},null,null,{"$f":"Price!G657","v":0},{"$f":"Price!H657","v":0}]
[0,0,0,null,null,0,null,null,0,0,null,{"$f":"Price!A658","v":0},{"$f":"Price!B658","v":0},{"$f":"Price!C658","v":0},{"$f":"Price!D658","v":0},{"$f":"Price!E658","v":0},{"$f":"Price!F658","v":0},null,null,{"$f":"Price!G658","v":0},{"$f":"Price!H658","v":0}]
[0,0,0,null,null,0,null,null,0,0,null,{"$f":"Price!A659","v":0},{"$f":"Price!B659","v":0},{"$f":"Price!C659","v":0},{"$f":"Price!D659","v":0},{"$f":"Price!E659","v":0},{"$f":"Price!F659","v":0},null,null,{"$f":"Price!G659","v":0},{"$f":"Price!H659","v":0}]
[0,0,0,null,null,0,null,null,0,0,null,{"$f":"Price!A660","v":0},{"$f":"Price!B660","v":0},{"$f":"Price!C660","v":0},{"$f":"Price!D660","v":0},{"$f":"Price!E660","v":0},{"$f":"Price!F660","v":0},null,null,{"$f":"Price!G660","v":0},{"$f":"Price!H660","v":0}]
[0,0,0,null,null,0,null,null,0,0,null,{"$f":"Price!A661","v":0},{"$f":"Price!B661","v":0},{"$f":"Price!C661","v":0},{"$f":"Price!D661","v":0},{"$f":"Price!E661","v":0},{"$f":"Price!F661","v":0},null,null,{"$f":"Price!G661","v":0},{"$f":"Price!H661","v":0}]
[0,0,0,null,null,0,null,null,0,0,null,{"$f":"Price!A662","v":0},{"$f":"Price!B662","v":0},{"$f":"Price!C662","v":0},{"$f":"Price!D662","v":0},{"$f":"Price!E662","v":0},{"$f":"Price!F662","v":0},null,null,{"$f":"Price!G662","v":0},{"$f":"Price!H662","v":0}]
[0,0,0,null,null,0,null,null,0,0,null,{"$f":"Price!A663","v":0},{"$f":"Price!B663","v":0},{"$f":"Price!C663","v":0},{"$f":"Price!D663","v":0},{"$f":"Price!E663","v":0},{"$f":"Price!F663","v":0},null,null,{"$f":"Price!G663","v":0},{"$f":"Price!H663","v":0}]
[0,0,0,null,null,0,null,null,0,0,null,{"$f":"Price!A664","v":0},{"$f":"Price!B664","v":0},{"$f":"Price!C664","v":0},{"$f":"Price!D664","v":0},{"$f":"Price!E664","v":0},{"$f":"Price!F664","v":0},null,null,{"$f":"Price!G664","v":0},{"$f":"Price!H664","v":0}]
[0,0,0,null,null,0,null,null,0,0,null,{"$f":"Price!A665","v":0},{"$f":"Price!B665","v":0},{"$f":"Price!C665","v":0},{"$f":"Price!D665","v":0},{"$f":"Price!E665","v":0},{"$f":"Price!F665","v":0},null,null,{"$f":"Price!G665","v":0},{"$f":"Price!H665","v":0}]
[0,0,0,null,null,0,null,null,0,0,null,{"$f":"Price!A666","v":0},{"$f":"Price!B666","v":0},{"$f":"Price!C666","v":0},{"$f":"Price!D666","v":0},{"$f":"Price!E666","v":0},{"$f":"Price!F666","v":0},null,null,{"$f":"Price!G666","v":0},{"$f":"Price!H666","v":0}]
[0,0,0,null,null,0,null,null,0,0,null,{"$f":"Price!A667","v":0},{"$f":"Price!B667","v":0},{"$f":"Price!C667","v":0},{"$f":"Price!D667","v":0},{"$f":"Price!E667","v":0},{"$f":"Price!F667","v":0},null,null,{"$f":"Price!G667","v":0},{"$f":"Price!H667","v":0}]
[0,0,0,null,null,0,null,null,0,0,null,{"$f":"Price!A668","v":0},{"$f":"Price!B668","v":0},{"$f":"Price!C668","v":0},{"$f":"Price!D668","v":0},{"$f":"Price!E668","v":0},{"$f":"Price!F668","v":0},null,null,{"$f":"Price!G668","v":0},{"$f":"Price!H668","v":0}]
[null,null,null,null,null,null,null,null,null,null,null,{"$f":"Price!A669","v":0},{"$f":"Price!B669","v":0},{"$f":"Price!C669","v":0},{"$f":"Price!D669","v":0},null,{"$f":"Price!F669","v":0},null,null,{"$f":"Price!G669","v":0},{"$f":"Price!H669","v":0}]
[null,null,null,null,null,null,null,null,null,null,null,{"$f":"Price!A670","v":0},{"$f":"Price!B670","v":0},{"$f":"Price!C670","v":0},{"$f":"Price!D670","v":0},null,{"$f":"Price!F670","v":0},null,null,{"$f":"Price!G670","v":0},{"$f":"Price!H670","v":0}]
[null,null,null,null,null,null,null,null,null,null,null,{"$f":"Price!A671","v":0},{"$f":"Price!B671","v":0},{"$f":"Price!C671","v":0},{"$f":"Price!D671","v":0},null,{"$f":"Price!F671","v":0},null,null,{"$f":"Price!G671","v":0},{"$f":"Price!H671","v":0}]
[null,null,null,null,null,null,null,null,null,null,null,{"$f":"Price!A672","v":0},{"$f":"Price!B672","v":0},{"$f":"Price!C672","v":0},{"$f":"Price!D672","v":0},null,{"$f":"Price!F672","v":0},null,null,{"$f":"Price!G672","v":0},{"$f":"Price!H672","v":0}]
[null,null,null,null,null,null,null,null,null,null,null,{"$f":"Price!A673","v":0},{"$f":"Price!B673","v":0},{"$f":"Price!C673","v":0},{"$f":"Price!D673","v":0},null,{"$f":"Price!F673","v":0},null,null,{"$f":"Price!G673","v":0},{"$f":"Price!H673","v":0}]
[null,null,null,null,null,null,null,null,null,null,null,{"$f":"Price!A674","v":0},{"$f":"Price!B674","v":0},{"$f":"Price!C674","v":0},{"$f":"Price!D674","v":0},null,{"$f":"Price!F674","v":0},null,null,{"$f":"Price!G674","v":0},{"$f":"Price!H674","v":0}]
[null,null,null,null,null,null,null,null,null,null,null,{"$f":"Price!A675","v":0},{"$f":"Price!B675","v":0},{"$f":"Price!C675","v":0},{"$f":"Price!D675","v":0},null,{"$f":"Price!F675","v":0},null,null,{"$f":"Price!G675","v":0},{"$f":"Price!H675","v":0}]
[null,null,null,null,null,null,null,null,null,null,null,{"$f":"Price!A676","v":0},{"$f":"Price!B676","v":0},{"$f":"Price!C676","v":0},{"$f":"Price!D676","v":0},null,{"$f":"Price!F676","v":0},null,null,{"$f":"Price!G676","v":0},{"$f":"Price!H676","v":0}]

{"sheet":"Price","index":64,"n_rows":655,"n_cols":8,"rows_kept":655,"cut":false,"hidden":false,"merged":[]}
[null,null,null,null,null,null,null,{"$f":"Form!I15","v":"2.0.0"}]
[{"$f":"List!$B$214&\":\"","v":"Prodejce:"},null,null,null,null,null,null,{"$f":"List!$B$100","v":"Zpět na úvod"}]
["DŘEVO TRUST, a. s."]
["T. G. Masaryka 602"]
["738 01 Frýdek-Místek"]
[]
[]
[null,null,null,null,null,null,{"$f":"List!$B$212&\": \"","v":"Platnost ceníku od: "},"2017-09-29"]
[]
[{"$f":"List!$B$87","v":"Název"},{"$f":"List!$B$88","v":"Číslo artiklu"},{"$f":"List!$B$89","v":"Barva"},{"$f":"List!$B$97","v":"Dostupnost"},null,"Jednotková cena","IDNr."]
["Bočnice N 400mm, šedé","378N4002SA","R906","!",null,416.8,7931180,"D539782"]
["Bočnice N 400mm, hedvábně bílé","378N4002SA","SEIW","!",null,416.8,7636322,"D522072"]
["Bočnice N 400mm, černé Terra","378N4002SA","TERS","!",null,421.8,8672861,"D551853"]
["Bočnice N 400mm, nerez (Inox)","378N4002IA","INGL","!",null,null,9633400,"na dotaz"]
["Bočnice N 450mm, šedé","378N4502SA","R906","!",null,420.5,7931884,"D549956"]
["Bočnice N 450mm, hedvábně bílé","378N4502SA","SEIW","!",null,420.5,7639774,"D511631"]
["Bočnice N 450mm, černé Terra","378N4502SA","TERS","!",null,425.5,8726323,"D551854"]
["Bočnice N 450mm, nerez (Inox)","378N4502IA","INGL","!",null,null,9636840,"na dotaz"]
["Bočnice N 500mm, šedé","378N5002SA","R906",null,null,424.3,7947477,"D460271"]
["Bočnice N 500mm, hedvábně bílé","378N5002SA","SEIW",null,null,424.3,7641097,"D289777"]
["Bočnice N 500mm, černé Terra","378N5002SA","TERS",null,null,429.3,8740815,"D289778"]
["Bočnice N 500mm, nerez (Inox)","378N5002IA","INGL","!",null,null,9657015,"na dotaz"]
["Bočnice N 550mm, šedé","378N5502SA","R906","!",null,461.7,7952690,"D545875"]
["Bočnice N 550mm, hedvábně bílé","378N5502SA","SEIW","!",null,461.7,7720758,"D551656"]
["Bočnice N 550mm, černé Terra","378N5502SA","TERS","!",null,466.6,8742836,"D551855"]
["Bočnice N 550mm, nerez (Inox)","378N5502IA","INGL","!",null,null,9688679,"na dotaz"]
[]
["Bočnice M 270mm, šedé","378M2702SA","R906",null,null,350.6,7878776,"D511661 + D511660"]
["Bočnice M 270mm, hedvábně bílé","378M2702SA","SEIW",null,null,350.6,7353106,"D551826 + D551825"]
["Bočnice M 270mm, černé Terra","378M2702SA","TERS",null,null,418,8396367,"D460260"]
["Bočnice M 270mm, nerez (Inox)","378M2702IA","INGL","!",null,null,9278317,"na dotaz"]
["Bočnice M 300mm, šedé","378M3002SA","R906",null,null,350.6,7879328,"D511667 + D511666"]
["Bočnice M 300mm, hedvábně bílé","378M3002SA","SEIW",null,null,350.6,7416089,"D551828 + D551827"]
["Bočnice M 300mm, černé Terra","378M3002SA","TERS",null,null,418,8410449,"D497474"]
["Bočnice M 300mm, nerez (Inox)","378M3002IA","INGL","!",null,null,9282144,"na dotaz"]
["Bočnice M 350mm, šedé","378M3502SA","R906",null,null,350.6,7880418,"D511675 + D511674"]
["Bočnice M 350mm, hedvábně bílé","378M3502SA","SEIW",null,null,350.6,7432656,"D532893 + D532892"]
["Bočnice M 350mm, černé Terra","378M3502SA","TERS",null,null,418,8451477,"D497475"]
["Bočnice M 350mm, nerez (Inox)","378M3502IA","INGL","!",null,null,9396757,"na dotaz"]
["Bočnice M 400mm, šedé","378M4002SA","R906",null,null,354.3,7892695,"D511679 + D511678"]
["Bočnice M 400mm, hedvábně bílé","378M4002SA","SEIW",null,null,354.3,7453939,"D532895 + D532894"]
["Bočnice M 400mm, černé Terra","378M4002SA","TERS",null,null,421.8,8456024,"D356962"]
["Bočnice M 400mm, nerez (Inox)","378M4002IA","INGL","!",null,null,9424604,"na dotaz"]
["Bočnice M 450mm, šedé","378M4502SA","R906",null,null,358.1,7893644,"D470500 + D470498"]
["Bočnice M 450mm, hedvábně bílé","378M4502SA","SEIW",null,null,358.1,7461528,"D468388 + D468387"]
["Bočnice M 450mm, černé Terra","378M4502SA","TERS",null,null,425.5,8459116,"D379206"]
["Bočnice M 450mm, nerez (Inox)","378M4502IA","INGL","!",null,null,9447452,"na dotaz"]
["Bočnice M 500mm, šedé","378M5002SA","R906",null,null,397.4,7907526,"D470504 + D470503"]
["Bočnice M 500mm, hedvábně bílé","378M5002SA","SEIW",null,null,397.4,7473074,"D468390 + D468389"]
["Bočnice M 500mm, černé Terra","378M5002SA","TERS",null,null,429.3,8474260,"D289776"]
["Bočnice M 500mm, nerez (Inox)","378M5002IA","INGL","!",null,null,9455785,"na dotaz"]
["Bočnice M 550mm, šedé","378M5502SA","R906",null,null,399.2,7915701,"D529008 + D529007"]
["Bočnice M 550mm, hedvábně bílé","378M5502SA","SEIW",null,null,399.2,7478517,"D532897 + D532896"]
["Bočnice M 550mm, černé Terra","378M5502SA","TERS",null,null,466.6,8492382,"D497476"]
["Bočnice M 550mm, nerez (Inox)","378M5502IA","INGL","!",null,null,9486323,"na dotaz"]
["Bočnice M 600mm, šedé","378M6002SA","R906",null,null,508.3,7921510,"D551832 + D551831"]
["Bočnice M 600mm, hedvábně bílé","378M6002SA","SEIW",null,null,508.3,7509352,"D551830 + D551829"]
["Bočnice M 600mm, černé Terra","378M6002SA","TERS",null,null,575.70000000000005,8495666,"D497478"]
["Bočnice M 600mm, nerez (Inox)","378M6002IA","INGL","!",null,null,9580294,"na dotaz"]
["Bočnice M 650mm, šedé","378M6502SA","R906",null,null,536.29999999999995,7927885,"D551836 + D551835"]
["Bočnice M 650mm, hedvábně bílé","378M6502SA","SEIW",null,null,536.29999999999995,7631232,"D551834 + D551833"]
["Bočnice M 650mm, černé Terra","378M6502SA","TERS",null,null,603.79999999999995,8561178,"D289782"]
["Bočnice M 650mm, nerez (Inox)","378M6502IA","INGL","!",null,null,9631204,"na dotaz"]
[]
["Bočnice K 270mm, šedé","378K2702SA","R906","!",null,599.20000000000005,7735870,"D551644"]
["Bočnice K 270mm, hedvábně bílé","378K2702SA","SEIW","!",null,599.20000000000005,7006683,"D551642"]
["Bočnice K 270mm, černé Terra","378K2702SA","TERS","!",null,604.1,8012885,"D551643"]
["Bočnice K 300mm, šedé","378K3002SA","R906","!",null,599.20000000000005,7754207,"D541412"]
["Bočnice K 300mm, hedvábně bílé","378K3002SA","SEIW","!",null,599.20000000000005,7022103,"D541413"]
["Bočnice K 300mm, černé Terra","378K3002SA","TERS","!",null,604.1,8014677,"D551645"]
["Bočnice K 350mm, šedé","378K3502SA","R906","!",null,599.20000000000005,7754240,"D534497"]
["Bočnice K 350mm, hedvábně bílé","378K3502SA","SEIW","!",null,599.20000000000005,7055586,"D532100"]
["Bočnice K 350mm, černé Terra","378K3502SA","TERS","!",null,604.1,8039764,"D551646"]
["Bočnice K 400mm, šedé","378K4002SA","R906","!",null,602.9,7770099,"D472676"]
["Bočnice K 400mm, hedvábně bílé","378K4002SA","SEIW","!",null,602.9,7090157,"D472675"]
["Bočnice K 400mm, černé Terra","378K4002SA","TERS","!",null,607.9,8054532,"D551647"]
["Bočnice K 450mm, šedé","378K4502SA","R906",null,null,606.6,7800942,"D472678"]
["Bočnice K 450mm, hedvábně bílé","378K4502SA","SEIW",null,null,606.6,7094091,"D472679"]
["Bočnice K 450mm, černé Terra","378K4502SA","TERS","!",null,611.6,8097406,"D551648"]
["Bočnice K 500mm, šedé","378K5002SA","R906",null,null,610.4,7826509,"D472680"]
["Bočnice K 500mm, hedvábně bílé","378K5002SA","SEIW",null,null,610.4,7119326,"D472681"]
["Bočnice K 500mm, černé Terra","378K5002SA","TERS","!",null,615.29999999999995,8103002,"D551649"]
["Bočnice K 550mm, šedé","378K5502SA","R906","!",null,647.79999999999995,7833537,"D551650"]
["Bočnice K 550mm, hedvábně bílé","378K5502SA","SEIW","!",null,647.79999999999995,7134230,"D546432"]
["Bočnice K 550mm, černé Terra","378K5502SA","TERS","!",null,652.70000000000005,8122542,"D551651"]
["Bočnice K 600mm, šedé","378K6002SA","R906","!",null,756.8,7843319,"D511829"]
["Bočnice K 600mm, hedvábně bílé","378K6002SA","SEIW","!",null,756.8,7163931,"D544882"]
["Bočnice K 600mm, černé Terra","378K6002SA","TERS","!",null,761.8,8134692,"D551652"]
["Bočnice K 650mm, šedé","378K6502SA","R906","!",null,784.9,7862096,"D551653"]
["Bočnice K 650mm, hedvábně bílé","378K6502SA","SEIW","!",null,784.9,7170704,"D551654"]
["Bočnice K 650mm, černé Terra","378K6502SA","TERS","!",null,789.9,8142017,"D551655"]
[]
["   Korpusové lišty BLUMOTION"]
["Korpusové lišty 270mm, BLUMOTION, 30kg","578.2701B","ZN",null,null,459.2,8000501,"D104569"]
["Korpusové lišty 300mm, BLUMOTION, 30kg","578.3001B","ZN",null,null,459.2,8091502,"D347811"]
["Korpusové lišty 350mm, BLUMOTION, 30kg","578.3501B","ZN",null,null,459.2,8359762,"D099077"]
["Korpusové lišty 400mm, BLUMOTION, 30kg","578.4001B","ZN",null,null,462.6,8445585,"D046031"]
["Korpusové lišty 450mm, BLUMOTION, 30kg","578.4501B","ZN",null,null,466,8517597,"D046839"]
["Korpusové lišty 450mm, BLUMOTION, 65kg","576.4501B","ZN",null,null,560.79999999999995,6861652,"D640657"]
["Korpusové lišty 500mm, BLUMOTION, 30kg","578.5001B","ZN",null,null,469.5,8548489,"D031859"]
["Korpusové lišty 500mm, BLUMOTION, 65kg","576.5001B","ZN",null,null,620.4,6861712,"D360934"]
["Korpusové lišty 550mm, BLUMOTION, 30kg","578.5501B","ZN",null,null,493.5,8653566,"D046841"]
["Korpusové lišty 550mm, BLUMOTION, 65kg","576.5501B","ZN",null,null,644.29999999999995,6877115,"D195950"]
["Korpusové lišty 600mm, BLUMOTION, 30kg","578.6001B","ZN",null,null,523.9,8785467,"D658302"]
["Korpusové lišty 600mm, BLUMOTION, 65kg","576.6001B","ZN",null,null,661.1,6885191,"D625560"]
["Korpusové lišty 650mm, BLUMOTION, 65kg","576.6501B","ZN",null,null,751.2,6885499,"D368244"]
[]
["   Korpusové lišty TIP-ON BLUMOTION"]
["Korp. lišty TIP-ON BLUMOTION, 270mm, 30 kg","578.2701M","ZN",null,null,417.4,9089187,"D646734"]
["Korp. lišty TIP-ON BLUMOTION, 300mm, 30 kg","578.3001M","ZN",null,null,417.4,9106907,"D646735"]
["Korp. lišty TIP-ON BLUMOTION, 350mm, 30 kg","578.3501M","ZN",null,null,417.4,9139077,"D646736"]
["Korp. lišty TIP-ON BLUMOTION, 400mm, 30 kg","578.4001M","ZN",null,null,420.5,9182099,"D646737"]
["Korp. lišty TIP-ON BLUMOTION, 450mm, 30 kg","578.4501M","ZN",null,null,423.7,9291634,"D646738"]
["Korp. lišty TIP-ON BLUMOTION, 450mm, 65 kg","578.4501M","ZN",null,null,560.79999999999995,6022202,"D646729"]
["Korp. lišty TIP-ON BLUMOTION, 500mm, 30 kg","578.5001M","ZN",null,null,426.8,9301459,"D646739"]
["Korp. lišty TIP-ON BLUMOTION, 500mm, 65 kg","576.5001M","ZN",null,null,564,6028270,"D646730"]
["Korp. lišty TIP-ON BLUMOTION, 550mm, 30 kg","578.5501M","ZN",null,null,448.6,9403708,"D646740"]
["Korp. lišty TIP-ON BLUMOTION, 550mm, 65 kg","576.5501M","ZN",null,null,585.79999999999995,6042877,"D646731"]
["Korp. lišty TIP-ON BLUMOTION, 600mm, 30 kg","578.6001M","ZN",null,null,542,9564207,"D646741"]
["Korp. lišty TIP-ON BLUMOTION, 600mm, 65 kg","576.6001M","ZN",null,null,661.1,6058115,"D646732"]
["Korp. lišty TIP-ON BLUMOTION, 650mm, 65 kg","576.6501M","ZN",null,null,682.9,6063496,"D646733"]
[]
["   TIP-ON BLUMOTION"]
["Sada jednotek TIP-ON BLUMOTION, S0","T60B3030","W",null,null,404.5,3157261,"D646742"]
["Sada jednotek TIP-ON BLUMOTION, S1","T60B3130","R735",null,null,404.5,7846331,"D646743"]
["Sada jednotek TIP-ON BLUMOTION, L1","T60B3330","R735",null,null,404.5,3688343,"D646744"]
["Sada jednotek TIP-ON BLUMOTION, L3","T60B3530","R737",null,null,404.5,1023195,"D646745"]
["Sada jednotek TIP-ON BLUMOTION, L5","T60B3560","S",null,null,404.5,9792576,"D646746"]
[]
["Synchronizační adaptér","T60.000D","R735",null,null,5.8,1512005,"D568838"]
["Hřídel synchronizace","T60.1125W","GR",null,null,95.6,2101757,"D568839"]
["Jednodílná synchronizace","T60.300D","R735",null,null,23.2,8133273,"D646783"]
[]
["Držák hřídele synchronizace","T60B000H","NI",null,null,6,5690481,"D646748"]
["Podpěrný úhelník pro dno","Z96.2011","R737",null,null,29.8,1486446,"D646747"]
[]
[]
[]
[]
[]
[]
["   Držáky zadní stěny"]
["Držáky zadní stěny N, šedé","Z30N000S.04","R906",null,null,36.5,5823334,"D055094"]
["Držáky zadní stěny N, hedvábně bílé","Z30N000S.04","SEIW",null,null,36.5,4305133,"D289791"]
["Držáky zadní stěny N, černé Terra","Z30N000S.04","TERS",null,null,36.5,6548446,"D289792"]
["Držáky zadní stěny N, poniklované","Z30N000S.04","NI","!",null,56.9,3520788,"D460294"]
["Držáky zadní stěny M, šedé","Z30M000S.04","R906",null,null,40.200000000000003,4114541,"D031860"]
["Držáky zadní stěny M, hedvábně bílé","Z30M000S.04","SEIW",null,null,40.200000000000003,2843026,"D289787"]
["Držáky zadní stěny M, černé Terra","Z30M000S.04","TERS",null,null,36.5,7448927,"D289788"]
["Držáky zadní stěny M, poniklované","Z30M000S.04","NI","!",null,71.8,8304394,"D393150"]
["Držáky zadní stěny K, šedé","Z30K000S","R906",null,null,67.400000000000006,9406204,"D063796"]
["Držáky zadní stěny K, hedvábně bílé","Z30K000S","SEIW",null,null,67.400000000000006,5147820,"D512383"]
["Držáky zadní stěny K, černé Terra","Z30K000S","TERS","!",null,61.3,2817915,"D512384"]
["Držáky zadní stěny B, šedé","Z30B000S.04","R906",null,null,48.8,1071721,"D046034"]
["Držáky zadní stěny B, hedvábně bílé","Z30B000S.04","SEIW",null,null,48.8,4049699,"D460296"]
["Držáky zadní stěny B, černé Terra","Z30B000S.04","TERS",null,null,44.3,1013591,"D512385"]
["Držáky zadní stěny B, poniklované","Z30B000S.04","NI","!",null,90,6373016,"D460295"]
["Držáky zadní stěny C, šedé","Z30C000S","R906",null,null,71,2344977,"D146089"]
["Držáky zadní stěny C, hedvábně bílé","Z30C000S","SEIW",null,null,71,3445250,"D460297"]
["Držáky zadní stěny C, černé Terra","Z30C000S","TERS",null,null,71,5903872,"D512386"]
["Držáky zadní stěny C, poniklované","Z30C000S","NI","!",null,null,1965760,"na dotaz"]
["Držáky zadní stěny D, šedé","Z30D000S","R906",null,null,78.099999999999994,7561427,"D040594"]
["Držáky zadní stěny D, hedvábně bílé","Z30D000SL","SEIW",null,null,78.099999999999994,1465799,"D289783"]
["Držáky zadní stěny D, černé Terra","Z30D000SL","TERS",null,null,71,7482171,"D289784"]
["Držáky zadní stěny D, poniklované","Z30D000SL","NI","!",null,122.6,1721189,"D393145"]
[]
["Variabilní držák relingu, vlevo/vpravo, šedý","ZRR.5200","R906",null,null,49.3,1646954,"D472697"]
["Variabilní držák relingu, vlevo/vpravo, hedvábně bílý","ZRR.5200","SEIW",null,null,49.3,3205443,"D472694"]
["Variabilní držák relingu, vlevo/vpravo, černý Terra","ZRR.5200","TERS",null,null,49.3,7759723,"D512387"]
["Variabilní držák relingu, vlevo/vpravo, poniklovaný","ZRR.5200","NI","!",null,null,9341294,"na dotaz"]
[]
["   Čelní kování"]
["Čelní kování na vruty","ZSF.35A2","BL",null,null,13,1014891,"D014750"]
["Čelní kování INSERTA","ZSF.39A2","BL",null,null,22.4,4045944,"D031862"]
[]
[]
["   Vnitřní výsuvy"]
["Držáky čela vnitřní zásuvky M, bílošedé","ZIF.71M0","WGR",null,null,105.6,5074773,"D460303"]
["Držáky čela vnitřní zásuvky M, hedvábně bílé","ZIF.71M0","SEIW",null,null,105.6,1802448,"D460304"]
["Držáky čela vnitřní zásuvky M, černé","ZIF.71M0","S ",null,null,105.6,5519405,"D468386"]
["Držáky čela vnitřní zásuvky M, prachově šedé","ZIF.71M0","R737","!",null,97.9,5526449,"D468385"]
["Držáky čela vnitřní zásuvky K, bílošedé","ZIF.71K0","WGR",null,null,130.5,2720695,"D512388"]
["Držáky čela vnitřní zásuvky K, hedvábně bílé","ZIF.71K0","SEIW",null,null,130.5,7084462,"D512389"]
["Držáky čela vnitřní zásuvky K, černé","ZIF.71K0","S ","!",null,130.5,7562990,"D512390"]
["Držáky čela vnitřního výsuvu C, bílošedé","ZIF.74C0","WGR",null,null,149.19999999999999,3213636,"D500842"]
["Držáky čela vnitřního výsuvu C, hedvábně bílé","ZIF.74C0","SEIW",null,null,149.19999999999999,1003537,"D503907"]
["Držáky čela vnitřního výsuvu C, černé","ZIF.74C0","S ",null,null,149.19999999999999,4186639,"D512391"]
["Držáky čela vnitřního výsuvu C, prachově šedé","ZIF.74C0","R737","!",null,null,5254121,"na dotaz"]
["Držáky čela vnitřního výsuvu D bílošedé","ZIF.74D0","WGR",null,null,156.30000000000001,4438914,"D460301"]
["Držáky čela vnitřního výsuvu D, hedvábně bílé","ZIF.74D0","SEIW",null,null,156.30000000000001,1714924,"D460302"]
["Držáky čela vnitřního výsuvu D, černé","ZIF.74D0","S ",null,null,156.30000000000001,5835868,"D512392"]
["Držáky čela vnitřního výsuvu D, prachově šedé","ZIF.74D0","R737","!",null,null,7162263,"na dotaz"]
[]
["Přední díl vnitřní zásuvky, šedý","Z31L1036A  ","R906",null,null,363.8,8479020,"D460300"]
["Přední díl vnitřní zásuvky, hedvábně bílý","Z31L1036A  ","SEIW",null,null,363.8,8479022,"D289793"]
["Přední díl vnitřní zásuvky, černý Terra","Z31L1036A  ","TERS",null,null,363.8,8479024,"D289794"]
["Přední díl vnitřní zásuvky, niklovaný matný","Z31L1036A  ","NI-M","!",null,null,4717033,"na dotaz"]
[]
["Příčný reling vnitřní zásuvky, šedý","ZRG.1046Z ","R906",null,null,169.4,8473390,"D460287"]
["Příčný reling vnitřní zásuvky, hedvábně bílý","ZRG.1046Z ","SEIW",null,null,171.2,8473392,"D289832"]
["Příčný reling vnitřní zásuvky, černý Terra","ZRG.1046Z ","TERS",null,null,171.2,8473394,"D289833"]
["Příčný reling vnitřní zásuvky, niklovaný matný","ZRG.1046Z ","NI-M","!",null,null,9051133,"na dotaz"]
[]
["Úchytka pro vnirřní zásuvku, bílošedá","ZIF.80M5","WGR",null,null,103.7,4276837,"D460305"]
["Úchytka pro vnirřní zásuvku, hedvábně bílá","ZIF.80M5","SEIW",null,null,103.7,8611682,"D392126"]
["Úchytka pro vnirřní zásuvku, černá","ZIF.80M5","S",null,null,103.7,8611684,"D512393"]
["Úchytka pro vnirřní zásuvku, prachově šedá","ZIF.80M5","R737",null,null,103.7,8611680,"D411676"]
["Úchytka a unašeč pro vnirřní zásuvku, bílošedá","ZIF.80M7","WGR",null,null,160.4,3350802,"D460307"]
["Úchytka a unašeč pro vnirřní zásuvku, hedvábně bílá","ZIF.80M7","SEIW",null,null,160.4,8610692,"D411680"]
["Úchytka a unašeč pro vnirřní zásuvku, černá","ZIF.80M7","S",null,null,160.4,8610694,"D460306"]
["Úchytka a unašeč pro vnirřní zásuvku, prach.šedá","ZIF.80M7","R737",null,null,160.4,8610690,"D411681"]
[]
[]
["   Relingy"]
["Podélný reling vlevo/vpravo, 270mm, šedý","ZRG.207RSIC","R906",null,null,150,1472243,"D460274"]
["Podélný reling vlevo/vpravo, 270mm, hedvábně bílý","ZRG.207RSIC","SEIW",null,null,150,6342943,"D460275"]
["Podélný reling vlevo/vpravo, 270mm, černý Terra","ZRG.207RSIC","TERS",null,null,150,8946618,"D550000"]
["Podélný reling vlevo/vpravo, 270mm, nerez (Inox)","ZRG.207RIIC","INGL","!",null,null,8621208,"na dotaz"]
["Podélný reling vlevo/vpravo, 300mm, šedý","ZRG.237RSIC","R906",null,null,152.5,3083862,"D460276"]
["Podélný reling vlevo/vpravo, 300mm, hedvábně bílý","ZRG.237RSIC","SEIW",null,null,152.5,8198325,"D460277"]
["Podélný reling vlevo/vpravo, 300mm, černý Terra","ZRG.237RSIC","TERS",null,null,152.5,6443879,"D550002"]
["Podélný reling vlevo/vpravo, 300mm, nerez (Inox)","ZRG.237RIIC","INGL","!",null,null,4426159,"na dotaz"]
["Podélný reling vlevo/vpravo, 350mm, šedý","ZRG.287RSIC","R906",null,null,155,4262438,"D493621"]
["Podélný reling vlevo/vpravo, 350mm, hedvábně bílý","ZRG.287RSIC","SEIW",null,null,155,2290699,"D493620"]
["Podélný reling vlevo/vpravo, 350mm, černý Terra","ZRG.287RSIC","TERS",null,null,155,7596230,"D550003"]
["Podélný reling vlevo/vpravo, 350mm, nerez (Inox)","ZRG.287RIIC","INGL","!",null,null,2062875,"na dotaz"]
["Podélný reling vlevo/vpravo, 400mm, šedý","ZRG.337RSIC","R906",null,null,157.5,3741088,"D460278"]
["Podélný reling vlevo/vpravo, 400mm, hedvábně bílý","ZRG.337RSIC","SEIW",null,null,157.5,4191768,"D460279"]
["Podélný reling vlevo/vpravo, 400mm, černý Terra","ZRG.337RSIC","TERS","!",null,157.5,7703025,"D528741"]
["Podélný reling vlevo/vpravo, 400mm, nerez (Inox)","ZRG.337RIIC","INGL","!",null,null,8346482,"na dotaz"]
["Podélný reling vlevo/vpravo, 450mm, šedý","ZRG.387RSIC","R906",null,null,160,2436584,"D460280"]
["Podélný reling vlevo/vpravo, 450mm, hedvábně bílý","ZRG.387RSIC","SEIW",null,null,160,5670943,"D460281"]
["Podélný reling vlevo/vpravo, 450mm, černý Terra","ZRG.387RSIC","TERS","!",null,160,2398612,"D550004"]
["Podélný reling vlevo/vpravo, 450mm, nerez (Inox)","ZRG.387RIIC","INGL","!",null,null,5600049,"na dotaz"]
["Podélný reling vlevo/vpravo, 500mm, šedý","ZRG.437RSIC","R906",null,null,178.7,8705976,"D460282"]
["Podélný reling vlevo/vpravo, 500mm, hedvábně bílý","ZRG.437RSIC","SEIW",null,null,178.7,2236035,"D460283"]
["Podélný reling vlevo/vpravo, 500mm, černý Terra","ZRG.437RSIC","TERS","!",null,162.5,4392383,"D512394"]
["Podélný reling vlevo/vpravo, 500mm, nerez (Inox)","ZRG.437RIIC","INGL","!",null,null,6985231,"na dotaz"]
["Podélný reling vlevo/vpravo, 550mm, šedý","ZRG.487RSIC","R906",null,null,169.4,2422408,"D468379"]
["Podélný reling vlevo/vpravo, 550mm, hedvábně bílý","ZRG.487RSIC","SEIW",null,null,169.4,8860295,"D468378"]
["Podélný reling vlevo/vpravo, 550mm, černý Terra","ZRG.487RSIC","TERS","!",null,169.4,5132615,"D468380"]
["Podélný reling vlevo/vpravo, 550mm, nerez (Inox)","ZRG.487RIIC","INGL","!",null,null,5781644,"na dotaz"]
["Podélný reling vlevo/vpravo, 600mm, šedý","ZRG.537RSIC","R906",null,null,176.3,1696058,"D468381"]
["Podélný reling vlevo/vpravo, 600mm, hedvábně bílý","ZRG.537RSIC","SEIW",null,null,176.3,9244783,"D468382"]
["Podélný reling vlevo/vpravo, 600mm, černý Terra","ZRG.537RSIC","TERS","!",null,176.3,9215758,"D468383"]
["Podélný reling vlevo/vpravo, 600mm, nerez (Inox)","ZRG.537RIIC","INGL","!",null,null,5495041,"na dotaz"]
["Podélný reling vlevo/vpravo, 650mm, šedý","ZRG.587RSIC","R906",null,null,183.2,3892970,"D460284"]
["Podélný reling vlevo/vpravo, 650mm, hedvábně bílý","ZRG.587RSIC","SEIW",null,null,183.2,4273717,"D460285"]
["Podélný reling vlevo/vpravo, 650mm, černý Terra","ZRG.587RSIC","TERS","!",null,183.2,4651778,"D468384"]
["Podélný reling vlevo/vpravo, 650mm, nerez (Inox)","ZRG.587RIIC","INGL","!",null,null,9950987,"na dotaz"]
[]
[]
["   Zásuvné prvky"]
["Zásuvný prvek D, 270mm, čiré sko","Z37R237D","KL","!",null,269.10000000000002,2774799,"D547564"]
["Zásuvný prvek D, 270mm, saténované sko","Z37R237D","SA","!",null,298.39999999999998,6040986,"D547563"]
["Zásuvný prvek D, 300mm, čiré sko","Z37R267D","KL","!",null,279,3308193,"D548077"]
["Zásuvný prvek D, 300mm, saténované sko","Z37R267D","SA","!",null,314.5,2389528,"D548078"]
["Zásuvný prvek D, 350mm, čiré sko","Z37R317D","KL","!",null,240.82,7929860,"2x D663063"]
["Zásuvný prvek D, 350mm, saténované sko","Z37R317D","SA","!",null,330.5,3132465,"D548080"]
["Zásuvný prvek D, 400mm, čiré sko","Z37R367D","KL",null,null,265.39999999999998,1224597,"2x D663064"]
["Zásuvný prvek D, 400mm, saténované sko","Z37R367D","SA",null,null,229.5,7491368,"2x D572101"]
["Zásuvný prvek D, 450mm, čiré sko","Z37R417D","KL",null,null,290,2294507,"2x D663065"]
["Zásuvný prvek D, 450mm, saténované sko","Z37R417D","SA",null,null,235.6,1236119,"2x D572102"]
["Zásuvný prvek D, 500mm, čiré sko","Z37R467D","KL",null,null,314.56,2291585,"2x D663066"]
["Zásuvný prvek D, 500mm, saténované sko","Z37R467D","SA",null,null,252.6,1699007,"2x D533128"]
["Zásuvný prvek D, 550mm, čiré sko","Z37R517D","KL",null,null,336.68,2557206,"2x D663067"]
["Zásuvný prvek D, 550mm, saténované sko","Z37R517D","SA",null,null,256.56,4421646,"2x D572103"]
["Zásuvný prvek D, 600mm, čiré sko","Z37R567D","KL","!",null,358.8,2317239,"D548086"]
["Zásuvný prvek D, 600mm, saténované sko","Z37R567D","SA","!",null,495.5,5772746,"D548087"]
["Zásuvný prvek D, 650mm, čiré sko","Z37R617D","KL",null,null,378.7,5253385,"D512403"]
["Zásuvný prvek D, 650mm, saténované sko","Z37R617D","SA",null,null,553.9,3645981,"D512404"]
[]
["Zásuvný prvek C, 270mm, čiré sko","Z37R237C","KL","!",null,219.2,3804408,"D692543"]
["Zásuvný prvek C, 270mm, saténované sko","Z37R237C","SA","!",null,248.6,5036146,"D692544"]
["Zásuvný prvek C 300mm, čiré sko","Z37R267C","KL","!",null,229.2,5859728,"D692545"]
["Zásuvný prvek C, 300mm, saténované sko","Z37R267C","SA","!",null,264.60000000000002,8132199,"D692546"]
["Zásuvný prvek C, 350mm, čiré sko","Z37R317C","KL","!",null,239.2,4171919,"D692547"]
["Zásuvný prvek C, 350mm, saténované sko","Z37R317C","SA","!",null,280.7,7015370,"D692548"]
["Zásuvný prvek C, 400mm, čiré sko","Z37R367C","KL","!",null,249.1,5254946,"D692549"]
["Zásuvný prvek C, 400mm, saténované sko","Z37R367C","SA","!",null,296.8,2409562,"D681449"]
["Zásuvný prvek C, 450mm, čiré sko","Z37R417C","KL","!",null,259.10000000000002,9507673,"D692550"]
["Zásuvný prvek C, 450mm, saténované sko","Z37R417C","SA","!",null,312.8,1253534,"D683127"]
["Zásuvný prvek C, 500mm, čiré sko","Z37R467C","KL",null,null,269.10000000000002,7291705,"D512401"]
["Zásuvný prvek C, 500mm, saténované sko","Z37R467C","SA",null,null,328.9,3964623,"D512402"]
["Zásuvný prvek C, 550mm, čiré sko","Z37R517C","KL","!",null,289,5688629,"D657373"]
["Zásuvný prvek C, 550mm, saténované sko","Z37R517C","SA","!",null,387.3,7608000,"D528443"]
["Zásuvný prvek C, 600mm, čiré sko","Z37R567C","KL","!",null,308.89999999999998,9544431,"D692551"]
["Zásuvný prvek C, 600mm, saténované sko","Z37R567C","SA","!",null,445.7,8250939,"D692552"]
["Zásuvný prvek C, 650mm, čiré sko","Z37R617C","KL","!",null,328.9,2152523,"D692553"]
["Zásuvný prvek C, 650mm, saténované sko","Z37R617C","SA","!",null,504.1,4922166,"D692554"]
[]
["Kovový zásuvný prvek D, 450mm, šedý","Z37A417D","R906",null,null,156.5,7183333,"D472683"]
["Kovový zásuvný prvek D, 450mm, hedvábně bílý","Z37A417D","SEIW",null,null,156.5,8790595,"D472682"]
["Kovový zásuvný prvek D, 450mm, černý Terra","Z37A417D","TERS",null,null,156.5,2498246,"D548624"]
["Kovový zásuvný prvek D, 500mm, šedý","Z37A467D","R906",null,null,164.4,4222766,"D472685"]
["Kovový zásuvný prvek D, 500mm, hedvábně bílý","Z37A467D","SEIW",null,null,164.4,7984939,"D472687"]
["Kovový zásuvný prvek D, 500mm, černý Terra","Z37A467D","TERS","!",null,164.4,5581246,"D512406"]
["Kovový zásuvný prvek D, 550mm, šedý","Z37A517D","R906",null,null,177.6,4851238,"D493486"]
["Kovový zásuvný prvek D, 550mm, hedvábně bílý","Z37A517D","SEIW",null,null,177.6,9629759,"D493485"]
["Kovový zásuvný prvek D, 550mm, černý Terra","Z37A517D","TERS","!",null,177.6,4286938,"D548626"]
[]
[]
[]
["Kovový zásuvný prvek D, 650mm, šedý","Z37A617D","R906",null,null,204,7126828,"D493488"]
["Kovový zásuvný prvek D, 650mm, hedvábně bílý","Z37A617D","SEIW",null,null,204,7510918,"D493487"]
["Kovový zásuvný prvek D, 650mm, černý Terra","Z37A467D","TERS","!",null,204,1874439,"D512407"]
[]
["Kovový zásuvný prvek C, 450mm, šedý","Z37A417C","R906","!",null,143.80000000000001,8168478,"D493625"]
["Kovový zásuvný prvek C, 450mm, hedvábně bílý","Z37A417C","SEIW","!",null,143.80000000000001,6610192,"D493626"]
["Kovový zásuvný prvek C, 450mm, černý Terra","Z37A417C","TERS","!",null,143.80000000000001,1422256,"D634159"]
["Kovový zásuvný prvek C, 500mm, šedý","Z37A467C","R906",null,null,149.5,2406463,"D493627"]
["Kovový zásuvný prvek C, 500mm, hedvábně bílý","Z37A467C","SEIW",null,null,149.5,1548847,"D493629"]
["Kovový zásuvný prvek C, 500mm, černý Terra","Z37A467C","TERS","!",null,149.5,7982816,"D512405"]
["Kovový zásuvný prvek C, 550mm, šedý","Z37A517C","R906","!",null,160.4,5511982,"D493637"]
["Kovový zásuvný prvek C, 550mm, hedvábně bílý","Z37A517C","SEIW","!",null,160.4,9103982,"D493639"]
["Kovový zásuvný prvek C, 550mm, černý Terra","Z37A517C","TERS","!",null,160.4,1845403,"D634160"]
[]
[]
[]
["Kovový zásuvný prvek C, 650mm, šedý","Z37A617C","R906","!",null,182.4,4040898,"D493641"]
["Kovový zásuvný prvek C, 650mm, hedvábně bílý","Z37A617C","SEIW","!",null,182.4,9177129,"D493642"]
["Kovový zásuvný prvek C, 650mm, černý Terra","Z37A617C","TERS","!",null,182.4,4973064,"D634161"]
[]
["Sada držáků zásuvného prvku C, bílošedá","Z36C0080","WGR",null,null,60.1,7602540,"D503909"]
["Sada držáků zásuvného prvku C, hedvábně bílá","Z36C0080","SEIW",null,null,60.1,1725109,"D512159"]
["Sada držáků zásuvného prvku C, černá","Z36C0080","S ","!",null,60.1,6806959,"D512408"]
["Sada držáků zásuvného prvku C, prachově šedá","Z36C0080","R737","!",null,null,4419894,"na dotaz"]
["Sada držáků zásuvného prvku D, bílošedá","Z36D0080","WGR",null,null,63.3,1004836,"D460308"]
["Sada držáků zásuvného prvku D, hedvábně bílá","Z36D0080","SEIW",null,null,63.3,1110359,"D460309"]
["Sada držáků zásuvného prvku D, černá","Z36D0080","S ","!",null,63.3,4178837,"D512409"]
["Sada držáků zásuvného prvku D, prachově šedá","Z36D0080","R737","!",null,null,4312103,"na dotaz"]
[]
["   SPACE CORNER"]
["Sada kování SPACE CORNER, M, šedá","ZSF.340E.M1","ST/6",null,null,300.2,8761550,"D412703"]
["Sada kování SPACE CORNER, M, hedvábně bílá","ZSF.340E.M1","SEIW",null,null,306.39999999999998,8761552,"D686940"]
["Sada kování SPACE CORNER, M, černá Terra","ZSF.340E.M1","STTS","!",null,null,8761554,"na dotaz"]
["Sada kování SPACE CORNER, M, nikl","ZSF.340E.M1","ST/NI","!",null,null,8761553,"na dotaz"]
["Sada kování SPACE CORNER, D, šedá","ZSF.345E.D1","ST/6",null,null,408.1,9149630,"D551989"]
["Sada kování SPACE CORNER, D, hedvábně bílá","ZSF.345E.D1","SEIW",null,null,414.3,9149632,"D686947"]
["Sada kování SPACE CORNER, D, černá Terra","ZSF.345E.D1","STTS","!",null,null,9149634,"D412445"]
["Sada kování SPACE CORNER, D, nikl","ZSF.345E.D1","ST/NI","!",null,null,9149633,"na dotaz"]
[]
["Sada kování SYNCROMOTION, M, šedá","Z33M00E0A6","R737",null,null,1051.7,7144460,"D100229"]
["Sada kování SYNCROMOTION, M, hedvábně bílá","Z33M00E0A6 ","SEIW",null,null,1063.5999999999999,7144462,"D289799"]
[]
["Sada kování SYNCROMOTION, D, šedá","Z33D00E0A6","R737",null,null,1414.4,7144380,"D100236"]
["Sada kování SYNCROMOTION, D, hedvábně bílá","Z33D00E0A6","SEIW",null,null,1432.9,7144382,"D460298"]
[]
["Držáky zadní stěny M SPACE-CORNER, šedé","Z30M000S.45","R906",null,null,69.5,8373549,"D287140"]
["Držáky zadní stěny M SPACE-CORNER, hedv.bílé","Z30M000S.45","SEIW",null,null,69.5,3899999,"D289789"]
["Držáky zadní stěny M SPACE-CORNER, černé Terra","Z30M000S.45","TERS","!",null,69.5,4478258,"D289790"]
["Držáky zadní stěny M SPACE-CORNER, nikl","Z30M000S.45","NI","!",null,89.8,8495458,"D100237"]
["Držáky zadní stěny D SPACE-CORNER, šedé","Z30D000SL45","R906",null,null,112.1,4597273,"D287138"]
["Držáky zadní stěny D SPACE-CORNER, hedv.bílé","Z30D000SL45","SEIW",null,null,112.1,9535289,"D289785"]
["Držáky zadní stěny D SPACE-CORNER, černé Terra","Z30D000SL45","TERS","!",null,112.1,4069104,"D289786"]
["Držáky zadní stěny D SPACE-CORNER, nikl","Z30D000SL45","NI","!",null,167.7,4784474,"D100238"]
[]
["   Dřezový výsuv, odpadky"]
["Bočnice dřezové, 500 mm, šedé","378M5004SG","WA/G",null,null,509.4,8734707,"D356964"]
["Bočnice dřezové, 500 mm, hedvábně bílé","378M5004SG","SW/G",null,null,509.4,8801547,"D460268"]
["Bočnice dřezové, 500 mm, černé Terra","378M5004SG","TS/G",null,null,null,8764468,"D460269"]
["Bočnice dřezové, 500 mm, nerez (Inox)","378M5004IG","INGL","!",null,null,9746396,"na dotaz"]
[]
[]
["Adaptér příčky dřezového výsuvu","Z30N0002.6Z","R737",null,null,54,6689160,"D055342"]
[]
["Sada pro zavěšené odp. koše LW 410-414mm, šedá","Z30M383S0W","WAWG",null,null,null,3915505,"na dotaz"]
["Sada pro zavěšené odp. koše LW 416-420mm, šedá","Z30M389S0W","WAWG",null,null,null,1842529,"na dotaz"]
["Sada pro zavěšené odp. koše LW 460-464mm, šedá","Z30M433S0W","WAWG",null,null,null,7695504,"na dotaz"]
["Sada pro zavěšené odp. koše LW 466-470mm, šedá","Z30M439S0W","WAWG",null,null,null,7519915,"na dotaz"]
["Sada pro zavěšené odp. koše LW 510-514mm, šedá","Z30M483S0W","WAWG",null,null,null,7830104,"na dotaz"]
["Sada pro zavěšené odp. koše LW 516-520mm, šedá","Z30M489S0W","WAWG",null,null,null,4059564,"na dotaz"]
["Sada pro zavěšené odp. koše LW 560-564mm, šedá","Z30M533S0W","WAWG",null,null,null,6278623,"na dotaz"]
["Sada pro zavěšené odp. koše LW 566-570mm, šedá","Z30M539S0W","WAWG",null,null,null,7042924,"na dotaz"]
["Sada pro zavěšené odp. koše LW 760-764mm, šedá","Z30M733S0W","WAWG",null,null,null,9286690,"na dotaz"]
["Sada pro zavěšené odp. koše LW 860-864mm, šedá","Z30M833S0W","WAWG",null,null,null,8132340,"na dotaz"]
["Sada pro zavěšené odp. koše LW 866-870mm, šedá","Z30M839S0W","WAWG",null,null,null,1518239,"na dotaz"]
[]
[]
["   ORGA-LINE sady misek"]
["Sada BI1, 450 mm","ZSI.450BI1N","IG/G",null,null,709.4,6700230,"D369786"]
["Sada BI1, 500 mm","ZSI.500BI1N","IG/G",null,null,862.8,6700070,"D179221"]
["Sada BI1, 550 mm","ZSI.550BI1N","IG/G",null,null,1035.8,6698800,"D658391"]
["Sada BI1, 600 mm","ZSI.600BI1N","IG/G",null,null,null,6699100,"na dotaz"]
["Sada BI1, 650 mm","ZSI.650BI1N","IG/G",null,null,null,6698230,"na dotaz"]
["Sada BI2, 450 mm","ZSI.450BI2N","IG/G",null,null,927.7,6699800,"D385670"]
["Sada BI2, 500 mm","ZSI.500BI2N","IG/G",null,null,1095.4000000000001,6698580,"D647139"]
["Sada BI2, 550 mm","ZSI.550BI2N","IG/G",null,null,null,6698400,"na dotaz"]
["Sada BI2, 600 mm","ZSI.600BI2N","IG/G",null,null,null,6699550,"na dotaz"]
["Sada BI2, 650 mm","ZSI.650BI2N","IG/G",null,null,null,6699470,"na dotaz"]
["Sada BI3, 450 mm","ZSI.450BI3N","IG/G",null,null,1099.2,6908650,"D369789"]
["Sada BI3, 500 mm","ZSI.500BI3","IG/G",null,null,1357.8,3695280,"D123502"]
["Sada BI3, 550 mm","ZSI.550BI3","IG/G",null,null,1542.1,3695360,"D408278"]
["Sada BI3, 600 mm","ZSI.600BI3","IG/G",null,null,1820.6,3700600,"D671806"]
["Sada BI3, 650 mm","ZSI.650BI3","IG/G",null,null,2011.5,3695500,"D515262"]
["Sada pro SPACE CORNER, NL 600mm","ZSI.450BI3E","IG/G","!",null,null,6700660,"na dotaz"]
["Sada pro SPACE CORNER, NL 650mm","ZSI.500BI3E","IG/G",null,null,1461.5,6700740,"D368247"]
["Sada pro korpus KB 600mm, NL 450mm","ZSI.60VEI4","IG/G",null,null,1861.1,6742800,"D422878"]
["Sada pro korpus KB 600mm, NL 500mm","ZSI.60VEI6","IG/G",null,null,2273.1,6715400,"D210095"]
["Sada pro korpus KB 600mm, NL 550mm","ZSI.60VEI7","IG/G",null,null,2630.5,6746140,"D279776"]
["Sada pro korpus KB 900mm, NL 450mm","ZSI.90VEI4","IG/G",null,null,2558.9,6745760,"D300773"]
["Sada pro korpus KB 900mm, NL 500mm","ZSI.90VEI6","IG/G",null,null,3104.2,6720400,"D113801"]
["Sada pro korpus KB 900mm, NL 550mm","ZSI.90VEI7","IG/G",null,null,null,6745170,"na dotaz"]
["Sada pro korpus KB 1200mm, NL 450mm","ZSI.12VEI4","IG/G",null,null,null,6746200,"na dotaz"]
["Sada pro korpus KB 1200mm, NL 500mm","ZSI.12VEI6","IG/G",null,null,3812.2,6715770,"D360896"]
["Sada pro korpus KB 1200mm, NL 550mm","ZSI.12VEI7","IG/G",null,null,null,6742660,"na dotaz"]
[]
["   ORGA-LINE sady rozdělovníků"]
["Sada FI1, 450mm","ZSI.450FI1","IG/G",null,null,null,3696900,"na dotaz"]
["Sada FI1, 500mm","ZSI.500FI1","IG/G",null,null,671.4,3866780,"D650049"]
["Sada FI1, 550mm","ZSI.550FI1","IG/G",null,null,null,3697200,"na dotaz"]
["Sada FI1, 600mm","ZSI.600FI1","IG/G",null,null,null,3867300,"na dotaz"]
["Sada FI1, 650mm","ZSI.650FI1","IG/G",null,null,null,3867080,"na dotaz"]
["Sada FI2, 450mm","ZSI.450FI2N","IG/G",null,null,641.79999999999995,6702360,"D421696"]
["Sada FI2, 500mm","ZSI.500FI2N","IG/G",null,null,697.7,6702440,"D190862"]
["Sada FI2, 550mm","ZSI.550FI2N","IG/G",null,null,null,6702280,"na dotaz"]
["Sada FI2, 600mm","ZSI.600FI2N","IG/G",null,null,1174.7,6701470,"D634098"]
["Sada FI2, 650mm","ZSI.650FI2N","IG/G",null,null,1222.9000000000001,6702100,"D515265"]
["Sada FI3, 450mm","ZSI.450FI3","IG/G",null,null,935.1,3696680,"D376004"]
["Sada FI3, 500mm","ZSI.500FI3","IG/G",null,null,1019.1,3866940,"D123503"]
["Sada FI3, 550mm","ZSI.550FI3","IG/G",null,null,1281.7,3696840,"D408279"]
["Sada FI3, 600mm","ZSI.600FI3","IG/G",null,null,1626.1,3700890,"D634099"]
["Sada FI3, 650mm","ZSI.650FI3","IG/G",null,null,1888.7,3867240,"D515266"]
["Sada pro korpus KB 600mm, NL 450mm","ZSI.60VUI4","IG/G",null,null,1813.7,6748430,"D500177"]
["Sada pro korpus KB 600mm, NL 500mm","ZSI.60VUI6","IG/G",null,null,2148.6,6747970,"D194784"]
["Sada pro korpus KB 600mm, NL 550mm","ZSI.60VUI7","IG/G",null,null,null,6747890,"na dotaz"]
["Sada pro korpus KB 900mm, NL 450 mm","ZSI.90VUI4","IG/G",null,null,2558.9,6745760,"D300773"]
["Sada pro korpus KB 900mm, NL 500 mm","ZSI.90VUI6","IG/G",null,null,2894,6751060,"D315682"]
["Sada pro korpus KB 900mm, NL 550 mm","ZSI.90VUI7","IG/G",null,null,null,6745170,"na dotaz"]
["Sada pro korpus KB 1200mm, NL 450mm","ZSI.12VUI4","IG/G",null,null,null,6750170,"na dotaz"]
["Sada pro korpus KB 1200mm, NL 500mm","ZSI.12VUI6","IG/G",null,null,3193.3,6749830,"D220807"]
["Sada pro korpus KB 1200mm, NL 550mm","ZSI.12VUI7","IG/G",null,null,null,6750900,"na dotaz"]
[]
["   ORGA-LINE sady Kombi"]
["Sada KI2, 450mm","ZSI.450KI2N","IG/G",null,null,1039.5999999999999,6698150,"D571634"]
["Sada KI2, 500mm","ZSI.500KI2N","IG/G",null,null,1221,6700580,"D187456"]
["Sada KI2, 550mm","ZSI.550KI2N","IG/G",null,null,null,6700150,"na dotaz"]
["Sada KI2, 600mm","ZSI.600KI2N","IG/G",null,null,null,6699390,"na dotaz"]
["Sada KI2, 650mm","ZSI.650KI2N","IG/G",null,null,null,6701100,"na dotaz"]
["Sada KI3, 450mm","ZSI.450KI3N","IG/G",null,null,1065.9000000000001,6700800,"D543207"]
["Sada KI3, 500mm","ZSI.500KI3N","IG/G",null,null,1247.4000000000001,6701390,"D471253"]
["Sada KI3, 550mm","ZSI.550KI3N","IG/G",null,null,1507.9,6701980,"D408280"]
["Sada KI3, 600mm","ZSI.600KI3N","IG/G",null,null,null,6701800,"na dotaz"]
["Sada KI3, 650mm","ZSI.650KI3N","IG/G",null,null,null,6702790,"na dotaz"]
["Sada KI4, 450mm","ZSI.450KI4N","IG/G",null,null,1451.7,6701630,"D391337"]
["Sada KI4, 500mm","ZSI.500KI4","IG/G",null,null,1738.3,3777170,"D277937"]
["Sada KI4, 550mm","ZSI.550KI4","IG/G",null,null,2010.2,3777680,"D408281"]
["Sada KI4, 600mm","ZSI.600KI4","IG/G",null,null,null,3890730,"na dotaz"]
["Sada KI4, 650mm","ZSI.650KI4","IG/G",null,null,null,3865890,"na dotaz"]
["Sada MI3, 450mm","ZSI.450MI2","IG/G",null,null,null,3776500,"na dotaz"]
["Sada MI3, 500mm","ZSI.500MI3","IG/G",null,null,1867.6,3777090,"D113798"]
["Sada MI3, 550mm","ZSI.550MI3","IG/G",null,null,2215.6,3777500,"D408283"]
["Sada MI3, 600mm","ZSI.600MI3","IG/G",null,null,2568.9,3890650,"D628507"]
["Sada MI3, 650mm","ZSI.650MI3","IG/G",null,null,null,3865600,"na dotaz"]
[]
["   ORGA-LINE doplňky"]
["Miska 88x88mm","ZSI.010SI","IG/G",null,null,93.3,5726900,"D384520"]
["Miska 88x176mm","ZSI.020SI","IG/G",null,null,113.4,5728380,"D136150"]
["Miska 88x264mm","ZSI.030SI","IG/G",null,null,129.4,5729510,"D136151"]
["Miska 88x352mm","ZSI.040SI","IG/G",null,null,210.1,5729780,"D383080"]
["Příčný dělící prvek 88mm","ZSI.010Q","R737",null,null,32.700000000000003,6070030,"D364536"]
["Příčný dělící prvek 176mm","ZSI.020Q","R737",null,null,49.1,6070200,"D364537"]
[]
[]
["   ORGA-LINE příčné dělení"]
["Příčka ke zkrácení, KB 300mm, šedá","Z40L177A","R906",null,null,147.4,8860753,"D472707"]
["Příčka ke zkrácení, KB 300mm, hedvábně bílá","Z40L177A","SEIW",null,null,147.4,5175821,"D472708"]
["Příčka ke zkrácení, KB 300mm, černá Terra","Z40L177A","TERS",null,null,147.4,7446870,"D512412"]
["Příčka ke zkrácení, KB 300mm, niklovaná matná","Z40L177A","NI-M",null,null,null,1075138,"na dotaz"]
["Příčka ke zkrácení, KB 600mm, šedá","Z40L477A","R906",null,null,185.7,1652924,"D472710"]
["Příčka ke zkrácení, KB 600mm, hedvábně bílá","Z40L477A","SEIW",null,null,185.7,1722284,"D472711"]
["Příčka ke zkrácení, KB 600mm, černá Terra","Z40L477A","TERS",null,null,185.7,4099350,"D512413"]
["Příčka ke zkrácení, KB 600mm, niklovaná matná","Z40L477A","NI-M",null,null,null,6644388,"na dotaz"]
["Příčka ke zkrácení, KB 900mm, šedá","Z40L777A","R906",null,null,272.7,8237194,"D472713"]
["Příčka ke zkrácení, KB 900mm, hedvábně bílá","Z40L777A","SEIW",null,null,272.7,4052763,"D472712"]
["Příčka ke zkrácení, KB 900mm, černá Terra","Z40L777A","TERS",null,null,272.7,7400313,"D512414"]
["Příčka ke zkrácení, KB 900mm, niklovaná matná","Z40L777A","NI-M",null,null,null,6109145,"na dotaz"]
["Příčka ke zkrácení, KB 1200mm, šedá","Z40L1077A","R906",null,null,426.5,8113610,"D472716"]
["Příčka ke zkrácení, KB 1200mm, hedvábně bílá","Z40L1077A","SEIW",null,null,426.5,8113612,"D472714"]
["Příčka ke zkrácení, KB 1200mm, černá Terra","Z40L1077A","TERS",null,null,451,8113614,"D289819"]
["Příčka ke zkrácení, KB 1200mm, niklovaná matná","Z40L1077A","NI-M",null,null,null,8405350,"na dotaz"]
[]
["Koncovka pro příčku, pro reling, D, bílošedá","Z40D0002Z","WGR",null,null,47.1,5716290,"D472691"]
["Koncovka pro příčku, pro reling, D, hedvábně bílá","Z40D0002Z","SEIW",null,null,47.1,5738648,"D472689"]
["Koncovka pro příčku, pro reling, D, černá","Z40D0002Z","S ","!",null,47.1,3961716,"D512415"]
["Koncovka pro příčku, pro reling, D, prachově šedá","Z40D0002Z","R737","!",null,null,4919907,"na dotaz"]
["Koncovka pro příčku, pro reling, C, bílošedá","Z40C0002Z","WGR",null,null,43.5,1332165,"D512416"]
["Koncovka pro příčku, pro reling, C, hedvábně bílá","Z40C0002Z","SEIW",null,null,43.5,5081757,"D512417"]
["Koncovka pro příčku, pro reling, C, černá","Z40C0002Z","S ","!",null,43.5,4753918,"D512418"]
["Koncovka pro příčku, pro reling, C, prachově šedá","Z40C0002Z","R737","!",null,null,4109517,"na dotaz"]
["Koncovka pro příčku, pro mezistěnu, bílošedá","Z40L0002","WGR",null,null,47.1,8113856,"D512419"]
["Koncovka pro příčku, pro mezistěnu, hedvábně bílá","Z40L0002","SEIW",null,null,47.1,8113852,"D289817"]
["Koncovka pro příčku, pro mezistěnu, černá","Z40L0002","S ",null,null,47.1,8113854,"D289816"]
["Koncovka pro příčku, pro mezistěnu, prachově šedá","Z40L0002","R737","!",null,47.1,8113850,"D460312"]
[]
["Podélné dělení, šedé","Z43L100S","R906",null,null,87.5,7952586,"D460314"]
["Podélné dělení, hedvábně bílé","Z43L100S","SEIW",null,null,87.5,7952582,"D289820"]
["Podélné dělení, černé Terra","Z43L100S","TERS",null,null,87.5,7952584,"D289821"]
["Podélné dělení, niklované matné","Z43L100S","NI-M",null,null,170.1,5902025,"D460313"]
[]
["Příčný reling ke zkrácení, šedý","ZRG.1104Q","R906",null,null,119.3,9752780,"D460288"]
["Příčný reling ke zkrácení, hedvábně bílý","ZRG.1104Q","SEIW",null,null,121.1,9752782,"D460289"]
["Příčný reling ke zkrácení, černý Terra","ZRG.1104Q","TERS","!",null,121.1,9752784,"D512420"]
["Příčný reling ke zkrácení, niklovaný matný","ZRG.1104Q","NI-M","!",null,null,3013881,"na dotaz"]
[]
["Koncovka pro příčný reling, bílošedá","ZRU.01E0","WGR",null,null,37.700000000000003,6586948,"D494068"]
["Koncovka pro příčný reling, hedvábně bílá","ZRU.01E0","SEIW",null,null,37.700000000000003,6960088,"D494063"]
["Koncovka pro příčný reling, černá","ZRU.01E0","S ","!",null,37.700000000000003,1344661,"D512421"]
["Koncovka pro příčný reling, prachově šedá","ZRU.01E0","R737","!",null,null,5065069,"na dotaz"]
[]
["Podélné dělení pro reling, bílošedé","ZRU.11F0","WGR",null,null,21.5,9410686,"D460292"]
["Podélné dělení pro reling, hedvábně bílé","ZRU.11F0","SEIW",null,null,21.5,9410682,"D460293"]
["Podélné dělení pro reling, černé","ZRU.11F0","S ","!",null,21.5,9410684,"D512422"]
["Podélné dělení pro reling, prachově šedé","ZRU.11F0","R737","!",null,null,9410680,"na dotaz"]
[]
[]
["   ORGA-LINE mezistěny"]
["Mezistěna, 450mm, šedá","Z46L420S   ","R906","!",null,null,8675730,"na dotaz"]
["Mezistěna, 450mm, hedvábně bílá","Z46L420S  ","SEIW","!",null,null,7934520,"na dotaz"]
["Mezistěna, 450mm, černá Terra","Z46L420S  ","TERS","!",null,null,7934524,"na dotaz"]
["Mezistěna, 450mm, nerez (Inox)","Z46L420I","INGL","!",null,null,8438430,"na dotaz"]
["Mezistěna, 500mm, šedá","Z46L470S   ","R906",null,null,730.3,8679310,"D460315"]
["Mezistěna, 500mm, hedvábně bílá","Z46L470S  ","SEIW",null,null,732.3,7934760,"D289822"]
["Mezistěna, 500mm, černá Terra","Z46L470S  ","TERS",null,null,732.3,7934764,"D289823"]
["Mezistěna, 500mm, nerez (Inox)","Z46L470I","INGL","!",null,1628.3,8030380,"D462585"]
["Mezistěna, 550mm, šedá","Z46L520S   ","R906","!",null,770,9149940,"D543198"]
["Mezistěna, 550mm, hedvábně bílá","Z46L520S  ","SEIW","!",null,770,7934830,"D633768"]
["Mezistěna, 550mm, černá Terra","Z46L520S  ","TERS","!",null,null,7934834,"na dotaz"]
["Mezistěna, 550mm, nerez (Inox)","Z46L520I  ","INGL","!",null,null,8561640,"na dotaz"]
["Mezistěna, 600mm, šedá","Z46L570S   ","R906","!",null,null,8832690,"na dotaz"]
["Mezistěna, 600mm, hedvábně bílá","Z46L570S  ","SEIW","!",null,null,7934900,"na dotaz"]
["Mezistěna, 600mm, černá Terra","Z46L570S  ","TERS","!",null,null,7934904,"na dotaz"]
["Mezistěna, 600mm, nerez (Inox)","Z46L570I","INGL","!",null,null,8504830,"na dotaz"]
["Mezistěna, 650mm, šedá","Z46L620S   ","R906","!",null,null,8675800,"na dotaz"]
["Mezistěna, 650mm, hedvábně bílá","Z46L620S  ","SEIW","!",null,null,7935060,"na dotaz"]
["Mezistěna, 650mm, černá Terra","Z46L620S  ","TERS","!",null,null,7935064,"na dotaz"]
["Mezistěna, 650mm, nerez (Inox)","Z46L620I","INGL","!",null,null,8030450,"na dotaz"]
[]
["   ORGA-LINE vana na lahve"]
["Vana na láhve, 500mm","Z48.30B0I6","IG/G",null,null,1084.9000000000001,4050440,"D460316"]
[]
[]
["   ORGA-LINE pomůcky do kuchyně"]
["Držák talířů","ZC7T0350","OG-M",null,null,980.5,1366848,"D543781"]
["Držák nožů","ZSZ.02M0","IG/G",null,null,590.5,6484600,"D201441"]
["Stojánek na kořenky, KB 300mm","ZFZ.30G0I","INGL",null,null,509.2,3852306,"D395569"]
["Stojánek na kořenky, KB 400mm","ZFZ.40G0I","INGL",null,null,null,3189131,"na dotaz"]
["Stojánek na kořenky, KB 450mm","ZFZ.45G0I","INGL",null,null,null,6278581,"na dotaz"]
["Držák s řezákem na potravinové folie","ZSZ.01F0","STW/G",null,null,954.3,9068380,"D347226"]
["Držák s řezákem na alufolie","ZSZ.02F0","ST/O",null,null,894.7,9068450,"D347227"]
["Sada pomůcek do kuchyně","ZOU.30U1I",null,null,null,5829,9411980,"D348281"]
[]
[]
[]
[]
[]
[]
[]
[]
[]
[]
[]
[]
[]
[]
[]
[]
[]
["   SERVO-DRIVE"]
["Distanční doraz Blum, 5mm","993.0530","R737",null,null,17.600000000000001,7834990,"D298325"]
["Distanční doraz Blum, 8mm","993.0830.01","R737",null,null,15.8,7402930,"D198622"]
["Pohonná servo jednotka","Z10A3000.03","R737",null,null,1711.8,6970029,"D198620"]
["Držák nosníku, vlys naležato","Z10D01E0.01","R737",null,null,83.9,3061821,"D283286"]
["Držák nosníku, vlys nastojato","Z10D01EA.01","R737",null,null,104.7,9879558,"D301067"]
["Držák servo jednotky jednoduchý","Z10D0311","R737",null,null,171.2,4805174,"D473563"]
["Držák servo jednotky zdvojený","Z10D7201.01","R737",null,null,341.4,1640683,"D311905"]
["Držák servo jednotky horní","Z10D6252","R737",null,null,481.6,8010962,"D298329"]
["Držák kabelu s Klebesockel","Z10K0009","NA",null,null,19.3,7283231,"D198614"]
["Synchronizační kabel 8cm","Z10K008S ","W",null,null,107.4,7288466,"D683433"]
["Synchronizační kabel 50cm","Z10K050S","W",null,null,149.1,8013626,"D377668"]
["Synchronizační kabel 120cm","Z10K120S","W",null,null,230.8,7288546,"D645288"]
["Synchronizační kabel 160cm","Z10K160S","W",null,null,260.7,7361306,"D683434"]
["Elektrokabel, délka 8m + 5 krytek","Z10K800AE","S",null,null,669,7550294,"D198611"]
["Napájecí kabel se zástrčkou, 2m","Z10M200E ","S",null,null,162.19999999999999,7205784,"D198599"]
["Napájecí zdroj 24 W","Z10NE020E","S",null,null,2469.3000000000002,6960549,"D198597"]
["Držák napájecího zdroje - montáž do dna","Z10NG000","R737",null,null,167,7282180,"D301068"]
["Držák napájecího zdroje - montáž na stěnu","Z10NG120","WGR",null,null,90.1,9327076,"D198600"]
["Propojovací svorka s hroty + krytka","Z10V100E.01","S",null,null,159.30000000000001,8820285,"D198616"]
["Nosník, 650mm, s předmont. kabelem ","Z10T650AA ","Alu",null,null,874.4,null,"D301065"]
["Nosník, 670mm, s předmont. kabelem ","Z10T670AA ","Alu",null,null,874.4,7716441,"D484113"]
["Nosník, 700mm, s předmont. kabelem ","Z10T700AA","Alu",null,null,916.2,null,"D559513"]
["Nosník, 750mm, s předmont. kabelem ","Z10T750AA ","Alu",null,null,957.9,7466401,"D199113"]
["Nosník, 800mm, s předmont. kabelem ","Z10T800AA  ","Alu",null,null,1011.6,null,"D393400"]
["Nosník 1170mm, bez kabelu","Z10T1170A","Alu",null,null,1020,7287731,"D393811"]
["Mechanizmus vyhazovače ","Z10A3H00","R737",null,null,71.599999999999994,7472980,"D683431"]
["Horizontální nosník","Z10T1143B","Alu",null,null,421.7,7922191,"D683438"]
["Adaptér + držák horizont. nosníku","Z10D5210","R737",null,null,132.4,7867370,"D515897"]
["COMBOX","Z10ZC00A","S",null,null,2973.6,5202593,"D572693"]
["SD uno - sada pro výsuv na odpad","Z10NA20EE01","R737",null,null,3366.6,9820785,"D366440"]
["SD uno - pro zavěšené odpad.koše, KB 600mm","Z10T543WEE","R737",null,null,4312.8999999999996,7190296,"D683439"]
["SERVO-DRIVE flex - jednotka (sada)","Z10C500A","R736",null,null,4441.6000000000004,4784397,"D553923"]
["SERVO-DRIVE flex - bezdrátový přijímač","Z10C5007","R736",null,null,1740.6,1120793,"D553925"]
["Spínač SERVO-DRIVE, světle šedý","21P5020","HGR",null,null,745.6,8978398,"D515741"]
["Spínač SERVO-DRIVE, hedvábně bílý","21P5020","SW",null,null,775.4,8978392,"D553924"]
[]
[]
[]
[]
["   Ostatní"]
["Stabilizace čel","Z96.10E1","R737",null,null,29.8,6448980,"D055344"]
["Tlumící čočka k zavrtání","993.706","R906",null,null,3.8,3283090,"D055346"]
["Boční stabilizace, 450 mm","ZST.450BA","R737","!",null,561.5,4320500,"D635268"]
["Boční stabilizace, 500 mm","ZST.500BA","R737",null,null,350,8929020,"D512423"]
["Boční stabilizace, 550 mm","ZST.550BA","R737","!",null,1070.0999999999999,8929190,"D625562"]
["Boční stabilizace, 600 mm","ZST.600BA","R737","!",null,1074.7,8929260,"D625564"]
["Boční stabilizace, 650 mm","ZST.650BA","R737","!",null,null,8929330,"na dotaz"]
[]
[]
[]
[]
[]
[]
[]
[]
[]
[]
[]
[]
[]
["   Závěsy"]
["CLIP top 155° s nulovým přesahem","71T7500N","NI",null,null,112.5,9064013,"D290105"]
["CLIP top 155° s nulovým přesahem, EXPANDO","71T753EN","NI",null,null,112.7,9064323,"D512424"]
["CLIP top 155° s nulovým přesahem, bez pružiny","70T7500NTL","NI",null,null,112.5,9141613,"D376602"]
["CLIP top 125° s nulovým přesahem","71T7500D","NI",null,null,153.1,8298184,"D532775"]
[]
["Podložka CLIP na vruty","173L6100","NI",null,null,5.0999999999999996,1925383,"D014425"]
["Podložka CLIP EXPANDO","174E6100.01","NI",null,null,8.1,1863003,"D014458"]
["Podložka CLIP s excentrem","173H7100","NI",null,null,13.6,2364043,"D014460"]
["Podložka CLIP s excentrem, EXPANDO","174H7100E","NI",null,null,15.1,2364983,"D187455"]
["Podložka CLIP top přímá","175H5400","NI",null,null,18,8002803,"D198495"]
["Podložka CLIP top přímá, EXPANDO","177H5400E","NI",null,null,20.7,8003033,"D354102"]
["Podložka CLIP top přímá","175H3100","NI",null,null,12.9,1037431,"D495655"]
["Podložka CLIP top přímá, EXPANDO","177H3100E","NI",null,null,13.3,3120329,"D496524"]
["BLUMOTION pro nasazení na závěs 155° a 125°","973A7000","NI",null,null,41,8975943,"D290109"]
["BLUMOTION v křížovém adaptéru","971A0500","NI",null,null,70,6823663,"D288441"]
["TIP-ON, prodloužená délka, šedý","956A1004","PG",null,null,114.3,6484096,"D540048"]
["TIP-ON, prodloužená délka, hedv.bílý","956A1004","SW",null,null,114.3,6856758,"D540047"]
["TIP-ON, prodloužená délka, Terra černý","956A1004","TS",null,null,114.3,2019241,"D540049"]
["TIP-ON přímý adaptér, prodl.délka, šedý","956A1201","PG",null,null,22.5,8849808,"D540051"]
["TIP-ON přímý adaptér, prodl.délka, hedv. bílý","956A1201","SW",null,null,22.5,4619688,"D540050"]
["TIP-ON přímý adaptér, prodl.délka, Terra černý","956A1201","TS",null,null,22.5,5730134,"D540052"]
["TIP-ON přímý adaptér, prodl.délka, poniklovaný","956A1201","NI-L",null,null,null,7249097,"na dotaz"]
["TIP-ON křížový adaptér, šedý","956A1501","PG",null,null,16.7,2583646,"D542404"]
[]
[{"$f":"List!$B$221","v":"Zde můžete vložit vlastní položky (následujících 10 řádků, zobrazí se v objednávce)"}]